{"text_format":"3","workbook":"xlsx","n_sheets":14,"sheets":["Main Page","Retired Tools","Calipers","Micrometer","Drop Indicators","Bore Gauges","Chamfer Gauges","Surface Gauge","Tourque Wrenches","Custom Gauges","Refractometer","Template","Lists","Roster (1-5-2021)"],"not_rendered":{"charts":1,"images":1,"macros":1,"pivot_tables":1},"read":"whole","date_system":"1900"}

{"sheet":"Main Page","index":0,"n_rows":104,"n_cols":17,"rows_kept":104,"merged":[[0,11,1,11],[4,0,5,4],[4,7,5,14]]}
[{"$nulls":6},"Date",{"$f":"TODAY()","v":"2021-04-27"},{"$nulls":3},"Tab Key","Main Page","Tool Roster",null,null,"ASAP"]
[{"$nulls":6},"Time",{"$f":"NOW()","v":44313.375952546296},{"$nulls":4},"Source Sheets","Retired Tools",null,null,"CURRENT MONTH"]
[{"$nulls":16},"January"]
[{"$nulls":16},"February"]
["Tool Counts",{"$nulls":5},"Calibration Lists","Calibration Queue",{"$nulls":8},"March"]
[{"$nulls":16},"April"]
["Tool","Count","Lost","Lent","Need Calibration",null,"Column1","Gauge #","Tool Type","Lent To","Shift","Work Area","Brand","Disposition","Next Calibration",null,"May"]
[{"$f":"IF(Lists!G3=\"\",\"\",Lists!G3)","v":"Calipers"},{"$f":"IF(Table3[[#This Row],[Tool]]=\"\",\"\",203-7 -COUNTIF(INDIRECT(\"'\"&Table3[[#This Row],[Tool]]&\"'!\"&\"A8:A203\"),\"\"))","v":98},{"$f":"IF(Table3[[#This Row],[Tool]]=\"\",\"\",COUNTIF(INDIRECT(\"'\"&Table3[[#This Row],[Tool]]&\"'!\"&\"F8:F203\"),\"Lost\"))","v":0},{"$f":"IF(Table3[[#This Row],[Tool]]=\"\",\"\",COUNTIF(INDIRECT(\"'\"&Table3[[#This Row],[Tool]]&\"'!\"&\"O8:O203\"),\"1\"))","v":76},{"$f":"IF(Table3[[#This Row],[Tool]]=\"\",\"\",COUNTIF(INDIRECT(\"'\"&Table3[[#This Row],[Tool]]&\"'!\"&\"M8:M203\"),\"Calibrate\")+COUNTIF(INDIRECT(\"'\"&Table3[[#This Row],[Tool]]&\"'!\"&\"M8:M203\"),\"Find and Calibrate\"))","v":20},null,null,"QN01110273B","Calipers",{"$nulls":3},"NO BRAND SPECIFIED","Accounted For","NEVER CALIBRATED",null,"June"]
[{"$f":"IF(Lists!G4=\"\",\"\",Lists!G4)","v":"Micrometer"},{"$f":"IF(Table3[[#This Row],[Tool]]=\"\",\"\",203-7 -COUNTIF(INDIRECT(\"'\"&Table3[[#This Row],[Tool]]&\"'!\"&\"A8:A203\"),\"\"))","v":74},{"$f":"IF(Table3[[#This Row],[Tool]]=\"\",\"\",COUNTIF(INDIRECT(\"'\"&Table3[[#This Row],[Tool]]&\"'!\"&\"F8:F203\"),\"Lost\"))","v":0},{"$f":"IF(Table3[[#This Row],[Tool]]=\"\",\"\",COUNTIF(INDIRECT(\"'\"&Table3[[#This Row],[Tool]]&\"'!\"&\"O8:O203\"),\"1\"))","v":31},{"$f":"IF(Table3[[#This Row],[Tool]]=\"\",\"\",COUNTIF(INDIRECT(\"'\"&Table3[[#This Row],[Tool]]&\"'!\"&\"M8:M203\"),\"Calibrate\")+COUNTIF(INDIRECT(\"'\"&Table3[[#This Row],[Tool]]&\"'!\"&\"M8:M203\"),\"Find and Calibrate\"))","v":44},null,null,"QN01110330B","Calipers",{"$nulls":3},"NO BRAND SPECIFIED","Accounted For","NEVER CALIBRATED",null,"July"]
[{"$f":"IF(Lists!G5=\"\",\"\",Lists!G5)","v":"Drop Indicators"},{"$f":"IF(Table3[[#This Row],[Tool]]=\"\",\"\",203-7 -COUNTIF(INDIRECT(\"'\"&Table3[[#This Row],[Tool]]&\"'!\"&\"A8:A203\"),\"\"))","v":16},{"$f":"IF(Table3[[#This Row],[Tool]]=\"\",\"\",COUNTIF(INDIRECT(\"'\"&Table3[[#This Row],[Tool]]&\"'!\"&\"F8:F203\"),\"Lost\"))","v":0},{"$f":"IF(Table3[[#This Row],[Tool]]=\"\",\"\",COUNTIF(INDIRECT(\"'\"&Table3[[#This Row],[Tool]]&\"'!\"&\"O8:O203\"),\"1\"))","v":3},{"$f":"IF(Table3[[#This Row],[Tool]]=\"\",\"\",COUNTIF(INDIRECT(\"'\"&Table3[[#This Row],[Tool]]&\"'!\"&\"M8:M203\"),\"Calibrate\")+COUNTIF(INDIRECT(\"'\"&Table3[[#This Row],[Tool]]&\"'!\"&\"M8:M203\"),\"Find and Calibrate\"))","v":12},null,null,"QN01110185B","Calipers",{"$nulls":3},"NO BRAND SPECIFIED","Accounted For","NEVER CALIBRATED",null,"August"]
[{"$f":"IF(Lists!G6=\"\",\"\",Lists!G6)","v":"Bore Gauges"},{"$f":"IF(Table3[[#This Row],[Tool]]=\"\",\"\",203-7 -COUNTIF(INDIRECT(\"'\"&Table3[[#This Row],[Tool]]&\"'!\"&\"A8:A203\"),\"\"))","v":7},{"$f":"IF(Table3[[#This Row],[Tool]]=\"\",\"\",COUNTIF(INDIRECT(\"'\"&Table3[[#This Row],[Tool]]&\"'!\"&\"F8:F203\"),\"Lost\"))","v":0},{"$f":"IF(Table3[[#This Row],[Tool]]=\"\",\"\",COUNTIF(INDIRECT(\"'\"&Table3[[#This Row],[Tool]]&\"'!\"&\"O8:O203\"),\"1\"))","v":0},{"$f":"IF(Table3[[#This Row],[Tool]]=\"\",\"\",COUNTIF(INDIRECT(\"'\"&Table3[[#This Row],[Tool]]&\"'!\"&\"M8:M203\"),\"Calibrate\")+COUNTIF(INDIRECT(\"'\"&Table3[[#This Row],[Tool]]&\"'!\"&\"M8:M203\"),\"Find and Calibrate\"))","v":7},null,null,"QN01110116B","Calipers",{"$nulls":3},"NO BRAND SPECIFIED","Accounted For","NEVER CALIBRATED",null,"September"]
[{"$f":"IF(Lists!G7=\"\",\"\",Lists!G7)","v":"Chamfer Gauges"},{"$f":"IF(Table3[[#This Row],[Tool]]=\"\",\"\",203-7 -COUNTIF(INDIRECT(\"'\"&Table3[[#This Row],[Tool]]&\"'!\"&\"A8:A203\"),\"\"))","v":4},{"$f":"IF(Table3[[#This Row],[Tool]]=\"\",\"\",COUNTIF(INDIRECT(\"'\"&Table3[[#This Row],[Tool]]&\"'!\"&\"F8:F203\"),\"Lost\"))","v":0},{"$f":"IF(Table3[[#This Row],[Tool]]=\"\",\"\",COUNTIF(INDIRECT(\"'\"&Table3[[#This Row],[Tool]]&\"'!\"&\"O8:O203\"),\"1\"))","v":2},{"$f":"IF(Table3[[#This Row],[Tool]]=\"\",\"\",COUNTIF(INDIRECT(\"'\"&Table3[[#This Row],[Tool]]&\"'!\"&\"M8:M203\"),\"Calibrate\")+COUNTIF(INDIRECT(\"'\"&Table3[[#This Row],[Tool]]&\"'!\"&\"M8:M203\"),\"Find and Calibrate\"))","v":2},null,null,"QN01110306B","Calipers",{"$nulls":3},"NO BRAND SPECIFIED","Accounted For","NEVER CALIBRATED",null,"October"]
[{"$f":"IF(Lists!G8=\"\",\"\",Lists!G8)","v":"Surface Gauge"},{"$f":"IF(Table3[[#This Row],[Tool]]=\"\",\"\",203-7 -COUNTIF(INDIRECT(\"'\"&Table3[[#This Row],[Tool]]&\"'!\"&\"A8:A203\"),\"\"))","v":2},{"$f":"IF(Table3[[#This Row],[Tool]]=\"\",\"\",COUNTIF(INDIRECT(\"'\"&Table3[[#This Row],[Tool]]&\"'!\"&\"F8:F203\"),\"Lost\"))","v":0},{"$f":"IF(Table3[[#This Row],[Tool]]=\"\",\"\",COUNTIF(INDIRECT(\"'\"&Table3[[#This Row],[Tool]]&\"'!\"&\"O8:O203\"),\"1\"))","v":0},{"$f":"IF(Table3[[#This Row],[Tool]]=\"\",\"\",COUNTIF(INDIRECT(\"'\"&Table3[[#This Row],[Tool]]&\"'!\"&\"M8:M203\"),\"Calibrate\")+COUNTIF(INDIRECT(\"'\"&Table3[[#This Row],[Tool]]&\"'!\"&\"M8:M203\"),\"Find and Calibrate\"))","v":2},null,null,"QN01109963B","Calipers",{"$nulls":3},"NO BRAND SPECIFIED","Accounted For","NEVER CALIBRATED",null,"November"]
[{"$f":"IF(Lists!G9=\"\",\"\",Lists!G9)","v":"Tourque Wrenches"},{"$f":"IF(Table3[[#This Row],[Tool]]=\"\",\"\",203-7 -COUNTIF(INDIRECT(\"'\"&Table3[[#This Row],[Tool]]&\"'!\"&\"A8:A203\"),\"\"))","v":10},{"$f":"IF(Table3[[#This Row],[Tool]]=\"\",\"\",COUNTIF(INDIRECT(\"'\"&Table3[[#This Row],[Tool]]&\"'!\"&\"F8:F203\"),\"Lost\"))","v":0},{"$f":"IF(Table3[[#This Row],[Tool]]=\"\",\"\",COUNTIF(INDIRECT(\"'\"&Table3[[#This Row],[Tool]]&\"'!\"&\"O8:O203\"),\"1\"))","v":0},{"$f":"IF(Table3[[#This Row],[Tool]]=\"\",\"\",COUNTIF(INDIRECT(\"'\"&Table3[[#This Row],[Tool]]&\"'!\"&\"M8:M203\"),\"Calibrate\")+COUNTIF(INDIRECT(\"'\"&Table3[[#This Row],[Tool]]&\"'!\"&\"M8:M203\"),\"Find and Calibrate\"))","v":10},null,null,"QN01110153B","Calipers",{"$nulls":3},"NO BRAND SPECIFIED","Accounted For","NEVER CALIBRATED",null,"December"]
[{"$f":"IF(Lists!G10=\"\",\"\",Lists!G10)","v":"Custom Gauges"},{"$f":"IF(Table3[[#This Row],[Tool]]=\"\",\"\",203-7 -COUNTIF(INDIRECT(\"'\"&Table3[[#This Row],[Tool]]&\"'!\"&\"A8:A203\"),\"\"))","v":2},{"$f":"IF(Table3[[#This Row],[Tool]]=\"\",\"\",COUNTIF(INDIRECT(\"'\"&Table3[[#This Row],[Tool]]&\"'!\"&\"F8:F203\"),\"Lost\"))","v":0},{"$f":"IF(Table3[[#This Row],[Tool]]=\"\",\"\",COUNTIF(INDIRECT(\"'\"&Table3[[#This Row],[Tool]]&\"'!\"&\"O8:O203\"),\"1\"))","v":2},{"$f":"IF(Table3[[#This Row],[Tool]]=\"\",\"\",COUNTIF(INDIRECT(\"'\"&Table3[[#This Row],[Tool]]&\"'!\"&\"M8:M203\"),\"Calibrate\")+COUNTIF(INDIRECT(\"'\"&Table3[[#This Row],[Tool]]&\"'!\"&\"M8:M203\"),\"Find and Calibrate\"))","v":0},null,null,"QN200408317B","Calipers",{"$nulls":3},"NO BRAND SPECIFIED","Accounted For","NEVER CALIBRATED"]
[{"$f":"IF(Lists!G11=\"\",\"\",Lists!G11)","v":"Refractometer"},{"$f":"IF(Table3[[#This Row],[Tool]]=\"\",\"\",203-7 -COUNTIF(INDIRECT(\"'\"&Table3[[#This Row],[Tool]]&\"'!\"&\"A8:A203\"),\"\"))","v":0},{"$f":"IF(Table3[[#This Row],[Tool]]=\"\",\"\",COUNTIF(INDIRECT(\"'\"&Table3[[#This Row],[Tool]]&\"'!\"&\"F8:F203\"),\"Lost\"))","v":0},{"$f":"IF(Table3[[#This Row],[Tool]]=\"\",\"\",COUNTIF(INDIRECT(\"'\"&Table3[[#This Row],[Tool]]&\"'!\"&\"O8:O203\"),\"1\"))","v":0},{"$f":"IF(Table3[[#This Row],[Tool]]=\"\",\"\",COUNTIF(INDIRECT(\"'\"&Table3[[#This Row],[Tool]]&\"'!\"&\"M8:M203\"),\"Calibrate\")+COUNTIF(INDIRECT(\"'\"&Table3[[#This Row],[Tool]]&\"'!\"&\"M8:M203\"),\"Find and Calibrate\"))","v":0},null,null,"QN01110353B","Calipers",{"$nulls":3},"NO BRAND SPECIFIED","Accounted For","NEVER CALIBRATED"]
[{"$f":"IF(Lists!G12=\"\",\"\",Lists!G12)","v":""},{"$f":"IF(Table3[[#This Row],[Tool]]=\"\",\"\",203-7 -COUNTIF(INDIRECT(\"'\"&Table3[[#This Row],[Tool]]&\"'!\"&\"A8:A203\"),\"\"))","v":""},{"$f":"IF(Table3[[#This Row],[Tool]]=\"\",\"\",COUNTIF(INDIRECT(\"'\"&Table3[[#This Row],[Tool]]&\"'!\"&\"F8:F203\"),\"Lost\"))","v":""},{"$f":"IF(Table3[[#This Row],[Tool]]=\"\",\"\",COUNTIF(INDIRECT(\"'\"&Table3[[#This Row],[Tool]]&\"'!\"&\"O8:O203\"),\"1\"))","v":""},{"$f":"IF(Table3[[#This Row],[Tool]]=\"\",\"\",COUNTIF(INDIRECT(\"'\"&Table3[[#This Row],[Tool]]&\"'!\"&\"M8:M203\"),\"Calibrate\")+COUNTIF(INDIRECT(\"'\"&Table3[[#This Row],[Tool]]&\"'!\"&\"M8:M203\"),\"Find and Calibrate\"))","v":""},null,null,"QN01109960","Calipers",{"$nulls":3},"NO BRAND SPECIFIED","Accounted For","NEVER CALIBRATED"]
[{"$f":"IF(Lists!G13=\"\",\"\",Lists!G13)","v":""},{"$f":"IF(Table3[[#This Row],[Tool]]=\"\",\"\",203-7 -COUNTIF(INDIRECT(\"'\"&Table3[[#This Row],[Tool]]&\"'!\"&\"A8:A203\"),\"\"))","v":""},{"$f":"IF(Table3[[#This Row],[Tool]]=\"\",\"\",COUNTIF(INDIRECT(\"'\"&Table3[[#This Row],[Tool]]&\"'!\"&\"F8:F203\"),\"Lost\"))","v":""},{"$f":"IF(Table3[[#This Row],[Tool]]=\"\",\"\",COUNTIF(INDIRECT(\"'\"&Table3[[#This Row],[Tool]]&\"'!\"&\"O8:O203\"),\"1\"))","v":""},{"$f":"IF(Table3[[#This Row],[Tool]]=\"\",\"\",COUNTIF(INDIRECT(\"'\"&Table3[[#This Row],[Tool]]&\"'!\"&\"M8:M203\"),\"Calibrate\")+COUNTIF(INDIRECT(\"'\"&Table3[[#This Row],[Tool]]&\"'!\"&\"M8:M203\"),\"Find and Calibrate\"))","v":""},null,null,"QN01110000B","Calipers",{"$nulls":3},"NO BRAND SPECIFIED","Accounted For","NEVER CALIBRATED"]
[{"$f":"IF(Lists!G14=\"\",\"\",Lists!G14)","v":""},{"$f":"IF(Table3[[#This Row],[Tool]]=\"\",\"\",203-7 -COUNTIF(INDIRECT(\"'\"&Table3[[#This Row],[Tool]]&\"'!\"&\"A8:A203\"),\"\"))","v":""},{"$f":"IF(Table3[[#This Row],[Tool]]=\"\",\"\",COUNTIF(INDIRECT(\"'\"&Table3[[#This Row],[Tool]]&\"'!\"&\"F8:F203\"),\"Lost\"))","v":""},{"$f":"IF(Table3[[#This Row],[Tool]]=\"\",\"\",COUNTIF(INDIRECT(\"'\"&Table3[[#This Row],[Tool]]&\"'!\"&\"O8:O203\"),\"1\"))","v":""},{"$f":"IF(Table3[[#This Row],[Tool]]=\"\",\"\",COUNTIF(INDIRECT(\"'\"&Table3[[#This Row],[Tool]]&\"'!\"&\"M8:M203\"),\"Calibrate\")+COUNTIF(INDIRECT(\"'\"&Table3[[#This Row],[Tool]]&\"'!\"&\"M8:M203\"),\"Find and Calibrate\"))","v":""},null,null,"QN01109958B","Calipers",{"$nulls":3},"NO BRAND SPECIFIED","Accounted For","NEVER CALIBRATED"]
[{"$f":"IF(Lists!G15=\"\",\"\",Lists!G15)","v":""},{"$f":"IF(Table3[[#This Row],[Tool]]=\"\",\"\",203-7 -COUNTIF(INDIRECT(\"'\"&Table3[[#This Row],[Tool]]&\"'!\"&\"A8:A203\"),\"\"))","v":""},{"$f":"IF(Table3[[#This Row],[Tool]]=\"\",\"\",COUNTIF(INDIRECT(\"'\"&Table3[[#This Row],[Tool]]&\"'!\"&\"F8:F203\"),\"Lost\"))","v":""},{"$f":"IF(Table3[[#This Row],[Tool]]=\"\",\"\",COUNTIF(INDIRECT(\"'\"&Table3[[#This Row],[Tool]]&\"'!\"&\"O8:O203\"),\"1\"))","v":""},{"$f":"IF(Table3[[#This Row],[Tool]]=\"\",\"\",COUNTIF(INDIRECT(\"'\"&Table3[[#This Row],[Tool]]&\"'!\"&\"M8:M203\"),\"Calibrate\")+COUNTIF(INDIRECT(\"'\"&Table3[[#This Row],[Tool]]&\"'!\"&\"M8:M203\"),\"Find and Calibrate\"))","v":""},null,null,"QN01110033B","Calipers",{"$nulls":3},"NO BRAND SPECIFIED","Accounted For","NEVER CALIBRATED"]
[{"$f":"IF(Lists!G16=\"\",\"\",Lists!G16)","v":""},{"$f":"IF(Table3[[#This Row],[Tool]]=\"\",\"\",203-7 -COUNTIF(INDIRECT(\"'\"&Table3[[#This Row],[Tool]]&\"'!\"&\"A8:A203\"),\"\"))","v":""},{"$f":"IF(Table3[[#This Row],[Tool]]=\"\",\"\",COUNTIF(INDIRECT(\"'\"&Table3[[#This Row],[Tool]]&\"'!\"&\"F8:F203\"),\"Lost\"))","v":""},{"$f":"IF(Table3[[#This Row],[Tool]]=\"\",\"\",COUNTIF(INDIRECT(\"'\"&Table3[[#This Row],[Tool]]&\"'!\"&\"O8:O203\"),\"1\"))","v":""},{"$f":"IF(Table3[[#This Row],[Tool]]=\"\",\"\",COUNTIF(INDIRECT(\"'\"&Table3[[#This Row],[Tool]]&\"'!\"&\"M8:M203\"),\"Calibrate\")+COUNTIF(INDIRECT(\"'\"&Table3[[#This Row],[Tool]]&\"'!\"&\"M8:M203\"),\"Find and Calibrate\"))","v":""},null,null,"QN01110164B","Calipers",{"$nulls":3},"NO BRAND SPECIFIED","Accounted For","NEVER CALIBRATED"]
[{"$f":"IF(Lists!G17=\"\",\"\",Lists!G17)","v":""},{"$f":"IF(Table3[[#This Row],[Tool]]=\"\",\"\",203-7 -COUNTIF(INDIRECT(\"'\"&Table3[[#This Row],[Tool]]&\"'!\"&\"A8:A203\"),\"\"))","v":""},{"$f":"IF(Table3[[#This Row],[Tool]]=\"\",\"\",COUNTIF(INDIRECT(\"'\"&Table3[[#This Row],[Tool]]&\"'!\"&\"F8:F203\"),\"Lost\"))","v":""},{"$f":"IF(Table3[[#This Row],[Tool]]=\"\",\"\",COUNTIF(INDIRECT(\"'\"&Table3[[#This Row],[Tool]]&\"'!\"&\"O8:O203\"),\"1\"))","v":""},{"$f":"IF(Table3[[#This Row],[Tool]]=\"\",\"\",COUNTIF(INDIRECT(\"'\"&Table3[[#This Row],[Tool]]&\"'!\"&\"M8:M203\"),\"Calibrate\")+COUNTIF(INDIRECT(\"'\"&Table3[[#This Row],[Tool]]&\"'!\"&\"M8:M203\"),\"Find and Calibrate\"))","v":""},null,null,"QN01109893B","Calipers","Cunningham, Bobby","2nd","Presses (Automatic)","NO BRAND SPECIFIED","Accounted For","NEVER CALIBRATED"]
[{"$f":"IF(Lists!G18=\"\",\"\",Lists!G18)","v":""},{"$f":"IF(Table3[[#This Row],[Tool]]=\"\",\"\",203-7 -COUNTIF(INDIRECT(\"'\"&Table3[[#This Row],[Tool]]&\"'!\"&\"A8:A203\"),\"\"))","v":""},{"$f":"IF(Table3[[#This Row],[Tool]]=\"\",\"\",COUNTIF(INDIRECT(\"'\"&Table3[[#This Row],[Tool]]&\"'!\"&\"F8:F203\"),\"Lost\"))","v":""},{"$f":"IF(Table3[[#This Row],[Tool]]=\"\",\"\",COUNTIF(INDIRECT(\"'\"&Table3[[#This Row],[Tool]]&\"'!\"&\"O8:O203\"),\"1\"))","v":""},{"$f":"IF(Table3[[#This Row],[Tool]]=\"\",\"\",COUNTIF(INDIRECT(\"'\"&Table3[[#This Row],[Tool]]&\"'!\"&\"M8:M203\"),\"Calibrate\")+COUNTIF(INDIRECT(\"'\"&Table3[[#This Row],[Tool]]&\"'!\"&\"M8:M203\"),\"Find and Calibrate\"))","v":""},null,null,"QN01110117B","Calipers","Cunningham, Bobby","2nd","Laythes (Small CNC)","NO BRAND SPECIFIED","Accounted For","NEVER CALIBRATED"]
[{"$f":"IF(Lists!G19=\"\",\"\",Lists!G19)","v":""},{"$f":"IF(Table3[[#This Row],[Tool]]=\"\",\"\",203-7 -COUNTIF(INDIRECT(\"'\"&Table3[[#This Row],[Tool]]&\"'!\"&\"A8:A203\"),\"\"))","v":""},{"$f":"IF(Table3[[#This Row],[Tool]]=\"\",\"\",COUNTIF(INDIRECT(\"'\"&Table3[[#This Row],[Tool]]&\"'!\"&\"F8:F203\"),\"Lost\"))","v":""},{"$f":"IF(Table3[[#This Row],[Tool]]=\"\",\"\",COUNTIF(INDIRECT(\"'\"&Table3[[#This Row],[Tool]]&\"'!\"&\"O8:O203\"),\"1\"))","v":""},{"$f":"IF(Table3[[#This Row],[Tool]]=\"\",\"\",COUNTIF(INDIRECT(\"'\"&Table3[[#This Row],[Tool]]&\"'!\"&\"M8:M203\"),\"Calibrate\")+COUNTIF(INDIRECT(\"'\"&Table3[[#This Row],[Tool]]&\"'!\"&\"M8:M203\"),\"Find and Calibrate\"))","v":""},null,null,"A20097689","Calipers",{"$nulls":3},"Mitutoyo 0-6\"","Accounted For","NEVER CALIBRATED"]
[{"$f":"IF(Lists!G20=\"\",\"\",Lists!G20)","v":""},{"$f":"IF(Table3[[#This Row],[Tool]]=\"\",\"\",203-7 -COUNTIF(INDIRECT(\"'\"&Table3[[#This Row],[Tool]]&\"'!\"&\"A8:A203\"),\"\"))","v":""},{"$f":"IF(Table3[[#This Row],[Tool]]=\"\",\"\",COUNTIF(INDIRECT(\"'\"&Table3[[#This Row],[Tool]]&\"'!\"&\"F8:F203\"),\"Lost\"))","v":""},{"$f":"IF(Table3[[#This Row],[Tool]]=\"\",\"\",COUNTIF(INDIRECT(\"'\"&Table3[[#This Row],[Tool]]&\"'!\"&\"O8:O203\"),\"1\"))","v":""},{"$f":"IF(Table3[[#This Row],[Tool]]=\"\",\"\",COUNTIF(INDIRECT(\"'\"&Table3[[#This Row],[Tool]]&\"'!\"&\"M8:M203\"),\"Calibrate\")+COUNTIF(INDIRECT(\"'\"&Table3[[#This Row],[Tool]]&\"'!\"&\"M8:M203\"),\"Find and Calibrate\"))","v":""},null,null,"5-1.19120249","Calipers",{"$nulls":3},"Fowler 0-18\"","Accounted For","NEVER CALIBRATED"]
[{"$f":"IF(Lists!G21=\"\",\"\",Lists!G21)","v":""},{"$f":"IF(Table3[[#This Row],[Tool]]=\"\",\"\",203-7 -COUNTIF(INDIRECT(\"'\"&Table3[[#This Row],[Tool]]&\"'!\"&\"A8:A203\"),\"\"))","v":""},{"$f":"IF(Table3[[#This Row],[Tool]]=\"\",\"\",COUNTIF(INDIRECT(\"'\"&Table3[[#This Row],[Tool]]&\"'!\"&\"F8:F203\"),\"Lost\"))","v":""},{"$f":"IF(Table3[[#This Row],[Tool]]=\"\",\"\",COUNTIF(INDIRECT(\"'\"&Table3[[#This Row],[Tool]]&\"'!\"&\"O8:O203\"),\"1\"))","v":""},{"$f":"IF(Table3[[#This Row],[Tool]]=\"\",\"\",COUNTIF(INDIRECT(\"'\"&Table3[[#This Row],[Tool]]&\"'!\"&\"M8:M203\"),\"Calibrate\")+COUNTIF(INDIRECT(\"'\"&Table3[[#This Row],[Tool]]&\"'!\"&\"M8:M203\"),\"Find and Calibrate\"))","v":""},null,null,"5-5.17100580","Calipers",{"$nulls":3},"SPI 0-12\"","Accounted For","NEVER CALIBRATED"]
[{"$f":"IF(Lists!G22=\"\",\"\",Lists!G22)","v":""},{"$f":"IF(Table3[[#This Row],[Tool]]=\"\",\"\",203-7 -COUNTIF(INDIRECT(\"'\"&Table3[[#This Row],[Tool]]&\"'!\"&\"A8:A203\"),\"\"))","v":""},{"$f":"IF(Table3[[#This Row],[Tool]]=\"\",\"\",COUNTIF(INDIRECT(\"'\"&Table3[[#This Row],[Tool]]&\"'!\"&\"F8:F203\"),\"Lost\"))","v":""},{"$f":"IF(Table3[[#This Row],[Tool]]=\"\",\"\",COUNTIF(INDIRECT(\"'\"&Table3[[#This Row],[Tool]]&\"'!\"&\"O8:O203\"),\"1\"))","v":""},{"$f":"IF(Table3[[#This Row],[Tool]]=\"\",\"\",COUNTIF(INDIRECT(\"'\"&Table3[[#This Row],[Tool]]&\"'!\"&\"M8:M203\"),\"Calibrate\")+COUNTIF(INDIRECT(\"'\"&Table3[[#This Row],[Tool]]&\"'!\"&\"M8:M203\"),\"Find and Calibrate\"))","v":""},null,null,"QC159430B","Calipers",{"$nulls":3},"NO BRAND SPECIFIED","Accounted For","NEVER CALIBRATED"]
[{"$nulls":7},"17-928-3","Micrometer",{"$nulls":3},"SPI 0-1\"","Accounted For","NEVER CALIBRATED"]
[{"$nulls":7},72198406,"Micrometer",{"$nulls":3},"Mitutoyo 0-1\"","Accounted For","NEVER CALIBRATED"]
[{"$nulls":7},71198463,"Micrometer",{"$nulls":3},"Mitutoyo 0-1\"","Accounted For","NEVER CALIBRATED"]
[{"$nulls":7},"M1982","Micrometer",{"$nulls":3},"Brown & Sharpe 0-1\"","Accounted For","NEVER CALIBRATED"]
[{"$nulls":7},120328486,"Micrometer",{"$nulls":3},"Fowler 0-1\"","Accounted For","NEVER CALIBRATED"]
[{"$nulls":7},"M892","Micrometer",{"$nulls":3},"Starrett 0-1\" Discs","Accounted For","NEVER CALIBRATED"]
[{"$nulls":7},"M893","Micrometer",{"$nulls":3},"Starrett 0-1\" Discs","Accounted For","NEVER CALIBRATED"]
[{"$nulls":7},131112344,"Micrometer",{"$nulls":3},"Fowler 0-1\"","Accounted For","NEVER CALIBRATED"]
[{"$nulls":7},150464561,"Micrometer",{"$nulls":3},"Fowler 0-1\"","Accounted For","NEVER CALIBRATED"]
[{"$nulls":7},120330485,"Micrometer","Cunningham, Bobby","2nd","Presses (Automatic)","Fowler 0-1\"","Accounted For","2017-08-24"]
[{"$nulls":7},140861627,"Micrometer",{"$nulls":3},"Brown & Sharpe 0-1\"","Accounted For","2017-08-25"]
[{"$nulls":7},"M1820","Micrometer",{"$nulls":3},"Brown & Sharpe 0-1\"","Accounted For","NEVER CALIBRATED"]
[{"$nulls":7},130377753,"Micrometer",{"$nulls":3},"Fowler 0-1\"","Accounted For","NEVER CALIBRATED"]
[{"$nulls":7},"6L325201","Micrometer",{"$nulls":3},"Brown & Sharpe 0-1\"","Accounted For","2019-08-18"]
[{"$nulls":7},3009726,"Micrometer",{"$nulls":3},"Mitutoyo 0-1\"","Accounted For","2015-06-10"]
[{"$nulls":7},"M1803","Micrometer",{"$nulls":3},"NO BRAND SPECIFIED","Accounted For","NEVER CALIBRATED"]
[{"$nulls":7},37073338,"Micrometer",{"$nulls":3},"Mitutoyo 0-1\" Ball","Accounted For","NEVER CALIBRATED"]
[{"$nulls":7},"M1178","Micrometer",{"$nulls":3},"Mitutoyo 0-1\" Small Frame","Accounted For","NEVER CALIBRATED"]
[{"$nulls":7},"M883","Micrometer",{"$nulls":3},"Mitutoyo 25-50mm","Accounted For","2010-08-25"]
[{"$nulls":7},57194569,"Micrometer",{"$nulls":3},"Mitutoyo 0-1\" Tube","Accounted For","NEVER CALIBRATED"]
[{"$nulls":7},"M933","Micrometer",{"$nulls":3},"Mitutoyo 2-3\"","Accounted For","NEVER CALIBRATED"]
[{"$nulls":7},"M197","Micrometer",{"$nulls":3},"Mitutoyo 2-3\"","Accounted For","2010-08-25"]
[{"$nulls":7},"M198","Micrometer",{"$nulls":3},"Mitutoyo 3-4\"","Accounted For","2010-08-25"]
[{"$nulls":7},8092817,"Micrometer",{"$nulls":3},"Mitutoyo 3-4\"","Accounted For","NEVER CALIBRATED"]
[{"$nulls":7},67056777,"Micrometer",{"$nulls":3},"Mitutoyo 3-4\"","Accounted For","NEVER CALIBRATED"]
[{"$nulls":7},"M1634","Micrometer",{"$nulls":3},"Starrett Depth","Accounted For","NEVER CALIBRATED"]
[{"$nulls":7},"M880","Micrometer",{"$nulls":3},"Brown & Sharpe Depth","Accounted For","NEVER CALIBRATED"]
[{"$nulls":7},"M1220","Micrometer",{"$nulls":3},"Starrett Depth","Accounted For","NEVER CALIBRATED"]
[{"$nulls":7},"M1223","Micrometer",{"$nulls":3},"Starrett Depth","Accounted For","NEVER CALIBRATED"]
[{"$nulls":7},"M1222","Micrometer",{"$nulls":3},"Starrett Depth","Accounted For","NEVER CALIBRATED"]
[{"$nulls":7},"M1184","Micrometer",{"$nulls":3},"Moore & Wright 0-1\" Digital","Accounted For","NEVER CALIBRATED"]
[{"$nulls":7},"M1218","Micrometer",{"$nulls":3},"Starrett 0-1\" Blades","Accounted For","NEVER CALIBRATED"]
[{"$nulls":7},"M1215","Micrometer",{"$nulls":3},"Starrett 0-1\" Blades","Accounted For","NEVER CALIBRATED"]
[{"$nulls":7},"M1217","Micrometer",{"$nulls":3},"Starrett 0-1\" Blades","Accounted For","NEVER CALIBRATED"]
[{"$nulls":7},8003249,"Micrometer",{"$nulls":3},"Mitutoyo 0-1\" Blade","Accounted For","NEVER CALIBRATED"]
[{"$nulls":7},"M1374","Micrometer",{"$nulls":3},"Mitutoyo 0-1\" Blade","Accounted For","NEVER CALIBRATED"]
[{"$nulls":7},"M875","Micrometer",{"$nulls":3},"Starrett Thread 28-30","Accounted For","NEVER CALIBRATED"]
[{"$nulls":7},"M876","Micrometer",{"$nulls":3},"Starrett Thread 32-40","Accounted For","NEVER CALIBRATED"]
[{"$nulls":7},"M886","Micrometer",{"$nulls":3},"Starrett Thread 20-24","Accounted For","NEVER CALIBRATED"]
[{"$nulls":7},"M285","Micrometer",{"$nulls":3},"Starrett Thread 22-30","Accounted For","NEVER CALIBRATED"]
[{"$nulls":7},"M1167","Micrometer",{"$nulls":3},"Brown & Sharpe 210-1","Accounted For","NEVER CALIBRATED"]
[{"$nulls":7},483,"Micrometer",{"$nulls":3},"Starrett 3 Point","Accounted For","NEVER CALIBRATED"]
[{"$nulls":7},"K1-13B59","Micrometer",{"$nulls":3},"Kwik Chek Taper","Accounted For","NEVER CALIBRATED"]
[{"$nulls":7},"483-Box","Micrometer",{"$nulls":3},"Starrett 3 Point","Accounted For","NEVER CALIBRATED"]
[{"$nulls":7},1734928,"Drop Indicators",{"$nulls":3},"Fowler 0-1\" Drop","Accounted For","NEVER CALIBRATED"]
[{"$nulls":7},1171750,"Drop Indicators",{"$nulls":3},"MHC 0-1\" Drop","Accounted For","NEVER CALIBRATED"]
[{"$nulls":7},1172154,"Drop Indicators",{"$nulls":3},"MHC 0-1\" Drop","Accounted For","NEVER CALIBRATED"]
[{"$nulls":7},"J0008","Drop Indicators",{"$nulls":3},"Federal Drop 0.0005\"","Accounted For","NEVER CALIBRATED"]
[{"$nulls":7},"J0009","Drop Indicators",{"$nulls":3},"Federal Drop 0.00025\"","Accounted For","NEVER CALIBRATED"]
[{"$nulls":7},"J0010","Drop Indicators",{"$nulls":3},"Federal Drop 0.00025\"","Accounted For","NEVER CALIBRATED"]
[{"$nulls":7},"J0011","Drop Indicators",{"$nulls":3},"Federal Drop 0.0001\"","Accounted For","NEVER CALIBRATED"]
[{"$nulls":7},"J2-C100-500","Drop Indicators",{"$nulls":3},"CDI 0.5\" Drop","Accounted For","NEVER CALIBRATED"]
[{"$nulls":7},18274,"Drop Indicators",{"$nulls":3},"Mitutoyo 0-1\" digital drop","Accounted For","NEVER CALIBRATED"]
[{"$nulls":7},8008490,"Drop Indicators",{"$nulls":3},"Mitutoyo 0-1\" digital drop","Accounted For","NEVER CALIBRATED"]
[{"$nulls":7},1006,"Drop Indicators",{"$nulls":3},"Mitutoyo 0-2\" digital drop","Accounted For","NEVER CALIBRATED"]
[{"$nulls":7},1173465,"Drop Indicators",{"$nulls":3},"MHC 0-1\" Drop","Accounted For","NEVER CALIBRATED"]
[{"$nulls":7},"M921","Bore Gauges",{"$nulls":3},"DoAll Bore Gauge","Accounted For","NEVER CALIBRATED"]
[{"$nulls":7},"M807","Bore Gauges",{"$nulls":3},"Mitutoyo Bore Gauge","Accounted For","NEVER CALIBRATED"]
[{"$nulls":7},"M869","Bore Gauges",{"$nulls":3},"Mitutoyo Bore Gauge","Accounted For","NEVER CALIBRATED"]
[{"$nulls":7},"M801","Bore Gauges",{"$nulls":3},"Mitutoyo Bore Gauge","Accounted For","NEVER CALIBRATED"]
[{"$nulls":7},"M971","Bore Gauges",{"$nulls":3},"Mitutoyo Bore Gauge","Accounted For","NEVER CALIBRATED"]
[{"$nulls":7},"M32321","Bore Gauges",{"$nulls":3},"Fowler Bore Gauge","Accounted For","NEVER CALIBRATED"]
[{"$nulls":7},"M1266","Bore Gauges",{"$nulls":3},"Mitutoyo Bore Gauge","Accounted For","NEVER CALIBRATED"]
[{"$nulls":7},"M2016","Chamfer Gauges",{"$nulls":3},"SPI 0-90 deg 1\" Dia","Accounted For","NEVER CALIBRATED"]
[{"$nulls":7},"M2034","Chamfer Gauges",{"$nulls":3},"Starrett 0-90 deg 1\" Dia","Accounted For","NEVER CALIBRATED"]
[{"$nulls":7},801772,"Surface Gauge",{"$nulls":3},"Mitutoyo Surface Gauge","Accounted For","NEVER CALIBRATED"]
[{"$nulls":7},801908,"Surface Gauge",{"$nulls":3},"Mitutoyo Surface Gauge","Accounted For","NEVER CALIBRATED"]
[{"$nulls":7},"D6","Tourque Wrenches",{"$nulls":3},"KD Tools Torque Wrench","Accounted For","NEVER CALIBRATED"]
[{"$nulls":7},602607120,"Tourque Wrenches",{"$nulls":3},"Armstrong Tools Torque Wrench","Accounted For","NEVER CALIBRATED"]
[{"$nulls":7},405804893,"Tourque Wrenches",{"$nulls":3},"CDI Torque Wrench","Accounted For","NEVER CALIBRATED"]
[{"$nulls":7},"M818","Tourque Wrenches",{"$nulls":3},"Snap on Torque Wrench","Accounted For","NEVER CALIBRATED"]
[{"$nulls":7},"M1990","Tourque Wrenches",{"$nulls":3},"Snap on Torque Wrench","Accounted For","NEVER CALIBRATED"]
[{"$nulls":7},501471515,"Tourque Wrenches",{"$nulls":3},"Armstrong Tools Torque Wrench","Accounted For","NEVER CALIBRATED"]
[{"$nulls":7},203602345,"Tourque Wrenches",{"$nulls":3},"CDI Torque Wrench","Accounted For","NEVER CALIBRATED"]
[{"$nulls":7},991236849,"Tourque Wrenches",{"$nulls":3},"Armstrong Tools Torque Wrench","Accounted For","NEVER CALIBRATED"]
[{"$nulls":7},"6064A","Tourque Wrenches",{"$nulls":3},"Proto Torque Wrench","Accounted For","NEVER CALIBRATED"]
[{"$nulls":7},11094647,"Tourque Wrenches",{"$nulls":3},"Armstrong Tools Torque Wrench","Accounted For","NEVER CALIBRATED"]

{"sheet":"Retired Tools","index":1,"n_rows":200,"n_cols":16,"rows_kept":200,"merged":[[0,0,1,4],[0,5,1,5]]}
["Retired Tools",{"$nulls":4},"Key","Adjustabe"]
[{"$nulls":6},"DO NOT EDIT"]
[1]
["Gauge #","Tool Type","Brand","Last User","Reason Retired","Notes","Date Issued","Date Retired","Age",null,"Count of Reason Retired","Column Labels"]
["6-20.1609719","Calipers","Phase 2 0-6\"","NO PERSON SPECIFIED","Damaged","Crunchy gearbox, made strange sound. Put in scrap bin.","2021-02-12","2021-02-17",{"$f":"IF((IF(OR(Table13[[#This Row],[Date Issued]]=\"\",Table13[[#This Row],[Date Retired]]=\"\"),0,Table13[[#This Row],[Date Retired]]-Table13[[#This Row],[Date Issued]])/IF(Table13[[#This Row],[Date Retired]]-Table13[[#This Row],[Date Issued]]>=365,365,1))=0,\"\",(ROUND(IF(OR(Table13[[#This Row],[Date Issued]]=\"\",Table13[[#This Row],[Date Retired]]=\"\"),0,Table13[[#This Row],[Date Retired]]-Table13[[#This Row],[Date Issued]])/IF(Table13[[#This Row],[Date Retired]]-Table13[[#This Row],[Date Issued]]>=365,365,1),3)&IF(Table13[[#This Row],[Date Retired]]-Table13[[#This Row],[Date Issued]]>=365,\" Year(s)\",\" Day(s)\")))","v":"5 Day(s)"},null,"Row Labels","Phase 2 0-6\"","ABS 0-6\"","MHC 0-1\" Drop","Starret 0-1\"","Grand Total"]
["7-08.1809173","Calipers","Phase 2 0-6\"",null,"Age","Dial >90 degrees out of allignment. Put in scrap bin.","2021-02-17","2021-02-17",{"$f":"IF((IF(OR(Table13[[#This Row],[Date Issued]]=\"\",Table13[[#This Row],[Date Retired]]=\"\"),0,Table13[[#This Row],[Date Retired]]-Table13[[#This Row],[Date Issued]])/IF(Table13[[#This Row],[Date Retired]]-Table13[[#This Row],[Date Issued]]>=365,365,1))=0,\"\",(ROUND(IF(OR(Table13[[#This Row],[Date Issued]]=\"\",Table13[[#This Row],[Date Retired]]=\"\"),0,Table13[[#This Row],[Date Retired]]-Table13[[#This Row],[Date Issued]])/IF(Table13[[#This Row],[Date Retired]]-Table13[[#This Row],[Date Issued]]>=365,365,1),3)&IF(Table13[[#This Row],[Date Retired]]-Table13[[#This Row],[Date Issued]]>=365,\" Year(s)\",\" Day(s)\")))","v":""},null,"Age",4,null,1,null,5]
["2-17.1807702","Calipers","Phase 2 0-6\"",null,"Damaged","Damaged needle pin. Put in scrap box","2021-02-17","2021-02-17",{"$f":"IF((IF(OR(Table13[[#This Row],[Date Issued]]=\"\",Table13[[#This Row],[Date Retired]]=\"\"),0,Table13[[#This Row],[Date Retired]]-Table13[[#This Row],[Date Issued]])/IF(Table13[[#This Row],[Date Retired]]-Table13[[#This Row],[Date Issued]]>=365,365,1))=0,\"\",(ROUND(IF(OR(Table13[[#This Row],[Date Issued]]=\"\",Table13[[#This Row],[Date Retired]]=\"\"),0,Table13[[#This Row],[Date Retired]]-Table13[[#This Row],[Date Issued]])/IF(Table13[[#This Row],[Date Retired]]-Table13[[#This Row],[Date Issued]]>=365,365,1),3)&IF(Table13[[#This Row],[Date Retired]]-Table13[[#This Row],[Date Issued]]>=365,\" Year(s)\",\" Day(s)\")))","v":""},null,null,4,null,1,null,5]
["QN19210432B","Calipers","ABS 0-6\"",null,"Damaged","Gearbox teeth worn down, crunchy. Put in scrap box.","2021-02-17","2021-02-17",{"$f":"IF((IF(OR(Table13[[#This Row],[Date Issued]]=\"\",Table13[[#This Row],[Date Retired]]=\"\"),0,Table13[[#This Row],[Date Retired]]-Table13[[#This Row],[Date Issued]])/IF(Table13[[#This Row],[Date Retired]]-Table13[[#This Row],[Date Issued]]>=365,365,1))=0,\"\",(ROUND(IF(OR(Table13[[#This Row],[Date Issued]]=\"\",Table13[[#This Row],[Date Retired]]=\"\"),0,Table13[[#This Row],[Date Retired]]-Table13[[#This Row],[Date Issued]])/IF(Table13[[#This Row],[Date Retired]]-Table13[[#This Row],[Date Issued]]>=365,365,1),3)&IF(Table13[[#This Row],[Date Retired]]-Table13[[#This Row],[Date Issued]]>=365,\" Year(s)\",\" Day(s)\")))","v":""},null,"Damaged",3,2,null,1,6]
["7-36.1808833","Calipers","Phase 2 0-6\"",null,"Age","Dial 180 degrees off, full of oil. Put in scrap bin.","2021-02-17","2021-02-17",{"$f":"IF((IF(OR(Table13[[#This Row],[Date Issued]]=\"\",Table13[[#This Row],[Date Retired]]=\"\"),0,Table13[[#This Row],[Date Retired]]-Table13[[#This Row],[Date Issued]])/IF(Table13[[#This Row],[Date Retired]]-Table13[[#This Row],[Date Issued]]>=365,365,1))=0,\"\",(ROUND(IF(OR(Table13[[#This Row],[Date Issued]]=\"\",Table13[[#This Row],[Date Retired]]=\"\"),0,Table13[[#This Row],[Date Retired]]-Table13[[#This Row],[Date Issued]])/IF(Table13[[#This Row],[Date Retired]]-Table13[[#This Row],[Date Issued]]>=365,365,1),3)&IF(Table13[[#This Row],[Date Retired]]-Table13[[#This Row],[Date Issued]]>=365,\" Year(s)\",\" Day(s)\")))","v":""},null,null,2,1,null,null,3]
["2-17.1807704","Calipers","Phase 2 0-6\"",null,"Age","Dial 180 out of alignment. Put in scrap bin.","2021-02-17","2021-02-17",{"$f":"IF((IF(OR(Table13[[#This Row],[Date Issued]]=\"\",Table13[[#This Row],[Date Retired]]=\"\"),0,Table13[[#This Row],[Date Retired]]-Table13[[#This Row],[Date Issued]])/IF(Table13[[#This Row],[Date Retired]]-Table13[[#This Row],[Date Issued]]>=365,365,1))=0,\"\",(ROUND(IF(OR(Table13[[#This Row],[Date Issued]]=\"\",Table13[[#This Row],[Date Retired]]=\"\"),0,Table13[[#This Row],[Date Retired]]-Table13[[#This Row],[Date Issued]])/IF(Table13[[#This Row],[Date Retired]]-Table13[[#This Row],[Date Issued]]>=365,365,1),3)&IF(Table13[[#This Row],[Date Retired]]-Table13[[#This Row],[Date Issued]]>=365,\" Year(s)\",\" Day(s)\")))","v":""},null,"5 Day(s)",1,null,null,1,2]
["6-17.1809130","Calipers","Phase 2 0-6\"",null,"Age","Dial out of allignment by 180 degrees. Put in scrap bin.","2021-02-17","2021-02-17",{"$f":"IF((IF(OR(Table13[[#This Row],[Date Issued]]=\"\",Table13[[#This Row],[Date Retired]]=\"\"),0,Table13[[#This Row],[Date Retired]]-Table13[[#This Row],[Date Issued]])/IF(Table13[[#This Row],[Date Retired]]-Table13[[#This Row],[Date Issued]]>=365,365,1))=0,\"\",(ROUND(IF(OR(Table13[[#This Row],[Date Issued]]=\"\",Table13[[#This Row],[Date Retired]]=\"\"),0,Table13[[#This Row],[Date Retired]]-Table13[[#This Row],[Date Issued]])/IF(Table13[[#This Row],[Date Retired]]-Table13[[#This Row],[Date Issued]]>=365,365,1),3)&IF(Table13[[#This Row],[Date Retired]]-Table13[[#This Row],[Date Issued]]>=365,\" Year(s)\",\" Day(s)\")))","v":""},null,"24 Day(s)",null,1,null,null,1]
[1141998,"Drop Indicators","MHC 0-1\" Drop",null,"Age","Drops too far, generally worn","2021-03-08","2021-03-08",{"$f":"IF((IF(OR(Table13[[#This Row],[Date Issued]]=\"\",Table13[[#This Row],[Date Retired]]=\"\"),0,Table13[[#This Row],[Date Retired]]-Table13[[#This Row],[Date Issued]])/IF(Table13[[#This Row],[Date Retired]]-Table13[[#This Row],[Date Issued]]>=365,365,1))=0,\"\",(ROUND(IF(OR(Table13[[#This Row],[Date Issued]]=\"\",Table13[[#This Row],[Date Retired]]=\"\"),0,Table13[[#This Row],[Date Retired]]-Table13[[#This Row],[Date Issued]])/IF(Table13[[#This Row],[Date Retired]]-Table13[[#This Row],[Date Issued]]>=365,365,1),3)&IF(Table13[[#This Row],[Date Retired]]-Table13[[#This Row],[Date Issued]]>=365,\" Year(s)\",\" Day(s)\")))","v":""},null,"Grand Total",7,2,1,1,11]
["QN19210694B","Calipers","ABS 0-6\"","NO PERSON SPECIFIED","Damaged","Dropped, attemted to fix but needle broke off. From Strap Cell. In scrap bin","2021-02-16","2021-03-12",{"$f":"IF((IF(OR(Table13[[#This Row],[Date Issued]]=\"\",Table13[[#This Row],[Date Retired]]=\"\"),0,Table13[[#This Row],[Date Retired]]-Table13[[#This Row],[Date Issued]])/IF(Table13[[#This Row],[Date Retired]]-Table13[[#This Row],[Date Issued]]>=365,365,1))=0,\"\",(ROUND(IF(OR(Table13[[#This Row],[Date Issued]]=\"\",Table13[[#This Row],[Date Retired]]=\"\"),0,Table13[[#This Row],[Date Retired]]-Table13[[#This Row],[Date Issued]])/IF(Table13[[#This Row],[Date Retired]]-Table13[[#This Row],[Date Issued]]>=365,365,1),3)&IF(Table13[[#This Row],[Date Retired]]-Table13[[#This Row],[Date Issued]]>=365,\" Year(s)\",\" Day(s)\")))","v":"24 Day(s)"}]
["7-08.1809186","Calipers","Phase 2 0-6\"","Cunningham, Bobby","Damaged","Dropped. scrap bin","2021-03-26","2021-03-26",{"$f":"IF((IF(OR(Table13[[#This Row],[Date Issued]]=\"\",Table13[[#This Row],[Date Retired]]=\"\"),0,Table13[[#This Row],[Date Retired]]-Table13[[#This Row],[Date Issued]])/IF(Table13[[#This Row],[Date Retired]]-Table13[[#This Row],[Date Issued]]>=365,365,1))=0,\"\",(ROUND(IF(OR(Table13[[#This Row],[Date Issued]]=\"\",Table13[[#This Row],[Date Retired]]=\"\"),0,Table13[[#This Row],[Date Retired]]-Table13[[#This Row],[Date Issued]])/IF(Table13[[#This Row],[Date Retired]]-Table13[[#This Row],[Date Issued]]>=365,365,1),3)&IF(Table13[[#This Row],[Date Retired]]-Table13[[#This Row],[Date Issued]]>=365,\" Year(s)\",\" Day(s)\")))","v":""}]
[{"$nulls":8},{"$f":"IF((IF(OR(Table13[[#This Row],[Date Issued]]=\"\",Table13[[#This Row],[Date Retired]]=\"\"),0,Table13[[#This Row],[Date Retired]]-Table13[[#This Row],[Date Issued]])/IF(Table13[[#This Row],[Date Retired]]-Table13[[#This Row],[Date Issued]]>=365,365,1))=0,\"\",(ROUND(IF(OR(Table13[[#This Row],[Date Issued]]=\"\",Table13[[#This Row],[Date Retired]]=\"\"),0,Table13[[#This Row],[Date Retired]]-Table13[[#This Row],[Date Issued]])/IF(Table13[[#This Row],[Date Retired]]-Table13[[#This Row],[Date Issued]]>=365,365,1),3)&IF(Table13[[#This Row],[Date Retired]]-Table13[[#This Row],[Date Issued]]>=365,\" Year(s)\",\" Day(s)\")))","v":""}]
[{"$nulls":8},{"$f":"IF((IF(OR(Table13[[#This Row],[Date Issued]]=\"\",Table13[[#This Row],[Date Retired]]=\"\"),0,Table13[[#This Row],[Date Retired]]-Table13[[#This Row],[Date Issued]])/IF(Table13[[#This Row],[Date Retired]]-Table13[[#This Row],[Date Issued]]>=365,365,1))=0,\"\",(ROUND(IF(OR(Table13[[#This Row],[Date Issued]]=\"\",Table13[[#This Row],[Date Retired]]=\"\"),0,Table13[[#This Row],[Date Retired]]-Table13[[#This Row],[Date Issued]])/IF(Table13[[#This Row],[Date Retired]]-Table13[[#This Row],[Date Issued]]>=365,365,1),3)&IF(Table13[[#This Row],[Date Retired]]-Table13[[#This Row],[Date Issued]]>=365,\" Year(s)\",\" Day(s)\")))","v":""}]
[{"$nulls":8},{"$f":"IF((IF(OR(Table13[[#This Row],[Date Issued]]=\"\",Table13[[#This Row],[Date Retired]]=\"\"),0,Table13[[#This Row],[Date Retired]]-Table13[[#This Row],[Date Issued]])/IF(Table13[[#This Row],[Date Retired]]-Table13[[#This Row],[Date Issued]]>=365,365,1))=0,\"\",(ROUND(IF(OR(Table13[[#This Row],[Date Issued]]=\"\",Table13[[#This Row],[Date Retired]]=\"\"),0,Table13[[#This Row],[Date Retired]]-Table13[[#This Row],[Date Issued]])/IF(Table13[[#This Row],[Date Retired]]-Table13[[#This Row],[Date Issued]]>=365,365,1),3)&IF(Table13[[#This Row],[Date Retired]]-Table13[[#This Row],[Date Issued]]>=365,\" Year(s)\",\" Day(s)\")))","v":""}]
[{"$nulls":8},{"$f":"IF((IF(OR(Table13[[#This Row],[Date Issued]]=\"\",Table13[[#This Row],[Date Retired]]=\"\"),0,Table13[[#This Row],[Date Retired]]-Table13[[#This Row],[Date Issued]])/IF(Table13[[#This Row],[Date Retired]]-Table13[[#This Row],[Date Issued]]>=365,365,1))=0,\"\",(ROUND(IF(OR(Table13[[#This Row],[Date Issued]]=\"\",Table13[[#This Row],[Date Retired]]=\"\"),0,Table13[[#This Row],[Date Retired]]-Table13[[#This Row],[Date Issued]])/IF(Table13[[#This Row],[Date Retired]]-Table13[[#This Row],[Date Issued]]>=365,365,1),3)&IF(Table13[[#This Row],[Date Retired]]-Table13[[#This Row],[Date Issued]]>=365,\" Year(s)\",\" Day(s)\")))","v":""}]
[{"$nulls":8},{"$f":"IF((IF(OR(Table13[[#This Row],[Date Issued]]=\"\",Table13[[#This Row],[Date Retired]]=\"\"),0,Table13[[#This Row],[Date Retired]]-Table13[[#This Row],[Date Issued]])/IF(Table13[[#This Row],[Date Retired]]-Table13[[#This Row],[Date Issued]]>=365,365,1))=0,\"\",(ROUND(IF(OR(Table13[[#This Row],[Date Issued]]=\"\",Table13[[#This Row],[Date Retired]]=\"\"),0,Table13[[#This Row],[Date Retired]]-Table13[[#This Row],[Date Issued]])/IF(Table13[[#This Row],[Date Retired]]-Table13[[#This Row],[Date Issued]]>=365,365,1),3)&IF(Table13[[#This Row],[Date Retired]]-Table13[[#This Row],[Date Issued]]>=365,\" Year(s)\",\" Day(s)\")))","v":""}]
[{"$nulls":8},{"$f":"IF((IF(OR(Table13[[#This Row],[Date Issued]]=\"\",Table13[[#This Row],[Date Retired]]=\"\"),0,Table13[[#This Row],[Date Retired]]-Table13[[#This Row],[Date Issued]])/IF(Table13[[#This Row],[Date Retired]]-Table13[[#This Row],[Date Issued]]>=365,365,1))=0,\"\",(ROUND(IF(OR(Table13[[#This Row],[Date Issued]]=\"\",Table13[[#This Row],[Date Retired]]=\"\"),0,Table13[[#This Row],[Date Retired]]-Table13[[#This Row],[Date Issued]])/IF(Table13[[#This Row],[Date Retired]]-Table13[[#This Row],[Date Issued]]>=365,365,1),3)&IF(Table13[[#This Row],[Date Retired]]-Table13[[#This Row],[Date Issued]]>=365,\" Year(s)\",\" Day(s)\")))","v":""}]
[{"$nulls":8},{"$f":"IF((IF(OR(Table13[[#This Row],[Date Issued]]=\"\",Table13[[#This Row],[Date Retired]]=\"\"),0,Table13[[#This Row],[Date Retired]]-Table13[[#This Row],[Date Issued]])/IF(Table13[[#This Row],[Date Retired]]-Table13[[#This Row],[Date Issued]]>=365,365,1))=0,\"\",(ROUND(IF(OR(Table13[[#This Row],[Date Issued]]=\"\",Table13[[#This Row],[Date Retired]]=\"\"),0,Table13[[#This Row],[Date Retired]]-Table13[[#This Row],[Date Issued]])/IF(Table13[[#This Row],[Date Retired]]-Table13[[#This Row],[Date Issued]]>=365,365,1),3)&IF(Table13[[#This Row],[Date Retired]]-Table13[[#This Row],[Date Issued]]>=365,\" Year(s)\",\" Day(s)\")))","v":""}]
[{"$nulls":8},{"$f":"IF((IF(OR(Table13[[#This Row],[Date Issued]]=\"\",Table13[[#This Row],[Date Retired]]=\"\"),0,Table13[[#This Row],[Date Retired]]-Table13[[#This Row],[Date Issued]])/IF(Table13[[#This Row],[Date Retired]]-Table13[[#This Row],[Date Issued]]>=365,365,1))=0,\"\",(ROUND(IF(OR(Table13[[#This Row],[Date Issued]]=\"\",Table13[[#This Row],[Date Retired]]=\"\"),0,Table13[[#This Row],[Date Retired]]-Table13[[#This Row],[Date Issued]])/IF(Table13[[#This Row],[Date Retired]]-Table13[[#This Row],[Date Issued]]>=365,365,1),3)&IF(Table13[[#This Row],[Date Retired]]-Table13[[#This Row],[Date Issued]]>=365,\" Year(s)\",\" Day(s)\")))","v":""}]
[{"$nulls":8},{"$f":"IF((IF(OR(Table13[[#This Row],[Date Issued]]=\"\",Table13[[#This Row],[Date Retired]]=\"\"),0,Table13[[#This Row],[Date Retired]]-Table13[[#This Row],[Date Issued]])/IF(Table13[[#This Row],[Date Retired]]-Table13[[#This Row],[Date Issued]]>=365,365,1))=0,\"\",(ROUND(IF(OR(Table13[[#This Row],[Date Issued]]=\"\",Table13[[#This Row],[Date Retired]]=\"\"),0,Table13[[#This Row],[Date Retired]]-Table13[[#This Row],[Date Issued]])/IF(Table13[[#This Row],[Date Retired]]-Table13[[#This Row],[Date Issued]]>=365,365,1),3)&IF(Table13[[#This Row],[Date Retired]]-Table13[[#This Row],[Date Issued]]>=365,\" Year(s)\",\" Day(s)\")))","v":""}]
[{"$nulls":8},{"$f":"IF((IF(OR(Table13[[#This Row],[Date Issued]]=\"\",Table13[[#This Row],[Date Retired]]=\"\"),0,Table13[[#This Row],[Date Retired]]-Table13[[#This Row],[Date Issued]])/IF(Table13[[#This Row],[Date Retired]]-Table13[[#This Row],[Date Issued]]>=365,365,1))=0,\"\",(ROUND(IF(OR(Table13[[#This Row],[Date Issued]]=\"\",Table13[[#This Row],[Date Retired]]=\"\"),0,Table13[[#This Row],[Date Retired]]-Table13[[#This Row],[Date Issued]])/IF(Table13[[#This Row],[Date Retired]]-Table13[[#This Row],[Date Issued]]>=365,365,1),3)&IF(Table13[[#This Row],[Date Retired]]-Table13[[#This Row],[Date Issued]]>=365,\" Year(s)\",\" Day(s)\")))","v":""}]
[{"$nulls":8},{"$f":"IF((IF(OR(Table13[[#This Row],[Date Issued]]=\"\",Table13[[#This Row],[Date Retired]]=\"\"),0,Table13[[#This Row],[Date Retired]]-Table13[[#This Row],[Date Issued]])/IF(Table13[[#This Row],[Date Retired]]-Table13[[#This Row],[Date Issued]]>=365,365,1))=0,\"\",(ROUND(IF(OR(Table13[[#This Row],[Date Issued]]=\"\",Table13[[#This Row],[Date Retired]]=\"\"),0,Table13[[#This Row],[Date Retired]]-Table13[[#This Row],[Date Issued]])/IF(Table13[[#This Row],[Date Retired]]-Table13[[#This Row],[Date Issued]]>=365,365,1),3)&IF(Table13[[#This Row],[Date Retired]]-Table13[[#This Row],[Date Issued]]>=365,\" Year(s)\",\" Day(s)\")))","v":""}]
[{"$nulls":8},{"$f":"IF((IF(OR(Table13[[#This Row],[Date Issued]]=\"\",Table13[[#This Row],[Date Retired]]=\"\"),0,Table13[[#This Row],[Date Retired]]-Table13[[#This Row],[Date Issued]])/IF(Table13[[#This Row],[Date Retired]]-Table13[[#This Row],[Date Issued]]>=365,365,1))=0,\"\",(ROUND(IF(OR(Table13[[#This Row],[Date Issued]]=\"\",Table13[[#This Row],[Date Retired]]=\"\"),0,Table13[[#This Row],[Date Retired]]-Table13[[#This Row],[Date Issued]])/IF(Table13[[#This Row],[Date Retired]]-Table13[[#This Row],[Date Issued]]>=365,365,1),3)&IF(Table13[[#This Row],[Date Retired]]-Table13[[#This Row],[Date Issued]]>=365,\" Year(s)\",\" Day(s)\")))","v":""}]
[{"$nulls":8},{"$f":"IF((IF(OR(Table13[[#This Row],[Date Issued]]=\"\",Table13[[#This Row],[Date Retired]]=\"\"),0,Table13[[#This Row],[Date Retired]]-Table13[[#This Row],[Date Issued]])/IF(Table13[[#This Row],[Date Retired]]-Table13[[#This Row],[Date Issued]]>=365,365,1))=0,\"\",(ROUND(IF(OR(Table13[[#This Row],[Date Issued]]=\"\",Table13[[#This Row],[Date Retired]]=\"\"),0,Table13[[#This Row],[Date Retired]]-Table13[[#This Row],[Date Issued]])/IF(Table13[[#This Row],[Date Retired]]-Table13[[#This Row],[Date Issued]]>=365,365,1),3)&IF(Table13[[#This Row],[Date Retired]]-Table13[[#This Row],[Date Issued]]>=365,\" Year(s)\",\" Day(s)\")))","v":""}]
[{"$nulls":8},{"$f":"IF((IF(OR(Table13[[#This Row],[Date Issued]]=\"\",Table13[[#This Row],[Date Retired]]=\"\"),0,Table13[[#This Row],[Date Retired]]-Table13[[#This Row],[Date Issued]])/IF(Table13[[#This Row],[Date Retired]]-Table13[[#This Row],[Date Issued]]>=365,365,1))=0,\"\",(ROUND(IF(OR(Table13[[#This Row],[Date Issued]]=\"\",Table13[[#This Row],[Date Retired]]=\"\"),0,Table13[[#This Row],[Date Retired]]-Table13[[#This Row],[Date Issued]])/IF(Table13[[#This Row],[Date Retired]]-Table13[[#This Row],[Date Issued]]>=365,365,1),3)&IF(Table13[[#This Row],[Date Retired]]-Table13[[#This Row],[Date Issued]]>=365,\" Year(s)\",\" Day(s)\")))","v":""}]
[{"$nulls":8},{"$f":"IF((IF(OR(Table13[[#This Row],[Date Issued]]=\"\",Table13[[#This Row],[Date Retired]]=\"\"),0,Table13[[#This Row],[Date Retired]]-Table13[[#This Row],[Date Issued]])/IF(Table13[[#This Row],[Date Retired]]-Table13[[#This Row],[Date Issued]]>=365,365,1))=0,\"\",(ROUND(IF(OR(Table13[[#This Row],[Date Issued]]=\"\",Table13[[#This Row],[Date Retired]]=\"\"),0,Table13[[#This Row],[Date Retired]]-Table13[[#This Row],[Date Issued]])/IF(Table13[[#This Row],[Date Retired]]-Table13[[#This Row],[Date Issued]]>=365,365,1),3)&IF(Table13[[#This Row],[Date Retired]]-Table13[[#This Row],[Date Issued]]>=365,\" Year(s)\",\" Day(s)\")))","v":""}]
[{"$nulls":8},{"$f":"IF((IF(OR(Table13[[#This Row],[Date Issued]]=\"\",Table13[[#This Row],[Date Retired]]=\"\"),0,Table13[[#This Row],[Date Retired]]-Table13[[#This Row],[Date Issued]])/IF(Table13[[#This Row],[Date Retired]]-Table13[[#This Row],[Date Issued]]>=365,365,1))=0,\"\",(ROUND(IF(OR(Table13[[#This Row],[Date Issued]]=\"\",Table13[[#This Row],[Date Retired]]=\"\"),0,Table13[[#This Row],[Date Retired]]-Table13[[#This Row],[Date Issued]])/IF(Table13[[#This Row],[Date Retired]]-Table13[[#This Row],[Date Issued]]>=365,365,1),3)&IF(Table13[[#This Row],[Date Retired]]-Table13[[#This Row],[Date Issued]]>=365,\" Year(s)\",\" Day(s)\")))","v":""}]
[{"$nulls":8},{"$f":"IF((IF(OR(Table13[[#This Row],[Date Issued]]=\"\",Table13[[#This Row],[Date Retired]]=\"\"),0,Table13[[#This Row],[Date Retired]]-Table13[[#This Row],[Date Issued]])/IF(Table13[[#This Row],[Date Retired]]-Table13[[#This Row],[Date Issued]]>=365,365,1))=0,\"\",(ROUND(IF(OR(Table13[[#This Row],[Date Issued]]=\"\",Table13[[#This Row],[Date Retired]]=\"\"),0,Table13[[#This Row],[Date Retired]]-Table13[[#This Row],[Date Issued]])/IF(Table13[[#This Row],[Date Retired]]-Table13[[#This Row],[Date Issued]]>=365,365,1),3)&IF(Table13[[#This Row],[Date Retired]]-Table13[[#This Row],[Date Issued]]>=365,\" Year(s)\",\" Day(s)\")))","v":""}]
[{"$nulls":8},{"$f":"IF((IF(OR(Table13[[#This Row],[Date Issued]]=\"\",Table13[[#This Row],[Date Retired]]=\"\"),0,Table13[[#This Row],[Date Retired]]-Table13[[#This Row],[Date Issued]])/IF(Table13[[#This Row],[Date Retired]]-Table13[[#This Row],[Date Issued]]>=365,365,1))=0,\"\",(ROUND(IF(OR(Table13[[#This Row],[Date Issued]]=\"\",Table13[[#This Row],[Date Retired]]=\"\"),0,Table13[[#This Row],[Date Retired]]-Table13[[#This Row],[Date Issued]])/IF(Table13[[#This Row],[Date Retired]]-Table13[[#This Row],[Date Issued]]>=365,365,1),3)&IF(Table13[[#This Row],[Date Retired]]-Table13[[#This Row],[Date Issued]]>=365,\" Year(s)\",\" Day(s)\")))","v":""}]
[{"$nulls":8},{"$f":"IF((IF(OR(Table13[[#This Row],[Date Issued]]=\"\",Table13[[#This Row],[Date Retired]]=\"\"),0,Table13[[#This Row],[Date Retired]]-Table13[[#This Row],[Date Issued]])/IF(Table13[[#This Row],[Date Retired]]-Table13[[#This Row],[Date Issued]]>=365,365,1))=0,\"\",(ROUND(IF(OR(Table13[[#This Row],[Date Issued]]=\"\",Table13[[#This Row],[Date Retired]]=\"\"),0,Table13[[#This Row],[Date Retired]]-Table13[[#This Row],[Date Issued]])/IF(Table13[[#This Row],[Date Retired]]-Table13[[#This Row],[Date Issued]]>=365,365,1),3)&IF(Table13[[#This Row],[Date Retired]]-Table13[[#This Row],[Date Issued]]>=365,\" Year(s)\",\" Day(s)\")))","v":""}]
[{"$nulls":8},{"$f":"IF((IF(OR(Table13[[#This Row],[Date Issued]]=\"\",Table13[[#This Row],[Date Retired]]=\"\"),0,Table13[[#This Row],[Date Retired]]-Table13[[#This Row],[Date Issued]])/IF(Table13[[#This Row],[Date Retired]]-Table13[[#This Row],[Date Issued]]>=365,365,1))=0,\"\",(ROUND(IF(OR(Table13[[#This Row],[Date Issued]]=\"\",Table13[[#This Row],[Date Retired]]=\"\"),0,Table13[[#This Row],[Date Retired]]-Table13[[#This Row],[Date Issued]])/IF(Table13[[#This Row],[Date Retired]]-Table13[[#This Row],[Date Issued]]>=365,365,1),3)&IF(Table13[[#This Row],[Date Retired]]-Table13[[#This Row],[Date Issued]]>=365,\" Year(s)\",\" Day(s)\")))","v":""}]
[{"$nulls":8},{"$f":"IF((IF(OR(Table13[[#This Row],[Date Issued]]=\"\",Table13[[#This Row],[Date Retired]]=\"\"),0,Table13[[#This Row],[Date Retired]]-Table13[[#This Row],[Date Issued]])/IF(Table13[[#This Row],[Date Retired]]-Table13[[#This Row],[Date Issued]]>=365,365,1))=0,\"\",(ROUND(IF(OR(Table13[[#This Row],[Date Issued]]=\"\",Table13[[#This Row],[Date Retired]]=\"\"),0,Table13[[#This Row],[Date Retired]]-Table13[[#This Row],[Date Issued]])/IF(Table13[[#This Row],[Date Retired]]-Table13[[#This Row],[Date Issued]]>=365,365,1),3)&IF(Table13[[#This Row],[Date Retired]]-Table13[[#This Row],[Date Issued]]>=365,\" Year(s)\",\" Day(s)\")))","v":""}]
[{"$nulls":8},{"$f":"IF((IF(OR(Table13[[#This Row],[Date Issued]]=\"\",Table13[[#This Row],[Date Retired]]=\"\"),0,Table13[[#This Row],[Date Retired]]-Table13[[#This Row],[Date Issued]])/IF(Table13[[#This Row],[Date Retired]]-Table13[[#This Row],[Date Issued]]>=365,365,1))=0,\"\",(ROUND(IF(OR(Table13[[#This Row],[Date Issued]]=\"\",Table13[[#This Row],[Date Retired]]=\"\"),0,Table13[[#This Row],[Date Retired]]-Table13[[#This Row],[Date Issued]])/IF(Table13[[#This Row],[Date Retired]]-Table13[[#This Row],[Date Issued]]>=365,365,1),3)&IF(Table13[[#This Row],[Date Retired]]-Table13[[#This Row],[Date Issued]]>=365,\" Year(s)\",\" Day(s)\")))","v":""}]
[{"$nulls":8},{"$f":"IF((IF(OR(Table13[[#This Row],[Date Issued]]=\"\",Table13[[#This Row],[Date Retired]]=\"\"),0,Table13[[#This Row],[Date Retired]]-Table13[[#This Row],[Date Issued]])/IF(Table13[[#This Row],[Date Retired]]-Table13[[#This Row],[Date Issued]]>=365,365,1))=0,\"\",(ROUND(IF(OR(Table13[[#This Row],[Date Issued]]=\"\",Table13[[#This Row],[Date Retired]]=\"\"),0,Table13[[#This Row],[Date Retired]]-Table13[[#This Row],[Date Issued]])/IF(Table13[[#This Row],[Date Retired]]-Table13[[#This Row],[Date Issued]]>=365,365,1),3)&IF(Table13[[#This Row],[Date Retired]]-Table13[[#This Row],[Date Issued]]>=365,\" Year(s)\",\" Day(s)\")))","v":""}]
[{"$nulls":8},{"$f":"IF((IF(OR(Table13[[#This Row],[Date Issued]]=\"\",Table13[[#This Row],[Date Retired]]=\"\"),0,Table13[[#This Row],[Date Retired]]-Table13[[#This Row],[Date Issued]])/IF(Table13[[#This Row],[Date Retired]]-Table13[[#This Row],[Date Issued]]>=365,365,1))=0,\"\",(ROUND(IF(OR(Table13[[#This Row],[Date Issued]]=\"\",Table13[[#This Row],[Date Retired]]=\"\"),0,Table13[[#This Row],[Date Retired]]-Table13[[#This Row],[Date Issued]])/IF(Table13[[#This Row],[Date Retired]]-Table13[[#This Row],[Date Issued]]>=365,365,1),3)&IF(Table13[[#This Row],[Date Retired]]-Table13[[#This Row],[Date Issued]]>=365,\" Year(s)\",\" Day(s)\")))","v":""}]
[{"$nulls":8},{"$f":"IF((IF(OR(Table13[[#This Row],[Date Issued]]=\"\",Table13[[#This Row],[Date Retired]]=\"\"),0,Table13[[#This Row],[Date Retired]]-Table13[[#This Row],[Date Issued]])/IF(Table13[[#This Row],[Date Retired]]-Table13[[#This Row],[Date Issued]]>=365,365,1))=0,\"\",(ROUND(IF(OR(Table13[[#This Row],[Date Issued]]=\"\",Table13[[#This Row],[Date Retired]]=\"\"),0,Table13[[#This Row],[Date Retired]]-Table13[[#This Row],[Date Issued]])/IF(Table13[[#This Row],[Date Retired]]-Table13[[#This Row],[Date Issued]]>=365,365,1),3)&IF(Table13[[#This Row],[Date Retired]]-Table13[[#This Row],[Date Issued]]>=365,\" Year(s)\",\" Day(s)\")))","v":""}]
[{"$nulls":8},{"$f":"IF((IF(OR(Table13[[#This Row],[Date Issued]]=\"\",Table13[[#This Row],[Date Retired]]=\"\"),0,Table13[[#This Row],[Date Retired]]-Table13[[#This Row],[Date Issued]])/IF(Table13[[#This Row],[Date Retired]]-Table13[[#This Row],[Date Issued]]>=365,365,1))=0,\"\",(ROUND(IF(OR(Table13[[#This Row],[Date Issued]]=\"\",Table13[[#This Row],[Date Retired]]=\"\"),0,Table13[[#This Row],[Date Retired]]-Table13[[#This Row],[Date Issued]])/IF(Table13[[#This Row],[Date Retired]]-Table13[[#This Row],[Date Issued]]>=365,365,1),3)&IF(Table13[[#This Row],[Date Retired]]-Table13[[#This Row],[Date Issued]]>=365,\" Year(s)\",\" Day(s)\")))","v":""}]
[{"$nulls":8},{"$f":"IF((IF(OR(Table13[[#This Row],[Date Issued]]=\"\",Table13[[#This Row],[Date Retired]]=\"\"),0,Table13[[#This Row],[Date Retired]]-Table13[[#This Row],[Date Issued]])/IF(Table13[[#This Row],[Date Retired]]-Table13[[#This Row],[Date Issued]]>=365,365,1))=0,\"\",(ROUND(IF(OR(Table13[[#This Row],[Date Issued]]=\"\",Table13[[#This Row],[Date Retired]]=\"\"),0,Table13[[#This Row],[Date Retired]]-Table13[[#This Row],[Date Issued]])/IF(Table13[[#This Row],[Date Retired]]-Table13[[#This Row],[Date Issued]]>=365,365,1),3)&IF(Table13[[#This Row],[Date Retired]]-Table13[[#This Row],[Date Issued]]>=365,\" Year(s)\",\" Day(s)\")))","v":""}]
[{"$nulls":8},{"$f":"IF((IF(OR(Table13[[#This Row],[Date Issued]]=\"\",Table13[[#This Row],[Date Retired]]=\"\"),0,Table13[[#This Row],[Date Retired]]-Table13[[#This Row],[Date Issued]])/IF(Table13[[#This Row],[Date Retired]]-Table13[[#This Row],[Date Issued]]>=365,365,1))=0,\"\",(ROUND(IF(OR(Table13[[#This Row],[Date Issued]]=\"\",Table13[[#This Row],[Date Retired]]=\"\"),0,Table13[[#This Row],[Date Retired]]-Table13[[#This Row],[Date Issued]])/IF(Table13[[#This Row],[Date Retired]]-Table13[[#This Row],[Date Issued]]>=365,365,1),3)&IF(Table13[[#This Row],[Date Retired]]-Table13[[#This Row],[Date Issued]]>=365,\" Year(s)\",\" Day(s)\")))","v":""}]
[{"$nulls":8},{"$f":"IF((IF(OR(Table13[[#This Row],[Date Issued]]=\"\",Table13[[#This Row],[Date Retired]]=\"\"),0,Table13[[#This Row],[Date Retired]]-Table13[[#This Row],[Date Issued]])/IF(Table13[[#This Row],[Date Retired]]-Table13[[#This Row],[Date Issued]]>=365,365,1))=0,\"\",(ROUND(IF(OR(Table13[[#This Row],[Date Issued]]=\"\",Table13[[#This Row],[Date Retired]]=\"\"),0,Table13[[#This Row],[Date Retired]]-Table13[[#This Row],[Date Issued]])/IF(Table13[[#This Row],[Date Retired]]-Table13[[#This Row],[Date Issued]]>=365,365,1),3)&IF(Table13[[#This Row],[Date Retired]]-Table13[[#This Row],[Date Issued]]>=365,\" Year(s)\",\" Day(s)\")))","v":""}]
[{"$nulls":8},{"$f":"IF((IF(OR(Table13[[#This Row],[Date Issued]]=\"\",Table13[[#This Row],[Date Retired]]=\"\"),0,Table13[[#This Row],[Date Retired]]-Table13[[#This Row],[Date Issued]])/IF(Table13[[#This Row],[Date Retired]]-Table13[[#This Row],[Date Issued]]>=365,365,1))=0,\"\",(ROUND(IF(OR(Table13[[#This Row],[Date Issued]]=\"\",Table13[[#This Row],[Date Retired]]=\"\"),0,Table13[[#This Row],[Date Retired]]-Table13[[#This Row],[Date Issued]])/IF(Table13[[#This Row],[Date Retired]]-Table13[[#This Row],[Date Issued]]>=365,365,1),3)&IF(Table13[[#This Row],[Date Retired]]-Table13[[#This Row],[Date Issued]]>=365,\" Year(s)\",\" Day(s)\")))","v":""}]
[{"$nulls":8},{"$f":"IF((IF(OR(Table13[[#This Row],[Date Issued]]=\"\",Table13[[#This Row],[Date Retired]]=\"\"),0,Table13[[#This Row],[Date Retired]]-Table13[[#This Row],[Date Issued]])/IF(Table13[[#This Row],[Date Retired]]-Table13[[#This Row],[Date Issued]]>=365,365,1))=0,\"\",(ROUND(IF(OR(Table13[[#This Row],[Date Issued]]=\"\",Table13[[#This Row],[Date Retired]]=\"\"),0,Table13[[#This Row],[Date Retired]]-Table13[[#This Row],[Date Issued]])/IF(Table13[[#This Row],[Date Retired]]-Table13[[#This Row],[Date Issued]]>=365,365,1),3)&IF(Table13[[#This Row],[Date Retired]]-Table13[[#This Row],[Date Issued]]>=365,\" Year(s)\",\" Day(s)\")))","v":""}]
[{"$nulls":8},{"$f":"IF((IF(OR(Table13[[#This Row],[Date Issued]]=\"\",Table13[[#This Row],[Date Retired]]=\"\"),0,Table13[[#This Row],[Date Retired]]-Table13[[#This Row],[Date Issued]])/IF(Table13[[#This Row],[Date Retired]]-Table13[[#This Row],[Date Issued]]>=365,365,1))=0,\"\",(ROUND(IF(OR(Table13[[#This Row],[Date Issued]]=\"\",Table13[[#This Row],[Date Retired]]=\"\"),0,Table13[[#This Row],[Date Retired]]-Table13[[#This Row],[Date Issued]])/IF(Table13[[#This Row],[Date Retired]]-Table13[[#This Row],[Date Issued]]>=365,365,1),3)&IF(Table13[[#This Row],[Date Retired]]-Table13[[#This Row],[Date Issued]]>=365,\" Year(s)\",\" Day(s)\")))","v":""}]
[{"$nulls":8},{"$f":"IF((IF(OR(Table13[[#This Row],[Date Issued]]=\"\",Table13[[#This Row],[Date Retired]]=\"\"),0,Table13[[#This Row],[Date Retired]]-Table13[[#This Row],[Date Issued]])/IF(Table13[[#This Row],[Date Retired]]-Table13[[#This Row],[Date Issued]]>=365,365,1))=0,\"\",(ROUND(IF(OR(Table13[[#This Row],[Date Issued]]=\"\",Table13[[#This Row],[Date Retired]]=\"\"),0,Table13[[#This Row],[Date Retired]]-Table13[[#This Row],[Date Issued]])/IF(Table13[[#This Row],[Date Retired]]-Table13[[#This Row],[Date Issued]]>=365,365,1),3)&IF(Table13[[#This Row],[Date Retired]]-Table13[[#This Row],[Date Issued]]>=365,\" Year(s)\",\" Day(s)\")))","v":""}]
[{"$nulls":8},{"$f":"IF((IF(OR(Table13[[#This Row],[Date Issued]]=\"\",Table13[[#This Row],[Date Retired]]=\"\"),0,Table13[[#This Row],[Date Retired]]-Table13[[#This Row],[Date Issued]])/IF(Table13[[#This Row],[Date Retired]]-Table13[[#This Row],[Date Issued]]>=365,365,1))=0,\"\",(ROUND(IF(OR(Table13[[#This Row],[Date Issued]]=\"\",Table13[[#This Row],[Date Retired]]=\"\"),0,Table13[[#This Row],[Date Retired]]-Table13[[#This Row],[Date Issued]])/IF(Table13[[#This Row],[Date Retired]]-Table13[[#This Row],[Date Issued]]>=365,365,1),3)&IF(Table13[[#This Row],[Date Retired]]-Table13[[#This Row],[Date Issued]]>=365,\" Year(s)\",\" Day(s)\")))","v":""}]
[{"$nulls":8},{"$f":"IF((IF(OR(Table13[[#This Row],[Date Issued]]=\"\",Table13[[#This Row],[Date Retired]]=\"\"),0,Table13[[#This Row],[Date Retired]]-Table13[[#This Row],[Date Issued]])/IF(Table13[[#This Row],[Date Retired]]-Table13[[#This Row],[Date Issued]]>=365,365,1))=0,\"\",(ROUND(IF(OR(Table13[[#This Row],[Date Issued]]=\"\",Table13[[#This Row],[Date Retired]]=\"\"),0,Table13[[#This Row],[Date Retired]]-Table13[[#This Row],[Date Issued]])/IF(Table13[[#This Row],[Date Retired]]-Table13[[#This Row],[Date Issued]]>=365,365,1),3)&IF(Table13[[#This Row],[Date Retired]]-Table13[[#This Row],[Date Issued]]>=365,\" Year(s)\",\" Day(s)\")))","v":""}]
[{"$nulls":8},{"$f":"IF((IF(OR(Table13[[#This Row],[Date Issued]]=\"\",Table13[[#This Row],[Date Retired]]=\"\"),0,Table13[[#This Row],[Date Retired]]-Table13[[#This Row],[Date Issued]])/IF(Table13[[#This Row],[Date Retired]]-Table13[[#This Row],[Date Issued]]>=365,365,1))=0,\"\",(ROUND(IF(OR(Table13[[#This Row],[Date Issued]]=\"\",Table13[[#This Row],[Date Retired]]=\"\"),0,Table13[[#This Row],[Date Retired]]-Table13[[#This Row],[Date Issued]])/IF(Table13[[#This Row],[Date Retired]]-Table13[[#This Row],[Date Issued]]>=365,365,1),3)&IF(Table13[[#This Row],[Date Retired]]-Table13[[#This Row],[Date Issued]]>=365,\" Year(s)\",\" Day(s)\")))","v":""}]
[{"$nulls":8},{"$f":"IF((IF(OR(Table13[[#This Row],[Date Issued]]=\"\",Table13[[#This Row],[Date Retired]]=\"\"),0,Table13[[#This Row],[Date Retired]]-Table13[[#This Row],[Date Issued]])/IF(Table13[[#This Row],[Date Retired]]-Table13[[#This Row],[Date Issued]]>=365,365,1))=0,\"\",(ROUND(IF(OR(Table13[[#This Row],[Date Issued]]=\"\",Table13[[#This Row],[Date Retired]]=\"\"),0,Table13[[#This Row],[Date Retired]]-Table13[[#This Row],[Date Issued]])/IF(Table13[[#This Row],[Date Retired]]-Table13[[#This Row],[Date Issued]]>=365,365,1),3)&IF(Table13[[#This Row],[Date Retired]]-Table13[[#This Row],[Date Issued]]>=365,\" Year(s)\",\" Day(s)\")))","v":""}]
[{"$nulls":8},{"$f":"IF((IF(OR(Table13[[#This Row],[Date Issued]]=\"\",Table13[[#This Row],[Date Retired]]=\"\"),0,Table13[[#This Row],[Date Retired]]-Table13[[#This Row],[Date Issued]])/IF(Table13[[#This Row],[Date Retired]]-Table13[[#This Row],[Date Issued]]>=365,365,1))=0,\"\",(ROUND(IF(OR(Table13[[#This Row],[Date Issued]]=\"\",Table13[[#This Row],[Date Retired]]=\"\"),0,Table13[[#This Row],[Date Retired]]-Table13[[#This Row],[Date Issued]])/IF(Table13[[#This Row],[Date Retired]]-Table13[[#This Row],[Date Issued]]>=365,365,1),3)&IF(Table13[[#This Row],[Date Retired]]-Table13[[#This Row],[Date Issued]]>=365,\" Year(s)\",\" Day(s)\")))","v":""}]
[{"$nulls":8},{"$f":"IF((IF(OR(Table13[[#This Row],[Date Issued]]=\"\",Table13[[#This Row],[Date Retired]]=\"\"),0,Table13[[#This Row],[Date Retired]]-Table13[[#This Row],[Date Issued]])/IF(Table13[[#This Row],[Date Retired]]-Table13[[#This Row],[Date Issued]]>=365,365,1))=0,\"\",(ROUND(IF(OR(Table13[[#This Row],[Date Issued]]=\"\",Table13[[#This Row],[Date Retired]]=\"\"),0,Table13[[#This Row],[Date Retired]]-Table13[[#This Row],[Date Issued]])/IF(Table13[[#This Row],[Date Retired]]-Table13[[#This Row],[Date Issued]]>=365,365,1),3)&IF(Table13[[#This Row],[Date Retired]]-Table13[[#This Row],[Date Issued]]>=365,\" Year(s)\",\" Day(s)\")))","v":""}]
[{"$nulls":8},{"$f":"IF((IF(OR(Table13[[#This Row],[Date Issued]]=\"\",Table13[[#This Row],[Date Retired]]=\"\"),0,Table13[[#This Row],[Date Retired]]-Table13[[#This Row],[Date Issued]])/IF(Table13[[#This Row],[Date Retired]]-Table13[[#This Row],[Date Issued]]>=365,365,1))=0,\"\",(ROUND(IF(OR(Table13[[#This Row],[Date Issued]]=\"\",Table13[[#This Row],[Date Retired]]=\"\"),0,Table13[[#This Row],[Date Retired]]-Table13[[#This Row],[Date Issued]])/IF(Table13[[#This Row],[Date Retired]]-Table13[[#This Row],[Date Issued]]>=365,365,1),3)&IF(Table13[[#This Row],[Date Retired]]-Table13[[#This Row],[Date Issued]]>=365,\" Year(s)\",\" Day(s)\")))","v":""}]
[{"$nulls":8},{"$f":"IF((IF(OR(Table13[[#This Row],[Date Issued]]=\"\",Table13[[#This Row],[Date Retired]]=\"\"),0,Table13[[#This Row],[Date Retired]]-Table13[[#This Row],[Date Issued]])/IF(Table13[[#This Row],[Date Retired]]-Table13[[#This Row],[Date Issued]]>=365,365,1))=0,\"\",(ROUND(IF(OR(Table13[[#This Row],[Date Issued]]=\"\",Table13[[#This Row],[Date Retired]]=\"\"),0,Table13[[#This Row],[Date Retired]]-Table13[[#This Row],[Date Issued]])/IF(Table13[[#This Row],[Date Retired]]-Table13[[#This Row],[Date Issued]]>=365,365,1),3)&IF(Table13[[#This Row],[Date Retired]]-Table13[[#This Row],[Date Issued]]>=365,\" Year(s)\",\" Day(s)\")))","v":""}]
[{"$nulls":8},{"$f":"IF((IF(OR(Table13[[#This Row],[Date Issued]]=\"\",Table13[[#This Row],[Date Retired]]=\"\"),0,Table13[[#This Row],[Date Retired]]-Table13[[#This Row],[Date Issued]])/IF(Table13[[#This Row],[Date Retired]]-Table13[[#This Row],[Date Issued]]>=365,365,1))=0,\"\",(ROUND(IF(OR(Table13[[#This Row],[Date Issued]]=\"\",Table13[[#This Row],[Date Retired]]=\"\"),0,Table13[[#This Row],[Date Retired]]-Table13[[#This Row],[Date Issued]])/IF(Table13[[#This Row],[Date Retired]]-Table13[[#This Row],[Date Issued]]>=365,365,1),3)&IF(Table13[[#This Row],[Date Retired]]-Table13[[#This Row],[Date Issued]]>=365,\" Year(s)\",\" Day(s)\")))","v":""}]
[{"$nulls":8},{"$f":"IF((IF(OR(Table13[[#This Row],[Date Issued]]=\"\",Table13[[#This Row],[Date Retired]]=\"\"),0,Table13[[#This Row],[Date Retired]]-Table13[[#This Row],[Date Issued]])/IF(Table13[[#This Row],[Date Retired]]-Table13[[#This Row],[Date Issued]]>=365,365,1))=0,\"\",(ROUND(IF(OR(Table13[[#This Row],[Date Issued]]=\"\",Table13[[#This Row],[Date Retired]]=\"\"),0,Table13[[#This Row],[Date Retired]]-Table13[[#This Row],[Date Issued]])/IF(Table13[[#This Row],[Date Retired]]-Table13[[#This Row],[Date Issued]]>=365,365,1),3)&IF(Table13[[#This Row],[Date Retired]]-Table13[[#This Row],[Date Issued]]>=365,\" Year(s)\",\" Day(s)\")))","v":""}]
[{"$nulls":8},{"$f":"IF((IF(OR(Table13[[#This Row],[Date Issued]]=\"\",Table13[[#This Row],[Date Retired]]=\"\"),0,Table13[[#This Row],[Date Retired]]-Table13[[#This Row],[Date Issued]])/IF(Table13[[#This Row],[Date Retired]]-Table13[[#This Row],[Date Issued]]>=365,365,1))=0,\"\",(ROUND(IF(OR(Table13[[#This Row],[Date Issued]]=\"\",Table13[[#This Row],[Date Retired]]=\"\"),0,Table13[[#This Row],[Date Retired]]-Table13[[#This Row],[Date Issued]])/IF(Table13[[#This Row],[Date Retired]]-Table13[[#This Row],[Date Issued]]>=365,365,1),3)&IF(Table13[[#This Row],[Date Retired]]-Table13[[#This Row],[Date Issued]]>=365,\" Year(s)\",\" Day(s)\")))","v":""}]
[{"$nulls":8},{"$f":"IF((IF(OR(Table13[[#This Row],[Date Issued]]=\"\",Table13[[#This Row],[Date Retired]]=\"\"),0,Table13[[#This Row],[Date Retired]]-Table13[[#This Row],[Date Issued]])/IF(Table13[[#This Row],[Date Retired]]-Table13[[#This Row],[Date Issued]]>=365,365,1))=0,\"\",(ROUND(IF(OR(Table13[[#This Row],[Date Issued]]=\"\",Table13[[#This Row],[Date Retired]]=\"\"),0,Table13[[#This Row],[Date Retired]]-Table13[[#This Row],[Date Issued]])/IF(Table13[[#This Row],[Date Retired]]-Table13[[#This Row],[Date Issued]]>=365,365,1),3)&IF(Table13[[#This Row],[Date Retired]]-Table13[[#This Row],[Date Issued]]>=365,\" Year(s)\",\" Day(s)\")))","v":""}]
[{"$nulls":8},{"$f":"IF((IF(OR(Table13[[#This Row],[Date Issued]]=\"\",Table13[[#This Row],[Date Retired]]=\"\"),0,Table13[[#This Row],[Date Retired]]-Table13[[#This Row],[Date Issued]])/IF(Table13[[#This Row],[Date Retired]]-Table13[[#This Row],[Date Issued]]>=365,365,1))=0,\"\",(ROUND(IF(OR(Table13[[#This Row],[Date Issued]]=\"\",Table13[[#This Row],[Date Retired]]=\"\"),0,Table13[[#This Row],[Date Retired]]-Table13[[#This Row],[Date Issued]])/IF(Table13[[#This Row],[Date Retired]]-Table13[[#This Row],[Date Issued]]>=365,365,1),3)&IF(Table13[[#This Row],[Date Retired]]-Table13[[#This Row],[Date Issued]]>=365,\" Year(s)\",\" Day(s)\")))","v":""}]
[{"$nulls":8},{"$f":"IF((IF(OR(Table13[[#This Row],[Date Issued]]=\"\",Table13[[#This Row],[Date Retired]]=\"\"),0,Table13[[#This Row],[Date Retired]]-Table13[[#This Row],[Date Issued]])/IF(Table13[[#This Row],[Date Retired]]-Table13[[#This Row],[Date Issued]]>=365,365,1))=0,\"\",(ROUND(IF(OR(Table13[[#This Row],[Date Issued]]=\"\",Table13[[#This Row],[Date Retired]]=\"\"),0,Table13[[#This Row],[Date Retired]]-Table13[[#This Row],[Date Issued]])/IF(Table13[[#This Row],[Date Retired]]-Table13[[#This Row],[Date Issued]]>=365,365,1),3)&IF(Table13[[#This Row],[Date Retired]]-Table13[[#This Row],[Date Issued]]>=365,\" Year(s)\",\" Day(s)\")))","v":""}]
[{"$nulls":8},{"$f":"IF((IF(OR(Table13[[#This Row],[Date Issued]]=\"\",Table13[[#This Row],[Date Retired]]=\"\"),0,Table13[[#This Row],[Date Retired]]-Table13[[#This Row],[Date Issued]])/IF(Table13[[#This Row],[Date Retired]]-Table13[[#This Row],[Date Issued]]>=365,365,1))=0,\"\",(ROUND(IF(OR(Table13[[#This Row],[Date Issued]]=\"\",Table13[[#This Row],[Date Retired]]=\"\"),0,Table13[[#This Row],[Date Retired]]-Table13[[#This Row],[Date Issued]])/IF(Table13[[#This Row],[Date Retired]]-Table13[[#This Row],[Date Issued]]>=365,365,1),3)&IF(Table13[[#This Row],[Date Retired]]-Table13[[#This Row],[Date Issued]]>=365,\" Year(s)\",\" Day(s)\")))","v":""}]
[{"$nulls":8},{"$f":"IF((IF(OR(Table13[[#This Row],[Date Issued]]=\"\",Table13[[#This Row],[Date Retired]]=\"\"),0,Table13[[#This Row],[Date Retired]]-Table13[[#This Row],[Date Issued]])/IF(Table13[[#This Row],[Date Retired]]-Table13[[#This Row],[Date Issued]]>=365,365,1))=0,\"\",(ROUND(IF(OR(Table13[[#This Row],[Date Issued]]=\"\",Table13[[#This Row],[Date Retired]]=\"\"),0,Table13[[#This Row],[Date Retired]]-Table13[[#This Row],[Date Issued]])/IF(Table13[[#This Row],[Date Retired]]-Table13[[#This Row],[Date Issued]]>=365,365,1),3)&IF(Table13[[#This Row],[Date Retired]]-Table13[[#This Row],[Date Issued]]>=365,\" Year(s)\",\" Day(s)\")))","v":""}]
[{"$nulls":8},{"$f":"IF((IF(OR(Table13[[#This Row],[Date Issued]]=\"\",Table13[[#This Row],[Date Retired]]=\"\"),0,Table13[[#This Row],[Date Retired]]-Table13[[#This Row],[Date Issued]])/IF(Table13[[#This Row],[Date Retired]]-Table13[[#This Row],[Date Issued]]>=365,365,1))=0,\"\",(ROUND(IF(OR(Table13[[#This Row],[Date Issued]]=\"\",Table13[[#This Row],[Date Retired]]=\"\"),0,Table13[[#This Row],[Date Retired]]-Table13[[#This Row],[Date Issued]])/IF(Table13[[#This Row],[Date Retired]]-Table13[[#This Row],[Date Issued]]>=365,365,1),3)&IF(Table13[[#This Row],[Date Retired]]-Table13[[#This Row],[Date Issued]]>=365,\" Year(s)\",\" Day(s)\")))","v":""}]
[{"$nulls":8},{"$f":"IF((IF(OR(Table13[[#This Row],[Date Issued]]=\"\",Table13[[#This Row],[Date Retired]]=\"\"),0,Table13[[#This Row],[Date Retired]]-Table13[[#This Row],[Date Issued]])/IF(Table13[[#This Row],[Date Retired]]-Table13[[#This Row],[Date Issued]]>=365,365,1))=0,\"\",(ROUND(IF(OR(Table13[[#This Row],[Date Issued]]=\"\",Table13[[#This Row],[Date Retired]]=\"\"),0,Table13[[#This Row],[Date Retired]]-Table13[[#This Row],[Date Issued]])/IF(Table13[[#This Row],[Date Retired]]-Table13[[#This Row],[Date Issued]]>=365,365,1),3)&IF(Table13[[#This Row],[Date Retired]]-Table13[[#This Row],[Date Issued]]>=365,\" Year(s)\",\" Day(s)\")))","v":""}]
[{"$nulls":8},{"$f":"IF((IF(OR(Table13[[#This Row],[Date Issued]]=\"\",Table13[[#This Row],[Date Retired]]=\"\"),0,Table13[[#This Row],[Date Retired]]-Table13[[#This Row],[Date Issued]])/IF(Table13[[#This Row],[Date Retired]]-Table13[[#This Row],[Date Issued]]>=365,365,1))=0,\"\",(ROUND(IF(OR(Table13[[#This Row],[Date Issued]]=\"\",Table13[[#This Row],[Date Retired]]=\"\"),0,Table13[[#This Row],[Date Retired]]-Table13[[#This Row],[Date Issued]])/IF(Table13[[#This Row],[Date Retired]]-Table13[[#This Row],[Date Issued]]>=365,365,1),3)&IF(Table13[[#This Row],[Date Retired]]-Table13[[#This Row],[Date Issued]]>=365,\" Year(s)\",\" Day(s)\")))","v":""}]
[{"$nulls":8},{"$f":"IF((IF(OR(Table13[[#This Row],[Date Issued]]=\"\",Table13[[#This Row],[Date Retired]]=\"\"),0,Table13[[#This Row],[Date Retired]]-Table13[[#This Row],[Date Issued]])/IF(Table13[[#This Row],[Date Retired]]-Table13[[#This Row],[Date Issued]]>=365,365,1))=0,\"\",(ROUND(IF(OR(Table13[[#This Row],[Date Issued]]=\"\",Table13[[#This Row],[Date Retired]]=\"\"),0,Table13[[#This Row],[Date Retired]]-Table13[[#This Row],[Date Issued]])/IF(Table13[[#This Row],[Date Retired]]-Table13[[#This Row],[Date Issued]]>=365,365,1),3)&IF(Table13[[#This Row],[Date Retired]]-Table13[[#This Row],[Date Issued]]>=365,\" Year(s)\",\" Day(s)\")))","v":""}]
[{"$nulls":8},{"$f":"IF((IF(OR(Table13[[#This Row],[Date Issued]]=\"\",Table13[[#This Row],[Date Retired]]=\"\"),0,Table13[[#This Row],[Date Retired]]-Table13[[#This Row],[Date Issued]])/IF(Table13[[#This Row],[Date Retired]]-Table13[[#This Row],[Date Issued]]>=365,365,1))=0,\"\",(ROUND(IF(OR(Table13[[#This Row],[Date Issued]]=\"\",Table13[[#This Row],[Date Retired]]=\"\"),0,Table13[[#This Row],[Date Retired]]-Table13[[#This Row],[Date Issued]])/IF(Table13[[#This Row],[Date Retired]]-Table13[[#This Row],[Date Issued]]>=365,365,1),3)&IF(Table13[[#This Row],[Date Retired]]-Table13[[#This Row],[Date Issued]]>=365,\" Year(s)\",\" Day(s)\")))","v":""}]
[{"$nulls":8},{"$f":"IF((IF(OR(Table13[[#This Row],[Date Issued]]=\"\",Table13[[#This Row],[Date Retired]]=\"\"),0,Table13[[#This Row],[Date Retired]]-Table13[[#This Row],[Date Issued]])/IF(Table13[[#This Row],[Date Retired]]-Table13[[#This Row],[Date Issued]]>=365,365,1))=0,\"\",(ROUND(IF(OR(Table13[[#This Row],[Date Issued]]=\"\",Table13[[#This Row],[Date Retired]]=\"\"),0,Table13[[#This Row],[Date Retired]]-Table13[[#This Row],[Date Issued]])/IF(Table13[[#This Row],[Date Retired]]-Table13[[#This Row],[Date Issued]]>=365,365,1),3)&IF(Table13[[#This Row],[Date Retired]]-Table13[[#This Row],[Date Issued]]>=365,\" Year(s)\",\" Day(s)\")))","v":""}]
[{"$nulls":8},{"$f":"IF((IF(OR(Table13[[#This Row],[Date Issued]]=\"\",Table13[[#This Row],[Date Retired]]=\"\"),0,Table13[[#This Row],[Date Retired]]-Table13[[#This Row],[Date Issued]])/IF(Table13[[#This Row],[Date Retired]]-Table13[[#This Row],[Date Issued]]>=365,365,1))=0,\"\",(ROUND(IF(OR(Table13[[#This Row],[Date Issued]]=\"\",Table13[[#This Row],[Date Retired]]=\"\"),0,Table13[[#This Row],[Date Retired]]-Table13[[#This Row],[Date Issued]])/IF(Table13[[#This Row],[Date Retired]]-Table13[[#This Row],[Date Issued]]>=365,365,1),3)&IF(Table13[[#This Row],[Date Retired]]-Table13[[#This Row],[Date Issued]]>=365,\" Year(s)\",\" Day(s)\")))","v":""}]
[{"$nulls":8},{"$f":"IF((IF(OR(Table13[[#This Row],[Date Issued]]=\"\",Table13[[#This Row],[Date Retired]]=\"\"),0,Table13[[#This Row],[Date Retired]]-Table13[[#This Row],[Date Issued]])/IF(Table13[[#This Row],[Date Retired]]-Table13[[#This Row],[Date Issued]]>=365,365,1))=0,\"\",(ROUND(IF(OR(Table13[[#This Row],[Date Issued]]=\"\",Table13[[#This Row],[Date Retired]]=\"\"),0,Table13[[#This Row],[Date Retired]]-Table13[[#This Row],[Date Issued]])/IF(Table13[[#This Row],[Date Retired]]-Table13[[#This Row],[Date Issued]]>=365,365,1),3)&IF(Table13[[#This Row],[Date Retired]]-Table13[[#This Row],[Date Issued]]>=365,\" Year(s)\",\" Day(s)\")))","v":""}]
[{"$nulls":8},{"$f":"IF((IF(OR(Table13[[#This Row],[Date Issued]]=\"\",Table13[[#This Row],[Date Retired]]=\"\"),0,Table13[[#This Row],[Date Retired]]-Table13[[#This Row],[Date Issued]])/IF(Table13[[#This Row],[Date Retired]]-Table13[[#This Row],[Date Issued]]>=365,365,1))=0,\"\",(ROUND(IF(OR(Table13[[#This Row],[Date Issued]]=\"\",Table13[[#This Row],[Date Retired]]=\"\"),0,Table13[[#This Row],[Date Retired]]-Table13[[#This Row],[Date Issued]])/IF(Table13[[#This Row],[Date Retired]]-Table13[[#This Row],[Date Issued]]>=365,365,1),3)&IF(Table13[[#This Row],[Date Retired]]-Table13[[#This Row],[Date Issued]]>=365,\" Year(s)\",\" Day(s)\")))","v":""}]
[{"$nulls":8},{"$f":"IF((IF(OR(Table13[[#This Row],[Date Issued]]=\"\",Table13[[#This Row],[Date Retired]]=\"\"),0,Table13[[#This Row],[Date Retired]]-Table13[[#This Row],[Date Issued]])/IF(Table13[[#This Row],[Date Retired]]-Table13[[#This Row],[Date Issued]]>=365,365,1))=0,\"\",(ROUND(IF(OR(Table13[[#This Row],[Date Issued]]=\"\",Table13[[#This Row],[Date Retired]]=\"\"),0,Table13[[#This Row],[Date Retired]]-Table13[[#This Row],[Date Issued]])/IF(Table13[[#This Row],[Date Retired]]-Table13[[#This Row],[Date Issued]]>=365,365,1),3)&IF(Table13[[#This Row],[Date Retired]]-Table13[[#This Row],[Date Issued]]>=365,\" Year(s)\",\" Day(s)\")))","v":""}]
[{"$nulls":8},{"$f":"IF((IF(OR(Table13[[#This Row],[Date Issued]]=\"\",Table13[[#This Row],[Date Retired]]=\"\"),0,Table13[[#This Row],[Date Retired]]-Table13[[#This Row],[Date Issued]])/IF(Table13[[#This Row],[Date Retired]]-Table13[[#This Row],[Date Issued]]>=365,365,1))=0,\"\",(ROUND(IF(OR(Table13[[#This Row],[Date Issued]]=\"\",Table13[[#This Row],[Date Retired]]=\"\"),0,Table13[[#This Row],[Date Retired]]-Table13[[#This Row],[Date Issued]])/IF(Table13[[#This Row],[Date Retired]]-Table13[[#This Row],[Date Issued]]>=365,365,1),3)&IF(Table13[[#This Row],[Date Retired]]-Table13[[#This Row],[Date Issued]]>=365,\" Year(s)\",\" Day(s)\")))","v":""}]
[{"$nulls":8},{"$f":"IF((IF(OR(Table13[[#This Row],[Date Issued]]=\"\",Table13[[#This Row],[Date Retired]]=\"\"),0,Table13[[#This Row],[Date Retired]]-Table13[[#This Row],[Date Issued]])/IF(Table13[[#This Row],[Date Retired]]-Table13[[#This Row],[Date Issued]]>=365,365,1))=0,\"\",(ROUND(IF(OR(Table13[[#This Row],[Date Issued]]=\"\",Table13[[#This Row],[Date Retired]]=\"\"),0,Table13[[#This Row],[Date Retired]]-Table13[[#This Row],[Date Issued]])/IF(Table13[[#This Row],[Date Retired]]-Table13[[#This Row],[Date Issued]]>=365,365,1),3)&IF(Table13[[#This Row],[Date Retired]]-Table13[[#This Row],[Date Issued]]>=365,\" Year(s)\",\" Day(s)\")))","v":""}]
[{"$nulls":8},{"$f":"IF((IF(OR(Table13[[#This Row],[Date Issued]]=\"\",Table13[[#This Row],[Date Retired]]=\"\"),0,Table13[[#This Row],[Date Retired]]-Table13[[#This Row],[Date Issued]])/IF(Table13[[#This Row],[Date Retired]]-Table13[[#This Row],[Date Issued]]>=365,365,1))=0,\"\",(ROUND(IF(OR(Table13[[#This Row],[Date Issued]]=\"\",Table13[[#This Row],[Date Retired]]=\"\"),0,Table13[[#This Row],[Date Retired]]-Table13[[#This Row],[Date Issued]])/IF(Table13[[#This Row],[Date Retired]]-Table13[[#This Row],[Date Issued]]>=365,365,1),3)&IF(Table13[[#This Row],[Date Retired]]-Table13[[#This Row],[Date Issued]]>=365,\" Year(s)\",\" Day(s)\")))","v":""}]
[{"$nulls":8},{"$f":"IF((IF(OR(Table13[[#This Row],[Date Issued]]=\"\",Table13[[#This Row],[Date Retired]]=\"\"),0,Table13[[#This Row],[Date Retired]]-Table13[[#This Row],[Date Issued]])/IF(Table13[[#This Row],[Date Retired]]-Table13[[#This Row],[Date Issued]]>=365,365,1))=0,\"\",(ROUND(IF(OR(Table13[[#This Row],[Date Issued]]=\"\",Table13[[#This Row],[Date Retired]]=\"\"),0,Table13[[#This Row],[Date Retired]]-Table13[[#This Row],[Date Issued]])/IF(Table13[[#This Row],[Date Retired]]-Table13[[#This Row],[Date Issued]]>=365,365,1),3)&IF(Table13[[#This Row],[Date Retired]]-Table13[[#This Row],[Date Issued]]>=365,\" Year(s)\",\" Day(s)\")))","v":""}]
[{"$nulls":8},{"$f":"IF((IF(OR(Table13[[#This Row],[Date Issued]]=\"\",Table13[[#This Row],[Date Retired]]=\"\"),0,Table13[[#This Row],[Date Retired]]-Table13[[#This Row],[Date Issued]])/IF(Table13[[#This Row],[Date Retired]]-Table13[[#This Row],[Date Issued]]>=365,365,1))=0,\"\",(ROUND(IF(OR(Table13[[#This Row],[Date Issued]]=\"\",Table13[[#This Row],[Date Retired]]=\"\"),0,Table13[[#This Row],[Date Retired]]-Table13[[#This Row],[Date Issued]])/IF(Table13[[#This Row],[Date Retired]]-Table13[[#This Row],[Date Issued]]>=365,365,1),3)&IF(Table13[[#This Row],[Date Retired]]-Table13[[#This Row],[Date Issued]]>=365,\" Year(s)\",\" Day(s)\")))","v":""}]
[{"$nulls":8},{"$f":"IF((IF(OR(Table13[[#This Row],[Date Issued]]=\"\",Table13[[#This Row],[Date Retired]]=\"\"),0,Table13[[#This Row],[Date Retired]]-Table13[[#This Row],[Date Issued]])/IF(Table13[[#This Row],[Date Retired]]-Table13[[#This Row],[Date Issued]]>=365,365,1))=0,\"\",(ROUND(IF(OR(Table13[[#This Row],[Date Issued]]=\"\",Table13[[#This Row],[Date Retired]]=\"\"),0,Table13[[#This Row],[Date Retired]]-Table13[[#This Row],[Date Issued]])/IF(Table13[[#This Row],[Date Retired]]-Table13[[#This Row],[Date Issued]]>=365,365,1),3)&IF(Table13[[#This Row],[Date Retired]]-Table13[[#This Row],[Date Issued]]>=365,\" Year(s)\",\" Day(s)\")))","v":""}]
[{"$nulls":8},{"$f":"IF((IF(OR(Table13[[#This Row],[Date Issued]]=\"\",Table13[[#This Row],[Date Retired]]=\"\"),0,Table13[[#This Row],[Date Retired]]-Table13[[#This Row],[Date Issued]])/IF(Table13[[#This Row],[Date Retired]]-Table13[[#This Row],[Date Issued]]>=365,365,1))=0,\"\",(ROUND(IF(OR(Table13[[#This Row],[Date Issued]]=\"\",Table13[[#This Row],[Date Retired]]=\"\"),0,Table13[[#This Row],[Date Retired]]-Table13[[#This Row],[Date Issued]])/IF(Table13[[#This Row],[Date Retired]]-Table13[[#This Row],[Date Issued]]>=365,365,1),3)&IF(Table13[[#This Row],[Date Retired]]-Table13[[#This Row],[Date Issued]]>=365,\" Year(s)\",\" Day(s)\")))","v":""}]
[{"$nulls":8},{"$f":"IF((IF(OR(Table13[[#This Row],[Date Issued]]=\"\",Table13[[#This Row],[Date Retired]]=\"\"),0,Table13[[#This Row],[Date Retired]]-Table13[[#This Row],[Date Issued]])/IF(Table13[[#This Row],[Date Retired]]-Table13[[#This Row],[Date Issued]]>=365,365,1))=0,\"\",(ROUND(IF(OR(Table13[[#This Row],[Date Issued]]=\"\",Table13[[#This Row],[Date Retired]]=\"\"),0,Table13[[#This Row],[Date Retired]]-Table13[[#This Row],[Date Issued]])/IF(Table13[[#This Row],[Date Retired]]-Table13[[#This Row],[Date Issued]]>=365,365,1),3)&IF(Table13[[#This Row],[Date Retired]]-Table13[[#This Row],[Date Issued]]>=365,\" Year(s)\",\" Day(s)\")))","v":""}]
[{"$nulls":8},{"$f":"IF((IF(OR(Table13[[#This Row],[Date Issued]]=\"\",Table13[[#This Row],[Date Retired]]=\"\"),0,Table13[[#This Row],[Date Retired]]-Table13[[#This Row],[Date Issued]])/IF(Table13[[#This Row],[Date Retired]]-Table13[[#This Row],[Date Issued]]>=365,365,1))=0,\"\",(ROUND(IF(OR(Table13[[#This Row],[Date Issued]]=\"\",Table13[[#This Row],[Date Retired]]=\"\"),0,Table13[[#This Row],[Date Retired]]-Table13[[#This Row],[Date Issued]])/IF(Table13[[#This Row],[Date Retired]]-Table13[[#This Row],[Date Issued]]>=365,365,1),3)&IF(Table13[[#This Row],[Date Retired]]-Table13[[#This Row],[Date Issued]]>=365,\" Year(s)\",\" Day(s)\")))","v":""}]
[{"$nulls":8},{"$f":"IF((IF(OR(Table13[[#This Row],[Date Issued]]=\"\",Table13[[#This Row],[Date Retired]]=\"\"),0,Table13[[#This Row],[Date Retired]]-Table13[[#This Row],[Date Issued]])/IF(Table13[[#This Row],[Date Retired]]-Table13[[#This Row],[Date Issued]]>=365,365,1))=0,\"\",(ROUND(IF(OR(Table13[[#This Row],[Date Issued]]=\"\",Table13[[#This Row],[Date Retired]]=\"\"),0,Table13[[#This Row],[Date Retired]]-Table13[[#This Row],[Date Issued]])/IF(Table13[[#This Row],[Date Retired]]-Table13[[#This Row],[Date Issued]]>=365,365,1),3)&IF(Table13[[#This Row],[Date Retired]]-Table13[[#This Row],[Date Issued]]>=365,\" Year(s)\",\" Day(s)\")))","v":""}]
[{"$nulls":8},{"$f":"IF((IF(OR(Table13[[#This Row],[Date Issued]]=\"\",Table13[[#This Row],[Date Retired]]=\"\"),0,Table13[[#This Row],[Date Retired]]-Table13[[#This Row],[Date Issued]])/IF(Table13[[#This Row],[Date Retired]]-Table13[[#This Row],[Date Issued]]>=365,365,1))=0,\"\",(ROUND(IF(OR(Table13[[#This Row],[Date Issued]]=\"\",Table13[[#This Row],[Date Retired]]=\"\"),0,Table13[[#This Row],[Date Retired]]-Table13[[#This Row],[Date Issued]])/IF(Table13[[#This Row],[Date Retired]]-Table13[[#This Row],[Date Issued]]>=365,365,1),3)&IF(Table13[[#This Row],[Date Retired]]-Table13[[#This Row],[Date Issued]]>=365,\" Year(s)\",\" Day(s)\")))","v":""}]
[{"$nulls":8},{"$f":"IF((IF(OR(Table13[[#This Row],[Date Issued]]=\"\",Table13[[#This Row],[Date Retired]]=\"\"),0,Table13[[#This Row],[Date Retired]]-Table13[[#This Row],[Date Issued]])/IF(Table13[[#This Row],[Date Retired]]-Table13[[#This Row],[Date Issued]]>=365,365,1))=0,\"\",(ROUND(IF(OR(Table13[[#This Row],[Date Issued]]=\"\",Table13[[#This Row],[Date Retired]]=\"\"),0,Table13[[#This Row],[Date Retired]]-Table13[[#This Row],[Date Issued]])/IF(Table13[[#This Row],[Date Retired]]-Table13[[#This Row],[Date Issued]]>=365,365,1),3)&IF(Table13[[#This Row],[Date Retired]]-Table13[[#This Row],[Date Issued]]>=365,\" Year(s)\",\" Day(s)\")))","v":""}]
[{"$nulls":8},{"$f":"IF((IF(OR(Table13[[#This Row],[Date Issued]]=\"\",Table13[[#This Row],[Date Retired]]=\"\"),0,Table13[[#This Row],[Date Retired]]-Table13[[#This Row],[Date Issued]])/IF(Table13[[#This Row],[Date Retired]]-Table13[[#This Row],[Date Issued]]>=365,365,1))=0,\"\",(ROUND(IF(OR(Table13[[#This Row],[Date Issued]]=\"\",Table13[[#This Row],[Date Retired]]=\"\"),0,Table13[[#This Row],[Date Retired]]-Table13[[#This Row],[Date Issued]])/IF(Table13[[#This Row],[Date Retired]]-Table13[[#This Row],[Date Issued]]>=365,365,1),3)&IF(Table13[[#This Row],[Date Retired]]-Table13[[#This Row],[Date Issued]]>=365,\" Year(s)\",\" Day(s)\")))","v":""}]
[{"$nulls":8},{"$f":"IF((IF(OR(Table13[[#This Row],[Date Issued]]=\"\",Table13[[#This Row],[Date Retired]]=\"\"),0,Table13[[#This Row],[Date Retired]]-Table13[[#This Row],[Date Issued]])/IF(Table13[[#This Row],[Date Retired]]-Table13[[#This Row],[Date Issued]]>=365,365,1))=0,\"\",(ROUND(IF(OR(Table13[[#This Row],[Date Issued]]=\"\",Table13[[#This Row],[Date Retired]]=\"\"),0,Table13[[#This Row],[Date Retired]]-Table13[[#This Row],[Date Issued]])/IF(Table13[[#This Row],[Date Retired]]-Table13[[#This Row],[Date Issued]]>=365,365,1),3)&IF(Table13[[#This Row],[Date Retired]]-Table13[[#This Row],[Date Issued]]>=365,\" Year(s)\",\" Day(s)\")))","v":""}]
[{"$nulls":8},{"$f":"IF((IF(OR(Table13[[#This Row],[Date Issued]]=\"\",Table13[[#This Row],[Date Retired]]=\"\"),0,Table13[[#This Row],[Date Retired]]-Table13[[#This Row],[Date Issued]])/IF(Table13[[#This Row],[Date Retired]]-Table13[[#This Row],[Date Issued]]>=365,365,1))=0,\"\",(ROUND(IF(OR(Table13[[#This Row],[Date Issued]]=\"\",Table13[[#This Row],[Date Retired]]=\"\"),0,Table13[[#This Row],[Date Retired]]-Table13[[#This Row],[Date Issued]])/IF(Table13[[#This Row],[Date Retired]]-Table13[[#This Row],[Date Issued]]>=365,365,1),3)&IF(Table13[[#This Row],[Date Retired]]-Table13[[#This Row],[Date Issued]]>=365,\" Year(s)\",\" Day(s)\")))","v":""}]
[{"$nulls":8},{"$f":"IF((IF(OR(Table13[[#This Row],[Date Issued]]=\"\",Table13[[#This Row],[Date Retired]]=\"\"),0,Table13[[#This Row],[Date Retired]]-Table13[[#This Row],[Date Issued]])/IF(Table13[[#This Row],[Date Retired]]-Table13[[#This Row],[Date Issued]]>=365,365,1))=0,\"\",(ROUND(IF(OR(Table13[[#This Row],[Date Issued]]=\"\",Table13[[#This Row],[Date Retired]]=\"\"),0,Table13[[#This Row],[Date Retired]]-Table13[[#This Row],[Date Issued]])/IF(Table13[[#This Row],[Date Retired]]-Table13[[#This Row],[Date Issued]]>=365,365,1),3)&IF(Table13[[#This Row],[Date Retired]]-Table13[[#This Row],[Date Issued]]>=365,\" Year(s)\",\" Day(s)\")))","v":""}]
[{"$nulls":8},{"$f":"IF((IF(OR(Table13[[#This Row],[Date Issued]]=\"\",Table13[[#This Row],[Date Retired]]=\"\"),0,Table13[[#This Row],[Date Retired]]-Table13[[#This Row],[Date Issued]])/IF(Table13[[#This Row],[Date Retired]]-Table13[[#This Row],[Date Issued]]>=365,365,1))=0,\"\",(ROUND(IF(OR(Table13[[#This Row],[Date Issued]]=\"\",Table13[[#This Row],[Date Retired]]=\"\"),0,Table13[[#This Row],[Date Retired]]-Table13[[#This Row],[Date Issued]])/IF(Table13[[#This Row],[Date Retired]]-Table13[[#This Row],[Date Issued]]>=365,365,1),3)&IF(Table13[[#This Row],[Date Retired]]-Table13[[#This Row],[Date Issued]]>=365,\" Year(s)\",\" Day(s)\")))","v":""}]
[{"$nulls":8},{"$f":"IF((IF(OR(Table13[[#This Row],[Date Issued]]=\"\",Table13[[#This Row],[Date Retired]]=\"\"),0,Table13[[#This Row],[Date Retired]]-Table13[[#This Row],[Date Issued]])/IF(Table13[[#This Row],[Date Retired]]-Table13[[#This Row],[Date Issued]]>=365,365,1))=0,\"\",(ROUND(IF(OR(Table13[[#This Row],[Date Issued]]=\"\",Table13[[#This Row],[Date Retired]]=\"\"),0,Table13[[#This Row],[Date Retired]]-Table13[[#This Row],[Date Issued]])/IF(Table13[[#This Row],[Date Retired]]-Table13[[#This Row],[Date Issued]]>=365,365,1),3)&IF(Table13[[#This Row],[Date Retired]]-Table13[[#This Row],[Date Issued]]>=365,\" Year(s)\",\" Day(s)\")))","v":""}]
[{"$nulls":8},{"$f":"IF((IF(OR(Table13[[#This Row],[Date Issued]]=\"\",Table13[[#This Row],[Date Retired]]=\"\"),0,Table13[[#This Row],[Date Retired]]-Table13[[#This Row],[Date Issued]])/IF(Table13[[#This Row],[Date Retired]]-Table13[[#This Row],[Date Issued]]>=365,365,1))=0,\"\",(ROUND(IF(OR(Table13[[#This Row],[Date Issued]]=\"\",Table13[[#This Row],[Date Retired]]=\"\"),0,Table13[[#This Row],[Date Retired]]-Table13[[#This Row],[Date Issued]])/IF(Table13[[#This Row],[Date Retired]]-Table13[[#This Row],[Date Issued]]>=365,365,1),3)&IF(Table13[[#This Row],[Date Retired]]-Table13[[#This Row],[Date Issued]]>=365,\" Year(s)\",\" Day(s)\")))","v":""}]
[{"$nulls":8},{"$f":"IF((IF(OR(Table13[[#This Row],[Date Issued]]=\"\",Table13[[#This Row],[Date Retired]]=\"\"),0,Table13[[#This Row],[Date Retired]]-Table13[[#This Row],[Date Issued]])/IF(Table13[[#This Row],[Date Retired]]-Table13[[#This Row],[Date Issued]]>=365,365,1))=0,\"\",(ROUND(IF(OR(Table13[[#This Row],[Date Issued]]=\"\",Table13[[#This Row],[Date Retired]]=\"\"),0,Table13[[#This Row],[Date Retired]]-Table13[[#This Row],[Date Issued]])/IF(Table13[[#This Row],[Date Retired]]-Table13[[#This Row],[Date Issued]]>=365,365,1),3)&IF(Table13[[#This Row],[Date Retired]]-Table13[[#This Row],[Date Issued]]>=365,\" Year(s)\",\" Day(s)\")))","v":""}]
[{"$nulls":8},{"$f":"IF((IF(OR(Table13[[#This Row],[Date Issued]]=\"\",Table13[[#This Row],[Date Retired]]=\"\"),0,Table13[[#This Row],[Date Retired]]-Table13[[#This Row],[Date Issued]])/IF(Table13[[#This Row],[Date Retired]]-Table13[[#This Row],[Date Issued]]>=365,365,1))=0,\"\",(ROUND(IF(OR(Table13[[#This Row],[Date Issued]]=\"\",Table13[[#This Row],[Date Retired]]=\"\"),0,Table13[[#This Row],[Date Retired]]-Table13[[#This Row],[Date Issued]])/IF(Table13[[#This Row],[Date Retired]]-Table13[[#This Row],[Date Issued]]>=365,365,1),3)&IF(Table13[[#This Row],[Date Retired]]-Table13[[#This Row],[Date Issued]]>=365,\" Year(s)\",\" Day(s)\")))","v":""}]
[{"$nulls":8},{"$f":"IF((IF(OR(Table13[[#This Row],[Date Issued]]=\"\",Table13[[#This Row],[Date Retired]]=\"\"),0,Table13[[#This Row],[Date Retired]]-Table13[[#This Row],[Date Issued]])/IF(Table13[[#This Row],[Date Retired]]-Table13[[#This Row],[Date Issued]]>=365,365,1))=0,\"\",(ROUND(IF(OR(Table13[[#This Row],[Date Issued]]=\"\",Table13[[#This Row],[Date Retired]]=\"\"),0,Table13[[#This Row],[Date Retired]]-Table13[[#This Row],[Date Issued]])/IF(Table13[[#This Row],[Date Retired]]-Table13[[#This Row],[Date Issued]]>=365,365,1),3)&IF(Table13[[#This Row],[Date Retired]]-Table13[[#This Row],[Date Issued]]>=365,\" Year(s)\",\" Day(s)\")))","v":""}]
[{"$nulls":8},{"$f":"IF((IF(OR(Table13[[#This Row],[Date Issued]]=\"\",Table13[[#This Row],[Date Retired]]=\"\"),0,Table13[[#This Row],[Date Retired]]-Table13[[#This Row],[Date Issued]])/IF(Table13[[#This Row],[Date Retired]]-Table13[[#This Row],[Date Issued]]>=365,365,1))=0,\"\",(ROUND(IF(OR(Table13[[#This Row],[Date Issued]]=\"\",Table13[[#This Row],[Date Retired]]=\"\"),0,Table13[[#This Row],[Date Retired]]-Table13[[#This Row],[Date Issued]])/IF(Table13[[#This Row],[Date Retired]]-Table13[[#This Row],[Date Issued]]>=365,365,1),3)&IF(Table13[[#This Row],[Date Retired]]-Table13[[#This Row],[Date Issued]]>=365,\" Year(s)\",\" Day(s)\")))","v":""}]
[{"$nulls":8},{"$f":"IF((IF(OR(Table13[[#This Row],[Date Issued]]=\"\",Table13[[#This Row],[Date Retired]]=\"\"),0,Table13[[#This Row],[Date Retired]]-Table13[[#This Row],[Date Issued]])/IF(Table13[[#This Row],[Date Retired]]-Table13[[#This Row],[Date Issued]]>=365,365,1))=0,\"\",(ROUND(IF(OR(Table13[[#This Row],[Date Issued]]=\"\",Table13[[#This Row],[Date Retired]]=\"\"),0,Table13[[#This Row],[Date Retired]]-Table13[[#This Row],[Date Issued]])/IF(Table13[[#This Row],[Date Retired]]-Table13[[#This Row],[Date Issued]]>=365,365,1),3)&IF(Table13[[#This Row],[Date Retired]]-Table13[[#This Row],[Date Issued]]>=365,\" Year(s)\",\" Day(s)\")))","v":""}]
[{"$nulls":8},{"$f":"IF((IF(OR(Table13[[#This Row],[Date Issued]]=\"\",Table13[[#This Row],[Date Retired]]=\"\"),0,Table13[[#This Row],[Date Retired]]-Table13[[#This Row],[Date Issued]])/IF(Table13[[#This Row],[Date Retired]]-Table13[[#This Row],[Date Issued]]>=365,365,1))=0,\"\",(ROUND(IF(OR(Table13[[#This Row],[Date Issued]]=\"\",Table13[[#This Row],[Date Retired]]=\"\"),0,Table13[[#This Row],[Date Retired]]-Table13[[#This Row],[Date Issued]])/IF(Table13[[#This Row],[Date Retired]]-Table13[[#This Row],[Date Issued]]>=365,365,1),3)&IF(Table13[[#This Row],[Date Retired]]-Table13[[#This Row],[Date Issued]]>=365,\" Year(s)\",\" Day(s)\")))","v":""}]
[{"$nulls":8},{"$f":"IF((IF(OR(Table13[[#This Row],[Date Issued]]=\"\",Table13[[#This Row],[Date Retired]]=\"\"),0,Table13[[#This Row],[Date Retired]]-Table13[[#This Row],[Date Issued]])/IF(Table13[[#This Row],[Date Retired]]-Table13[[#This Row],[Date Issued]]>=365,365,1))=0,\"\",(ROUND(IF(OR(Table13[[#This Row],[Date Issued]]=\"\",Table13[[#This Row],[Date Retired]]=\"\"),0,Table13[[#This Row],[Date Retired]]-Table13[[#This Row],[Date Issued]])/IF(Table13[[#This Row],[Date Retired]]-Table13[[#This Row],[Date Issued]]>=365,365,1),3)&IF(Table13[[#This Row],[Date Retired]]-Table13[[#This Row],[Date Issued]]>=365,\" Year(s)\",\" Day(s)\")))","v":""}]
[{"$nulls":8},{"$f":"IF((IF(OR(Table13[[#This Row],[Date Issued]]=\"\",Table13[[#This Row],[Date Retired]]=\"\"),0,Table13[[#This Row],[Date Retired]]-Table13[[#This Row],[Date Issued]])/IF(Table13[[#This Row],[Date Retired]]-Table13[[#This Row],[Date Issued]]>=365,365,1))=0,\"\",(ROUND(IF(OR(Table13[[#This Row],[Date Issued]]=\"\",Table13[[#This Row],[Date Retired]]=\"\"),0,Table13[[#This Row],[Date Retired]]-Table13[[#This Row],[Date Issued]])/IF(Table13[[#This Row],[Date Retired]]-Table13[[#This Row],[Date Issued]]>=365,365,1),3)&IF(Table13[[#This Row],[Date Retired]]-Table13[[#This Row],[Date Issued]]>=365,\" Year(s)\",\" Day(s)\")))","v":""}]
[{"$nulls":8},{"$f":"IF((IF(OR(Table13[[#This Row],[Date Issued]]=\"\",Table13[[#This Row],[Date Retired]]=\"\"),0,Table13[[#This Row],[Date Retired]]-Table13[[#This Row],[Date Issued]])/IF(Table13[[#This Row],[Date Retired]]-Table13[[#This Row],[Date Issued]]>=365,365,1))=0,\"\",(ROUND(IF(OR(Table13[[#This Row],[Date Issued]]=\"\",Table13[[#This Row],[Date Retired]]=\"\"),0,Table13[[#This Row],[Date Retired]]-Table13[[#This Row],[Date Issued]])/IF(Table13[[#This Row],[Date Retired]]-Table13[[#This Row],[Date Issued]]>=365,365,1),3)&IF(Table13[[#This Row],[Date Retired]]-Table13[[#This Row],[Date Issued]]>=365,\" Year(s)\",\" Day(s)\")))","v":""}]
[{"$nulls":8},{"$f":"IF((IF(OR(Table13[[#This Row],[Date Issued]]=\"\",Table13[[#This Row],[Date Retired]]=\"\"),0,Table13[[#This Row],[Date Retired]]-Table13[[#This Row],[Date Issued]])/IF(Table13[[#This Row],[Date Retired]]-Table13[[#This Row],[Date Issued]]>=365,365,1))=0,\"\",(ROUND(IF(OR(Table13[[#This Row],[Date Issued]]=\"\",Table13[[#This Row],[Date Retired]]=\"\"),0,Table13[[#This Row],[Date Retired]]-Table13[[#This Row],[Date Issued]])/IF(Table13[[#This Row],[Date Retired]]-Table13[[#This Row],[Date Issued]]>=365,365,1),3)&IF(Table13[[#This Row],[Date Retired]]-Table13[[#This Row],[Date Issued]]>=365,\" Year(s)\",\" Day(s)\")))","v":""}]
[{"$nulls":8},{"$f":"IF((IF(OR(Table13[[#This Row],[Date Issued]]=\"\",Table13[[#This Row],[Date Retired]]=\"\"),0,Table13[[#This Row],[Date Retired]]-Table13[[#This Row],[Date Issued]])/IF(Table13[[#This Row],[Date Retired]]-Table13[[#This Row],[Date Issued]]>=365,365,1))=0,\"\",(ROUND(IF(OR(Table13[[#This Row],[Date Issued]]=\"\",Table13[[#This Row],[Date Retired]]=\"\"),0,Table13[[#This Row],[Date Retired]]-Table13[[#This Row],[Date Issued]])/IF(Table13[[#This Row],[Date Retired]]-Table13[[#This Row],[Date Issued]]>=365,365,1),3)&IF(Table13[[#This Row],[Date Retired]]-Table13[[#This Row],[Date Issued]]>=365,\" Year(s)\",\" Day(s)\")))","v":""}]
[{"$nulls":8},{"$f":"IF((IF(OR(Table13[[#This Row],[Date Issued]]=\"\",Table13[[#This Row],[Date Retired]]=\"\"),0,Table13[[#This Row],[Date Retired]]-Table13[[#This Row],[Date Issued]])/IF(Table13[[#This Row],[Date Retired]]-Table13[[#This Row],[Date Issued]]>=365,365,1))=0,\"\",(ROUND(IF(OR(Table13[[#This Row],[Date Issued]]=\"\",Table13[[#This Row],[Date Retired]]=\"\"),0,Table13[[#This Row],[Date Retired]]-Table13[[#This Row],[Date Issued]])/IF(Table13[[#This Row],[Date Retired]]-Table13[[#This Row],[Date Issued]]>=365,365,1),3)&IF(Table13[[#This Row],[Date Retired]]-Table13[[#This Row],[Date Issued]]>=365,\" Year(s)\",\" Day(s)\")))","v":""}]
[{"$nulls":8},{"$f":"IF((IF(OR(Table13[[#This Row],[Date Issued]]=\"\",Table13[[#This Row],[Date Retired]]=\"\"),0,Table13[[#This Row],[Date Retired]]-Table13[[#This Row],[Date Issued]])/IF(Table13[[#This Row],[Date Retired]]-Table13[[#This Row],[Date Issued]]>=365,365,1))=0,\"\",(ROUND(IF(OR(Table13[[#This Row],[Date Issued]]=\"\",Table13[[#This Row],[Date Retired]]=\"\"),0,Table13[[#This Row],[Date Retired]]-Table13[[#This Row],[Date Issued]])/IF(Table13[[#This Row],[Date Retired]]-Table13[[#This Row],[Date Issued]]>=365,365,1),3)&IF(Table13[[#This Row],[Date Retired]]-Table13[[#This Row],[Date Issued]]>=365,\" Year(s)\",\" Day(s)\")))","v":""}]
[{"$nulls":8},{"$f":"IF((IF(OR(Table13[[#This Row],[Date Issued]]=\"\",Table13[[#This Row],[Date Retired]]=\"\"),0,Table13[[#This Row],[Date Retired]]-Table13[[#This Row],[Date Issued]])/IF(Table13[[#This Row],[Date Retired]]-Table13[[#This Row],[Date Issued]]>=365,365,1))=0,\"\",(ROUND(IF(OR(Table13[[#This Row],[Date Issued]]=\"\",Table13[[#This Row],[Date Retired]]=\"\"),0,Table13[[#This Row],[Date Retired]]-Table13[[#This Row],[Date Issued]])/IF(Table13[[#This Row],[Date Retired]]-Table13[[#This Row],[Date Issued]]>=365,365,1),3)&IF(Table13[[#This Row],[Date Retired]]-Table13[[#This Row],[Date Issued]]>=365,\" Year(s)\",\" Day(s)\")))","v":""}]
[{"$nulls":8},{"$f":"IF((IF(OR(Table13[[#This Row],[Date Issued]]=\"\",Table13[[#This Row],[Date Retired]]=\"\"),0,Table13[[#This Row],[Date Retired]]-Table13[[#This Row],[Date Issued]])/IF(Table13[[#This Row],[Date Retired]]-Table13[[#This Row],[Date Issued]]>=365,365,1))=0,\"\",(ROUND(IF(OR(Table13[[#This Row],[Date Issued]]=\"\",Table13[[#This Row],[Date Retired]]=\"\"),0,Table13[[#This Row],[Date Retired]]-Table13[[#This Row],[Date Issued]])/IF(Table13[[#This Row],[Date Retired]]-Table13[[#This Row],[Date Issued]]>=365,365,1),3)&IF(Table13[[#This Row],[Date Retired]]-Table13[[#This Row],[Date Issued]]>=365,\" Year(s)\",\" Day(s)\")))","v":""}]
[{"$nulls":8},{"$f":"IF((IF(OR(Table13[[#This Row],[Date Issued]]=\"\",Table13[[#This Row],[Date Retired]]=\"\"),0,Table13[[#This Row],[Date Retired]]-Table13[[#This Row],[Date Issued]])/IF(Table13[[#This Row],[Date Retired]]-Table13[[#This Row],[Date Issued]]>=365,365,1))=0,\"\",(ROUND(IF(OR(Table13[[#This Row],[Date Issued]]=\"\",Table13[[#This Row],[Date Retired]]=\"\"),0,Table13[[#This Row],[Date Retired]]-Table13[[#This Row],[Date Issued]])/IF(Table13[[#This Row],[Date Retired]]-Table13[[#This Row],[Date Issued]]>=365,365,1),3)&IF(Table13[[#This Row],[Date Retired]]-Table13[[#This Row],[Date Issued]]>=365,\" Year(s)\",\" Day(s)\")))","v":""}]
[{"$nulls":8},{"$f":"IF((IF(OR(Table13[[#This Row],[Date Issued]]=\"\",Table13[[#This Row],[Date Retired]]=\"\"),0,Table13[[#This Row],[Date Retired]]-Table13[[#This Row],[Date Issued]])/IF(Table13[[#This Row],[Date Retired]]-Table13[[#This Row],[Date Issued]]>=365,365,1))=0,\"\",(ROUND(IF(OR(Table13[[#This Row],[Date Issued]]=\"\",Table13[[#This Row],[Date Retired]]=\"\"),0,Table13[[#This Row],[Date Retired]]-Table13[[#This Row],[Date Issued]])/IF(Table13[[#This Row],[Date Retired]]-Table13[[#This Row],[Date Issued]]>=365,365,1),3)&IF(Table13[[#This Row],[Date Retired]]-Table13[[#This Row],[Date Issued]]>=365,\" Year(s)\",\" Day(s)\")))","v":""}]
[{"$nulls":8},{"$f":"IF((IF(OR(Table13[[#This Row],[Date Issued]]=\"\",Table13[[#This Row],[Date Retired]]=\"\"),0,Table13[[#This Row],[Date Retired]]-Table13[[#This Row],[Date Issued]])/IF(Table13[[#This Row],[Date Retired]]-Table13[[#This Row],[Date Issued]]>=365,365,1))=0,\"\",(ROUND(IF(OR(Table13[[#This Row],[Date Issued]]=\"\",Table13[[#This Row],[Date Retired]]=\"\"),0,Table13[[#This Row],[Date Retired]]-Table13[[#This Row],[Date Issued]])/IF(Table13[[#This Row],[Date Retired]]-Table13[[#This Row],[Date Issued]]>=365,365,1),3)&IF(Table13[[#This Row],[Date Retired]]-Table13[[#This Row],[Date Issued]]>=365,\" Year(s)\",\" Day(s)\")))","v":""}]
[{"$nulls":8},{"$f":"IF((IF(OR(Table13[[#This Row],[Date Issued]]=\"\",Table13[[#This Row],[Date Retired]]=\"\"),0,Table13[[#This Row],[Date Retired]]-Table13[[#This Row],[Date Issued]])/IF(Table13[[#This Row],[Date Retired]]-Table13[[#This Row],[Date Issued]]>=365,365,1))=0,\"\",(ROUND(IF(OR(Table13[[#This Row],[Date Issued]]=\"\",Table13[[#This Row],[Date Retired]]=\"\"),0,Table13[[#This Row],[Date Retired]]-Table13[[#This Row],[Date Issued]])/IF(Table13[[#This Row],[Date Retired]]-Table13[[#This Row],[Date Issued]]>=365,365,1),3)&IF(Table13[[#This Row],[Date Retired]]-Table13[[#This Row],[Date Issued]]>=365,\" Year(s)\",\" Day(s)\")))","v":""}]
[{"$nulls":8},{"$f":"IF((IF(OR(Table13[[#This Row],[Date Issued]]=\"\",Table13[[#This Row],[Date Retired]]=\"\"),0,Table13[[#This Row],[Date Retired]]-Table13[[#This Row],[Date Issued]])/IF(Table13[[#This Row],[Date Retired]]-Table13[[#This Row],[Date Issued]]>=365,365,1))=0,\"\",(ROUND(IF(OR(Table13[[#This Row],[Date Issued]]=\"\",Table13[[#This Row],[Date Retired]]=\"\"),0,Table13[[#This Row],[Date Retired]]-Table13[[#This Row],[Date Issued]])/IF(Table13[[#This Row],[Date Retired]]-Table13[[#This Row],[Date Issued]]>=365,365,1),3)&IF(Table13[[#This Row],[Date Retired]]-Table13[[#This Row],[Date Issued]]>=365,\" Year(s)\",\" Day(s)\")))","v":""}]
[{"$nulls":8},{"$f":"IF((IF(OR(Table13[[#This Row],[Date Issued]]=\"\",Table13[[#This Row],[Date Retired]]=\"\"),0,Table13[[#This Row],[Date Retired]]-Table13[[#This Row],[Date Issued]])/IF(Table13[[#This Row],[Date Retired]]-Table13[[#This Row],[Date Issued]]>=365,365,1))=0,\"\",(ROUND(IF(OR(Table13[[#This Row],[Date Issued]]=\"\",Table13[[#This Row],[Date Retired]]=\"\"),0,Table13[[#This Row],[Date Retired]]-Table13[[#This Row],[Date Issued]])/IF(Table13[[#This Row],[Date Retired]]-Table13[[#This Row],[Date Issued]]>=365,365,1),3)&IF(Table13[[#This Row],[Date Retired]]-Table13[[#This Row],[Date Issued]]>=365,\" Year(s)\",\" Day(s)\")))","v":""}]
[{"$nulls":8},{"$f":"IF((IF(OR(Table13[[#This Row],[Date Issued]]=\"\",Table13[[#This Row],[Date Retired]]=\"\"),0,Table13[[#This Row],[Date Retired]]-Table13[[#This Row],[Date Issued]])/IF(Table13[[#This Row],[Date Retired]]-Table13[[#This Row],[Date Issued]]>=365,365,1))=0,\"\",(ROUND(IF(OR(Table13[[#This Row],[Date Issued]]=\"\",Table13[[#This Row],[Date Retired]]=\"\"),0,Table13[[#This Row],[Date Retired]]-Table13[[#This Row],[Date Issued]])/IF(Table13[[#This Row],[Date Retired]]-Table13[[#This Row],[Date Issued]]>=365,365,1),3)&IF(Table13[[#This Row],[Date Retired]]-Table13[[#This Row],[Date Issued]]>=365,\" Year(s)\",\" Day(s)\")))","v":""}]
[{"$nulls":8},{"$f":"IF((IF(OR(Table13[[#This Row],[Date Issued]]=\"\",Table13[[#This Row],[Date Retired]]=\"\"),0,Table13[[#This Row],[Date Retired]]-Table13[[#This Row],[Date Issued]])/IF(Table13[[#This Row],[Date Retired]]-Table13[[#This Row],[Date Issued]]>=365,365,1))=0,\"\",(ROUND(IF(OR(Table13[[#This Row],[Date Issued]]=\"\",Table13[[#This Row],[Date Retired]]=\"\"),0,Table13[[#This Row],[Date Retired]]-Table13[[#This Row],[Date Issued]])/IF(Table13[[#This Row],[Date Retired]]-Table13[[#This Row],[Date Issued]]>=365,365,1),3)&IF(Table13[[#This Row],[Date Retired]]-Table13[[#This Row],[Date Issued]]>=365,\" Year(s)\",\" Day(s)\")))","v":""}]
[{"$nulls":8},{"$f":"IF((IF(OR(Table13[[#This Row],[Date Issued]]=\"\",Table13[[#This Row],[Date Retired]]=\"\"),0,Table13[[#This Row],[Date Retired]]-Table13[[#This Row],[Date Issued]])/IF(Table13[[#This Row],[Date Retired]]-Table13[[#This Row],[Date Issued]]>=365,365,1))=0,\"\",(ROUND(IF(OR(Table13[[#This Row],[Date Issued]]=\"\",Table13[[#This Row],[Date Retired]]=\"\"),0,Table13[[#This Row],[Date Retired]]-Table13[[#This Row],[Date Issued]])/IF(Table13[[#This Row],[Date Retired]]-Table13[[#This Row],[Date Issued]]>=365,365,1),3)&IF(Table13[[#This Row],[Date Retired]]-Table13[[#This Row],[Date Issued]]>=365,\" Year(s)\",\" Day(s)\")))","v":""}]
[{"$nulls":8},{"$f":"IF((IF(OR(Table13[[#This Row],[Date Issued]]=\"\",Table13[[#This Row],[Date Retired]]=\"\"),0,Table13[[#This Row],[Date Retired]]-Table13[[#This Row],[Date Issued]])/IF(Table13[[#This Row],[Date Retired]]-Table13[[#This Row],[Date Issued]]>=365,365,1))=0,\"\",(ROUND(IF(OR(Table13[[#This Row],[Date Issued]]=\"\",Table13[[#This Row],[Date Retired]]=\"\"),0,Table13[[#This Row],[Date Retired]]-Table13[[#This Row],[Date Issued]])/IF(Table13[[#This Row],[Date Retired]]-Table13[[#This Row],[Date Issued]]>=365,365,1),3)&IF(Table13[[#This Row],[Date Retired]]-Table13[[#This Row],[Date Issued]]>=365,\" Year(s)\",\" Day(s)\")))","v":""}]
[{"$nulls":8},{"$f":"IF((IF(OR(Table13[[#This Row],[Date Issued]]=\"\",Table13[[#This Row],[Date Retired]]=\"\"),0,Table13[[#This Row],[Date Retired]]-Table13[[#This Row],[Date Issued]])/IF(Table13[[#This Row],[Date Retired]]-Table13[[#This Row],[Date Issued]]>=365,365,1))=0,\"\",(ROUND(IF(OR(Table13[[#This Row],[Date Issued]]=\"\",Table13[[#This Row],[Date Retired]]=\"\"),0,Table13[[#This Row],[Date Retired]]-Table13[[#This Row],[Date Issued]])/IF(Table13[[#This Row],[Date Retired]]-Table13[[#This Row],[Date Issued]]>=365,365,1),3)&IF(Table13[[#This Row],[Date Retired]]-Table13[[#This Row],[Date Issued]]>=365,\" Year(s)\",\" Day(s)\")))","v":""}]
[{"$nulls":8},{"$f":"IF((IF(OR(Table13[[#This Row],[Date Issued]]=\"\",Table13[[#This Row],[Date Retired]]=\"\"),0,Table13[[#This Row],[Date Retired]]-Table13[[#This Row],[Date Issued]])/IF(Table13[[#This Row],[Date Retired]]-Table13[[#This Row],[Date Issued]]>=365,365,1))=0,\"\",(ROUND(IF(OR(Table13[[#This Row],[Date Issued]]=\"\",Table13[[#This Row],[Date Retired]]=\"\"),0,Table13[[#This Row],[Date Retired]]-Table13[[#This Row],[Date Issued]])/IF(Table13[[#This Row],[Date Retired]]-Table13[[#This Row],[Date Issued]]>=365,365,1),3)&IF(Table13[[#This Row],[Date Retired]]-Table13[[#This Row],[Date Issued]]>=365,\" Year(s)\",\" Day(s)\")))","v":""}]
[{"$nulls":8},{"$f":"IF((IF(OR(Table13[[#This Row],[Date Issued]]=\"\",Table13[[#This Row],[Date Retired]]=\"\"),0,Table13[[#This Row],[Date Retired]]-Table13[[#This Row],[Date Issued]])/IF(Table13[[#This Row],[Date Retired]]-Table13[[#This Row],[Date Issued]]>=365,365,1))=0,\"\",(ROUND(IF(OR(Table13[[#This Row],[Date Issued]]=\"\",Table13[[#This Row],[Date Retired]]=\"\"),0,Table13[[#This Row],[Date Retired]]-Table13[[#This Row],[Date Issued]])/IF(Table13[[#This Row],[Date Retired]]-Table13[[#This Row],[Date Issued]]>=365,365,1),3)&IF(Table13[[#This Row],[Date Retired]]-Table13[[#This Row],[Date Issued]]>=365,\" Year(s)\",\" Day(s)\")))","v":""}]
[{"$nulls":8},{"$f":"IF((IF(OR(Table13[[#This Row],[Date Issued]]=\"\",Table13[[#This Row],[Date Retired]]=\"\"),0,Table13[[#This Row],[Date Retired]]-Table13[[#This Row],[Date Issued]])/IF(Table13[[#This Row],[Date Retired]]-Table13[[#This Row],[Date Issued]]>=365,365,1))=0,\"\",(ROUND(IF(OR(Table13[[#This Row],[Date Issued]]=\"\",Table13[[#This Row],[Date Retired]]=\"\"),0,Table13[[#This Row],[Date Retired]]-Table13[[#This Row],[Date Issued]])/IF(Table13[[#This Row],[Date Retired]]-Table13[[#This Row],[Date Issued]]>=365,365,1),3)&IF(Table13[[#This Row],[Date Retired]]-Table13[[#This Row],[Date Issued]]>=365,\" Year(s)\",\" Day(s)\")))","v":""}]
[{"$nulls":8},{"$f":"IF((IF(OR(Table13[[#This Row],[Date Issued]]=\"\",Table13[[#This Row],[Date Retired]]=\"\"),0,Table13[[#This Row],[Date Retired]]-Table13[[#This Row],[Date Issued]])/IF(Table13[[#This Row],[Date Retired]]-Table13[[#This Row],[Date Issued]]>=365,365,1))=0,\"\",(ROUND(IF(OR(Table13[[#This Row],[Date Issued]]=\"\",Table13[[#This Row],[Date Retired]]=\"\"),0,Table13[[#This Row],[Date Retired]]-Table13[[#This Row],[Date Issued]])/IF(Table13[[#This Row],[Date Retired]]-Table13[[#This Row],[Date Issued]]>=365,365,1),3)&IF(Table13[[#This Row],[Date Retired]]-Table13[[#This Row],[Date Issued]]>=365,\" Year(s)\",\" Day(s)\")))","v":""}]
[{"$nulls":8},{"$f":"IF((IF(OR(Table13[[#This Row],[Date Issued]]=\"\",Table13[[#This Row],[Date Retired]]=\"\"),0,Table13[[#This Row],[Date Retired]]-Table13[[#This Row],[Date Issued]])/IF(Table13[[#This Row],[Date Retired]]-Table13[[#This Row],[Date Issued]]>=365,365,1))=0,\"\",(ROUND(IF(OR(Table13[[#This Row],[Date Issued]]=\"\",Table13[[#This Row],[Date Retired]]=\"\"),0,Table13[[#This Row],[Date Retired]]-Table13[[#This Row],[Date Issued]])/IF(Table13[[#This Row],[Date Retired]]-Table13[[#This Row],[Date Issued]]>=365,365,1),3)&IF(Table13[[#This Row],[Date Retired]]-Table13[[#This Row],[Date Issued]]>=365,\" Year(s)\",\" Day(s)\")))","v":""}]
[{"$nulls":8},{"$f":"IF((IF(OR(Table13[[#This Row],[Date Issued]]=\"\",Table13[[#This Row],[Date Retired]]=\"\"),0,Table13[[#This Row],[Date Retired]]-Table13[[#This Row],[Date Issued]])/IF(Table13[[#This Row],[Date Retired]]-Table13[[#This Row],[Date Issued]]>=365,365,1))=0,\"\",(ROUND(IF(OR(Table13[[#This Row],[Date Issued]]=\"\",Table13[[#This Row],[Date Retired]]=\"\"),0,Table13[[#This Row],[Date Retired]]-Table13[[#This Row],[Date Issued]])/IF(Table13[[#This Row],[Date Retired]]-Table13[[#This Row],[Date Issued]]>=365,365,1),3)&IF(Table13[[#This Row],[Date Retired]]-Table13[[#This Row],[Date Issued]]>=365,\" Year(s)\",\" Day(s)\")))","v":""}]
[{"$nulls":8},{"$f":"IF((IF(OR(Table13[[#This Row],[Date Issued]]=\"\",Table13[[#This Row],[Date Retired]]=\"\"),0,Table13[[#This Row],[Date Retired]]-Table13[[#This Row],[Date Issued]])/IF(Table13[[#This Row],[Date Retired]]-Table13[[#This Row],[Date Issued]]>=365,365,1))=0,\"\",(ROUND(IF(OR(Table13[[#This Row],[Date Issued]]=\"\",Table13[[#This Row],[Date Retired]]=\"\"),0,Table13[[#This Row],[Date Retired]]-Table13[[#This Row],[Date Issued]])/IF(Table13[[#This Row],[Date Retired]]-Table13[[#This Row],[Date Issued]]>=365,365,1),3)&IF(Table13[[#This Row],[Date Retired]]-Table13[[#This Row],[Date Issued]]>=365,\" Year(s)\",\" Day(s)\")))","v":""}]
[{"$nulls":8},{"$f":"IF((IF(OR(Table13[[#This Row],[Date Issued]]=\"\",Table13[[#This Row],[Date Retired]]=\"\"),0,Table13[[#This Row],[Date Retired]]-Table13[[#This Row],[Date Issued]])/IF(Table13[[#This Row],[Date Retired]]-Table13[[#This Row],[Date Issued]]>=365,365,1))=0,\"\",(ROUND(IF(OR(Table13[[#This Row],[Date Issued]]=\"\",Table13[[#This Row],[Date Retired]]=\"\"),0,Table13[[#This Row],[Date Retired]]-Table13[[#This Row],[Date Issued]])/IF(Table13[[#This Row],[Date Retired]]-Table13[[#This Row],[Date Issued]]>=365,365,1),3)&IF(Table13[[#This Row],[Date Retired]]-Table13[[#This Row],[Date Issued]]>=365,\" Year(s)\",\" Day(s)\")))","v":""}]
[{"$nulls":8},{"$f":"IF((IF(OR(Table13[[#This Row],[Date Issued]]=\"\",Table13[[#This Row],[Date Retired]]=\"\"),0,Table13[[#This Row],[Date Retired]]-Table13[[#This Row],[Date Issued]])/IF(Table13[[#This Row],[Date Retired]]-Table13[[#This Row],[Date Issued]]>=365,365,1))=0,\"\",(ROUND(IF(OR(Table13[[#This Row],[Date Issued]]=\"\",Table13[[#This Row],[Date Retired]]=\"\"),0,Table13[[#This Row],[Date Retired]]-Table13[[#This Row],[Date Issued]])/IF(Table13[[#This Row],[Date Retired]]-Table13[[#This Row],[Date Issued]]>=365,365,1),3)&IF(Table13[[#This Row],[Date Retired]]-Table13[[#This Row],[Date Issued]]>=365,\" Year(s)\",\" Day(s)\")))","v":""}]
[{"$nulls":8},{"$f":"IF((IF(OR(Table13[[#This Row],[Date Issued]]=\"\",Table13[[#This Row],[Date Retired]]=\"\"),0,Table13[[#This Row],[Date Retired]]-Table13[[#This Row],[Date Issued]])/IF(Table13[[#This Row],[Date Retired]]-Table13[[#This Row],[Date Issued]]>=365,365,1))=0,\"\",(ROUND(IF(OR(Table13[[#This Row],[Date Issued]]=\"\",Table13[[#This Row],[Date Retired]]=\"\"),0,Table13[[#This Row],[Date Retired]]-Table13[[#This Row],[Date Issued]])/IF(Table13[[#This Row],[Date Retired]]-Table13[[#This Row],[Date Issued]]>=365,365,1),3)&IF(Table13[[#This Row],[Date Retired]]-Table13[[#This Row],[Date Issued]]>=365,\" Year(s)\",\" Day(s)\")))","v":""}]
[{"$nulls":8},{"$f":"IF((IF(OR(Table13[[#This Row],[Date Issued]]=\"\",Table13[[#This Row],[Date Retired]]=\"\"),0,Table13[[#This Row],[Date Retired]]-Table13[[#This Row],[Date Issued]])/IF(Table13[[#This Row],[Date Retired]]-Table13[[#This Row],[Date Issued]]>=365,365,1))=0,\"\",(ROUND(IF(OR(Table13[[#This Row],[Date Issued]]=\"\",Table13[[#This Row],[Date Retired]]=\"\"),0,Table13[[#This Row],[Date Retired]]-Table13[[#This Row],[Date Issued]])/IF(Table13[[#This Row],[Date Retired]]-Table13[[#This Row],[Date Issued]]>=365,365,1),3)&IF(Table13[[#This Row],[Date Retired]]-Table13[[#This Row],[Date Issued]]>=365,\" Year(s)\",\" Day(s)\")))","v":""}]
[{"$nulls":8},{"$f":"IF((IF(OR(Table13[[#This Row],[Date Issued]]=\"\",Table13[[#This Row],[Date Retired]]=\"\"),0,Table13[[#This Row],[Date Retired]]-Table13[[#This Row],[Date Issued]])/IF(Table13[[#This Row],[Date Retired]]-Table13[[#This Row],[Date Issued]]>=365,365,1))=0,\"\",(ROUND(IF(OR(Table13[[#This Row],[Date Issued]]=\"\",Table13[[#This Row],[Date Retired]]=\"\"),0,Table13[[#This Row],[Date Retired]]-Table13[[#This Row],[Date Issued]])/IF(Table13[[#This Row],[Date Retired]]-Table13[[#This Row],[Date Issued]]>=365,365,1),3)&IF(Table13[[#This Row],[Date Retired]]-Table13[[#This Row],[Date Issued]]>=365,\" Year(s)\",\" Day(s)\")))","v":""}]
[{"$nulls":8},{"$f":"IF((IF(OR(Table13[[#This Row],[Date Issued]]=\"\",Table13[[#This Row],[Date Retired]]=\"\"),0,Table13[[#This Row],[Date Retired]]-Table13[[#This Row],[Date Issued]])/IF(Table13[[#This Row],[Date Retired]]-Table13[[#This Row],[Date Issued]]>=365,365,1))=0,\"\",(ROUND(IF(OR(Table13[[#This Row],[Date Issued]]=\"\",Table13[[#This Row],[Date Retired]]=\"\"),0,Table13[[#This Row],[Date Retired]]-Table13[[#This Row],[Date Issued]])/IF(Table13[[#This Row],[Date Retired]]-Table13[[#This Row],[Date Issued]]>=365,365,1),3)&IF(Table13[[#This Row],[Date Retired]]-Table13[[#This Row],[Date Issued]]>=365,\" Year(s)\",\" Day(s)\")))","v":""}]
[{"$nulls":8},{"$f":"IF((IF(OR(Table13[[#This Row],[Date Issued]]=\"\",Table13[[#This Row],[Date Retired]]=\"\"),0,Table13[[#This Row],[Date Retired]]-Table13[[#This Row],[Date Issued]])/IF(Table13[[#This Row],[Date Retired]]-Table13[[#This Row],[Date Issued]]>=365,365,1))=0,\"\",(ROUND(IF(OR(Table13[[#This Row],[Date Issued]]=\"\",Table13[[#This Row],[Date Retired]]=\"\"),0,Table13[[#This Row],[Date Retired]]-Table13[[#This Row],[Date Issued]])/IF(Table13[[#This Row],[Date Retired]]-Table13[[#This Row],[Date Issued]]>=365,365,1),3)&IF(Table13[[#This Row],[Date Retired]]-Table13[[#This Row],[Date Issued]]>=365,\" Year(s)\",\" Day(s)\")))","v":""}]
[{"$nulls":8},{"$f":"IF((IF(OR(Table13[[#This Row],[Date Issued]]=\"\",Table13[[#This Row],[Date Retired]]=\"\"),0,Table13[[#This Row],[Date Retired]]-Table13[[#This Row],[Date Issued]])/IF(Table13[[#This Row],[Date Retired]]-Table13[[#This Row],[Date Issued]]>=365,365,1))=0,\"\",(ROUND(IF(OR(Table13[[#This Row],[Date Issued]]=\"\",Table13[[#This Row],[Date Retired]]=\"\"),0,Table13[[#This Row],[Date Retired]]-Table13[[#This Row],[Date Issued]])/IF(Table13[[#This Row],[Date Retired]]-Table13[[#This Row],[Date Issued]]>=365,365,1),3)&IF(Table13[[#This Row],[Date Retired]]-Table13[[#This Row],[Date Issued]]>=365,\" Year(s)\",\" Day(s)\")))","v":""}]
[{"$nulls":8},{"$f":"IF((IF(OR(Table13[[#This Row],[Date Issued]]=\"\",Table13[[#This Row],[Date Retired]]=\"\"),0,Table13[[#This Row],[Date Retired]]-Table13[[#This Row],[Date Issued]])/IF(Table13[[#This Row],[Date Retired]]-Table13[[#This Row],[Date Issued]]>=365,365,1))=0,\"\",(ROUND(IF(OR(Table13[[#This Row],[Date Issued]]=\"\",Table13[[#This Row],[Date Retired]]=\"\"),0,Table13[[#This Row],[Date Retired]]-Table13[[#This Row],[Date Issued]])/IF(Table13[[#This Row],[Date Retired]]-Table13[[#This Row],[Date Issued]]>=365,365,1),3)&IF(Table13[[#This Row],[Date Retired]]-Table13[[#This Row],[Date Issued]]>=365,\" Year(s)\",\" Day(s)\")))","v":""}]
[{"$nulls":8},{"$f":"IF((IF(OR(Table13[[#This Row],[Date Issued]]=\"\",Table13[[#This Row],[Date Retired]]=\"\"),0,Table13[[#This Row],[Date Retired]]-Table13[[#This Row],[Date Issued]])/IF(Table13[[#This Row],[Date Retired]]-Table13[[#This Row],[Date Issued]]>=365,365,1))=0,\"\",(ROUND(IF(OR(Table13[[#This Row],[Date Issued]]=\"\",Table13[[#This Row],[Date Retired]]=\"\"),0,Table13[[#This Row],[Date Retired]]-Table13[[#This Row],[Date Issued]])/IF(Table13[[#This Row],[Date Retired]]-Table13[[#This Row],[Date Issued]]>=365,365,1),3)&IF(Table13[[#This Row],[Date Retired]]-Table13[[#This Row],[Date Issued]]>=365,\" Year(s)\",\" Day(s)\")))","v":""}]
[{"$nulls":8},{"$f":"IF((IF(OR(Table13[[#This Row],[Date Issued]]=\"\",Table13[[#This Row],[Date Retired]]=\"\"),0,Table13[[#This Row],[Date Retired]]-Table13[[#This Row],[Date Issued]])/IF(Table13[[#This Row],[Date Retired]]-Table13[[#This Row],[Date Issued]]>=365,365,1))=0,\"\",(ROUND(IF(OR(Table13[[#This Row],[Date Issued]]=\"\",Table13[[#This Row],[Date Retired]]=\"\"),0,Table13[[#This Row],[Date Retired]]-Table13[[#This Row],[Date Issued]])/IF(Table13[[#This Row],[Date Retired]]-Table13[[#This Row],[Date Issued]]>=365,365,1),3)&IF(Table13[[#This Row],[Date Retired]]-Table13[[#This Row],[Date Issued]]>=365,\" Year(s)\",\" Day(s)\")))","v":""}]
[{"$nulls":8},{"$f":"IF((IF(OR(Table13[[#This Row],[Date Issued]]=\"\",Table13[[#This Row],[Date Retired]]=\"\"),0,Table13[[#This Row],[Date Retired]]-Table13[[#This Row],[Date Issued]])/IF(Table13[[#This Row],[Date Retired]]-Table13[[#This Row],[Date Issued]]>=365,365,1))=0,\"\",(ROUND(IF(OR(Table13[[#This Row],[Date Issued]]=\"\",Table13[[#This Row],[Date Retired]]=\"\"),0,Table13[[#This Row],[Date Retired]]-Table13[[#This Row],[Date Issued]])/IF(Table13[[#This Row],[Date Retired]]-Table13[[#This Row],[Date Issued]]>=365,365,1),3)&IF(Table13[[#This Row],[Date Retired]]-Table13[[#This Row],[Date Issued]]>=365,\" Year(s)\",\" Day(s)\")))","v":""}]
[{"$nulls":8},{"$f":"IF((IF(OR(Table13[[#This Row],[Date Issued]]=\"\",Table13[[#This Row],[Date Retired]]=\"\"),0,Table13[[#This Row],[Date Retired]]-Table13[[#This Row],[Date Issued]])/IF(Table13[[#This Row],[Date Retired]]-Table13[[#This Row],[Date Issued]]>=365,365,1))=0,\"\",(ROUND(IF(OR(Table13[[#This Row],[Date Issued]]=\"\",Table13[[#This Row],[Date Retired]]=\"\"),0,Table13[[#This Row],[Date Retired]]-Table13[[#This Row],[Date Issued]])/IF(Table13[[#This Row],[Date Retired]]-Table13[[#This Row],[Date Issued]]>=365,365,1),3)&IF(Table13[[#This Row],[Date Retired]]-Table13[[#This Row],[Date Issued]]>=365,\" Year(s)\",\" Day(s)\")))","v":""}]
[{"$nulls":8},{"$f":"IF((IF(OR(Table13[[#This Row],[Date Issued]]=\"\",Table13[[#This Row],[Date Retired]]=\"\"),0,Table13[[#This Row],[Date Retired]]-Table13[[#This Row],[Date Issued]])/IF(Table13[[#This Row],[Date Retired]]-Table13[[#This Row],[Date Issued]]>=365,365,1))=0,\"\",(ROUND(IF(OR(Table13[[#This Row],[Date Issued]]=\"\",Table13[[#This Row],[Date Retired]]=\"\"),0,Table13[[#This Row],[Date Retired]]-Table13[[#This Row],[Date Issued]])/IF(Table13[[#This Row],[Date Retired]]-Table13[[#This Row],[Date Issued]]>=365,365,1),3)&IF(Table13[[#This Row],[Date Retired]]-Table13[[#This Row],[Date Issued]]>=365,\" Year(s)\",\" Day(s)\")))","v":""}]
[{"$nulls":8},{"$f":"IF((IF(OR(Table13[[#This Row],[Date Issued]]=\"\",Table13[[#This Row],[Date Retired]]=\"\"),0,Table13[[#This Row],[Date Retired]]-Table13[[#This Row],[Date Issued]])/IF(Table13[[#This Row],[Date Retired]]-Table13[[#This Row],[Date Issued]]>=365,365,1))=0,\"\",(ROUND(IF(OR(Table13[[#This Row],[Date Issued]]=\"\",Table13[[#This Row],[Date Retired]]=\"\"),0,Table13[[#This Row],[Date Retired]]-Table13[[#This Row],[Date Issued]])/IF(Table13[[#This Row],[Date Retired]]-Table13[[#This Row],[Date Issued]]>=365,365,1),3)&IF(Table13[[#This Row],[Date Retired]]-Table13[[#This Row],[Date Issued]]>=365,\" Year(s)\",\" Day(s)\")))","v":""}]
[{"$nulls":8},{"$f":"IF((IF(OR(Table13[[#This Row],[Date Issued]]=\"\",Table13[[#This Row],[Date Retired]]=\"\"),0,Table13[[#This Row],[Date Retired]]-Table13[[#This Row],[Date Issued]])/IF(Table13[[#This Row],[Date Retired]]-Table13[[#This Row],[Date Issued]]>=365,365,1))=0,\"\",(ROUND(IF(OR(Table13[[#This Row],[Date Issued]]=\"\",Table13[[#This Row],[Date Retired]]=\"\"),0,Table13[[#This Row],[Date Retired]]-Table13[[#This Row],[Date Issued]])/IF(Table13[[#This Row],[Date Retired]]-Table13[[#This Row],[Date Issued]]>=365,365,1),3)&IF(Table13[[#This Row],[Date Retired]]-Table13[[#This Row],[Date Issued]]>=365,\" Year(s)\",\" Day(s)\")))","v":""}]
[{"$nulls":8},{"$f":"IF((IF(OR(Table13[[#This Row],[Date Issued]]=\"\",Table13[[#This Row],[Date Retired]]=\"\"),0,Table13[[#This Row],[Date Retired]]-Table13[[#This Row],[Date Issued]])/IF(Table13[[#This Row],[Date Retired]]-Table13[[#This Row],[Date Issued]]>=365,365,1))=0,\"\",(ROUND(IF(OR(Table13[[#This Row],[Date Issued]]=\"\",Table13[[#This Row],[Date Retired]]=\"\"),0,Table13[[#This Row],[Date Retired]]-Table13[[#This Row],[Date Issued]])/IF(Table13[[#This Row],[Date Retired]]-Table13[[#This Row],[Date Issued]]>=365,365,1),3)&IF(Table13[[#This Row],[Date Retired]]-Table13[[#This Row],[Date Issued]]>=365,\" Year(s)\",\" Day(s)\")))","v":""}]
[{"$nulls":8},{"$f":"IF((IF(OR(Table13[[#This Row],[Date Issued]]=\"\",Table13[[#This Row],[Date Retired]]=\"\"),0,Table13[[#This Row],[Date Retired]]-Table13[[#This Row],[Date Issued]])/IF(Table13[[#This Row],[Date Retired]]-Table13[[#This Row],[Date Issued]]>=365,365,1))=0,\"\",(ROUND(IF(OR(Table13[[#This Row],[Date Issued]]=\"\",Table13[[#This Row],[Date Retired]]=\"\"),0,Table13[[#This Row],[Date Retired]]-Table13[[#This Row],[Date Issued]])/IF(Table13[[#This Row],[Date Retired]]-Table13[[#This Row],[Date Issued]]>=365,365,1),3)&IF(Table13[[#This Row],[Date Retired]]-Table13[[#This Row],[Date Issued]]>=365,\" Year(s)\",\" Day(s)\")))","v":""}]
[{"$nulls":8},{"$f":"IF((IF(OR(Table13[[#This Row],[Date Issued]]=\"\",Table13[[#This Row],[Date Retired]]=\"\"),0,Table13[[#This Row],[Date Retired]]-Table13[[#This Row],[Date Issued]])/IF(Table13[[#This Row],[Date Retired]]-Table13[[#This Row],[Date Issued]]>=365,365,1))=0,\"\",(ROUND(IF(OR(Table13[[#This Row],[Date Issued]]=\"\",Table13[[#This Row],[Date Retired]]=\"\"),0,Table13[[#This Row],[Date Retired]]-Table13[[#This Row],[Date Issued]])/IF(Table13[[#This Row],[Date Retired]]-Table13[[#This Row],[Date Issued]]>=365,365,1),3)&IF(Table13[[#This Row],[Date Retired]]-Table13[[#This Row],[Date Issued]]>=365,\" Year(s)\",\" Day(s)\")))","v":""}]
[{"$nulls":8},{"$f":"IF((IF(OR(Table13[[#This Row],[Date Issued]]=\"\",Table13[[#This Row],[Date Retired]]=\"\"),0,Table13[[#This Row],[Date Retired]]-Table13[[#This Row],[Date Issued]])/IF(Table13[[#This Row],[Date Retired]]-Table13[[#This Row],[Date Issued]]>=365,365,1))=0,\"\",(ROUND(IF(OR(Table13[[#This Row],[Date Issued]]=\"\",Table13[[#This Row],[Date Retired]]=\"\"),0,Table13[[#This Row],[Date Retired]]-Table13[[#This Row],[Date Issued]])/IF(Table13[[#This Row],[Date Retired]]-Table13[[#This Row],[Date Issued]]>=365,365,1),3)&IF(Table13[[#This Row],[Date Retired]]-Table13[[#This Row],[Date Issued]]>=365,\" Year(s)\",\" Day(s)\")))","v":""}]
[{"$nulls":8},{"$f":"IF((IF(OR(Table13[[#This Row],[Date Issued]]=\"\",Table13[[#This Row],[Date Retired]]=\"\"),0,Table13[[#This Row],[Date Retired]]-Table13[[#This Row],[Date Issued]])/IF(Table13[[#This Row],[Date Retired]]-Table13[[#This Row],[Date Issued]]>=365,365,1))=0,\"\",(ROUND(IF(OR(Table13[[#This Row],[Date Issued]]=\"\",Table13[[#This Row],[Date Retired]]=\"\"),0,Table13[[#This Row],[Date Retired]]-Table13[[#This Row],[Date Issued]])/IF(Table13[[#This Row],[Date Retired]]-Table13[[#This Row],[Date Issued]]>=365,365,1),3)&IF(Table13[[#This Row],[Date Retired]]-Table13[[#This Row],[Date Issued]]>=365,\" Year(s)\",\" Day(s)\")))","v":""}]
[{"$nulls":8},{"$f":"IF((IF(OR(Table13[[#This Row],[Date Issued]]=\"\",Table13[[#This Row],[Date Retired]]=\"\"),0,Table13[[#This Row],[Date Retired]]-Table13[[#This Row],[Date Issued]])/IF(Table13[[#This Row],[Date Retired]]-Table13[[#This Row],[Date Issued]]>=365,365,1))=0,\"\",(ROUND(IF(OR(Table13[[#This Row],[Date Issued]]=\"\",Table13[[#This Row],[Date Retired]]=\"\"),0,Table13[[#This Row],[Date Retired]]-Table13[[#This Row],[Date Issued]])/IF(Table13[[#This Row],[Date Retired]]-Table13[[#This Row],[Date Issued]]>=365,365,1),3)&IF(Table13[[#This Row],[Date Retired]]-Table13[[#This Row],[Date Issued]]>=365,\" Year(s)\",\" Day(s)\")))","v":""}]
[{"$nulls":8},{"$f":"IF((IF(OR(Table13[[#This Row],[Date Issued]]=\"\",Table13[[#This Row],[Date Retired]]=\"\"),0,Table13[[#This Row],[Date Retired]]-Table13[[#This Row],[Date Issued]])/IF(Table13[[#This Row],[Date Retired]]-Table13[[#This Row],[Date Issued]]>=365,365,1))=0,\"\",(ROUND(IF(OR(Table13[[#This Row],[Date Issued]]=\"\",Table13[[#This Row],[Date Retired]]=\"\"),0,Table13[[#This Row],[Date Retired]]-Table13[[#This Row],[Date Issued]])/IF(Table13[[#This Row],[Date Retired]]-Table13[[#This Row],[Date Issued]]>=365,365,1),3)&IF(Table13[[#This Row],[Date Retired]]-Table13[[#This Row],[Date Issued]]>=365,\" Year(s)\",\" Day(s)\")))","v":""}]
[{"$nulls":8},{"$f":"IF((IF(OR(Table13[[#This Row],[Date Issued]]=\"\",Table13[[#This Row],[Date Retired]]=\"\"),0,Table13[[#This Row],[Date Retired]]-Table13[[#This Row],[Date Issued]])/IF(Table13[[#This Row],[Date Retired]]-Table13[[#This Row],[Date Issued]]>=365,365,1))=0,\"\",(ROUND(IF(OR(Table13[[#This Row],[Date Issued]]=\"\",Table13[[#This Row],[Date Retired]]=\"\"),0,Table13[[#This Row],[Date Retired]]-Table13[[#This Row],[Date Issued]])/IF(Table13[[#This Row],[Date Retired]]-Table13[[#This Row],[Date Issued]]>=365,365,1),3)&IF(Table13[[#This Row],[Date Retired]]-Table13[[#This Row],[Date Issued]]>=365,\" Year(s)\",\" Day(s)\")))","v":""}]
[{"$nulls":8},{"$f":"IF((IF(OR(Table13[[#This Row],[Date Issued]]=\"\",Table13[[#This Row],[Date Retired]]=\"\"),0,Table13[[#This Row],[Date Retired]]-Table13[[#This Row],[Date Issued]])/IF(Table13[[#This Row],[Date Retired]]-Table13[[#This Row],[Date Issued]]>=365,365,1))=0,\"\",(ROUND(IF(OR(Table13[[#This Row],[Date Issued]]=\"\",Table13[[#This Row],[Date Retired]]=\"\"),0,Table13[[#This Row],[Date Retired]]-Table13[[#This Row],[Date Issued]])/IF(Table13[[#This Row],[Date Retired]]-Table13[[#This Row],[Date Issued]]>=365,365,1),3)&IF(Table13[[#This Row],[Date Retired]]-Table13[[#This Row],[Date Issued]]>=365,\" Year(s)\",\" Day(s)\")))","v":""}]
[{"$nulls":8},{"$f":"IF((IF(OR(Table13[[#This Row],[Date Issued]]=\"\",Table13[[#This Row],[Date Retired]]=\"\"),0,Table13[[#This Row],[Date Retired]]-Table13[[#This Row],[Date Issued]])/IF(Table13[[#This Row],[Date Retired]]-Table13[[#This Row],[Date Issued]]>=365,365,1))=0,\"\",(ROUND(IF(OR(Table13[[#This Row],[Date Issued]]=\"\",Table13[[#This Row],[Date Retired]]=\"\"),0,Table13[[#This Row],[Date Retired]]-Table13[[#This Row],[Date Issued]])/IF(Table13[[#This Row],[Date Retired]]-Table13[[#This Row],[Date Issued]]>=365,365,1),3)&IF(Table13[[#This Row],[Date Retired]]-Table13[[#This Row],[Date Issued]]>=365,\" Year(s)\",\" Day(s)\")))","v":""}]
[{"$nulls":8},{"$f":"IF((IF(OR(Table13[[#This Row],[Date Issued]]=\"\",Table13[[#This Row],[Date Retired]]=\"\"),0,Table13[[#This Row],[Date Retired]]-Table13[[#This Row],[Date Issued]])/IF(Table13[[#This Row],[Date Retired]]-Table13[[#This Row],[Date Issued]]>=365,365,1))=0,\"\",(ROUND(IF(OR(Table13[[#This Row],[Date Issued]]=\"\",Table13[[#This Row],[Date Retired]]=\"\"),0,Table13[[#This Row],[Date Retired]]-Table13[[#This Row],[Date Issued]])/IF(Table13[[#This Row],[Date Retired]]-Table13[[#This Row],[Date Issued]]>=365,365,1),3)&IF(Table13[[#This Row],[Date Retired]]-Table13[[#This Row],[Date Issued]]>=365,\" Year(s)\",\" Day(s)\")))","v":""}]
[{"$nulls":8},{"$f":"IF((IF(OR(Table13[[#This Row],[Date Issued]]=\"\",Table13[[#This Row],[Date Retired]]=\"\"),0,Table13[[#This Row],[Date Retired]]-Table13[[#This Row],[Date Issued]])/IF(Table13[[#This Row],[Date Retired]]-Table13[[#This Row],[Date Issued]]>=365,365,1))=0,\"\",(ROUND(IF(OR(Table13[[#This Row],[Date Issued]]=\"\",Table13[[#This Row],[Date Retired]]=\"\"),0,Table13[[#This Row],[Date Retired]]-Table13[[#This Row],[Date Issued]])/IF(Table13[[#This Row],[Date Retired]]-Table13[[#This Row],[Date Issued]]>=365,365,1),3)&IF(Table13[[#This Row],[Date Retired]]-Table13[[#This Row],[Date Issued]]>=365,\" Year(s)\",\" Day(s)\")))","v":""}]
[{"$nulls":8},{"$f":"IF((IF(OR(Table13[[#This Row],[Date Issued]]=\"\",Table13[[#This Row],[Date Retired]]=\"\"),0,Table13[[#This Row],[Date Retired]]-Table13[[#This Row],[Date Issued]])/IF(Table13[[#This Row],[Date Retired]]-Table13[[#This Row],[Date Issued]]>=365,365,1))=0,\"\",(ROUND(IF(OR(Table13[[#This Row],[Date Issued]]=\"\",Table13[[#This Row],[Date Retired]]=\"\"),0,Table13[[#This Row],[Date Retired]]-Table13[[#This Row],[Date Issued]])/IF(Table13[[#This Row],[Date Retired]]-Table13[[#This Row],[Date Issued]]>=365,365,1),3)&IF(Table13[[#This Row],[Date Retired]]-Table13[[#This Row],[Date Issued]]>=365,\" Year(s)\",\" Day(s)\")))","v":""}]
[{"$nulls":8},{"$f":"IF((IF(OR(Table13[[#This Row],[Date Issued]]=\"\",Table13[[#This Row],[Date Retired]]=\"\"),0,Table13[[#This Row],[Date Retired]]-Table13[[#This Row],[Date Issued]])/IF(Table13[[#This Row],[Date Retired]]-Table13[[#This Row],[Date Issued]]>=365,365,1))=0,\"\",(ROUND(IF(OR(Table13[[#This Row],[Date Issued]]=\"\",Table13[[#This Row],[Date Retired]]=\"\"),0,Table13[[#This Row],[Date Retired]]-Table13[[#This Row],[Date Issued]])/IF(Table13[[#This Row],[Date Retired]]-Table13[[#This Row],[Date Issued]]>=365,365,1),3)&IF(Table13[[#This Row],[Date Retired]]-Table13[[#This Row],[Date Issued]]>=365,\" Year(s)\",\" Day(s)\")))","v":""}]
[{"$nulls":8},{"$f":"IF((IF(OR(Table13[[#This Row],[Date Issued]]=\"\",Table13[[#This Row],[Date Retired]]=\"\"),0,Table13[[#This Row],[Date Retired]]-Table13[[#This Row],[Date Issued]])/IF(Table13[[#This Row],[Date Retired]]-Table13[[#This Row],[Date Issued]]>=365,365,1))=0,\"\",(ROUND(IF(OR(Table13[[#This Row],[Date Issued]]=\"\",Table13[[#This Row],[Date Retired]]=\"\"),0,Table13[[#This Row],[Date Retired]]-Table13[[#This Row],[Date Issued]])/IF(Table13[[#This Row],[Date Retired]]-Table13[[#This Row],[Date Issued]]>=365,365,1),3)&IF(Table13[[#This Row],[Date Retired]]-Table13[[#This Row],[Date Issued]]>=365,\" Year(s)\",\" Day(s)\")))","v":""}]
[{"$nulls":8},{"$f":"IF((IF(OR(Table13[[#This Row],[Date Issued]]=\"\",Table13[[#This Row],[Date Retired]]=\"\"),0,Table13[[#This Row],[Date Retired]]-Table13[[#This Row],[Date Issued]])/IF(Table13[[#This Row],[Date Retired]]-Table13[[#This Row],[Date Issued]]>=365,365,1))=0,\"\",(ROUND(IF(OR(Table13[[#This Row],[Date Issued]]=\"\",Table13[[#This Row],[Date Retired]]=\"\"),0,Table13[[#This Row],[Date Retired]]-Table13[[#This Row],[Date Issued]])/IF(Table13[[#This Row],[Date Retired]]-Table13[[#This Row],[Date Issued]]>=365,365,1),3)&IF(Table13[[#This Row],[Date Retired]]-Table13[[#This Row],[Date Issued]]>=365,\" Year(s)\",\" Day(s)\")))","v":""}]
[{"$nulls":8},{"$f":"IF((IF(OR(Table13[[#This Row],[Date Issued]]=\"\",Table13[[#This Row],[Date Retired]]=\"\"),0,Table13[[#This Row],[Date Retired]]-Table13[[#This Row],[Date Issued]])/IF(Table13[[#This Row],[Date Retired]]-Table13[[#This Row],[Date Issued]]>=365,365,1))=0,\"\",(ROUND(IF(OR(Table13[[#This Row],[Date Issued]]=\"\",Table13[[#This Row],[Date Retired]]=\"\"),0,Table13[[#This Row],[Date Retired]]-Table13[[#This Row],[Date Issued]])/IF(Table13[[#This Row],[Date Retired]]-Table13[[#This Row],[Date Issued]]>=365,365,1),3)&IF(Table13[[#This Row],[Date Retired]]-Table13[[#This Row],[Date Issued]]>=365,\" Year(s)\",\" Day(s)\")))","v":""}]
[{"$nulls":8},{"$f":"IF((IF(OR(Table13[[#This Row],[Date Issued]]=\"\",Table13[[#This Row],[Date Retired]]=\"\"),0,Table13[[#This Row],[Date Retired]]-Table13[[#This Row],[Date Issued]])/IF(Table13[[#This Row],[Date Retired]]-Table13[[#This Row],[Date Issued]]>=365,365,1))=0,\"\",(ROUND(IF(OR(Table13[[#This Row],[Date Issued]]=\"\",Table13[[#This Row],[Date Retired]]=\"\"),0,Table13[[#This Row],[Date Retired]]-Table13[[#This Row],[Date Issued]])/IF(Table13[[#This Row],[Date Retired]]-Table13[[#This Row],[Date Issued]]>=365,365,1),3)&IF(Table13[[#This Row],[Date Retired]]-Table13[[#This Row],[Date Issued]]>=365,\" Year(s)\",\" Day(s)\")))","v":""}]
[{"$nulls":8},{"$f":"IF((IF(OR(Table13[[#This Row],[Date Issued]]=\"\",Table13[[#This Row],[Date Retired]]=\"\"),0,Table13[[#This Row],[Date Retired]]-Table13[[#This Row],[Date Issued]])/IF(Table13[[#This Row],[Date Retired]]-Table13[[#This Row],[Date Issued]]>=365,365,1))=0,\"\",(ROUND(IF(OR(Table13[[#This Row],[Date Issued]]=\"\",Table13[[#This Row],[Date Retired]]=\"\"),0,Table13[[#This Row],[Date Retired]]-Table13[[#This Row],[Date Issued]])/IF(Table13[[#This Row],[Date Retired]]-Table13[[#This Row],[Date Issued]]>=365,365,1),3)&IF(Table13[[#This Row],[Date Retired]]-Table13[[#This Row],[Date Issued]]>=365,\" Year(s)\",\" Day(s)\")))","v":""}]
[{"$nulls":8},{"$f":"IF((IF(OR(Table13[[#This Row],[Date Issued]]=\"\",Table13[[#This Row],[Date Retired]]=\"\"),0,Table13[[#This Row],[Date Retired]]-Table13[[#This Row],[Date Issued]])/IF(Table13[[#This Row],[Date Retired]]-Table13[[#This Row],[Date Issued]]>=365,365,1))=0,\"\",(ROUND(IF(OR(Table13[[#This Row],[Date Issued]]=\"\",Table13[[#This Row],[Date Retired]]=\"\"),0,Table13[[#This Row],[Date Retired]]-Table13[[#This Row],[Date Issued]])/IF(Table13[[#This Row],[Date Retired]]-Table13[[#This Row],[Date Issued]]>=365,365,1),3)&IF(Table13[[#This Row],[Date Retired]]-Table13[[#This Row],[Date Issued]]>=365,\" Year(s)\",\" Day(s)\")))","v":""}]
[{"$nulls":8},{"$f":"IF((IF(OR(Table13[[#This Row],[Date Issued]]=\"\",Table13[[#This Row],[Date Retired]]=\"\"),0,Table13[[#This Row],[Date Retired]]-Table13[[#This Row],[Date Issued]])/IF(Table13[[#This Row],[Date Retired]]-Table13[[#This Row],[Date Issued]]>=365,365,1))=0,\"\",(ROUND(IF(OR(Table13[[#This Row],[Date Issued]]=\"\",Table13[[#This Row],[Date Retired]]=\"\"),0,Table13[[#This Row],[Date Retired]]-Table13[[#This Row],[Date Issued]])/IF(Table13[[#This Row],[Date Retired]]-Table13[[#This Row],[Date Issued]]>=365,365,1),3)&IF(Table13[[#This Row],[Date Retired]]-Table13[[#This Row],[Date Issued]]>=365,\" Year(s)\",\" Day(s)\")))","v":""}]
[{"$nulls":8},{"$f":"IF((IF(OR(Table13[[#This Row],[Date Issued]]=\"\",Table13[[#This Row],[Date Retired]]=\"\"),0,Table13[[#This Row],[Date Retired]]-Table13[[#This Row],[Date Issued]])/IF(Table13[[#This Row],[Date Retired]]-Table13[[#This Row],[Date Issued]]>=365,365,1))=0,\"\",(ROUND(IF(OR(Table13[[#This Row],[Date Issued]]=\"\",Table13[[#This Row],[Date Retired]]=\"\"),0,Table13[[#This Row],[Date Retired]]-Table13[[#This Row],[Date Issued]])/IF(Table13[[#This Row],[Date Retired]]-Table13[[#This Row],[Date Issued]]>=365,365,1),3)&IF(Table13[[#This Row],[Date Retired]]-Table13[[#This Row],[Date Issued]]>=365,\" Year(s)\",\" Day(s)\")))","v":""}]
[{"$nulls":8},{"$f":"IF((IF(OR(Table13[[#This Row],[Date Issued]]=\"\",Table13[[#This Row],[Date Retired]]=\"\"),0,Table13[[#This Row],[Date Retired]]-Table13[[#This Row],[Date Issued]])/IF(Table13[[#This Row],[Date Retired]]-Table13[[#This Row],[Date Issued]]>=365,365,1))=0,\"\",(ROUND(IF(OR(Table13[[#This Row],[Date Issued]]=\"\",Table13[[#This Row],[Date Retired]]=\"\"),0,Table13[[#This Row],[Date Retired]]-Table13[[#This Row],[Date Issued]])/IF(Table13[[#This Row],[Date Retired]]-Table13[[#This Row],[Date Issued]]>=365,365,1),3)&IF(Table13[[#This Row],[Date Retired]]-Table13[[#This Row],[Date Issued]]>=365,\" Year(s)\",\" Day(s)\")))","v":""}]
[{"$nulls":8},{"$f":"IF((IF(OR(Table13[[#This Row],[Date Issued]]=\"\",Table13[[#This Row],[Date Retired]]=\"\"),0,Table13[[#This Row],[Date Retired]]-Table13[[#This Row],[Date Issued]])/IF(Table13[[#This Row],[Date Retired]]-Table13[[#This Row],[Date Issued]]>=365,365,1))=0,\"\",(ROUND(IF(OR(Table13[[#This Row],[Date Issued]]=\"\",Table13[[#This Row],[Date Retired]]=\"\"),0,Table13[[#This Row],[Date Retired]]-Table13[[#This Row],[Date Issued]])/IF(Table13[[#This Row],[Date Retired]]-Table13[[#This Row],[Date Issued]]>=365,365,1),3)&IF(Table13[[#This Row],[Date Retired]]-Table13[[#This Row],[Date Issued]]>=365,\" Year(s)\",\" Day(s)\")))","v":""}]
[{"$nulls":8},{"$f":"IF((IF(OR(Table13[[#This Row],[Date Issued]]=\"\",Table13[[#This Row],[Date Retired]]=\"\"),0,Table13[[#This Row],[Date Retired]]-Table13[[#This Row],[Date Issued]])/IF(Table13[[#This Row],[Date Retired]]-Table13[[#This Row],[Date Issued]]>=365,365,1))=0,\"\",(ROUND(IF(OR(Table13[[#This Row],[Date Issued]]=\"\",Table13[[#This Row],[Date Retired]]=\"\"),0,Table13[[#This Row],[Date Retired]]-Table13[[#This Row],[Date Issued]])/IF(Table13[[#This Row],[Date Retired]]-Table13[[#This Row],[Date Issued]]>=365,365,1),3)&IF(Table13[[#This Row],[Date Retired]]-Table13[[#This Row],[Date Issued]]>=365,\" Year(s)\",\" Day(s)\")))","v":""}]
[{"$nulls":8},{"$f":"IF((IF(OR(Table13[[#This Row],[Date Issued]]=\"\",Table13[[#This Row],[Date Retired]]=\"\"),0,Table13[[#This Row],[Date Retired]]-Table13[[#This Row],[Date Issued]])/IF(Table13[[#This Row],[Date Retired]]-Table13[[#This Row],[Date Issued]]>=365,365,1))=0,\"\",(ROUND(IF(OR(Table13[[#This Row],[Date Issued]]=\"\",Table13[[#This Row],[Date Retired]]=\"\"),0,Table13[[#This Row],[Date Retired]]-Table13[[#This Row],[Date Issued]])/IF(Table13[[#This Row],[Date Retired]]-Table13[[#This Row],[Date Issued]]>=365,365,1),3)&IF(Table13[[#This Row],[Date Retired]]-Table13[[#This Row],[Date Issued]]>=365,\" Year(s)\",\" Day(s)\")))","v":""}]
[{"$nulls":8},{"$f":"IF((IF(OR(Table13[[#This Row],[Date Issued]]=\"\",Table13[[#This Row],[Date Retired]]=\"\"),0,Table13[[#This Row],[Date Retired]]-Table13[[#This Row],[Date Issued]])/IF(Table13[[#This Row],[Date Retired]]-Table13[[#This Row],[Date Issued]]>=365,365,1))=0,\"\",(ROUND(IF(OR(Table13[[#This Row],[Date Issued]]=\"\",Table13[[#This Row],[Date Retired]]=\"\"),0,Table13[[#This Row],[Date Retired]]-Table13[[#This Row],[Date Issued]])/IF(Table13[[#This Row],[Date Retired]]-Table13[[#This Row],[Date Issued]]>=365,365,1),3)&IF(Table13[[#This Row],[Date Retired]]-Table13[[#This Row],[Date Issued]]>=365,\" Year(s)\",\" Day(s)\")))","v":""}]
[{"$nulls":8},{"$f":"IF((IF(OR(Table13[[#This Row],[Date Issued]]=\"\",Table13[[#This Row],[Date Retired]]=\"\"),0,Table13[[#This Row],[Date Retired]]-Table13[[#This Row],[Date Issued]])/IF(Table13[[#This Row],[Date Retired]]-Table13[[#This Row],[Date Issued]]>=365,365,1))=0,\"\",(ROUND(IF(OR(Table13[[#This Row],[Date Issued]]=\"\",Table13[[#This Row],[Date Retired]]=\"\"),0,Table13[[#This Row],[Date Retired]]-Table13[[#This Row],[Date Issued]])/IF(Table13[[#This Row],[Date Retired]]-Table13[[#This Row],[Date Issued]]>=365,365,1),3)&IF(Table13[[#This Row],[Date Retired]]-Table13[[#This Row],[Date Issued]]>=365,\" Year(s)\",\" Day(s)\")))","v":""}]
[{"$nulls":8},{"$f":"IF((IF(OR(Table13[[#This Row],[Date Issued]]=\"\",Table13[[#This Row],[Date Retired]]=\"\"),0,Table13[[#This Row],[Date Retired]]-Table13[[#This Row],[Date Issued]])/IF(Table13[[#This Row],[Date Retired]]-Table13[[#This Row],[Date Issued]]>=365,365,1))=0,\"\",(ROUND(IF(OR(Table13[[#This Row],[Date Issued]]=\"\",Table13[[#This Row],[Date Retired]]=\"\"),0,Table13[[#This Row],[Date Retired]]-Table13[[#This Row],[Date Issued]])/IF(Table13[[#This Row],[Date Retired]]-Table13[[#This Row],[Date Issued]]>=365,365,1),3)&IF(Table13[[#This Row],[Date Retired]]-Table13[[#This Row],[Date Issued]]>=365,\" Year(s)\",\" Day(s)\")))","v":""}]
[{"$nulls":8},{"$f":"IF((IF(OR(Table13[[#This Row],[Date Issued]]=\"\",Table13[[#This Row],[Date Retired]]=\"\"),0,Table13[[#This Row],[Date Retired]]-Table13[[#This Row],[Date Issued]])/IF(Table13[[#This Row],[Date Retired]]-Table13[[#This Row],[Date Issued]]>=365,365,1))=0,\"\",(ROUND(IF(OR(Table13[[#This Row],[Date Issued]]=\"\",Table13[[#This Row],[Date Retired]]=\"\"),0,Table13[[#This Row],[Date Retired]]-Table13[[#This Row],[Date Issued]])/IF(Table13[[#This Row],[Date Retired]]-Table13[[#This Row],[Date Issued]]>=365,365,1),3)&IF(Table13[[#This Row],[Date Retired]]-Table13[[#This Row],[Date Issued]]>=365,\" Year(s)\",\" Day(s)\")))","v":""}]
[{"$nulls":8},{"$f":"IF((IF(OR(Table13[[#This Row],[Date Issued]]=\"\",Table13[[#This Row],[Date Retired]]=\"\"),0,Table13[[#This Row],[Date Retired]]-Table13[[#This Row],[Date Issued]])/IF(Table13[[#This Row],[Date Retired]]-Table13[[#This Row],[Date Issued]]>=365,365,1))=0,\"\",(ROUND(IF(OR(Table13[[#This Row],[Date Issued]]=\"\",Table13[[#This Row],[Date Retired]]=\"\"),0,Table13[[#This Row],[Date Retired]]-Table13[[#This Row],[Date Issued]])/IF(Table13[[#This Row],[Date Retired]]-Table13[[#This Row],[Date Issued]]>=365,365,1),3)&IF(Table13[[#This Row],[Date Retired]]-Table13[[#This Row],[Date Issued]]>=365,\" Year(s)\",\" Day(s)\")))","v":""}]
[{"$nulls":8},{"$f":"IF((IF(OR(Table13[[#This Row],[Date Issued]]=\"\",Table13[[#This Row],[Date Retired]]=\"\"),0,Table13[[#This Row],[Date Retired]]-Table13[[#This Row],[Date Issued]])/IF(Table13[[#This Row],[Date Retired]]-Table13[[#This Row],[Date Issued]]>=365,365,1))=0,\"\",(ROUND(IF(OR(Table13[[#This Row],[Date Issued]]=\"\",Table13[[#This Row],[Date Retired]]=\"\"),0,Table13[[#This Row],[Date Retired]]-Table13[[#This Row],[Date Issued]])/IF(Table13[[#This Row],[Date Retired]]-Table13[[#This Row],[Date Issued]]>=365,365,1),3)&IF(Table13[[#This Row],[Date Retired]]-Table13[[#This Row],[Date Issued]]>=365,\" Year(s)\",\" Day(s)\")))","v":""}]
[{"$nulls":8},{"$f":"IF((IF(OR(Table13[[#This Row],[Date Issued]]=\"\",Table13[[#This Row],[Date Retired]]=\"\"),0,Table13[[#This Row],[Date Retired]]-Table13[[#This Row],[Date Issued]])/IF(Table13[[#This Row],[Date Retired]]-Table13[[#This Row],[Date Issued]]>=365,365,1))=0,\"\",(ROUND(IF(OR(Table13[[#This Row],[Date Issued]]=\"\",Table13[[#This Row],[Date Retired]]=\"\"),0,Table13[[#This Row],[Date Retired]]-Table13[[#This Row],[Date Issued]])/IF(Table13[[#This Row],[Date Retired]]-Table13[[#This Row],[Date Issued]]>=365,365,1),3)&IF(Table13[[#This Row],[Date Retired]]-Table13[[#This Row],[Date Issued]]>=365,\" Year(s)\",\" Day(s)\")))","v":""}]
[{"$nulls":8},{"$f":"IF((IF(OR(Table13[[#This Row],[Date Issued]]=\"\",Table13[[#This Row],[Date Retired]]=\"\"),0,Table13[[#This Row],[Date Retired]]-Table13[[#This Row],[Date Issued]])/IF(Table13[[#This Row],[Date Retired]]-Table13[[#This Row],[Date Issued]]>=365,365,1))=0,\"\",(ROUND(IF(OR(Table13[[#This Row],[Date Issued]]=\"\",Table13[[#This Row],[Date Retired]]=\"\"),0,Table13[[#This Row],[Date Retired]]-Table13[[#This Row],[Date Issued]])/IF(Table13[[#This Row],[Date Retired]]-Table13[[#This Row],[Date Issued]]>=365,365,1),3)&IF(Table13[[#This Row],[Date Retired]]-Table13[[#This Row],[Date Issued]]>=365,\" Year(s)\",\" Day(s)\")))","v":""}]
[{"$nulls":8},{"$f":"IF((IF(OR(Table13[[#This Row],[Date Issued]]=\"\",Table13[[#This Row],[Date Retired]]=\"\"),0,Table13[[#This Row],[Date Retired]]-Table13[[#This Row],[Date Issued]])/IF(Table13[[#This Row],[Date Retired]]-Table13[[#This Row],[Date Issued]]>=365,365,1))=0,\"\",(ROUND(IF(OR(Table13[[#This Row],[Date Issued]]=\"\",Table13[[#This Row],[Date Retired]]=\"\"),0,Table13[[#This Row],[Date Retired]]-Table13[[#This Row],[Date Issued]])/IF(Table13[[#This Row],[Date Retired]]-Table13[[#This Row],[Date Issued]]>=365,365,1),3)&IF(Table13[[#This Row],[Date Retired]]-Table13[[#This Row],[Date Issued]]>=365,\" Year(s)\",\" Day(s)\")))","v":""}]
[{"$nulls":8},{"$f":"IF((IF(OR(Table13[[#This Row],[Date Issued]]=\"\",Table13[[#This Row],[Date Retired]]=\"\"),0,Table13[[#This Row],[Date Retired]]-Table13[[#This Row],[Date Issued]])/IF(Table13[[#This Row],[Date Retired]]-Table13[[#This Row],[Date Issued]]>=365,365,1))=0,\"\",(ROUND(IF(OR(Table13[[#This Row],[Date Issued]]=\"\",Table13[[#This Row],[Date Retired]]=\"\"),0,Table13[[#This Row],[Date Retired]]-Table13[[#This Row],[Date Issued]])/IF(Table13[[#This Row],[Date Retired]]-Table13[[#This Row],[Date Issued]]>=365,365,1),3)&IF(Table13[[#This Row],[Date Retired]]-Table13[[#This Row],[Date Issued]]>=365,\" Year(s)\",\" Day(s)\")))","v":""}]
[{"$nulls":8},{"$f":"IF((IF(OR(Table13[[#This Row],[Date Issued]]=\"\",Table13[[#This Row],[Date Retired]]=\"\"),0,Table13[[#This Row],[Date Retired]]-Table13[[#This Row],[Date Issued]])/IF(Table13[[#This Row],[Date Retired]]-Table13[[#This Row],[Date Issued]]>=365,365,1))=0,\"\",(ROUND(IF(OR(Table13[[#This Row],[Date Issued]]=\"\",Table13[[#This Row],[Date Retired]]=\"\"),0,Table13[[#This Row],[Date Retired]]-Table13[[#This Row],[Date Issued]])/IF(Table13[[#This Row],[Date Retired]]-Table13[[#This Row],[Date Issued]]>=365,365,1),3)&IF(Table13[[#This Row],[Date Retired]]-Table13[[#This Row],[Date Issued]]>=365,\" Year(s)\",\" Day(s)\")))","v":""}]
[{"$nulls":8},{"$f":"IF((IF(OR(Table13[[#This Row],[Date Issued]]=\"\",Table13[[#This Row],[Date Retired]]=\"\"),0,Table13[[#This Row],[Date Retired]]-Table13[[#This Row],[Date Issued]])/IF(Table13[[#This Row],[Date Retired]]-Table13[[#This Row],[Date Issued]]>=365,365,1))=0,\"\",(ROUND(IF(OR(Table13[[#This Row],[Date Issued]]=\"\",Table13[[#This Row],[Date Retired]]=\"\"),0,Table13[[#This Row],[Date Retired]]-Table13[[#This Row],[Date Issued]])/IF(Table13[[#This Row],[Date Retired]]-Table13[[#This Row],[Date Issued]]>=365,365,1),3)&IF(Table13[[#This Row],[Date Retired]]-Table13[[#This Row],[Date Issued]]>=365,\" Year(s)\",\" Day(s)\")))","v":""}]
[{"$nulls":8},{"$f":"IF((IF(OR(Table13[[#This Row],[Date Issued]]=\"\",Table13[[#This Row],[Date Retired]]=\"\"),0,Table13[[#This Row],[Date Retired]]-Table13[[#This Row],[Date Issued]])/IF(Table13[[#This Row],[Date Retired]]-Table13[[#This Row],[Date Issued]]>=365,365,1))=0,\"\",(ROUND(IF(OR(Table13[[#This Row],[Date Issued]]=\"\",Table13[[#This Row],[Date Retired]]=\"\"),0,Table13[[#This Row],[Date Retired]]-Table13[[#This Row],[Date Issued]])/IF(Table13[[#This Row],[Date Retired]]-Table13[[#This Row],[Date Issued]]>=365,365,1),3)&IF(Table13[[#This Row],[Date Retired]]-Table13[[#This Row],[Date Issued]]>=365,\" Year(s)\",\" Day(s)\")))","v":""}]
[{"$nulls":8},{"$f":"IF((IF(OR(Table13[[#This Row],[Date Issued]]=\"\",Table13[[#This Row],[Date Retired]]=\"\"),0,Table13[[#This Row],[Date Retired]]-Table13[[#This Row],[Date Issued]])/IF(Table13[[#This Row],[Date Retired]]-Table13[[#This Row],[Date Issued]]>=365,365,1))=0,\"\",(ROUND(IF(OR(Table13[[#This Row],[Date Issued]]=\"\",Table13[[#This Row],[Date Retired]]=\"\"),0,Table13[[#This Row],[Date Retired]]-Table13[[#This Row],[Date Issued]])/IF(Table13[[#This Row],[Date Retired]]-Table13[[#This Row],[Date Issued]]>=365,365,1),3)&IF(Table13[[#This Row],[Date Retired]]-Table13[[#This Row],[Date Issued]]>=365,\" Year(s)\",\" Day(s)\")))","v":""}]
[{"$nulls":8},{"$f":"IF((IF(OR(Table13[[#This Row],[Date Issued]]=\"\",Table13[[#This Row],[Date Retired]]=\"\"),0,Table13[[#This Row],[Date Retired]]-Table13[[#This Row],[Date Issued]])/IF(Table13[[#This Row],[Date Retired]]-Table13[[#This Row],[Date Issued]]>=365,365,1))=0,\"\",(ROUND(IF(OR(Table13[[#This Row],[Date Issued]]=\"\",Table13[[#This Row],[Date Retired]]=\"\"),0,Table13[[#This Row],[Date Retired]]-Table13[[#This Row],[Date Issued]])/IF(Table13[[#This Row],[Date Retired]]-Table13[[#This Row],[Date Issued]]>=365,365,1),3)&IF(Table13[[#This Row],[Date Retired]]-Table13[[#This Row],[Date Issued]]>=365,\" Year(s)\",\" Day(s)\")))","v":""}]
[{"$nulls":8},{"$f":"IF((IF(OR(Table13[[#This Row],[Date Issued]]=\"\",Table13[[#This Row],[Date Retired]]=\"\"),0,Table13[[#This Row],[Date Retired]]-Table13[[#This Row],[Date Issued]])/IF(Table13[[#This Row],[Date Retired]]-Table13[[#This Row],[Date Issued]]>=365,365,1))=0,\"\",(ROUND(IF(OR(Table13[[#This Row],[Date Issued]]=\"\",Table13[[#This Row],[Date Retired]]=\"\"),0,Table13[[#This Row],[Date Retired]]-Table13[[#This Row],[Date Issued]])/IF(Table13[[#This Row],[Date Retired]]-Table13[[#This Row],[Date Issued]]>=365,365,1),3)&IF(Table13[[#This Row],[Date Retired]]-Table13[[#This Row],[Date Issued]]>=365,\" Year(s)\",\" Day(s)\")))","v":""}]
[{"$nulls":8},{"$f":"IF((IF(OR(Table13[[#This Row],[Date Issued]]=\"\",Table13[[#This Row],[Date Retired]]=\"\"),0,Table13[[#This Row],[Date Retired]]-Table13[[#This Row],[Date Issued]])/IF(Table13[[#This Row],[Date Retired]]-Table13[[#This Row],[Date Issued]]>=365,365,1))=0,\"\",(ROUND(IF(OR(Table13[[#This Row],[Date Issued]]=\"\",Table13[[#This Row],[Date Retired]]=\"\"),0,Table13[[#This Row],[Date Retired]]-Table13[[#This Row],[Date Issued]])/IF(Table13[[#This Row],[Date Retired]]-Table13[[#This Row],[Date Issued]]>=365,365,1),3)&IF(Table13[[#This Row],[Date Retired]]-Table13[[#This Row],[Date Issued]]>=365,\" Year(s)\",\" Day(s)\")))","v":""}]
[{"$nulls":8},{"$f":"IF((IF(OR(Table13[[#This Row],[Date Issued]]=\"\",Table13[[#This Row],[Date Retired]]=\"\"),0,Table13[[#This Row],[Date Retired]]-Table13[[#This Row],[Date Issued]])/IF(Table13[[#This Row],[Date Retired]]-Table13[[#This Row],[Date Issued]]>=365,365,1))=0,\"\",(ROUND(IF(OR(Table13[[#This Row],[Date Issued]]=\"\",Table13[[#This Row],[Date Retired]]=\"\"),0,Table13[[#This Row],[Date Retired]]-Table13[[#This Row],[Date Issued]])/IF(Table13[[#This Row],[Date Retired]]-Table13[[#This Row],[Date Issued]]>=365,365,1),3)&IF(Table13[[#This Row],[Date Retired]]-Table13[[#This Row],[Date Issued]]>=365,\" Year(s)\",\" Day(s)\")))","v":""}]
[{"$nulls":8},{"$f":"IF((IF(OR(Table13[[#This Row],[Date Issued]]=\"\",Table13[[#This Row],[Date Retired]]=\"\"),0,Table13[[#This Row],[Date Retired]]-Table13[[#This Row],[Date Issued]])/IF(Table13[[#This Row],[Date Retired]]-Table13[[#This Row],[Date Issued]]>=365,365,1))=0,\"\",(ROUND(IF(OR(Table13[[#This Row],[Date Issued]]=\"\",Table13[[#This Row],[Date Retired]]=\"\"),0,Table13[[#This Row],[Date Retired]]-Table13[[#This Row],[Date Issued]])/IF(Table13[[#This Row],[Date Retired]]-Table13[[#This Row],[Date Issued]]>=365,365,1),3)&IF(Table13[[#This Row],[Date Retired]]-Table13[[#This Row],[Date Issued]]>=365,\" Year(s)\",\" Day(s)\")))","v":""}]
[{"$nulls":8},{"$f":"IF((IF(OR(Table13[[#This Row],[Date Issued]]=\"\",Table13[[#This Row],[Date Retired]]=\"\"),0,Table13[[#This Row],[Date Retired]]-Table13[[#This Row],[Date Issued]])/IF(Table13[[#This Row],[Date Retired]]-Table13[[#This Row],[Date Issued]]>=365,365,1))=0,\"\",(ROUND(IF(OR(Table13[[#This Row],[Date Issued]]=\"\",Table13[[#This Row],[Date Retired]]=\"\"),0,Table13[[#This Row],[Date Retired]]-Table13[[#This Row],[Date Issued]])/IF(Table13[[#This Row],[Date Retired]]-Table13[[#This Row],[Date Issued]]>=365,365,1),3)&IF(Table13[[#This Row],[Date Retired]]-Table13[[#This Row],[Date Issued]]>=365,\" Year(s)\",\" Day(s)\")))","v":""}]
[{"$nulls":8},{"$f":"IF((IF(OR(Table13[[#This Row],[Date Issued]]=\"\",Table13[[#This Row],[Date Retired]]=\"\"),0,Table13[[#This Row],[Date Retired]]-Table13[[#This Row],[Date Issued]])/IF(Table13[[#This Row],[Date Retired]]-Table13[[#This Row],[Date Issued]]>=365,365,1))=0,\"\",(ROUND(IF(OR(Table13[[#This Row],[Date Issued]]=\"\",Table13[[#This Row],[Date Retired]]=\"\"),0,Table13[[#This Row],[Date Retired]]-Table13[[#This Row],[Date Issued]])/IF(Table13[[#This Row],[Date Retired]]-Table13[[#This Row],[Date Issued]]>=365,365,1),3)&IF(Table13[[#This Row],[Date Retired]]-Table13[[#This Row],[Date Issued]]>=365,\" Year(s)\",\" Day(s)\")))","v":""}]
[{"$nulls":8},{"$f":"IF((IF(OR(Table13[[#This Row],[Date Issued]]=\"\",Table13[[#This Row],[Date Retired]]=\"\"),0,Table13[[#This Row],[Date Retired]]-Table13[[#This Row],[Date Issued]])/IF(Table13[[#This Row],[Date Retired]]-Table13[[#This Row],[Date Issued]]>=365,365,1))=0,\"\",(ROUND(IF(OR(Table13[[#This Row],[Date Issued]]=\"\",Table13[[#This Row],[Date Retired]]=\"\"),0,Table13[[#This Row],[Date Retired]]-Table13[[#This Row],[Date Issued]])/IF(Table13[[#This Row],[Date Retired]]-Table13[[#This Row],[Date Issued]]>=365,365,1),3)&IF(Table13[[#This Row],[Date Retired]]-Table13[[#This Row],[Date Issued]]>=365,\" Year(s)\",\" Day(s)\")))","v":""}]
[{"$nulls":8},{"$f":"IF((IF(OR(Table13[[#This Row],[Date Issued]]=\"\",Table13[[#This Row],[Date Retired]]=\"\"),0,Table13[[#This Row],[Date Retired]]-Table13[[#This Row],[Date Issued]])/IF(Table13[[#This Row],[Date Retired]]-Table13[[#This Row],[Date Issued]]>=365,365,1))=0,\"\",(ROUND(IF(OR(Table13[[#This Row],[Date Issued]]=\"\",Table13[[#This Row],[Date Retired]]=\"\"),0,Table13[[#This Row],[Date Retired]]-Table13[[#This Row],[Date Issued]])/IF(Table13[[#This Row],[Date Retired]]-Table13[[#This Row],[Date Issued]]>=365,365,1),3)&IF(Table13[[#This Row],[Date Retired]]-Table13[[#This Row],[Date Issued]]>=365,\" Year(s)\",\" Day(s)\")))","v":""}]
[{"$nulls":8},{"$f":"IF((IF(OR(Table13[[#This Row],[Date Issued]]=\"\",Table13[[#This Row],[Date Retired]]=\"\"),0,Table13[[#This Row],[Date Retired]]-Table13[[#This Row],[Date Issued]])/IF(Table13[[#This Row],[Date Retired]]-Table13[[#This Row],[Date Issued]]>=365,365,1))=0,\"\",(ROUND(IF(OR(Table13[[#This Row],[Date Issued]]=\"\",Table13[[#This Row],[Date Retired]]=\"\"),0,Table13[[#This Row],[Date Retired]]-Table13[[#This Row],[Date Issued]])/IF(Table13[[#This Row],[Date Retired]]-Table13[[#This Row],[Date Issued]]>=365,365,1),3)&IF(Table13[[#This Row],[Date Retired]]-Table13[[#This Row],[Date Issued]]>=365,\" Year(s)\",\" Day(s)\")))","v":""}]
[{"$nulls":8},{"$f":"IF((IF(OR(Table13[[#This Row],[Date Issued]]=\"\",Table13[[#This Row],[Date Retired]]=\"\"),0,Table13[[#This Row],[Date Retired]]-Table13[[#This Row],[Date Issued]])/IF(Table13[[#This Row],[Date Retired]]-Table13[[#This Row],[Date Issued]]>=365,365,1))=0,\"\",(ROUND(IF(OR(Table13[[#This Row],[Date Issued]]=\"\",Table13[[#This Row],[Date Retired]]=\"\"),0,Table13[[#This Row],[Date Retired]]-Table13[[#This Row],[Date Issued]])/IF(Table13[[#This Row],[Date Retired]]-Table13[[#This Row],[Date Issued]]>=365,365,1),3)&IF(Table13[[#This Row],[Date Retired]]-Table13[[#This Row],[Date Issued]]>=365,\" Year(s)\",\" Day(s)\")))","v":""}]
[{"$nulls":8},{"$f":"IF((IF(OR(Table13[[#This Row],[Date Issued]]=\"\",Table13[[#This Row],[Date Retired]]=\"\"),0,Table13[[#This Row],[Date Retired]]-Table13[[#This Row],[Date Issued]])/IF(Table13[[#This Row],[Date Retired]]-Table13[[#This Row],[Date Issued]]>=365,365,1))=0,\"\",(ROUND(IF(OR(Table13[[#This Row],[Date Issued]]=\"\",Table13[[#This Row],[Date Retired]]=\"\"),0,Table13[[#This Row],[Date Retired]]-Table13[[#This Row],[Date Issued]])/IF(Table13[[#This Row],[Date Retired]]-Table13[[#This Row],[Date Issued]]>=365,365,1),3)&IF(Table13[[#This Row],[Date Retired]]-Table13[[#This Row],[Date Issued]]>=365,\" Year(s)\",\" Day(s)\")))","v":""}]
[{"$nulls":8},{"$f":"IF((IF(OR(Table13[[#This Row],[Date Issued]]=\"\",Table13[[#This Row],[Date Retired]]=\"\"),0,Table13[[#This Row],[Date Retired]]-Table13[[#This Row],[Date Issued]])/IF(Table13[[#This Row],[Date Retired]]-Table13[[#This Row],[Date Issued]]>=365,365,1))=0,\"\",(ROUND(IF(OR(Table13[[#This Row],[Date Issued]]=\"\",Table13[[#This Row],[Date Retired]]=\"\"),0,Table13[[#This Row],[Date Retired]]-Table13[[#This Row],[Date Issued]])/IF(Table13[[#This Row],[Date Retired]]-Table13[[#This Row],[Date Issued]]>=365,365,1),3)&IF(Table13[[#This Row],[Date Retired]]-Table13[[#This Row],[Date Issued]]>=365,\" Year(s)\",\" Day(s)\")))","v":""}]
[{"$nulls":8},{"$f":"IF((IF(OR(Table13[[#This Row],[Date Issued]]=\"\",Table13[[#This Row],[Date Retired]]=\"\"),0,Table13[[#This Row],[Date Retired]]-Table13[[#This Row],[Date Issued]])/IF(Table13[[#This Row],[Date Retired]]-Table13[[#This Row],[Date Issued]]>=365,365,1))=0,\"\",(ROUND(IF(OR(Table13[[#This Row],[Date Issued]]=\"\",Table13[[#This Row],[Date Retired]]=\"\"),0,Table13[[#This Row],[Date Retired]]-Table13[[#This Row],[Date Issued]])/IF(Table13[[#This Row],[Date Retired]]-Table13[[#This Row],[Date Issued]]>=365,365,1),3)&IF(Table13[[#This Row],[Date Retired]]-Table13[[#This Row],[Date Issued]]>=365,\" Year(s)\",\" Day(s)\")))","v":""}]
[{"$nulls":8},{"$f":"IF((IF(OR(Table13[[#This Row],[Date Issued]]=\"\",Table13[[#This Row],[Date Retired]]=\"\"),0,Table13[[#This Row],[Date Retired]]-Table13[[#This Row],[Date Issued]])/IF(Table13[[#This Row],[Date Retired]]-Table13[[#This Row],[Date Issued]]>=365,365,1))=0,\"\",(ROUND(IF(OR(Table13[[#This Row],[Date Issued]]=\"\",Table13[[#This Row],[Date Retired]]=\"\"),0,Table13[[#This Row],[Date Retired]]-Table13[[#This Row],[Date Issued]])/IF(Table13[[#This Row],[Date Retired]]-Table13[[#This Row],[Date Issued]]>=365,365,1),3)&IF(Table13[[#This Row],[Date Retired]]-Table13[[#This Row],[Date Issued]]>=365,\" Year(s)\",\" Day(s)\")))","v":""}]
[{"$nulls":8},{"$f":"IF((IF(OR(Table13[[#This Row],[Date Issued]]=\"\",Table13[[#This Row],[Date Retired]]=\"\"),0,Table13[[#This Row],[Date Retired]]-Table13[[#This Row],[Date Issued]])/IF(Table13[[#This Row],[Date Retired]]-Table13[[#This Row],[Date Issued]]>=365,365,1))=0,\"\",(ROUND(IF(OR(Table13[[#This Row],[Date Issued]]=\"\",Table13[[#This Row],[Date Retired]]=\"\"),0,Table13[[#This Row],[Date Retired]]-Table13[[#This Row],[Date Issued]])/IF(Table13[[#This Row],[Date Retired]]-Table13[[#This Row],[Date Issued]]>=365,365,1),3)&IF(Table13[[#This Row],[Date Retired]]-Table13[[#This Row],[Date Issued]]>=365,\" Year(s)\",\" Day(s)\")))","v":""}]
[{"$nulls":8},{"$f":"IF((IF(OR(Table13[[#This Row],[Date Issued]]=\"\",Table13[[#This Row],[Date Retired]]=\"\"),0,Table13[[#This Row],[Date Retired]]-Table13[[#This Row],[Date Issued]])/IF(Table13[[#This Row],[Date Retired]]-Table13[[#This Row],[Date Issued]]>=365,365,1))=0,\"\",(ROUND(IF(OR(Table13[[#This Row],[Date Issued]]=\"\",Table13[[#This Row],[Date Retired]]=\"\"),0,Table13[[#This Row],[Date Retired]]-Table13[[#This Row],[Date Issued]])/IF(Table13[[#This Row],[Date Retired]]-Table13[[#This Row],[Date Issued]]>=365,365,1),3)&IF(Table13[[#This Row],[Date Retired]]-Table13[[#This Row],[Date Issued]]>=365,\" Year(s)\",\" Day(s)\")))","v":""}]
[{"$nulls":8},{"$f":"IF((IF(OR(Table13[[#This Row],[Date Issued]]=\"\",Table13[[#This Row],[Date Retired]]=\"\"),0,Table13[[#This Row],[Date Retired]]-Table13[[#This Row],[Date Issued]])/IF(Table13[[#This Row],[Date Retired]]-Table13[[#This Row],[Date Issued]]>=365,365,1))=0,\"\",(ROUND(IF(OR(Table13[[#This Row],[Date Issued]]=\"\",Table13[[#This Row],[Date Retired]]=\"\"),0,Table13[[#This Row],[Date Retired]]-Table13[[#This Row],[Date Issued]])/IF(Table13[[#This Row],[Date Retired]]-Table13[[#This Row],[Date Issued]]>=365,365,1),3)&IF(Table13[[#This Row],[Date Retired]]-Table13[[#This Row],[Date Issued]]>=365,\" Year(s)\",\" Day(s)\")))","v":""}]
[{"$nulls":8},{"$f":"IF((IF(OR(Table13[[#This Row],[Date Issued]]=\"\",Table13[[#This Row],[Date Retired]]=\"\"),0,Table13[[#This Row],[Date Retired]]-Table13[[#This Row],[Date Issued]])/IF(Table13[[#This Row],[Date Retired]]-Table13[[#This Row],[Date Issued]]>=365,365,1))=0,\"\",(ROUND(IF(OR(Table13[[#This Row],[Date Issued]]=\"\",Table13[[#This Row],[Date Retired]]=\"\"),0,Table13[[#This Row],[Date Retired]]-Table13[[#This Row],[Date Issued]])/IF(Table13[[#This Row],[Date Retired]]-Table13[[#This Row],[Date Issued]]>=365,365,1),3)&IF(Table13[[#This Row],[Date Retired]]-Table13[[#This Row],[Date Issued]]>=365,\" Year(s)\",\" Day(s)\")))","v":""}]

{"sheet":"Calipers","index":2,"n_rows":203,"n_cols":16,"rows_kept":203,"merged":[[0,0,1,2],[0,9,1,9],[0,10,0,11],[1,10,1,11],[3,0,4,0]]}
["Calipers",null,null,"Date",{"$f":"TODAY()","v":"2021-04-27"},"Calibration Frequency (days)",{"$nulls":3},"Key","Personal Tool",null,"Adjustable"]
[{"$nulls":3},"Time",{"$f":"NOW()","v":44313.375952546296},365,{"$nulls":4},"Attention",null,"DO NOT EDIT"]
[]
["Tool Modification"]
[]
[]
["Gauge #","Lent To","Shift","Work Area","Brand","Disposition","Personal (1/0)","Issued","Lent","Returned","Calibrated","Next Calibration","Action Required","count down","Lent (1/0)","Returned (1/0)"]
["QN19210309 B","Frank","NO SHIFT SPECIFIED","Presses (Automatic)","ABS 0-6\"","Accounted For",null,"2021-01-15","2021-01-15",null,"2021-01-15",{"$f":"IF(IF(Table112[[#This Row],[Disposition]]=\"Retired\",\"N/A\",IF(Table112[[#This Row],[Disposition]]=0,\"\",Table112[[#This Row],[Calibrated]]+$F$2))=0+$F$2,\"NEVER CALIBRATED\",IF(Table112[[#This Row],[Disposition]]=\"Retired\",\"N/A\",IF(Table112[[#This Row],[Disposition]]=0,\"\",Table112[[#This Row],[Calibrated]]+$F$2)))","v":"2022-01-15"},{"$f":"IF(Table112[[#This Row],[Disposition]]=\"\",\"\",IF(AND(Table112[[#This Row],[Next Calibration]]<$E$1,Table112[[#This Row],[Disposition]]=\"Lost\"),\"Find and Calibrate\",IF(Table112[[#This Row],[Disposition]]=\"Lost\",\"Find\",IF(OR(Table112[[#This Row],[Next Calibration]]<$E$1,Table112[[#This Row],[Next Calibration]]=\"NEVER CALIBRATED\"),\"Calibrate\",\"Nominal\"))))","v":"Nominal"},{"$f":"IF(((Table112[[#This Row],[Next Calibration]]-TODAY())/30)>2,\"More Than 2\",IF(((Table112[[#This Row],[Next Calibration]]-TODAY())/30)>1,\"Between 2 and 1\",\"Less than 1\"))","v":"More Than 2"},{"$f":"IF(Table112[[#This Row],[Issued]]=\"\",\"\",IF(Table112[[#This Row],[Lent]]=\"\",0,1))","v":{"v":1,"d":"1.00"}},{"$f":"IF(Table112[[#This Row],[Lent]]=\"\",\"\",IF(Table112[[#This Row],[Returned]]=\"\",0,1))","v":{"v":0,"d":"0.00"}}]
["QN 19210841 B",2705,"NO SHIFT SPECIFIED","Presses (Automatic)","ABS 0-6\"","Accounted For",null,"2021-01-15","2021-01-15",null,"2021-01-15",{"$f":"IF(IF(Table112[[#This Row],[Disposition]]=\"Retired\",\"N/A\",IF(Table112[[#This Row],[Disposition]]=0,\"\",Table112[[#This Row],[Calibrated]]+$F$2))=0+$F$2,\"NEVER CALIBRATED\",IF(Table112[[#This Row],[Disposition]]=\"Retired\",\"N/A\",IF(Table112[[#This Row],[Disposition]]=0,\"\",Table112[[#This Row],[Calibrated]]+$F$2)))","v":"2022-01-15"},{"$f":"IF(Table112[[#This Row],[Disposition]]=\"\",\"\",IF(AND(Table112[[#This Row],[Next Calibration]]<$E$1,Table112[[#This Row],[Disposition]]=\"Lost\"),\"Find and Calibrate\",IF(Table112[[#This Row],[Disposition]]=\"Lost\",\"Find\",IF(OR(Table112[[#This Row],[Next Calibration]]<$E$1,Table112[[#This Row],[Next Calibration]]=\"NEVER CALIBRATED\"),\"Calibrate\",\"Nominal\"))))","v":"Nominal"},{"$f":"IF(((Table112[[#This Row],[Next Calibration]]-TODAY())/30)>2,\"More Than 2\",IF(((Table112[[#This Row],[Next Calibration]]-TODAY())/30)>1,\"Between 2 and 1\",\"Less than 1\"))","v":"More Than 2"},{"$f":"IF(Table112[[#This Row],[Issued]]=\"\",\"\",IF(Table112[[#This Row],[Lent]]=\"\",0,1))","v":{"v":1,"d":"1.00"}},{"$f":"IF(Table112[[#This Row],[Lent]]=\"\",\"\",IF(Table112[[#This Row],[Returned]]=\"\",0,1))","v":{"v":0,"d":"0.00"}}]
["QN 19210342 B","100 Ton","NO SHIFT SPECIFIED","Presses (Automatic)","ABS 0-6\"","Accounted For",null,"2021-01-15","2021-01-15",null,"2021-01-15",{"$f":"IF(IF(Table112[[#This Row],[Disposition]]=\"Retired\",\"N/A\",IF(Table112[[#This Row],[Disposition]]=0,\"\",Table112[[#This Row],[Calibrated]]+$F$2))=0+$F$2,\"NEVER CALIBRATED\",IF(Table112[[#This Row],[Disposition]]=\"Retired\",\"N/A\",IF(Table112[[#This Row],[Disposition]]=0,\"\",Table112[[#This Row],[Calibrated]]+$F$2)))","v":"2022-01-15"},{"$f":"IF(Table112[[#This Row],[Disposition]]=\"\",\"\",IF(AND(Table112[[#This Row],[Next Calibration]]<$E$1,Table112[[#This Row],[Disposition]]=\"Lost\"),\"Find and Calibrate\",IF(Table112[[#This Row],[Disposition]]=\"Lost\",\"Find\",IF(OR(Table112[[#This Row],[Next Calibration]]<$E$1,Table112[[#This Row],[Next Calibration]]=\"NEVER CALIBRATED\"),\"Calibrate\",\"Nominal\"))))","v":"Nominal"},{"$f":"IF(((Table112[[#This Row],[Next Calibration]]-TODAY())/30)>2,\"More Than 2\",IF(((Table112[[#This Row],[Next Calibration]]-TODAY())/30)>1,\"Between 2 and 1\",\"Less than 1\"))","v":"More Than 2"},{"$f":"IF(Table112[[#This Row],[Issued]]=\"\",\"\",IF(Table112[[#This Row],[Lent]]=\"\",0,1))","v":{"v":1,"d":"1.00"}},{"$f":"IF(Table112[[#This Row],[Lent]]=\"\",\"\",IF(Table112[[#This Row],[Returned]]=\"\",0,1))","v":{"v":0,"d":"0.00"}}]
["9P0000201",{"$nulls":3},"Brown&Sharpe 0-8\"","Accounted For",null,"2021-01-15",null,null,"2021-01-15",{"$f":"IF(IF(Table112[[#This Row],[Disposition]]=\"Retired\",\"N/A\",IF(Table112[[#This Row],[Disposition]]=0,\"\",Table112[[#This Row],[Calibrated]]+$F$2))=0+$F$2,\"NEVER CALIBRATED\",IF(Table112[[#This Row],[Disposition]]=\"Retired\",\"N/A\",IF(Table112[[#This Row],[Disposition]]=0,\"\",Table112[[#This Row],[Calibrated]]+$F$2)))","v":"2022-01-15"},{"$f":"IF(Table112[[#This Row],[Disposition]]=\"\",\"\",IF(AND(Table112[[#This Row],[Next Calibration]]<$E$1,Table112[[#This Row],[Disposition]]=\"Lost\"),\"Find and Calibrate\",IF(Table112[[#This Row],[Disposition]]=\"Lost\",\"Find\",IF(OR(Table112[[#This Row],[Next Calibration]]<$E$1,Table112[[#This Row],[Next Calibration]]=\"NEVER CALIBRATED\"),\"Calibrate\",\"Nominal\"))))","v":"Nominal"},{"$f":"IF(((Table112[[#This Row],[Next Calibration]]-TODAY())/30)>2,\"More Than 2\",IF(((Table112[[#This Row],[Next Calibration]]-TODAY())/30)>1,\"Between 2 and 1\",\"Less than 1\"))","v":"More Than 2"},{"$f":"IF(Table112[[#This Row],[Issued]]=\"\",\"\",IF(Table112[[#This Row],[Lent]]=\"\",0,1))","v":{"v":0,"d":"0.00"}},{"$f":"IF(Table112[[#This Row],[Lent]]=\"\",\"\",IF(Table112[[#This Row],[Returned]]=\"\",0,1))","v":""}]
["9P0001801",{"$nulls":3},"Brown&Sharpe 0-8\"","Accounted For",null,"2021-01-15",null,null,"2021-01-15",{"$f":"IF(IF(Table112[[#This Row],[Disposition]]=\"Retired\",\"N/A\",IF(Table112[[#This Row],[Disposition]]=0,\"\",Table112[[#This Row],[Calibrated]]+$F$2))=0+$F$2,\"NEVER CALIBRATED\",IF(Table112[[#This Row],[Disposition]]=\"Retired\",\"N/A\",IF(Table112[[#This Row],[Disposition]]=0,\"\",Table112[[#This Row],[Calibrated]]+$F$2)))","v":"2022-01-15"},{"$f":"IF(Table112[[#This Row],[Disposition]]=\"\",\"\",IF(AND(Table112[[#This Row],[Next Calibration]]<$E$1,Table112[[#This Row],[Disposition]]=\"Lost\"),\"Find and Calibrate\",IF(Table112[[#This Row],[Disposition]]=\"Lost\",\"Find\",IF(OR(Table112[[#This Row],[Next Calibration]]<$E$1,Table112[[#This Row],[Next Calibration]]=\"NEVER CALIBRATED\"),\"Calibrate\",\"Nominal\"))))","v":"Nominal"},{"$f":"IF(((Table112[[#This Row],[Next Calibration]]-TODAY())/30)>2,\"More Than 2\",IF(((Table112[[#This Row],[Next Calibration]]-TODAY())/30)>1,\"Between 2 and 1\",\"Less than 1\"))","v":"More Than 2"},{"$f":"IF(Table112[[#This Row],[Issued]]=\"\",\"\",IF(Table112[[#This Row],[Lent]]=\"\",0,1))","v":{"v":0,"d":"0.00"}},{"$f":"IF(Table112[[#This Row],[Lent]]=\"\",\"\",IF(Table112[[#This Row],[Returned]]=\"\",0,1))","v":""}]
["9U0004801",{"$nulls":3},"Brown&Sharpe 0-8\"","Accounted For",null,"2021-01-20",null,null,"2021-01-20",{"$f":"IF(IF(Table112[[#This Row],[Disposition]]=\"Retired\",\"N/A\",IF(Table112[[#This Row],[Disposition]]=0,\"\",Table112[[#This Row],[Calibrated]]+$F$2))=0+$F$2,\"NEVER CALIBRATED\",IF(Table112[[#This Row],[Disposition]]=\"Retired\",\"N/A\",IF(Table112[[#This Row],[Disposition]]=0,\"\",Table112[[#This Row],[Calibrated]]+$F$2)))","v":"2022-01-20"},{"$f":"IF(Table112[[#This Row],[Disposition]]=\"\",\"\",IF(AND(Table112[[#This Row],[Next Calibration]]<$E$1,Table112[[#This Row],[Disposition]]=\"Lost\"),\"Find and Calibrate\",IF(Table112[[#This Row],[Disposition]]=\"Lost\",\"Find\",IF(OR(Table112[[#This Row],[Next Calibration]]<$E$1,Table112[[#This Row],[Next Calibration]]=\"NEVER CALIBRATED\"),\"Calibrate\",\"Nominal\"))))","v":"Nominal"},{"$f":"IF(((Table112[[#This Row],[Next Calibration]]-TODAY())/30)>2,\"More Than 2\",IF(((Table112[[#This Row],[Next Calibration]]-TODAY())/30)>1,\"Between 2 and 1\",\"Less than 1\"))","v":"More Than 2"},{"$f":"IF(Table112[[#This Row],[Issued]]=\"\",\"\",IF(Table112[[#This Row],[Lent]]=\"\",0,1))","v":{"v":0,"d":"0.00"}},{"$f":"IF(Table112[[#This Row],[Lent]]=\"\",\"\",IF(Table112[[#This Row],[Returned]]=\"\",0,1))","v":""}]
["BD069944","Cunningham, Bobby","1st","Office (Front)","Mitutoyo 0-6\"","Accounted For",1,"2021-01-20","2021-01-20",null,"2021-01-20",{"$f":"IF(IF(Table112[[#This Row],[Disposition]]=\"Retired\",\"N/A\",IF(Table112[[#This Row],[Disposition]]=0,\"\",Table112[[#This Row],[Calibrated]]+$F$2))=0+$F$2,\"NEVER CALIBRATED\",IF(Table112[[#This Row],[Disposition]]=\"Retired\",\"N/A\",IF(Table112[[#This Row],[Disposition]]=0,\"\",Table112[[#This Row],[Calibrated]]+$F$2)))","v":"2022-01-20"},{"$f":"IF(Table112[[#This Row],[Disposition]]=\"\",\"\",IF(AND(Table112[[#This Row],[Next Calibration]]<$E$1,Table112[[#This Row],[Disposition]]=\"Lost\"),\"Find and Calibrate\",IF(Table112[[#This Row],[Disposition]]=\"Lost\",\"Find\",IF(OR(Table112[[#This Row],[Next Calibration]]<$E$1,Table112[[#This Row],[Next Calibration]]=\"NEVER CALIBRATED\"),\"Calibrate\",\"Nominal\"))))","v":"Nominal"},{"$f":"IF(((Table112[[#This Row],[Next Calibration]]-TODAY())/30)>2,\"More Than 2\",IF(((Table112[[#This Row],[Next Calibration]]-TODAY())/30)>1,\"Between 2 and 1\",\"Less than 1\"))","v":"More Than 2"},{"$f":"IF(Table112[[#This Row],[Issued]]=\"\",\"\",IF(Table112[[#This Row],[Lent]]=\"\",0,1))","v":{"v":1,"d":"1.00"}},{"$f":"IF(Table112[[#This Row],[Lent]]=\"\",\"\",IF(Table112[[#This Row],[Returned]]=\"\",0,1))","v":{"v":0,"d":"0.00"}}]
["B19227936","Cunningham, Bobby","1st","Large CNCs","Mitutoyo 0-8\"","Accounted For",null,"2021-01-27","2021-02-17",null,"2021-01-27",{"$f":"IF(IF(Table112[[#This Row],[Disposition]]=\"Retired\",\"N/A\",IF(Table112[[#This Row],[Disposition]]=0,\"\",Table112[[#This Row],[Calibrated]]+$F$2))=0+$F$2,\"NEVER CALIBRATED\",IF(Table112[[#This Row],[Disposition]]=\"Retired\",\"N/A\",IF(Table112[[#This Row],[Disposition]]=0,\"\",Table112[[#This Row],[Calibrated]]+$F$2)))","v":"2022-01-27"},{"$f":"IF(Table112[[#This Row],[Disposition]]=\"\",\"\",IF(AND(Table112[[#This Row],[Next Calibration]]<$E$1,Table112[[#This Row],[Disposition]]=\"Lost\"),\"Find and Calibrate\",IF(Table112[[#This Row],[Disposition]]=\"Lost\",\"Find\",IF(OR(Table112[[#This Row],[Next Calibration]]<$E$1,Table112[[#This Row],[Next Calibration]]=\"NEVER CALIBRATED\"),\"Calibrate\",\"Nominal\"))))","v":"Nominal"},{"$f":"IF(((Table112[[#This Row],[Next Calibration]]-TODAY())/30)>2,\"More Than 2\",IF(((Table112[[#This Row],[Next Calibration]]-TODAY())/30)>1,\"Between 2 and 1\",\"Less than 1\"))","v":"More Than 2"},{"$f":"IF(Table112[[#This Row],[Issued]]=\"\",\"\",IF(Table112[[#This Row],[Lent]]=\"\",0,1))","v":{"v":1,"d":"1.00"}},{"$f":"IF(Table112[[#This Row],[Lent]]=\"\",\"\",IF(Table112[[#This Row],[Returned]]=\"\",0,1))","v":{"v":0,"d":"0.00"}}]
["B19359951","Cunningham, Bobby","1st","Presses (Hand Feed)","Mitutoyo 0-8\"","Accounted For",null,"2021-01-28","2021-02-16",null,"2021-01-28",{"$f":"IF(IF(Table112[[#This Row],[Disposition]]=\"Retired\",\"N/A\",IF(Table112[[#This Row],[Disposition]]=0,\"\",Table112[[#This Row],[Calibrated]]+$F$2))=0+$F$2,\"NEVER CALIBRATED\",IF(Table112[[#This Row],[Disposition]]=\"Retired\",\"N/A\",IF(Table112[[#This Row],[Disposition]]=0,\"\",Table112[[#This Row],[Calibrated]]+$F$2)))","v":"2022-01-28"},{"$f":"IF(Table112[[#This Row],[Disposition]]=\"\",\"\",IF(AND(Table112[[#This Row],[Next Calibration]]<$E$1,Table112[[#This Row],[Disposition]]=\"Lost\"),\"Find and Calibrate\",IF(Table112[[#This Row],[Disposition]]=\"Lost\",\"Find\",IF(OR(Table112[[#This Row],[Next Calibration]]<$E$1,Table112[[#This Row],[Next Calibration]]=\"NEVER CALIBRATED\"),\"Calibrate\",\"Nominal\"))))","v":"Nominal"},{"$f":"IF(((Table112[[#This Row],[Next Calibration]]-TODAY())/30)>2,\"More Than 2\",IF(((Table112[[#This Row],[Next Calibration]]-TODAY())/30)>1,\"Between 2 and 1\",\"Less than 1\"))","v":"More Than 2"},{"$f":"IF(Table112[[#This Row],[Issued]]=\"\",\"\",IF(Table112[[#This Row],[Lent]]=\"\",0,1))","v":{"v":1,"d":"1.00"}},{"$f":"IF(Table112[[#This Row],[Lent]]=\"\",\"\",IF(Table112[[#This Row],[Returned]]=\"\",0,1))","v":{"v":0,"d":"0.00"}}]
["5-7.17100354","Cunningham, Bobby","2nd","Presses (Hand Feed)","SPI 0-12\"","Accounted For",null,"2021-02-04","2021-02-04",null,"2021-02-04",{"$f":"IF(IF(Table112[[#This Row],[Disposition]]=\"Retired\",\"N/A\",IF(Table112[[#This Row],[Disposition]]=0,\"\",Table112[[#This Row],[Calibrated]]+$F$2))=0+$F$2,\"NEVER CALIBRATED\",IF(Table112[[#This Row],[Disposition]]=\"Retired\",\"N/A\",IF(Table112[[#This Row],[Disposition]]=0,\"\",Table112[[#This Row],[Calibrated]]+$F$2)))","v":"2022-02-04"},{"$f":"IF(Table112[[#This Row],[Disposition]]=\"\",\"\",IF(AND(Table112[[#This Row],[Next Calibration]]<$E$1,Table112[[#This Row],[Disposition]]=\"Lost\"),\"Find and Calibrate\",IF(Table112[[#This Row],[Disposition]]=\"Lost\",\"Find\",IF(OR(Table112[[#This Row],[Next Calibration]]<$E$1,Table112[[#This Row],[Next Calibration]]=\"NEVER CALIBRATED\"),\"Calibrate\",\"Nominal\"))))","v":"Nominal"},{"$f":"IF(((Table112[[#This Row],[Next Calibration]]-TODAY())/30)>2,\"More Than 2\",IF(((Table112[[#This Row],[Next Calibration]]-TODAY())/30)>1,\"Between 2 and 1\",\"Less than 1\"))","v":"More Than 2"},{"$f":"IF(Table112[[#This Row],[Issued]]=\"\",\"\",IF(Table112[[#This Row],[Lent]]=\"\",0,1))","v":{"v":1,"d":"1.00"}},{"$f":"IF(Table112[[#This Row],[Lent]]=\"\",\"\",IF(Table112[[#This Row],[Returned]]=\"\",0,1))","v":{"v":0,"d":"0.00"}}]
["QN200407747B","Cunningham, Bobby","NO SHIFT SPECIFIED","Presses (Hand Feed)","NO BRAND SPECIFIED","Accounted For",null,"2021-02-09","2021-02-09",null,"2021-02-09",{"$f":"IF(IF(Table112[[#This Row],[Disposition]]=\"Retired\",\"N/A\",IF(Table112[[#This Row],[Disposition]]=0,\"\",Table112[[#This Row],[Calibrated]]+$F$2))=0+$F$2,\"NEVER CALIBRATED\",IF(Table112[[#This Row],[Disposition]]=\"Retired\",\"N/A\",IF(Table112[[#This Row],[Disposition]]=0,\"\",Table112[[#This Row],[Calibrated]]+$F$2)))","v":"2022-02-09"},{"$f":"IF(Table112[[#This Row],[Disposition]]=\"\",\"\",IF(AND(Table112[[#This Row],[Next Calibration]]<$E$1,Table112[[#This Row],[Disposition]]=\"Lost\"),\"Find and Calibrate\",IF(Table112[[#This Row],[Disposition]]=\"Lost\",\"Find\",IF(OR(Table112[[#This Row],[Next Calibration]]<$E$1,Table112[[#This Row],[Next Calibration]]=\"NEVER CALIBRATED\"),\"Calibrate\",\"Nominal\"))))","v":"Nominal"},{"$f":"IF(((Table112[[#This Row],[Next Calibration]]-TODAY())/30)>2,\"More Than 2\",IF(((Table112[[#This Row],[Next Calibration]]-TODAY())/30)>1,\"Between 2 and 1\",\"Less than 1\"))","v":"More Than 2"},{"$f":"IF(Table112[[#This Row],[Issued]]=\"\",\"\",IF(Table112[[#This Row],[Lent]]=\"\",0,1))","v":{"v":1,"d":"1.00"}},{"$f":"IF(Table112[[#This Row],[Lent]]=\"\",\"\",IF(Table112[[#This Row],[Returned]]=\"\",0,1))","v":{"v":0,"d":"0.00"}}]
["AS18101957","NO PERSON SPECIFIED","1st","Presses (Automatic)","SPI 0-6\"","Accounted For",null,"2021-02-12","2021-02-12",null,"2021-02-12",{"$f":"IF(IF(Table112[[#This Row],[Disposition]]=\"Retired\",\"N/A\",IF(Table112[[#This Row],[Disposition]]=0,\"\",Table112[[#This Row],[Calibrated]]+$F$2))=0+$F$2,\"NEVER CALIBRATED\",IF(Table112[[#This Row],[Disposition]]=\"Retired\",\"N/A\",IF(Table112[[#This Row],[Disposition]]=0,\"\",Table112[[#This Row],[Calibrated]]+$F$2)))","v":"2022-02-12"},{"$f":"IF(Table112[[#This Row],[Disposition]]=\"\",\"\",IF(AND(Table112[[#This Row],[Next Calibration]]<$E$1,Table112[[#This Row],[Disposition]]=\"Lost\"),\"Find and Calibrate\",IF(Table112[[#This Row],[Disposition]]=\"Lost\",\"Find\",IF(OR(Table112[[#This Row],[Next Calibration]]<$E$1,Table112[[#This Row],[Next Calibration]]=\"NEVER CALIBRATED\"),\"Calibrate\",\"Nominal\"))))","v":"Nominal"},{"$f":"IF(((Table112[[#This Row],[Next Calibration]]-TODAY())/30)>2,\"More Than 2\",IF(((Table112[[#This Row],[Next Calibration]]-TODAY())/30)>1,\"Between 2 and 1\",\"Less than 1\"))","v":"More Than 2"},{"$f":"IF(Table112[[#This Row],[Issued]]=\"\",\"\",IF(Table112[[#This Row],[Lent]]=\"\",0,1))","v":{"v":1,"d":"1.00"}},{"$f":"IF(Table112[[#This Row],[Lent]]=\"\",\"\",IF(Table112[[#This Row],[Returned]]=\"\",0,1))","v":{"v":0,"d":"0.00"}}]
["7-04.1707945","Cunningham, Bobby","1st","Presses (Automatic)","Phase 2 0-6\"","Accounted For",null,"2021-02-12","2021-02-12",null,"2021-02-12",{"$f":"IF(IF(Table112[[#This Row],[Disposition]]=\"Retired\",\"N/A\",IF(Table112[[#This Row],[Disposition]]=0,\"\",Table112[[#This Row],[Calibrated]]+$F$2))=0+$F$2,\"NEVER CALIBRATED\",IF(Table112[[#This Row],[Disposition]]=\"Retired\",\"N/A\",IF(Table112[[#This Row],[Disposition]]=0,\"\",Table112[[#This Row],[Calibrated]]+$F$2)))","v":"2022-02-12"},{"$f":"IF(Table112[[#This Row],[Disposition]]=\"\",\"\",IF(AND(Table112[[#This Row],[Next Calibration]]<$E$1,Table112[[#This Row],[Disposition]]=\"Lost\"),\"Find and Calibrate\",IF(Table112[[#This Row],[Disposition]]=\"Lost\",\"Find\",IF(OR(Table112[[#This Row],[Next Calibration]]<$E$1,Table112[[#This Row],[Next Calibration]]=\"NEVER CALIBRATED\"),\"Calibrate\",\"Nominal\"))))","v":"Nominal"},{"$f":"IF(((Table112[[#This Row],[Next Calibration]]-TODAY())/30)>2,\"More Than 2\",IF(((Table112[[#This Row],[Next Calibration]]-TODAY())/30)>1,\"Between 2 and 1\",\"Less than 1\"))","v":"More Than 2"},{"$f":"IF(Table112[[#This Row],[Issued]]=\"\",\"\",IF(Table112[[#This Row],[Lent]]=\"\",0,1))","v":{"v":1,"d":"1.00"}},{"$f":"IF(Table112[[#This Row],[Lent]]=\"\",\"\",IF(Table112[[#This Row],[Returned]]=\"\",0,1))","v":{"v":0,"d":"0.00"}}]
["0N19210309","NO PERSON SPECIFIED","NO SHIFT SPECIFIED","Presses (Automatic)","ABS 0-6\"","Accounted For",null,"2021-02-12","2021-02-12",null,"2021-02-12",{"$f":"IF(IF(Table112[[#This Row],[Disposition]]=\"Retired\",\"N/A\",IF(Table112[[#This Row],[Disposition]]=0,\"\",Table112[[#This Row],[Calibrated]]+$F$2))=0+$F$2,\"NEVER CALIBRATED\",IF(Table112[[#This Row],[Disposition]]=\"Retired\",\"N/A\",IF(Table112[[#This Row],[Disposition]]=0,\"\",Table112[[#This Row],[Calibrated]]+$F$2)))","v":"2022-02-12"},{"$f":"IF(Table112[[#This Row],[Disposition]]=\"\",\"\",IF(AND(Table112[[#This Row],[Next Calibration]]<$E$1,Table112[[#This Row],[Disposition]]=\"Lost\"),\"Find and Calibrate\",IF(Table112[[#This Row],[Disposition]]=\"Lost\",\"Find\",IF(OR(Table112[[#This Row],[Next Calibration]]<$E$1,Table112[[#This Row],[Next Calibration]]=\"NEVER CALIBRATED\"),\"Calibrate\",\"Nominal\"))))","v":"Nominal"},{"$f":"IF(((Table112[[#This Row],[Next Calibration]]-TODAY())/30)>2,\"More Than 2\",IF(((Table112[[#This Row],[Next Calibration]]-TODAY())/30)>1,\"Between 2 and 1\",\"Less than 1\"))","v":"More Than 2"},{"$f":"IF(Table112[[#This Row],[Issued]]=\"\",\"\",IF(Table112[[#This Row],[Lent]]=\"\",0,1))","v":{"v":1,"d":"1.00"}},{"$f":"IF(Table112[[#This Row],[Lent]]=\"\",\"\",IF(Table112[[#This Row],[Returned]]=\"\",0,1))","v":{"v":0,"d":"0.00"}}]
["1-8.129141","Cunningham, Bobby","1st","Presses (Automatic)","Phase 2 0-6\"","Accounted For",null,"2021-02-12","2021-02-12",null,"2021-02-12",{"$f":"IF(IF(Table112[[#This Row],[Disposition]]=\"Retired\",\"N/A\",IF(Table112[[#This Row],[Disposition]]=0,\"\",Table112[[#This Row],[Calibrated]]+$F$2))=0+$F$2,\"NEVER CALIBRATED\",IF(Table112[[#This Row],[Disposition]]=\"Retired\",\"N/A\",IF(Table112[[#This Row],[Disposition]]=0,\"\",Table112[[#This Row],[Calibrated]]+$F$2)))","v":"2022-02-12"},{"$f":"IF(Table112[[#This Row],[Disposition]]=\"\",\"\",IF(AND(Table112[[#This Row],[Next Calibration]]<$E$1,Table112[[#This Row],[Disposition]]=\"Lost\"),\"Find and Calibrate\",IF(Table112[[#This Row],[Disposition]]=\"Lost\",\"Find\",IF(OR(Table112[[#This Row],[Next Calibration]]<$E$1,Table112[[#This Row],[Next Calibration]]=\"NEVER CALIBRATED\"),\"Calibrate\",\"Nominal\"))))","v":"Nominal"},{"$f":"IF(((Table112[[#This Row],[Next Calibration]]-TODAY())/30)>2,\"More Than 2\",IF(((Table112[[#This Row],[Next Calibration]]-TODAY())/30)>1,\"Between 2 and 1\",\"Less than 1\"))","v":"More Than 2"},{"$f":"IF(Table112[[#This Row],[Issued]]=\"\",\"\",IF(Table112[[#This Row],[Lent]]=\"\",0,1))","v":{"v":1,"d":"1.00"}},{"$f":"IF(Table112[[#This Row],[Lent]]=\"\",\"\",IF(Table112[[#This Row],[Returned]]=\"\",0,1))","v":{"v":0,"d":"0.00"}}]
[625187,"NO PERSON SPECIFIED","NO SHIFT SPECIFIED","Presses (Automatic)","ABS 0-6\"","Accounted For",null,"2021-02-12","2021-02-12",null,"2021-02-12",{"$f":"IF(IF(Table112[[#This Row],[Disposition]]=\"Retired\",\"N/A\",IF(Table112[[#This Row],[Disposition]]=0,\"\",Table112[[#This Row],[Calibrated]]+$F$2))=0+$F$2,\"NEVER CALIBRATED\",IF(Table112[[#This Row],[Disposition]]=\"Retired\",\"N/A\",IF(Table112[[#This Row],[Disposition]]=0,\"\",Table112[[#This Row],[Calibrated]]+$F$2)))","v":"2022-02-12"},{"$f":"IF(Table112[[#This Row],[Disposition]]=\"\",\"\",IF(AND(Table112[[#This Row],[Next Calibration]]<$E$1,Table112[[#This Row],[Disposition]]=\"Lost\"),\"Find and Calibrate\",IF(Table112[[#This Row],[Disposition]]=\"Lost\",\"Find\",IF(OR(Table112[[#This Row],[Next Calibration]]<$E$1,Table112[[#This Row],[Next Calibration]]=\"NEVER CALIBRATED\"),\"Calibrate\",\"Nominal\"))))","v":"Nominal"},{"$f":"IF(((Table112[[#This Row],[Next Calibration]]-TODAY())/30)>2,\"More Than 2\",IF(((Table112[[#This Row],[Next Calibration]]-TODAY())/30)>1,\"Between 2 and 1\",\"Less than 1\"))","v":"More Than 2"},{"$f":"IF(Table112[[#This Row],[Issued]]=\"\",\"\",IF(Table112[[#This Row],[Lent]]=\"\",0,1))","v":{"v":1,"d":"1.00"}},{"$f":"IF(Table112[[#This Row],[Lent]]=\"\",\"\",IF(Table112[[#This Row],[Returned]]=\"\",0,1))","v":{"v":0,"d":"0.00"}}]
["2-17.1807688","Cunningham, Bobby","1st","Presses (Automatic)","Phase 2 0-6\"","Accounted For",null,"2021-02-12","2021-02-12",null,"2021-02-12",{"$f":"IF(IF(Table112[[#This Row],[Disposition]]=\"Retired\",\"N/A\",IF(Table112[[#This Row],[Disposition]]=0,\"\",Table112[[#This Row],[Calibrated]]+$F$2))=0+$F$2,\"NEVER CALIBRATED\",IF(Table112[[#This Row],[Disposition]]=\"Retired\",\"N/A\",IF(Table112[[#This Row],[Disposition]]=0,\"\",Table112[[#This Row],[Calibrated]]+$F$2)))","v":"2022-02-12"},{"$f":"IF(Table112[[#This Row],[Disposition]]=\"\",\"\",IF(AND(Table112[[#This Row],[Next Calibration]]<$E$1,Table112[[#This Row],[Disposition]]=\"Lost\"),\"Find and Calibrate\",IF(Table112[[#This Row],[Disposition]]=\"Lost\",\"Find\",IF(OR(Table112[[#This Row],[Next Calibration]]<$E$1,Table112[[#This Row],[Next Calibration]]=\"NEVER CALIBRATED\"),\"Calibrate\",\"Nominal\"))))","v":"Nominal"},{"$f":"IF(((Table112[[#This Row],[Next Calibration]]-TODAY())/30)>2,\"More Than 2\",IF(((Table112[[#This Row],[Next Calibration]]-TODAY())/30)>1,\"Between 2 and 1\",\"Less than 1\"))","v":"More Than 2"},{"$f":"IF(Table112[[#This Row],[Issued]]=\"\",\"\",IF(Table112[[#This Row],[Lent]]=\"\",0,1))","v":{"v":1,"d":"1.00"}},{"$f":"IF(Table112[[#This Row],[Lent]]=\"\",\"\",IF(Table112[[#This Row],[Returned]]=\"\",0,1))","v":{"v":0,"d":"0.00"}}]
["500-752-10","NO PERSON SPECIFIED","NO SHIFT SPECIFIED","Presses (Automatic)","ABS 0-6\"","Accounted For",null,"2021-02-12","2021-02-12",null,"2021-02-12",{"$f":"IF(IF(Table112[[#This Row],[Disposition]]=\"Retired\",\"N/A\",IF(Table112[[#This Row],[Disposition]]=0,\"\",Table112[[#This Row],[Calibrated]]+$F$2))=0+$F$2,\"NEVER CALIBRATED\",IF(Table112[[#This Row],[Disposition]]=\"Retired\",\"N/A\",IF(Table112[[#This Row],[Disposition]]=0,\"\",Table112[[#This Row],[Calibrated]]+$F$2)))","v":"2022-02-12"},{"$f":"IF(Table112[[#This Row],[Disposition]]=\"\",\"\",IF(AND(Table112[[#This Row],[Next Calibration]]<$E$1,Table112[[#This Row],[Disposition]]=\"Lost\"),\"Find and Calibrate\",IF(Table112[[#This Row],[Disposition]]=\"Lost\",\"Find\",IF(OR(Table112[[#This Row],[Next Calibration]]<$E$1,Table112[[#This Row],[Next Calibration]]=\"NEVER CALIBRATED\"),\"Calibrate\",\"Nominal\"))))","v":"Nominal"},{"$f":"IF(((Table112[[#This Row],[Next Calibration]]-TODAY())/30)>2,\"More Than 2\",IF(((Table112[[#This Row],[Next Calibration]]-TODAY())/30)>1,\"Between 2 and 1\",\"Less than 1\"))","v":"More Than 2"},{"$f":"IF(Table112[[#This Row],[Issued]]=\"\",\"\",IF(Table112[[#This Row],[Lent]]=\"\",0,1))","v":{"v":1,"d":"1.00"}},{"$f":"IF(Table112[[#This Row],[Lent]]=\"\",\"\",IF(Table112[[#This Row],[Returned]]=\"\",0,1))","v":{"v":0,"d":"0.00"}}]
[17025891,"Cunningham, Bobby","1st","Presses (Automatic)","Starret 0-6\"","Accounted For",null,"2021-02-12","2021-02-12",null,"2021-02-12",{"$f":"IF(IF(Table112[[#This Row],[Disposition]]=\"Retired\",\"N/A\",IF(Table112[[#This Row],[Disposition]]=0,\"\",Table112[[#This Row],[Calibrated]]+$F$2))=0+$F$2,\"NEVER CALIBRATED\",IF(Table112[[#This Row],[Disposition]]=\"Retired\",\"N/A\",IF(Table112[[#This Row],[Disposition]]=0,\"\",Table112[[#This Row],[Calibrated]]+$F$2)))","v":"2022-02-12"},{"$f":"IF(Table112[[#This Row],[Disposition]]=\"\",\"\",IF(AND(Table112[[#This Row],[Next Calibration]]<$E$1,Table112[[#This Row],[Disposition]]=\"Lost\"),\"Find and Calibrate\",IF(Table112[[#This Row],[Disposition]]=\"Lost\",\"Find\",IF(OR(Table112[[#This Row],[Next Calibration]]<$E$1,Table112[[#This Row],[Next Calibration]]=\"NEVER CALIBRATED\"),\"Calibrate\",\"Nominal\"))))","v":"Nominal"},{"$f":"IF(((Table112[[#This Row],[Next Calibration]]-TODAY())/30)>2,\"More Than 2\",IF(((Table112[[#This Row],[Next Calibration]]-TODAY())/30)>1,\"Between 2 and 1\",\"Less than 1\"))","v":"More Than 2"},{"$f":"IF(Table112[[#This Row],[Issued]]=\"\",\"\",IF(Table112[[#This Row],[Lent]]=\"\",0,1))","v":{"v":1,"d":"1.00"}},{"$f":"IF(Table112[[#This Row],[Lent]]=\"\",\"\",IF(Table112[[#This Row],[Returned]]=\"\",0,1))","v":{"v":0,"d":"0.00"}}]
["0N19210342B","NO PERSON SPECIFIED","NO SHIFT SPECIFIED","Presses (Automatic)","ABS 0-6\"","Accounted For",null,"2021-02-12","2021-02-12",null,"2021-02-12",{"$f":"IF(IF(Table112[[#This Row],[Disposition]]=\"Retired\",\"N/A\",IF(Table112[[#This Row],[Disposition]]=0,\"\",Table112[[#This Row],[Calibrated]]+$F$2))=0+$F$2,\"NEVER CALIBRATED\",IF(Table112[[#This Row],[Disposition]]=\"Retired\",\"N/A\",IF(Table112[[#This Row],[Disposition]]=0,\"\",Table112[[#This Row],[Calibrated]]+$F$2)))","v":"2022-02-12"},{"$f":"IF(Table112[[#This Row],[Disposition]]=\"\",\"\",IF(AND(Table112[[#This Row],[Next Calibration]]<$E$1,Table112[[#This Row],[Disposition]]=\"Lost\"),\"Find and Calibrate\",IF(Table112[[#This Row],[Disposition]]=\"Lost\",\"Find\",IF(OR(Table112[[#This Row],[Next Calibration]]<$E$1,Table112[[#This Row],[Next Calibration]]=\"NEVER CALIBRATED\"),\"Calibrate\",\"Nominal\"))))","v":"Nominal"},{"$f":"IF(((Table112[[#This Row],[Next Calibration]]-TODAY())/30)>2,\"More Than 2\",IF(((Table112[[#This Row],[Next Calibration]]-TODAY())/30)>1,\"Between 2 and 1\",\"Less than 1\"))","v":"More Than 2"},{"$f":"IF(Table112[[#This Row],[Issued]]=\"\",\"\",IF(Table112[[#This Row],[Lent]]=\"\",0,1))","v":{"v":1,"d":"1.00"}},{"$f":"IF(Table112[[#This Row],[Lent]]=\"\",\"\",IF(Table112[[#This Row],[Returned]]=\"\",0,1))","v":{"v":0,"d":"0.00"}}]
["9G0027401","NO PERSON SPECIFIED","NO SHIFT SPECIFIED","Presses (Automatic)","Brown&Sharpe 0-12\"","Accounted For",null,"2021-02-12","2021-02-12",null,"2021-02-12",{"$f":"IF(IF(Table112[[#This Row],[Disposition]]=\"Retired\",\"N/A\",IF(Table112[[#This Row],[Disposition]]=0,\"\",Table112[[#This Row],[Calibrated]]+$F$2))=0+$F$2,\"NEVER CALIBRATED\",IF(Table112[[#This Row],[Disposition]]=\"Retired\",\"N/A\",IF(Table112[[#This Row],[Disposition]]=0,\"\",Table112[[#This Row],[Calibrated]]+$F$2)))","v":"2022-02-12"},{"$f":"IF(Table112[[#This Row],[Disposition]]=\"\",\"\",IF(AND(Table112[[#This Row],[Next Calibration]]<$E$1,Table112[[#This Row],[Disposition]]=\"Lost\"),\"Find and Calibrate\",IF(Table112[[#This Row],[Disposition]]=\"Lost\",\"Find\",IF(OR(Table112[[#This Row],[Next Calibration]]<$E$1,Table112[[#This Row],[Next Calibration]]=\"NEVER CALIBRATED\"),\"Calibrate\",\"Nominal\"))))","v":"Nominal"},{"$f":"IF(((Table112[[#This Row],[Next Calibration]]-TODAY())/30)>2,\"More Than 2\",IF(((Table112[[#This Row],[Next Calibration]]-TODAY())/30)>1,\"Between 2 and 1\",\"Less than 1\"))","v":"More Than 2"},{"$f":"IF(Table112[[#This Row],[Issued]]=\"\",\"\",IF(Table112[[#This Row],[Lent]]=\"\",0,1))","v":{"v":1,"d":"1.00"}},{"$f":"IF(Table112[[#This Row],[Lent]]=\"\",\"\",IF(Table112[[#This Row],[Returned]]=\"\",0,1))","v":{"v":0,"d":"0.00"}}]
["AS18102117","Cunningham, Bobby","1st","Presses (Automatic)","SPI 0-6\"","Accounted For",null,"2021-02-12","2021-02-12",null,"2021-02-12",{"$f":"IF(IF(Table112[[#This Row],[Disposition]]=\"Retired\",\"N/A\",IF(Table112[[#This Row],[Disposition]]=0,\"\",Table112[[#This Row],[Calibrated]]+$F$2))=0+$F$2,\"NEVER CALIBRATED\",IF(Table112[[#This Row],[Disposition]]=\"Retired\",\"N/A\",IF(Table112[[#This Row],[Disposition]]=0,\"\",Table112[[#This Row],[Calibrated]]+$F$2)))","v":"2022-02-12"},{"$f":"IF(Table112[[#This Row],[Disposition]]=\"\",\"\",IF(AND(Table112[[#This Row],[Next Calibration]]<$E$1,Table112[[#This Row],[Disposition]]=\"Lost\"),\"Find and Calibrate\",IF(Table112[[#This Row],[Disposition]]=\"Lost\",\"Find\",IF(OR(Table112[[#This Row],[Next Calibration]]<$E$1,Table112[[#This Row],[Next Calibration]]=\"NEVER CALIBRATED\"),\"Calibrate\",\"Nominal\"))))","v":"Nominal"},{"$f":"IF(((Table112[[#This Row],[Next Calibration]]-TODAY())/30)>2,\"More Than 2\",IF(((Table112[[#This Row],[Next Calibration]]-TODAY())/30)>1,\"Between 2 and 1\",\"Less than 1\"))","v":"More Than 2"},{"$f":"IF(Table112[[#This Row],[Issued]]=\"\",\"\",IF(Table112[[#This Row],[Lent]]=\"\",0,1))","v":{"v":1,"d":"1.00"}},{"$f":"IF(Table112[[#This Row],[Lent]]=\"\",\"\",IF(Table112[[#This Row],[Returned]]=\"\",0,1))","v":{"v":0,"d":"0.00"}}]
["QN200407747B","Cunningham, Bobby","1st","Presses (Automatic, Stock Retrevial)","NO BRAND SPECIFIED","Accounted For",null,"2021-02-12","2021-02-12",null,"2021-02-02",{"$f":"IF(IF(Table112[[#This Row],[Disposition]]=\"Retired\",\"N/A\",IF(Table112[[#This Row],[Disposition]]=0,\"\",Table112[[#This Row],[Calibrated]]+$F$2))=0+$F$2,\"NEVER CALIBRATED\",IF(Table112[[#This Row],[Disposition]]=\"Retired\",\"N/A\",IF(Table112[[#This Row],[Disposition]]=0,\"\",Table112[[#This Row],[Calibrated]]+$F$2)))","v":"2022-02-02"},{"$f":"IF(Table112[[#This Row],[Disposition]]=\"\",\"\",IF(AND(Table112[[#This Row],[Next Calibration]]<$E$1,Table112[[#This Row],[Disposition]]=\"Lost\"),\"Find and Calibrate\",IF(Table112[[#This Row],[Disposition]]=\"Lost\",\"Find\",IF(OR(Table112[[#This Row],[Next Calibration]]<$E$1,Table112[[#This Row],[Next Calibration]]=\"NEVER CALIBRATED\"),\"Calibrate\",\"Nominal\"))))","v":"Nominal"},{"$f":"IF(((Table112[[#This Row],[Next Calibration]]-TODAY())/30)>2,\"More Than 2\",IF(((Table112[[#This Row],[Next Calibration]]-TODAY())/30)>1,\"Between 2 and 1\",\"Less than 1\"))","v":"More Than 2"},{"$f":"IF(Table112[[#This Row],[Issued]]=\"\",\"\",IF(Table112[[#This Row],[Lent]]=\"\",0,1))","v":{"v":1,"d":"1.00"}},{"$f":"IF(Table112[[#This Row],[Lent]]=\"\",\"\",IF(Table112[[#This Row],[Returned]]=\"\",0,1))","v":{"v":0,"d":"0.00"}}]
["2-15.1809456","NO PERSON SPECIFIED","NO SHIFT SPECIFIED","Laythes (Swiss)","Phase 2 0-6\"","Accounted For",null,"2021-02-17","2021-02-17",null,"2021-02-17",{"$f":"IF(IF(Table112[[#This Row],[Disposition]]=\"Retired\",\"N/A\",IF(Table112[[#This Row],[Disposition]]=0,\"\",Table112[[#This Row],[Calibrated]]+$F$2))=0+$F$2,\"NEVER CALIBRATED\",IF(Table112[[#This Row],[Disposition]]=\"Retired\",\"N/A\",IF(Table112[[#This Row],[Disposition]]=0,\"\",Table112[[#This Row],[Calibrated]]+$F$2)))","v":"2022-02-17"},{"$f":"IF(Table112[[#This Row],[Disposition]]=\"\",\"\",IF(AND(Table112[[#This Row],[Next Calibration]]<$E$1,Table112[[#This Row],[Disposition]]=\"Lost\"),\"Find and Calibrate\",IF(Table112[[#This Row],[Disposition]]=\"Lost\",\"Find\",IF(OR(Table112[[#This Row],[Next Calibration]]<$E$1,Table112[[#This Row],[Next Calibration]]=\"NEVER CALIBRATED\"),\"Calibrate\",\"Nominal\"))))","v":"Nominal"},{"$f":"IF(((Table112[[#This Row],[Next Calibration]]-TODAY())/30)>2,\"More Than 2\",IF(((Table112[[#This Row],[Next Calibration]]-TODAY())/30)>1,\"Between 2 and 1\",\"Less than 1\"))","v":"More Than 2"},{"$f":"IF(Table112[[#This Row],[Issued]]=\"\",\"\",IF(Table112[[#This Row],[Lent]]=\"\",0,1))","v":{"v":1,"d":"1.00"}},{"$f":"IF(Table112[[#This Row],[Lent]]=\"\",\"\",IF(Table112[[#This Row],[Returned]]=\"\",0,1))","v":{"v":0,"d":"0.00"}}]
["2-29.1510071","Cunningham, Bobby","1st","Presses (Automatic)","Phase 2 0-6\"","Accounted For",null,"2021-02-12","2021-02-12",null,"2021-02-12",{"$f":"IF(IF(Table112[[#This Row],[Disposition]]=\"Retired\",\"N/A\",IF(Table112[[#This Row],[Disposition]]=0,\"\",Table112[[#This Row],[Calibrated]]+$F$2))=0+$F$2,\"NEVER CALIBRATED\",IF(Table112[[#This Row],[Disposition]]=\"Retired\",\"N/A\",IF(Table112[[#This Row],[Disposition]]=0,\"\",Table112[[#This Row],[Calibrated]]+$F$2)))","v":"2022-02-12"},{"$f":"IF(Table112[[#This Row],[Disposition]]=\"\",\"\",IF(AND(Table112[[#This Row],[Next Calibration]]<$E$1,Table112[[#This Row],[Disposition]]=\"Lost\"),\"Find and Calibrate\",IF(Table112[[#This Row],[Disposition]]=\"Lost\",\"Find\",IF(OR(Table112[[#This Row],[Next Calibration]]<$E$1,Table112[[#This Row],[Next Calibration]]=\"NEVER CALIBRATED\"),\"Calibrate\",\"Nominal\"))))","v":"Nominal"},{"$f":"IF(((Table112[[#This Row],[Next Calibration]]-TODAY())/30)>2,\"More Than 2\",IF(((Table112[[#This Row],[Next Calibration]]-TODAY())/30)>1,\"Between 2 and 1\",\"Less than 1\"))","v":"More Than 2"},{"$f":"IF(Table112[[#This Row],[Issued]]=\"\",\"\",IF(Table112[[#This Row],[Lent]]=\"\",0,1))","v":{"v":1,"d":"1.00"}},{"$f":"IF(Table112[[#This Row],[Lent]]=\"\",\"\",IF(Table112[[#This Row],[Returned]]=\"\",0,1))","v":{"v":0,"d":"0.00"}}]
["7-5.123323","Cunningham, Bobby","1st","Presses (Automatic)","Phase 2 0-6\"","Accounted For",null,"2021-02-16","2021-02-16",null,"2021-02-16",{"$f":"IF(IF(Table112[[#This Row],[Disposition]]=\"Retired\",\"N/A\",IF(Table112[[#This Row],[Disposition]]=0,\"\",Table112[[#This Row],[Calibrated]]+$F$2))=0+$F$2,\"NEVER CALIBRATED\",IF(Table112[[#This Row],[Disposition]]=\"Retired\",\"N/A\",IF(Table112[[#This Row],[Disposition]]=0,\"\",Table112[[#This Row],[Calibrated]]+$F$2)))","v":"2022-02-16"},{"$f":"IF(Table112[[#This Row],[Disposition]]=\"\",\"\",IF(AND(Table112[[#This Row],[Next Calibration]]<$E$1,Table112[[#This Row],[Disposition]]=\"Lost\"),\"Find and Calibrate\",IF(Table112[[#This Row],[Disposition]]=\"Lost\",\"Find\",IF(OR(Table112[[#This Row],[Next Calibration]]<$E$1,Table112[[#This Row],[Next Calibration]]=\"NEVER CALIBRATED\"),\"Calibrate\",\"Nominal\"))))","v":"Nominal"},{"$f":"IF(((Table112[[#This Row],[Next Calibration]]-TODAY())/30)>2,\"More Than 2\",IF(((Table112[[#This Row],[Next Calibration]]-TODAY())/30)>1,\"Between 2 and 1\",\"Less than 1\"))","v":"More Than 2"},{"$f":"IF(Table112[[#This Row],[Issued]]=\"\",\"\",IF(Table112[[#This Row],[Lent]]=\"\",0,1))","v":{"v":1,"d":"1.00"}},{"$f":"IF(Table112[[#This Row],[Lent]]=\"\",\"\",IF(Table112[[#This Row],[Returned]]=\"\",0,1))","v":{"v":0,"d":"0.00"}}]
[101147,"Cunningham, Bobby","1st","Inline Hydromats","NO BRAND SPECIFIED","Accounted For",1,"2021-02-16","2021-02-16",null,"2021-02-16",{"$f":"IF(IF(Table112[[#This Row],[Disposition]]=\"Retired\",\"N/A\",IF(Table112[[#This Row],[Disposition]]=0,\"\",Table112[[#This Row],[Calibrated]]+$F$2))=0+$F$2,\"NEVER CALIBRATED\",IF(Table112[[#This Row],[Disposition]]=\"Retired\",\"N/A\",IF(Table112[[#This Row],[Disposition]]=0,\"\",Table112[[#This Row],[Calibrated]]+$F$2)))","v":"2022-02-16"},{"$f":"IF(Table112[[#This Row],[Disposition]]=\"\",\"\",IF(AND(Table112[[#This Row],[Next Calibration]]<$E$1,Table112[[#This Row],[Disposition]]=\"Lost\"),\"Find and Calibrate\",IF(Table112[[#This Row],[Disposition]]=\"Lost\",\"Find\",IF(OR(Table112[[#This Row],[Next Calibration]]<$E$1,Table112[[#This Row],[Next Calibration]]=\"NEVER CALIBRATED\"),\"Calibrate\",\"Nominal\"))))","v":"Nominal"},{"$f":"IF(((Table112[[#This Row],[Next Calibration]]-TODAY())/30)>2,\"More Than 2\",IF(((Table112[[#This Row],[Next Calibration]]-TODAY())/30)>1,\"Between 2 and 1\",\"Less than 1\"))","v":"More Than 2"},{"$f":"IF(Table112[[#This Row],[Issued]]=\"\",\"\",IF(Table112[[#This Row],[Lent]]=\"\",0,1))","v":{"v":1,"d":"1.00"}},{"$f":"IF(Table112[[#This Row],[Lent]]=\"\",\"\",IF(Table112[[#This Row],[Returned]]=\"\",0,1))","v":{"v":0,"d":"0.00"}}]
[15915986,"Cunningham, Bobby","1st","Inline Hydromats","Mitutoyo 0-6\"","Accounted For",null,"2021-02-16","2021-02-16",null,"2021-02-16",{"$f":"IF(IF(Table112[[#This Row],[Disposition]]=\"Retired\",\"N/A\",IF(Table112[[#This Row],[Disposition]]=0,\"\",Table112[[#This Row],[Calibrated]]+$F$2))=0+$F$2,\"NEVER CALIBRATED\",IF(Table112[[#This Row],[Disposition]]=\"Retired\",\"N/A\",IF(Table112[[#This Row],[Disposition]]=0,\"\",Table112[[#This Row],[Calibrated]]+$F$2)))","v":"2022-02-16"},{"$f":"IF(Table112[[#This Row],[Disposition]]=\"\",\"\",IF(AND(Table112[[#This Row],[Next Calibration]]<$E$1,Table112[[#This Row],[Disposition]]=\"Lost\"),\"Find and Calibrate\",IF(Table112[[#This Row],[Disposition]]=\"Lost\",\"Find\",IF(OR(Table112[[#This Row],[Next Calibration]]<$E$1,Table112[[#This Row],[Next Calibration]]=\"NEVER CALIBRATED\"),\"Calibrate\",\"Nominal\"))))","v":"Nominal"},{"$f":"IF(((Table112[[#This Row],[Next Calibration]]-TODAY())/30)>2,\"More Than 2\",IF(((Table112[[#This Row],[Next Calibration]]-TODAY())/30)>1,\"Between 2 and 1\",\"Less than 1\"))","v":"More Than 2"},{"$f":"IF(Table112[[#This Row],[Issued]]=\"\",\"\",IF(Table112[[#This Row],[Lent]]=\"\",0,1))","v":{"v":1,"d":"1.00"}},{"$f":"IF(Table112[[#This Row],[Lent]]=\"\",\"\",IF(Table112[[#This Row],[Returned]]=\"\",0,1))","v":{"v":0,"d":"0.00"}}]
["6-53.123052","NO PERSON SPECIFIED","NO SHIFT SPECIFIED","Inline Hydromats","Phase 2 0-6\"","Accounted For",null,"2021-02-16","2021-02-16",null,"2021-02-16",{"$f":"IF(IF(Table112[[#This Row],[Disposition]]=\"Retired\",\"N/A\",IF(Table112[[#This Row],[Disposition]]=0,\"\",Table112[[#This Row],[Calibrated]]+$F$2))=0+$F$2,\"NEVER CALIBRATED\",IF(Table112[[#This Row],[Disposition]]=\"Retired\",\"N/A\",IF(Table112[[#This Row],[Disposition]]=0,\"\",Table112[[#This Row],[Calibrated]]+$F$2)))","v":"2022-02-16"},{"$f":"IF(Table112[[#This Row],[Disposition]]=\"\",\"\",IF(AND(Table112[[#This Row],[Next Calibration]]<$E$1,Table112[[#This Row],[Disposition]]=\"Lost\"),\"Find and Calibrate\",IF(Table112[[#This Row],[Disposition]]=\"Lost\",\"Find\",IF(OR(Table112[[#This Row],[Next Calibration]]<$E$1,Table112[[#This Row],[Next Calibration]]=\"NEVER CALIBRATED\"),\"Calibrate\",\"Nominal\"))))","v":"Nominal"},{"$f":"IF(((Table112[[#This Row],[Next Calibration]]-TODAY())/30)>2,\"More Than 2\",IF(((Table112[[#This Row],[Next Calibration]]-TODAY())/30)>1,\"Between 2 and 1\",\"Less than 1\"))","v":"More Than 2"},{"$f":"IF(Table112[[#This Row],[Issued]]=\"\",\"\",IF(Table112[[#This Row],[Lent]]=\"\",0,1))","v":{"v":1,"d":"1.00"}},{"$f":"IF(Table112[[#This Row],[Lent]]=\"\",\"\",IF(Table112[[#This Row],[Returned]]=\"\",0,1))","v":{"v":0,"d":"0.00"}}]
["QN200310671B","NO PERSON SPECIFIED","NO SHIFT SPECIFIED","Inline Hydromats","NO BRAND SPECIFIED","Accounted For",null,"2021-02-16","2021-02-16",null,"2021-02-16",{"$f":"IF(IF(Table112[[#This Row],[Disposition]]=\"Retired\",\"N/A\",IF(Table112[[#This Row],[Disposition]]=0,\"\",Table112[[#This Row],[Calibrated]]+$F$2))=0+$F$2,\"NEVER CALIBRATED\",IF(Table112[[#This Row],[Disposition]]=\"Retired\",\"N/A\",IF(Table112[[#This Row],[Disposition]]=0,\"\",Table112[[#This Row],[Calibrated]]+$F$2)))","v":"2022-02-16"},{"$f":"IF(Table112[[#This Row],[Disposition]]=\"\",\"\",IF(AND(Table112[[#This Row],[Next Calibration]]<$E$1,Table112[[#This Row],[Disposition]]=\"Lost\"),\"Find and Calibrate\",IF(Table112[[#This Row],[Disposition]]=\"Lost\",\"Find\",IF(OR(Table112[[#This Row],[Next Calibration]]<$E$1,Table112[[#This Row],[Next Calibration]]=\"NEVER CALIBRATED\"),\"Calibrate\",\"Nominal\"))))","v":"Nominal"},{"$f":"IF(((Table112[[#This Row],[Next Calibration]]-TODAY())/30)>2,\"More Than 2\",IF(((Table112[[#This Row],[Next Calibration]]-TODAY())/30)>1,\"Between 2 and 1\",\"Less than 1\"))","v":"More Than 2"},{"$f":"IF(Table112[[#This Row],[Issued]]=\"\",\"\",IF(Table112[[#This Row],[Lent]]=\"\",0,1))","v":{"v":1,"d":"1.00"}},{"$f":"IF(Table112[[#This Row],[Lent]]=\"\",\"\",IF(Table112[[#This Row],[Returned]]=\"\",0,1))","v":{"v":0,"d":"0.00"}}]
["GS537666","NO PERSON SPECIFIED","NO SHIFT SPECIFIED","Presses (Automatic)","Phase 2 0-6\"","Accounted For",null,"2021-02-16","2021-02-16",null,"2021-02-16",{"$f":"IF(IF(Table112[[#This Row],[Disposition]]=\"Retired\",\"N/A\",IF(Table112[[#This Row],[Disposition]]=0,\"\",Table112[[#This Row],[Calibrated]]+$F$2))=0+$F$2,\"NEVER CALIBRATED\",IF(Table112[[#This Row],[Disposition]]=\"Retired\",\"N/A\",IF(Table112[[#This Row],[Disposition]]=0,\"\",Table112[[#This Row],[Calibrated]]+$F$2)))","v":"2022-02-16"},{"$f":"IF(Table112[[#This Row],[Disposition]]=\"\",\"\",IF(AND(Table112[[#This Row],[Next Calibration]]<$E$1,Table112[[#This Row],[Disposition]]=\"Lost\"),\"Find and Calibrate\",IF(Table112[[#This Row],[Disposition]]=\"Lost\",\"Find\",IF(OR(Table112[[#This Row],[Next Calibration]]<$E$1,Table112[[#This Row],[Next Calibration]]=\"NEVER CALIBRATED\"),\"Calibrate\",\"Nominal\"))))","v":"Nominal"},{"$f":"IF(((Table112[[#This Row],[Next Calibration]]-TODAY())/30)>2,\"More Than 2\",IF(((Table112[[#This Row],[Next Calibration]]-TODAY())/30)>1,\"Between 2 and 1\",\"Less than 1\"))","v":"More Than 2"},{"$f":"IF(Table112[[#This Row],[Issued]]=\"\",\"\",IF(Table112[[#This Row],[Lent]]=\"\",0,1))","v":{"v":1,"d":"1.00"}},{"$f":"IF(Table112[[#This Row],[Lent]]=\"\",\"\",IF(Table112[[#This Row],[Returned]]=\"\",0,1))","v":{"v":0,"d":"0.00"}}]
["DC0090","Cunningham, Bobby","1st","Presses (Hand Feed)","Mitutoyo 0-12\"","Accounted For",null,"2021-02-16","2021-02-16",null,"2021-02-16",{"$f":"IF(IF(Table112[[#This Row],[Disposition]]=\"Retired\",\"N/A\",IF(Table112[[#This Row],[Disposition]]=0,\"\",Table112[[#This Row],[Calibrated]]+$F$2))=0+$F$2,\"NEVER CALIBRATED\",IF(Table112[[#This Row],[Disposition]]=\"Retired\",\"N/A\",IF(Table112[[#This Row],[Disposition]]=0,\"\",Table112[[#This Row],[Calibrated]]+$F$2)))","v":"2022-02-16"},{"$f":"IF(Table112[[#This Row],[Disposition]]=\"\",\"\",IF(AND(Table112[[#This Row],[Next Calibration]]<$E$1,Table112[[#This Row],[Disposition]]=\"Lost\"),\"Find and Calibrate\",IF(Table112[[#This Row],[Disposition]]=\"Lost\",\"Find\",IF(OR(Table112[[#This Row],[Next Calibration]]<$E$1,Table112[[#This Row],[Next Calibration]]=\"NEVER CALIBRATED\"),\"Calibrate\",\"Nominal\"))))","v":"Nominal"},{"$f":"IF(((Table112[[#This Row],[Next Calibration]]-TODAY())/30)>2,\"More Than 2\",IF(((Table112[[#This Row],[Next Calibration]]-TODAY())/30)>1,\"Between 2 and 1\",\"Less than 1\"))","v":"More Than 2"},{"$f":"IF(Table112[[#This Row],[Issued]]=\"\",\"\",IF(Table112[[#This Row],[Lent]]=\"\",0,1))","v":{"v":1,"d":"1.00"}},{"$f":"IF(Table112[[#This Row],[Lent]]=\"\",\"\",IF(Table112[[#This Row],[Returned]]=\"\",0,1))","v":{"v":0,"d":"0.00"}}]
["QN19210908B","Cunningham, Bobby","1st","EHRT","ABS 0-6\"","Accounted For",null,"2021-02-16","2021-02-16",null,"2021-02-16",{"$f":"IF(IF(Table112[[#This Row],[Disposition]]=\"Retired\",\"N/A\",IF(Table112[[#This Row],[Disposition]]=0,\"\",Table112[[#This Row],[Calibrated]]+$F$2))=0+$F$2,\"NEVER CALIBRATED\",IF(Table112[[#This Row],[Disposition]]=\"Retired\",\"N/A\",IF(Table112[[#This Row],[Disposition]]=0,\"\",Table112[[#This Row],[Calibrated]]+$F$2)))","v":"2022-02-16"},{"$f":"IF(Table112[[#This Row],[Disposition]]=\"\",\"\",IF(AND(Table112[[#This Row],[Next Calibration]]<$E$1,Table112[[#This Row],[Disposition]]=\"Lost\"),\"Find and Calibrate\",IF(Table112[[#This Row],[Disposition]]=\"Lost\",\"Find\",IF(OR(Table112[[#This Row],[Next Calibration]]<$E$1,Table112[[#This Row],[Next Calibration]]=\"NEVER CALIBRATED\"),\"Calibrate\",\"Nominal\"))))","v":"Nominal"},{"$f":"IF(((Table112[[#This Row],[Next Calibration]]-TODAY())/30)>2,\"More Than 2\",IF(((Table112[[#This Row],[Next Calibration]]-TODAY())/30)>1,\"Between 2 and 1\",\"Less than 1\"))","v":"More Than 2"},{"$f":"IF(Table112[[#This Row],[Issued]]=\"\",\"\",IF(Table112[[#This Row],[Lent]]=\"\",0,1))","v":{"v":1,"d":"1.00"}},{"$f":"IF(Table112[[#This Row],[Lent]]=\"\",\"\",IF(Table112[[#This Row],[Returned]]=\"\",0,1))","v":{"v":0,"d":"0.00"}}]
["AS19041148","NO PERSON SPECIFIED","NO SHIFT SPECIFIED","Large CNCs","NO BRAND SPECIFIED","Accounted For",null,"2021-02-16","2021-02-16",null,"2021-02-16",{"$f":"IF(IF(Table112[[#This Row],[Disposition]]=\"Retired\",\"N/A\",IF(Table112[[#This Row],[Disposition]]=0,\"\",Table112[[#This Row],[Calibrated]]+$F$2))=0+$F$2,\"NEVER CALIBRATED\",IF(Table112[[#This Row],[Disposition]]=\"Retired\",\"N/A\",IF(Table112[[#This Row],[Disposition]]=0,\"\",Table112[[#This Row],[Calibrated]]+$F$2)))","v":"2022-02-16"},{"$f":"IF(Table112[[#This Row],[Disposition]]=\"\",\"\",IF(AND(Table112[[#This Row],[Next Calibration]]<$E$1,Table112[[#This Row],[Disposition]]=\"Lost\"),\"Find and Calibrate\",IF(Table112[[#This Row],[Disposition]]=\"Lost\",\"Find\",IF(OR(Table112[[#This Row],[Next Calibration]]<$E$1,Table112[[#This Row],[Next Calibration]]=\"NEVER CALIBRATED\"),\"Calibrate\",\"Nominal\"))))","v":"Nominal"},{"$f":"IF(((Table112[[#This Row],[Next Calibration]]-TODAY())/30)>2,\"More Than 2\",IF(((Table112[[#This Row],[Next Calibration]]-TODAY())/30)>1,\"Between 2 and 1\",\"Less than 1\"))","v":"More Than 2"},{"$f":"IF(Table112[[#This Row],[Issued]]=\"\",\"\",IF(Table112[[#This Row],[Lent]]=\"\",0,1))","v":{"v":1,"d":"1.00"}},{"$f":"IF(Table112[[#This Row],[Lent]]=\"\",\"\",IF(Table112[[#This Row],[Returned]]=\"\",0,1))","v":{"v":0,"d":"0.00"}}]
[17911784,"Cunningham, Bobby","1st","Large CNCs","Mitutoyo 0-8\"","Accounted For",null,"2021-02-16","2021-02-16",null,"2021-02-16",{"$f":"IF(IF(Table112[[#This Row],[Disposition]]=\"Retired\",\"N/A\",IF(Table112[[#This Row],[Disposition]]=0,\"\",Table112[[#This Row],[Calibrated]]+$F$2))=0+$F$2,\"NEVER CALIBRATED\",IF(Table112[[#This Row],[Disposition]]=\"Retired\",\"N/A\",IF(Table112[[#This Row],[Disposition]]=0,\"\",Table112[[#This Row],[Calibrated]]+$F$2)))","v":"2022-02-16"},{"$f":"IF(Table112[[#This Row],[Disposition]]=\"\",\"\",IF(AND(Table112[[#This Row],[Next Calibration]]<$E$1,Table112[[#This Row],[Disposition]]=\"Lost\"),\"Find and Calibrate\",IF(Table112[[#This Row],[Disposition]]=\"Lost\",\"Find\",IF(OR(Table112[[#This Row],[Next Calibration]]<$E$1,Table112[[#This Row],[Next Calibration]]=\"NEVER CALIBRATED\"),\"Calibrate\",\"Nominal\"))))","v":"Nominal"},{"$f":"IF(((Table112[[#This Row],[Next Calibration]]-TODAY())/30)>2,\"More Than 2\",IF(((Table112[[#This Row],[Next Calibration]]-TODAY())/30)>1,\"Between 2 and 1\",\"Less than 1\"))","v":"More Than 2"},{"$f":"IF(Table112[[#This Row],[Issued]]=\"\",\"\",IF(Table112[[#This Row],[Lent]]=\"\",0,1))","v":{"v":1,"d":"1.00"}},{"$f":"IF(Table112[[#This Row],[Lent]]=\"\",\"\",IF(Table112[[#This Row],[Returned]]=\"\",0,1))","v":{"v":0,"d":"0.00"}}]
["QN19207873B","NO PERSON SPECIFIED","NO SHIFT SPECIFIED","Large CNCs","ABS 0-6\"","Accounted For",null,"2021-02-16","2021-02-16",null,"2021-02-16",{"$f":"IF(IF(Table112[[#This Row],[Disposition]]=\"Retired\",\"N/A\",IF(Table112[[#This Row],[Disposition]]=0,\"\",Table112[[#This Row],[Calibrated]]+$F$2))=0+$F$2,\"NEVER CALIBRATED\",IF(Table112[[#This Row],[Disposition]]=\"Retired\",\"N/A\",IF(Table112[[#This Row],[Disposition]]=0,\"\",Table112[[#This Row],[Calibrated]]+$F$2)))","v":"2022-02-16"},{"$f":"IF(Table112[[#This Row],[Disposition]]=\"\",\"\",IF(AND(Table112[[#This Row],[Next Calibration]]<$E$1,Table112[[#This Row],[Disposition]]=\"Lost\"),\"Find and Calibrate\",IF(Table112[[#This Row],[Disposition]]=\"Lost\",\"Find\",IF(OR(Table112[[#This Row],[Next Calibration]]<$E$1,Table112[[#This Row],[Next Calibration]]=\"NEVER CALIBRATED\"),\"Calibrate\",\"Nominal\"))))","v":"Nominal"},{"$f":"IF(((Table112[[#This Row],[Next Calibration]]-TODAY())/30)>2,\"More Than 2\",IF(((Table112[[#This Row],[Next Calibration]]-TODAY())/30)>1,\"Between 2 and 1\",\"Less than 1\"))","v":"More Than 2"},{"$f":"IF(Table112[[#This Row],[Issued]]=\"\",\"\",IF(Table112[[#This Row],[Lent]]=\"\",0,1))","v":{"v":1,"d":"1.00"}},{"$f":"IF(Table112[[#This Row],[Lent]]=\"\",\"\",IF(Table112[[#This Row],[Returned]]=\"\",0,1))","v":{"v":0,"d":"0.00"}}]
[11506,"NO PERSON SPECIFIED","NO SHIFT SPECIFIED","Large CNCs","Mitutoyo 0-18\"","Accounted For",null,"2021-02-16","2021-02-16",null,"2021-02-16",{"$f":"IF(IF(Table112[[#This Row],[Disposition]]=\"Retired\",\"N/A\",IF(Table112[[#This Row],[Disposition]]=0,\"\",Table112[[#This Row],[Calibrated]]+$F$2))=0+$F$2,\"NEVER CALIBRATED\",IF(Table112[[#This Row],[Disposition]]=\"Retired\",\"N/A\",IF(Table112[[#This Row],[Disposition]]=0,\"\",Table112[[#This Row],[Calibrated]]+$F$2)))","v":"2022-02-16"},{"$f":"IF(Table112[[#This Row],[Disposition]]=\"\",\"\",IF(AND(Table112[[#This Row],[Next Calibration]]<$E$1,Table112[[#This Row],[Disposition]]=\"Lost\"),\"Find and Calibrate\",IF(Table112[[#This Row],[Disposition]]=\"Lost\",\"Find\",IF(OR(Table112[[#This Row],[Next Calibration]]<$E$1,Table112[[#This Row],[Next Calibration]]=\"NEVER CALIBRATED\"),\"Calibrate\",\"Nominal\"))))","v":"Nominal"},{"$f":"IF(((Table112[[#This Row],[Next Calibration]]-TODAY())/30)>2,\"More Than 2\",IF(((Table112[[#This Row],[Next Calibration]]-TODAY())/30)>1,\"Between 2 and 1\",\"Less than 1\"))","v":"More Than 2"},{"$f":"IF(Table112[[#This Row],[Issued]]=\"\",\"\",IF(Table112[[#This Row],[Lent]]=\"\",0,1))","v":{"v":1,"d":"1.00"}},{"$f":"IF(Table112[[#This Row],[Lent]]=\"\",\"\",IF(Table112[[#This Row],[Returned]]=\"\",0,1))","v":{"v":0,"d":"0.00"}}]
["B16208794","Cunningham, Bobby","1st","Large CNCs","Mitutoyo 0-6\"","Accounted For",null,"2021-02-16","2021-02-16",null,"2021-02-16",{"$f":"IF(IF(Table112[[#This Row],[Disposition]]=\"Retired\",\"N/A\",IF(Table112[[#This Row],[Disposition]]=0,\"\",Table112[[#This Row],[Calibrated]]+$F$2))=0+$F$2,\"NEVER CALIBRATED\",IF(Table112[[#This Row],[Disposition]]=\"Retired\",\"N/A\",IF(Table112[[#This Row],[Disposition]]=0,\"\",Table112[[#This Row],[Calibrated]]+$F$2)))","v":"2022-02-16"},{"$f":"IF(Table112[[#This Row],[Disposition]]=\"\",\"\",IF(AND(Table112[[#This Row],[Next Calibration]]<$E$1,Table112[[#This Row],[Disposition]]=\"Lost\"),\"Find and Calibrate\",IF(Table112[[#This Row],[Disposition]]=\"Lost\",\"Find\",IF(OR(Table112[[#This Row],[Next Calibration]]<$E$1,Table112[[#This Row],[Next Calibration]]=\"NEVER CALIBRATED\"),\"Calibrate\",\"Nominal\"))))","v":"Nominal"},{"$f":"IF(((Table112[[#This Row],[Next Calibration]]-TODAY())/30)>2,\"More Than 2\",IF(((Table112[[#This Row],[Next Calibration]]-TODAY())/30)>1,\"Between 2 and 1\",\"Less than 1\"))","v":"More Than 2"},{"$f":"IF(Table112[[#This Row],[Issued]]=\"\",\"\",IF(Table112[[#This Row],[Lent]]=\"\",0,1))","v":{"v":1,"d":"1.00"}},{"$f":"IF(Table112[[#This Row],[Lent]]=\"\",\"\",IF(Table112[[#This Row],[Returned]]=\"\",0,1))","v":{"v":0,"d":"0.00"}}]
["B18301134","Cunningham, Bobby","1st","VMC (Middle Bank)","Mitutoyo 0-6\"","Accounted For",null,"2021-02-16","2021-02-16",null,"2021-02-16",{"$f":"IF(IF(Table112[[#This Row],[Disposition]]=\"Retired\",\"N/A\",IF(Table112[[#This Row],[Disposition]]=0,\"\",Table112[[#This Row],[Calibrated]]+$F$2))=0+$F$2,\"NEVER CALIBRATED\",IF(Table112[[#This Row],[Disposition]]=\"Retired\",\"N/A\",IF(Table112[[#This Row],[Disposition]]=0,\"\",Table112[[#This Row],[Calibrated]]+$F$2)))","v":"2022-02-16"},{"$f":"IF(Table112[[#This Row],[Disposition]]=\"\",\"\",IF(AND(Table112[[#This Row],[Next Calibration]]<$E$1,Table112[[#This Row],[Disposition]]=\"Lost\"),\"Find and Calibrate\",IF(Table112[[#This Row],[Disposition]]=\"Lost\",\"Find\",IF(OR(Table112[[#This Row],[Next Calibration]]<$E$1,Table112[[#This Row],[Next Calibration]]=\"NEVER CALIBRATED\"),\"Calibrate\",\"Nominal\"))))","v":"Nominal"},{"$f":"IF(((Table112[[#This Row],[Next Calibration]]-TODAY())/30)>2,\"More Than 2\",IF(((Table112[[#This Row],[Next Calibration]]-TODAY())/30)>1,\"Between 2 and 1\",\"Less than 1\"))","v":"More Than 2"},{"$f":"IF(Table112[[#This Row],[Issued]]=\"\",\"\",IF(Table112[[#This Row],[Lent]]=\"\",0,1))","v":{"v":1,"d":"1.00"}},{"$f":"IF(Table112[[#This Row],[Lent]]=\"\",\"\",IF(Table112[[#This Row],[Returned]]=\"\",0,1))","v":{"v":0,"d":"0.00"}}]
["6-29.1707414","Cunningham, Bobby","1st","VMC (Middle Bank)","Phase 2 0-6\"","Accounted For",null,"2021-02-16","2021-02-16",null,"2021-02-16",{"$f":"IF(IF(Table112[[#This Row],[Disposition]]=\"Retired\",\"N/A\",IF(Table112[[#This Row],[Disposition]]=0,\"\",Table112[[#This Row],[Calibrated]]+$F$2))=0+$F$2,\"NEVER CALIBRATED\",IF(Table112[[#This Row],[Disposition]]=\"Retired\",\"N/A\",IF(Table112[[#This Row],[Disposition]]=0,\"\",Table112[[#This Row],[Calibrated]]+$F$2)))","v":"2022-02-16"},{"$f":"IF(Table112[[#This Row],[Disposition]]=\"\",\"\",IF(AND(Table112[[#This Row],[Next Calibration]]<$E$1,Table112[[#This Row],[Disposition]]=\"Lost\"),\"Find and Calibrate\",IF(Table112[[#This Row],[Disposition]]=\"Lost\",\"Find\",IF(OR(Table112[[#This Row],[Next Calibration]]<$E$1,Table112[[#This Row],[Next Calibration]]=\"NEVER CALIBRATED\"),\"Calibrate\",\"Nominal\"))))","v":"Nominal"},{"$f":"IF(((Table112[[#This Row],[Next Calibration]]-TODAY())/30)>2,\"More Than 2\",IF(((Table112[[#This Row],[Next Calibration]]-TODAY())/30)>1,\"Between 2 and 1\",\"Less than 1\"))","v":"More Than 2"},{"$f":"IF(Table112[[#This Row],[Issued]]=\"\",\"\",IF(Table112[[#This Row],[Lent]]=\"\",0,1))","v":{"v":1,"d":"1.00"}},{"$f":"IF(Table112[[#This Row],[Lent]]=\"\",\"\",IF(Table112[[#This Row],[Returned]]=\"\",0,1))","v":{"v":0,"d":"0.00"}}]
[15538206,"NO PERSON SPECIFIED","NO SHIFT SPECIFIED","VMC (Middle Bank)","Mitutoyo 0-12\"","Accounted For",null,"2021-02-16","2021-02-16",null,"2021-02-16",{"$f":"IF(IF(Table112[[#This Row],[Disposition]]=\"Retired\",\"N/A\",IF(Table112[[#This Row],[Disposition]]=0,\"\",Table112[[#This Row],[Calibrated]]+$F$2))=0+$F$2,\"NEVER CALIBRATED\",IF(Table112[[#This Row],[Disposition]]=\"Retired\",\"N/A\",IF(Table112[[#This Row],[Disposition]]=0,\"\",Table112[[#This Row],[Calibrated]]+$F$2)))","v":"2022-02-16"},{"$f":"IF(Table112[[#This Row],[Disposition]]=\"\",\"\",IF(AND(Table112[[#This Row],[Next Calibration]]<$E$1,Table112[[#This Row],[Disposition]]=\"Lost\"),\"Find and Calibrate\",IF(Table112[[#This Row],[Disposition]]=\"Lost\",\"Find\",IF(OR(Table112[[#This Row],[Next Calibration]]<$E$1,Table112[[#This Row],[Next Calibration]]=\"NEVER CALIBRATED\"),\"Calibrate\",\"Nominal\"))))","v":"Nominal"},{"$f":"IF(((Table112[[#This Row],[Next Calibration]]-TODAY())/30)>2,\"More Than 2\",IF(((Table112[[#This Row],[Next Calibration]]-TODAY())/30)>1,\"Between 2 and 1\",\"Less than 1\"))","v":"More Than 2"},{"$f":"IF(Table112[[#This Row],[Issued]]=\"\",\"\",IF(Table112[[#This Row],[Lent]]=\"\",0,1))","v":{"v":1,"d":"1.00"}},{"$f":"IF(Table112[[#This Row],[Lent]]=\"\",\"\",IF(Table112[[#This Row],[Returned]]=\"\",0,1))","v":{"v":0,"d":"0.00"}}]
["J0004","NO PERSON SPECIFIED","NO SHIFT SPECIFIED","VMC (Middle Bank)","Mitutoyo 0-18\"","Accounted For",null,"2021-02-16","2021-02-16",null,"2021-02-16",{"$f":"IF(IF(Table112[[#This Row],[Disposition]]=\"Retired\",\"N/A\",IF(Table112[[#This Row],[Disposition]]=0,\"\",Table112[[#This Row],[Calibrated]]+$F$2))=0+$F$2,\"NEVER CALIBRATED\",IF(Table112[[#This Row],[Disposition]]=\"Retired\",\"N/A\",IF(Table112[[#This Row],[Disposition]]=0,\"\",Table112[[#This Row],[Calibrated]]+$F$2)))","v":"2022-02-16"},{"$f":"IF(Table112[[#This Row],[Disposition]]=\"\",\"\",IF(AND(Table112[[#This Row],[Next Calibration]]<$E$1,Table112[[#This Row],[Disposition]]=\"Lost\"),\"Find and Calibrate\",IF(Table112[[#This Row],[Disposition]]=\"Lost\",\"Find\",IF(OR(Table112[[#This Row],[Next Calibration]]<$E$1,Table112[[#This Row],[Next Calibration]]=\"NEVER CALIBRATED\"),\"Calibrate\",\"Nominal\"))))","v":"Nominal"},{"$f":"IF(((Table112[[#This Row],[Next Calibration]]-TODAY())/30)>2,\"More Than 2\",IF(((Table112[[#This Row],[Next Calibration]]-TODAY())/30)>1,\"Between 2 and 1\",\"Less than 1\"))","v":"More Than 2"},{"$f":"IF(Table112[[#This Row],[Issued]]=\"\",\"\",IF(Table112[[#This Row],[Lent]]=\"\",0,1))","v":{"v":1,"d":"1.00"}},{"$f":"IF(Table112[[#This Row],[Lent]]=\"\",\"\",IF(Table112[[#This Row],[Returned]]=\"\",0,1))","v":{"v":0,"d":"0.00"}}]
["7-04.1707938","NO PERSON SPECIFIED","NO SHIFT SPECIFIED","VMC (Middle Bank)","Phase 2 0-6\"","Accounted For",null,"2021-02-16","2021-02-16",null,"2021-02-16",{"$f":"IF(IF(Table112[[#This Row],[Disposition]]=\"Retired\",\"N/A\",IF(Table112[[#This Row],[Disposition]]=0,\"\",Table112[[#This Row],[Calibrated]]+$F$2))=0+$F$2,\"NEVER CALIBRATED\",IF(Table112[[#This Row],[Disposition]]=\"Retired\",\"N/A\",IF(Table112[[#This Row],[Disposition]]=0,\"\",Table112[[#This Row],[Calibrated]]+$F$2)))","v":"2022-02-16"},{"$f":"IF(Table112[[#This Row],[Disposition]]=\"\",\"\",IF(AND(Table112[[#This Row],[Next Calibration]]<$E$1,Table112[[#This Row],[Disposition]]=\"Lost\"),\"Find and Calibrate\",IF(Table112[[#This Row],[Disposition]]=\"Lost\",\"Find\",IF(OR(Table112[[#This Row],[Next Calibration]]<$E$1,Table112[[#This Row],[Next Calibration]]=\"NEVER CALIBRATED\"),\"Calibrate\",\"Nominal\"))))","v":"Nominal"},{"$f":"IF(((Table112[[#This Row],[Next Calibration]]-TODAY())/30)>2,\"More Than 2\",IF(((Table112[[#This Row],[Next Calibration]]-TODAY())/30)>1,\"Between 2 and 1\",\"Less than 1\"))","v":"More Than 2"},{"$f":"IF(Table112[[#This Row],[Issued]]=\"\",\"\",IF(Table112[[#This Row],[Lent]]=\"\",0,1))","v":{"v":1,"d":"1.00"}},{"$f":"IF(Table112[[#This Row],[Lent]]=\"\",\"\",IF(Table112[[#This Row],[Returned]]=\"\",0,1))","v":{"v":0,"d":"0.00"}}]
["QN19207279B","Cunningham, Bobby","1st","Type A","ABS 0-6\"","Accounted For",null,"2021-02-16","2021-02-16",null,"2021-02-16",{"$f":"IF(IF(Table112[[#This Row],[Disposition]]=\"Retired\",\"N/A\",IF(Table112[[#This Row],[Disposition]]=0,\"\",Table112[[#This Row],[Calibrated]]+$F$2))=0+$F$2,\"NEVER CALIBRATED\",IF(Table112[[#This Row],[Disposition]]=\"Retired\",\"N/A\",IF(Table112[[#This Row],[Disposition]]=0,\"\",Table112[[#This Row],[Calibrated]]+$F$2)))","v":"2022-02-16"},{"$f":"IF(Table112[[#This Row],[Disposition]]=\"\",\"\",IF(AND(Table112[[#This Row],[Next Calibration]]<$E$1,Table112[[#This Row],[Disposition]]=\"Lost\"),\"Find and Calibrate\",IF(Table112[[#This Row],[Disposition]]=\"Lost\",\"Find\",IF(OR(Table112[[#This Row],[Next Calibration]]<$E$1,Table112[[#This Row],[Next Calibration]]=\"NEVER CALIBRATED\"),\"Calibrate\",\"Nominal\"))))","v":"Nominal"},{"$f":"IF(((Table112[[#This Row],[Next Calibration]]-TODAY())/30)>2,\"More Than 2\",IF(((Table112[[#This Row],[Next Calibration]]-TODAY())/30)>1,\"Between 2 and 1\",\"Less than 1\"))","v":"More Than 2"},{"$f":"IF(Table112[[#This Row],[Issued]]=\"\",\"\",IF(Table112[[#This Row],[Lent]]=\"\",0,1))","v":{"v":1,"d":"1.00"}},{"$f":"IF(Table112[[#This Row],[Lent]]=\"\",\"\",IF(Table112[[#This Row],[Returned]]=\"\",0,1))","v":{"v":0,"d":"0.00"}}]
["2-3.1609060","NO PERSON SPECIFIED","NO SHIFT SPECIFIED","Braze (Furnace)","Phase 2 0-6\"","Accounted For",null,"2021-02-16","2021-02-16",null,"2021-02-16",{"$f":"IF(IF(Table112[[#This Row],[Disposition]]=\"Retired\",\"N/A\",IF(Table112[[#This Row],[Disposition]]=0,\"\",Table112[[#This Row],[Calibrated]]+$F$2))=0+$F$2,\"NEVER CALIBRATED\",IF(Table112[[#This Row],[Disposition]]=\"Retired\",\"N/A\",IF(Table112[[#This Row],[Disposition]]=0,\"\",Table112[[#This Row],[Calibrated]]+$F$2)))","v":"2022-02-16"},{"$f":"IF(Table112[[#This Row],[Disposition]]=\"\",\"\",IF(AND(Table112[[#This Row],[Next Calibration]]<$E$1,Table112[[#This Row],[Disposition]]=\"Lost\"),\"Find and Calibrate\",IF(Table112[[#This Row],[Disposition]]=\"Lost\",\"Find\",IF(OR(Table112[[#This Row],[Next Calibration]]<$E$1,Table112[[#This Row],[Next Calibration]]=\"NEVER CALIBRATED\"),\"Calibrate\",\"Nominal\"))))","v":"Nominal"},{"$f":"IF(((Table112[[#This Row],[Next Calibration]]-TODAY())/30)>2,\"More Than 2\",IF(((Table112[[#This Row],[Next Calibration]]-TODAY())/30)>1,\"Between 2 and 1\",\"Less than 1\"))","v":"More Than 2"},{"$f":"IF(Table112[[#This Row],[Issued]]=\"\",\"\",IF(Table112[[#This Row],[Lent]]=\"\",0,1))","v":{"v":1,"d":"1.00"}},{"$f":"IF(Table112[[#This Row],[Lent]]=\"\",\"\",IF(Table112[[#This Row],[Returned]]=\"\",0,1))","v":{"v":0,"d":"0.00"}}]
["6-29.1707415","Cunningham, Bobby","1st","Braze (Torch)","Phase 2 0-6\"","Accounted For",null,"2021-02-16","2021-02-16",null,"2021-02-16",{"$f":"IF(IF(Table112[[#This Row],[Disposition]]=\"Retired\",\"N/A\",IF(Table112[[#This Row],[Disposition]]=0,\"\",Table112[[#This Row],[Calibrated]]+$F$2))=0+$F$2,\"NEVER CALIBRATED\",IF(Table112[[#This Row],[Disposition]]=\"Retired\",\"N/A\",IF(Table112[[#This Row],[Disposition]]=0,\"\",Table112[[#This Row],[Calibrated]]+$F$2)))","v":"2022-02-16"},{"$f":"IF(Table112[[#This Row],[Disposition]]=\"\",\"\",IF(AND(Table112[[#This Row],[Next Calibration]]<$E$1,Table112[[#This Row],[Disposition]]=\"Lost\"),\"Find and Calibrate\",IF(Table112[[#This Row],[Disposition]]=\"Lost\",\"Find\",IF(OR(Table112[[#This Row],[Next Calibration]]<$E$1,Table112[[#This Row],[Next Calibration]]=\"NEVER CALIBRATED\"),\"Calibrate\",\"Nominal\"))))","v":"Nominal"},{"$f":"IF(((Table112[[#This Row],[Next Calibration]]-TODAY())/30)>2,\"More Than 2\",IF(((Table112[[#This Row],[Next Calibration]]-TODAY())/30)>1,\"Between 2 and 1\",\"Less than 1\"))","v":"More Than 2"},{"$f":"IF(Table112[[#This Row],[Issued]]=\"\",\"\",IF(Table112[[#This Row],[Lent]]=\"\",0,1))","v":{"v":1,"d":"1.00"}},{"$f":"IF(Table112[[#This Row],[Lent]]=\"\",\"\",IF(Table112[[#This Row],[Returned]]=\"\",0,1))","v":{"v":0,"d":"0.00"}}]
["2-17.1807711","Cunningham, Bobby","1st","Race Car","Phase 2 0-6\"","Accounted For",null,"2021-02-16","2021-02-16",null,"2021-02-16",{"$f":"IF(IF(Table112[[#This Row],[Disposition]]=\"Retired\",\"N/A\",IF(Table112[[#This Row],[Disposition]]=0,\"\",Table112[[#This Row],[Calibrated]]+$F$2))=0+$F$2,\"NEVER CALIBRATED\",IF(Table112[[#This Row],[Disposition]]=\"Retired\",\"N/A\",IF(Table112[[#This Row],[Disposition]]=0,\"\",Table112[[#This Row],[Calibrated]]+$F$2)))","v":"2022-02-16"},{"$f":"IF(Table112[[#This Row],[Disposition]]=\"\",\"\",IF(AND(Table112[[#This Row],[Next Calibration]]<$E$1,Table112[[#This Row],[Disposition]]=\"Lost\"),\"Find and Calibrate\",IF(Table112[[#This Row],[Disposition]]=\"Lost\",\"Find\",IF(OR(Table112[[#This Row],[Next Calibration]]<$E$1,Table112[[#This Row],[Next Calibration]]=\"NEVER CALIBRATED\"),\"Calibrate\",\"Nominal\"))))","v":"Nominal"},{"$f":"IF(((Table112[[#This Row],[Next Calibration]]-TODAY())/30)>2,\"More Than 2\",IF(((Table112[[#This Row],[Next Calibration]]-TODAY())/30)>1,\"Between 2 and 1\",\"Less than 1\"))","v":"More Than 2"},{"$f":"IF(Table112[[#This Row],[Issued]]=\"\",\"\",IF(Table112[[#This Row],[Lent]]=\"\",0,1))","v":{"v":1,"d":"1.00"}},{"$f":"IF(Table112[[#This Row],[Lent]]=\"\",\"\",IF(Table112[[#This Row],[Returned]]=\"\",0,1))","v":{"v":0,"d":"0.00"}}]
["6-20.1609685","NO PERSON SPECIFIED","NO SHIFT SPECIFIED","Race Car","Phase 2 0-6\"","Accounted For",null,"2021-02-16","2021-02-16",null,"2021-02-16",{"$f":"IF(IF(Table112[[#This Row],[Disposition]]=\"Retired\",\"N/A\",IF(Table112[[#This Row],[Disposition]]=0,\"\",Table112[[#This Row],[Calibrated]]+$F$2))=0+$F$2,\"NEVER CALIBRATED\",IF(Table112[[#This Row],[Disposition]]=\"Retired\",\"N/A\",IF(Table112[[#This Row],[Disposition]]=0,\"\",Table112[[#This Row],[Calibrated]]+$F$2)))","v":"2022-02-16"},{"$f":"IF(Table112[[#This Row],[Disposition]]=\"\",\"\",IF(AND(Table112[[#This Row],[Next Calibration]]<$E$1,Table112[[#This Row],[Disposition]]=\"Lost\"),\"Find and Calibrate\",IF(Table112[[#This Row],[Disposition]]=\"Lost\",\"Find\",IF(OR(Table112[[#This Row],[Next Calibration]]<$E$1,Table112[[#This Row],[Next Calibration]]=\"NEVER CALIBRATED\"),\"Calibrate\",\"Nominal\"))))","v":"Nominal"},{"$f":"IF(((Table112[[#This Row],[Next Calibration]]-TODAY())/30)>2,\"More Than 2\",IF(((Table112[[#This Row],[Next Calibration]]-TODAY())/30)>1,\"Between 2 and 1\",\"Less than 1\"))","v":"More Than 2"},{"$f":"IF(Table112[[#This Row],[Issued]]=\"\",\"\",IF(Table112[[#This Row],[Lent]]=\"\",0,1))","v":{"v":1,"d":"1.00"}},{"$f":"IF(Table112[[#This Row],[Lent]]=\"\",\"\",IF(Table112[[#This Row],[Returned]]=\"\",0,1))","v":{"v":0,"d":"0.00"}}]
["7-08.1809166","Solo","NO SHIFT SPECIFIED","Cell (M. Falcon)","Phase 2 0-6\"","Accounted For",null,"2021-02-16","2021-02-16",null,"2021-02-16",{"$f":"IF(IF(Table112[[#This Row],[Disposition]]=\"Retired\",\"N/A\",IF(Table112[[#This Row],[Disposition]]=0,\"\",Table112[[#This Row],[Calibrated]]+$F$2))=0+$F$2,\"NEVER CALIBRATED\",IF(Table112[[#This Row],[Disposition]]=\"Retired\",\"N/A\",IF(Table112[[#This Row],[Disposition]]=0,\"\",Table112[[#This Row],[Calibrated]]+$F$2)))","v":"2022-02-16"},{"$f":"IF(Table112[[#This Row],[Disposition]]=\"\",\"\",IF(AND(Table112[[#This Row],[Next Calibration]]<$E$1,Table112[[#This Row],[Disposition]]=\"Lost\"),\"Find and Calibrate\",IF(Table112[[#This Row],[Disposition]]=\"Lost\",\"Find\",IF(OR(Table112[[#This Row],[Next Calibration]]<$E$1,Table112[[#This Row],[Next Calibration]]=\"NEVER CALIBRATED\"),\"Calibrate\",\"Nominal\"))))","v":"Nominal"},{"$f":"IF(((Table112[[#This Row],[Next Calibration]]-TODAY())/30)>2,\"More Than 2\",IF(((Table112[[#This Row],[Next Calibration]]-TODAY())/30)>1,\"Between 2 and 1\",\"Less than 1\"))","v":"More Than 2"},{"$f":"IF(Table112[[#This Row],[Issued]]=\"\",\"\",IF(Table112[[#This Row],[Lent]]=\"\",0,1))","v":{"v":1,"d":"1.00"}},{"$f":"IF(Table112[[#This Row],[Lent]]=\"\",\"\",IF(Table112[[#This Row],[Returned]]=\"\",0,1))","v":{"v":0,"d":"0.00"}}]
["G8722123","NO PERSON SPECIFIED","NO SHIFT SPECIFIED","Cell (T-Block)","NO BRAND SPECIFIED","Accounted For",null,"2021-02-16","2021-02-16",null,"2021-02-16",{"$f":"IF(IF(Table112[[#This Row],[Disposition]]=\"Retired\",\"N/A\",IF(Table112[[#This Row],[Disposition]]=0,\"\",Table112[[#This Row],[Calibrated]]+$F$2))=0+$F$2,\"NEVER CALIBRATED\",IF(Table112[[#This Row],[Disposition]]=\"Retired\",\"N/A\",IF(Table112[[#This Row],[Disposition]]=0,\"\",Table112[[#This Row],[Calibrated]]+$F$2)))","v":"2022-02-16"},{"$f":"IF(Table112[[#This Row],[Disposition]]=\"\",\"\",IF(AND(Table112[[#This Row],[Next Calibration]]<$E$1,Table112[[#This Row],[Disposition]]=\"Lost\"),\"Find and Calibrate\",IF(Table112[[#This Row],[Disposition]]=\"Lost\",\"Find\",IF(OR(Table112[[#This Row],[Next Calibration]]<$E$1,Table112[[#This Row],[Next Calibration]]=\"NEVER CALIBRATED\"),\"Calibrate\",\"Nominal\"))))","v":"Nominal"},{"$f":"IF(((Table112[[#This Row],[Next Calibration]]-TODAY())/30)>2,\"More Than 2\",IF(((Table112[[#This Row],[Next Calibration]]-TODAY())/30)>1,\"Between 2 and 1\",\"Less than 1\"))","v":"More Than 2"},{"$f":"IF(Table112[[#This Row],[Issued]]=\"\",\"\",IF(Table112[[#This Row],[Lent]]=\"\",0,1))","v":{"v":1,"d":"1.00"}},{"$f":"IF(Table112[[#This Row],[Lent]]=\"\",\"\",IF(Table112[[#This Row],[Returned]]=\"\",0,1))","v":{"v":0,"d":"0.00"}}]
["7-29.1502008","Cunningham, Bobby","NO SHIFT SPECIFIED","Cell (M. Falcon)","Phase 2 0-6\"","Accounted For",null,"2021-02-16","2021-02-16",null,"2021-02-16",{"$f":"IF(IF(Table112[[#This Row],[Disposition]]=\"Retired\",\"N/A\",IF(Table112[[#This Row],[Disposition]]=0,\"\",Table112[[#This Row],[Calibrated]]+$F$2))=0+$F$2,\"NEVER CALIBRATED\",IF(Table112[[#This Row],[Disposition]]=\"Retired\",\"N/A\",IF(Table112[[#This Row],[Disposition]]=0,\"\",Table112[[#This Row],[Calibrated]]+$F$2)))","v":"2022-02-16"},{"$f":"IF(Table112[[#This Row],[Disposition]]=\"\",\"\",IF(AND(Table112[[#This Row],[Next Calibration]]<$E$1,Table112[[#This Row],[Disposition]]=\"Lost\"),\"Find and Calibrate\",IF(Table112[[#This Row],[Disposition]]=\"Lost\",\"Find\",IF(OR(Table112[[#This Row],[Next Calibration]]<$E$1,Table112[[#This Row],[Next Calibration]]=\"NEVER CALIBRATED\"),\"Calibrate\",\"Nominal\"))))","v":"Nominal"},{"$f":"IF(((Table112[[#This Row],[Next Calibration]]-TODAY())/30)>2,\"More Than 2\",IF(((Table112[[#This Row],[Next Calibration]]-TODAY())/30)>1,\"Between 2 and 1\",\"Less than 1\"))","v":"More Than 2"},{"$f":"IF(Table112[[#This Row],[Issued]]=\"\",\"\",IF(Table112[[#This Row],[Lent]]=\"\",0,1))","v":{"v":1,"d":"1.00"}},{"$f":"IF(Table112[[#This Row],[Lent]]=\"\",\"\",IF(Table112[[#This Row],[Returned]]=\"\",0,1))","v":{"v":0,"d":"0.00"}}]
["QN19210788B","NO PERSON SPECIFIED","NO SHIFT SPECIFIED","Cell (lug)","ABS 0-6\"","Accounted For",null,"2021-02-16","2021-02-16",null,"2021-02-16",{"$f":"IF(IF(Table112[[#This Row],[Disposition]]=\"Retired\",\"N/A\",IF(Table112[[#This Row],[Disposition]]=0,\"\",Table112[[#This Row],[Calibrated]]+$F$2))=0+$F$2,\"NEVER CALIBRATED\",IF(Table112[[#This Row],[Disposition]]=\"Retired\",\"N/A\",IF(Table112[[#This Row],[Disposition]]=0,\"\",Table112[[#This Row],[Calibrated]]+$F$2)))","v":"2022-02-16"},{"$f":"IF(Table112[[#This Row],[Disposition]]=\"\",\"\",IF(AND(Table112[[#This Row],[Next Calibration]]<$E$1,Table112[[#This Row],[Disposition]]=\"Lost\"),\"Find and Calibrate\",IF(Table112[[#This Row],[Disposition]]=\"Lost\",\"Find\",IF(OR(Table112[[#This Row],[Next Calibration]]<$E$1,Table112[[#This Row],[Next Calibration]]=\"NEVER CALIBRATED\"),\"Calibrate\",\"Nominal\"))))","v":"Nominal"},{"$f":"IF(((Table112[[#This Row],[Next Calibration]]-TODAY())/30)>2,\"More Than 2\",IF(((Table112[[#This Row],[Next Calibration]]-TODAY())/30)>1,\"Between 2 and 1\",\"Less than 1\"))","v":"More Than 2"},{"$f":"IF(Table112[[#This Row],[Issued]]=\"\",\"\",IF(Table112[[#This Row],[Lent]]=\"\",0,1))","v":{"v":1,"d":"1.00"}},{"$f":"IF(Table112[[#This Row],[Lent]]=\"\",\"\",IF(Table112[[#This Row],[Returned]]=\"\",0,1))","v":{"v":0,"d":"0.00"}}]
["6-20.1609720","NO PERSON SPECIFIED","NO SHIFT SPECIFIED","Cell (M. Falcon)","Phase 2 0-6\"","Accounted For",null,"2021-02-16","2021-02-16",null,"2021-02-16",{"$f":"IF(IF(Table112[[#This Row],[Disposition]]=\"Retired\",\"N/A\",IF(Table112[[#This Row],[Disposition]]=0,\"\",Table112[[#This Row],[Calibrated]]+$F$2))=0+$F$2,\"NEVER CALIBRATED\",IF(Table112[[#This Row],[Disposition]]=\"Retired\",\"N/A\",IF(Table112[[#This Row],[Disposition]]=0,\"\",Table112[[#This Row],[Calibrated]]+$F$2)))","v":"2022-02-16"},{"$f":"IF(Table112[[#This Row],[Disposition]]=\"\",\"\",IF(AND(Table112[[#This Row],[Next Calibration]]<$E$1,Table112[[#This Row],[Disposition]]=\"Lost\"),\"Find and Calibrate\",IF(Table112[[#This Row],[Disposition]]=\"Lost\",\"Find\",IF(OR(Table112[[#This Row],[Next Calibration]]<$E$1,Table112[[#This Row],[Next Calibration]]=\"NEVER CALIBRATED\"),\"Calibrate\",\"Nominal\"))))","v":"Nominal"},{"$f":"IF(((Table112[[#This Row],[Next Calibration]]-TODAY())/30)>2,\"More Than 2\",IF(((Table112[[#This Row],[Next Calibration]]-TODAY())/30)>1,\"Between 2 and 1\",\"Less than 1\"))","v":"More Than 2"},{"$f":"IF(Table112[[#This Row],[Issued]]=\"\",\"\",IF(Table112[[#This Row],[Lent]]=\"\",0,1))","v":{"v":1,"d":"1.00"}},{"$f":"IF(Table112[[#This Row],[Lent]]=\"\",\"\",IF(Table112[[#This Row],[Returned]]=\"\",0,1))","v":{"v":0,"d":"0.00"}}]
["J0005","NO PERSON SPECIFIED","NO SHIFT SPECIFIED","New Britains","ABS 0-6\"","Accounted For",null,"2021-02-16","2021-02-16",null,"2021-02-16",{"$f":"IF(IF(Table112[[#This Row],[Disposition]]=\"Retired\",\"N/A\",IF(Table112[[#This Row],[Disposition]]=0,\"\",Table112[[#This Row],[Calibrated]]+$F$2))=0+$F$2,\"NEVER CALIBRATED\",IF(Table112[[#This Row],[Disposition]]=\"Retired\",\"N/A\",IF(Table112[[#This Row],[Disposition]]=0,\"\",Table112[[#This Row],[Calibrated]]+$F$2)))","v":"2022-02-16"},{"$f":"IF(Table112[[#This Row],[Disposition]]=\"\",\"\",IF(AND(Table112[[#This Row],[Next Calibration]]<$E$1,Table112[[#This Row],[Disposition]]=\"Lost\"),\"Find and Calibrate\",IF(Table112[[#This Row],[Disposition]]=\"Lost\",\"Find\",IF(OR(Table112[[#This Row],[Next Calibration]]<$E$1,Table112[[#This Row],[Next Calibration]]=\"NEVER CALIBRATED\"),\"Calibrate\",\"Nominal\"))))","v":"Nominal"},{"$f":"IF(((Table112[[#This Row],[Next Calibration]]-TODAY())/30)>2,\"More Than 2\",IF(((Table112[[#This Row],[Next Calibration]]-TODAY())/30)>1,\"Between 2 and 1\",\"Less than 1\"))","v":"More Than 2"},{"$f":"IF(Table112[[#This Row],[Issued]]=\"\",\"\",IF(Table112[[#This Row],[Lent]]=\"\",0,1))","v":{"v":1,"d":"1.00"}},{"$f":"IF(Table112[[#This Row],[Lent]]=\"\",\"\",IF(Table112[[#This Row],[Returned]]=\"\",0,1))","v":{"v":0,"d":"0.00"}}]
["6-20.1609660","Cunningham, Bobby","1st","Davenports","Phase 2 0-6\"","Accounted For",null,"2021-02-16","2021-02-16",null,"2021-02-16",{"$f":"IF(IF(Table112[[#This Row],[Disposition]]=\"Retired\",\"N/A\",IF(Table112[[#This Row],[Disposition]]=0,\"\",Table112[[#This Row],[Calibrated]]+$F$2))=0+$F$2,\"NEVER CALIBRATED\",IF(Table112[[#This Row],[Disposition]]=\"Retired\",\"N/A\",IF(Table112[[#This Row],[Disposition]]=0,\"\",Table112[[#This Row],[Calibrated]]+$F$2)))","v":"2022-02-16"},{"$f":"IF(Table112[[#This Row],[Disposition]]=\"\",\"\",IF(AND(Table112[[#This Row],[Next Calibration]]<$E$1,Table112[[#This Row],[Disposition]]=\"Lost\"),\"Find and Calibrate\",IF(Table112[[#This Row],[Disposition]]=\"Lost\",\"Find\",IF(OR(Table112[[#This Row],[Next Calibration]]<$E$1,Table112[[#This Row],[Next Calibration]]=\"NEVER CALIBRATED\"),\"Calibrate\",\"Nominal\"))))","v":"Nominal"},{"$f":"IF(((Table112[[#This Row],[Next Calibration]]-TODAY())/30)>2,\"More Than 2\",IF(((Table112[[#This Row],[Next Calibration]]-TODAY())/30)>1,\"Between 2 and 1\",\"Less than 1\"))","v":"More Than 2"},{"$f":"IF(Table112[[#This Row],[Issued]]=\"\",\"\",IF(Table112[[#This Row],[Lent]]=\"\",0,1))","v":{"v":1,"d":"1.00"}},{"$f":"IF(Table112[[#This Row],[Lent]]=\"\",\"\",IF(Table112[[#This Row],[Returned]]=\"\",0,1))","v":{"v":0,"d":"0.00"}}]
["2-3.1609114","Cunningham, Bobby","1st","Davenports","Phase 2 0-6\"","Accounted For",null,"2021-02-16","2021-02-16",null,"2021-02-16",{"$f":"IF(IF(Table112[[#This Row],[Disposition]]=\"Retired\",\"N/A\",IF(Table112[[#This Row],[Disposition]]=0,\"\",Table112[[#This Row],[Calibrated]]+$F$2))=0+$F$2,\"NEVER CALIBRATED\",IF(Table112[[#This Row],[Disposition]]=\"Retired\",\"N/A\",IF(Table112[[#This Row],[Disposition]]=0,\"\",Table112[[#This Row],[Calibrated]]+$F$2)))","v":"2022-02-16"},{"$f":"IF(Table112[[#This Row],[Disposition]]=\"\",\"\",IF(AND(Table112[[#This Row],[Next Calibration]]<$E$1,Table112[[#This Row],[Disposition]]=\"Lost\"),\"Find and Calibrate\",IF(Table112[[#This Row],[Disposition]]=\"Lost\",\"Find\",IF(OR(Table112[[#This Row],[Next Calibration]]<$E$1,Table112[[#This Row],[Next Calibration]]=\"NEVER CALIBRATED\"),\"Calibrate\",\"Nominal\"))))","v":"Nominal"},{"$f":"IF(((Table112[[#This Row],[Next Calibration]]-TODAY())/30)>2,\"More Than 2\",IF(((Table112[[#This Row],[Next Calibration]]-TODAY())/30)>1,\"Between 2 and 1\",\"Less than 1\"))","v":"More Than 2"},{"$f":"IF(Table112[[#This Row],[Issued]]=\"\",\"\",IF(Table112[[#This Row],[Lent]]=\"\",0,1))","v":{"v":1,"d":"1.00"}},{"$f":"IF(Table112[[#This Row],[Lent]]=\"\",\"\",IF(Table112[[#This Row],[Returned]]=\"\",0,1))","v":{"v":0,"d":"0.00"}}]
["QN19210659B","Cunningham, Bobby","1st","Davenports","Phase 2 0-6\"","Accounted For",null,"2021-02-16","2021-02-16",null,"2021-02-16",{"$f":"IF(IF(Table112[[#This Row],[Disposition]]=\"Retired\",\"N/A\",IF(Table112[[#This Row],[Disposition]]=0,\"\",Table112[[#This Row],[Calibrated]]+$F$2))=0+$F$2,\"NEVER CALIBRATED\",IF(Table112[[#This Row],[Disposition]]=\"Retired\",\"N/A\",IF(Table112[[#This Row],[Disposition]]=0,\"\",Table112[[#This Row],[Calibrated]]+$F$2)))","v":"2022-02-16"},{"$f":"IF(Table112[[#This Row],[Disposition]]=\"\",\"\",IF(AND(Table112[[#This Row],[Next Calibration]]<$E$1,Table112[[#This Row],[Disposition]]=\"Lost\"),\"Find and Calibrate\",IF(Table112[[#This Row],[Disposition]]=\"Lost\",\"Find\",IF(OR(Table112[[#This Row],[Next Calibration]]<$E$1,Table112[[#This Row],[Next Calibration]]=\"NEVER CALIBRATED\"),\"Calibrate\",\"Nominal\"))))","v":"Nominal"},{"$f":"IF(((Table112[[#This Row],[Next Calibration]]-TODAY())/30)>2,\"More Than 2\",IF(((Table112[[#This Row],[Next Calibration]]-TODAY())/30)>1,\"Between 2 and 1\",\"Less than 1\"))","v":"More Than 2"},{"$f":"IF(Table112[[#This Row],[Issued]]=\"\",\"\",IF(Table112[[#This Row],[Lent]]=\"\",0,1))","v":{"v":1,"d":"1.00"}},{"$f":"IF(Table112[[#This Row],[Lent]]=\"\",\"\",IF(Table112[[#This Row],[Returned]]=\"\",0,1))","v":{"v":0,"d":"0.00"}}]
["QN200403298B","NO PERSON SPECIFIED","NO SHIFT SPECIFIED","Cell (lug)","NO BRAND SPECIFIED","Accounted For",null,"2021-02-16","2021-02-16",null,"2021-02-16",{"$f":"IF(IF(Table112[[#This Row],[Disposition]]=\"Retired\",\"N/A\",IF(Table112[[#This Row],[Disposition]]=0,\"\",Table112[[#This Row],[Calibrated]]+$F$2))=0+$F$2,\"NEVER CALIBRATED\",IF(Table112[[#This Row],[Disposition]]=\"Retired\",\"N/A\",IF(Table112[[#This Row],[Disposition]]=0,\"\",Table112[[#This Row],[Calibrated]]+$F$2)))","v":"2022-02-16"},{"$f":"IF(Table112[[#This Row],[Disposition]]=\"\",\"\",IF(AND(Table112[[#This Row],[Next Calibration]]<$E$1,Table112[[#This Row],[Disposition]]=\"Lost\"),\"Find and Calibrate\",IF(Table112[[#This Row],[Disposition]]=\"Lost\",\"Find\",IF(OR(Table112[[#This Row],[Next Calibration]]<$E$1,Table112[[#This Row],[Next Calibration]]=\"NEVER CALIBRATED\"),\"Calibrate\",\"Nominal\"))))","v":"Nominal"},{"$f":"IF(((Table112[[#This Row],[Next Calibration]]-TODAY())/30)>2,\"More Than 2\",IF(((Table112[[#This Row],[Next Calibration]]-TODAY())/30)>1,\"Between 2 and 1\",\"Less than 1\"))","v":"More Than 2"},{"$f":"IF(Table112[[#This Row],[Issued]]=\"\",\"\",IF(Table112[[#This Row],[Lent]]=\"\",0,1))","v":{"v":1,"d":"1.00"}},{"$f":"IF(Table112[[#This Row],[Lent]]=\"\",\"\",IF(Table112[[#This Row],[Returned]]=\"\",0,1))","v":{"v":0,"d":"0.00"}}]
["QN19210878B","NO PERSON SPECIFIED","NO SHIFT SPECIFIED","Davenports","NO BRAND SPECIFIED","Accounted For",null,"2021-02-16","2021-02-16",null,"2021-02-16",{"$f":"IF(IF(Table112[[#This Row],[Disposition]]=\"Retired\",\"N/A\",IF(Table112[[#This Row],[Disposition]]=0,\"\",Table112[[#This Row],[Calibrated]]+$F$2))=0+$F$2,\"NEVER CALIBRATED\",IF(Table112[[#This Row],[Disposition]]=\"Retired\",\"N/A\",IF(Table112[[#This Row],[Disposition]]=0,\"\",Table112[[#This Row],[Calibrated]]+$F$2)))","v":"2022-02-16"},{"$f":"IF(Table112[[#This Row],[Disposition]]=\"\",\"\",IF(AND(Table112[[#This Row],[Next Calibration]]<$E$1,Table112[[#This Row],[Disposition]]=\"Lost\"),\"Find and Calibrate\",IF(Table112[[#This Row],[Disposition]]=\"Lost\",\"Find\",IF(OR(Table112[[#This Row],[Next Calibration]]<$E$1,Table112[[#This Row],[Next Calibration]]=\"NEVER CALIBRATED\"),\"Calibrate\",\"Nominal\"))))","v":"Nominal"},{"$f":"IF(((Table112[[#This Row],[Next Calibration]]-TODAY())/30)>2,\"More Than 2\",IF(((Table112[[#This Row],[Next Calibration]]-TODAY())/30)>1,\"Between 2 and 1\",\"Less than 1\"))","v":"More Than 2"},{"$f":"IF(Table112[[#This Row],[Issued]]=\"\",\"\",IF(Table112[[#This Row],[Lent]]=\"\",0,1))","v":{"v":1,"d":"1.00"}},{"$f":"IF(Table112[[#This Row],[Lent]]=\"\",\"\",IF(Table112[[#This Row],[Returned]]=\"\",0,1))","v":{"v":0,"d":"0.00"}}]
["QN200403297B","NO PERSON SPECIFIED","NO SHIFT SPECIFIED","Race Car","NO BRAND SPECIFIED","Accounted For",null,"2021-02-16","2021-02-16",null,"2021-02-16",{"$f":"IF(IF(Table112[[#This Row],[Disposition]]=\"Retired\",\"N/A\",IF(Table112[[#This Row],[Disposition]]=0,\"\",Table112[[#This Row],[Calibrated]]+$F$2))=0+$F$2,\"NEVER CALIBRATED\",IF(Table112[[#This Row],[Disposition]]=\"Retired\",\"N/A\",IF(Table112[[#This Row],[Disposition]]=0,\"\",Table112[[#This Row],[Calibrated]]+$F$2)))","v":"2022-02-16"},{"$f":"IF(Table112[[#This Row],[Disposition]]=\"\",\"\",IF(AND(Table112[[#This Row],[Next Calibration]]<$E$1,Table112[[#This Row],[Disposition]]=\"Lost\"),\"Find and Calibrate\",IF(Table112[[#This Row],[Disposition]]=\"Lost\",\"Find\",IF(OR(Table112[[#This Row],[Next Calibration]]<$E$1,Table112[[#This Row],[Next Calibration]]=\"NEVER CALIBRATED\"),\"Calibrate\",\"Nominal\"))))","v":"Nominal"},{"$f":"IF(((Table112[[#This Row],[Next Calibration]]-TODAY())/30)>2,\"More Than 2\",IF(((Table112[[#This Row],[Next Calibration]]-TODAY())/30)>1,\"Between 2 and 1\",\"Less than 1\"))","v":"More Than 2"},{"$f":"IF(Table112[[#This Row],[Issued]]=\"\",\"\",IF(Table112[[#This Row],[Lent]]=\"\",0,1))","v":{"v":1,"d":"1.00"}},{"$f":"IF(Table112[[#This Row],[Lent]]=\"\",\"\",IF(Table112[[#This Row],[Returned]]=\"\",0,1))","v":{"v":0,"d":"0.00"}}]
["QN200404713B","NO PERSON SPECIFIED","NO SHIFT SPECIFIED","H-Frame Brazzers","NO BRAND SPECIFIED","Accounted For",null,"2021-02-16","2021-02-16",null,"2021-02-16",{"$f":"IF(IF(Table112[[#This Row],[Disposition]]=\"Retired\",\"N/A\",IF(Table112[[#This Row],[Disposition]]=0,\"\",Table112[[#This Row],[Calibrated]]+$F$2))=0+$F$2,\"NEVER CALIBRATED\",IF(Table112[[#This Row],[Disposition]]=\"Retired\",\"N/A\",IF(Table112[[#This Row],[Disposition]]=0,\"\",Table112[[#This Row],[Calibrated]]+$F$2)))","v":"2022-02-16"},{"$f":"IF(Table112[[#This Row],[Disposition]]=\"\",\"\",IF(AND(Table112[[#This Row],[Next Calibration]]<$E$1,Table112[[#This Row],[Disposition]]=\"Lost\"),\"Find and Calibrate\",IF(Table112[[#This Row],[Disposition]]=\"Lost\",\"Find\",IF(OR(Table112[[#This Row],[Next Calibration]]<$E$1,Table112[[#This Row],[Next Calibration]]=\"NEVER CALIBRATED\"),\"Calibrate\",\"Nominal\"))))","v":"Nominal"},{"$f":"IF(((Table112[[#This Row],[Next Calibration]]-TODAY())/30)>2,\"More Than 2\",IF(((Table112[[#This Row],[Next Calibration]]-TODAY())/30)>1,\"Between 2 and 1\",\"Less than 1\"))","v":"More Than 2"},{"$f":"IF(Table112[[#This Row],[Issued]]=\"\",\"\",IF(Table112[[#This Row],[Lent]]=\"\",0,1))","v":{"v":1,"d":"1.00"}},{"$f":"IF(Table112[[#This Row],[Lent]]=\"\",\"\",IF(Table112[[#This Row],[Returned]]=\"\",0,1))","v":{"v":0,"d":"0.00"}}]
["QN200405041B","NO PERSON SPECIFIED","NO SHIFT SPECIFIED","Inline Hydromats","NO BRAND SPECIFIED","Accounted For",null,"2021-02-16","2021-02-16",null,"2021-02-16",{"$f":"IF(IF(Table112[[#This Row],[Disposition]]=\"Retired\",\"N/A\",IF(Table112[[#This Row],[Disposition]]=0,\"\",Table112[[#This Row],[Calibrated]]+$F$2))=0+$F$2,\"NEVER CALIBRATED\",IF(Table112[[#This Row],[Disposition]]=\"Retired\",\"N/A\",IF(Table112[[#This Row],[Disposition]]=0,\"\",Table112[[#This Row],[Calibrated]]+$F$2)))","v":"2022-02-16"},{"$f":"IF(Table112[[#This Row],[Disposition]]=\"\",\"\",IF(AND(Table112[[#This Row],[Next Calibration]]<$E$1,Table112[[#This Row],[Disposition]]=\"Lost\"),\"Find and Calibrate\",IF(Table112[[#This Row],[Disposition]]=\"Lost\",\"Find\",IF(OR(Table112[[#This Row],[Next Calibration]]<$E$1,Table112[[#This Row],[Next Calibration]]=\"NEVER CALIBRATED\"),\"Calibrate\",\"Nominal\"))))","v":"Nominal"},{"$f":"IF(((Table112[[#This Row],[Next Calibration]]-TODAY())/30)>2,\"More Than 2\",IF(((Table112[[#This Row],[Next Calibration]]-TODAY())/30)>1,\"Between 2 and 1\",\"Less than 1\"))","v":"More Than 2"},{"$f":"IF(Table112[[#This Row],[Issued]]=\"\",\"\",IF(Table112[[#This Row],[Lent]]=\"\",0,1))","v":{"v":1,"d":"1.00"}},{"$f":"IF(Table112[[#This Row],[Lent]]=\"\",\"\",IF(Table112[[#This Row],[Returned]]=\"\",0,1))","v":{"v":0,"d":"0.00"}}]
["QN200407691B","Cunningham, Bobby","1st","Presses (Automatic)","NO BRAND SPECIFIED","Accounted For",null,"2021-02-16","2021-03-08",null,"2021-02-16",{"$f":"IF(IF(Table112[[#This Row],[Disposition]]=\"Retired\",\"N/A\",IF(Table112[[#This Row],[Disposition]]=0,\"\",Table112[[#This Row],[Calibrated]]+$F$2))=0+$F$2,\"NEVER CALIBRATED\",IF(Table112[[#This Row],[Disposition]]=\"Retired\",\"N/A\",IF(Table112[[#This Row],[Disposition]]=0,\"\",Table112[[#This Row],[Calibrated]]+$F$2)))","v":"2022-02-16"},{"$f":"IF(Table112[[#This Row],[Disposition]]=\"\",\"\",IF(AND(Table112[[#This Row],[Next Calibration]]<$E$1,Table112[[#This Row],[Disposition]]=\"Lost\"),\"Find and Calibrate\",IF(Table112[[#This Row],[Disposition]]=\"Lost\",\"Find\",IF(OR(Table112[[#This Row],[Next Calibration]]<$E$1,Table112[[#This Row],[Next Calibration]]=\"NEVER CALIBRATED\"),\"Calibrate\",\"Nominal\"))))","v":"Nominal"},{"$f":"IF(((Table112[[#This Row],[Next Calibration]]-TODAY())/30)>2,\"More Than 2\",IF(((Table112[[#This Row],[Next Calibration]]-TODAY())/30)>1,\"Between 2 and 1\",\"Less than 1\"))","v":"More Than 2"},{"$f":"IF(Table112[[#This Row],[Issued]]=\"\",\"\",IF(Table112[[#This Row],[Lent]]=\"\",0,1))","v":{"v":1,"d":"1.00"}},{"$f":"IF(Table112[[#This Row],[Lent]]=\"\",\"\",IF(Table112[[#This Row],[Returned]]=\"\",0,1))","v":{"v":0,"d":"0.00"}}]
["QN200408137B","NO PERSON SPECIFIED","NO SHIFT SPECIFIED","Davenports","NO BRAND SPECIFIED","Accounted For",null,"2021-02-16","2021-02-16",null,"2021-02-16",{"$f":"IF(IF(Table112[[#This Row],[Disposition]]=\"Retired\",\"N/A\",IF(Table112[[#This Row],[Disposition]]=0,\"\",Table112[[#This Row],[Calibrated]]+$F$2))=0+$F$2,\"NEVER CALIBRATED\",IF(Table112[[#This Row],[Disposition]]=\"Retired\",\"N/A\",IF(Table112[[#This Row],[Disposition]]=0,\"\",Table112[[#This Row],[Calibrated]]+$F$2)))","v":"2022-02-16"},{"$f":"IF(Table112[[#This Row],[Disposition]]=\"\",\"\",IF(AND(Table112[[#This Row],[Next Calibration]]<$E$1,Table112[[#This Row],[Disposition]]=\"Lost\"),\"Find and Calibrate\",IF(Table112[[#This Row],[Disposition]]=\"Lost\",\"Find\",IF(OR(Table112[[#This Row],[Next Calibration]]<$E$1,Table112[[#This Row],[Next Calibration]]=\"NEVER CALIBRATED\"),\"Calibrate\",\"Nominal\"))))","v":"Nominal"},{"$f":"IF(((Table112[[#This Row],[Next Calibration]]-TODAY())/30)>2,\"More Than 2\",IF(((Table112[[#This Row],[Next Calibration]]-TODAY())/30)>1,\"Between 2 and 1\",\"Less than 1\"))","v":"More Than 2"},{"$f":"IF(Table112[[#This Row],[Issued]]=\"\",\"\",IF(Table112[[#This Row],[Lent]]=\"\",0,1))","v":{"v":1,"d":"1.00"}},{"$f":"IF(Table112[[#This Row],[Lent]]=\"\",\"\",IF(Table112[[#This Row],[Returned]]=\"\",0,1))","v":{"v":0,"d":"0.00"}}]
["QN200407659B","NO PERSON SPECIFIED","NO SHIFT SPECIFIED","Presses (Automatic)","NO BRAND SPECIFIED","Accounted For",null,"2021-02-16","2021-02-16",null,"2021-02-16",{"$f":"IF(IF(Table112[[#This Row],[Disposition]]=\"Retired\",\"N/A\",IF(Table112[[#This Row],[Disposition]]=0,\"\",Table112[[#This Row],[Calibrated]]+$F$2))=0+$F$2,\"NEVER CALIBRATED\",IF(Table112[[#This Row],[Disposition]]=\"Retired\",\"N/A\",IF(Table112[[#This Row],[Disposition]]=0,\"\",Table112[[#This Row],[Calibrated]]+$F$2)))","v":"2022-02-16"},{"$f":"IF(Table112[[#This Row],[Disposition]]=\"\",\"\",IF(AND(Table112[[#This Row],[Next Calibration]]<$E$1,Table112[[#This Row],[Disposition]]=\"Lost\"),\"Find and Calibrate\",IF(Table112[[#This Row],[Disposition]]=\"Lost\",\"Find\",IF(OR(Table112[[#This Row],[Next Calibration]]<$E$1,Table112[[#This Row],[Next Calibration]]=\"NEVER CALIBRATED\"),\"Calibrate\",\"Nominal\"))))","v":"Nominal"},{"$f":"IF(((Table112[[#This Row],[Next Calibration]]-TODAY())/30)>2,\"More Than 2\",IF(((Table112[[#This Row],[Next Calibration]]-TODAY())/30)>1,\"Between 2 and 1\",\"Less than 1\"))","v":"More Than 2"},{"$f":"IF(Table112[[#This Row],[Issued]]=\"\",\"\",IF(Table112[[#This Row],[Lent]]=\"\",0,1))","v":{"v":1,"d":"1.00"}},{"$f":"IF(Table112[[#This Row],[Lent]]=\"\",\"\",IF(Table112[[#This Row],[Returned]]=\"\",0,1))","v":{"v":0,"d":"0.00"}}]
["7-6.128249","Chewy","NO SHIFT SPECIFIED","Cell (M. Falcon)","Phase 2 0-6\"","Accounted For",null,"2021-02-16","2021-02-16",null,"2021-02-16",{"$f":"IF(IF(Table112[[#This Row],[Disposition]]=\"Retired\",\"N/A\",IF(Table112[[#This Row],[Disposition]]=0,\"\",Table112[[#This Row],[Calibrated]]+$F$2))=0+$F$2,\"NEVER CALIBRATED\",IF(Table112[[#This Row],[Disposition]]=\"Retired\",\"N/A\",IF(Table112[[#This Row],[Disposition]]=0,\"\",Table112[[#This Row],[Calibrated]]+$F$2)))","v":"2022-02-16"},{"$f":"IF(Table112[[#This Row],[Disposition]]=\"\",\"\",IF(AND(Table112[[#This Row],[Next Calibration]]<$E$1,Table112[[#This Row],[Disposition]]=\"Lost\"),\"Find and Calibrate\",IF(Table112[[#This Row],[Disposition]]=\"Lost\",\"Find\",IF(OR(Table112[[#This Row],[Next Calibration]]<$E$1,Table112[[#This Row],[Next Calibration]]=\"NEVER CALIBRATED\"),\"Calibrate\",\"Nominal\"))))","v":"Nominal"},{"$f":"IF(((Table112[[#This Row],[Next Calibration]]-TODAY())/30)>2,\"More Than 2\",IF(((Table112[[#This Row],[Next Calibration]]-TODAY())/30)>1,\"Between 2 and 1\",\"Less than 1\"))","v":"More Than 2"},{"$f":"IF(Table112[[#This Row],[Issued]]=\"\",\"\",IF(Table112[[#This Row],[Lent]]=\"\",0,1))","v":{"v":1,"d":"1.00"}},{"$f":"IF(Table112[[#This Row],[Lent]]=\"\",\"\",IF(Table112[[#This Row],[Returned]]=\"\",0,1))","v":{"v":0,"d":"0.00"}}]
["A18301636","Cunningham, Bobby","1st","Laythes (Small CNC)","Mitutoyo 0-6\"","Accounted For",null,"2021-02-17","2021-02-17",null,"2021-02-17",{"$f":"IF(IF(Table112[[#This Row],[Disposition]]=\"Retired\",\"N/A\",IF(Table112[[#This Row],[Disposition]]=0,\"\",Table112[[#This Row],[Calibrated]]+$F$2))=0+$F$2,\"NEVER CALIBRATED\",IF(Table112[[#This Row],[Disposition]]=\"Retired\",\"N/A\",IF(Table112[[#This Row],[Disposition]]=0,\"\",Table112[[#This Row],[Calibrated]]+$F$2)))","v":"2022-02-17"},{"$f":"IF(Table112[[#This Row],[Disposition]]=\"\",\"\",IF(AND(Table112[[#This Row],[Next Calibration]]<$E$1,Table112[[#This Row],[Disposition]]=\"Lost\"),\"Find and Calibrate\",IF(Table112[[#This Row],[Disposition]]=\"Lost\",\"Find\",IF(OR(Table112[[#This Row],[Next Calibration]]<$E$1,Table112[[#This Row],[Next Calibration]]=\"NEVER CALIBRATED\"),\"Calibrate\",\"Nominal\"))))","v":"Nominal"},{"$f":"IF(((Table112[[#This Row],[Next Calibration]]-TODAY())/30)>2,\"More Than 2\",IF(((Table112[[#This Row],[Next Calibration]]-TODAY())/30)>1,\"Between 2 and 1\",\"Less than 1\"))","v":"More Than 2"},{"$f":"IF(Table112[[#This Row],[Issued]]=\"\",\"\",IF(Table112[[#This Row],[Lent]]=\"\",0,1))","v":{"v":1,"d":"1.00"}},{"$f":"IF(Table112[[#This Row],[Lent]]=\"\",\"\",IF(Table112[[#This Row],[Returned]]=\"\",0,1))","v":{"v":0,"d":"0.00"}}]
["2-17.1807693","Cunningham, Bobby","1st","Laythes (Small CNC)","Phase 2 0-6\"","Accounted For",null,"2021-02-17","2021-02-17",null,"2021-02-17",{"$f":"IF(IF(Table112[[#This Row],[Disposition]]=\"Retired\",\"N/A\",IF(Table112[[#This Row],[Disposition]]=0,\"\",Table112[[#This Row],[Calibrated]]+$F$2))=0+$F$2,\"NEVER CALIBRATED\",IF(Table112[[#This Row],[Disposition]]=\"Retired\",\"N/A\",IF(Table112[[#This Row],[Disposition]]=0,\"\",Table112[[#This Row],[Calibrated]]+$F$2)))","v":"2022-02-17"},{"$f":"IF(Table112[[#This Row],[Disposition]]=\"\",\"\",IF(AND(Table112[[#This Row],[Next Calibration]]<$E$1,Table112[[#This Row],[Disposition]]=\"Lost\"),\"Find and Calibrate\",IF(Table112[[#This Row],[Disposition]]=\"Lost\",\"Find\",IF(OR(Table112[[#This Row],[Next Calibration]]<$E$1,Table112[[#This Row],[Next Calibration]]=\"NEVER CALIBRATED\"),\"Calibrate\",\"Nominal\"))))","v":"Nominal"},{"$f":"IF(((Table112[[#This Row],[Next Calibration]]-TODAY())/30)>2,\"More Than 2\",IF(((Table112[[#This Row],[Next Calibration]]-TODAY())/30)>1,\"Between 2 and 1\",\"Less than 1\"))","v":"More Than 2"},{"$f":"IF(Table112[[#This Row],[Issued]]=\"\",\"\",IF(Table112[[#This Row],[Lent]]=\"\",0,1))","v":{"v":1,"d":"1.00"}},{"$f":"IF(Table112[[#This Row],[Lent]]=\"\",\"\",IF(Table112[[#This Row],[Returned]]=\"\",0,1))","v":{"v":0,"d":"0.00"}}]
["5-1.20030472","Cunningham, Bobby","NO SHIFT SPECIFIED","Saw Building","Fowler 0-24\"","Accounted For",null,"2021-02-22","2021-02-22",null,"2021-02-22",{"$f":"IF(IF(Table112[[#This Row],[Disposition]]=\"Retired\",\"N/A\",IF(Table112[[#This Row],[Disposition]]=0,\"\",Table112[[#This Row],[Calibrated]]+$F$2))=0+$F$2,\"NEVER CALIBRATED\",IF(Table112[[#This Row],[Disposition]]=\"Retired\",\"N/A\",IF(Table112[[#This Row],[Disposition]]=0,\"\",Table112[[#This Row],[Calibrated]]+$F$2)))","v":"2022-02-22"},{"$f":"IF(Table112[[#This Row],[Disposition]]=\"\",\"\",IF(AND(Table112[[#This Row],[Next Calibration]]<$E$1,Table112[[#This Row],[Disposition]]=\"Lost\"),\"Find and Calibrate\",IF(Table112[[#This Row],[Disposition]]=\"Lost\",\"Find\",IF(OR(Table112[[#This Row],[Next Calibration]]<$E$1,Table112[[#This Row],[Next Calibration]]=\"NEVER CALIBRATED\"),\"Calibrate\",\"Nominal\"))))","v":"Nominal"},{"$f":"IF(((Table112[[#This Row],[Next Calibration]]-TODAY())/30)>2,\"More Than 2\",IF(((Table112[[#This Row],[Next Calibration]]-TODAY())/30)>1,\"Between 2 and 1\",\"Less than 1\"))","v":"More Than 2"},{"$f":"IF(Table112[[#This Row],[Issued]]=\"\",\"\",IF(Table112[[#This Row],[Lent]]=\"\",0,1))","v":{"v":1,"d":"1.00"}},{"$f":"IF(Table112[[#This Row],[Lent]]=\"\",\"\",IF(Table112[[#This Row],[Returned]]=\"\",0,1))","v":{"v":0,"d":"0.00"}}]
["B18381440","Cunningham, Bobby","1st","Programming","Mitutoyo 0-8\"","Accounted For",null,"2021-02-23","2021-02-23",null,"2021-02-23",{"$f":"IF(IF(Table112[[#This Row],[Disposition]]=\"Retired\",\"N/A\",IF(Table112[[#This Row],[Disposition]]=0,\"\",Table112[[#This Row],[Calibrated]]+$F$2))=0+$F$2,\"NEVER CALIBRATED\",IF(Table112[[#This Row],[Disposition]]=\"Retired\",\"N/A\",IF(Table112[[#This Row],[Disposition]]=0,\"\",Table112[[#This Row],[Calibrated]]+$F$2)))","v":"2022-02-23"},{"$f":"IF(Table112[[#This Row],[Disposition]]=\"\",\"\",IF(AND(Table112[[#This Row],[Next Calibration]]<$E$1,Table112[[#This Row],[Disposition]]=\"Lost\"),\"Find and Calibrate\",IF(Table112[[#This Row],[Disposition]]=\"Lost\",\"Find\",IF(OR(Table112[[#This Row],[Next Calibration]]<$E$1,Table112[[#This Row],[Next Calibration]]=\"NEVER CALIBRATED\"),\"Calibrate\",\"Nominal\"))))","v":"Nominal"},{"$f":"IF(((Table112[[#This Row],[Next Calibration]]-TODAY())/30)>2,\"More Than 2\",IF(((Table112[[#This Row],[Next Calibration]]-TODAY())/30)>1,\"Between 2 and 1\",\"Less than 1\"))","v":"More Than 2"},{"$f":"IF(Table112[[#This Row],[Issued]]=\"\",\"\",IF(Table112[[#This Row],[Lent]]=\"\",0,1))","v":{"v":1,"d":"1.00"}},{"$f":"IF(Table112[[#This Row],[Lent]]=\"\",\"\",IF(Table112[[#This Row],[Returned]]=\"\",0,1))","v":{"v":0,"d":"0.00"}}]
["QN01110094B",{"$nulls":3},"NO BRAND SPECIFIED","Accounted For",null,"2021-03-01",null,null,"2021-03-01",{"$f":"IF(IF(Table112[[#This Row],[Disposition]]=\"Retired\",\"N/A\",IF(Table112[[#This Row],[Disposition]]=0,\"\",Table112[[#This Row],[Calibrated]]+$F$2))=0+$F$2,\"NEVER CALIBRATED\",IF(Table112[[#This Row],[Disposition]]=\"Retired\",\"N/A\",IF(Table112[[#This Row],[Disposition]]=0,\"\",Table112[[#This Row],[Calibrated]]+$F$2)))","v":"2022-03-01"},{"$f":"IF(Table112[[#This Row],[Disposition]]=\"\",\"\",IF(AND(Table112[[#This Row],[Next Calibration]]<$E$1,Table112[[#This Row],[Disposition]]=\"Lost\"),\"Find and Calibrate\",IF(Table112[[#This Row],[Disposition]]=\"Lost\",\"Find\",IF(OR(Table112[[#This Row],[Next Calibration]]<$E$1,Table112[[#This Row],[Next Calibration]]=\"NEVER CALIBRATED\"),\"Calibrate\",\"Nominal\"))))","v":"Nominal"},{"$f":"IF(((Table112[[#This Row],[Next Calibration]]-TODAY())/30)>2,\"More Than 2\",IF(((Table112[[#This Row],[Next Calibration]]-TODAY())/30)>1,\"Between 2 and 1\",\"Less than 1\"))","v":"More Than 2"},{"$f":"IF(Table112[[#This Row],[Issued]]=\"\",\"\",IF(Table112[[#This Row],[Lent]]=\"\",0,1))","v":{"v":0,"d":"0.00"}},{"$f":"IF(Table112[[#This Row],[Lent]]=\"\",\"\",IF(Table112[[#This Row],[Returned]]=\"\",0,1))","v":""}]
["A20097685","Cunningham, Bobby","1st","Presses (Hand Feed)","Mitutoyo 0-6\"","Accounted For",null,"2021-03-05","2021-03-05",null,"2021-03-05",{"$f":"IF(IF(Table112[[#This Row],[Disposition]]=\"Retired\",\"N/A\",IF(Table112[[#This Row],[Disposition]]=0,\"\",Table112[[#This Row],[Calibrated]]+$F$2))=0+$F$2,\"NEVER CALIBRATED\",IF(Table112[[#This Row],[Disposition]]=\"Retired\",\"N/A\",IF(Table112[[#This Row],[Disposition]]=0,\"\",Table112[[#This Row],[Calibrated]]+$F$2)))","v":"2022-03-05"},{"$f":"IF(Table112[[#This Row],[Disposition]]=\"\",\"\",IF(AND(Table112[[#This Row],[Next Calibration]]<$E$1,Table112[[#This Row],[Disposition]]=\"Lost\"),\"Find and Calibrate\",IF(Table112[[#This Row],[Disposition]]=\"Lost\",\"Find\",IF(OR(Table112[[#This Row],[Next Calibration]]<$E$1,Table112[[#This Row],[Next Calibration]]=\"NEVER CALIBRATED\"),\"Calibrate\",\"Nominal\"))))","v":"Nominal"},{"$f":"IF(((Table112[[#This Row],[Next Calibration]]-TODAY())/30)>2,\"More Than 2\",IF(((Table112[[#This Row],[Next Calibration]]-TODAY())/30)>1,\"Between 2 and 1\",\"Less than 1\"))","v":"More Than 2"},{"$f":"IF(Table112[[#This Row],[Issued]]=\"\",\"\",IF(Table112[[#This Row],[Lent]]=\"\",0,1))","v":{"v":1,"d":"1.00"}},{"$f":"IF(Table112[[#This Row],[Lent]]=\"\",\"\",IF(Table112[[#This Row],[Returned]]=\"\",0,1))","v":{"v":0,"d":"0.00"}}]
["QN01110273B",{"$nulls":3},"NO BRAND SPECIFIED","Accounted For",null,"2021-03-08",{"$nulls":3},{"$f":"IF(IF(Table112[[#This Row],[Disposition]]=\"Retired\",\"N/A\",IF(Table112[[#This Row],[Disposition]]=0,\"\",Table112[[#This Row],[Calibrated]]+$F$2))=0+$F$2,\"NEVER CALIBRATED\",IF(Table112[[#This Row],[Disposition]]=\"Retired\",\"N/A\",IF(Table112[[#This Row],[Disposition]]=0,\"\",Table112[[#This Row],[Calibrated]]+$F$2)))","v":"NEVER CALIBRATED"},{"$f":"IF(Table112[[#This Row],[Disposition]]=\"\",\"\",IF(AND(Table112[[#This Row],[Next Calibration]]<$E$1,Table112[[#This Row],[Disposition]]=\"Lost\"),\"Find and Calibrate\",IF(Table112[[#This Row],[Disposition]]=\"Lost\",\"Find\",IF(OR(Table112[[#This Row],[Next Calibration]]<$E$1,Table112[[#This Row],[Next Calibration]]=\"NEVER CALIBRATED\"),\"Calibrate\",\"Nominal\"))))","v":"Calibrate"},{"$f":"IF(((Table112[[#This Row],[Next Calibration]]-TODAY())/30)>2,\"More Than 2\",IF(((Table112[[#This Row],[Next Calibration]]-TODAY())/30)>1,\"Between 2 and 1\",\"Less than 1\"))","v":{"$error":"#VALUE!"}},{"$f":"IF(Table112[[#This Row],[Issued]]=\"\",\"\",IF(Table112[[#This Row],[Lent]]=\"\",0,1))","v":{"v":0,"d":"0.00"}},{"$f":"IF(Table112[[#This Row],[Lent]]=\"\",\"\",IF(Table112[[#This Row],[Returned]]=\"\",0,1))","v":""}]
["QN01110330B",{"$nulls":3},"NO BRAND SPECIFIED","Accounted For",null,"2021-03-08",{"$nulls":3},{"$f":"IF(IF(Table112[[#This Row],[Disposition]]=\"Retired\",\"N/A\",IF(Table112[[#This Row],[Disposition]]=0,\"\",Table112[[#This Row],[Calibrated]]+$F$2))=0+$F$2,\"NEVER CALIBRATED\",IF(Table112[[#This Row],[Disposition]]=\"Retired\",\"N/A\",IF(Table112[[#This Row],[Disposition]]=0,\"\",Table112[[#This Row],[Calibrated]]+$F$2)))","v":"NEVER CALIBRATED"},{"$f":"IF(Table112[[#This Row],[Disposition]]=\"\",\"\",IF(AND(Table112[[#This Row],[Next Calibration]]<$E$1,Table112[[#This Row],[Disposition]]=\"Lost\"),\"Find and Calibrate\",IF(Table112[[#This Row],[Disposition]]=\"Lost\",\"Find\",IF(OR(Table112[[#This Row],[Next Calibration]]<$E$1,Table112[[#This Row],[Next Calibration]]=\"NEVER CALIBRATED\"),\"Calibrate\",\"Nominal\"))))","v":"Calibrate"},{"$f":"IF(((Table112[[#This Row],[Next Calibration]]-TODAY())/30)>2,\"More Than 2\",IF(((Table112[[#This Row],[Next Calibration]]-TODAY())/30)>1,\"Between 2 and 1\",\"Less than 1\"))","v":{"$error":"#VALUE!"}},{"$f":"IF(Table112[[#This Row],[Issued]]=\"\",\"\",IF(Table112[[#This Row],[Lent]]=\"\",0,1))","v":{"v":0,"d":"0.00"}},{"$f":"IF(Table112[[#This Row],[Lent]]=\"\",\"\",IF(Table112[[#This Row],[Returned]]=\"\",0,1))","v":""}]
["QN01110185B",{"$nulls":3},"NO BRAND SPECIFIED","Accounted For",null,"2021-03-08",{"$nulls":3},{"$f":"IF(IF(Table112[[#This Row],[Disposition]]=\"Retired\",\"N/A\",IF(Table112[[#This Row],[Disposition]]=0,\"\",Table112[[#This Row],[Calibrated]]+$F$2))=0+$F$2,\"NEVER CALIBRATED\",IF(Table112[[#This Row],[Disposition]]=\"Retired\",\"N/A\",IF(Table112[[#This Row],[Disposition]]=0,\"\",Table112[[#This Row],[Calibrated]]+$F$2)))","v":"NEVER CALIBRATED"},{"$f":"IF(Table112[[#This Row],[Disposition]]=\"\",\"\",IF(AND(Table112[[#This Row],[Next Calibration]]<$E$1,Table112[[#This Row],[Disposition]]=\"Lost\"),\"Find and Calibrate\",IF(Table112[[#This Row],[Disposition]]=\"Lost\",\"Find\",IF(OR(Table112[[#This Row],[Next Calibration]]<$E$1,Table112[[#This Row],[Next Calibration]]=\"NEVER CALIBRATED\"),\"Calibrate\",\"Nominal\"))))","v":"Calibrate"},{"$f":"IF(((Table112[[#This Row],[Next Calibration]]-TODAY())/30)>2,\"More Than 2\",IF(((Table112[[#This Row],[Next Calibration]]-TODAY())/30)>1,\"Between 2 and 1\",\"Less than 1\"))","v":{"$error":"#VALUE!"}},{"$f":"IF(Table112[[#This Row],[Issued]]=\"\",\"\",IF(Table112[[#This Row],[Lent]]=\"\",0,1))","v":{"v":0,"d":"0.00"}},{"$f":"IF(Table112[[#This Row],[Lent]]=\"\",\"\",IF(Table112[[#This Row],[Returned]]=\"\",0,1))","v":""}]
["QN01110116B",{"$nulls":3},"NO BRAND SPECIFIED","Accounted For",null,"2021-03-08",{"$nulls":3},{"$f":"IF(IF(Table112[[#This Row],[Disposition]]=\"Retired\",\"N/A\",IF(Table112[[#This Row],[Disposition]]=0,\"\",Table112[[#This Row],[Calibrated]]+$F$2))=0+$F$2,\"NEVER CALIBRATED\",IF(Table112[[#This Row],[Disposition]]=\"Retired\",\"N/A\",IF(Table112[[#This Row],[Disposition]]=0,\"\",Table112[[#This Row],[Calibrated]]+$F$2)))","v":"NEVER CALIBRATED"},{"$f":"IF(Table112[[#This Row],[Disposition]]=\"\",\"\",IF(AND(Table112[[#This Row],[Next Calibration]]<$E$1,Table112[[#This Row],[Disposition]]=\"Lost\"),\"Find and Calibrate\",IF(Table112[[#This Row],[Disposition]]=\"Lost\",\"Find\",IF(OR(Table112[[#This Row],[Next Calibration]]<$E$1,Table112[[#This Row],[Next Calibration]]=\"NEVER CALIBRATED\"),\"Calibrate\",\"Nominal\"))))","v":"Calibrate"},{"$f":"IF(((Table112[[#This Row],[Next Calibration]]-TODAY())/30)>2,\"More Than 2\",IF(((Table112[[#This Row],[Next Calibration]]-TODAY())/30)>1,\"Between 2 and 1\",\"Less than 1\"))","v":{"$error":"#VALUE!"}},{"$f":"IF(Table112[[#This Row],[Issued]]=\"\",\"\",IF(Table112[[#This Row],[Lent]]=\"\",0,1))","v":{"v":0,"d":"0.00"}},{"$f":"IF(Table112[[#This Row],[Lent]]=\"\",\"\",IF(Table112[[#This Row],[Returned]]=\"\",0,1))","v":""}]
["QN01110306B",{"$nulls":3},"NO BRAND SPECIFIED","Accounted For",null,"2021-03-08",{"$nulls":3},{"$f":"IF(IF(Table112[[#This Row],[Disposition]]=\"Retired\",\"N/A\",IF(Table112[[#This Row],[Disposition]]=0,\"\",Table112[[#This Row],[Calibrated]]+$F$2))=0+$F$2,\"NEVER CALIBRATED\",IF(Table112[[#This Row],[Disposition]]=\"Retired\",\"N/A\",IF(Table112[[#This Row],[Disposition]]=0,\"\",Table112[[#This Row],[Calibrated]]+$F$2)))","v":"NEVER CALIBRATED"},{"$f":"IF(Table112[[#This Row],[Disposition]]=\"\",\"\",IF(AND(Table112[[#This Row],[Next Calibration]]<$E$1,Table112[[#This Row],[Disposition]]=\"Lost\"),\"Find and Calibrate\",IF(Table112[[#This Row],[Disposition]]=\"Lost\",\"Find\",IF(OR(Table112[[#This Row],[Next Calibration]]<$E$1,Table112[[#This Row],[Next Calibration]]=\"NEVER CALIBRATED\"),\"Calibrate\",\"Nominal\"))))","v":"Calibrate"},{"$f":"IF(((Table112[[#This Row],[Next Calibration]]-TODAY())/30)>2,\"More Than 2\",IF(((Table112[[#This Row],[Next Calibration]]-TODAY())/30)>1,\"Between 2 and 1\",\"Less than 1\"))","v":{"$error":"#VALUE!"}},{"$f":"IF(Table112[[#This Row],[Issued]]=\"\",\"\",IF(Table112[[#This Row],[Lent]]=\"\",0,1))","v":{"v":0,"d":"0.00"}},{"$f":"IF(Table112[[#This Row],[Lent]]=\"\",\"\",IF(Table112[[#This Row],[Returned]]=\"\",0,1))","v":""}]
["QN01109963B",{"$nulls":3},"NO BRAND SPECIFIED","Accounted For",null,"2021-03-08",{"$nulls":3},{"$f":"IF(IF(Table112[[#This Row],[Disposition]]=\"Retired\",\"N/A\",IF(Table112[[#This Row],[Disposition]]=0,\"\",Table112[[#This Row],[Calibrated]]+$F$2))=0+$F$2,\"NEVER CALIBRATED\",IF(Table112[[#This Row],[Disposition]]=\"Retired\",\"N/A\",IF(Table112[[#This Row],[Disposition]]=0,\"\",Table112[[#This Row],[Calibrated]]+$F$2)))","v":"NEVER CALIBRATED"},{"$f":"IF(Table112[[#This Row],[Disposition]]=\"\",\"\",IF(AND(Table112[[#This Row],[Next Calibration]]<$E$1,Table112[[#This Row],[Disposition]]=\"Lost\"),\"Find and Calibrate\",IF(Table112[[#This Row],[Disposition]]=\"Lost\",\"Find\",IF(OR(Table112[[#This Row],[Next Calibration]]<$E$1,Table112[[#This Row],[Next Calibration]]=\"NEVER CALIBRATED\"),\"Calibrate\",\"Nominal\"))))","v":"Calibrate"},{"$f":"IF(((Table112[[#This Row],[Next Calibration]]-TODAY())/30)>2,\"More Than 2\",IF(((Table112[[#This Row],[Next Calibration]]-TODAY())/30)>1,\"Between 2 and 1\",\"Less than 1\"))","v":{"$error":"#VALUE!"}},{"$f":"IF(Table112[[#This Row],[Issued]]=\"\",\"\",IF(Table112[[#This Row],[Lent]]=\"\",0,1))","v":{"v":0,"d":"0.00"}},{"$f":"IF(Table112[[#This Row],[Lent]]=\"\",\"\",IF(Table112[[#This Row],[Returned]]=\"\",0,1))","v":""}]
["QN01110153B",{"$nulls":3},"NO BRAND SPECIFIED","Accounted For",null,"2021-03-08",{"$nulls":3},{"$f":"IF(IF(Table112[[#This Row],[Disposition]]=\"Retired\",\"N/A\",IF(Table112[[#This Row],[Disposition]]=0,\"\",Table112[[#This Row],[Calibrated]]+$F$2))=0+$F$2,\"NEVER CALIBRATED\",IF(Table112[[#This Row],[Disposition]]=\"Retired\",\"N/A\",IF(Table112[[#This Row],[Disposition]]=0,\"\",Table112[[#This Row],[Calibrated]]+$F$2)))","v":"NEVER CALIBRATED"},{"$f":"IF(Table112[[#This Row],[Disposition]]=\"\",\"\",IF(AND(Table112[[#This Row],[Next Calibration]]<$E$1,Table112[[#This Row],[Disposition]]=\"Lost\"),\"Find and Calibrate\",IF(Table112[[#This Row],[Disposition]]=\"Lost\",\"Find\",IF(OR(Table112[[#This Row],[Next Calibration]]<$E$1,Table112[[#This Row],[Next Calibration]]=\"NEVER CALIBRATED\"),\"Calibrate\",\"Nominal\"))))","v":"Calibrate"},{"$f":"IF(((Table112[[#This Row],[Next Calibration]]-TODAY())/30)>2,\"More Than 2\",IF(((Table112[[#This Row],[Next Calibration]]-TODAY())/30)>1,\"Between 2 and 1\",\"Less than 1\"))","v":{"$error":"#VALUE!"}},{"$f":"IF(Table112[[#This Row],[Issued]]=\"\",\"\",IF(Table112[[#This Row],[Lent]]=\"\",0,1))","v":{"v":0,"d":"0.00"}},{"$f":"IF(Table112[[#This Row],[Lent]]=\"\",\"\",IF(Table112[[#This Row],[Returned]]=\"\",0,1))","v":""}]
["QN01110098B","Cunningham, Bobby","2nd","EHRT","NO BRAND SPECIFIED","Accounted For",null,"2021-03-08","2021-03-22",null,"2021-03-22",{"$f":"IF(IF(Table112[[#This Row],[Disposition]]=\"Retired\",\"N/A\",IF(Table112[[#This Row],[Disposition]]=0,\"\",Table112[[#This Row],[Calibrated]]+$F$2))=0+$F$2,\"NEVER CALIBRATED\",IF(Table112[[#This Row],[Disposition]]=\"Retired\",\"N/A\",IF(Table112[[#This Row],[Disposition]]=0,\"\",Table112[[#This Row],[Calibrated]]+$F$2)))","v":"2022-03-22"},{"$f":"IF(Table112[[#This Row],[Disposition]]=\"\",\"\",IF(AND(Table112[[#This Row],[Next Calibration]]<$E$1,Table112[[#This Row],[Disposition]]=\"Lost\"),\"Find and Calibrate\",IF(Table112[[#This Row],[Disposition]]=\"Lost\",\"Find\",IF(OR(Table112[[#This Row],[Next Calibration]]<$E$1,Table112[[#This Row],[Next Calibration]]=\"NEVER CALIBRATED\"),\"Calibrate\",\"Nominal\"))))","v":"Nominal"},{"$f":"IF(((Table112[[#This Row],[Next Calibration]]-TODAY())/30)>2,\"More Than 2\",IF(((Table112[[#This Row],[Next Calibration]]-TODAY())/30)>1,\"Between 2 and 1\",\"Less than 1\"))","v":"More Than 2"},{"$f":"IF(Table112[[#This Row],[Issued]]=\"\",\"\",IF(Table112[[#This Row],[Lent]]=\"\",0,1))","v":{"v":1,"d":"1.00"}},{"$f":"IF(Table112[[#This Row],[Lent]]=\"\",\"\",IF(Table112[[#This Row],[Returned]]=\"\",0,1))","v":{"v":0,"d":"0.00"}}]
["QN01110177B","NO PERSON SPECIFIED","NO SHIFT SPECIFIED","Cell (Strap)","NO BRAND SPECIFIED","Accounted For",null,"2021-03-08","2021-03-12",null,"2021-03-12",{"$f":"IF(IF(Table112[[#This Row],[Disposition]]=\"Retired\",\"N/A\",IF(Table112[[#This Row],[Disposition]]=0,\"\",Table112[[#This Row],[Calibrated]]+$F$2))=0+$F$2,\"NEVER CALIBRATED\",IF(Table112[[#This Row],[Disposition]]=\"Retired\",\"N/A\",IF(Table112[[#This Row],[Disposition]]=0,\"\",Table112[[#This Row],[Calibrated]]+$F$2)))","v":"2022-03-12"},{"$f":"IF(Table112[[#This Row],[Disposition]]=\"\",\"\",IF(AND(Table112[[#This Row],[Next Calibration]]<$E$1,Table112[[#This Row],[Disposition]]=\"Lost\"),\"Find and Calibrate\",IF(Table112[[#This Row],[Disposition]]=\"Lost\",\"Find\",IF(OR(Table112[[#This Row],[Next Calibration]]<$E$1,Table112[[#This Row],[Next Calibration]]=\"NEVER CALIBRATED\"),\"Calibrate\",\"Nominal\"))))","v":"Nominal"},{"$f":"IF(((Table112[[#This Row],[Next Calibration]]-TODAY())/30)>2,\"More Than 2\",IF(((Table112[[#This Row],[Next Calibration]]-TODAY())/30)>1,\"Between 2 and 1\",\"Less than 1\"))","v":"More Than 2"},{"$f":"IF(Table112[[#This Row],[Issued]]=\"\",\"\",IF(Table112[[#This Row],[Lent]]=\"\",0,1))","v":{"v":1,"d":"1.00"}},{"$f":"IF(Table112[[#This Row],[Lent]]=\"\",\"\",IF(Table112[[#This Row],[Returned]]=\"\",0,1))","v":{"v":0,"d":"0.00"}}]
["QN200408317B",{"$nulls":3},"NO BRAND SPECIFIED","Accounted For",null,"2021-03-08",{"$nulls":3},{"$f":"IF(IF(Table112[[#This Row],[Disposition]]=\"Retired\",\"N/A\",IF(Table112[[#This Row],[Disposition]]=0,\"\",Table112[[#This Row],[Calibrated]]+$F$2))=0+$F$2,\"NEVER CALIBRATED\",IF(Table112[[#This Row],[Disposition]]=\"Retired\",\"N/A\",IF(Table112[[#This Row],[Disposition]]=0,\"\",Table112[[#This Row],[Calibrated]]+$F$2)))","v":"NEVER CALIBRATED"},{"$f":"IF(Table112[[#This Row],[Disposition]]=\"\",\"\",IF(AND(Table112[[#This Row],[Next Calibration]]<$E$1,Table112[[#This Row],[Disposition]]=\"Lost\"),\"Find and Calibrate\",IF(Table112[[#This Row],[Disposition]]=\"Lost\",\"Find\",IF(OR(Table112[[#This Row],[Next Calibration]]<$E$1,Table112[[#This Row],[Next Calibration]]=\"NEVER CALIBRATED\"),\"Calibrate\",\"Nominal\"))))","v":"Calibrate"},{"$f":"IF(((Table112[[#This Row],[Next Calibration]]-TODAY())/30)>2,\"More Than 2\",IF(((Table112[[#This Row],[Next Calibration]]-TODAY())/30)>1,\"Between 2 and 1\",\"Less than 1\"))","v":{"$error":"#VALUE!"}},{"$f":"IF(Table112[[#This Row],[Issued]]=\"\",\"\",IF(Table112[[#This Row],[Lent]]=\"\",0,1))","v":{"v":0,"d":"0.00"}},{"$f":"IF(Table112[[#This Row],[Lent]]=\"\",\"\",IF(Table112[[#This Row],[Returned]]=\"\",0,1))","v":""}]
["QN01110353B",{"$nulls":3},"NO BRAND SPECIFIED","Accounted For",null,"2021-03-08",{"$nulls":3},{"$f":"IF(IF(Table112[[#This Row],[Disposition]]=\"Retired\",\"N/A\",IF(Table112[[#This Row],[Disposition]]=0,\"\",Table112[[#This Row],[Calibrated]]+$F$2))=0+$F$2,\"NEVER CALIBRATED\",IF(Table112[[#This Row],[Disposition]]=\"Retired\",\"N/A\",IF(Table112[[#This Row],[Disposition]]=0,\"\",Table112[[#This Row],[Calibrated]]+$F$2)))","v":"NEVER CALIBRATED"},{"$f":"IF(Table112[[#This Row],[Disposition]]=\"\",\"\",IF(AND(Table112[[#This Row],[Next Calibration]]<$E$1,Table112[[#This Row],[Disposition]]=\"Lost\"),\"Find and Calibrate\",IF(Table112[[#This Row],[Disposition]]=\"Lost\",\"Find\",IF(OR(Table112[[#This Row],[Next Calibration]]<$E$1,Table112[[#This Row],[Next Calibration]]=\"NEVER CALIBRATED\"),\"Calibrate\",\"Nominal\"))))","v":"Calibrate"},{"$f":"IF(((Table112[[#This Row],[Next Calibration]]-TODAY())/30)>2,\"More Than 2\",IF(((Table112[[#This Row],[Next Calibration]]-TODAY())/30)>1,\"Between 2 and 1\",\"Less than 1\"))","v":{"$error":"#VALUE!"}},{"$f":"IF(Table112[[#This Row],[Issued]]=\"\",\"\",IF(Table112[[#This Row],[Lent]]=\"\",0,1))","v":{"v":0,"d":"0.00"}},{"$f":"IF(Table112[[#This Row],[Lent]]=\"\",\"\",IF(Table112[[#This Row],[Returned]]=\"\",0,1))","v":""}]
["QN01109960",{"$nulls":3},"NO BRAND SPECIFIED","Accounted For",null,"2021-03-08",{"$nulls":3},{"$f":"IF(IF(Table112[[#This Row],[Disposition]]=\"Retired\",\"N/A\",IF(Table112[[#This Row],[Disposition]]=0,\"\",Table112[[#This Row],[Calibrated]]+$F$2))=0+$F$2,\"NEVER CALIBRATED\",IF(Table112[[#This Row],[Disposition]]=\"Retired\",\"N/A\",IF(Table112[[#This Row],[Disposition]]=0,\"\",Table112[[#This Row],[Calibrated]]+$F$2)))","v":"NEVER CALIBRATED"},{"$f":"IF(Table112[[#This Row],[Disposition]]=\"\",\"\",IF(AND(Table112[[#This Row],[Next Calibration]]<$E$1,Table112[[#This Row],[Disposition]]=\"Lost\"),\"Find and Calibrate\",IF(Table112[[#This Row],[Disposition]]=\"Lost\",\"Find\",IF(OR(Table112[[#This Row],[Next Calibration]]<$E$1,Table112[[#This Row],[Next Calibration]]=\"NEVER CALIBRATED\"),\"Calibrate\",\"Nominal\"))))","v":"Calibrate"},{"$f":"IF(((Table112[[#This Row],[Next Calibration]]-TODAY())/30)>2,\"More Than 2\",IF(((Table112[[#This Row],[Next Calibration]]-TODAY())/30)>1,\"Between 2 and 1\",\"Less than 1\"))","v":{"$error":"#VALUE!"}},{"$f":"IF(Table112[[#This Row],[Issued]]=\"\",\"\",IF(Table112[[#This Row],[Lent]]=\"\",0,1))","v":{"v":0,"d":"0.00"}},{"$f":"IF(Table112[[#This Row],[Lent]]=\"\",\"\",IF(Table112[[#This Row],[Returned]]=\"\",0,1))","v":""}]
["QN01110000B",{"$nulls":3},"NO BRAND SPECIFIED","Accounted For",null,"2021-03-08",{"$nulls":3},{"$f":"IF(IF(Table112[[#This Row],[Disposition]]=\"Retired\",\"N/A\",IF(Table112[[#This Row],[Disposition]]=0,\"\",Table112[[#This Row],[Calibrated]]+$F$2))=0+$F$2,\"NEVER CALIBRATED\",IF(Table112[[#This Row],[Disposition]]=\"Retired\",\"N/A\",IF(Table112[[#This Row],[Disposition]]=0,\"\",Table112[[#This Row],[Calibrated]]+$F$2)))","v":"NEVER CALIBRATED"},{"$f":"IF(Table112[[#This Row],[Disposition]]=\"\",\"\",IF(AND(Table112[[#This Row],[Next Calibration]]<$E$1,Table112[[#This Row],[Disposition]]=\"Lost\"),\"Find and Calibrate\",IF(Table112[[#This Row],[Disposition]]=\"Lost\",\"Find\",IF(OR(Table112[[#This Row],[Next Calibration]]<$E$1,Table112[[#This Row],[Next Calibration]]=\"NEVER CALIBRATED\"),\"Calibrate\",\"Nominal\"))))","v":"Calibrate"},{"$f":"IF(((Table112[[#This Row],[Next Calibration]]-TODAY())/30)>2,\"More Than 2\",IF(((Table112[[#This Row],[Next Calibration]]-TODAY())/30)>1,\"Between 2 and 1\",\"Less than 1\"))","v":{"$error":"#VALUE!"}},{"$f":"IF(Table112[[#This Row],[Issued]]=\"\",\"\",IF(Table112[[#This Row],[Lent]]=\"\",0,1))","v":{"v":0,"d":"0.00"}},{"$f":"IF(Table112[[#This Row],[Lent]]=\"\",\"\",IF(Table112[[#This Row],[Returned]]=\"\",0,1))","v":""}]
["QN01109958B",{"$nulls":3},"NO BRAND SPECIFIED","Accounted For",null,"2021-03-08",{"$nulls":3},{"$f":"IF(IF(Table112[[#This Row],[Disposition]]=\"Retired\",\"N/A\",IF(Table112[[#This Row],[Disposition]]=0,\"\",Table112[[#This Row],[Calibrated]]+$F$2))=0+$F$2,\"NEVER CALIBRATED\",IF(Table112[[#This Row],[Disposition]]=\"Retired\",\"N/A\",IF(Table112[[#This Row],[Disposition]]=0,\"\",Table112[[#This Row],[Calibrated]]+$F$2)))","v":"NEVER CALIBRATED"},{"$f":"IF(Table112[[#This Row],[Disposition]]=\"\",\"\",IF(AND(Table112[[#This Row],[Next Calibration]]<$E$1,Table112[[#This Row],[Disposition]]=\"Lost\"),\"Find and Calibrate\",IF(Table112[[#This Row],[Disposition]]=\"Lost\",\"Find\",IF(OR(Table112[[#This Row],[Next Calibration]]<$E$1,Table112[[#This Row],[Next Calibration]]=\"NEVER CALIBRATED\"),\"Calibrate\",\"Nominal\"))))","v":"Calibrate"},{"$f":"IF(((Table112[[#This Row],[Next Calibration]]-TODAY())/30)>2,\"More Than 2\",IF(((Table112[[#This Row],[Next Calibration]]-TODAY())/30)>1,\"Between 2 and 1\",\"Less than 1\"))","v":{"$error":"#VALUE!"}},{"$f":"IF(Table112[[#This Row],[Issued]]=\"\",\"\",IF(Table112[[#This Row],[Lent]]=\"\",0,1))","v":{"v":0,"d":"0.00"}},{"$f":"IF(Table112[[#This Row],[Lent]]=\"\",\"\",IF(Table112[[#This Row],[Returned]]=\"\",0,1))","v":""}]
["QN01110033B",{"$nulls":3},"NO BRAND SPECIFIED","Accounted For",null,"2021-03-08",{"$nulls":3},{"$f":"IF(IF(Table112[[#This Row],[Disposition]]=\"Retired\",\"N/A\",IF(Table112[[#This Row],[Disposition]]=0,\"\",Table112[[#This Row],[Calibrated]]+$F$2))=0+$F$2,\"NEVER CALIBRATED\",IF(Table112[[#This Row],[Disposition]]=\"Retired\",\"N/A\",IF(Table112[[#This Row],[Disposition]]=0,\"\",Table112[[#This Row],[Calibrated]]+$F$2)))","v":"NEVER CALIBRATED"},{"$f":"IF(Table112[[#This Row],[Disposition]]=\"\",\"\",IF(AND(Table112[[#This Row],[Next Calibration]]<$E$1,Table112[[#This Row],[Disposition]]=\"Lost\"),\"Find and Calibrate\",IF(Table112[[#This Row],[Disposition]]=\"Lost\",\"Find\",IF(OR(Table112[[#This Row],[Next Calibration]]<$E$1,Table112[[#This Row],[Next Calibration]]=\"NEVER CALIBRATED\"),\"Calibrate\",\"Nominal\"))))","v":"Calibrate"},{"$f":"IF(((Table112[[#This Row],[Next Calibration]]-TODAY())/30)>2,\"More Than 2\",IF(((Table112[[#This Row],[Next Calibration]]-TODAY())/30)>1,\"Between 2 and 1\",\"Less than 1\"))","v":{"$error":"#VALUE!"}},{"$f":"IF(Table112[[#This Row],[Issued]]=\"\",\"\",IF(Table112[[#This Row],[Lent]]=\"\",0,1))","v":{"v":0,"d":"0.00"}},{"$f":"IF(Table112[[#This Row],[Lent]]=\"\",\"\",IF(Table112[[#This Row],[Returned]]=\"\",0,1))","v":""}]
["QN01110164B",{"$nulls":3},"NO BRAND SPECIFIED","Accounted For",null,"2021-03-08",{"$nulls":3},{"$f":"IF(IF(Table112[[#This Row],[Disposition]]=\"Retired\",\"N/A\",IF(Table112[[#This Row],[Disposition]]=0,\"\",Table112[[#This Row],[Calibrated]]+$F$2))=0+$F$2,\"NEVER CALIBRATED\",IF(Table112[[#This Row],[Disposition]]=\"Retired\",\"N/A\",IF(Table112[[#This Row],[Disposition]]=0,\"\",Table112[[#This Row],[Calibrated]]+$F$2)))","v":"NEVER CALIBRATED"},{"$f":"IF(Table112[[#This Row],[Disposition]]=\"\",\"\",IF(AND(Table112[[#This Row],[Next Calibration]]<$E$1,Table112[[#This Row],[Disposition]]=\"Lost\"),\"Find and Calibrate\",IF(Table112[[#This Row],[Disposition]]=\"Lost\",\"Find\",IF(OR(Table112[[#This Row],[Next Calibration]]<$E$1,Table112[[#This Row],[Next Calibration]]=\"NEVER CALIBRATED\"),\"Calibrate\",\"Nominal\"))))","v":"Calibrate"},{"$f":"IF(((Table112[[#This Row],[Next Calibration]]-TODAY())/30)>2,\"More Than 2\",IF(((Table112[[#This Row],[Next Calibration]]-TODAY())/30)>1,\"Between 2 and 1\",\"Less than 1\"))","v":{"$error":"#VALUE!"}},{"$f":"IF(Table112[[#This Row],[Issued]]=\"\",\"\",IF(Table112[[#This Row],[Lent]]=\"\",0,1))","v":{"v":0,"d":"0.00"}},{"$f":"IF(Table112[[#This Row],[Lent]]=\"\",\"\",IF(Table112[[#This Row],[Returned]]=\"\",0,1))","v":""}]
["QN01109893B","Cunningham, Bobby","2nd","Presses (Automatic)","NO BRAND SPECIFIED","Accounted For",null,"2021-03-08","2021-04-13",null,null,{"$f":"IF(IF(Table112[[#This Row],[Disposition]]=\"Retired\",\"N/A\",IF(Table112[[#This Row],[Disposition]]=0,\"\",Table112[[#This Row],[Calibrated]]+$F$2))=0+$F$2,\"NEVER CALIBRATED\",IF(Table112[[#This Row],[Disposition]]=\"Retired\",\"N/A\",IF(Table112[[#This Row],[Disposition]]=0,\"\",Table112[[#This Row],[Calibrated]]+$F$2)))","v":"NEVER CALIBRATED"},{"$f":"IF(Table112[[#This Row],[Disposition]]=\"\",\"\",IF(AND(Table112[[#This Row],[Next Calibration]]<$E$1,Table112[[#This Row],[Disposition]]=\"Lost\"),\"Find and Calibrate\",IF(Table112[[#This Row],[Disposition]]=\"Lost\",\"Find\",IF(OR(Table112[[#This Row],[Next Calibration]]<$E$1,Table112[[#This Row],[Next Calibration]]=\"NEVER CALIBRATED\"),\"Calibrate\",\"Nominal\"))))","v":"Calibrate"},{"$f":"IF(((Table112[[#This Row],[Next Calibration]]-TODAY())/30)>2,\"More Than 2\",IF(((Table112[[#This Row],[Next Calibration]]-TODAY())/30)>1,\"Between 2 and 1\",\"Less than 1\"))","v":{"$error":"#VALUE!"}},{"$f":"IF(Table112[[#This Row],[Issued]]=\"\",\"\",IF(Table112[[#This Row],[Lent]]=\"\",0,1))","v":{"v":1,"d":"1.00"}},{"$f":"IF(Table112[[#This Row],[Lent]]=\"\",\"\",IF(Table112[[#This Row],[Returned]]=\"\",0,1))","v":{"v":0,"d":"0.00"}}]
["QN01110094B","Cunningham, Bobby","2nd","VMC (206)","NO BRAND SPECIFIED","Accounted For",null,"2021-03-08","2021-03-11",null,"2021-03-11",{"$f":"IF(IF(Table112[[#This Row],[Disposition]]=\"Retired\",\"N/A\",IF(Table112[[#This Row],[Disposition]]=0,\"\",Table112[[#This Row],[Calibrated]]+$F$2))=0+$F$2,\"NEVER CALIBRATED\",IF(Table112[[#This Row],[Disposition]]=\"Retired\",\"N/A\",IF(Table112[[#This Row],[Disposition]]=0,\"\",Table112[[#This Row],[Calibrated]]+$F$2)))","v":"2022-03-11"},{"$f":"IF(Table112[[#This Row],[Disposition]]=\"\",\"\",IF(AND(Table112[[#This Row],[Next Calibration]]<$E$1,Table112[[#This Row],[Disposition]]=\"Lost\"),\"Find and Calibrate\",IF(Table112[[#This Row],[Disposition]]=\"Lost\",\"Find\",IF(OR(Table112[[#This Row],[Next Calibration]]<$E$1,Table112[[#This Row],[Next Calibration]]=\"NEVER CALIBRATED\"),\"Calibrate\",\"Nominal\"))))","v":"Nominal"},{"$f":"IF(((Table112[[#This Row],[Next Calibration]]-TODAY())/30)>2,\"More Than 2\",IF(((Table112[[#This Row],[Next Calibration]]-TODAY())/30)>1,\"Between 2 and 1\",\"Less than 1\"))","v":"More Than 2"},{"$f":"IF(Table112[[#This Row],[Issued]]=\"\",\"\",IF(Table112[[#This Row],[Lent]]=\"\",0,1))","v":{"v":1,"d":"1.00"}},{"$f":"IF(Table112[[#This Row],[Lent]]=\"\",\"\",IF(Table112[[#This Row],[Returned]]=\"\",0,1))","v":{"v":0,"d":"0.00"}}]
["QN01110117B","Cunningham, Bobby","2nd","Laythes (Small CNC)","NO BRAND SPECIFIED","Accounted For",null,"2021-03-08","2021-03-26",null,null,{"$f":"IF(IF(Table112[[#This Row],[Disposition]]=\"Retired\",\"N/A\",IF(Table112[[#This Row],[Disposition]]=0,\"\",Table112[[#This Row],[Calibrated]]+$F$2))=0+$F$2,\"NEVER CALIBRATED\",IF(Table112[[#This Row],[Disposition]]=\"Retired\",\"N/A\",IF(Table112[[#This Row],[Disposition]]=0,\"\",Table112[[#This Row],[Calibrated]]+$F$2)))","v":"NEVER CALIBRATED"},{"$f":"IF(Table112[[#This Row],[Disposition]]=\"\",\"\",IF(AND(Table112[[#This Row],[Next Calibration]]<$E$1,Table112[[#This Row],[Disposition]]=\"Lost\"),\"Find and Calibrate\",IF(Table112[[#This Row],[Disposition]]=\"Lost\",\"Find\",IF(OR(Table112[[#This Row],[Next Calibration]]<$E$1,Table112[[#This Row],[Next Calibration]]=\"NEVER CALIBRATED\"),\"Calibrate\",\"Nominal\"))))","v":"Calibrate"},{"$f":"IF(((Table112[[#This Row],[Next Calibration]]-TODAY())/30)>2,\"More Than 2\",IF(((Table112[[#This Row],[Next Calibration]]-TODAY())/30)>1,\"Between 2 and 1\",\"Less than 1\"))","v":{"$error":"#VALUE!"}},{"$f":"IF(Table112[[#This Row],[Issued]]=\"\",\"\",IF(Table112[[#This Row],[Lent]]=\"\",0,1))","v":{"v":1,"d":"1.00"}},{"$f":"IF(Table112[[#This Row],[Lent]]=\"\",\"\",IF(Table112[[#This Row],[Returned]]=\"\",0,1))","v":{"v":0,"d":"0.00"}}]
["QN01110291B","Cunningham, Bobby","3rd","Large CNCs","NO BRAND SPECIFIED","Accounted For",null,"2021-03-08","2021-03-24",null,"2021-03-24",{"$f":"IF(IF(Table112[[#This Row],[Disposition]]=\"Retired\",\"N/A\",IF(Table112[[#This Row],[Disposition]]=0,\"\",Table112[[#This Row],[Calibrated]]+$F$2))=0+$F$2,\"NEVER CALIBRATED\",IF(Table112[[#This Row],[Disposition]]=\"Retired\",\"N/A\",IF(Table112[[#This Row],[Disposition]]=0,\"\",Table112[[#This Row],[Calibrated]]+$F$2)))","v":"2022-03-24"},{"$f":"IF(Table112[[#This Row],[Disposition]]=\"\",\"\",IF(AND(Table112[[#This Row],[Next Calibration]]<$E$1,Table112[[#This Row],[Disposition]]=\"Lost\"),\"Find and Calibrate\",IF(Table112[[#This Row],[Disposition]]=\"Lost\",\"Find\",IF(OR(Table112[[#This Row],[Next Calibration]]<$E$1,Table112[[#This Row],[Next Calibration]]=\"NEVER CALIBRATED\"),\"Calibrate\",\"Nominal\"))))","v":"Nominal"},{"$f":"IF(((Table112[[#This Row],[Next Calibration]]-TODAY())/30)>2,\"More Than 2\",IF(((Table112[[#This Row],[Next Calibration]]-TODAY())/30)>1,\"Between 2 and 1\",\"Less than 1\"))","v":"More Than 2"},{"$f":"IF(Table112[[#This Row],[Issued]]=\"\",\"\",IF(Table112[[#This Row],[Lent]]=\"\",0,1))","v":{"v":1,"d":"1.00"}},{"$f":"IF(Table112[[#This Row],[Lent]]=\"\",\"\",IF(Table112[[#This Row],[Returned]]=\"\",0,1))","v":{"v":0,"d":"0.00"}}]
["A20097689",{"$nulls":3},"Mitutoyo 0-6\"","Accounted For",null,"2021-03-08",{"$nulls":3},{"$f":"IF(IF(Table112[[#This Row],[Disposition]]=\"Retired\",\"N/A\",IF(Table112[[#This Row],[Disposition]]=0,\"\",Table112[[#This Row],[Calibrated]]+$F$2))=0+$F$2,\"NEVER CALIBRATED\",IF(Table112[[#This Row],[Disposition]]=\"Retired\",\"N/A\",IF(Table112[[#This Row],[Disposition]]=0,\"\",Table112[[#This Row],[Calibrated]]+$F$2)))","v":"NEVER CALIBRATED"},{"$f":"IF(Table112[[#This Row],[Disposition]]=\"\",\"\",IF(AND(Table112[[#This Row],[Next Calibration]]<$E$1,Table112[[#This Row],[Disposition]]=\"Lost\"),\"Find and Calibrate\",IF(Table112[[#This Row],[Disposition]]=\"Lost\",\"Find\",IF(OR(Table112[[#This Row],[Next Calibration]]<$E$1,Table112[[#This Row],[Next Calibration]]=\"NEVER CALIBRATED\"),\"Calibrate\",\"Nominal\"))))","v":"Calibrate"},{"$f":"IF(((Table112[[#This Row],[Next Calibration]]-TODAY())/30)>2,\"More Than 2\",IF(((Table112[[#This Row],[Next Calibration]]-TODAY())/30)>1,\"Between 2 and 1\",\"Less than 1\"))","v":{"$error":"#VALUE!"}},{"$f":"IF(Table112[[#This Row],[Issued]]=\"\",\"\",IF(Table112[[#This Row],[Lent]]=\"\",0,1))","v":{"v":0,"d":"0.00"}},{"$f":"IF(Table112[[#This Row],[Lent]]=\"\",\"\",IF(Table112[[#This Row],[Returned]]=\"\",0,1))","v":""}]
["A20097626","NO PERSON SPECIFIED","1st","Office (Intern)","Mitutoyo 0-6\"","Accounted For",null,"2021-03-08","2021-04-02","2021-04-06","2021-04-02",{"$f":"IF(IF(Table112[[#This Row],[Disposition]]=\"Retired\",\"N/A\",IF(Table112[[#This Row],[Disposition]]=0,\"\",Table112[[#This Row],[Calibrated]]+$F$2))=0+$F$2,\"NEVER CALIBRATED\",IF(Table112[[#This Row],[Disposition]]=\"Retired\",\"N/A\",IF(Table112[[#This Row],[Disposition]]=0,\"\",Table112[[#This Row],[Calibrated]]+$F$2)))","v":"2022-04-02"},{"$f":"IF(Table112[[#This Row],[Disposition]]=\"\",\"\",IF(AND(Table112[[#This Row],[Next Calibration]]<$E$1,Table112[[#This Row],[Disposition]]=\"Lost\"),\"Find and Calibrate\",IF(Table112[[#This Row],[Disposition]]=\"Lost\",\"Find\",IF(OR(Table112[[#This Row],[Next Calibration]]<$E$1,Table112[[#This Row],[Next Calibration]]=\"NEVER CALIBRATED\"),\"Calibrate\",\"Nominal\"))))","v":"Nominal"},{"$f":"IF(((Table112[[#This Row],[Next Calibration]]-TODAY())/30)>2,\"More Than 2\",IF(((Table112[[#This Row],[Next Calibration]]-TODAY())/30)>1,\"Between 2 and 1\",\"Less than 1\"))","v":"More Than 2"},{"$f":"IF(Table112[[#This Row],[Issued]]=\"\",\"\",IF(Table112[[#This Row],[Lent]]=\"\",0,1))","v":{"v":1,"d":"1.00"}},{"$f":"IF(Table112[[#This Row],[Lent]]=\"\",\"\",IF(Table112[[#This Row],[Returned]]=\"\",0,1))","v":{"v":1,"d":"1.00"}}]
["5-1.19120249",{"$nulls":3},"Fowler 0-18\"","Accounted For",null,"2021-03-08",{"$nulls":3},{"$f":"IF(IF(Table112[[#This Row],[Disposition]]=\"Retired\",\"N/A\",IF(Table112[[#This Row],[Disposition]]=0,\"\",Table112[[#This Row],[Calibrated]]+$F$2))=0+$F$2,\"NEVER CALIBRATED\",IF(Table112[[#This Row],[Disposition]]=\"Retired\",\"N/A\",IF(Table112[[#This Row],[Disposition]]=0,\"\",Table112[[#This Row],[Calibrated]]+$F$2)))","v":"NEVER CALIBRATED"},{"$f":"IF(Table112[[#This Row],[Disposition]]=\"\",\"\",IF(AND(Table112[[#This Row],[Next Calibration]]<$E$1,Table112[[#This Row],[Disposition]]=\"Lost\"),\"Find and Calibrate\",IF(Table112[[#This Row],[Disposition]]=\"Lost\",\"Find\",IF(OR(Table112[[#This Row],[Next Calibration]]<$E$1,Table112[[#This Row],[Next Calibration]]=\"NEVER CALIBRATED\"),\"Calibrate\",\"Nominal\"))))","v":"Calibrate"},{"$f":"IF(((Table112[[#This Row],[Next Calibration]]-TODAY())/30)>2,\"More Than 2\",IF(((Table112[[#This Row],[Next Calibration]]-TODAY())/30)>1,\"Between 2 and 1\",\"Less than 1\"))","v":{"$error":"#VALUE!"}},{"$f":"IF(Table112[[#This Row],[Issued]]=\"\",\"\",IF(Table112[[#This Row],[Lent]]=\"\",0,1))","v":{"v":0,"d":"0.00"}},{"$f":"IF(Table112[[#This Row],[Lent]]=\"\",\"\",IF(Table112[[#This Row],[Returned]]=\"\",0,1))","v":""}]
["5-5.17100580",{"$nulls":3},"SPI 0-12\"","Accounted For",null,"2021-03-08",{"$nulls":3},{"$f":"IF(IF(Table112[[#This Row],[Disposition]]=\"Retired\",\"N/A\",IF(Table112[[#This Row],[Disposition]]=0,\"\",Table112[[#This Row],[Calibrated]]+$F$2))=0+$F$2,\"NEVER CALIBRATED\",IF(Table112[[#This Row],[Disposition]]=\"Retired\",\"N/A\",IF(Table112[[#This Row],[Disposition]]=0,\"\",Table112[[#This Row],[Calibrated]]+$F$2)))","v":"NEVER CALIBRATED"},{"$f":"IF(Table112[[#This Row],[Disposition]]=\"\",\"\",IF(AND(Table112[[#This Row],[Next Calibration]]<$E$1,Table112[[#This Row],[Disposition]]=\"Lost\"),\"Find and Calibrate\",IF(Table112[[#This Row],[Disposition]]=\"Lost\",\"Find\",IF(OR(Table112[[#This Row],[Next Calibration]]<$E$1,Table112[[#This Row],[Next Calibration]]=\"NEVER CALIBRATED\"),\"Calibrate\",\"Nominal\"))))","v":"Calibrate"},{"$f":"IF(((Table112[[#This Row],[Next Calibration]]-TODAY())/30)>2,\"More Than 2\",IF(((Table112[[#This Row],[Next Calibration]]-TODAY())/30)>1,\"Between 2 and 1\",\"Less than 1\"))","v":{"$error":"#VALUE!"}},{"$f":"IF(Table112[[#This Row],[Issued]]=\"\",\"\",IF(Table112[[#This Row],[Lent]]=\"\",0,1))","v":{"v":0,"d":"0.00"}},{"$f":"IF(Table112[[#This Row],[Lent]]=\"\",\"\",IF(Table112[[#This Row],[Returned]]=\"\",0,1))","v":""}]
["QC159430B",{"$nulls":3},"NO BRAND SPECIFIED","Accounted For",null,"2021-04-15",{"$nulls":3},{"$f":"IF(IF(Table112[[#This Row],[Disposition]]=\"Retired\",\"N/A\",IF(Table112[[#This Row],[Disposition]]=0,\"\",Table112[[#This Row],[Calibrated]]+$F$2))=0+$F$2,\"NEVER CALIBRATED\",IF(Table112[[#This Row],[Disposition]]=\"Retired\",\"N/A\",IF(Table112[[#This Row],[Disposition]]=0,\"\",Table112[[#This Row],[Calibrated]]+$F$2)))","v":"NEVER CALIBRATED"},{"$f":"IF(Table112[[#This Row],[Disposition]]=\"\",\"\",IF(AND(Table112[[#This Row],[Next Calibration]]<$E$1,Table112[[#This Row],[Disposition]]=\"Lost\"),\"Find and Calibrate\",IF(Table112[[#This Row],[Disposition]]=\"Lost\",\"Find\",IF(OR(Table112[[#This Row],[Next Calibration]]<$E$1,Table112[[#This Row],[Next Calibration]]=\"NEVER CALIBRATED\"),\"Calibrate\",\"Nominal\"))))","v":"Calibrate"},{"$f":"IF(((Table112[[#This Row],[Next Calibration]]-TODAY())/30)>2,\"More Than 2\",IF(((Table112[[#This Row],[Next Calibration]]-TODAY())/30)>1,\"Between 2 and 1\",\"Less than 1\"))","v":{"$error":"#VALUE!"}},{"$f":"IF(Table112[[#This Row],[Issued]]=\"\",\"\",IF(Table112[[#This Row],[Lent]]=\"\",0,1))","v":{"v":0,"d":"0.00"}},{"$f":"IF(Table112[[#This Row],[Lent]]=\"\",\"\",IF(Table112[[#This Row],[Returned]]=\"\",0,1))","v":""}]
[47257,"Cunningham, Bobby","1st","Presses (Automatic, Stock Retrevial)","Pittsburgh 6\"","Accounted For",1,"2021-04-22","2021-04-22",null,"2021-04-22",{"$f":"IF(IF(Table112[[#This Row],[Disposition]]=\"Retired\",\"N/A\",IF(Table112[[#This Row],[Disposition]]=0,\"\",Table112[[#This Row],[Calibrated]]+$F$2))=0+$F$2,\"NEVER CALIBRATED\",IF(Table112[[#This Row],[Disposition]]=\"Retired\",\"N/A\",IF(Table112[[#This Row],[Disposition]]=0,\"\",Table112[[#This Row],[Calibrated]]+$F$2)))","v":"2022-04-22"},{"$f":"IF(Table112[[#This Row],[Disposition]]=\"\",\"\",IF(AND(Table112[[#This Row],[Next Calibration]]<$E$1,Table112[[#This Row],[Disposition]]=\"Lost\"),\"Find and Calibrate\",IF(Table112[[#This Row],[Disposition]]=\"Lost\",\"Find\",IF(OR(Table112[[#This Row],[Next Calibration]]<$E$1,Table112[[#This Row],[Next Calibration]]=\"NEVER CALIBRATED\"),\"Calibrate\",\"Nominal\"))))","v":"Nominal"},{"$f":"IF(((Table112[[#This Row],[Next Calibration]]-TODAY())/30)>2,\"More Than 2\",IF(((Table112[[#This Row],[Next Calibration]]-TODAY())/30)>1,\"Between 2 and 1\",\"Less than 1\"))","v":"More Than 2"},{"$f":"IF(Table112[[#This Row],[Issued]]=\"\",\"\",IF(Table112[[#This Row],[Lent]]=\"\",0,1))","v":{"v":1,"d":"1.00"}},{"$f":"IF(Table112[[#This Row],[Lent]]=\"\",\"\",IF(Table112[[#This Row],[Returned]]=\"\",0,1))","v":{"v":0,"d":"0.00"}}]
[{"$nulls":11},{"$f":"IF(IF(Table112[[#This Row],[Disposition]]=\"Retired\",\"N/A\",IF(Table112[[#This Row],[Disposition]]=0,\"\",Table112[[#This Row],[Calibrated]]+$F$2))=0+$F$2,\"NEVER CALIBRATED\",IF(Table112[[#This Row],[Disposition]]=\"Retired\",\"N/A\",IF(Table112[[#This Row],[Disposition]]=0,\"\",Table112[[#This Row],[Calibrated]]+$F$2)))","v":""},{"$f":"IF(Table112[[#This Row],[Disposition]]=\"\",\"\",IF(AND(Table112[[#This Row],[Next Calibration]]<$E$1,Table112[[#This Row],[Disposition]]=\"Lost\"),\"Find and Calibrate\",IF(Table112[[#This Row],[Disposition]]=\"Lost\",\"Find\",IF(OR(Table112[[#This Row],[Next Calibration]]<$E$1,Table112[[#This Row],[Next Calibration]]=\"NEVER CALIBRATED\"),\"Calibrate\",\"Nominal\"))))","v":""},{"$f":"IF(((Table112[[#This Row],[Next Calibration]]-TODAY())/30)>2,\"More Than 2\",IF(((Table112[[#This Row],[Next Calibration]]-TODAY())/30)>1,\"Between 2 and 1\",\"Less than 1\"))","v":{"$error":"#VALUE!"}},{"$f":"IF(Table112[[#This Row],[Issued]]=\"\",\"\",IF(Table112[[#This Row],[Lent]]=\"\",0,1))","v":""},{"$f":"IF(Table112[[#This Row],[Lent]]=\"\",\"\",IF(Table112[[#This Row],[Returned]]=\"\",0,1))","v":""}]
[{"$nulls":11},{"$f":"IF(IF(Table112[[#This Row],[Disposition]]=\"Retired\",\"N/A\",IF(Table112[[#This Row],[Disposition]]=0,\"\",Table112[[#This Row],[Calibrated]]+$F$2))=0+$F$2,\"NEVER CALIBRATED\",IF(Table112[[#This Row],[Disposition]]=\"Retired\",\"N/A\",IF(Table112[[#This Row],[Disposition]]=0,\"\",Table112[[#This Row],[Calibrated]]+$F$2)))","v":""},{"$f":"IF(Table112[[#This Row],[Disposition]]=\"\",\"\",IF(AND(Table112[[#This Row],[Next Calibration]]<$E$1,Table112[[#This Row],[Disposition]]=\"Lost\"),\"Find and Calibrate\",IF(Table112[[#This Row],[Disposition]]=\"Lost\",\"Find\",IF(OR(Table112[[#This Row],[Next Calibration]]<$E$1,Table112[[#This Row],[Next Calibration]]=\"NEVER CALIBRATED\"),\"Calibrate\",\"Nominal\"))))","v":""},{"$f":"IF(((Table112[[#This Row],[Next Calibration]]-TODAY())/30)>2,\"More Than 2\",IF(((Table112[[#This Row],[Next Calibration]]-TODAY())/30)>1,\"Between 2 and 1\",\"Less than 1\"))","v":{"$error":"#VALUE!"}},{"$f":"IF(Table112[[#This Row],[Issued]]=\"\",\"\",IF(Table112[[#This Row],[Lent]]=\"\",0,1))","v":""},{"$f":"IF(Table112[[#This Row],[Lent]]=\"\",\"\",IF(Table112[[#This Row],[Returned]]=\"\",0,1))","v":""}]
[{"$nulls":11},{"$f":"IF(IF(Table112[[#This Row],[Disposition]]=\"Retired\",\"N/A\",IF(Table112[[#This Row],[Disposition]]=0,\"\",Table112[[#This Row],[Calibrated]]+$F$2))=0+$F$2,\"NEVER CALIBRATED\",IF(Table112[[#This Row],[Disposition]]=\"Retired\",\"N/A\",IF(Table112[[#This Row],[Disposition]]=0,\"\",Table112[[#This Row],[Calibrated]]+$F$2)))","v":""},{"$f":"IF(Table112[[#This Row],[Disposition]]=\"\",\"\",IF(AND(Table112[[#This Row],[Next Calibration]]<$E$1,Table112[[#This Row],[Disposition]]=\"Lost\"),\"Find and Calibrate\",IF(Table112[[#This Row],[Disposition]]=\"Lost\",\"Find\",IF(OR(Table112[[#This Row],[Next Calibration]]<$E$1,Table112[[#This Row],[Next Calibration]]=\"NEVER CALIBRATED\"),\"Calibrate\",\"Nominal\"))))","v":""},{"$f":"IF(((Table112[[#This Row],[Next Calibration]]-TODAY())/30)>2,\"More Than 2\",IF(((Table112[[#This Row],[Next Calibration]]-TODAY())/30)>1,\"Between 2 and 1\",\"Less than 1\"))","v":{"$error":"#VALUE!"}},{"$f":"IF(Table112[[#This Row],[Issued]]=\"\",\"\",IF(Table112[[#This Row],[Lent]]=\"\",0,1))","v":""},{"$f":"IF(Table112[[#This Row],[Lent]]=\"\",\"\",IF(Table112[[#This Row],[Returned]]=\"\",0,1))","v":""}]
[{"$nulls":11},{"$f":"IF(IF(Table112[[#This Row],[Disposition]]=\"Retired\",\"N/A\",IF(Table112[[#This Row],[Disposition]]=0,\"\",Table112[[#This Row],[Calibrated]]+$F$2))=0+$F$2,\"NEVER CALIBRATED\",IF(Table112[[#This Row],[Disposition]]=\"Retired\",\"N/A\",IF(Table112[[#This Row],[Disposition]]=0,\"\",Table112[[#This Row],[Calibrated]]+$F$2)))","v":""},{"$f":"IF(Table112[[#This Row],[Disposition]]=\"\",\"\",IF(AND(Table112[[#This Row],[Next Calibration]]<$E$1,Table112[[#This Row],[Disposition]]=\"Lost\"),\"Find and Calibrate\",IF(Table112[[#This Row],[Disposition]]=\"Lost\",\"Find\",IF(OR(Table112[[#This Row],[Next Calibration]]<$E$1,Table112[[#This Row],[Next Calibration]]=\"NEVER CALIBRATED\"),\"Calibrate\",\"Nominal\"))))","v":""},{"$f":"IF(((Table112[[#This Row],[Next Calibration]]-TODAY())/30)>2,\"More Than 2\",IF(((Table112[[#This Row],[Next Calibration]]-TODAY())/30)>1,\"Between 2 and 1\",\"Less than 1\"))","v":{"$error":"#VALUE!"}},{"$f":"IF(Table112[[#This Row],[Issued]]=\"\",\"\",IF(Table112[[#This Row],[Lent]]=\"\",0,1))","v":""},{"$f":"IF(Table112[[#This Row],[Lent]]=\"\",\"\",IF(Table112[[#This Row],[Returned]]=\"\",0,1))","v":""}]
[{"$nulls":11},{"$f":"IF(IF(Table112[[#This Row],[Disposition]]=\"Retired\",\"N/A\",IF(Table112[[#This Row],[Disposition]]=0,\"\",Table112[[#This Row],[Calibrated]]+$F$2))=0+$F$2,\"NEVER CALIBRATED\",IF(Table112[[#This Row],[Disposition]]=\"Retired\",\"N/A\",IF(Table112[[#This Row],[Disposition]]=0,\"\",Table112[[#This Row],[Calibrated]]+$F$2)))","v":""},{"$f":"IF(Table112[[#This Row],[Disposition]]=\"\",\"\",IF(AND(Table112[[#This Row],[Next Calibration]]<$E$1,Table112[[#This Row],[Disposition]]=\"Lost\"),\"Find and Calibrate\",IF(Table112[[#This Row],[Disposition]]=\"Lost\",\"Find\",IF(OR(Table112[[#This Row],[Next Calibration]]<$E$1,Table112[[#This Row],[Next Calibration]]=\"NEVER CALIBRATED\"),\"Calibrate\",\"Nominal\"))))","v":""},{"$f":"IF(((Table112[[#This Row],[Next Calibration]]-TODAY())/30)>2,\"More Than 2\",IF(((Table112[[#This Row],[Next Calibration]]-TODAY())/30)>1,\"Between 2 and 1\",\"Less than 1\"))","v":{"$error":"#VALUE!"}},{"$f":"IF(Table112[[#This Row],[Issued]]=\"\",\"\",IF(Table112[[#This Row],[Lent]]=\"\",0,1))","v":""},{"$f":"IF(Table112[[#This Row],[Lent]]=\"\",\"\",IF(Table112[[#This Row],[Returned]]=\"\",0,1))","v":""}]
[{"$nulls":11},{"$f":"IF(IF(Table112[[#This Row],[Disposition]]=\"Retired\",\"N/A\",IF(Table112[[#This Row],[Disposition]]=0,\"\",Table112[[#This Row],[Calibrated]]+$F$2))=0+$F$2,\"NEVER CALIBRATED\",IF(Table112[[#This Row],[Disposition]]=\"Retired\",\"N/A\",IF(Table112[[#This Row],[Disposition]]=0,\"\",Table112[[#This Row],[Calibrated]]+$F$2)))","v":""},{"$f":"IF(Table112[[#This Row],[Disposition]]=\"\",\"\",IF(AND(Table112[[#This Row],[Next Calibration]]<$E$1,Table112[[#This Row],[Disposition]]=\"Lost\"),\"Find and Calibrate\",IF(Table112[[#This Row],[Disposition]]=\"Lost\",\"Find\",IF(OR(Table112[[#This Row],[Next Calibration]]<$E$1,Table112[[#This Row],[Next Calibration]]=\"NEVER CALIBRATED\"),\"Calibrate\",\"Nominal\"))))","v":""},{"$f":"IF(((Table112[[#This Row],[Next Calibration]]-TODAY())/30)>2,\"More Than 2\",IF(((Table112[[#This Row],[Next Calibration]]-TODAY())/30)>1,\"Between 2 and 1\",\"Less than 1\"))","v":{"$error":"#VALUE!"}},{"$f":"IF(Table112[[#This Row],[Issued]]=\"\",\"\",IF(Table112[[#This Row],[Lent]]=\"\",0,1))","v":""},{"$f":"IF(Table112[[#This Row],[Lent]]=\"\",\"\",IF(Table112[[#This Row],[Returned]]=\"\",0,1))","v":""}]
[{"$nulls":11},{"$f":"IF(IF(Table112[[#This Row],[Disposition]]=\"Retired\",\"N/A\",IF(Table112[[#This Row],[Disposition]]=0,\"\",Table112[[#This Row],[Calibrated]]+$F$2))=0+$F$2,\"NEVER CALIBRATED\",IF(Table112[[#This Row],[Disposition]]=\"Retired\",\"N/A\",IF(Table112[[#This Row],[Disposition]]=0,\"\",Table112[[#This Row],[Calibrated]]+$F$2)))","v":""},{"$f":"IF(Table112[[#This Row],[Disposition]]=\"\",\"\",IF(AND(Table112[[#This Row],[Next Calibration]]<$E$1,Table112[[#This Row],[Disposition]]=\"Lost\"),\"Find and Calibrate\",IF(Table112[[#This Row],[Disposition]]=\"Lost\",\"Find\",IF(OR(Table112[[#This Row],[Next Calibration]]<$E$1,Table112[[#This Row],[Next Calibration]]=\"NEVER CALIBRATED\"),\"Calibrate\",\"Nominal\"))))","v":""},{"$f":"IF(((Table112[[#This Row],[Next Calibration]]-TODAY())/30)>2,\"More Than 2\",IF(((Table112[[#This Row],[Next Calibration]]-TODAY())/30)>1,\"Between 2 and 1\",\"Less than 1\"))","v":{"$error":"#VALUE!"}},{"$f":"IF(Table112[[#This Row],[Issued]]=\"\",\"\",IF(Table112[[#This Row],[Lent]]=\"\",0,1))","v":""},{"$f":"IF(Table112[[#This Row],[Lent]]=\"\",\"\",IF(Table112[[#This Row],[Returned]]=\"\",0,1))","v":""}]
[{"$nulls":11},{"$f":"IF(IF(Table112[[#This Row],[Disposition]]=\"Retired\",\"N/A\",IF(Table112[[#This Row],[Disposition]]=0,\"\",Table112[[#This Row],[Calibrated]]+$F$2))=0+$F$2,\"NEVER CALIBRATED\",IF(Table112[[#This Row],[Disposition]]=\"Retired\",\"N/A\",IF(Table112[[#This Row],[Disposition]]=0,\"\",Table112[[#This Row],[Calibrated]]+$F$2)))","v":""},{"$f":"IF(Table112[[#This Row],[Disposition]]=\"\",\"\",IF(AND(Table112[[#This Row],[Next Calibration]]<$E$1,Table112[[#This Row],[Disposition]]=\"Lost\"),\"Find and Calibrate\",IF(Table112[[#This Row],[Disposition]]=\"Lost\",\"Find\",IF(OR(Table112[[#This Row],[Next Calibration]]<$E$1,Table112[[#This Row],[Next Calibration]]=\"NEVER CALIBRATED\"),\"Calibrate\",\"Nominal\"))))","v":""},{"$f":"IF(((Table112[[#This Row],[Next Calibration]]-TODAY())/30)>2,\"More Than 2\",IF(((Table112[[#This Row],[Next Calibration]]-TODAY())/30)>1,\"Between 2 and 1\",\"Less than 1\"))","v":{"$error":"#VALUE!"}},{"$f":"IF(Table112[[#This Row],[Issued]]=\"\",\"\",IF(Table112[[#This Row],[Lent]]=\"\",0,1))","v":""},{"$f":"IF(Table112[[#This Row],[Lent]]=\"\",\"\",IF(Table112[[#This Row],[Returned]]=\"\",0,1))","v":""}]
[{"$nulls":11},{"$f":"IF(IF(Table112[[#This Row],[Disposition]]=\"Retired\",\"N/A\",IF(Table112[[#This Row],[Disposition]]=0,\"\",Table112[[#This Row],[Calibrated]]+$F$2))=0+$F$2,\"NEVER CALIBRATED\",IF(Table112[[#This Row],[Disposition]]=\"Retired\",\"N/A\",IF(Table112[[#This Row],[Disposition]]=0,\"\",Table112[[#This Row],[Calibrated]]+$F$2)))","v":""},{"$f":"IF(Table112[[#This Row],[Disposition]]=\"\",\"\",IF(AND(Table112[[#This Row],[Next Calibration]]<$E$1,Table112[[#This Row],[Disposition]]=\"Lost\"),\"Find and Calibrate\",IF(Table112[[#This Row],[Disposition]]=\"Lost\",\"Find\",IF(OR(Table112[[#This Row],[Next Calibration]]<$E$1,Table112[[#This Row],[Next Calibration]]=\"NEVER CALIBRATED\"),\"Calibrate\",\"Nominal\"))))","v":""},{"$f":"IF(((Table112[[#This Row],[Next Calibration]]-TODAY())/30)>2,\"More Than 2\",IF(((Table112[[#This Row],[Next Calibration]]-TODAY())/30)>1,\"Between 2 and 1\",\"Less than 1\"))","v":{"$error":"#VALUE!"}},{"$f":"IF(Table112[[#This Row],[Issued]]=\"\",\"\",IF(Table112[[#This Row],[Lent]]=\"\",0,1))","v":""},{"$f":"IF(Table112[[#This Row],[Lent]]=\"\",\"\",IF(Table112[[#This Row],[Returned]]=\"\",0,1))","v":""}]
[{"$nulls":11},{"$f":"IF(IF(Table112[[#This Row],[Disposition]]=\"Retired\",\"N/A\",IF(Table112[[#This Row],[Disposition]]=0,\"\",Table112[[#This Row],[Calibrated]]+$F$2))=0+$F$2,\"NEVER CALIBRATED\",IF(Table112[[#This Row],[Disposition]]=\"Retired\",\"N/A\",IF(Table112[[#This Row],[Disposition]]=0,\"\",Table112[[#This Row],[Calibrated]]+$F$2)))","v":""},{"$f":"IF(Table112[[#This Row],[Disposition]]=\"\",\"\",IF(AND(Table112[[#This Row],[Next Calibration]]<$E$1,Table112[[#This Row],[Disposition]]=\"Lost\"),\"Find and Calibrate\",IF(Table112[[#This Row],[Disposition]]=\"Lost\",\"Find\",IF(OR(Table112[[#This Row],[Next Calibration]]<$E$1,Table112[[#This Row],[Next Calibration]]=\"NEVER CALIBRATED\"),\"Calibrate\",\"Nominal\"))))","v":""},{"$f":"IF(((Table112[[#This Row],[Next Calibration]]-TODAY())/30)>2,\"More Than 2\",IF(((Table112[[#This Row],[Next Calibration]]-TODAY())/30)>1,\"Between 2 and 1\",\"Less than 1\"))","v":{"$error":"#VALUE!"}},{"$f":"IF(Table112[[#This Row],[Issued]]=\"\",\"\",IF(Table112[[#This Row],[Lent]]=\"\",0,1))","v":""},{"$f":"IF(Table112[[#This Row],[Lent]]=\"\",\"\",IF(Table112[[#This Row],[Returned]]=\"\",0,1))","v":""}]
[{"$nulls":11},{"$f":"IF(IF(Table112[[#This Row],[Disposition]]=\"Retired\",\"N/A\",IF(Table112[[#This Row],[Disposition]]=0,\"\",Table112[[#This Row],[Calibrated]]+$F$2))=0+$F$2,\"NEVER CALIBRATED\",IF(Table112[[#This Row],[Disposition]]=\"Retired\",\"N/A\",IF(Table112[[#This Row],[Disposition]]=0,\"\",Table112[[#This Row],[Calibrated]]+$F$2)))","v":""},{"$f":"IF(Table112[[#This Row],[Disposition]]=\"\",\"\",IF(AND(Table112[[#This Row],[Next Calibration]]<$E$1,Table112[[#This Row],[Disposition]]=\"Lost\"),\"Find and Calibrate\",IF(Table112[[#This Row],[Disposition]]=\"Lost\",\"Find\",IF(OR(Table112[[#This Row],[Next Calibration]]<$E$1,Table112[[#This Row],[Next Calibration]]=\"NEVER CALIBRATED\"),\"Calibrate\",\"Nominal\"))))","v":""},{"$f":"IF(((Table112[[#This Row],[Next Calibration]]-TODAY())/30)>2,\"More Than 2\",IF(((Table112[[#This Row],[Next Calibration]]-TODAY())/30)>1,\"Between 2 and 1\",\"Less than 1\"))","v":{"$error":"#VALUE!"}},{"$f":"IF(Table112[[#This Row],[Issued]]=\"\",\"\",IF(Table112[[#This Row],[Lent]]=\"\",0,1))","v":""},{"$f":"IF(Table112[[#This Row],[Lent]]=\"\",\"\",IF(Table112[[#This Row],[Returned]]=\"\",0,1))","v":""}]
[{"$nulls":11},{"$f":"IF(IF(Table112[[#This Row],[Disposition]]=\"Retired\",\"N/A\",IF(Table112[[#This Row],[Disposition]]=0,\"\",Table112[[#This Row],[Calibrated]]+$F$2))=0+$F$2,\"NEVER CALIBRATED\",IF(Table112[[#This Row],[Disposition]]=\"Retired\",\"N/A\",IF(Table112[[#This Row],[Disposition]]=0,\"\",Table112[[#This Row],[Calibrated]]+$F$2)))","v":""},{"$f":"IF(Table112[[#This Row],[Disposition]]=\"\",\"\",IF(AND(Table112[[#This Row],[Next Calibration]]<$E$1,Table112[[#This Row],[Disposition]]=\"Lost\"),\"Find and Calibrate\",IF(Table112[[#This Row],[Disposition]]=\"Lost\",\"Find\",IF(OR(Table112[[#This Row],[Next Calibration]]<$E$1,Table112[[#This Row],[Next Calibration]]=\"NEVER CALIBRATED\"),\"Calibrate\",\"Nominal\"))))","v":""},{"$f":"IF(((Table112[[#This Row],[Next Calibration]]-TODAY())/30)>2,\"More Than 2\",IF(((Table112[[#This Row],[Next Calibration]]-TODAY())/30)>1,\"Between 2 and 1\",\"Less than 1\"))","v":{"$error":"#VALUE!"}},{"$f":"IF(Table112[[#This Row],[Issued]]=\"\",\"\",IF(Table112[[#This Row],[Lent]]=\"\",0,1))","v":""},{"$f":"IF(Table112[[#This Row],[Lent]]=\"\",\"\",IF(Table112[[#This Row],[Returned]]=\"\",0,1))","v":""}]
[{"$nulls":11},{"$f":"IF(IF(Table112[[#This Row],[Disposition]]=\"Retired\",\"N/A\",IF(Table112[[#This Row],[Disposition]]=0,\"\",Table112[[#This Row],[Calibrated]]+$F$2))=0+$F$2,\"NEVER CALIBRATED\",IF(Table112[[#This Row],[Disposition]]=\"Retired\",\"N/A\",IF(Table112[[#This Row],[Disposition]]=0,\"\",Table112[[#This Row],[Calibrated]]+$F$2)))","v":""},{"$f":"IF(Table112[[#This Row],[Disposition]]=\"\",\"\",IF(AND(Table112[[#This Row],[Next Calibration]]<$E$1,Table112[[#This Row],[Disposition]]=\"Lost\"),\"Find and Calibrate\",IF(Table112[[#This Row],[Disposition]]=\"Lost\",\"Find\",IF(OR(Table112[[#This Row],[Next Calibration]]<$E$1,Table112[[#This Row],[Next Calibration]]=\"NEVER CALIBRATED\"),\"Calibrate\",\"Nominal\"))))","v":""},{"$f":"IF(((Table112[[#This Row],[Next Calibration]]-TODAY())/30)>2,\"More Than 2\",IF(((Table112[[#This Row],[Next Calibration]]-TODAY())/30)>1,\"Between 2 and 1\",\"Less than 1\"))","v":{"$error":"#VALUE!"}},{"$f":"IF(Table112[[#This Row],[Issued]]=\"\",\"\",IF(Table112[[#This Row],[Lent]]=\"\",0,1))","v":""},{"$f":"IF(Table112[[#This Row],[Lent]]=\"\",\"\",IF(Table112[[#This Row],[Returned]]=\"\",0,1))","v":""}]
[{"$nulls":11},{"$f":"IF(IF(Table112[[#This Row],[Disposition]]=\"Retired\",\"N/A\",IF(Table112[[#This Row],[Disposition]]=0,\"\",Table112[[#This Row],[Calibrated]]+$F$2))=0+$F$2,\"NEVER CALIBRATED\",IF(Table112[[#This Row],[Disposition]]=\"Retired\",\"N/A\",IF(Table112[[#This Row],[Disposition]]=0,\"\",Table112[[#This Row],[Calibrated]]+$F$2)))","v":""},{"$f":"IF(Table112[[#This Row],[Disposition]]=\"\",\"\",IF(AND(Table112[[#This Row],[Next Calibration]]<$E$1,Table112[[#This Row],[Disposition]]=\"Lost\"),\"Find and Calibrate\",IF(Table112[[#This Row],[Disposition]]=\"Lost\",\"Find\",IF(OR(Table112[[#This Row],[Next Calibration]]<$E$1,Table112[[#This Row],[Next Calibration]]=\"NEVER CALIBRATED\"),\"Calibrate\",\"Nominal\"))))","v":""},{"$f":"IF(((Table112[[#This Row],[Next Calibration]]-TODAY())/30)>2,\"More Than 2\",IF(((Table112[[#This Row],[Next Calibration]]-TODAY())/30)>1,\"Between 2 and 1\",\"Less than 1\"))","v":{"$error":"#VALUE!"}},{"$f":"IF(Table112[[#This Row],[Issued]]=\"\",\"\",IF(Table112[[#This Row],[Lent]]=\"\",0,1))","v":""},{"$f":"IF(Table112[[#This Row],[Lent]]=\"\",\"\",IF(Table112[[#This Row],[Returned]]=\"\",0,1))","v":""}]
[{"$nulls":11},{"$f":"IF(IF(Table112[[#This Row],[Disposition]]=\"Retired\",\"N/A\",IF(Table112[[#This Row],[Disposition]]=0,\"\",Table112[[#This Row],[Calibrated]]+$F$2))=0+$F$2,\"NEVER CALIBRATED\",IF(Table112[[#This Row],[Disposition]]=\"Retired\",\"N/A\",IF(Table112[[#This Row],[Disposition]]=0,\"\",Table112[[#This Row],[Calibrated]]+$F$2)))","v":""},{"$f":"IF(Table112[[#This Row],[Disposition]]=\"\",\"\",IF(AND(Table112[[#This Row],[Next Calibration]]<$E$1,Table112[[#This Row],[Disposition]]=\"Lost\"),\"Find and Calibrate\",IF(Table112[[#This Row],[Disposition]]=\"Lost\",\"Find\",IF(OR(Table112[[#This Row],[Next Calibration]]<$E$1,Table112[[#This Row],[Next Calibration]]=\"NEVER CALIBRATED\"),\"Calibrate\",\"Nominal\"))))","v":""},{"$f":"IF(((Table112[[#This Row],[Next Calibration]]-TODAY())/30)>2,\"More Than 2\",IF(((Table112[[#This Row],[Next Calibration]]-TODAY())/30)>1,\"Between 2 and 1\",\"Less than 1\"))","v":{"$error":"#VALUE!"}},{"$f":"IF(Table112[[#This Row],[Issued]]=\"\",\"\",IF(Table112[[#This Row],[Lent]]=\"\",0,1))","v":""},{"$f":"IF(Table112[[#This Row],[Lent]]=\"\",\"\",IF(Table112[[#This Row],[Returned]]=\"\",0,1))","v":""}]
[{"$nulls":11},{"$f":"IF(IF(Table112[[#This Row],[Disposition]]=\"Retired\",\"N/A\",IF(Table112[[#This Row],[Disposition]]=0,\"\",Table112[[#This Row],[Calibrated]]+$F$2))=0+$F$2,\"NEVER CALIBRATED\",IF(Table112[[#This Row],[Disposition]]=\"Retired\",\"N/A\",IF(Table112[[#This Row],[Disposition]]=0,\"\",Table112[[#This Row],[Calibrated]]+$F$2)))","v":""},{"$f":"IF(Table112[[#This Row],[Disposition]]=\"\",\"\",IF(AND(Table112[[#This Row],[Next Calibration]]<$E$1,Table112[[#This Row],[Disposition]]=\"Lost\"),\"Find and Calibrate\",IF(Table112[[#This Row],[Disposition]]=\"Lost\",\"Find\",IF(OR(Table112[[#This Row],[Next Calibration]]<$E$1,Table112[[#This Row],[Next Calibration]]=\"NEVER CALIBRATED\"),\"Calibrate\",\"Nominal\"))))","v":""},{"$f":"IF(((Table112[[#This Row],[Next Calibration]]-TODAY())/30)>2,\"More Than 2\",IF(((Table112[[#This Row],[Next Calibration]]-TODAY())/30)>1,\"Between 2 and 1\",\"Less than 1\"))","v":{"$error":"#VALUE!"}},{"$f":"IF(Table112[[#This Row],[Issued]]=\"\",\"\",IF(Table112[[#This Row],[Lent]]=\"\",0,1))","v":""},{"$f":"IF(Table112[[#This Row],[Lent]]=\"\",\"\",IF(Table112[[#This Row],[Returned]]=\"\",0,1))","v":""}]
[{"$nulls":11},{"$f":"IF(IF(Table112[[#This Row],[Disposition]]=\"Retired\",\"N/A\",IF(Table112[[#This Row],[Disposition]]=0,\"\",Table112[[#This Row],[Calibrated]]+$F$2))=0+$F$2,\"NEVER CALIBRATED\",IF(Table112[[#This Row],[Disposition]]=\"Retired\",\"N/A\",IF(Table112[[#This Row],[Disposition]]=0,\"\",Table112[[#This Row],[Calibrated]]+$F$2)))","v":""},{"$f":"IF(Table112[[#This Row],[Disposition]]=\"\",\"\",IF(AND(Table112[[#This Row],[Next Calibration]]<$E$1,Table112[[#This Row],[Disposition]]=\"Lost\"),\"Find and Calibrate\",IF(Table112[[#This Row],[Disposition]]=\"Lost\",\"Find\",IF(OR(Table112[[#This Row],[Next Calibration]]<$E$1,Table112[[#This Row],[Next Calibration]]=\"NEVER CALIBRATED\"),\"Calibrate\",\"Nominal\"))))","v":""},{"$f":"IF(((Table112[[#This Row],[Next Calibration]]-TODAY())/30)>2,\"More Than 2\",IF(((Table112[[#This Row],[Next Calibration]]-TODAY())/30)>1,\"Between 2 and 1\",\"Less than 1\"))","v":{"$error":"#VALUE!"}},{"$f":"IF(Table112[[#This Row],[Issued]]=\"\",\"\",IF(Table112[[#This Row],[Lent]]=\"\",0,1))","v":""},{"$f":"IF(Table112[[#This Row],[Lent]]=\"\",\"\",IF(Table112[[#This Row],[Returned]]=\"\",0,1))","v":""}]
[{"$nulls":11},{"$f":"IF(IF(Table112[[#This Row],[Disposition]]=\"Retired\",\"N/A\",IF(Table112[[#This Row],[Disposition]]=0,\"\",Table112[[#This Row],[Calibrated]]+$F$2))=0+$F$2,\"NEVER CALIBRATED\",IF(Table112[[#This Row],[Disposition]]=\"Retired\",\"N/A\",IF(Table112[[#This Row],[Disposition]]=0,\"\",Table112[[#This Row],[Calibrated]]+$F$2)))","v":""},{"$f":"IF(Table112[[#This Row],[Disposition]]=\"\",\"\",IF(AND(Table112[[#This Row],[Next Calibration]]<$E$1,Table112[[#This Row],[Disposition]]=\"Lost\"),\"Find and Calibrate\",IF(Table112[[#This Row],[Disposition]]=\"Lost\",\"Find\",IF(OR(Table112[[#This Row],[Next Calibration]]<$E$1,Table112[[#This Row],[Next Calibration]]=\"NEVER CALIBRATED\"),\"Calibrate\",\"Nominal\"))))","v":""},{"$f":"IF(((Table112[[#This Row],[Next Calibration]]-TODAY())/30)>2,\"More Than 2\",IF(((Table112[[#This Row],[Next Calibration]]-TODAY())/30)>1,\"Between 2 and 1\",\"Less than 1\"))","v":{"$error":"#VALUE!"}},{"$f":"IF(Table112[[#This Row],[Issued]]=\"\",\"\",IF(Table112[[#This Row],[Lent]]=\"\",0,1))","v":""},{"$f":"IF(Table112[[#This Row],[Lent]]=\"\",\"\",IF(Table112[[#This Row],[Returned]]=\"\",0,1))","v":""}]
[{"$nulls":11},{"$f":"IF(IF(Table112[[#This Row],[Disposition]]=\"Retired\",\"N/A\",IF(Table112[[#This Row],[Disposition]]=0,\"\",Table112[[#This Row],[Calibrated]]+$F$2))=0+$F$2,\"NEVER CALIBRATED\",IF(Table112[[#This Row],[Disposition]]=\"Retired\",\"N/A\",IF(Table112[[#This Row],[Disposition]]=0,\"\",Table112[[#This Row],[Calibrated]]+$F$2)))","v":""},{"$f":"IF(Table112[[#This Row],[Disposition]]=\"\",\"\",IF(AND(Table112[[#This Row],[Next Calibration]]<$E$1,Table112[[#This Row],[Disposition]]=\"Lost\"),\"Find and Calibrate\",IF(Table112[[#This Row],[Disposition]]=\"Lost\",\"Find\",IF(OR(Table112[[#This Row],[Next Calibration]]<$E$1,Table112[[#This Row],[Next Calibration]]=\"NEVER CALIBRATED\"),\"Calibrate\",\"Nominal\"))))","v":""},{"$f":"IF(((Table112[[#This Row],[Next Calibration]]-TODAY())/30)>2,\"More Than 2\",IF(((Table112[[#This Row],[Next Calibration]]-TODAY())/30)>1,\"Between 2 and 1\",\"Less than 1\"))","v":{"$error":"#VALUE!"}},{"$f":"IF(Table112[[#This Row],[Issued]]=\"\",\"\",IF(Table112[[#This Row],[Lent]]=\"\",0,1))","v":""},{"$f":"IF(Table112[[#This Row],[Lent]]=\"\",\"\",IF(Table112[[#This Row],[Returned]]=\"\",0,1))","v":""}]
[{"$nulls":11},{"$f":"IF(IF(Table112[[#This Row],[Disposition]]=\"Retired\",\"N/A\",IF(Table112[[#This Row],[Disposition]]=0,\"\",Table112[[#This Row],[Calibrated]]+$F$2))=0+$F$2,\"NEVER CALIBRATED\",IF(Table112[[#This Row],[Disposition]]=\"Retired\",\"N/A\",IF(Table112[[#This Row],[Disposition]]=0,\"\",Table112[[#This Row],[Calibrated]]+$F$2)))","v":""},{"$f":"IF(Table112[[#This Row],[Disposition]]=\"\",\"\",IF(AND(Table112[[#This Row],[Next Calibration]]<$E$1,Table112[[#This Row],[Disposition]]=\"Lost\"),\"Find and Calibrate\",IF(Table112[[#This Row],[Disposition]]=\"Lost\",\"Find\",IF(OR(Table112[[#This Row],[Next Calibration]]<$E$1,Table112[[#This Row],[Next Calibration]]=\"NEVER CALIBRATED\"),\"Calibrate\",\"Nominal\"))))","v":""},{"$f":"IF(((Table112[[#This Row],[Next Calibration]]-TODAY())/30)>2,\"More Than 2\",IF(((Table112[[#This Row],[Next Calibration]]-TODAY())/30)>1,\"Between 2 and 1\",\"Less than 1\"))","v":{"$error":"#VALUE!"}},{"$f":"IF(Table112[[#This Row],[Issued]]=\"\",\"\",IF(Table112[[#This Row],[Lent]]=\"\",0,1))","v":""},{"$f":"IF(Table112[[#This Row],[Lent]]=\"\",\"\",IF(Table112[[#This Row],[Returned]]=\"\",0,1))","v":""}]
[{"$nulls":11},{"$f":"IF(IF(Table112[[#This Row],[Disposition]]=\"Retired\",\"N/A\",IF(Table112[[#This Row],[Disposition]]=0,\"\",Table112[[#This Row],[Calibrated]]+$F$2))=0+$F$2,\"NEVER CALIBRATED\",IF(Table112[[#This Row],[Disposition]]=\"Retired\",\"N/A\",IF(Table112[[#This Row],[Disposition]]=0,\"\",Table112[[#This Row],[Calibrated]]+$F$2)))","v":""},{"$f":"IF(Table112[[#This Row],[Disposition]]=\"\",\"\",IF(AND(Table112[[#This Row],[Next Calibration]]<$E$1,Table112[[#This Row],[Disposition]]=\"Lost\"),\"Find and Calibrate\",IF(Table112[[#This Row],[Disposition]]=\"Lost\",\"Find\",IF(OR(Table112[[#This Row],[Next Calibration]]<$E$1,Table112[[#This Row],[Next Calibration]]=\"NEVER CALIBRATED\"),\"Calibrate\",\"Nominal\"))))","v":""},{"$f":"IF(((Table112[[#This Row],[Next Calibration]]-TODAY())/30)>2,\"More Than 2\",IF(((Table112[[#This Row],[Next Calibration]]-TODAY())/30)>1,\"Between 2 and 1\",\"Less than 1\"))","v":{"$error":"#VALUE!"}},{"$f":"IF(Table112[[#This Row],[Issued]]=\"\",\"\",IF(Table112[[#This Row],[Lent]]=\"\",0,1))","v":""},{"$f":"IF(Table112[[#This Row],[Lent]]=\"\",\"\",IF(Table112[[#This Row],[Returned]]=\"\",0,1))","v":""}]
[{"$nulls":11},{"$f":"IF(IF(Table112[[#This Row],[Disposition]]=\"Retired\",\"N/A\",IF(Table112[[#This Row],[Disposition]]=0,\"\",Table112[[#This Row],[Calibrated]]+$F$2))=0+$F$2,\"NEVER CALIBRATED\",IF(Table112[[#This Row],[Disposition]]=\"Retired\",\"N/A\",IF(Table112[[#This Row],[Disposition]]=0,\"\",Table112[[#This Row],[Calibrated]]+$F$2)))","v":""},{"$f":"IF(Table112[[#This Row],[Disposition]]=\"\",\"\",IF(AND(Table112[[#This Row],[Next Calibration]]<$E$1,Table112[[#This Row],[Disposition]]=\"Lost\"),\"Find and Calibrate\",IF(Table112[[#This Row],[Disposition]]=\"Lost\",\"Find\",IF(OR(Table112[[#This Row],[Next Calibration]]<$E$1,Table112[[#This Row],[Next Calibration]]=\"NEVER CALIBRATED\"),\"Calibrate\",\"Nominal\"))))","v":""},{"$f":"IF(((Table112[[#This Row],[Next Calibration]]-TODAY())/30)>2,\"More Than 2\",IF(((Table112[[#This Row],[Next Calibration]]-TODAY())/30)>1,\"Between 2 and 1\",\"Less than 1\"))","v":{"$error":"#VALUE!"}},{"$f":"IF(Table112[[#This Row],[Issued]]=\"\",\"\",IF(Table112[[#This Row],[Lent]]=\"\",0,1))","v":""},{"$f":"IF(Table112[[#This Row],[Lent]]=\"\",\"\",IF(Table112[[#This Row],[Returned]]=\"\",0,1))","v":""}]
[{"$nulls":11},{"$f":"IF(IF(Table112[[#This Row],[Disposition]]=\"Retired\",\"N/A\",IF(Table112[[#This Row],[Disposition]]=0,\"\",Table112[[#This Row],[Calibrated]]+$F$2))=0+$F$2,\"NEVER CALIBRATED\",IF(Table112[[#This Row],[Disposition]]=\"Retired\",\"N/A\",IF(Table112[[#This Row],[Disposition]]=0,\"\",Table112[[#This Row],[Calibrated]]+$F$2)))","v":""},{"$f":"IF(Table112[[#This Row],[Disposition]]=\"\",\"\",IF(AND(Table112[[#This Row],[Next Calibration]]<$E$1,Table112[[#This Row],[Disposition]]=\"Lost\"),\"Find and Calibrate\",IF(Table112[[#This Row],[Disposition]]=\"Lost\",\"Find\",IF(OR(Table112[[#This Row],[Next Calibration]]<$E$1,Table112[[#This Row],[Next Calibration]]=\"NEVER CALIBRATED\"),\"Calibrate\",\"Nominal\"))))","v":""},{"$f":"IF(((Table112[[#This Row],[Next Calibration]]-TODAY())/30)>2,\"More Than 2\",IF(((Table112[[#This Row],[Next Calibration]]-TODAY())/30)>1,\"Between 2 and 1\",\"Less than 1\"))","v":{"$error":"#VALUE!"}},{"$f":"IF(Table112[[#This Row],[Issued]]=\"\",\"\",IF(Table112[[#This Row],[Lent]]=\"\",0,1))","v":""},{"$f":"IF(Table112[[#This Row],[Lent]]=\"\",\"\",IF(Table112[[#This Row],[Returned]]=\"\",0,1))","v":""}]
[{"$nulls":11},{"$f":"IF(IF(Table112[[#This Row],[Disposition]]=\"Retired\",\"N/A\",IF(Table112[[#This Row],[Disposition]]=0,\"\",Table112[[#This Row],[Calibrated]]+$F$2))=0+$F$2,\"NEVER CALIBRATED\",IF(Table112[[#This Row],[Disposition]]=\"Retired\",\"N/A\",IF(Table112[[#This Row],[Disposition]]=0,\"\",Table112[[#This Row],[Calibrated]]+$F$2)))","v":""},{"$f":"IF(Table112[[#This Row],[Disposition]]=\"\",\"\",IF(AND(Table112[[#This Row],[Next Calibration]]<$E$1,Table112[[#This Row],[Disposition]]=\"Lost\"),\"Find and Calibrate\",IF(Table112[[#This Row],[Disposition]]=\"Lost\",\"Find\",IF(OR(Table112[[#This Row],[Next Calibration]]<$E$1,Table112[[#This Row],[Next Calibration]]=\"NEVER CALIBRATED\"),\"Calibrate\",\"Nominal\"))))","v":""},{"$f":"IF(((Table112[[#This Row],[Next Calibration]]-TODAY())/30)>2,\"More Than 2\",IF(((Table112[[#This Row],[Next Calibration]]-TODAY())/30)>1,\"Between 2 and 1\",\"Less than 1\"))","v":{"$error":"#VALUE!"}},{"$f":"IF(Table112[[#This Row],[Issued]]=\"\",\"\",IF(Table112[[#This Row],[Lent]]=\"\",0,1))","v":""},{"$f":"IF(Table112[[#This Row],[Lent]]=\"\",\"\",IF(Table112[[#This Row],[Returned]]=\"\",0,1))","v":""}]
[{"$nulls":11},{"$f":"IF(IF(Table112[[#This Row],[Disposition]]=\"Retired\",\"N/A\",IF(Table112[[#This Row],[Disposition]]=0,\"\",Table112[[#This Row],[Calibrated]]+$F$2))=0+$F$2,\"NEVER CALIBRATED\",IF(Table112[[#This Row],[Disposition]]=\"Retired\",\"N/A\",IF(Table112[[#This Row],[Disposition]]=0,\"\",Table112[[#This Row],[Calibrated]]+$F$2)))","v":""},{"$f":"IF(Table112[[#This Row],[Disposition]]=\"\",\"\",IF(AND(Table112[[#This Row],[Next Calibration]]<$E$1,Table112[[#This Row],[Disposition]]=\"Lost\"),\"Find and Calibrate\",IF(Table112[[#This Row],[Disposition]]=\"Lost\",\"Find\",IF(OR(Table112[[#This Row],[Next Calibration]]<$E$1,Table112[[#This Row],[Next Calibration]]=\"NEVER CALIBRATED\"),\"Calibrate\",\"Nominal\"))))","v":""},{"$f":"IF(((Table112[[#This Row],[Next Calibration]]-TODAY())/30)>2,\"More Than 2\",IF(((Table112[[#This Row],[Next Calibration]]-TODAY())/30)>1,\"Between 2 and 1\",\"Less than 1\"))","v":{"$error":"#VALUE!"}},{"$f":"IF(Table112[[#This Row],[Issued]]=\"\",\"\",IF(Table112[[#This Row],[Lent]]=\"\",0,1))","v":""},{"$f":"IF(Table112[[#This Row],[Lent]]=\"\",\"\",IF(Table112[[#This Row],[Returned]]=\"\",0,1))","v":""}]
[{"$nulls":11},{"$f":"IF(IF(Table112[[#This Row],[Disposition]]=\"Retired\",\"N/A\",IF(Table112[[#This Row],[Disposition]]=0,\"\",Table112[[#This Row],[Calibrated]]+$F$2))=0+$F$2,\"NEVER CALIBRATED\",IF(Table112[[#This Row],[Disposition]]=\"Retired\",\"N/A\",IF(Table112[[#This Row],[Disposition]]=0,\"\",Table112[[#This Row],[Calibrated]]+$F$2)))","v":""},{"$f":"IF(Table112[[#This Row],[Disposition]]=\"\",\"\",IF(AND(Table112[[#This Row],[Next Calibration]]<$E$1,Table112[[#This Row],[Disposition]]=\"Lost\"),\"Find and Calibrate\",IF(Table112[[#This Row],[Disposition]]=\"Lost\",\"Find\",IF(OR(Table112[[#This Row],[Next Calibration]]<$E$1,Table112[[#This Row],[Next Calibration]]=\"NEVER CALIBRATED\"),\"Calibrate\",\"Nominal\"))))","v":""},{"$f":"IF(((Table112[[#This Row],[Next Calibration]]-TODAY())/30)>2,\"More Than 2\",IF(((Table112[[#This Row],[Next Calibration]]-TODAY())/30)>1,\"Between 2 and 1\",\"Less than 1\"))","v":{"$error":"#VALUE!"}},{"$f":"IF(Table112[[#This Row],[Issued]]=\"\",\"\",IF(Table112[[#This Row],[Lent]]=\"\",0,1))","v":""},{"$f":"IF(Table112[[#This Row],[Lent]]=\"\",\"\",IF(Table112[[#This Row],[Returned]]=\"\",0,1))","v":""}]
[{"$nulls":11},{"$f":"IF(IF(Table112[[#This Row],[Disposition]]=\"Retired\",\"N/A\",IF(Table112[[#This Row],[Disposition]]=0,\"\",Table112[[#This Row],[Calibrated]]+$F$2))=0+$F$2,\"NEVER CALIBRATED\",IF(Table112[[#This Row],[Disposition]]=\"Retired\",\"N/A\",IF(Table112[[#This Row],[Disposition]]=0,\"\",Table112[[#This Row],[Calibrated]]+$F$2)))","v":""},{"$f":"IF(Table112[[#This Row],[Disposition]]=\"\",\"\",IF(AND(Table112[[#This Row],[Next Calibration]]<$E$1,Table112[[#This Row],[Disposition]]=\"Lost\"),\"Find and Calibrate\",IF(Table112[[#This Row],[Disposition]]=\"Lost\",\"Find\",IF(OR(Table112[[#This Row],[Next Calibration]]<$E$1,Table112[[#This Row],[Next Calibration]]=\"NEVER CALIBRATED\"),\"Calibrate\",\"Nominal\"))))","v":""},{"$f":"IF(((Table112[[#This Row],[Next Calibration]]-TODAY())/30)>2,\"More Than 2\",IF(((Table112[[#This Row],[Next Calibration]]-TODAY())/30)>1,\"Between 2 and 1\",\"Less than 1\"))","v":{"$error":"#VALUE!"}},{"$f":"IF(Table112[[#This Row],[Issued]]=\"\",\"\",IF(Table112[[#This Row],[Lent]]=\"\",0,1))","v":""},{"$f":"IF(Table112[[#This Row],[Lent]]=\"\",\"\",IF(Table112[[#This Row],[Returned]]=\"\",0,1))","v":""}]
[{"$nulls":11},{"$f":"IF(IF(Table112[[#This Row],[Disposition]]=\"Retired\",\"N/A\",IF(Table112[[#This Row],[Disposition]]=0,\"\",Table112[[#This Row],[Calibrated]]+$F$2))=0+$F$2,\"NEVER CALIBRATED\",IF(Table112[[#This Row],[Disposition]]=\"Retired\",\"N/A\",IF(Table112[[#This Row],[Disposition]]=0,\"\",Table112[[#This Row],[Calibrated]]+$F$2)))","v":""},{"$f":"IF(Table112[[#This Row],[Disposition]]=\"\",\"\",IF(AND(Table112[[#This Row],[Next Calibration]]<$E$1,Table112[[#This Row],[Disposition]]=\"Lost\"),\"Find and Calibrate\",IF(Table112[[#This Row],[Disposition]]=\"Lost\",\"Find\",IF(OR(Table112[[#This Row],[Next Calibration]]<$E$1,Table112[[#This Row],[Next Calibration]]=\"NEVER CALIBRATED\"),\"Calibrate\",\"Nominal\"))))","v":""},{"$f":"IF(((Table112[[#This Row],[Next Calibration]]-TODAY())/30)>2,\"More Than 2\",IF(((Table112[[#This Row],[Next Calibration]]-TODAY())/30)>1,\"Between 2 and 1\",\"Less than 1\"))","v":{"$error":"#VALUE!"}},{"$f":"IF(Table112[[#This Row],[Issued]]=\"\",\"\",IF(Table112[[#This Row],[Lent]]=\"\",0,1))","v":""},{"$f":"IF(Table112[[#This Row],[Lent]]=\"\",\"\",IF(Table112[[#This Row],[Returned]]=\"\",0,1))","v":""}]
[{"$nulls":11},{"$f":"IF(IF(Table112[[#This Row],[Disposition]]=\"Retired\",\"N/A\",IF(Table112[[#This Row],[Disposition]]=0,\"\",Table112[[#This Row],[Calibrated]]+$F$2))=0+$F$2,\"NEVER CALIBRATED\",IF(Table112[[#This Row],[Disposition]]=\"Retired\",\"N/A\",IF(Table112[[#This Row],[Disposition]]=0,\"\",Table112[[#This Row],[Calibrated]]+$F$2)))","v":""},{"$f":"IF(Table112[[#This Row],[Disposition]]=\"\",\"\",IF(AND(Table112[[#This Row],[Next Calibration]]<$E$1,Table112[[#This Row],[Disposition]]=\"Lost\"),\"Find and Calibrate\",IF(Table112[[#This Row],[Disposition]]=\"Lost\",\"Find\",IF(OR(Table112[[#This Row],[Next Calibration]]<$E$1,Table112[[#This Row],[Next Calibration]]=\"NEVER CALIBRATED\"),\"Calibrate\",\"Nominal\"))))","v":""},{"$f":"IF(((Table112[[#This Row],[Next Calibration]]-TODAY())/30)>2,\"More Than 2\",IF(((Table112[[#This Row],[Next Calibration]]-TODAY())/30)>1,\"Between 2 and 1\",\"Less than 1\"))","v":{"$error":"#VALUE!"}},{"$f":"IF(Table112[[#This Row],[Issued]]=\"\",\"\",IF(Table112[[#This Row],[Lent]]=\"\",0,1))","v":""},{"$f":"IF(Table112[[#This Row],[Lent]]=\"\",\"\",IF(Table112[[#This Row],[Returned]]=\"\",0,1))","v":""}]
[{"$nulls":11},{"$f":"IF(IF(Table112[[#This Row],[Disposition]]=\"Retired\",\"N/A\",IF(Table112[[#This Row],[Disposition]]=0,\"\",Table112[[#This Row],[Calibrated]]+$F$2))=0+$F$2,\"NEVER CALIBRATED\",IF(Table112[[#This Row],[Disposition]]=\"Retired\",\"N/A\",IF(Table112[[#This Row],[Disposition]]=0,\"\",Table112[[#This Row],[Calibrated]]+$F$2)))","v":""},{"$f":"IF(Table112[[#This Row],[Disposition]]=\"\",\"\",IF(AND(Table112[[#This Row],[Next Calibration]]<$E$1,Table112[[#This Row],[Disposition]]=\"Lost\"),\"Find and Calibrate\",IF(Table112[[#This Row],[Disposition]]=\"Lost\",\"Find\",IF(OR(Table112[[#This Row],[Next Calibration]]<$E$1,Table112[[#This Row],[Next Calibration]]=\"NEVER CALIBRATED\"),\"Calibrate\",\"Nominal\"))))","v":""},{"$f":"IF(((Table112[[#This Row],[Next Calibration]]-TODAY())/30)>2,\"More Than 2\",IF(((Table112[[#This Row],[Next Calibration]]-TODAY())/30)>1,\"Between 2 and 1\",\"Less than 1\"))","v":{"$error":"#VALUE!"}},{"$f":"IF(Table112[[#This Row],[Issued]]=\"\",\"\",IF(Table112[[#This Row],[Lent]]=\"\",0,1))","v":""},{"$f":"IF(Table112[[#This Row],[Lent]]=\"\",\"\",IF(Table112[[#This Row],[Returned]]=\"\",0,1))","v":""}]
[{"$nulls":11},{"$f":"IF(IF(Table112[[#This Row],[Disposition]]=\"Retired\",\"N/A\",IF(Table112[[#This Row],[Disposition]]=0,\"\",Table112[[#This Row],[Calibrated]]+$F$2))=0+$F$2,\"NEVER CALIBRATED\",IF(Table112[[#This Row],[Disposition]]=\"Retired\",\"N/A\",IF(Table112[[#This Row],[Disposition]]=0,\"\",Table112[[#This Row],[Calibrated]]+$F$2)))","v":""},{"$f":"IF(Table112[[#This Row],[Disposition]]=\"\",\"\",IF(AND(Table112[[#This Row],[Next Calibration]]<$E$1,Table112[[#This Row],[Disposition]]=\"Lost\"),\"Find and Calibrate\",IF(Table112[[#This Row],[Disposition]]=\"Lost\",\"Find\",IF(OR(Table112[[#This Row],[Next Calibration]]<$E$1,Table112[[#This Row],[Next Calibration]]=\"NEVER CALIBRATED\"),\"Calibrate\",\"Nominal\"))))","v":""},{"$f":"IF(((Table112[[#This Row],[Next Calibration]]-TODAY())/30)>2,\"More Than 2\",IF(((Table112[[#This Row],[Next Calibration]]-TODAY())/30)>1,\"Between 2 and 1\",\"Less than 1\"))","v":{"$error":"#VALUE!"}},{"$f":"IF(Table112[[#This Row],[Issued]]=\"\",\"\",IF(Table112[[#This Row],[Lent]]=\"\",0,1))","v":""},{"$f":"IF(Table112[[#This Row],[Lent]]=\"\",\"\",IF(Table112[[#This Row],[Returned]]=\"\",0,1))","v":""}]
[{"$nulls":11},{"$f":"IF(IF(Table112[[#This Row],[Disposition]]=\"Retired\",\"N/A\",IF(Table112[[#This Row],[Disposition]]=0,\"\",Table112[[#This Row],[Calibrated]]+$F$2))=0+$F$2,\"NEVER CALIBRATED\",IF(Table112[[#This Row],[Disposition]]=\"Retired\",\"N/A\",IF(Table112[[#This Row],[Disposition]]=0,\"\",Table112[[#This Row],[Calibrated]]+$F$2)))","v":""},{"$f":"IF(Table112[[#This Row],[Disposition]]=\"\",\"\",IF(AND(Table112[[#This Row],[Next Calibration]]<$E$1,Table112[[#This Row],[Disposition]]=\"Lost\"),\"Find and Calibrate\",IF(Table112[[#This Row],[Disposition]]=\"Lost\",\"Find\",IF(OR(Table112[[#This Row],[Next Calibration]]<$E$1,Table112[[#This Row],[Next Calibration]]=\"NEVER CALIBRATED\"),\"Calibrate\",\"Nominal\"))))","v":""},{"$f":"IF(((Table112[[#This Row],[Next Calibration]]-TODAY())/30)>2,\"More Than 2\",IF(((Table112[[#This Row],[Next Calibration]]-TODAY())/30)>1,\"Between 2 and 1\",\"Less than 1\"))","v":{"$error":"#VALUE!"}},{"$f":"IF(Table112[[#This Row],[Issued]]=\"\",\"\",IF(Table112[[#This Row],[Lent]]=\"\",0,1))","v":""},{"$f":"IF(Table112[[#This Row],[Lent]]=\"\",\"\",IF(Table112[[#This Row],[Returned]]=\"\",0,1))","v":""}]
[{"$nulls":11},{"$f":"IF(IF(Table112[[#This Row],[Disposition]]=\"Retired\",\"N/A\",IF(Table112[[#This Row],[Disposition]]=0,\"\",Table112[[#This Row],[Calibrated]]+$F$2))=0+$F$2,\"NEVER CALIBRATED\",IF(Table112[[#This Row],[Disposition]]=\"Retired\",\"N/A\",IF(Table112[[#This Row],[Disposition]]=0,\"\",Table112[[#This Row],[Calibrated]]+$F$2)))","v":""},{"$f":"IF(Table112[[#This Row],[Disposition]]=\"\",\"\",IF(AND(Table112[[#This Row],[Next Calibration]]<$E$1,Table112[[#This Row],[Disposition]]=\"Lost\"),\"Find and Calibrate\",IF(Table112[[#This Row],[Disposition]]=\"Lost\",\"Find\",IF(OR(Table112[[#This Row],[Next Calibration]]<$E$1,Table112[[#This Row],[Next Calibration]]=\"NEVER CALIBRATED\"),\"Calibrate\",\"Nominal\"))))","v":""},{"$f":"IF(((Table112[[#This Row],[Next Calibration]]-TODAY())/30)>2,\"More Than 2\",IF(((Table112[[#This Row],[Next Calibration]]-TODAY())/30)>1,\"Between 2 and 1\",\"Less than 1\"))","v":{"$error":"#VALUE!"}},{"$f":"IF(Table112[[#This Row],[Issued]]=\"\",\"\",IF(Table112[[#This Row],[Lent]]=\"\",0,1))","v":""},{"$f":"IF(Table112[[#This Row],[Lent]]=\"\",\"\",IF(Table112[[#This Row],[Returned]]=\"\",0,1))","v":""}]
[{"$nulls":11},{"$f":"IF(IF(Table112[[#This Row],[Disposition]]=\"Retired\",\"N/A\",IF(Table112[[#This Row],[Disposition]]=0,\"\",Table112[[#This Row],[Calibrated]]+$F$2))=0+$F$2,\"NEVER CALIBRATED\",IF(Table112[[#This Row],[Disposition]]=\"Retired\",\"N/A\",IF(Table112[[#This Row],[Disposition]]=0,\"\",Table112[[#This Row],[Calibrated]]+$F$2)))","v":""},{"$f":"IF(Table112[[#This Row],[Disposition]]=\"\",\"\",IF(AND(Table112[[#This Row],[Next Calibration]]<$E$1,Table112[[#This Row],[Disposition]]=\"Lost\"),\"Find and Calibrate\",IF(Table112[[#This Row],[Disposition]]=\"Lost\",\"Find\",IF(OR(Table112[[#This Row],[Next Calibration]]<$E$1,Table112[[#This Row],[Next Calibration]]=\"NEVER CALIBRATED\"),\"Calibrate\",\"Nominal\"))))","v":""},{"$f":"IF(((Table112[[#This Row],[Next Calibration]]-TODAY())/30)>2,\"More Than 2\",IF(((Table112[[#This Row],[Next Calibration]]-TODAY())/30)>1,\"Between 2 and 1\",\"Less than 1\"))","v":{"$error":"#VALUE!"}},{"$f":"IF(Table112[[#This Row],[Issued]]=\"\",\"\",IF(Table112[[#This Row],[Lent]]=\"\",0,1))","v":""},{"$f":"IF(Table112[[#This Row],[Lent]]=\"\",\"\",IF(Table112[[#This Row],[Returned]]=\"\",0,1))","v":""}]
[{"$nulls":11},{"$f":"IF(IF(Table112[[#This Row],[Disposition]]=\"Retired\",\"N/A\",IF(Table112[[#This Row],[Disposition]]=0,\"\",Table112[[#This Row],[Calibrated]]+$F$2))=0+$F$2,\"NEVER CALIBRATED\",IF(Table112[[#This Row],[Disposition]]=\"Retired\",\"N/A\",IF(Table112[[#This Row],[Disposition]]=0,\"\",Table112[[#This Row],[Calibrated]]+$F$2)))","v":""},{"$f":"IF(Table112[[#This Row],[Disposition]]=\"\",\"\",IF(AND(Table112[[#This Row],[Next Calibration]]<$E$1,Table112[[#This Row],[Disposition]]=\"Lost\"),\"Find and Calibrate\",IF(Table112[[#This Row],[Disposition]]=\"Lost\",\"Find\",IF(OR(Table112[[#This Row],[Next Calibration]]<$E$1,Table112[[#This Row],[Next Calibration]]=\"NEVER CALIBRATED\"),\"Calibrate\",\"Nominal\"))))","v":""},{"$f":"IF(((Table112[[#This Row],[Next Calibration]]-TODAY())/30)>2,\"More Than 2\",IF(((Table112[[#This Row],[Next Calibration]]-TODAY())/30)>1,\"Between 2 and 1\",\"Less than 1\"))","v":{"$error":"#VALUE!"}},{"$f":"IF(Table112[[#This Row],[Issued]]=\"\",\"\",IF(Table112[[#This Row],[Lent]]=\"\",0,1))","v":""},{"$f":"IF(Table112[[#This Row],[Lent]]=\"\",\"\",IF(Table112[[#This Row],[Returned]]=\"\",0,1))","v":""}]
[{"$nulls":11},{"$f":"IF(IF(Table112[[#This Row],[Disposition]]=\"Retired\",\"N/A\",IF(Table112[[#This Row],[Disposition]]=0,\"\",Table112[[#This Row],[Calibrated]]+$F$2))=0+$F$2,\"NEVER CALIBRATED\",IF(Table112[[#This Row],[Disposition]]=\"Retired\",\"N/A\",IF(Table112[[#This Row],[Disposition]]=0,\"\",Table112[[#This Row],[Calibrated]]+$F$2)))","v":""},{"$f":"IF(Table112[[#This Row],[Disposition]]=\"\",\"\",IF(AND(Table112[[#This Row],[Next Calibration]]<$E$1,Table112[[#This Row],[Disposition]]=\"Lost\"),\"Find and Calibrate\",IF(Table112[[#This Row],[Disposition]]=\"Lost\",\"Find\",IF(OR(Table112[[#This Row],[Next Calibration]]<$E$1,Table112[[#This Row],[Next Calibration]]=\"NEVER CALIBRATED\"),\"Calibrate\",\"Nominal\"))))","v":""},{"$f":"IF(((Table112[[#This Row],[Next Calibration]]-TODAY())/30)>2,\"More Than 2\",IF(((Table112[[#This Row],[Next Calibration]]-TODAY())/30)>1,\"Between 2 and 1\",\"Less than 1\"))","v":{"$error":"#VALUE!"}},{"$f":"IF(Table112[[#This Row],[Issued]]=\"\",\"\",IF(Table112[[#This Row],[Lent]]=\"\",0,1))","v":""},{"$f":"IF(Table112[[#This Row],[Lent]]=\"\",\"\",IF(Table112[[#This Row],[Returned]]=\"\",0,1))","v":""}]
[{"$nulls":11},{"$f":"IF(IF(Table112[[#This Row],[Disposition]]=\"Retired\",\"N/A\",IF(Table112[[#This Row],[Disposition]]=0,\"\",Table112[[#This Row],[Calibrated]]+$F$2))=0+$F$2,\"NEVER CALIBRATED\",IF(Table112[[#This Row],[Disposition]]=\"Retired\",\"N/A\",IF(Table112[[#This Row],[Disposition]]=0,\"\",Table112[[#This Row],[Calibrated]]+$F$2)))","v":""},{"$f":"IF(Table112[[#This Row],[Disposition]]=\"\",\"\",IF(AND(Table112[[#This Row],[Next Calibration]]<$E$1,Table112[[#This Row],[Disposition]]=\"Lost\"),\"Find and Calibrate\",IF(Table112[[#This Row],[Disposition]]=\"Lost\",\"Find\",IF(OR(Table112[[#This Row],[Next Calibration]]<$E$1,Table112[[#This Row],[Next Calibration]]=\"NEVER CALIBRATED\"),\"Calibrate\",\"Nominal\"))))","v":""},{"$f":"IF(((Table112[[#This Row],[Next Calibration]]-TODAY())/30)>2,\"More Than 2\",IF(((Table112[[#This Row],[Next Calibration]]-TODAY())/30)>1,\"Between 2 and 1\",\"Less than 1\"))","v":{"$error":"#VALUE!"}},{"$f":"IF(Table112[[#This Row],[Issued]]=\"\",\"\",IF(Table112[[#This Row],[Lent]]=\"\",0,1))","v":""},{"$f":"IF(Table112[[#This Row],[Lent]]=\"\",\"\",IF(Table112[[#This Row],[Returned]]=\"\",0,1))","v":""}]
[{"$nulls":11},{"$f":"IF(IF(Table112[[#This Row],[Disposition]]=\"Retired\",\"N/A\",IF(Table112[[#This Row],[Disposition]]=0,\"\",Table112[[#This Row],[Calibrated]]+$F$2))=0+$F$2,\"NEVER CALIBRATED\",IF(Table112[[#This Row],[Disposition]]=\"Retired\",\"N/A\",IF(Table112[[#This Row],[Disposition]]=0,\"\",Table112[[#This Row],[Calibrated]]+$F$2)))","v":""},{"$f":"IF(Table112[[#This Row],[Disposition]]=\"\",\"\",IF(AND(Table112[[#This Row],[Next Calibration]]<$E$1,Table112[[#This Row],[Disposition]]=\"Lost\"),\"Find and Calibrate\",IF(Table112[[#This Row],[Disposition]]=\"Lost\",\"Find\",IF(OR(Table112[[#This Row],[Next Calibration]]<$E$1,Table112[[#This Row],[Next Calibration]]=\"NEVER CALIBRATED\"),\"Calibrate\",\"Nominal\"))))","v":""},{"$f":"IF(((Table112[[#This Row],[Next Calibration]]-TODAY())/30)>2,\"More Than 2\",IF(((Table112[[#This Row],[Next Calibration]]-TODAY())/30)>1,\"Between 2 and 1\",\"Less than 1\"))","v":{"$error":"#VALUE!"}},{"$f":"IF(Table112[[#This Row],[Issued]]=\"\",\"\",IF(Table112[[#This Row],[Lent]]=\"\",0,1))","v":""},{"$f":"IF(Table112[[#This Row],[Lent]]=\"\",\"\",IF(Table112[[#This Row],[Returned]]=\"\",0,1))","v":""}]
[{"$nulls":11},{"$f":"IF(IF(Table112[[#This Row],[Disposition]]=\"Retired\",\"N/A\",IF(Table112[[#This Row],[Disposition]]=0,\"\",Table112[[#This Row],[Calibrated]]+$F$2))=0+$F$2,\"NEVER CALIBRATED\",IF(Table112[[#This Row],[Disposition]]=\"Retired\",\"N/A\",IF(Table112[[#This Row],[Disposition]]=0,\"\",Table112[[#This Row],[Calibrated]]+$F$2)))","v":""},{"$f":"IF(Table112[[#This Row],[Disposition]]=\"\",\"\",IF(AND(Table112[[#This Row],[Next Calibration]]<$E$1,Table112[[#This Row],[Disposition]]=\"Lost\"),\"Find and Calibrate\",IF(Table112[[#This Row],[Disposition]]=\"Lost\",\"Find\",IF(OR(Table112[[#This Row],[Next Calibration]]<$E$1,Table112[[#This Row],[Next Calibration]]=\"NEVER CALIBRATED\"),\"Calibrate\",\"Nominal\"))))","v":""},{"$f":"IF(((Table112[[#This Row],[Next Calibration]]-TODAY())/30)>2,\"More Than 2\",IF(((Table112[[#This Row],[Next Calibration]]-TODAY())/30)>1,\"Between 2 and 1\",\"Less than 1\"))","v":{"$error":"#VALUE!"}},{"$f":"IF(Table112[[#This Row],[Issued]]=\"\",\"\",IF(Table112[[#This Row],[Lent]]=\"\",0,1))","v":""},{"$f":"IF(Table112[[#This Row],[Lent]]=\"\",\"\",IF(Table112[[#This Row],[Returned]]=\"\",0,1))","v":""}]
[{"$nulls":11},{"$f":"IF(IF(Table112[[#This Row],[Disposition]]=\"Retired\",\"N/A\",IF(Table112[[#This Row],[Disposition]]=0,\"\",Table112[[#This Row],[Calibrated]]+$F$2))=0+$F$2,\"NEVER CALIBRATED\",IF(Table112[[#This Row],[Disposition]]=\"Retired\",\"N/A\",IF(Table112[[#This Row],[Disposition]]=0,\"\",Table112[[#This Row],[Calibrated]]+$F$2)))","v":""},{"$f":"IF(Table112[[#This Row],[Disposition]]=\"\",\"\",IF(AND(Table112[[#This Row],[Next Calibration]]<$E$1,Table112[[#This Row],[Disposition]]=\"Lost\"),\"Find and Calibrate\",IF(Table112[[#This Row],[Disposition]]=\"Lost\",\"Find\",IF(OR(Table112[[#This Row],[Next Calibration]]<$E$1,Table112[[#This Row],[Next Calibration]]=\"NEVER CALIBRATED\"),\"Calibrate\",\"Nominal\"))))","v":""},{"$f":"IF(((Table112[[#This Row],[Next Calibration]]-TODAY())/30)>2,\"More Than 2\",IF(((Table112[[#This Row],[Next Calibration]]-TODAY())/30)>1,\"Between 2 and 1\",\"Less than 1\"))","v":{"$error":"#VALUE!"}},{"$f":"IF(Table112[[#This Row],[Issued]]=\"\",\"\",IF(Table112[[#This Row],[Lent]]=\"\",0,1))","v":""},{"$f":"IF(Table112[[#This Row],[Lent]]=\"\",\"\",IF(Table112[[#This Row],[Returned]]=\"\",0,1))","v":""}]
[{"$nulls":11},{"$f":"IF(IF(Table112[[#This Row],[Disposition]]=\"Retired\",\"N/A\",IF(Table112[[#This Row],[Disposition]]=0,\"\",Table112[[#This Row],[Calibrated]]+$F$2))=0+$F$2,\"NEVER CALIBRATED\",IF(Table112[[#This Row],[Disposition]]=\"Retired\",\"N/A\",IF(Table112[[#This Row],[Disposition]]=0,\"\",Table112[[#This Row],[Calibrated]]+$F$2)))","v":""},{"$f":"IF(Table112[[#This Row],[Disposition]]=\"\",\"\",IF(AND(Table112[[#This Row],[Next Calibration]]<$E$1,Table112[[#This Row],[Disposition]]=\"Lost\"),\"Find and Calibrate\",IF(Table112[[#This Row],[Disposition]]=\"Lost\",\"Find\",IF(OR(Table112[[#This Row],[Next Calibration]]<$E$1,Table112[[#This Row],[Next Calibration]]=\"NEVER CALIBRATED\"),\"Calibrate\",\"Nominal\"))))","v":""},{"$f":"IF(((Table112[[#This Row],[Next Calibration]]-TODAY())/30)>2,\"More Than 2\",IF(((Table112[[#This Row],[Next Calibration]]-TODAY())/30)>1,\"Between 2 and 1\",\"Less than 1\"))","v":{"$error":"#VALUE!"}},{"$f":"IF(Table112[[#This Row],[Issued]]=\"\",\"\",IF(Table112[[#This Row],[Lent]]=\"\",0,1))","v":""},{"$f":"IF(Table112[[#This Row],[Lent]]=\"\",\"\",IF(Table112[[#This Row],[Returned]]=\"\",0,1))","v":""}]
[{"$nulls":11},{"$f":"IF(IF(Table112[[#This Row],[Disposition]]=\"Retired\",\"N/A\",IF(Table112[[#This Row],[Disposition]]=0,\"\",Table112[[#This Row],[Calibrated]]+$F$2))=0+$F$2,\"NEVER CALIBRATED\",IF(Table112[[#This Row],[Disposition]]=\"Retired\",\"N/A\",IF(Table112[[#This Row],[Disposition]]=0,\"\",Table112[[#This Row],[Calibrated]]+$F$2)))","v":""},{"$f":"IF(Table112[[#This Row],[Disposition]]=\"\",\"\",IF(AND(Table112[[#This Row],[Next Calibration]]<$E$1,Table112[[#This Row],[Disposition]]=\"Lost\"),\"Find and Calibrate\",IF(Table112[[#This Row],[Disposition]]=\"Lost\",\"Find\",IF(OR(Table112[[#This Row],[Next Calibration]]<$E$1,Table112[[#This Row],[Next Calibration]]=\"NEVER CALIBRATED\"),\"Calibrate\",\"Nominal\"))))","v":""},{"$f":"IF(((Table112[[#This Row],[Next Calibration]]-TODAY())/30)>2,\"More Than 2\",IF(((Table112[[#This Row],[Next Calibration]]-TODAY())/30)>1,\"Between 2 and 1\",\"Less than 1\"))","v":{"$error":"#VALUE!"}},{"$f":"IF(Table112[[#This Row],[Issued]]=\"\",\"\",IF(Table112[[#This Row],[Lent]]=\"\",0,1))","v":""},{"$f":"IF(Table112[[#This Row],[Lent]]=\"\",\"\",IF(Table112[[#This Row],[Returned]]=\"\",0,1))","v":""}]
[{"$nulls":11},{"$f":"IF(IF(Table112[[#This Row],[Disposition]]=\"Retired\",\"N/A\",IF(Table112[[#This Row],[Disposition]]=0,\"\",Table112[[#This Row],[Calibrated]]+$F$2))=0+$F$2,\"NEVER CALIBRATED\",IF(Table112[[#This Row],[Disposition]]=\"Retired\",\"N/A\",IF(Table112[[#This Row],[Disposition]]=0,\"\",Table112[[#This Row],[Calibrated]]+$F$2)))","v":""},{"$f":"IF(Table112[[#This Row],[Disposition]]=\"\",\"\",IF(AND(Table112[[#This Row],[Next Calibration]]<$E$1,Table112[[#This Row],[Disposition]]=\"Lost\"),\"Find and Calibrate\",IF(Table112[[#This Row],[Disposition]]=\"Lost\",\"Find\",IF(OR(Table112[[#This Row],[Next Calibration]]<$E$1,Table112[[#This Row],[Next Calibration]]=\"NEVER CALIBRATED\"),\"Calibrate\",\"Nominal\"))))","v":""},{"$f":"IF(((Table112[[#This Row],[Next Calibration]]-TODAY())/30)>2,\"More Than 2\",IF(((Table112[[#This Row],[Next Calibration]]-TODAY())/30)>1,\"Between 2 and 1\",\"Less than 1\"))","v":{"$error":"#VALUE!"}},{"$f":"IF(Table112[[#This Row],[Issued]]=\"\",\"\",IF(Table112[[#This Row],[Lent]]=\"\",0,1))","v":""},{"$f":"IF(Table112[[#This Row],[Lent]]=\"\",\"\",IF(Table112[[#This Row],[Returned]]=\"\",0,1))","v":""}]
[{"$nulls":11},{"$f":"IF(IF(Table112[[#This Row],[Disposition]]=\"Retired\",\"N/A\",IF(Table112[[#This Row],[Disposition]]=0,\"\",Table112[[#This Row],[Calibrated]]+$F$2))=0+$F$2,\"NEVER CALIBRATED\",IF(Table112[[#This Row],[Disposition]]=\"Retired\",\"N/A\",IF(Table112[[#This Row],[Disposition]]=0,\"\",Table112[[#This Row],[Calibrated]]+$F$2)))","v":""},{"$f":"IF(Table112[[#This Row],[Disposition]]=\"\",\"\",IF(AND(Table112[[#This Row],[Next Calibration]]<$E$1,Table112[[#This Row],[Disposition]]=\"Lost\"),\"Find and Calibrate\",IF(Table112[[#This Row],[Disposition]]=\"Lost\",\"Find\",IF(OR(Table112[[#This Row],[Next Calibration]]<$E$1,Table112[[#This Row],[Next Calibration]]=\"NEVER CALIBRATED\"),\"Calibrate\",\"Nominal\"))))","v":""},{"$f":"IF(((Table112[[#This Row],[Next Calibration]]-TODAY())/30)>2,\"More Than 2\",IF(((Table112[[#This Row],[Next Calibration]]-TODAY())/30)>1,\"Between 2 and 1\",\"Less than 1\"))","v":{"$error":"#VALUE!"}},{"$f":"IF(Table112[[#This Row],[Issued]]=\"\",\"\",IF(Table112[[#This Row],[Lent]]=\"\",0,1))","v":""},{"$f":"IF(Table112[[#This Row],[Lent]]=\"\",\"\",IF(Table112[[#This Row],[Returned]]=\"\",0,1))","v":""}]
[{"$nulls":11},{"$f":"IF(IF(Table112[[#This Row],[Disposition]]=\"Retired\",\"N/A\",IF(Table112[[#This Row],[Disposition]]=0,\"\",Table112[[#This Row],[Calibrated]]+$F$2))=0+$F$2,\"NEVER CALIBRATED\",IF(Table112[[#This Row],[Disposition]]=\"Retired\",\"N/A\",IF(Table112[[#This Row],[Disposition]]=0,\"\",Table112[[#This Row],[Calibrated]]+$F$2)))","v":""},{"$f":"IF(Table112[[#This Row],[Disposition]]=\"\",\"\",IF(AND(Table112[[#This Row],[Next Calibration]]<$E$1,Table112[[#This Row],[Disposition]]=\"Lost\"),\"Find and Calibrate\",IF(Table112[[#This Row],[Disposition]]=\"Lost\",\"Find\",IF(OR(Table112[[#This Row],[Next Calibration]]<$E$1,Table112[[#This Row],[Next Calibration]]=\"NEVER CALIBRATED\"),\"Calibrate\",\"Nominal\"))))","v":""},{"$f":"IF(((Table112[[#This Row],[Next Calibration]]-TODAY())/30)>2,\"More Than 2\",IF(((Table112[[#This Row],[Next Calibration]]-TODAY())/30)>1,\"Between 2 and 1\",\"Less than 1\"))","v":{"$error":"#VALUE!"}},{"$f":"IF(Table112[[#This Row],[Issued]]=\"\",\"\",IF(Table112[[#This Row],[Lent]]=\"\",0,1))","v":""},{"$f":"IF(Table112[[#This Row],[Lent]]=\"\",\"\",IF(Table112[[#This Row],[Returned]]=\"\",0,1))","v":""}]
[{"$nulls":11},{"$f":"IF(IF(Table112[[#This Row],[Disposition]]=\"Retired\",\"N/A\",IF(Table112[[#This Row],[Disposition]]=0,\"\",Table112[[#This Row],[Calibrated]]+$F$2))=0+$F$2,\"NEVER CALIBRATED\",IF(Table112[[#This Row],[Disposition]]=\"Retired\",\"N/A\",IF(Table112[[#This Row],[Disposition]]=0,\"\",Table112[[#This Row],[Calibrated]]+$F$2)))","v":""},{"$f":"IF(Table112[[#This Row],[Disposition]]=\"\",\"\",IF(AND(Table112[[#This Row],[Next Calibration]]<$E$1,Table112[[#This Row],[Disposition]]=\"Lost\"),\"Find and Calibrate\",IF(Table112[[#This Row],[Disposition]]=\"Lost\",\"Find\",IF(OR(Table112[[#This Row],[Next Calibration]]<$E$1,Table112[[#This Row],[Next Calibration]]=\"NEVER CALIBRATED\"),\"Calibrate\",\"Nominal\"))))","v":""},{"$f":"IF(((Table112[[#This Row],[Next Calibration]]-TODAY())/30)>2,\"More Than 2\",IF(((Table112[[#This Row],[Next Calibration]]-TODAY())/30)>1,\"Between 2 and 1\",\"Less than 1\"))","v":{"$error":"#VALUE!"}},{"$f":"IF(Table112[[#This Row],[Issued]]=\"\",\"\",IF(Table112[[#This Row],[Lent]]=\"\",0,1))","v":""},{"$f":"IF(Table112[[#This Row],[Lent]]=\"\",\"\",IF(Table112[[#This Row],[Returned]]=\"\",0,1))","v":""}]
[{"$nulls":11},{"$f":"IF(IF(Table112[[#This Row],[Disposition]]=\"Retired\",\"N/A\",IF(Table112[[#This Row],[Disposition]]=0,\"\",Table112[[#This Row],[Calibrated]]+$F$2))=0+$F$2,\"NEVER CALIBRATED\",IF(Table112[[#This Row],[Disposition]]=\"Retired\",\"N/A\",IF(Table112[[#This Row],[Disposition]]=0,\"\",Table112[[#This Row],[Calibrated]]+$F$2)))","v":""},{"$f":"IF(Table112[[#This Row],[Disposition]]=\"\",\"\",IF(AND(Table112[[#This Row],[Next Calibration]]<$E$1,Table112[[#This Row],[Disposition]]=\"Lost\"),\"Find and Calibrate\",IF(Table112[[#This Row],[Disposition]]=\"Lost\",\"Find\",IF(OR(Table112[[#This Row],[Next Calibration]]<$E$1,Table112[[#This Row],[Next Calibration]]=\"NEVER CALIBRATED\"),\"Calibrate\",\"Nominal\"))))","v":""},{"$f":"IF(((Table112[[#This Row],[Next Calibration]]-TODAY())/30)>2,\"More Than 2\",IF(((Table112[[#This Row],[Next Calibration]]-TODAY())/30)>1,\"Between 2 and 1\",\"Less than 1\"))","v":{"$error":"#VALUE!"}},{"$f":"IF(Table112[[#This Row],[Issued]]=\"\",\"\",IF(Table112[[#This Row],[Lent]]=\"\",0,1))","v":""},{"$f":"IF(Table112[[#This Row],[Lent]]=\"\",\"\",IF(Table112[[#This Row],[Returned]]=\"\",0,1))","v":""}]
[{"$nulls":11},{"$f":"IF(IF(Table112[[#This Row],[Disposition]]=\"Retired\",\"N/A\",IF(Table112[[#This Row],[Disposition]]=0,\"\",Table112[[#This Row],[Calibrated]]+$F$2))=0+$F$2,\"NEVER CALIBRATED\",IF(Table112[[#This Row],[Disposition]]=\"Retired\",\"N/A\",IF(Table112[[#This Row],[Disposition]]=0,\"\",Table112[[#This Row],[Calibrated]]+$F$2)))","v":""},{"$f":"IF(Table112[[#This Row],[Disposition]]=\"\",\"\",IF(AND(Table112[[#This Row],[Next Calibration]]<$E$1,Table112[[#This Row],[Disposition]]=\"Lost\"),\"Find and Calibrate\",IF(Table112[[#This Row],[Disposition]]=\"Lost\",\"Find\",IF(OR(Table112[[#This Row],[Next Calibration]]<$E$1,Table112[[#This Row],[Next Calibration]]=\"NEVER CALIBRATED\"),\"Calibrate\",\"Nominal\"))))","v":""},{"$f":"IF(((Table112[[#This Row],[Next Calibration]]-TODAY())/30)>2,\"More Than 2\",IF(((Table112[[#This Row],[Next Calibration]]-TODAY())/30)>1,\"Between 2 and 1\",\"Less than 1\"))","v":{"$error":"#VALUE!"}},{"$f":"IF(Table112[[#This Row],[Issued]]=\"\",\"\",IF(Table112[[#This Row],[Lent]]=\"\",0,1))","v":""},{"$f":"IF(Table112[[#This Row],[Lent]]=\"\",\"\",IF(Table112[[#This Row],[Returned]]=\"\",0,1))","v":""}]
[{"$nulls":11},{"$f":"IF(IF(Table112[[#This Row],[Disposition]]=\"Retired\",\"N/A\",IF(Table112[[#This Row],[Disposition]]=0,\"\",Table112[[#This Row],[Calibrated]]+$F$2))=0+$F$2,\"NEVER CALIBRATED\",IF(Table112[[#This Row],[Disposition]]=\"Retired\",\"N/A\",IF(Table112[[#This Row],[Disposition]]=0,\"\",Table112[[#This Row],[Calibrated]]+$F$2)))","v":""},{"$f":"IF(Table112[[#This Row],[Disposition]]=\"\",\"\",IF(AND(Table112[[#This Row],[Next Calibration]]<$E$1,Table112[[#This Row],[Disposition]]=\"Lost\"),\"Find and Calibrate\",IF(Table112[[#This Row],[Disposition]]=\"Lost\",\"Find\",IF(OR(Table112[[#This Row],[Next Calibration]]<$E$1,Table112[[#This Row],[Next Calibration]]=\"NEVER CALIBRATED\"),\"Calibrate\",\"Nominal\"))))","v":""},{"$f":"IF(((Table112[[#This Row],[Next Calibration]]-TODAY())/30)>2,\"More Than 2\",IF(((Table112[[#This Row],[Next Calibration]]-TODAY())/30)>1,\"Between 2 and 1\",\"Less than 1\"))","v":{"$error":"#VALUE!"}},{"$f":"IF(Table112[[#This Row],[Issued]]=\"\",\"\",IF(Table112[[#This Row],[Lent]]=\"\",0,1))","v":""},{"$f":"IF(Table112[[#This Row],[Lent]]=\"\",\"\",IF(Table112[[#This Row],[Returned]]=\"\",0,1))","v":""}]
[{"$nulls":11},{"$f":"IF(IF(Table112[[#This Row],[Disposition]]=\"Retired\",\"N/A\",IF(Table112[[#This Row],[Disposition]]=0,\"\",Table112[[#This Row],[Calibrated]]+$F$2))=0+$F$2,\"NEVER CALIBRATED\",IF(Table112[[#This Row],[Disposition]]=\"Retired\",\"N/A\",IF(Table112[[#This Row],[Disposition]]=0,\"\",Table112[[#This Row],[Calibrated]]+$F$2)))","v":""},{"$f":"IF(Table112[[#This Row],[Disposition]]=\"\",\"\",IF(AND(Table112[[#This Row],[Next Calibration]]<$E$1,Table112[[#This Row],[Disposition]]=\"Lost\"),\"Find and Calibrate\",IF(Table112[[#This Row],[Disposition]]=\"Lost\",\"Find\",IF(OR(Table112[[#This Row],[Next Calibration]]<$E$1,Table112[[#This Row],[Next Calibration]]=\"NEVER CALIBRATED\"),\"Calibrate\",\"Nominal\"))))","v":""},{"$f":"IF(((Table112[[#This Row],[Next Calibration]]-TODAY())/30)>2,\"More Than 2\",IF(((Table112[[#This Row],[Next Calibration]]-TODAY())/30)>1,\"Between 2 and 1\",\"Less than 1\"))","v":{"$error":"#VALUE!"}},{"$f":"IF(Table112[[#This Row],[Issued]]=\"\",\"\",IF(Table112[[#This Row],[Lent]]=\"\",0,1))","v":""},{"$f":"IF(Table112[[#This Row],[Lent]]=\"\",\"\",IF(Table112[[#This Row],[Returned]]=\"\",0,1))","v":""}]
[{"$nulls":11},{"$f":"IF(IF(Table112[[#This Row],[Disposition]]=\"Retired\",\"N/A\",IF(Table112[[#This Row],[Disposition]]=0,\"\",Table112[[#This Row],[Calibrated]]+$F$2))=0+$F$2,\"NEVER CALIBRATED\",IF(Table112[[#This Row],[Disposition]]=\"Retired\",\"N/A\",IF(Table112[[#This Row],[Disposition]]=0,\"\",Table112[[#This Row],[Calibrated]]+$F$2)))","v":""},{"$f":"IF(Table112[[#This Row],[Disposition]]=\"\",\"\",IF(AND(Table112[[#This Row],[Next Calibration]]<$E$1,Table112[[#This Row],[Disposition]]=\"Lost\"),\"Find and Calibrate\",IF(Table112[[#This Row],[Disposition]]=\"Lost\",\"Find\",IF(OR(Table112[[#This Row],[Next Calibration]]<$E$1,Table112[[#This Row],[Next Calibration]]=\"NEVER CALIBRATED\"),\"Calibrate\",\"Nominal\"))))","v":""},{"$f":"IF(((Table112[[#This Row],[Next Calibration]]-TODAY())/30)>2,\"More Than 2\",IF(((Table112[[#This Row],[Next Calibration]]-TODAY())/30)>1,\"Between 2 and 1\",\"Less than 1\"))","v":{"$error":"#VALUE!"}},{"$f":"IF(Table112[[#This Row],[Issued]]=\"\",\"\",IF(Table112[[#This Row],[Lent]]=\"\",0,1))","v":""},{"$f":"IF(Table112[[#This Row],[Lent]]=\"\",\"\",IF(Table112[[#This Row],[Returned]]=\"\",0,1))","v":""}]
[{"$nulls":11},{"$f":"IF(IF(Table112[[#This Row],[Disposition]]=\"Retired\",\"N/A\",IF(Table112[[#This Row],[Disposition]]=0,\"\",Table112[[#This Row],[Calibrated]]+$F$2))=0+$F$2,\"NEVER CALIBRATED\",IF(Table112[[#This Row],[Disposition]]=\"Retired\",\"N/A\",IF(Table112[[#This Row],[Disposition]]=0,\"\",Table112[[#This Row],[Calibrated]]+$F$2)))","v":""},{"$f":"IF(Table112[[#This Row],[Disposition]]=\"\",\"\",IF(AND(Table112[[#This Row],[Next Calibration]]<$E$1,Table112[[#This Row],[Disposition]]=\"Lost\"),\"Find and Calibrate\",IF(Table112[[#This Row],[Disposition]]=\"Lost\",\"Find\",IF(OR(Table112[[#This Row],[Next Calibration]]<$E$1,Table112[[#This Row],[Next Calibration]]=\"NEVER CALIBRATED\"),\"Calibrate\",\"Nominal\"))))","v":""},{"$f":"IF(((Table112[[#This Row],[Next Calibration]]-TODAY())/30)>2,\"More Than 2\",IF(((Table112[[#This Row],[Next Calibration]]-TODAY())/30)>1,\"Between 2 and 1\",\"Less than 1\"))","v":{"$error":"#VALUE!"}},{"$f":"IF(Table112[[#This Row],[Issued]]=\"\",\"\",IF(Table112[[#This Row],[Lent]]=\"\",0,1))","v":""},{"$f":"IF(Table112[[#This Row],[Lent]]=\"\",\"\",IF(Table112[[#This Row],[Returned]]=\"\",0,1))","v":""}]
[{"$nulls":11},{"$f":"IF(IF(Table112[[#This Row],[Disposition]]=\"Retired\",\"N/A\",IF(Table112[[#This Row],[Disposition]]=0,\"\",Table112[[#This Row],[Calibrated]]+$F$2))=0+$F$2,\"NEVER CALIBRATED\",IF(Table112[[#This Row],[Disposition]]=\"Retired\",\"N/A\",IF(Table112[[#This Row],[Disposition]]=0,\"\",Table112[[#This Row],[Calibrated]]+$F$2)))","v":""},{"$f":"IF(Table112[[#This Row],[Disposition]]=\"\",\"\",IF(AND(Table112[[#This Row],[Next Calibration]]<$E$1,Table112[[#This Row],[Disposition]]=\"Lost\"),\"Find and Calibrate\",IF(Table112[[#This Row],[Disposition]]=\"Lost\",\"Find\",IF(OR(Table112[[#This Row],[Next Calibration]]<$E$1,Table112[[#This Row],[Next Calibration]]=\"NEVER CALIBRATED\"),\"Calibrate\",\"Nominal\"))))","v":""},{"$f":"IF(((Table112[[#This Row],[Next Calibration]]-TODAY())/30)>2,\"More Than 2\",IF(((Table112[[#This Row],[Next Calibration]]-TODAY())/30)>1,\"Between 2 and 1\",\"Less than 1\"))","v":{"$error":"#VALUE!"}},{"$f":"IF(Table112[[#This Row],[Issued]]=\"\",\"\",IF(Table112[[#This Row],[Lent]]=\"\",0,1))","v":""},{"$f":"IF(Table112[[#This Row],[Lent]]=\"\",\"\",IF(Table112[[#This Row],[Returned]]=\"\",0,1))","v":""}]
[{"$nulls":11},{"$f":"IF(IF(Table112[[#This Row],[Disposition]]=\"Retired\",\"N/A\",IF(Table112[[#This Row],[Disposition]]=0,\"\",Table112[[#This Row],[Calibrated]]+$F$2))=0+$F$2,\"NEVER CALIBRATED\",IF(Table112[[#This Row],[Disposition]]=\"Retired\",\"N/A\",IF(Table112[[#This Row],[Disposition]]=0,\"\",Table112[[#This Row],[Calibrated]]+$F$2)))","v":""},{"$f":"IF(Table112[[#This Row],[Disposition]]=\"\",\"\",IF(AND(Table112[[#This Row],[Next Calibration]]<$E$1,Table112[[#This Row],[Disposition]]=\"Lost\"),\"Find and Calibrate\",IF(Table112[[#This Row],[Disposition]]=\"Lost\",\"Find\",IF(OR(Table112[[#This Row],[Next Calibration]]<$E$1,Table112[[#This Row],[Next Calibration]]=\"NEVER CALIBRATED\"),\"Calibrate\",\"Nominal\"))))","v":""},{"$f":"IF(((Table112[[#This Row],[Next Calibration]]-TODAY())/30)>2,\"More Than 2\",IF(((Table112[[#This Row],[Next Calibration]]-TODAY())/30)>1,\"Between 2 and 1\",\"Less than 1\"))","v":{"$error":"#VALUE!"}},{"$f":"IF(Table112[[#This Row],[Issued]]=\"\",\"\",IF(Table112[[#This Row],[Lent]]=\"\",0,1))","v":""},{"$f":"IF(Table112[[#This Row],[Lent]]=\"\",\"\",IF(Table112[[#This Row],[Returned]]=\"\",0,1))","v":""}]
[{"$nulls":11},{"$f":"IF(IF(Table112[[#This Row],[Disposition]]=\"Retired\",\"N/A\",IF(Table112[[#This Row],[Disposition]]=0,\"\",Table112[[#This Row],[Calibrated]]+$F$2))=0+$F$2,\"NEVER CALIBRATED\",IF(Table112[[#This Row],[Disposition]]=\"Retired\",\"N/A\",IF(Table112[[#This Row],[Disposition]]=0,\"\",Table112[[#This Row],[Calibrated]]+$F$2)))","v":""},{"$f":"IF(Table112[[#This Row],[Disposition]]=\"\",\"\",IF(AND(Table112[[#This Row],[Next Calibration]]<$E$1,Table112[[#This Row],[Disposition]]=\"Lost\"),\"Find and Calibrate\",IF(Table112[[#This Row],[Disposition]]=\"Lost\",\"Find\",IF(OR(Table112[[#This Row],[Next Calibration]]<$E$1,Table112[[#This Row],[Next Calibration]]=\"NEVER CALIBRATED\"),\"Calibrate\",\"Nominal\"))))","v":""},{"$f":"IF(((Table112[[#This Row],[Next Calibration]]-TODAY())/30)>2,\"More Than 2\",IF(((Table112[[#This Row],[Next Calibration]]-TODAY())/30)>1,\"Between 2 and 1\",\"Less than 1\"))","v":{"$error":"#VALUE!"}},{"$f":"IF(Table112[[#This Row],[Issued]]=\"\",\"\",IF(Table112[[#This Row],[Lent]]=\"\",0,1))","v":""},{"$f":"IF(Table112[[#This Row],[Lent]]=\"\",\"\",IF(Table112[[#This Row],[Returned]]=\"\",0,1))","v":""}]
[{"$nulls":11},{"$f":"IF(IF(Table112[[#This Row],[Disposition]]=\"Retired\",\"N/A\",IF(Table112[[#This Row],[Disposition]]=0,\"\",Table112[[#This Row],[Calibrated]]+$F$2))=0+$F$2,\"NEVER CALIBRATED\",IF(Table112[[#This Row],[Disposition]]=\"Retired\",\"N/A\",IF(Table112[[#This Row],[Disposition]]=0,\"\",Table112[[#This Row],[Calibrated]]+$F$2)))","v":""},{"$f":"IF(Table112[[#This Row],[Disposition]]=\"\",\"\",IF(AND(Table112[[#This Row],[Next Calibration]]<$E$1,Table112[[#This Row],[Disposition]]=\"Lost\"),\"Find and Calibrate\",IF(Table112[[#This Row],[Disposition]]=\"Lost\",\"Find\",IF(OR(Table112[[#This Row],[Next Calibration]]<$E$1,Table112[[#This Row],[Next Calibration]]=\"NEVER CALIBRATED\"),\"Calibrate\",\"Nominal\"))))","v":""},{"$f":"IF(((Table112[[#This Row],[Next Calibration]]-TODAY())/30)>2,\"More Than 2\",IF(((Table112[[#This Row],[Next Calibration]]-TODAY())/30)>1,\"Between 2 and 1\",\"Less than 1\"))","v":{"$error":"#VALUE!"}},{"$f":"IF(Table112[[#This Row],[Issued]]=\"\",\"\",IF(Table112[[#This Row],[Lent]]=\"\",0,1))","v":""},{"$f":"IF(Table112[[#This Row],[Lent]]=\"\",\"\",IF(Table112[[#This Row],[Returned]]=\"\",0,1))","v":""}]
[{"$nulls":11},{"$f":"IF(IF(Table112[[#This Row],[Disposition]]=\"Retired\",\"N/A\",IF(Table112[[#This Row],[Disposition]]=0,\"\",Table112[[#This Row],[Calibrated]]+$F$2))=0+$F$2,\"NEVER CALIBRATED\",IF(Table112[[#This Row],[Disposition]]=\"Retired\",\"N/A\",IF(Table112[[#This Row],[Disposition]]=0,\"\",Table112[[#This Row],[Calibrated]]+$F$2)))","v":""},{"$f":"IF(Table112[[#This Row],[Disposition]]=\"\",\"\",IF(AND(Table112[[#This Row],[Next Calibration]]<$E$1,Table112[[#This Row],[Disposition]]=\"Lost\"),\"Find and Calibrate\",IF(Table112[[#This Row],[Disposition]]=\"Lost\",\"Find\",IF(OR(Table112[[#This Row],[Next Calibration]]<$E$1,Table112[[#This Row],[Next Calibration]]=\"NEVER CALIBRATED\"),\"Calibrate\",\"Nominal\"))))","v":""},{"$f":"IF(((Table112[[#This Row],[Next Calibration]]-TODAY())/30)>2,\"More Than 2\",IF(((Table112[[#This Row],[Next Calibration]]-TODAY())/30)>1,\"Between 2 and 1\",\"Less than 1\"))","v":{"$error":"#VALUE!"}},{"$f":"IF(Table112[[#This Row],[Issued]]=\"\",\"\",IF(Table112[[#This Row],[Lent]]=\"\",0,1))","v":""},{"$f":"IF(Table112[[#This Row],[Lent]]=\"\",\"\",IF(Table112[[#This Row],[Returned]]=\"\",0,1))","v":""}]
[{"$nulls":11},{"$f":"IF(IF(Table112[[#This Row],[Disposition]]=\"Retired\",\"N/A\",IF(Table112[[#This Row],[Disposition]]=0,\"\",Table112[[#This Row],[Calibrated]]+$F$2))=0+$F$2,\"NEVER CALIBRATED\",IF(Table112[[#This Row],[Disposition]]=\"Retired\",\"N/A\",IF(Table112[[#This Row],[Disposition]]=0,\"\",Table112[[#This Row],[Calibrated]]+$F$2)))","v":""},{"$f":"IF(Table112[[#This Row],[Disposition]]=\"\",\"\",IF(AND(Table112[[#This Row],[Next Calibration]]<$E$1,Table112[[#This Row],[Disposition]]=\"Lost\"),\"Find and Calibrate\",IF(Table112[[#This Row],[Disposition]]=\"Lost\",\"Find\",IF(OR(Table112[[#This Row],[Next Calibration]]<$E$1,Table112[[#This Row],[Next Calibration]]=\"NEVER CALIBRATED\"),\"Calibrate\",\"Nominal\"))))","v":""},{"$f":"IF(((Table112[[#This Row],[Next Calibration]]-TODAY())/30)>2,\"More Than 2\",IF(((Table112[[#This Row],[Next Calibration]]-TODAY())/30)>1,\"Between 2 and 1\",\"Less than 1\"))","v":{"$error":"#VALUE!"}},{"$f":"IF(Table112[[#This Row],[Issued]]=\"\",\"\",IF(Table112[[#This Row],[Lent]]=\"\",0,1))","v":""},{"$f":"IF(Table112[[#This Row],[Lent]]=\"\",\"\",IF(Table112[[#This Row],[Returned]]=\"\",0,1))","v":""}]
[{"$nulls":11},{"$f":"IF(IF(Table112[[#This Row],[Disposition]]=\"Retired\",\"N/A\",IF(Table112[[#This Row],[Disposition]]=0,\"\",Table112[[#This Row],[Calibrated]]+$F$2))=0+$F$2,\"NEVER CALIBRATED\",IF(Table112[[#This Row],[Disposition]]=\"Retired\",\"N/A\",IF(Table112[[#This Row],[Disposition]]=0,\"\",Table112[[#This Row],[Calibrated]]+$F$2)))","v":""},{"$f":"IF(Table112[[#This Row],[Disposition]]=\"\",\"\",IF(AND(Table112[[#This Row],[Next Calibration]]<$E$1,Table112[[#This Row],[Disposition]]=\"Lost\"),\"Find and Calibrate\",IF(Table112[[#This Row],[Disposition]]=\"Lost\",\"Find\",IF(OR(Table112[[#This Row],[Next Calibration]]<$E$1,Table112[[#This Row],[Next Calibration]]=\"NEVER CALIBRATED\"),\"Calibrate\",\"Nominal\"))))","v":""},{"$f":"IF(((Table112[[#This Row],[Next Calibration]]-TODAY())/30)>2,\"More Than 2\",IF(((Table112[[#This Row],[Next Calibration]]-TODAY())/30)>1,\"Between 2 and 1\",\"Less than 1\"))","v":{"$error":"#VALUE!"}},{"$f":"IF(Table112[[#This Row],[Issued]]=\"\",\"\",IF(Table112[[#This Row],[Lent]]=\"\",0,1))","v":""},{"$f":"IF(Table112[[#This Row],[Lent]]=\"\",\"\",IF(Table112[[#This Row],[Returned]]=\"\",0,1))","v":""}]
[{"$nulls":11},{"$f":"IF(IF(Table112[[#This Row],[Disposition]]=\"Retired\",\"N/A\",IF(Table112[[#This Row],[Disposition]]=0,\"\",Table112[[#This Row],[Calibrated]]+$F$2))=0+$F$2,\"NEVER CALIBRATED\",IF(Table112[[#This Row],[Disposition]]=\"Retired\",\"N/A\",IF(Table112[[#This Row],[Disposition]]=0,\"\",Table112[[#This Row],[Calibrated]]+$F$2)))","v":""},{"$f":"IF(Table112[[#This Row],[Disposition]]=\"\",\"\",IF(AND(Table112[[#This Row],[Next Calibration]]<$E$1,Table112[[#This Row],[Disposition]]=\"Lost\"),\"Find and Calibrate\",IF(Table112[[#This Row],[Disposition]]=\"Lost\",\"Find\",IF(OR(Table112[[#This Row],[Next Calibration]]<$E$1,Table112[[#This Row],[Next Calibration]]=\"NEVER CALIBRATED\"),\"Calibrate\",\"Nominal\"))))","v":""},{"$f":"IF(((Table112[[#This Row],[Next Calibration]]-TODAY())/30)>2,\"More Than 2\",IF(((Table112[[#This Row],[Next Calibration]]-TODAY())/30)>1,\"Between 2 and 1\",\"Less than 1\"))","v":{"$error":"#VALUE!"}},{"$f":"IF(Table112[[#This Row],[Issued]]=\"\",\"\",IF(Table112[[#This Row],[Lent]]=\"\",0,1))","v":""},{"$f":"IF(Table112[[#This Row],[Lent]]=\"\",\"\",IF(Table112[[#This Row],[Returned]]=\"\",0,1))","v":""}]
[{"$nulls":11},{"$f":"IF(IF(Table112[[#This Row],[Disposition]]=\"Retired\",\"N/A\",IF(Table112[[#This Row],[Disposition]]=0,\"\",Table112[[#This Row],[Calibrated]]+$F$2))=0+$F$2,\"NEVER CALIBRATED\",IF(Table112[[#This Row],[Disposition]]=\"Retired\",\"N/A\",IF(Table112[[#This Row],[Disposition]]=0,\"\",Table112[[#This Row],[Calibrated]]+$F$2)))","v":""},{"$f":"IF(Table112[[#This Row],[Disposition]]=\"\",\"\",IF(AND(Table112[[#This Row],[Next Calibration]]<$E$1,Table112[[#This Row],[Disposition]]=\"Lost\"),\"Find and Calibrate\",IF(Table112[[#This Row],[Disposition]]=\"Lost\",\"Find\",IF(OR(Table112[[#This Row],[Next Calibration]]<$E$1,Table112[[#This Row],[Next Calibration]]=\"NEVER CALIBRATED\"),\"Calibrate\",\"Nominal\"))))","v":""},{"$f":"IF(((Table112[[#This Row],[Next Calibration]]-TODAY())/30)>2,\"More Than 2\",IF(((Table112[[#This Row],[Next Calibration]]-TODAY())/30)>1,\"Between 2 and 1\",\"Less than 1\"))","v":{"$error":"#VALUE!"}},{"$f":"IF(Table112[[#This Row],[Issued]]=\"\",\"\",IF(Table112[[#This Row],[Lent]]=\"\",0,1))","v":""},{"$f":"IF(Table112[[#This Row],[Lent]]=\"\",\"\",IF(Table112[[#This Row],[Returned]]=\"\",0,1))","v":""}]
[{"$nulls":11},{"$f":"IF(IF(Table112[[#This Row],[Disposition]]=\"Retired\",\"N/A\",IF(Table112[[#This Row],[Disposition]]=0,\"\",Table112[[#This Row],[Calibrated]]+$F$2))=0+$F$2,\"NEVER CALIBRATED\",IF(Table112[[#This Row],[Disposition]]=\"Retired\",\"N/A\",IF(Table112[[#This Row],[Disposition]]=0,\"\",Table112[[#This Row],[Calibrated]]+$F$2)))","v":""},{"$f":"IF(Table112[[#This Row],[Disposition]]=\"\",\"\",IF(AND(Table112[[#This Row],[Next Calibration]]<$E$1,Table112[[#This Row],[Disposition]]=\"Lost\"),\"Find and Calibrate\",IF(Table112[[#This Row],[Disposition]]=\"Lost\",\"Find\",IF(OR(Table112[[#This Row],[Next Calibration]]<$E$1,Table112[[#This Row],[Next Calibration]]=\"NEVER CALIBRATED\"),\"Calibrate\",\"Nominal\"))))","v":""},{"$f":"IF(((Table112[[#This Row],[Next Calibration]]-TODAY())/30)>2,\"More Than 2\",IF(((Table112[[#This Row],[Next Calibration]]-TODAY())/30)>1,\"Between 2 and 1\",\"Less than 1\"))","v":{"$error":"#VALUE!"}},{"$f":"IF(Table112[[#This Row],[Issued]]=\"\",\"\",IF(Table112[[#This Row],[Lent]]=\"\",0,1))","v":""},{"$f":"IF(Table112[[#This Row],[Lent]]=\"\",\"\",IF(Table112[[#This Row],[Returned]]=\"\",0,1))","v":""}]
[{"$nulls":11},{"$f":"IF(IF(Table112[[#This Row],[Disposition]]=\"Retired\",\"N/A\",IF(Table112[[#This Row],[Disposition]]=0,\"\",Table112[[#This Row],[Calibrated]]+$F$2))=0+$F$2,\"NEVER CALIBRATED\",IF(Table112[[#This Row],[Disposition]]=\"Retired\",\"N/A\",IF(Table112[[#This Row],[Disposition]]=0,\"\",Table112[[#This Row],[Calibrated]]+$F$2)))","v":""},{"$f":"IF(Table112[[#This Row],[Disposition]]=\"\",\"\",IF(AND(Table112[[#This Row],[Next Calibration]]<$E$1,Table112[[#This Row],[Disposition]]=\"Lost\"),\"Find and Calibrate\",IF(Table112[[#This Row],[Disposition]]=\"Lost\",\"Find\",IF(OR(Table112[[#This Row],[Next Calibration]]<$E$1,Table112[[#This Row],[Next Calibration]]=\"NEVER CALIBRATED\"),\"Calibrate\",\"Nominal\"))))","v":""},{"$f":"IF(((Table112[[#This Row],[Next Calibration]]-TODAY())/30)>2,\"More Than 2\",IF(((Table112[[#This Row],[Next Calibration]]-TODAY())/30)>1,\"Between 2 and 1\",\"Less than 1\"))","v":{"$error":"#VALUE!"}},{"$f":"IF(Table112[[#This Row],[Issued]]=\"\",\"\",IF(Table112[[#This Row],[Lent]]=\"\",0,1))","v":""},{"$f":"IF(Table112[[#This Row],[Lent]]=\"\",\"\",IF(Table112[[#This Row],[Returned]]=\"\",0,1))","v":""}]
[{"$nulls":11},{"$f":"IF(IF(Table112[[#This Row],[Disposition]]=\"Retired\",\"N/A\",IF(Table112[[#This Row],[Disposition]]=0,\"\",Table112[[#This Row],[Calibrated]]+$F$2))=0+$F$2,\"NEVER CALIBRATED\",IF(Table112[[#This Row],[Disposition]]=\"Retired\",\"N/A\",IF(Table112[[#This Row],[Disposition]]=0,\"\",Table112[[#This Row],[Calibrated]]+$F$2)))","v":""},{"$f":"IF(Table112[[#This Row],[Disposition]]=\"\",\"\",IF(AND(Table112[[#This Row],[Next Calibration]]<$E$1,Table112[[#This Row],[Disposition]]=\"Lost\"),\"Find and Calibrate\",IF(Table112[[#This Row],[Disposition]]=\"Lost\",\"Find\",IF(OR(Table112[[#This Row],[Next Calibration]]<$E$1,Table112[[#This Row],[Next Calibration]]=\"NEVER CALIBRATED\"),\"Calibrate\",\"Nominal\"))))","v":""},{"$f":"IF(((Table112[[#This Row],[Next Calibration]]-TODAY())/30)>2,\"More Than 2\",IF(((Table112[[#This Row],[Next Calibration]]-TODAY())/30)>1,\"Between 2 and 1\",\"Less than 1\"))","v":{"$error":"#VALUE!"}},{"$f":"IF(Table112[[#This Row],[Issued]]=\"\",\"\",IF(Table112[[#This Row],[Lent]]=\"\",0,1))","v":""},{"$f":"IF(Table112[[#This Row],[Lent]]=\"\",\"\",IF(Table112[[#This Row],[Returned]]=\"\",0,1))","v":""}]
[{"$nulls":11},{"$f":"IF(IF(Table112[[#This Row],[Disposition]]=\"Retired\",\"N/A\",IF(Table112[[#This Row],[Disposition]]=0,\"\",Table112[[#This Row],[Calibrated]]+$F$2))=0+$F$2,\"NEVER CALIBRATED\",IF(Table112[[#This Row],[Disposition]]=\"Retired\",\"N/A\",IF(Table112[[#This Row],[Disposition]]=0,\"\",Table112[[#This Row],[Calibrated]]+$F$2)))","v":""},{"$f":"IF(Table112[[#This Row],[Disposition]]=\"\",\"\",IF(AND(Table112[[#This Row],[Next Calibration]]<$E$1,Table112[[#This Row],[Disposition]]=\"Lost\"),\"Find and Calibrate\",IF(Table112[[#This Row],[Disposition]]=\"Lost\",\"Find\",IF(OR(Table112[[#This Row],[Next Calibration]]<$E$1,Table112[[#This Row],[Next Calibration]]=\"NEVER CALIBRATED\"),\"Calibrate\",\"Nominal\"))))","v":""},{"$f":"IF(((Table112[[#This Row],[Next Calibration]]-TODAY())/30)>2,\"More Than 2\",IF(((Table112[[#This Row],[Next Calibration]]-TODAY())/30)>1,\"Between 2 and 1\",\"Less than 1\"))","v":{"$error":"#VALUE!"}},{"$f":"IF(Table112[[#This Row],[Issued]]=\"\",\"\",IF(Table112[[#This Row],[Lent]]=\"\",0,1))","v":""},{"$f":"IF(Table112[[#This Row],[Lent]]=\"\",\"\",IF(Table112[[#This Row],[Returned]]=\"\",0,1))","v":""}]
[{"$nulls":11},{"$f":"IF(IF(Table112[[#This Row],[Disposition]]=\"Retired\",\"N/A\",IF(Table112[[#This Row],[Disposition]]=0,\"\",Table112[[#This Row],[Calibrated]]+$F$2))=0+$F$2,\"NEVER CALIBRATED\",IF(Table112[[#This Row],[Disposition]]=\"Retired\",\"N/A\",IF(Table112[[#This Row],[Disposition]]=0,\"\",Table112[[#This Row],[Calibrated]]+$F$2)))","v":""},{"$f":"IF(Table112[[#This Row],[Disposition]]=\"\",\"\",IF(AND(Table112[[#This Row],[Next Calibration]]<$E$1,Table112[[#This Row],[Disposition]]=\"Lost\"),\"Find and Calibrate\",IF(Table112[[#This Row],[Disposition]]=\"Lost\",\"Find\",IF(OR(Table112[[#This Row],[Next Calibration]]<$E$1,Table112[[#This Row],[Next Calibration]]=\"NEVER CALIBRATED\"),\"Calibrate\",\"Nominal\"))))","v":""},{"$f":"IF(((Table112[[#This Row],[Next Calibration]]-TODAY())/30)>2,\"More Than 2\",IF(((Table112[[#This Row],[Next Calibration]]-TODAY())/30)>1,\"Between 2 and 1\",\"Less than 1\"))","v":{"$error":"#VALUE!"}},{"$f":"IF(Table112[[#This Row],[Issued]]=\"\",\"\",IF(Table112[[#This Row],[Lent]]=\"\",0,1))","v":""},{"$f":"IF(Table112[[#This Row],[Lent]]=\"\",\"\",IF(Table112[[#This Row],[Returned]]=\"\",0,1))","v":""}]
[{"$nulls":11},{"$f":"IF(IF(Table112[[#This Row],[Disposition]]=\"Retired\",\"N/A\",IF(Table112[[#This Row],[Disposition]]=0,\"\",Table112[[#This Row],[Calibrated]]+$F$2))=0+$F$2,\"NEVER CALIBRATED\",IF(Table112[[#This Row],[Disposition]]=\"Retired\",\"N/A\",IF(Table112[[#This Row],[Disposition]]=0,\"\",Table112[[#This Row],[Calibrated]]+$F$2)))","v":""},{"$f":"IF(Table112[[#This Row],[Disposition]]=\"\",\"\",IF(AND(Table112[[#This Row],[Next Calibration]]<$E$1,Table112[[#This Row],[Disposition]]=\"Lost\"),\"Find and Calibrate\",IF(Table112[[#This Row],[Disposition]]=\"Lost\",\"Find\",IF(OR(Table112[[#This Row],[Next Calibration]]<$E$1,Table112[[#This Row],[Next Calibration]]=\"NEVER CALIBRATED\"),\"Calibrate\",\"Nominal\"))))","v":""},{"$f":"IF(((Table112[[#This Row],[Next Calibration]]-TODAY())/30)>2,\"More Than 2\",IF(((Table112[[#This Row],[Next Calibration]]-TODAY())/30)>1,\"Between 2 and 1\",\"Less than 1\"))","v":{"$error":"#VALUE!"}},{"$f":"IF(Table112[[#This Row],[Issued]]=\"\",\"\",IF(Table112[[#This Row],[Lent]]=\"\",0,1))","v":""},{"$f":"IF(Table112[[#This Row],[Lent]]=\"\",\"\",IF(Table112[[#This Row],[Returned]]=\"\",0,1))","v":""}]
[{"$nulls":11},{"$f":"IF(IF(Table112[[#This Row],[Disposition]]=\"Retired\",\"N/A\",IF(Table112[[#This Row],[Disposition]]=0,\"\",Table112[[#This Row],[Calibrated]]+$F$2))=0+$F$2,\"NEVER CALIBRATED\",IF(Table112[[#This Row],[Disposition]]=\"Retired\",\"N/A\",IF(Table112[[#This Row],[Disposition]]=0,\"\",Table112[[#This Row],[Calibrated]]+$F$2)))","v":""},{"$f":"IF(Table112[[#This Row],[Disposition]]=\"\",\"\",IF(AND(Table112[[#This Row],[Next Calibration]]<$E$1,Table112[[#This Row],[Disposition]]=\"Lost\"),\"Find and Calibrate\",IF(Table112[[#This Row],[Disposition]]=\"Lost\",\"Find\",IF(OR(Table112[[#This Row],[Next Calibration]]<$E$1,Table112[[#This Row],[Next Calibration]]=\"NEVER CALIBRATED\"),\"Calibrate\",\"Nominal\"))))","v":""},{"$f":"IF(((Table112[[#This Row],[Next Calibration]]-TODAY())/30)>2,\"More Than 2\",IF(((Table112[[#This Row],[Next Calibration]]-TODAY())/30)>1,\"Between 2 and 1\",\"Less than 1\"))","v":{"$error":"#VALUE!"}},{"$f":"IF(Table112[[#This Row],[Issued]]=\"\",\"\",IF(Table112[[#This Row],[Lent]]=\"\",0,1))","v":""},{"$f":"IF(Table112[[#This Row],[Lent]]=\"\",\"\",IF(Table112[[#This Row],[Returned]]=\"\",0,1))","v":""}]
[{"$nulls":11},{"$f":"IF(IF(Table112[[#This Row],[Disposition]]=\"Retired\",\"N/A\",IF(Table112[[#This Row],[Disposition]]=0,\"\",Table112[[#This Row],[Calibrated]]+$F$2))=0+$F$2,\"NEVER CALIBRATED\",IF(Table112[[#This Row],[Disposition]]=\"Retired\",\"N/A\",IF(Table112[[#This Row],[Disposition]]=0,\"\",Table112[[#This Row],[Calibrated]]+$F$2)))","v":""},{"$f":"IF(Table112[[#This Row],[Disposition]]=\"\",\"\",IF(AND(Table112[[#This Row],[Next Calibration]]<$E$1,Table112[[#This Row],[Disposition]]=\"Lost\"),\"Find and Calibrate\",IF(Table112[[#This Row],[Disposition]]=\"Lost\",\"Find\",IF(OR(Table112[[#This Row],[Next Calibration]]<$E$1,Table112[[#This Row],[Next Calibration]]=\"NEVER CALIBRATED\"),\"Calibrate\",\"Nominal\"))))","v":""},{"$f":"IF(((Table112[[#This Row],[Next Calibration]]-TODAY())/30)>2,\"More Than 2\",IF(((Table112[[#This Row],[Next Calibration]]-TODAY())/30)>1,\"Between 2 and 1\",\"Less than 1\"))","v":{"$error":"#VALUE!"}},{"$f":"IF(Table112[[#This Row],[Issued]]=\"\",\"\",IF(Table112[[#This Row],[Lent]]=\"\",0,1))","v":""},{"$f":"IF(Table112[[#This Row],[Lent]]=\"\",\"\",IF(Table112[[#This Row],[Returned]]=\"\",0,1))","v":""}]
[{"$nulls":11},{"$f":"IF(IF(Table112[[#This Row],[Disposition]]=\"Retired\",\"N/A\",IF(Table112[[#This Row],[Disposition]]=0,\"\",Table112[[#This Row],[Calibrated]]+$F$2))=0+$F$2,\"NEVER CALIBRATED\",IF(Table112[[#This Row],[Disposition]]=\"Retired\",\"N/A\",IF(Table112[[#This Row],[Disposition]]=0,\"\",Table112[[#This Row],[Calibrated]]+$F$2)))","v":""},{"$f":"IF(Table112[[#This Row],[Disposition]]=\"\",\"\",IF(AND(Table112[[#This Row],[Next Calibration]]<$E$1,Table112[[#This Row],[Disposition]]=\"Lost\"),\"Find and Calibrate\",IF(Table112[[#This Row],[Disposition]]=\"Lost\",\"Find\",IF(OR(Table112[[#This Row],[Next Calibration]]<$E$1,Table112[[#This Row],[Next Calibration]]=\"NEVER CALIBRATED\"),\"Calibrate\",\"Nominal\"))))","v":""},{"$f":"IF(((Table112[[#This Row],[Next Calibration]]-TODAY())/30)>2,\"More Than 2\",IF(((Table112[[#This Row],[Next Calibration]]-TODAY())/30)>1,\"Between 2 and 1\",\"Less than 1\"))","v":{"$error":"#VALUE!"}},{"$f":"IF(Table112[[#This Row],[Issued]]=\"\",\"\",IF(Table112[[#This Row],[Lent]]=\"\",0,1))","v":""},{"$f":"IF(Table112[[#This Row],[Lent]]=\"\",\"\",IF(Table112[[#This Row],[Returned]]=\"\",0,1))","v":""}]
[{"$nulls":11},{"$f":"IF(IF(Table112[[#This Row],[Disposition]]=\"Retired\",\"N/A\",IF(Table112[[#This Row],[Disposition]]=0,\"\",Table112[[#This Row],[Calibrated]]+$F$2))=0+$F$2,\"NEVER CALIBRATED\",IF(Table112[[#This Row],[Disposition]]=\"Retired\",\"N/A\",IF(Table112[[#This Row],[Disposition]]=0,\"\",Table112[[#This Row],[Calibrated]]+$F$2)))","v":""},{"$f":"IF(Table112[[#This Row],[Disposition]]=\"\",\"\",IF(AND(Table112[[#This Row],[Next Calibration]]<$E$1,Table112[[#This Row],[Disposition]]=\"Lost\"),\"Find and Calibrate\",IF(Table112[[#This Row],[Disposition]]=\"Lost\",\"Find\",IF(OR(Table112[[#This Row],[Next Calibration]]<$E$1,Table112[[#This Row],[Next Calibration]]=\"NEVER CALIBRATED\"),\"Calibrate\",\"Nominal\"))))","v":""},{"$f":"IF(((Table112[[#This Row],[Next Calibration]]-TODAY())/30)>2,\"More Than 2\",IF(((Table112[[#This Row],[Next Calibration]]-TODAY())/30)>1,\"Between 2 and 1\",\"Less than 1\"))","v":{"$error":"#VALUE!"}},{"$f":"IF(Table112[[#This Row],[Issued]]=\"\",\"\",IF(Table112[[#This Row],[Lent]]=\"\",0,1))","v":""},{"$f":"IF(Table112[[#This Row],[Lent]]=\"\",\"\",IF(Table112[[#This Row],[Returned]]=\"\",0,1))","v":""}]
[{"$nulls":11},{"$f":"IF(IF(Table112[[#This Row],[Disposition]]=\"Retired\",\"N/A\",IF(Table112[[#This Row],[Disposition]]=0,\"\",Table112[[#This Row],[Calibrated]]+$F$2))=0+$F$2,\"NEVER CALIBRATED\",IF(Table112[[#This Row],[Disposition]]=\"Retired\",\"N/A\",IF(Table112[[#This Row],[Disposition]]=0,\"\",Table112[[#This Row],[Calibrated]]+$F$2)))","v":""},{"$f":"IF(Table112[[#This Row],[Disposition]]=\"\",\"\",IF(AND(Table112[[#This Row],[Next Calibration]]<$E$1,Table112[[#This Row],[Disposition]]=\"Lost\"),\"Find and Calibrate\",IF(Table112[[#This Row],[Disposition]]=\"Lost\",\"Find\",IF(OR(Table112[[#This Row],[Next Calibration]]<$E$1,Table112[[#This Row],[Next Calibration]]=\"NEVER CALIBRATED\"),\"Calibrate\",\"Nominal\"))))","v":""},{"$f":"IF(((Table112[[#This Row],[Next Calibration]]-TODAY())/30)>2,\"More Than 2\",IF(((Table112[[#This Row],[Next Calibration]]-TODAY())/30)>1,\"Between 2 and 1\",\"Less than 1\"))","v":{"$error":"#VALUE!"}},{"$f":"IF(Table112[[#This Row],[Issued]]=\"\",\"\",IF(Table112[[#This Row],[Lent]]=\"\",0,1))","v":""},{"$f":"IF(Table112[[#This Row],[Lent]]=\"\",\"\",IF(Table112[[#This Row],[Returned]]=\"\",0,1))","v":""}]
[{"$nulls":11},{"$f":"IF(IF(Table112[[#This Row],[Disposition]]=\"Retired\",\"N/A\",IF(Table112[[#This Row],[Disposition]]=0,\"\",Table112[[#This Row],[Calibrated]]+$F$2))=0+$F$2,\"NEVER CALIBRATED\",IF(Table112[[#This Row],[Disposition]]=\"Retired\",\"N/A\",IF(Table112[[#This Row],[Disposition]]=0,\"\",Table112[[#This Row],[Calibrated]]+$F$2)))","v":""},{"$f":"IF(Table112[[#This Row],[Disposition]]=\"\",\"\",IF(AND(Table112[[#This Row],[Next Calibration]]<$E$1,Table112[[#This Row],[Disposition]]=\"Lost\"),\"Find and Calibrate\",IF(Table112[[#This Row],[Disposition]]=\"Lost\",\"Find\",IF(OR(Table112[[#This Row],[Next Calibration]]<$E$1,Table112[[#This Row],[Next Calibration]]=\"NEVER CALIBRATED\"),\"Calibrate\",\"Nominal\"))))","v":""},{"$f":"IF(((Table112[[#This Row],[Next Calibration]]-TODAY())/30)>2,\"More Than 2\",IF(((Table112[[#This Row],[Next Calibration]]-TODAY())/30)>1,\"Between 2 and 1\",\"Less than 1\"))","v":{"$error":"#VALUE!"}},{"$f":"IF(Table112[[#This Row],[Issued]]=\"\",\"\",IF(Table112[[#This Row],[Lent]]=\"\",0,1))","v":""},{"$f":"IF(Table112[[#This Row],[Lent]]=\"\",\"\",IF(Table112[[#This Row],[Returned]]=\"\",0,1))","v":""}]
[{"$nulls":11},{"$f":"IF(IF(Table112[[#This Row],[Disposition]]=\"Retired\",\"N/A\",IF(Table112[[#This Row],[Disposition]]=0,\"\",Table112[[#This Row],[Calibrated]]+$F$2))=0+$F$2,\"NEVER CALIBRATED\",IF(Table112[[#This Row],[Disposition]]=\"Retired\",\"N/A\",IF(Table112[[#This Row],[Disposition]]=0,\"\",Table112[[#This Row],[Calibrated]]+$F$2)))","v":""},{"$f":"IF(Table112[[#This Row],[Disposition]]=\"\",\"\",IF(AND(Table112[[#This Row],[Next Calibration]]<$E$1,Table112[[#This Row],[Disposition]]=\"Lost\"),\"Find and Calibrate\",IF(Table112[[#This Row],[Disposition]]=\"Lost\",\"Find\",IF(OR(Table112[[#This Row],[Next Calibration]]<$E$1,Table112[[#This Row],[Next Calibration]]=\"NEVER CALIBRATED\"),\"Calibrate\",\"Nominal\"))))","v":""},{"$f":"IF(((Table112[[#This Row],[Next Calibration]]-TODAY())/30)>2,\"More Than 2\",IF(((Table112[[#This Row],[Next Calibration]]-TODAY())/30)>1,\"Between 2 and 1\",\"Less than 1\"))","v":{"$error":"#VALUE!"}},{"$f":"IF(Table112[[#This Row],[Issued]]=\"\",\"\",IF(Table112[[#This Row],[Lent]]=\"\",0,1))","v":""},{"$f":"IF(Table112[[#This Row],[Lent]]=\"\",\"\",IF(Table112[[#This Row],[Returned]]=\"\",0,1))","v":""}]
[{"$nulls":11},{"$f":"IF(IF(Table112[[#This Row],[Disposition]]=\"Retired\",\"N/A\",IF(Table112[[#This Row],[Disposition]]=0,\"\",Table112[[#This Row],[Calibrated]]+$F$2))=0+$F$2,\"NEVER CALIBRATED\",IF(Table112[[#This Row],[Disposition]]=\"Retired\",\"N/A\",IF(Table112[[#This Row],[Disposition]]=0,\"\",Table112[[#This Row],[Calibrated]]+$F$2)))","v":""},{"$f":"IF(Table112[[#This Row],[Disposition]]=\"\",\"\",IF(AND(Table112[[#This Row],[Next Calibration]]<$E$1,Table112[[#This Row],[Disposition]]=\"Lost\"),\"Find and Calibrate\",IF(Table112[[#This Row],[Disposition]]=\"Lost\",\"Find\",IF(OR(Table112[[#This Row],[Next Calibration]]<$E$1,Table112[[#This Row],[Next Calibration]]=\"NEVER CALIBRATED\"),\"Calibrate\",\"Nominal\"))))","v":""},{"$f":"IF(((Table112[[#This Row],[Next Calibration]]-TODAY())/30)>2,\"More Than 2\",IF(((Table112[[#This Row],[Next Calibration]]-TODAY())/30)>1,\"Between 2 and 1\",\"Less than 1\"))","v":{"$error":"#VALUE!"}},{"$f":"IF(Table112[[#This Row],[Issued]]=\"\",\"\",IF(Table112[[#This Row],[Lent]]=\"\",0,1))","v":""},{"$f":"IF(Table112[[#This Row],[Lent]]=\"\",\"\",IF(Table112[[#This Row],[Returned]]=\"\",0,1))","v":""}]
[{"$nulls":11},{"$f":"IF(IF(Table112[[#This Row],[Disposition]]=\"Retired\",\"N/A\",IF(Table112[[#This Row],[Disposition]]=0,\"\",Table112[[#This Row],[Calibrated]]+$F$2))=0+$F$2,\"NEVER CALIBRATED\",IF(Table112[[#This Row],[Disposition]]=\"Retired\",\"N/A\",IF(Table112[[#This Row],[Disposition]]=0,\"\",Table112[[#This Row],[Calibrated]]+$F$2)))","v":""},{"$f":"IF(Table112[[#This Row],[Disposition]]=\"\",\"\",IF(AND(Table112[[#This Row],[Next Calibration]]<$E$1,Table112[[#This Row],[Disposition]]=\"Lost\"),\"Find and Calibrate\",IF(Table112[[#This Row],[Disposition]]=\"Lost\",\"Find\",IF(OR(Table112[[#This Row],[Next Calibration]]<$E$1,Table112[[#This Row],[Next Calibration]]=\"NEVER CALIBRATED\"),\"Calibrate\",\"Nominal\"))))","v":""},{"$f":"IF(((Table112[[#This Row],[Next Calibration]]-TODAY())/30)>2,\"More Than 2\",IF(((Table112[[#This Row],[Next Calibration]]-TODAY())/30)>1,\"Between 2 and 1\",\"Less than 1\"))","v":{"$error":"#VALUE!"}},{"$f":"IF(Table112[[#This Row],[Issued]]=\"\",\"\",IF(Table112[[#This Row],[Lent]]=\"\",0,1))","v":""},{"$f":"IF(Table112[[#This Row],[Lent]]=\"\",\"\",IF(Table112[[#This Row],[Returned]]=\"\",0,1))","v":""}]
[{"$nulls":11},{"$f":"IF(IF(Table112[[#This Row],[Disposition]]=\"Retired\",\"N/A\",IF(Table112[[#This Row],[Disposition]]=0,\"\",Table112[[#This Row],[Calibrated]]+$F$2))=0+$F$2,\"NEVER CALIBRATED\",IF(Table112[[#This Row],[Disposition]]=\"Retired\",\"N/A\",IF(Table112[[#This Row],[Disposition]]=0,\"\",Table112[[#This Row],[Calibrated]]+$F$2)))","v":""},{"$f":"IF(Table112[[#This Row],[Disposition]]=\"\",\"\",IF(AND(Table112[[#This Row],[Next Calibration]]<$E$1,Table112[[#This Row],[Disposition]]=\"Lost\"),\"Find and Calibrate\",IF(Table112[[#This Row],[Disposition]]=\"Lost\",\"Find\",IF(OR(Table112[[#This Row],[Next Calibration]]<$E$1,Table112[[#This Row],[Next Calibration]]=\"NEVER CALIBRATED\"),\"Calibrate\",\"Nominal\"))))","v":""},{"$f":"IF(((Table112[[#This Row],[Next Calibration]]-TODAY())/30)>2,\"More Than 2\",IF(((Table112[[#This Row],[Next Calibration]]-TODAY())/30)>1,\"Between 2 and 1\",\"Less than 1\"))","v":{"$error":"#VALUE!"}},{"$f":"IF(Table112[[#This Row],[Issued]]=\"\",\"\",IF(Table112[[#This Row],[Lent]]=\"\",0,1))","v":""},{"$f":"IF(Table112[[#This Row],[Lent]]=\"\",\"\",IF(Table112[[#This Row],[Returned]]=\"\",0,1))","v":""}]
[{"$nulls":11},{"$f":"IF(IF(Table112[[#This Row],[Disposition]]=\"Retired\",\"N/A\",IF(Table112[[#This Row],[Disposition]]=0,\"\",Table112[[#This Row],[Calibrated]]+$F$2))=0+$F$2,\"NEVER CALIBRATED\",IF(Table112[[#This Row],[Disposition]]=\"Retired\",\"N/A\",IF(Table112[[#This Row],[Disposition]]=0,\"\",Table112[[#This Row],[Calibrated]]+$F$2)))","v":""},{"$f":"IF(Table112[[#This Row],[Disposition]]=\"\",\"\",IF(AND(Table112[[#This Row],[Next Calibration]]<$E$1,Table112[[#This Row],[Disposition]]=\"Lost\"),\"Find and Calibrate\",IF(Table112[[#This Row],[Disposition]]=\"Lost\",\"Find\",IF(OR(Table112[[#This Row],[Next Calibration]]<$E$1,Table112[[#This Row],[Next Calibration]]=\"NEVER CALIBRATED\"),\"Calibrate\",\"Nominal\"))))","v":""},{"$f":"IF(((Table112[[#This Row],[Next Calibration]]-TODAY())/30)>2,\"More Than 2\",IF(((Table112[[#This Row],[Next Calibration]]-TODAY())/30)>1,\"Between 2 and 1\",\"Less than 1\"))","v":{"$error":"#VALUE!"}},{"$f":"IF(Table112[[#This Row],[Issued]]=\"\",\"\",IF(Table112[[#This Row],[Lent]]=\"\",0,1))","v":""},{"$f":"IF(Table112[[#This Row],[Lent]]=\"\",\"\",IF(Table112[[#This Row],[Returned]]=\"\",0,1))","v":""}]
[{"$nulls":11},{"$f":"IF(IF(Table112[[#This Row],[Disposition]]=\"Retired\",\"N/A\",IF(Table112[[#This Row],[Disposition]]=0,\"\",Table112[[#This Row],[Calibrated]]+$F$2))=0+$F$2,\"NEVER CALIBRATED\",IF(Table112[[#This Row],[Disposition]]=\"Retired\",\"N/A\",IF(Table112[[#This Row],[Disposition]]=0,\"\",Table112[[#This Row],[Calibrated]]+$F$2)))","v":""},{"$f":"IF(Table112[[#This Row],[Disposition]]=\"\",\"\",IF(AND(Table112[[#This Row],[Next Calibration]]<$E$1,Table112[[#This Row],[Disposition]]=\"Lost\"),\"Find and Calibrate\",IF(Table112[[#This Row],[Disposition]]=\"Lost\",\"Find\",IF(OR(Table112[[#This Row],[Next Calibration]]<$E$1,Table112[[#This Row],[Next Calibration]]=\"NEVER CALIBRATED\"),\"Calibrate\",\"Nominal\"))))","v":""},{"$f":"IF(((Table112[[#This Row],[Next Calibration]]-TODAY())/30)>2,\"More Than 2\",IF(((Table112[[#This Row],[Next Calibration]]-TODAY())/30)>1,\"Between 2 and 1\",\"Less than 1\"))","v":{"$error":"#VALUE!"}},{"$f":"IF(Table112[[#This Row],[Issued]]=\"\",\"\",IF(Table112[[#This Row],[Lent]]=\"\",0,1))","v":""},{"$f":"IF(Table112[[#This Row],[Lent]]=\"\",\"\",IF(Table112[[#This Row],[Returned]]=\"\",0,1))","v":""}]
[{"$nulls":11},{"$f":"IF(IF(Table112[[#This Row],[Disposition]]=\"Retired\",\"N/A\",IF(Table112[[#This Row],[Disposition]]=0,\"\",Table112[[#This Row],[Calibrated]]+$F$2))=0+$F$2,\"NEVER CALIBRATED\",IF(Table112[[#This Row],[Disposition]]=\"Retired\",\"N/A\",IF(Table112[[#This Row],[Disposition]]=0,\"\",Table112[[#This Row],[Calibrated]]+$F$2)))","v":""},{"$f":"IF(Table112[[#This Row],[Disposition]]=\"\",\"\",IF(AND(Table112[[#This Row],[Next Calibration]]<$E$1,Table112[[#This Row],[Disposition]]=\"Lost\"),\"Find and Calibrate\",IF(Table112[[#This Row],[Disposition]]=\"Lost\",\"Find\",IF(OR(Table112[[#This Row],[Next Calibration]]<$E$1,Table112[[#This Row],[Next Calibration]]=\"NEVER CALIBRATED\"),\"Calibrate\",\"Nominal\"))))","v":""},{"$f":"IF(((Table112[[#This Row],[Next Calibration]]-TODAY())/30)>2,\"More Than 2\",IF(((Table112[[#This Row],[Next Calibration]]-TODAY())/30)>1,\"Between 2 and 1\",\"Less than 1\"))","v":{"$error":"#VALUE!"}},{"$f":"IF(Table112[[#This Row],[Issued]]=\"\",\"\",IF(Table112[[#This Row],[Lent]]=\"\",0,1))","v":""},{"$f":"IF(Table112[[#This Row],[Lent]]=\"\",\"\",IF(Table112[[#This Row],[Returned]]=\"\",0,1))","v":""}]
[{"$nulls":11},{"$f":"IF(IF(Table112[[#This Row],[Disposition]]=\"Retired\",\"N/A\",IF(Table112[[#This Row],[Disposition]]=0,\"\",Table112[[#This Row],[Calibrated]]+$F$2))=0+$F$2,\"NEVER CALIBRATED\",IF(Table112[[#This Row],[Disposition]]=\"Retired\",\"N/A\",IF(Table112[[#This Row],[Disposition]]=0,\"\",Table112[[#This Row],[Calibrated]]+$F$2)))","v":""},{"$f":"IF(Table112[[#This Row],[Disposition]]=\"\",\"\",IF(AND(Table112[[#This Row],[Next Calibration]]<$E$1,Table112[[#This Row],[Disposition]]=\"Lost\"),\"Find and Calibrate\",IF(Table112[[#This Row],[Disposition]]=\"Lost\",\"Find\",IF(OR(Table112[[#This Row],[Next Calibration]]<$E$1,Table112[[#This Row],[Next Calibration]]=\"NEVER CALIBRATED\"),\"Calibrate\",\"Nominal\"))))","v":""},{"$f":"IF(((Table112[[#This Row],[Next Calibration]]-TODAY())/30)>2,\"More Than 2\",IF(((Table112[[#This Row],[Next Calibration]]-TODAY())/30)>1,\"Between 2 and 1\",\"Less than 1\"))","v":{"$error":"#VALUE!"}},{"$f":"IF(Table112[[#This Row],[Issued]]=\"\",\"\",IF(Table112[[#This Row],[Lent]]=\"\",0,1))","v":""},{"$f":"IF(Table112[[#This Row],[Lent]]=\"\",\"\",IF(Table112[[#This Row],[Returned]]=\"\",0,1))","v":""}]
[{"$nulls":11},{"$f":"IF(IF(Table112[[#This Row],[Disposition]]=\"Retired\",\"N/A\",IF(Table112[[#This Row],[Disposition]]=0,\"\",Table112[[#This Row],[Calibrated]]+$F$2))=0+$F$2,\"NEVER CALIBRATED\",IF(Table112[[#This Row],[Disposition]]=\"Retired\",\"N/A\",IF(Table112[[#This Row],[Disposition]]=0,\"\",Table112[[#This Row],[Calibrated]]+$F$2)))","v":""},{"$f":"IF(Table112[[#This Row],[Disposition]]=\"\",\"\",IF(AND(Table112[[#This Row],[Next Calibration]]<$E$1,Table112[[#This Row],[Disposition]]=\"Lost\"),\"Find and Calibrate\",IF(Table112[[#This Row],[Disposition]]=\"Lost\",\"Find\",IF(OR(Table112[[#This Row],[Next Calibration]]<$E$1,Table112[[#This Row],[Next Calibration]]=\"NEVER CALIBRATED\"),\"Calibrate\",\"Nominal\"))))","v":""},{"$f":"IF(((Table112[[#This Row],[Next Calibration]]-TODAY())/30)>2,\"More Than 2\",IF(((Table112[[#This Row],[Next Calibration]]-TODAY())/30)>1,\"Between 2 and 1\",\"Less than 1\"))","v":{"$error":"#VALUE!"}},{"$f":"IF(Table112[[#This Row],[Issued]]=\"\",\"\",IF(Table112[[#This Row],[Lent]]=\"\",0,1))","v":""},{"$f":"IF(Table112[[#This Row],[Lent]]=\"\",\"\",IF(Table112[[#This Row],[Returned]]=\"\",0,1))","v":""}]
[{"$nulls":11},{"$f":"IF(IF(Table112[[#This Row],[Disposition]]=\"Retired\",\"N/A\",IF(Table112[[#This Row],[Disposition]]=0,\"\",Table112[[#This Row],[Calibrated]]+$F$2))=0+$F$2,\"NEVER CALIBRATED\",IF(Table112[[#This Row],[Disposition]]=\"Retired\",\"N/A\",IF(Table112[[#This Row],[Disposition]]=0,\"\",Table112[[#This Row],[Calibrated]]+$F$2)))","v":""},{"$f":"IF(Table112[[#This Row],[Disposition]]=\"\",\"\",IF(AND(Table112[[#This Row],[Next Calibration]]<$E$1,Table112[[#This Row],[Disposition]]=\"Lost\"),\"Find and Calibrate\",IF(Table112[[#This Row],[Disposition]]=\"Lost\",\"Find\",IF(OR(Table112[[#This Row],[Next Calibration]]<$E$1,Table112[[#This Row],[Next Calibration]]=\"NEVER CALIBRATED\"),\"Calibrate\",\"Nominal\"))))","v":""},{"$f":"IF(((Table112[[#This Row],[Next Calibration]]-TODAY())/30)>2,\"More Than 2\",IF(((Table112[[#This Row],[Next Calibration]]-TODAY())/30)>1,\"Between 2 and 1\",\"Less than 1\"))","v":{"$error":"#VALUE!"}},{"$f":"IF(Table112[[#This Row],[Issued]]=\"\",\"\",IF(Table112[[#This Row],[Lent]]=\"\",0,1))","v":""},{"$f":"IF(Table112[[#This Row],[Lent]]=\"\",\"\",IF(Table112[[#This Row],[Returned]]=\"\",0,1))","v":""}]
[{"$nulls":11},{"$f":"IF(IF(Table112[[#This Row],[Disposition]]=\"Retired\",\"N/A\",IF(Table112[[#This Row],[Disposition]]=0,\"\",Table112[[#This Row],[Calibrated]]+$F$2))=0+$F$2,\"NEVER CALIBRATED\",IF(Table112[[#This Row],[Disposition]]=\"Retired\",\"N/A\",IF(Table112[[#This Row],[Disposition]]=0,\"\",Table112[[#This Row],[Calibrated]]+$F$2)))","v":""},{"$f":"IF(Table112[[#This Row],[Disposition]]=\"\",\"\",IF(AND(Table112[[#This Row],[Next Calibration]]<$E$1,Table112[[#This Row],[Disposition]]=\"Lost\"),\"Find and Calibrate\",IF(Table112[[#This Row],[Disposition]]=\"Lost\",\"Find\",IF(OR(Table112[[#This Row],[Next Calibration]]<$E$1,Table112[[#This Row],[Next Calibration]]=\"NEVER CALIBRATED\"),\"Calibrate\",\"Nominal\"))))","v":""},{"$f":"IF(((Table112[[#This Row],[Next Calibration]]-TODAY())/30)>2,\"More Than 2\",IF(((Table112[[#This Row],[Next Calibration]]-TODAY())/30)>1,\"Between 2 and 1\",\"Less than 1\"))","v":{"$error":"#VALUE!"}},{"$f":"IF(Table112[[#This Row],[Issued]]=\"\",\"\",IF(Table112[[#This Row],[Lent]]=\"\",0,1))","v":""},{"$f":"IF(Table112[[#This Row],[Lent]]=\"\",\"\",IF(Table112[[#This Row],[Returned]]=\"\",0,1))","v":""}]
[{"$nulls":11},{"$f":"IF(IF(Table112[[#This Row],[Disposition]]=\"Retired\",\"N/A\",IF(Table112[[#This Row],[Disposition]]=0,\"\",Table112[[#This Row],[Calibrated]]+$F$2))=0+$F$2,\"NEVER CALIBRATED\",IF(Table112[[#This Row],[Disposition]]=\"Retired\",\"N/A\",IF(Table112[[#This Row],[Disposition]]=0,\"\",Table112[[#This Row],[Calibrated]]+$F$2)))","v":""},{"$f":"IF(Table112[[#This Row],[Disposition]]=\"\",\"\",IF(AND(Table112[[#This Row],[Next Calibration]]<$E$1,Table112[[#This Row],[Disposition]]=\"Lost\"),\"Find and Calibrate\",IF(Table112[[#This Row],[Disposition]]=\"Lost\",\"Find\",IF(OR(Table112[[#This Row],[Next Calibration]]<$E$1,Table112[[#This Row],[Next Calibration]]=\"NEVER CALIBRATED\"),\"Calibrate\",\"Nominal\"))))","v":""},{"$f":"IF(((Table112[[#This Row],[Next Calibration]]-TODAY())/30)>2,\"More Than 2\",IF(((Table112[[#This Row],[Next Calibration]]-TODAY())/30)>1,\"Between 2 and 1\",\"Less than 1\"))","v":{"$error":"#VALUE!"}},{"$f":"IF(Table112[[#This Row],[Issued]]=\"\",\"\",IF(Table112[[#This Row],[Lent]]=\"\",0,1))","v":""},{"$f":"IF(Table112[[#This Row],[Lent]]=\"\",\"\",IF(Table112[[#This Row],[Returned]]=\"\",0,1))","v":""}]
[{"$nulls":11},{"$f":"IF(IF(Table112[[#This Row],[Disposition]]=\"Retired\",\"N/A\",IF(Table112[[#This Row],[Disposition]]=0,\"\",Table112[[#This Row],[Calibrated]]+$F$2))=0+$F$2,\"NEVER CALIBRATED\",IF(Table112[[#This Row],[Disposition]]=\"Retired\",\"N/A\",IF(Table112[[#This Row],[Disposition]]=0,\"\",Table112[[#This Row],[Calibrated]]+$F$2)))","v":""},{"$f":"IF(Table112[[#This Row],[Disposition]]=\"\",\"\",IF(AND(Table112[[#This Row],[Next Calibration]]<$E$1,Table112[[#This Row],[Disposition]]=\"Lost\"),\"Find and Calibrate\",IF(Table112[[#This Row],[Disposition]]=\"Lost\",\"Find\",IF(OR(Table112[[#This Row],[Next Calibration]]<$E$1,Table112[[#This Row],[Next Calibration]]=\"NEVER CALIBRATED\"),\"Calibrate\",\"Nominal\"))))","v":""},{"$f":"IF(((Table112[[#This Row],[Next Calibration]]-TODAY())/30)>2,\"More Than 2\",IF(((Table112[[#This Row],[Next Calibration]]-TODAY())/30)>1,\"Between 2 and 1\",\"Less than 1\"))","v":{"$error":"#VALUE!"}},{"$f":"IF(Table112[[#This Row],[Issued]]=\"\",\"\",IF(Table112[[#This Row],[Lent]]=\"\",0,1))","v":""},{"$f":"IF(Table112[[#This Row],[Lent]]=\"\",\"\",IF(Table112[[#This Row],[Returned]]=\"\",0,1))","v":""}]
[{"$nulls":11},{"$f":"IF(IF(Table112[[#This Row],[Disposition]]=\"Retired\",\"N/A\",IF(Table112[[#This Row],[Disposition]]=0,\"\",Table112[[#This Row],[Calibrated]]+$F$2))=0+$F$2,\"NEVER CALIBRATED\",IF(Table112[[#This Row],[Disposition]]=\"Retired\",\"N/A\",IF(Table112[[#This Row],[Disposition]]=0,\"\",Table112[[#This Row],[Calibrated]]+$F$2)))","v":""},{"$f":"IF(Table112[[#This Row],[Disposition]]=\"\",\"\",IF(AND(Table112[[#This Row],[Next Calibration]]<$E$1,Table112[[#This Row],[Disposition]]=\"Lost\"),\"Find and Calibrate\",IF(Table112[[#This Row],[Disposition]]=\"Lost\",\"Find\",IF(OR(Table112[[#This Row],[Next Calibration]]<$E$1,Table112[[#This Row],[Next Calibration]]=\"NEVER CALIBRATED\"),\"Calibrate\",\"Nominal\"))))","v":""},{"$f":"IF(((Table112[[#This Row],[Next Calibration]]-TODAY())/30)>2,\"More Than 2\",IF(((Table112[[#This Row],[Next Calibration]]-TODAY())/30)>1,\"Between 2 and 1\",\"Less than 1\"))","v":{"$error":"#VALUE!"}},{"$f":"IF(Table112[[#This Row],[Issued]]=\"\",\"\",IF(Table112[[#This Row],[Lent]]=\"\",0,1))","v":""},{"$f":"IF(Table112[[#This Row],[Lent]]=\"\",\"\",IF(Table112[[#This Row],[Returned]]=\"\",0,1))","v":""}]
[{"$nulls":11},{"$f":"IF(IF(Table112[[#This Row],[Disposition]]=\"Retired\",\"N/A\",IF(Table112[[#This Row],[Disposition]]=0,\"\",Table112[[#This Row],[Calibrated]]+$F$2))=0+$F$2,\"NEVER CALIBRATED\",IF(Table112[[#This Row],[Disposition]]=\"Retired\",\"N/A\",IF(Table112[[#This Row],[Disposition]]=0,\"\",Table112[[#This Row],[Calibrated]]+$F$2)))","v":""},{"$f":"IF(Table112[[#This Row],[Disposition]]=\"\",\"\",IF(AND(Table112[[#This Row],[Next Calibration]]<$E$1,Table112[[#This Row],[Disposition]]=\"Lost\"),\"Find and Calibrate\",IF(Table112[[#This Row],[Disposition]]=\"Lost\",\"Find\",IF(OR(Table112[[#This Row],[Next Calibration]]<$E$1,Table112[[#This Row],[Next Calibration]]=\"NEVER CALIBRATED\"),\"Calibrate\",\"Nominal\"))))","v":""},{"$f":"IF(((Table112[[#This Row],[Next Calibration]]-TODAY())/30)>2,\"More Than 2\",IF(((Table112[[#This Row],[Next Calibration]]-TODAY())/30)>1,\"Between 2 and 1\",\"Less than 1\"))","v":{"$error":"#VALUE!"}},{"$f":"IF(Table112[[#This Row],[Issued]]=\"\",\"\",IF(Table112[[#This Row],[Lent]]=\"\",0,1))","v":""},{"$f":"IF(Table112[[#This Row],[Lent]]=\"\",\"\",IF(Table112[[#This Row],[Returned]]=\"\",0,1))","v":""}]
[{"$nulls":11},{"$f":"IF(IF(Table112[[#This Row],[Disposition]]=\"Retired\",\"N/A\",IF(Table112[[#This Row],[Disposition]]=0,\"\",Table112[[#This Row],[Calibrated]]+$F$2))=0+$F$2,\"NEVER CALIBRATED\",IF(Table112[[#This Row],[Disposition]]=\"Retired\",\"N/A\",IF(Table112[[#This Row],[Disposition]]=0,\"\",Table112[[#This Row],[Calibrated]]+$F$2)))","v":""},{"$f":"IF(Table112[[#This Row],[Disposition]]=\"\",\"\",IF(AND(Table112[[#This Row],[Next Calibration]]<$E$1,Table112[[#This Row],[Disposition]]=\"Lost\"),\"Find and Calibrate\",IF(Table112[[#This Row],[Disposition]]=\"Lost\",\"Find\",IF(OR(Table112[[#This Row],[Next Calibration]]<$E$1,Table112[[#This Row],[Next Calibration]]=\"NEVER CALIBRATED\"),\"Calibrate\",\"Nominal\"))))","v":""},{"$f":"IF(((Table112[[#This Row],[Next Calibration]]-TODAY())/30)>2,\"More Than 2\",IF(((Table112[[#This Row],[Next Calibration]]-TODAY())/30)>1,\"Between 2 and 1\",\"Less than 1\"))","v":{"$error":"#VALUE!"}},{"$f":"IF(Table112[[#This Row],[Issued]]=\"\",\"\",IF(Table112[[#This Row],[Lent]]=\"\",0,1))","v":""},{"$f":"IF(Table112[[#This Row],[Lent]]=\"\",\"\",IF(Table112[[#This Row],[Returned]]=\"\",0,1))","v":""}]
[{"$nulls":11},{"$f":"IF(IF(Table112[[#This Row],[Disposition]]=\"Retired\",\"N/A\",IF(Table112[[#This Row],[Disposition]]=0,\"\",Table112[[#This Row],[Calibrated]]+$F$2))=0+$F$2,\"NEVER CALIBRATED\",IF(Table112[[#This Row],[Disposition]]=\"Retired\",\"N/A\",IF(Table112[[#This Row],[Disposition]]=0,\"\",Table112[[#This Row],[Calibrated]]+$F$2)))","v":""},{"$f":"IF(Table112[[#This Row],[Disposition]]=\"\",\"\",IF(AND(Table112[[#This Row],[Next Calibration]]<$E$1,Table112[[#This Row],[Disposition]]=\"Lost\"),\"Find and Calibrate\",IF(Table112[[#This Row],[Disposition]]=\"Lost\",\"Find\",IF(OR(Table112[[#This Row],[Next Calibration]]<$E$1,Table112[[#This Row],[Next Calibration]]=\"NEVER CALIBRATED\"),\"Calibrate\",\"Nominal\"))))","v":""},{"$f":"IF(((Table112[[#This Row],[Next Calibration]]-TODAY())/30)>2,\"More Than 2\",IF(((Table112[[#This Row],[Next Calibration]]-TODAY())/30)>1,\"Between 2 and 1\",\"Less than 1\"))","v":{"$error":"#VALUE!"}},{"$f":"IF(Table112[[#This Row],[Issued]]=\"\",\"\",IF(Table112[[#This Row],[Lent]]=\"\",0,1))","v":""},{"$f":"IF(Table112[[#This Row],[Lent]]=\"\",\"\",IF(Table112[[#This Row],[Returned]]=\"\",0,1))","v":""}]
[{"$nulls":11},{"$f":"IF(IF(Table112[[#This Row],[Disposition]]=\"Retired\",\"N/A\",IF(Table112[[#This Row],[Disposition]]=0,\"\",Table112[[#This Row],[Calibrated]]+$F$2))=0+$F$2,\"NEVER CALIBRATED\",IF(Table112[[#This Row],[Disposition]]=\"Retired\",\"N/A\",IF(Table112[[#This Row],[Disposition]]=0,\"\",Table112[[#This Row],[Calibrated]]+$F$2)))","v":""},{"$f":"IF(Table112[[#This Row],[Disposition]]=\"\",\"\",IF(AND(Table112[[#This Row],[Next Calibration]]<$E$1,Table112[[#This Row],[Disposition]]=\"Lost\"),\"Find and Calibrate\",IF(Table112[[#This Row],[Disposition]]=\"Lost\",\"Find\",IF(OR(Table112[[#This Row],[Next Calibration]]<$E$1,Table112[[#This Row],[Next Calibration]]=\"NEVER CALIBRATED\"),\"Calibrate\",\"Nominal\"))))","v":""},{"$f":"IF(((Table112[[#This Row],[Next Calibration]]-TODAY())/30)>2,\"More Than 2\",IF(((Table112[[#This Row],[Next Calibration]]-TODAY())/30)>1,\"Between 2 and 1\",\"Less than 1\"))","v":{"$error":"#VALUE!"}},{"$f":"IF(Table112[[#This Row],[Issued]]=\"\",\"\",IF(Table112[[#This Row],[Lent]]=\"\",0,1))","v":""},{"$f":"IF(Table112[[#This Row],[Lent]]=\"\",\"\",IF(Table112[[#This Row],[Returned]]=\"\",0,1))","v":""}]
[{"$nulls":11},{"$f":"IF(IF(Table112[[#This Row],[Disposition]]=\"Retired\",\"N/A\",IF(Table112[[#This Row],[Disposition]]=0,\"\",Table112[[#This Row],[Calibrated]]+$F$2))=0+$F$2,\"NEVER CALIBRATED\",IF(Table112[[#This Row],[Disposition]]=\"Retired\",\"N/A\",IF(Table112[[#This Row],[Disposition]]=0,\"\",Table112[[#This Row],[Calibrated]]+$F$2)))","v":""},{"$f":"IF(Table112[[#This Row],[Disposition]]=\"\",\"\",IF(AND(Table112[[#This Row],[Next Calibration]]<$E$1,Table112[[#This Row],[Disposition]]=\"Lost\"),\"Find and Calibrate\",IF(Table112[[#This Row],[Disposition]]=\"Lost\",\"Find\",IF(OR(Table112[[#This Row],[Next Calibration]]<$E$1,Table112[[#This Row],[Next Calibration]]=\"NEVER CALIBRATED\"),\"Calibrate\",\"Nominal\"))))","v":""},{"$f":"IF(((Table112[[#This Row],[Next Calibration]]-TODAY())/30)>2,\"More Than 2\",IF(((Table112[[#This Row],[Next Calibration]]-TODAY())/30)>1,\"Between 2 and 1\",\"Less than 1\"))","v":{"$error":"#VALUE!"}},{"$f":"IF(Table112[[#This Row],[Issued]]=\"\",\"\",IF(Table112[[#This Row],[Lent]]=\"\",0,1))","v":""},{"$f":"IF(Table112[[#This Row],[Lent]]=\"\",\"\",IF(Table112[[#This Row],[Returned]]=\"\",0,1))","v":""}]
[{"$nulls":11},{"$f":"IF(IF(Table112[[#This Row],[Disposition]]=\"Retired\",\"N/A\",IF(Table112[[#This Row],[Disposition]]=0,\"\",Table112[[#This Row],[Calibrated]]+$F$2))=0+$F$2,\"NEVER CALIBRATED\",IF(Table112[[#This Row],[Disposition]]=\"Retired\",\"N/A\",IF(Table112[[#This Row],[Disposition]]=0,\"\",Table112[[#This Row],[Calibrated]]+$F$2)))","v":""},{"$f":"IF(Table112[[#This Row],[Disposition]]=\"\",\"\",IF(AND(Table112[[#This Row],[Next Calibration]]<$E$1,Table112[[#This Row],[Disposition]]=\"Lost\"),\"Find and Calibrate\",IF(Table112[[#This Row],[Disposition]]=\"Lost\",\"Find\",IF(OR(Table112[[#This Row],[Next Calibration]]<$E$1,Table112[[#This Row],[Next Calibration]]=\"NEVER CALIBRATED\"),\"Calibrate\",\"Nominal\"))))","v":""},{"$f":"IF(((Table112[[#This Row],[Next Calibration]]-TODAY())/30)>2,\"More Than 2\",IF(((Table112[[#This Row],[Next Calibration]]-TODAY())/30)>1,\"Between 2 and 1\",\"Less than 1\"))","v":{"$error":"#VALUE!"}},{"$f":"IF(Table112[[#This Row],[Issued]]=\"\",\"\",IF(Table112[[#This Row],[Lent]]=\"\",0,1))","v":""},{"$f":"IF(Table112[[#This Row],[Lent]]=\"\",\"\",IF(Table112[[#This Row],[Returned]]=\"\",0,1))","v":""}]
[{"$nulls":11},{"$f":"IF(IF(Table112[[#This Row],[Disposition]]=\"Retired\",\"N/A\",IF(Table112[[#This Row],[Disposition]]=0,\"\",Table112[[#This Row],[Calibrated]]+$F$2))=0+$F$2,\"NEVER CALIBRATED\",IF(Table112[[#This Row],[Disposition]]=\"Retired\",\"N/A\",IF(Table112[[#This Row],[Disposition]]=0,\"\",Table112[[#This Row],[Calibrated]]+$F$2)))","v":""},{"$f":"IF(Table112[[#This Row],[Disposition]]=\"\",\"\",IF(AND(Table112[[#This Row],[Next Calibration]]<$E$1,Table112[[#This Row],[Disposition]]=\"Lost\"),\"Find and Calibrate\",IF(Table112[[#This Row],[Disposition]]=\"Lost\",\"Find\",IF(OR(Table112[[#This Row],[Next Calibration]]<$E$1,Table112[[#This Row],[Next Calibration]]=\"NEVER CALIBRATED\"),\"Calibrate\",\"Nominal\"))))","v":""},{"$f":"IF(((Table112[[#This Row],[Next Calibration]]-TODAY())/30)>2,\"More Than 2\",IF(((Table112[[#This Row],[Next Calibration]]-TODAY())/30)>1,\"Between 2 and 1\",\"Less than 1\"))","v":{"$error":"#VALUE!"}},{"$f":"IF(Table112[[#This Row],[Issued]]=\"\",\"\",IF(Table112[[#This Row],[Lent]]=\"\",0,1))","v":""},{"$f":"IF(Table112[[#This Row],[Lent]]=\"\",\"\",IF(Table112[[#This Row],[Returned]]=\"\",0,1))","v":""}]
[{"$nulls":11},{"$f":"IF(IF(Table112[[#This Row],[Disposition]]=\"Retired\",\"N/A\",IF(Table112[[#This Row],[Disposition]]=0,\"\",Table112[[#This Row],[Calibrated]]+$F$2))=0+$F$2,\"NEVER CALIBRATED\",IF(Table112[[#This Row],[Disposition]]=\"Retired\",\"N/A\",IF(Table112[[#This Row],[Disposition]]=0,\"\",Table112[[#This Row],[Calibrated]]+$F$2)))","v":""},{"$f":"IF(Table112[[#This Row],[Disposition]]=\"\",\"\",IF(AND(Table112[[#This Row],[Next Calibration]]<$E$1,Table112[[#This Row],[Disposition]]=\"Lost\"),\"Find and Calibrate\",IF(Table112[[#This Row],[Disposition]]=\"Lost\",\"Find\",IF(OR(Table112[[#This Row],[Next Calibration]]<$E$1,Table112[[#This Row],[Next Calibration]]=\"NEVER CALIBRATED\"),\"Calibrate\",\"Nominal\"))))","v":""},{"$f":"IF(((Table112[[#This Row],[Next Calibration]]-TODAY())/30)>2,\"More Than 2\",IF(((Table112[[#This Row],[Next Calibration]]-TODAY())/30)>1,\"Between 2 and 1\",\"Less than 1\"))","v":{"$error":"#VALUE!"}},{"$f":"IF(Table112[[#This Row],[Issued]]=\"\",\"\",IF(Table112[[#This Row],[Lent]]=\"\",0,1))","v":""},{"$f":"IF(Table112[[#This Row],[Lent]]=\"\",\"\",IF(Table112[[#This Row],[Returned]]=\"\",0,1))","v":""}]
[{"$nulls":11},{"$f":"IF(IF(Table112[[#This Row],[Disposition]]=\"Retired\",\"N/A\",IF(Table112[[#This Row],[Disposition]]=0,\"\",Table112[[#This Row],[Calibrated]]+$F$2))=0+$F$2,\"NEVER CALIBRATED\",IF(Table112[[#This Row],[Disposition]]=\"Retired\",\"N/A\",IF(Table112[[#This Row],[Disposition]]=0,\"\",Table112[[#This Row],[Calibrated]]+$F$2)))","v":""},{"$f":"IF(Table112[[#This Row],[Disposition]]=\"\",\"\",IF(AND(Table112[[#This Row],[Next Calibration]]<$E$1,Table112[[#This Row],[Disposition]]=\"Lost\"),\"Find and Calibrate\",IF(Table112[[#This Row],[Disposition]]=\"Lost\",\"Find\",IF(OR(Table112[[#This Row],[Next Calibration]]<$E$1,Table112[[#This Row],[Next Calibration]]=\"NEVER CALIBRATED\"),\"Calibrate\",\"Nominal\"))))","v":""},{"$f":"IF(((Table112[[#This Row],[Next Calibration]]-TODAY())/30)>2,\"More Than 2\",IF(((Table112[[#This Row],[Next Calibration]]-TODAY())/30)>1,\"Between 2 and 1\",\"Less than 1\"))","v":{"$error":"#VALUE!"}},{"$f":"IF(Table112[[#This Row],[Issued]]=\"\",\"\",IF(Table112[[#This Row],[Lent]]=\"\",0,1))","v":""},{"$f":"IF(Table112[[#This Row],[Lent]]=\"\",\"\",IF(Table112[[#This Row],[Returned]]=\"\",0,1))","v":""}]
[{"$nulls":11},{"$f":"IF(IF(Table112[[#This Row],[Disposition]]=\"Retired\",\"N/A\",IF(Table112[[#This Row],[Disposition]]=0,\"\",Table112[[#This Row],[Calibrated]]+$F$2))=0+$F$2,\"NEVER CALIBRATED\",IF(Table112[[#This Row],[Disposition]]=\"Retired\",\"N/A\",IF(Table112[[#This Row],[Disposition]]=0,\"\",Table112[[#This Row],[Calibrated]]+$F$2)))","v":""},{"$f":"IF(Table112[[#This Row],[Disposition]]=\"\",\"\",IF(AND(Table112[[#This Row],[Next Calibration]]<$E$1,Table112[[#This Row],[Disposition]]=\"Lost\"),\"Find and Calibrate\",IF(Table112[[#This Row],[Disposition]]=\"Lost\",\"Find\",IF(OR(Table112[[#This Row],[Next Calibration]]<$E$1,Table112[[#This Row],[Next Calibration]]=\"NEVER CALIBRATED\"),\"Calibrate\",\"Nominal\"))))","v":""},{"$f":"IF(((Table112[[#This Row],[Next Calibration]]-TODAY())/30)>2,\"More Than 2\",IF(((Table112[[#This Row],[Next Calibration]]-TODAY())/30)>1,\"Between 2 and 1\",\"Less than 1\"))","v":{"$error":"#VALUE!"}},{"$f":"IF(Table112[[#This Row],[Issued]]=\"\",\"\",IF(Table112[[#This Row],[Lent]]=\"\",0,1))","v":""},{"$f":"IF(Table112[[#This Row],[Lent]]=\"\",\"\",IF(Table112[[#This Row],[Returned]]=\"\",0,1))","v":""}]
[{"$nulls":11},{"$f":"IF(IF(Table112[[#This Row],[Disposition]]=\"Retired\",\"N/A\",IF(Table112[[#This Row],[Disposition]]=0,\"\",Table112[[#This Row],[Calibrated]]+$F$2))=0+$F$2,\"NEVER CALIBRATED\",IF(Table112[[#This Row],[Disposition]]=\"Retired\",\"N/A\",IF(Table112[[#This Row],[Disposition]]=0,\"\",Table112[[#This Row],[Calibrated]]+$F$2)))","v":""},{"$f":"IF(Table112[[#This Row],[Disposition]]=\"\",\"\",IF(AND(Table112[[#This Row],[Next Calibration]]<$E$1,Table112[[#This Row],[Disposition]]=\"Lost\"),\"Find and Calibrate\",IF(Table112[[#This Row],[Disposition]]=\"Lost\",\"Find\",IF(OR(Table112[[#This Row],[Next Calibration]]<$E$1,Table112[[#This Row],[Next Calibration]]=\"NEVER CALIBRATED\"),\"Calibrate\",\"Nominal\"))))","v":""},{"$f":"IF(((Table112[[#This Row],[Next Calibration]]-TODAY())/30)>2,\"More Than 2\",IF(((Table112[[#This Row],[Next Calibration]]-TODAY())/30)>1,\"Between 2 and 1\",\"Less than 1\"))","v":{"$error":"#VALUE!"}},{"$f":"IF(Table112[[#This Row],[Issued]]=\"\",\"\",IF(Table112[[#This Row],[Lent]]=\"\",0,1))","v":""},{"$f":"IF(Table112[[#This Row],[Lent]]=\"\",\"\",IF(Table112[[#This Row],[Returned]]=\"\",0,1))","v":""}]

{"sheet":"Micrometer","index":3,"n_rows":203,"n_cols":16,"rows_kept":203,"merged":[[0,0,1,2],[0,9,1,9],[0,10,0,11],[1,10,1,11],[3,0,4,0]]}
["Micrometer",null,null,"Date",{"$f":"TODAY()","v":"2021-04-27"},"Calibration Frequency (days)",{"$nulls":3},"Key","Personal Tool",null,"Adjustabe"]
[{"$nulls":3},"Time",{"$f":"NOW()","v":44313.375952546296},365,{"$nulls":4},"Attention",null,"DO NOT EDIT"]
[]
["Tool Modification"]
[]
[]
["Gauge #","Lent To","Shift","Work Area","Brand","Disposition","Personal (1/0)","Issued","Lent","Returned","Calibrated","Next Calibration","Action Required","count down","Lent (1/0)","Returned (1/0)"]
[72087741,"Cunningham, Bobby","1st","Office (Front)","Mitutoyo 1-2\"","Accounted For",null,"2021-01-20","2021-01-20",null,"2021-01-20",{"$f":"IF(IF(Table16[[#This Row],[Disposition]]=\"Retired\",\"N/A\",IF(Table16[[#This Row],[Disposition]]=0,\"\",K8+$F$2))=0+$F$2,\"NEVER CALIBRATED\",IF(Table16[[#This Row],[Disposition]]=\"Retired\",\"N/A\",IF(Table16[[#This Row],[Disposition]]=0,\"\",K8+$F$2)))","v":"2022-01-20"},{"$f":"IF(Table16[[#This Row],[Disposition]]=\"\",\"\",IF(AND(Table16[[#This Row],[Next Calibration]]<$E$1,Table16[[#This Row],[Disposition]]=\"Lost\"),\"Find and Calibrate\",IF(Table16[[#This Row],[Disposition]]=\"Lost\",\"Find\",IF(OR(Table16[[#This Row],[Next Calibration]]<$E$1,Table16[[#This Row],[Next Calibration]]=\"NEVER CALIBRATED\"),\"Calibrate\",\"Nominal\"))))","v":"Nominal"},{"$f":"IF(((Table16[[#This Row],[Next Calibration]]-TODAY())/30)>2,\"More Than 2\",IF(((Table16[[#This Row],[Next Calibration]]-TODAY())/30)>1,\"Between 2 and 1\",\"Less than 1\"))","v":"More Than 2"},{"$f":"IF(Table16[[#This Row],[Issued]]=\"\",\"\",IF(Table16[[#This Row],[Lent]]=\"\",0,1))","v":{"v":1,"d":"1.00"}},{"$f":"IF(Table16[[#This Row],[Lent]]=\"\",\"\",IF(Table16[[#This Row],[Returned]]=\"\",0,1))","v":{"v":0,"d":"0.00"}}]
["293-721-30","NO PERSON SPECIFIED","NO SHIFT SPECIFIED","Presses (Automatic)","Mitutoyo 0-1\" Ball","Accounted For",null,"2021-02-12","2021-02-12",null,"2021-02-12",{"$f":"IF(IF(Table16[[#This Row],[Disposition]]=\"Retired\",\"N/A\",IF(Table16[[#This Row],[Disposition]]=0,\"\",K9+$F$2))=0+$F$2,\"NEVER CALIBRATED\",IF(Table16[[#This Row],[Disposition]]=\"Retired\",\"N/A\",IF(Table16[[#This Row],[Disposition]]=0,\"\",K9+$F$2)))","v":"2022-02-12"},{"$f":"IF(Table16[[#This Row],[Disposition]]=\"\",\"\",IF(AND(Table16[[#This Row],[Next Calibration]]<$E$1,Table16[[#This Row],[Disposition]]=\"Lost\"),\"Find and Calibrate\",IF(Table16[[#This Row],[Disposition]]=\"Lost\",\"Find\",IF(OR(Table16[[#This Row],[Next Calibration]]<$E$1,Table16[[#This Row],[Next Calibration]]=\"NEVER CALIBRATED\"),\"Calibrate\",\"Nominal\"))))","v":"Nominal"},{"$f":"IF(((Table16[[#This Row],[Next Calibration]]-TODAY())/30)>2,\"More Than 2\",IF(((Table16[[#This Row],[Next Calibration]]-TODAY())/30)>1,\"Between 2 and 1\",\"Less than 1\"))","v":"More Than 2"},{"$f":"IF(Table16[[#This Row],[Issued]]=\"\",\"\",IF(Table16[[#This Row],[Lent]]=\"\",0,1))","v":{"v":1,"d":"1.00"}},{"$f":"IF(Table16[[#This Row],[Lent]]=\"\",\"\",IF(Table16[[#This Row],[Returned]]=\"\",0,1))","v":{"v":0,"d":"0.00"}}]
["115-253","NO PERSON SPECIFIED","NO SHIFT SPECIFIED","Presses (Automatic)","Mitutoyo 0-1\" Ball","Accounted For",null,"2021-02-12","2021-02-12",null,"2021-02-12",{"$f":"IF(IF(Table16[[#This Row],[Disposition]]=\"Retired\",\"N/A\",IF(Table16[[#This Row],[Disposition]]=0,\"\",K10+$F$2))=0+$F$2,\"NEVER CALIBRATED\",IF(Table16[[#This Row],[Disposition]]=\"Retired\",\"N/A\",IF(Table16[[#This Row],[Disposition]]=0,\"\",K10+$F$2)))","v":"2022-02-12"},{"$f":"IF(Table16[[#This Row],[Disposition]]=\"\",\"\",IF(AND(Table16[[#This Row],[Next Calibration]]<$E$1,Table16[[#This Row],[Disposition]]=\"Lost\"),\"Find and Calibrate\",IF(Table16[[#This Row],[Disposition]]=\"Lost\",\"Find\",IF(OR(Table16[[#This Row],[Next Calibration]]<$E$1,Table16[[#This Row],[Next Calibration]]=\"NEVER CALIBRATED\"),\"Calibrate\",\"Nominal\"))))","v":"Nominal"},{"$f":"IF(((Table16[[#This Row],[Next Calibration]]-TODAY())/30)>2,\"More Than 2\",IF(((Table16[[#This Row],[Next Calibration]]-TODAY())/30)>1,\"Between 2 and 1\",\"Less than 1\"))","v":"More Than 2"},{"$f":"IF(Table16[[#This Row],[Issued]]=\"\",\"\",IF(Table16[[#This Row],[Lent]]=\"\",0,1))","v":{"v":1,"d":"1.00"}},{"$f":"IF(Table16[[#This Row],[Lent]]=\"\",\"\",IF(Table16[[#This Row],[Returned]]=\"\",0,1))","v":{"v":0,"d":"0.00"}}]
["J0001","Cunningham, Bobby","1st","Presses (Automatic)","Mitutoyo 0-1\" Ball","Accounted For",null,"2021-02-12","2021-02-12",null,"2021-02-12",{"$f":"IF(IF(Table16[[#This Row],[Disposition]]=\"Retired\",\"N/A\",IF(Table16[[#This Row],[Disposition]]=0,\"\",K11+$F$2))=0+$F$2,\"NEVER CALIBRATED\",IF(Table16[[#This Row],[Disposition]]=\"Retired\",\"N/A\",IF(Table16[[#This Row],[Disposition]]=0,\"\",K11+$F$2)))","v":"2022-02-12"},{"$f":"IF(Table16[[#This Row],[Disposition]]=\"\",\"\",IF(AND(Table16[[#This Row],[Next Calibration]]<$E$1,Table16[[#This Row],[Disposition]]=\"Lost\"),\"Find and Calibrate\",IF(Table16[[#This Row],[Disposition]]=\"Lost\",\"Find\",IF(OR(Table16[[#This Row],[Next Calibration]]<$E$1,Table16[[#This Row],[Next Calibration]]=\"NEVER CALIBRATED\"),\"Calibrate\",\"Nominal\"))))","v":"Nominal"},{"$f":"IF(((Table16[[#This Row],[Next Calibration]]-TODAY())/30)>2,\"More Than 2\",IF(((Table16[[#This Row],[Next Calibration]]-TODAY())/30)>1,\"Between 2 and 1\",\"Less than 1\"))","v":"More Than 2"},{"$f":"IF(Table16[[#This Row],[Issued]]=\"\",\"\",IF(Table16[[#This Row],[Lent]]=\"\",0,1))","v":{"v":1,"d":"1.00"}},{"$f":"IF(Table16[[#This Row],[Lent]]=\"\",\"\",IF(Table16[[#This Row],[Returned]]=\"\",0,1))","v":{"v":0,"d":"0.00"}}]
["17-753-5","Cunningham, Bobby","1st","Presses (Automatic)","SPI 0-1\" Ball","Accounted For",null,"2021-02-12","2021-02-12",null,"2021-02-12",{"$f":"IF(IF(Table16[[#This Row],[Disposition]]=\"Retired\",\"N/A\",IF(Table16[[#This Row],[Disposition]]=0,\"\",K12+$F$2))=0+$F$2,\"NEVER CALIBRATED\",IF(Table16[[#This Row],[Disposition]]=\"Retired\",\"N/A\",IF(Table16[[#This Row],[Disposition]]=0,\"\",K12+$F$2)))","v":"2022-02-12"},{"$f":"IF(Table16[[#This Row],[Disposition]]=\"\",\"\",IF(AND(Table16[[#This Row],[Next Calibration]]<$E$1,Table16[[#This Row],[Disposition]]=\"Lost\"),\"Find and Calibrate\",IF(Table16[[#This Row],[Disposition]]=\"Lost\",\"Find\",IF(OR(Table16[[#This Row],[Next Calibration]]<$E$1,Table16[[#This Row],[Next Calibration]]=\"NEVER CALIBRATED\"),\"Calibrate\",\"Nominal\"))))","v":"Nominal"},{"$f":"IF(((Table16[[#This Row],[Next Calibration]]-TODAY())/30)>2,\"More Than 2\",IF(((Table16[[#This Row],[Next Calibration]]-TODAY())/30)>1,\"Between 2 and 1\",\"Less than 1\"))","v":"More Than 2"},{"$f":"IF(Table16[[#This Row],[Issued]]=\"\",\"\",IF(Table16[[#This Row],[Lent]]=\"\",0,1))","v":{"v":1,"d":"1.00"}},{"$f":"IF(Table16[[#This Row],[Lent]]=\"\",\"\",IF(Table16[[#This Row],[Returned]]=\"\",0,1))","v":{"v":0,"d":"0.00"}}]
[150464545,"NO PERSON SPECIFIED","NO SHIFT SPECIFIED","Presses (Automatic)","NO BRAND SPECIFIED","Accounted For",null,"2021-02-12","2021-02-12",null,"2021-02-12",{"$f":"IF(IF(Table16[[#This Row],[Disposition]]=\"Retired\",\"N/A\",IF(Table16[[#This Row],[Disposition]]=0,\"\",K13+$F$2))=0+$F$2,\"NEVER CALIBRATED\",IF(Table16[[#This Row],[Disposition]]=\"Retired\",\"N/A\",IF(Table16[[#This Row],[Disposition]]=0,\"\",K13+$F$2)))","v":"2022-02-12"},{"$f":"IF(Table16[[#This Row],[Disposition]]=\"\",\"\",IF(AND(Table16[[#This Row],[Next Calibration]]<$E$1,Table16[[#This Row],[Disposition]]=\"Lost\"),\"Find and Calibrate\",IF(Table16[[#This Row],[Disposition]]=\"Lost\",\"Find\",IF(OR(Table16[[#This Row],[Next Calibration]]<$E$1,Table16[[#This Row],[Next Calibration]]=\"NEVER CALIBRATED\"),\"Calibrate\",\"Nominal\"))))","v":"Nominal"},{"$f":"IF(((Table16[[#This Row],[Next Calibration]]-TODAY())/30)>2,\"More Than 2\",IF(((Table16[[#This Row],[Next Calibration]]-TODAY())/30)>1,\"Between 2 and 1\",\"Less than 1\"))","v":"More Than 2"},{"$f":"IF(Table16[[#This Row],[Issued]]=\"\",\"\",IF(Table16[[#This Row],[Lent]]=\"\",0,1))","v":{"v":1,"d":"1.00"}},{"$f":"IF(Table16[[#This Row],[Lent]]=\"\",\"\",IF(Table16[[#This Row],[Returned]]=\"\",0,1))","v":{"v":0,"d":"0.00"}}]
[150731803,"NO PERSON SPECIFIED","NO SHIFT SPECIFIED","Presses (Automatic)","Fowler 0-1\" Ball","Accounted For",null,"2021-02-12","2021-02-12",null,"2021-02-12",{"$f":"IF(IF(Table16[[#This Row],[Disposition]]=\"Retired\",\"N/A\",IF(Table16[[#This Row],[Disposition]]=0,\"\",K14+$F$2))=0+$F$2,\"NEVER CALIBRATED\",IF(Table16[[#This Row],[Disposition]]=\"Retired\",\"N/A\",IF(Table16[[#This Row],[Disposition]]=0,\"\",K14+$F$2)))","v":"2022-02-12"},{"$f":"IF(Table16[[#This Row],[Disposition]]=\"\",\"\",IF(AND(Table16[[#This Row],[Next Calibration]]<$E$1,Table16[[#This Row],[Disposition]]=\"Lost\"),\"Find and Calibrate\",IF(Table16[[#This Row],[Disposition]]=\"Lost\",\"Find\",IF(OR(Table16[[#This Row],[Next Calibration]]<$E$1,Table16[[#This Row],[Next Calibration]]=\"NEVER CALIBRATED\"),\"Calibrate\",\"Nominal\"))))","v":"Nominal"},{"$f":"IF(((Table16[[#This Row],[Next Calibration]]-TODAY())/30)>2,\"More Than 2\",IF(((Table16[[#This Row],[Next Calibration]]-TODAY())/30)>1,\"Between 2 and 1\",\"Less than 1\"))","v":"More Than 2"},{"$f":"IF(Table16[[#This Row],[Issued]]=\"\",\"\",IF(Table16[[#This Row],[Lent]]=\"\",0,1))","v":{"v":1,"d":"1.00"}},{"$f":"IF(Table16[[#This Row],[Lent]]=\"\",\"\",IF(Table16[[#This Row],[Returned]]=\"\",0,1))","v":{"v":0,"d":"0.00"}}]
[170525360,"Cunningham, Bobby","1st","Presses (Automatic)","SPI 0-1\" Ball","Accounted For",null,"2021-02-12","2021-02-12",null,"2021-02-12",{"$f":"IF(IF(Table16[[#This Row],[Disposition]]=\"Retired\",\"N/A\",IF(Table16[[#This Row],[Disposition]]=0,\"\",K15+$F$2))=0+$F$2,\"NEVER CALIBRATED\",IF(Table16[[#This Row],[Disposition]]=\"Retired\",\"N/A\",IF(Table16[[#This Row],[Disposition]]=0,\"\",K15+$F$2)))","v":"2022-02-12"},{"$f":"IF(Table16[[#This Row],[Disposition]]=\"\",\"\",IF(AND(Table16[[#This Row],[Next Calibration]]<$E$1,Table16[[#This Row],[Disposition]]=\"Lost\"),\"Find and Calibrate\",IF(Table16[[#This Row],[Disposition]]=\"Lost\",\"Find\",IF(OR(Table16[[#This Row],[Next Calibration]]<$E$1,Table16[[#This Row],[Next Calibration]]=\"NEVER CALIBRATED\"),\"Calibrate\",\"Nominal\"))))","v":"Nominal"},{"$f":"IF(((Table16[[#This Row],[Next Calibration]]-TODAY())/30)>2,\"More Than 2\",IF(((Table16[[#This Row],[Next Calibration]]-TODAY())/30)>1,\"Between 2 and 1\",\"Less than 1\"))","v":"More Than 2"},{"$f":"IF(Table16[[#This Row],[Issued]]=\"\",\"\",IF(Table16[[#This Row],[Lent]]=\"\",0,1))","v":{"v":1,"d":"1.00"}},{"$f":"IF(Table16[[#This Row],[Lent]]=\"\",\"\",IF(Table16[[#This Row],[Returned]]=\"\",0,1))","v":{"v":0,"d":"0.00"}}]
["J0002","Cunningham, Bobby","1st","Presses (Automatic)","Mitutoyo 0-1\"","Accounted For",null,{"v":44243,"d":"44243.00"},"2021-02-16",null,"2021-02-16",{"$f":"IF(IF(Table16[[#This Row],[Disposition]]=\"Retired\",\"N/A\",IF(Table16[[#This Row],[Disposition]]=0,\"\",Calipers!K30+$F$2))=0+$F$2,\"NEVER CALIBRATED\",IF(Table16[[#This Row],[Disposition]]=\"Retired\",\"N/A\",IF(Table16[[#This Row],[Disposition]]=0,\"\",Calipers!K30+$F$2)))","v":"2022-02-02"},{"$f":"IF(Table16[[#This Row],[Disposition]]=\"\",\"\",IF(AND(Table16[[#This Row],[Next Calibration]]<$E$1,Table16[[#This Row],[Disposition]]=\"Lost\"),\"Find and Calibrate\",IF(Table16[[#This Row],[Disposition]]=\"Lost\",\"Find\",IF(OR(Table16[[#This Row],[Next Calibration]]<$E$1,Table16[[#This Row],[Next Calibration]]=\"NEVER CALIBRATED\"),\"Calibrate\",\"Nominal\"))))","v":"Nominal"},{"$f":"IF(((Table16[[#This Row],[Next Calibration]]-TODAY())/30)>2,\"More Than 2\",IF(((Table16[[#This Row],[Next Calibration]]-TODAY())/30)>1,\"Between 2 and 1\",\"Less than 1\"))","v":"More Than 2"},{"$f":"IF(Table16[[#This Row],[Issued]]=\"\",\"\",IF(Table16[[#This Row],[Lent]]=\"\",0,1))","v":{"v":1,"d":"1.00"}},{"$f":"IF(Table16[[#This Row],[Lent]]=\"\",\"\",IF(Table16[[#This Row],[Returned]]=\"\",0,1))","v":{"v":0,"d":"0.00"}}]
["M1922","Cunningham, Bobby","1st","Inline Hydromats","Mitutoyo 0-1\" Blade","Accounted For",null,"2021-02-16","2021-02-16",null,"2021-02-16",{"$f":"IF(IF(Table16[[#This Row],[Disposition]]=\"Retired\",\"N/A\",IF(Table16[[#This Row],[Disposition]]=0,\"\",K17+$F$2))=0+$F$2,\"NEVER CALIBRATED\",IF(Table16[[#This Row],[Disposition]]=\"Retired\",\"N/A\",IF(Table16[[#This Row],[Disposition]]=0,\"\",K17+$F$2)))","v":"2022-02-16"},{"$f":"IF(Table16[[#This Row],[Disposition]]=\"\",\"\",IF(AND(Table16[[#This Row],[Next Calibration]]<$E$1,Table16[[#This Row],[Disposition]]=\"Lost\"),\"Find and Calibrate\",IF(Table16[[#This Row],[Disposition]]=\"Lost\",\"Find\",IF(OR(Table16[[#This Row],[Next Calibration]]<$E$1,Table16[[#This Row],[Next Calibration]]=\"NEVER CALIBRATED\"),\"Calibrate\",\"Nominal\"))))","v":"Nominal"},{"$f":"IF(((Table16[[#This Row],[Next Calibration]]-TODAY())/30)>2,\"More Than 2\",IF(((Table16[[#This Row],[Next Calibration]]-TODAY())/30)>1,\"Between 2 and 1\",\"Less than 1\"))","v":"More Than 2"},{"$f":"IF(Table16[[#This Row],[Issued]]=\"\",\"\",IF(Table16[[#This Row],[Lent]]=\"\",0,1))","v":{"v":1,"d":"1.00"}},{"$f":"IF(Table16[[#This Row],[Lent]]=\"\",\"\",IF(Table16[[#This Row],[Returned]]=\"\",0,1))","v":{"v":0,"d":"0.00"}}]
[51110281,"Cunningham, Bobby","1st","Inline Hydromats","Fowler 0-1\"","Accounted For",null,"2021-02-16","2021-02-16",null,"2021-02-16",{"$f":"IF(IF(Table16[[#This Row],[Disposition]]=\"Retired\",\"N/A\",IF(Table16[[#This Row],[Disposition]]=0,\"\",K18+$F$2))=0+$F$2,\"NEVER CALIBRATED\",IF(Table16[[#This Row],[Disposition]]=\"Retired\",\"N/A\",IF(Table16[[#This Row],[Disposition]]=0,\"\",K18+$F$2)))","v":"2022-02-16"},{"$f":"IF(Table16[[#This Row],[Disposition]]=\"\",\"\",IF(AND(Table16[[#This Row],[Next Calibration]]<$E$1,Table16[[#This Row],[Disposition]]=\"Lost\"),\"Find and Calibrate\",IF(Table16[[#This Row],[Disposition]]=\"Lost\",\"Find\",IF(OR(Table16[[#This Row],[Next Calibration]]<$E$1,Table16[[#This Row],[Next Calibration]]=\"NEVER CALIBRATED\"),\"Calibrate\",\"Nominal\"))))","v":"Nominal"},{"$f":"IF(((Table16[[#This Row],[Next Calibration]]-TODAY())/30)>2,\"More Than 2\",IF(((Table16[[#This Row],[Next Calibration]]-TODAY())/30)>1,\"Between 2 and 1\",\"Less than 1\"))","v":"More Than 2"},{"$f":"IF(Table16[[#This Row],[Issued]]=\"\",\"\",IF(Table16[[#This Row],[Lent]]=\"\",0,1))","v":{"v":1,"d":"1.00"}},{"$f":"IF(Table16[[#This Row],[Lent]]=\"\",\"\",IF(Table16[[#This Row],[Returned]]=\"\",0,1))","v":{"v":0,"d":"0.00"}}]
["M1524","NO PERSON SPECIFIED","NO SHIFT SPECIFIED","Presses (Automatic)","Starret 0-1\"","Accounted For",null,"2021-02-16","2021-02-16",null,"2021-02-16",{"$f":"IF(IF(Table16[[#This Row],[Disposition]]=\"Retired\",\"N/A\",IF(Table16[[#This Row],[Disposition]]=0,\"\",K19+$F$2))=0+$F$2,\"NEVER CALIBRATED\",IF(Table16[[#This Row],[Disposition]]=\"Retired\",\"N/A\",IF(Table16[[#This Row],[Disposition]]=0,\"\",K19+$F$2)))","v":"2022-02-16"},{"$f":"IF(Table16[[#This Row],[Disposition]]=\"\",\"\",IF(AND(Table16[[#This Row],[Next Calibration]]<$E$1,Table16[[#This Row],[Disposition]]=\"Lost\"),\"Find and Calibrate\",IF(Table16[[#This Row],[Disposition]]=\"Lost\",\"Find\",IF(OR(Table16[[#This Row],[Next Calibration]]<$E$1,Table16[[#This Row],[Next Calibration]]=\"NEVER CALIBRATED\"),\"Calibrate\",\"Nominal\"))))","v":"Nominal"},{"$f":"IF(((Table16[[#This Row],[Next Calibration]]-TODAY())/30)>2,\"More Than 2\",IF(((Table16[[#This Row],[Next Calibration]]-TODAY())/30)>1,\"Between 2 and 1\",\"Less than 1\"))","v":"More Than 2"},{"$f":"IF(Table16[[#This Row],[Issued]]=\"\",\"\",IF(Table16[[#This Row],[Lent]]=\"\",0,1))","v":{"v":1,"d":"1.00"}},{"$f":"IF(Table16[[#This Row],[Lent]]=\"\",\"\",IF(Table16[[#This Row],[Returned]]=\"\",0,1))","v":{"v":0,"d":"0.00"}}]
[9066143,"Cunningham, Bobby","1st","EHRT","Mitutoyo 0-1\"","Accounted For",null,"2021-02-16","2021-02-16",null,"2021-02-16",{"$f":"IF(IF(Table16[[#This Row],[Disposition]]=\"Retired\",\"N/A\",IF(Table16[[#This Row],[Disposition]]=0,\"\",K20+$F$2))=0+$F$2,\"NEVER CALIBRATED\",IF(Table16[[#This Row],[Disposition]]=\"Retired\",\"N/A\",IF(Table16[[#This Row],[Disposition]]=0,\"\",K20+$F$2)))","v":"2022-02-16"},{"$f":"IF(Table16[[#This Row],[Disposition]]=\"\",\"\",IF(AND(Table16[[#This Row],[Next Calibration]]<$E$1,Table16[[#This Row],[Disposition]]=\"Lost\"),\"Find and Calibrate\",IF(Table16[[#This Row],[Disposition]]=\"Lost\",\"Find\",IF(OR(Table16[[#This Row],[Next Calibration]]<$E$1,Table16[[#This Row],[Next Calibration]]=\"NEVER CALIBRATED\"),\"Calibrate\",\"Nominal\"))))","v":"Nominal"},{"$f":"IF(((Table16[[#This Row],[Next Calibration]]-TODAY())/30)>2,\"More Than 2\",IF(((Table16[[#This Row],[Next Calibration]]-TODAY())/30)>1,\"Between 2 and 1\",\"Less than 1\"))","v":"More Than 2"},{"$f":"IF(Table16[[#This Row],[Issued]]=\"\",\"\",IF(Table16[[#This Row],[Lent]]=\"\",0,1))","v":{"v":1,"d":"1.00"}},{"$f":"IF(Table16[[#This Row],[Lent]]=\"\",\"\",IF(Table16[[#This Row],[Returned]]=\"\",0,1))","v":{"v":0,"d":"0.00"}}]
["J0003","NO PERSON SPECIFIED","NO SHIFT SPECIFIED","Large CNCs","SPI 1-2\"","Accounted For",null,"2021-02-16","2021-02-16",null,"2021-02-16",{"$f":"IF(IF(Table16[[#This Row],[Disposition]]=\"Retired\",\"N/A\",IF(Table16[[#This Row],[Disposition]]=0,\"\",K21+$F$2))=0+$F$2,\"NEVER CALIBRATED\",IF(Table16[[#This Row],[Disposition]]=\"Retired\",\"N/A\",IF(Table16[[#This Row],[Disposition]]=0,\"\",K21+$F$2)))","v":"2022-02-16"},{"$f":"IF(Table16[[#This Row],[Disposition]]=\"\",\"\",IF(AND(Table16[[#This Row],[Next Calibration]]<$E$1,Table16[[#This Row],[Disposition]]=\"Lost\"),\"Find and Calibrate\",IF(Table16[[#This Row],[Disposition]]=\"Lost\",\"Find\",IF(OR(Table16[[#This Row],[Next Calibration]]<$E$1,Table16[[#This Row],[Next Calibration]]=\"NEVER CALIBRATED\"),\"Calibrate\",\"Nominal\"))))","v":"Nominal"},{"$f":"IF(((Table16[[#This Row],[Next Calibration]]-TODAY())/30)>2,\"More Than 2\",IF(((Table16[[#This Row],[Next Calibration]]-TODAY())/30)>1,\"Between 2 and 1\",\"Less than 1\"))","v":"More Than 2"},{"$f":"IF(Table16[[#This Row],[Issued]]=\"\",\"\",IF(Table16[[#This Row],[Lent]]=\"\",0,1))","v":{"v":1,"d":"1.00"}},{"$f":"IF(Table16[[#This Row],[Lent]]=\"\",\"\",IF(Table16[[#This Row],[Returned]]=\"\",0,1))","v":{"v":0,"d":"0.00"}}]
["M1214","NO PERSON SPECIFIED","NO SHIFT SPECIFIED","Large CNCs","Starrett 0-1\" Blades","Accounted For",null,"2021-02-16","2021-02-16",null,"2021-02-16",{"$f":"IF(IF(Table16[[#This Row],[Disposition]]=\"Retired\",\"N/A\",IF(Table16[[#This Row],[Disposition]]=0,\"\",K22+$F$2))=0+$F$2,\"NEVER CALIBRATED\",IF(Table16[[#This Row],[Disposition]]=\"Retired\",\"N/A\",IF(Table16[[#This Row],[Disposition]]=0,\"\",K22+$F$2)))","v":"2022-02-16"},{"$f":"IF(Table16[[#This Row],[Disposition]]=\"\",\"\",IF(AND(Table16[[#This Row],[Next Calibration]]<$E$1,Table16[[#This Row],[Disposition]]=\"Lost\"),\"Find and Calibrate\",IF(Table16[[#This Row],[Disposition]]=\"Lost\",\"Find\",IF(OR(Table16[[#This Row],[Next Calibration]]<$E$1,Table16[[#This Row],[Next Calibration]]=\"NEVER CALIBRATED\"),\"Calibrate\",\"Nominal\"))))","v":"Nominal"},{"$f":"IF(((Table16[[#This Row],[Next Calibration]]-TODAY())/30)>2,\"More Than 2\",IF(((Table16[[#This Row],[Next Calibration]]-TODAY())/30)>1,\"Between 2 and 1\",\"Less than 1\"))","v":"More Than 2"},{"$f":"IF(Table16[[#This Row],[Issued]]=\"\",\"\",IF(Table16[[#This Row],[Lent]]=\"\",0,1))","v":{"v":1,"d":"1.00"}},{"$f":"IF(Table16[[#This Row],[Lent]]=\"\",\"\",IF(Table16[[#This Row],[Returned]]=\"\",0,1))","v":{"v":0,"d":"0.00"}}]
[150464527,"Cunningham, Bobby","1st","Large CNCs","Fowler 0-1\"","Accounted For",null,"2021-02-16","2021-02-16",null,"2021-02-16",{"$f":"IF(IF(Table16[[#This Row],[Disposition]]=\"Retired\",\"N/A\",IF(Table16[[#This Row],[Disposition]]=0,\"\",K23+$F$2))=0+$F$2,\"NEVER CALIBRATED\",IF(Table16[[#This Row],[Disposition]]=\"Retired\",\"N/A\",IF(Table16[[#This Row],[Disposition]]=0,\"\",K23+$F$2)))","v":"2022-02-16"},{"$f":"IF(Table16[[#This Row],[Disposition]]=\"\",\"\",IF(AND(Table16[[#This Row],[Next Calibration]]<$E$1,Table16[[#This Row],[Disposition]]=\"Lost\"),\"Find and Calibrate\",IF(Table16[[#This Row],[Disposition]]=\"Lost\",\"Find\",IF(OR(Table16[[#This Row],[Next Calibration]]<$E$1,Table16[[#This Row],[Next Calibration]]=\"NEVER CALIBRATED\"),\"Calibrate\",\"Nominal\"))))","v":"Nominal"},{"$f":"IF(((Table16[[#This Row],[Next Calibration]]-TODAY())/30)>2,\"More Than 2\",IF(((Table16[[#This Row],[Next Calibration]]-TODAY())/30)>1,\"Between 2 and 1\",\"Less than 1\"))","v":"More Than 2"},{"$f":"IF(Table16[[#This Row],[Issued]]=\"\",\"\",IF(Table16[[#This Row],[Lent]]=\"\",0,1))","v":{"v":1,"d":"1.00"}},{"$f":"IF(Table16[[#This Row],[Lent]]=\"\",\"\",IF(Table16[[#This Row],[Returned]]=\"\",0,1))","v":{"v":0,"d":"0.00"}}]
[66039995,"Cunningham, Bobby","1st","VMC (206)","Mitutoyo 0-1\"","Accounted For",null,"2021-02-16","2021-02-16",null,"2021-02-16",{"$f":"IF(IF(Table16[[#This Row],[Disposition]]=\"Retired\",\"N/A\",IF(Table16[[#This Row],[Disposition]]=0,\"\",K24+$F$2))=0+$F$2,\"NEVER CALIBRATED\",IF(Table16[[#This Row],[Disposition]]=\"Retired\",\"N/A\",IF(Table16[[#This Row],[Disposition]]=0,\"\",K24+$F$2)))","v":"2022-02-16"},{"$f":"IF(Table16[[#This Row],[Disposition]]=\"\",\"\",IF(AND(Table16[[#This Row],[Next Calibration]]<$E$1,Table16[[#This Row],[Disposition]]=\"Lost\"),\"Find and Calibrate\",IF(Table16[[#This Row],[Disposition]]=\"Lost\",\"Find\",IF(OR(Table16[[#This Row],[Next Calibration]]<$E$1,Table16[[#This Row],[Next Calibration]]=\"NEVER CALIBRATED\"),\"Calibrate\",\"Nominal\"))))","v":"Nominal"},{"$f":"IF(((Table16[[#This Row],[Next Calibration]]-TODAY())/30)>2,\"More Than 2\",IF(((Table16[[#This Row],[Next Calibration]]-TODAY())/30)>1,\"Between 2 and 1\",\"Less than 1\"))","v":"More Than 2"},{"$f":"IF(Table16[[#This Row],[Issued]]=\"\",\"\",IF(Table16[[#This Row],[Lent]]=\"\",0,1))","v":{"v":1,"d":"1.00"}},{"$f":"IF(Table16[[#This Row],[Lent]]=\"\",\"\",IF(Table16[[#This Row],[Returned]]=\"\",0,1))","v":{"v":0,"d":"0.00"}}]
[120330540,"Cunningham, Bobby","1st","Large CNCs","Fowler 0-1\"","Accounted For",null,"2021-02-16","2021-02-16",null,"2021-02-16",{"$f":"IF(IF(Table16[[#This Row],[Disposition]]=\"Retired\",\"N/A\",IF(Table16[[#This Row],[Disposition]]=0,\"\",K25+$F$2))=0+$F$2,\"NEVER CALIBRATED\",IF(Table16[[#This Row],[Disposition]]=\"Retired\",\"N/A\",IF(Table16[[#This Row],[Disposition]]=0,\"\",K25+$F$2)))","v":"2022-02-16"},{"$f":"IF(Table16[[#This Row],[Disposition]]=\"\",\"\",IF(AND(Table16[[#This Row],[Next Calibration]]<$E$1,Table16[[#This Row],[Disposition]]=\"Lost\"),\"Find and Calibrate\",IF(Table16[[#This Row],[Disposition]]=\"Lost\",\"Find\",IF(OR(Table16[[#This Row],[Next Calibration]]<$E$1,Table16[[#This Row],[Next Calibration]]=\"NEVER CALIBRATED\"),\"Calibrate\",\"Nominal\"))))","v":"Nominal"},{"$f":"IF(((Table16[[#This Row],[Next Calibration]]-TODAY())/30)>2,\"More Than 2\",IF(((Table16[[#This Row],[Next Calibration]]-TODAY())/30)>1,\"Between 2 and 1\",\"Less than 1\"))","v":"More Than 2"},{"$f":"IF(Table16[[#This Row],[Issued]]=\"\",\"\",IF(Table16[[#This Row],[Lent]]=\"\",0,1))","v":{"v":1,"d":"1.00"}},{"$f":"IF(Table16[[#This Row],[Lent]]=\"\",\"\",IF(Table16[[#This Row],[Returned]]=\"\",0,1))","v":{"v":0,"d":"0.00"}}]
["M1753","Cunningham, Bobby","1st","VMC (Middle Bank)","Mitutoyo 0-1\"","Accounted For",null,"2021-02-16","2021-02-16",null,"2021-02-16",{"$f":"IF(IF(Table16[[#This Row],[Disposition]]=\"Retired\",\"N/A\",IF(Table16[[#This Row],[Disposition]]=0,\"\",K26+$F$2))=0+$F$2,\"NEVER CALIBRATED\",IF(Table16[[#This Row],[Disposition]]=\"Retired\",\"N/A\",IF(Table16[[#This Row],[Disposition]]=0,\"\",K26+$F$2)))","v":"2022-02-16"},{"$f":"IF(Table16[[#This Row],[Disposition]]=\"\",\"\",IF(AND(Table16[[#This Row],[Next Calibration]]<$E$1,Table16[[#This Row],[Disposition]]=\"Lost\"),\"Find and Calibrate\",IF(Table16[[#This Row],[Disposition]]=\"Lost\",\"Find\",IF(OR(Table16[[#This Row],[Next Calibration]]<$E$1,Table16[[#This Row],[Next Calibration]]=\"NEVER CALIBRATED\"),\"Calibrate\",\"Nominal\"))))","v":"Nominal"},{"$f":"IF(((Table16[[#This Row],[Next Calibration]]-TODAY())/30)>2,\"More Than 2\",IF(((Table16[[#This Row],[Next Calibration]]-TODAY())/30)>1,\"Between 2 and 1\",\"Less than 1\"))","v":"More Than 2"},{"$f":"IF(Table16[[#This Row],[Issued]]=\"\",\"\",IF(Table16[[#This Row],[Lent]]=\"\",0,1))","v":{"v":1,"d":"1.00"}},{"$f":"IF(Table16[[#This Row],[Lent]]=\"\",\"\",IF(Table16[[#This Row],[Returned]]=\"\",0,1))","v":{"v":0,"d":"0.00"}}]
["M1165","Cunningham, Bobby","1st","VMC (Middle Bank)","Mitutoyo 1-2\"","Accounted For",null,"2021-02-16","2021-02-16",null,"2021-02-16",{"$f":"IF(IF(Table16[[#This Row],[Disposition]]=\"Retired\",\"N/A\",IF(Table16[[#This Row],[Disposition]]=0,\"\",K27+$F$2))=0+$F$2,\"NEVER CALIBRATED\",IF(Table16[[#This Row],[Disposition]]=\"Retired\",\"N/A\",IF(Table16[[#This Row],[Disposition]]=0,\"\",K27+$F$2)))","v":"2022-02-16"},{"$f":"IF(Table16[[#This Row],[Disposition]]=\"\",\"\",IF(AND(Table16[[#This Row],[Next Calibration]]<$E$1,Table16[[#This Row],[Disposition]]=\"Lost\"),\"Find and Calibrate\",IF(Table16[[#This Row],[Disposition]]=\"Lost\",\"Find\",IF(OR(Table16[[#This Row],[Next Calibration]]<$E$1,Table16[[#This Row],[Next Calibration]]=\"NEVER CALIBRATED\"),\"Calibrate\",\"Nominal\"))))","v":"Nominal"},{"$f":"IF(((Table16[[#This Row],[Next Calibration]]-TODAY())/30)>2,\"More Than 2\",IF(((Table16[[#This Row],[Next Calibration]]-TODAY())/30)>1,\"Between 2 and 1\",\"Less than 1\"))","v":"More Than 2"},{"$f":"IF(Table16[[#This Row],[Issued]]=\"\",\"\",IF(Table16[[#This Row],[Lent]]=\"\",0,1))","v":{"v":1,"d":"1.00"}},{"$f":"IF(Table16[[#This Row],[Lent]]=\"\",\"\",IF(Table16[[#This Row],[Returned]]=\"\",0,1))","v":{"v":0,"d":"0.00"}}]
["M1196","NO PERSON SPECIFIED","NO SHIFT SPECIFIED","New Britains","Brown & Sharpe 0-1\"","Accounted For",null,"2021-02-16","2021-02-16",null,"2021-02-16",{"$f":"IF(IF(Table16[[#This Row],[Disposition]]=\"Retired\",\"N/A\",IF(Table16[[#This Row],[Disposition]]=0,\"\",K28+$F$2))=0+$F$2,\"NEVER CALIBRATED\",IF(Table16[[#This Row],[Disposition]]=\"Retired\",\"N/A\",IF(Table16[[#This Row],[Disposition]]=0,\"\",K28+$F$2)))","v":"2022-02-16"},{"$f":"IF(Table16[[#This Row],[Disposition]]=\"\",\"\",IF(AND(Table16[[#This Row],[Next Calibration]]<$E$1,Table16[[#This Row],[Disposition]]=\"Lost\"),\"Find and Calibrate\",IF(Table16[[#This Row],[Disposition]]=\"Lost\",\"Find\",IF(OR(Table16[[#This Row],[Next Calibration]]<$E$1,Table16[[#This Row],[Next Calibration]]=\"NEVER CALIBRATED\"),\"Calibrate\",\"Nominal\"))))","v":"Nominal"},{"$f":"IF(((Table16[[#This Row],[Next Calibration]]-TODAY())/30)>2,\"More Than 2\",IF(((Table16[[#This Row],[Next Calibration]]-TODAY())/30)>1,\"Between 2 and 1\",\"Less than 1\"))","v":"More Than 2"},{"$f":"IF(Table16[[#This Row],[Issued]]=\"\",\"\",IF(Table16[[#This Row],[Lent]]=\"\",0,1))","v":{"v":1,"d":"1.00"}},{"$f":"IF(Table16[[#This Row],[Lent]]=\"\",\"\",IF(Table16[[#This Row],[Returned]]=\"\",0,1))","v":{"v":0,"d":"0.00"}}]
["J0006","Cunningham, Bobby","1st","Davenports","Mitutoyo 0-1\"","Accounted For",null,{"v":44243,"d":"44243.00"},"2021-02-16",null,"2021-02-16",{"$f":"IF(IF(Table16[[#This Row],[Disposition]]=\"Retired\",\"N/A\",IF(Table16[[#This Row],[Disposition]]=0,\"\",K29+$F$2))=0+$F$2,\"NEVER CALIBRATED\",IF(Table16[[#This Row],[Disposition]]=\"Retired\",\"N/A\",IF(Table16[[#This Row],[Disposition]]=0,\"\",K29+$F$2)))","v":"2022-02-16"},{"$f":"IF(Table16[[#This Row],[Disposition]]=\"\",\"\",IF(AND(Table16[[#This Row],[Next Calibration]]<$E$1,Table16[[#This Row],[Disposition]]=\"Lost\"),\"Find and Calibrate\",IF(Table16[[#This Row],[Disposition]]=\"Lost\",\"Find\",IF(OR(Table16[[#This Row],[Next Calibration]]<$E$1,Table16[[#This Row],[Next Calibration]]=\"NEVER CALIBRATED\"),\"Calibrate\",\"Nominal\"))))","v":"Nominal"},{"$f":"IF(((Table16[[#This Row],[Next Calibration]]-TODAY())/30)>2,\"More Than 2\",IF(((Table16[[#This Row],[Next Calibration]]-TODAY())/30)>1,\"Between 2 and 1\",\"Less than 1\"))","v":"More Than 2"},{"$f":"IF(Table16[[#This Row],[Issued]]=\"\",\"\",IF(Table16[[#This Row],[Lent]]=\"\",0,1))","v":{"v":1,"d":"1.00"}},{"$f":"IF(Table16[[#This Row],[Lent]]=\"\",\"\",IF(Table16[[#This Row],[Returned]]=\"\",0,1))","v":{"v":0,"d":"0.00"}}]
[51110144,"Cunningham, Bobby","1st","Davenports","Fowler 0-1\"","Accounted For",null,{"v":44243,"d":"44243.00"},"2021-02-16",null,"2021-02-16",{"$f":"IF(IF(Table16[[#This Row],[Disposition]]=\"Retired\",\"N/A\",IF(Table16[[#This Row],[Disposition]]=0,\"\",K30+$F$2))=0+$F$2,\"NEVER CALIBRATED\",IF(Table16[[#This Row],[Disposition]]=\"Retired\",\"N/A\",IF(Table16[[#This Row],[Disposition]]=0,\"\",K30+$F$2)))","v":"2022-02-16"},{"$f":"IF(Table16[[#This Row],[Disposition]]=\"\",\"\",IF(AND(Table16[[#This Row],[Next Calibration]]<$E$1,Table16[[#This Row],[Disposition]]=\"Lost\"),\"Find and Calibrate\",IF(Table16[[#This Row],[Disposition]]=\"Lost\",\"Find\",IF(OR(Table16[[#This Row],[Next Calibration]]<$E$1,Table16[[#This Row],[Next Calibration]]=\"NEVER CALIBRATED\"),\"Calibrate\",\"Nominal\"))))","v":"Nominal"},{"$f":"IF(((Table16[[#This Row],[Next Calibration]]-TODAY())/30)>2,\"More Than 2\",IF(((Table16[[#This Row],[Next Calibration]]-TODAY())/30)>1,\"Between 2 and 1\",\"Less than 1\"))","v":"More Than 2"},{"$f":"IF(Table16[[#This Row],[Issued]]=\"\",\"\",IF(Table16[[#This Row],[Lent]]=\"\",0,1))","v":{"v":1,"d":"1.00"}},{"$f":"IF(Table16[[#This Row],[Lent]]=\"\",\"\",IF(Table16[[#This Row],[Returned]]=\"\",0,1))","v":{"v":0,"d":"0.00"}}]
[17018287,"Cunningham, Bobby","1st","Laythes (Small CNC)","Mitutoyo 0-1\"","Accounted For",null,"2021-02-17","2021-02-17",null,"2021-02-17",{"$f":"IF(IF(Table16[[#This Row],[Disposition]]=\"Retired\",\"N/A\",IF(Table16[[#This Row],[Disposition]]=0,\"\",K31+$F$2))=0+$F$2,\"NEVER CALIBRATED\",IF(Table16[[#This Row],[Disposition]]=\"Retired\",\"N/A\",IF(Table16[[#This Row],[Disposition]]=0,\"\",K31+$F$2)))","v":"2022-02-17"},{"$f":"IF(Table16[[#This Row],[Disposition]]=\"\",\"\",IF(AND(Table16[[#This Row],[Next Calibration]]<$E$1,Table16[[#This Row],[Disposition]]=\"Lost\"),\"Find and Calibrate\",IF(Table16[[#This Row],[Disposition]]=\"Lost\",\"Find\",IF(OR(Table16[[#This Row],[Next Calibration]]<$E$1,Table16[[#This Row],[Next Calibration]]=\"NEVER CALIBRATED\"),\"Calibrate\",\"Nominal\"))))","v":"Nominal"},{"$f":"IF(((Table16[[#This Row],[Next Calibration]]-TODAY())/30)>2,\"More Than 2\",IF(((Table16[[#This Row],[Next Calibration]]-TODAY())/30)>1,\"Between 2 and 1\",\"Less than 1\"))","v":"More Than 2"},{"$f":"IF(Table16[[#This Row],[Issued]]=\"\",\"\",IF(Table16[[#This Row],[Lent]]=\"\",0,1))","v":{"v":1,"d":"1.00"}},{"$f":"IF(Table16[[#This Row],[Lent]]=\"\",\"\",IF(Table16[[#This Row],[Returned]]=\"\",0,1))","v":{"v":0,"d":"0.00"}}]
["M1216","Cunningham, Bobby","1st","Laythes (Small CNC)","Starrett 0-1\" Blades","Accounted For",null,"2021-02-17","2021-02-17",null,"2021-02-17",{"$f":"IF(IF(Table16[[#This Row],[Disposition]]=\"Retired\",\"N/A\",IF(Table16[[#This Row],[Disposition]]=0,\"\",K32+$F$2))=0+$F$2,\"NEVER CALIBRATED\",IF(Table16[[#This Row],[Disposition]]=\"Retired\",\"N/A\",IF(Table16[[#This Row],[Disposition]]=0,\"\",K32+$F$2)))","v":"2022-02-17"},{"$f":"IF(Table16[[#This Row],[Disposition]]=\"\",\"\",IF(AND(Table16[[#This Row],[Next Calibration]]<$E$1,Table16[[#This Row],[Disposition]]=\"Lost\"),\"Find and Calibrate\",IF(Table16[[#This Row],[Disposition]]=\"Lost\",\"Find\",IF(OR(Table16[[#This Row],[Next Calibration]]<$E$1,Table16[[#This Row],[Next Calibration]]=\"NEVER CALIBRATED\"),\"Calibrate\",\"Nominal\"))))","v":"Nominal"},{"$f":"IF(((Table16[[#This Row],[Next Calibration]]-TODAY())/30)>2,\"More Than 2\",IF(((Table16[[#This Row],[Next Calibration]]-TODAY())/30)>1,\"Between 2 and 1\",\"Less than 1\"))","v":"More Than 2"},{"$f":"IF(Table16[[#This Row],[Issued]]=\"\",\"\",IF(Table16[[#This Row],[Lent]]=\"\",0,1))","v":{"v":1,"d":"1.00"}},{"$f":"IF(Table16[[#This Row],[Lent]]=\"\",\"\",IF(Table16[[#This Row],[Returned]]=\"\",0,1))","v":{"v":0,"d":"0.00"}}]
[66715455,"NO PERSON SPECIFIED","NO SHIFT SPECIFIED","Laythes (Small CNC)","Mitutoyo 0-1\" Blade","Accounted For",null,"2021-02-17","2021-02-17",null,"2021-02-17",{"$f":"IF(IF(Table16[[#This Row],[Disposition]]=\"Retired\",\"N/A\",IF(Table16[[#This Row],[Disposition]]=0,\"\",K33+$F$2))=0+$F$2,\"NEVER CALIBRATED\",IF(Table16[[#This Row],[Disposition]]=\"Retired\",\"N/A\",IF(Table16[[#This Row],[Disposition]]=0,\"\",K33+$F$2)))","v":"2022-02-17"},{"$f":"IF(Table16[[#This Row],[Disposition]]=\"\",\"\",IF(AND(Table16[[#This Row],[Next Calibration]]<$E$1,Table16[[#This Row],[Disposition]]=\"Lost\"),\"Find and Calibrate\",IF(Table16[[#This Row],[Disposition]]=\"Lost\",\"Find\",IF(OR(Table16[[#This Row],[Next Calibration]]<$E$1,Table16[[#This Row],[Next Calibration]]=\"NEVER CALIBRATED\"),\"Calibrate\",\"Nominal\"))))","v":"Nominal"},{"$f":"IF(((Table16[[#This Row],[Next Calibration]]-TODAY())/30)>2,\"More Than 2\",IF(((Table16[[#This Row],[Next Calibration]]-TODAY())/30)>1,\"Between 2 and 1\",\"Less than 1\"))","v":"More Than 2"},{"$f":"IF(Table16[[#This Row],[Issued]]=\"\",\"\",IF(Table16[[#This Row],[Lent]]=\"\",0,1))","v":{"v":1,"d":"1.00"}},{"$f":"IF(Table16[[#This Row],[Lent]]=\"\",\"\",IF(Table16[[#This Row],[Returned]]=\"\",0,1))","v":{"v":0,"d":"0.00"}}]
[120561524,"NO PERSON SPECIFIED","NO SHIFT SPECIFIED","Laythes (Small CNC)","Insize 1\" Blades","Accounted For",null,"2021-02-17","2021-02-17",null,"2021-02-17",{"$f":"IF(IF(Table16[[#This Row],[Disposition]]=\"Retired\",\"N/A\",IF(Table16[[#This Row],[Disposition]]=0,\"\",K34+$F$2))=0+$F$2,\"NEVER CALIBRATED\",IF(Table16[[#This Row],[Disposition]]=\"Retired\",\"N/A\",IF(Table16[[#This Row],[Disposition]]=0,\"\",K34+$F$2)))","v":"2022-02-17"},{"$f":"IF(Table16[[#This Row],[Disposition]]=\"\",\"\",IF(AND(Table16[[#This Row],[Next Calibration]]<$E$1,Table16[[#This Row],[Disposition]]=\"Lost\"),\"Find and Calibrate\",IF(Table16[[#This Row],[Disposition]]=\"Lost\",\"Find\",IF(OR(Table16[[#This Row],[Next Calibration]]<$E$1,Table16[[#This Row],[Next Calibration]]=\"NEVER CALIBRATED\"),\"Calibrate\",\"Nominal\"))))","v":"Nominal"},{"$f":"IF(((Table16[[#This Row],[Next Calibration]]-TODAY())/30)>2,\"More Than 2\",IF(((Table16[[#This Row],[Next Calibration]]-TODAY())/30)>1,\"Between 2 and 1\",\"Less than 1\"))","v":"More Than 2"},{"$f":"IF(Table16[[#This Row],[Issued]]=\"\",\"\",IF(Table16[[#This Row],[Lent]]=\"\",0,1))","v":{"v":1,"d":"1.00"}},{"$f":"IF(Table16[[#This Row],[Lent]]=\"\",\"\",IF(Table16[[#This Row],[Returned]]=\"\",0,1))","v":{"v":0,"d":"0.00"}}]
["17-928-3",{"$nulls":3},"SPI 0-1\"","Accounted For",null,"2021-03-08",{"$nulls":3},{"$f":"IF(IF(Table16[[#This Row],[Disposition]]=\"Retired\",\"N/A\",IF(Table16[[#This Row],[Disposition]]=0,\"\",K35+$F$2))=0+$F$2,\"NEVER CALIBRATED\",IF(Table16[[#This Row],[Disposition]]=\"Retired\",\"N/A\",IF(Table16[[#This Row],[Disposition]]=0,\"\",K35+$F$2)))","v":"NEVER CALIBRATED"},{"$f":"IF(Table16[[#This Row],[Disposition]]=\"\",\"\",IF(AND(Table16[[#This Row],[Next Calibration]]<$E$1,Table16[[#This Row],[Disposition]]=\"Lost\"),\"Find and Calibrate\",IF(Table16[[#This Row],[Disposition]]=\"Lost\",\"Find\",IF(OR(Table16[[#This Row],[Next Calibration]]<$E$1,Table16[[#This Row],[Next Calibration]]=\"NEVER CALIBRATED\"),\"Calibrate\",\"Nominal\"))))","v":"Calibrate"},{"$f":"IF(((Table16[[#This Row],[Next Calibration]]-TODAY())/30)>2,\"More Than 2\",IF(((Table16[[#This Row],[Next Calibration]]-TODAY())/30)>1,\"Between 2 and 1\",\"Less than 1\"))","v":{"$error":"#VALUE!"}},{"$f":"IF(Table16[[#This Row],[Issued]]=\"\",\"\",IF(Table16[[#This Row],[Lent]]=\"\",0,1))","v":{"v":0,"d":"0.00"}},{"$f":"IF(Table16[[#This Row],[Lent]]=\"\",\"\",IF(Table16[[#This Row],[Returned]]=\"\",0,1))","v":""}]
[71198470,"Cunningham, Bobby","2nd","EHRT","Mitutoyo 0-1\"","Accounted For",null,"2021-03-08","2021-03-22",null,"2021-03-22",{"$f":"IF(IF(Table16[[#This Row],[Disposition]]=\"Retired\",\"N/A\",IF(Table16[[#This Row],[Disposition]]=0,\"\",K36+$F$2))=0+$F$2,\"NEVER CALIBRATED\",IF(Table16[[#This Row],[Disposition]]=\"Retired\",\"N/A\",IF(Table16[[#This Row],[Disposition]]=0,\"\",K36+$F$2)))","v":"2022-03-22"},{"$f":"IF(Table16[[#This Row],[Disposition]]=\"\",\"\",IF(AND(Table16[[#This Row],[Next Calibration]]<$E$1,Table16[[#This Row],[Disposition]]=\"Lost\"),\"Find and Calibrate\",IF(Table16[[#This Row],[Disposition]]=\"Lost\",\"Find\",IF(OR(Table16[[#This Row],[Next Calibration]]<$E$1,Table16[[#This Row],[Next Calibration]]=\"NEVER CALIBRATED\"),\"Calibrate\",\"Nominal\"))))","v":"Nominal"},{"$f":"IF(((Table16[[#This Row],[Next Calibration]]-TODAY())/30)>2,\"More Than 2\",IF(((Table16[[#This Row],[Next Calibration]]-TODAY())/30)>1,\"Between 2 and 1\",\"Less than 1\"))","v":"More Than 2"},{"$f":"IF(Table16[[#This Row],[Issued]]=\"\",\"\",IF(Table16[[#This Row],[Lent]]=\"\",0,1))","v":{"v":1,"d":"1.00"}},{"$f":"IF(Table16[[#This Row],[Lent]]=\"\",\"\",IF(Table16[[#This Row],[Returned]]=\"\",0,1))","v":{"v":0,"d":"0.00"}}]
[72198406,{"$nulls":3},"Mitutoyo 0-1\"","Accounted For",null,"2021-03-08",{"$nulls":3},{"$f":"IF(IF(Table16[[#This Row],[Disposition]]=\"Retired\",\"N/A\",IF(Table16[[#This Row],[Disposition]]=0,\"\",K37+$F$2))=0+$F$2,\"NEVER CALIBRATED\",IF(Table16[[#This Row],[Disposition]]=\"Retired\",\"N/A\",IF(Table16[[#This Row],[Disposition]]=0,\"\",K37+$F$2)))","v":"NEVER CALIBRATED"},{"$f":"IF(Table16[[#This Row],[Disposition]]=\"\",\"\",IF(AND(Table16[[#This Row],[Next Calibration]]<$E$1,Table16[[#This Row],[Disposition]]=\"Lost\"),\"Find and Calibrate\",IF(Table16[[#This Row],[Disposition]]=\"Lost\",\"Find\",IF(OR(Table16[[#This Row],[Next Calibration]]<$E$1,Table16[[#This Row],[Next Calibration]]=\"NEVER CALIBRATED\"),\"Calibrate\",\"Nominal\"))))","v":"Calibrate"},{"$f":"IF(((Table16[[#This Row],[Next Calibration]]-TODAY())/30)>2,\"More Than 2\",IF(((Table16[[#This Row],[Next Calibration]]-TODAY())/30)>1,\"Between 2 and 1\",\"Less than 1\"))","v":{"$error":"#VALUE!"}},{"$f":"IF(Table16[[#This Row],[Issued]]=\"\",\"\",IF(Table16[[#This Row],[Lent]]=\"\",0,1))","v":{"v":0,"d":"0.00"}},{"$f":"IF(Table16[[#This Row],[Lent]]=\"\",\"\",IF(Table16[[#This Row],[Returned]]=\"\",0,1))","v":""}]
[71198463,{"$nulls":3},"Mitutoyo 0-1\"","Accounted For",null,"2021-03-08",{"$nulls":3},{"$f":"IF(IF(Table16[[#This Row],[Disposition]]=\"Retired\",\"N/A\",IF(Table16[[#This Row],[Disposition]]=0,\"\",K38+$F$2))=0+$F$2,\"NEVER CALIBRATED\",IF(Table16[[#This Row],[Disposition]]=\"Retired\",\"N/A\",IF(Table16[[#This Row],[Disposition]]=0,\"\",K38+$F$2)))","v":"NEVER CALIBRATED"},{"$f":"IF(Table16[[#This Row],[Disposition]]=\"\",\"\",IF(AND(Table16[[#This Row],[Next Calibration]]<$E$1,Table16[[#This Row],[Disposition]]=\"Lost\"),\"Find and Calibrate\",IF(Table16[[#This Row],[Disposition]]=\"Lost\",\"Find\",IF(OR(Table16[[#This Row],[Next Calibration]]<$E$1,Table16[[#This Row],[Next Calibration]]=\"NEVER CALIBRATED\"),\"Calibrate\",\"Nominal\"))))","v":"Calibrate"},{"$f":"IF(((Table16[[#This Row],[Next Calibration]]-TODAY())/30)>2,\"More Than 2\",IF(((Table16[[#This Row],[Next Calibration]]-TODAY())/30)>1,\"Between 2 and 1\",\"Less than 1\"))","v":{"$error":"#VALUE!"}},{"$f":"IF(Table16[[#This Row],[Issued]]=\"\",\"\",IF(Table16[[#This Row],[Lent]]=\"\",0,1))","v":{"v":0,"d":"0.00"}},{"$f":"IF(Table16[[#This Row],[Lent]]=\"\",\"\",IF(Table16[[#This Row],[Returned]]=\"\",0,1))","v":""}]
["M1982",{"$nulls":3},"Brown & Sharpe 0-1\"","Accounted For",null,"2021-03-08",{"$nulls":3},{"$f":"IF(IF(Table16[[#This Row],[Disposition]]=\"Retired\",\"N/A\",IF(Table16[[#This Row],[Disposition]]=0,\"\",K39+$F$2))=0+$F$2,\"NEVER CALIBRATED\",IF(Table16[[#This Row],[Disposition]]=\"Retired\",\"N/A\",IF(Table16[[#This Row],[Disposition]]=0,\"\",K39+$F$2)))","v":"NEVER CALIBRATED"},{"$f":"IF(Table16[[#This Row],[Disposition]]=\"\",\"\",IF(AND(Table16[[#This Row],[Next Calibration]]<$E$1,Table16[[#This Row],[Disposition]]=\"Lost\"),\"Find and Calibrate\",IF(Table16[[#This Row],[Disposition]]=\"Lost\",\"Find\",IF(OR(Table16[[#This Row],[Next Calibration]]<$E$1,Table16[[#This Row],[Next Calibration]]=\"NEVER CALIBRATED\"),\"Calibrate\",\"Nominal\"))))","v":"Calibrate"},{"$f":"IF(((Table16[[#This Row],[Next Calibration]]-TODAY())/30)>2,\"More Than 2\",IF(((Table16[[#This Row],[Next Calibration]]-TODAY())/30)>1,\"Between 2 and 1\",\"Less than 1\"))","v":{"$error":"#VALUE!"}},{"$f":"IF(Table16[[#This Row],[Issued]]=\"\",\"\",IF(Table16[[#This Row],[Lent]]=\"\",0,1))","v":{"v":0,"d":"0.00"}},{"$f":"IF(Table16[[#This Row],[Lent]]=\"\",\"\",IF(Table16[[#This Row],[Returned]]=\"\",0,1))","v":""}]
[120328486,{"$nulls":3},"Fowler 0-1\"","Accounted For",null,"2021-03-08",{"$nulls":3},{"$f":"IF(IF(Table16[[#This Row],[Disposition]]=\"Retired\",\"N/A\",IF(Table16[[#This Row],[Disposition]]=0,\"\",K40+$F$2))=0+$F$2,\"NEVER CALIBRATED\",IF(Table16[[#This Row],[Disposition]]=\"Retired\",\"N/A\",IF(Table16[[#This Row],[Disposition]]=0,\"\",K40+$F$2)))","v":"NEVER CALIBRATED"},{"$f":"IF(Table16[[#This Row],[Disposition]]=\"\",\"\",IF(AND(Table16[[#This Row],[Next Calibration]]<$E$1,Table16[[#This Row],[Disposition]]=\"Lost\"),\"Find and Calibrate\",IF(Table16[[#This Row],[Disposition]]=\"Lost\",\"Find\",IF(OR(Table16[[#This Row],[Next Calibration]]<$E$1,Table16[[#This Row],[Next Calibration]]=\"NEVER CALIBRATED\"),\"Calibrate\",\"Nominal\"))))","v":"Calibrate"},{"$f":"IF(((Table16[[#This Row],[Next Calibration]]-TODAY())/30)>2,\"More Than 2\",IF(((Table16[[#This Row],[Next Calibration]]-TODAY())/30)>1,\"Between 2 and 1\",\"Less than 1\"))","v":{"$error":"#VALUE!"}},{"$f":"IF(Table16[[#This Row],[Issued]]=\"\",\"\",IF(Table16[[#This Row],[Lent]]=\"\",0,1))","v":{"v":0,"d":"0.00"}},{"$f":"IF(Table16[[#This Row],[Lent]]=\"\",\"\",IF(Table16[[#This Row],[Returned]]=\"\",0,1))","v":""}]
["M1528","Cunningham, Bobby","3rd","Large CNCs","Starret 0-1\"","Accounted For",null,"2021-03-08","2021-03-24",null,"2021-03-24",{"$f":"IF(IF(Table16[[#This Row],[Disposition]]=\"Retired\",\"N/A\",IF(Table16[[#This Row],[Disposition]]=0,\"\",K41+$F$2))=0+$F$2,\"NEVER CALIBRATED\",IF(Table16[[#This Row],[Disposition]]=\"Retired\",\"N/A\",IF(Table16[[#This Row],[Disposition]]=0,\"\",K41+$F$2)))","v":"2022-03-24"},{"$f":"IF(Table16[[#This Row],[Disposition]]=\"\",\"\",IF(AND(Table16[[#This Row],[Next Calibration]]<$E$1,Table16[[#This Row],[Disposition]]=\"Lost\"),\"Find and Calibrate\",IF(Table16[[#This Row],[Disposition]]=\"Lost\",\"Find\",IF(OR(Table16[[#This Row],[Next Calibration]]<$E$1,Table16[[#This Row],[Next Calibration]]=\"NEVER CALIBRATED\"),\"Calibrate\",\"Nominal\"))))","v":"Nominal"},{"$f":"IF(((Table16[[#This Row],[Next Calibration]]-TODAY())/30)>2,\"More Than 2\",IF(((Table16[[#This Row],[Next Calibration]]-TODAY())/30)>1,\"Between 2 and 1\",\"Less than 1\"))","v":"More Than 2"},{"$f":"IF(Table16[[#This Row],[Issued]]=\"\",\"\",IF(Table16[[#This Row],[Lent]]=\"\",0,1))","v":{"v":1,"d":"1.00"}},{"$f":"IF(Table16[[#This Row],[Lent]]=\"\",\"\",IF(Table16[[#This Row],[Returned]]=\"\",0,1))","v":{"v":0,"d":"0.00"}}]
["M892",{"$nulls":3},"Starrett 0-1\" Discs","Accounted For",null,"2021-03-08",{"$nulls":3},{"$f":"IF(IF(Table16[[#This Row],[Disposition]]=\"Retired\",\"N/A\",IF(Table16[[#This Row],[Disposition]]=0,\"\",K42+$F$2))=0+$F$2,\"NEVER CALIBRATED\",IF(Table16[[#This Row],[Disposition]]=\"Retired\",\"N/A\",IF(Table16[[#This Row],[Disposition]]=0,\"\",K42+$F$2)))","v":"NEVER CALIBRATED"},{"$f":"IF(Table16[[#This Row],[Disposition]]=\"\",\"\",IF(AND(Table16[[#This Row],[Next Calibration]]<$E$1,Table16[[#This Row],[Disposition]]=\"Lost\"),\"Find and Calibrate\",IF(Table16[[#This Row],[Disposition]]=\"Lost\",\"Find\",IF(OR(Table16[[#This Row],[Next Calibration]]<$E$1,Table16[[#This Row],[Next Calibration]]=\"NEVER CALIBRATED\"),\"Calibrate\",\"Nominal\"))))","v":"Calibrate"},{"$f":"IF(((Table16[[#This Row],[Next Calibration]]-TODAY())/30)>2,\"More Than 2\",IF(((Table16[[#This Row],[Next Calibration]]-TODAY())/30)>1,\"Between 2 and 1\",\"Less than 1\"))","v":{"$error":"#VALUE!"}},{"$f":"IF(Table16[[#This Row],[Issued]]=\"\",\"\",IF(Table16[[#This Row],[Lent]]=\"\",0,1))","v":{"v":0,"d":"0.00"}},{"$f":"IF(Table16[[#This Row],[Lent]]=\"\",\"\",IF(Table16[[#This Row],[Returned]]=\"\",0,1))","v":""}]
["M893",{"$nulls":3},"Starrett 0-1\" Discs","Accounted For",null,"2021-03-08",{"$nulls":3},{"$f":"IF(IF(Table16[[#This Row],[Disposition]]=\"Retired\",\"N/A\",IF(Table16[[#This Row],[Disposition]]=0,\"\",K43+$F$2))=0+$F$2,\"NEVER CALIBRATED\",IF(Table16[[#This Row],[Disposition]]=\"Retired\",\"N/A\",IF(Table16[[#This Row],[Disposition]]=0,\"\",K43+$F$2)))","v":"NEVER CALIBRATED"},{"$f":"IF(Table16[[#This Row],[Disposition]]=\"\",\"\",IF(AND(Table16[[#This Row],[Next Calibration]]<$E$1,Table16[[#This Row],[Disposition]]=\"Lost\"),\"Find and Calibrate\",IF(Table16[[#This Row],[Disposition]]=\"Lost\",\"Find\",IF(OR(Table16[[#This Row],[Next Calibration]]<$E$1,Table16[[#This Row],[Next Calibration]]=\"NEVER CALIBRATED\"),\"Calibrate\",\"Nominal\"))))","v":"Calibrate"},{"$f":"IF(((Table16[[#This Row],[Next Calibration]]-TODAY())/30)>2,\"More Than 2\",IF(((Table16[[#This Row],[Next Calibration]]-TODAY())/30)>1,\"Between 2 and 1\",\"Less than 1\"))","v":{"$error":"#VALUE!"}},{"$f":"IF(Table16[[#This Row],[Issued]]=\"\",\"\",IF(Table16[[#This Row],[Lent]]=\"\",0,1))","v":{"v":0,"d":"0.00"}},{"$f":"IF(Table16[[#This Row],[Lent]]=\"\",\"\",IF(Table16[[#This Row],[Returned]]=\"\",0,1))","v":""}]
[131112344,{"$nulls":3},"Fowler 0-1\"","Accounted For",null,"2021-03-08",{"$nulls":3},{"$f":"IF(IF(Table16[[#This Row],[Disposition]]=\"Retired\",\"N/A\",IF(Table16[[#This Row],[Disposition]]=0,\"\",K44+$F$2))=0+$F$2,\"NEVER CALIBRATED\",IF(Table16[[#This Row],[Disposition]]=\"Retired\",\"N/A\",IF(Table16[[#This Row],[Disposition]]=0,\"\",K44+$F$2)))","v":"NEVER CALIBRATED"},{"$f":"IF(Table16[[#This Row],[Disposition]]=\"\",\"\",IF(AND(Table16[[#This Row],[Next Calibration]]<$E$1,Table16[[#This Row],[Disposition]]=\"Lost\"),\"Find and Calibrate\",IF(Table16[[#This Row],[Disposition]]=\"Lost\",\"Find\",IF(OR(Table16[[#This Row],[Next Calibration]]<$E$1,Table16[[#This Row],[Next Calibration]]=\"NEVER CALIBRATED\"),\"Calibrate\",\"Nominal\"))))","v":"Calibrate"},{"$f":"IF(((Table16[[#This Row],[Next Calibration]]-TODAY())/30)>2,\"More Than 2\",IF(((Table16[[#This Row],[Next Calibration]]-TODAY())/30)>1,\"Between 2 and 1\",\"Less than 1\"))","v":{"$error":"#VALUE!"}},{"$f":"IF(Table16[[#This Row],[Issued]]=\"\",\"\",IF(Table16[[#This Row],[Lent]]=\"\",0,1))","v":{"v":0,"d":"0.00"}},{"$f":"IF(Table16[[#This Row],[Lent]]=\"\",\"\",IF(Table16[[#This Row],[Returned]]=\"\",0,1))","v":""}]
[150464561,{"$nulls":3},"Fowler 0-1\"","Accounted For",null,"2021-03-08",{"$nulls":3},{"$f":"IF(IF(Table16[[#This Row],[Disposition]]=\"Retired\",\"N/A\",IF(Table16[[#This Row],[Disposition]]=0,\"\",K45+$F$2))=0+$F$2,\"NEVER CALIBRATED\",IF(Table16[[#This Row],[Disposition]]=\"Retired\",\"N/A\",IF(Table16[[#This Row],[Disposition]]=0,\"\",K45+$F$2)))","v":"NEVER CALIBRATED"},{"$f":"IF(Table16[[#This Row],[Disposition]]=\"\",\"\",IF(AND(Table16[[#This Row],[Next Calibration]]<$E$1,Table16[[#This Row],[Disposition]]=\"Lost\"),\"Find and Calibrate\",IF(Table16[[#This Row],[Disposition]]=\"Lost\",\"Find\",IF(OR(Table16[[#This Row],[Next Calibration]]<$E$1,Table16[[#This Row],[Next Calibration]]=\"NEVER CALIBRATED\"),\"Calibrate\",\"Nominal\"))))","v":"Calibrate"},{"$f":"IF(((Table16[[#This Row],[Next Calibration]]-TODAY())/30)>2,\"More Than 2\",IF(((Table16[[#This Row],[Next Calibration]]-TODAY())/30)>1,\"Between 2 and 1\",\"Less than 1\"))","v":{"$error":"#VALUE!"}},{"$f":"IF(Table16[[#This Row],[Issued]]=\"\",\"\",IF(Table16[[#This Row],[Lent]]=\"\",0,1))","v":{"v":0,"d":"0.00"}},{"$f":"IF(Table16[[#This Row],[Lent]]=\"\",\"\",IF(Table16[[#This Row],[Returned]]=\"\",0,1))","v":""}]
[120330485,"Cunningham, Bobby","2nd","Presses (Automatic)","Fowler 0-1\"","Accounted For",null,"2021-03-08","2021-04-13",null,"2016-08-24",{"$f":"IF(IF(Table16[[#This Row],[Disposition]]=\"Retired\",\"N/A\",IF(Table16[[#This Row],[Disposition]]=0,\"\",K46+$F$2))=0+$F$2,\"NEVER CALIBRATED\",IF(Table16[[#This Row],[Disposition]]=\"Retired\",\"N/A\",IF(Table16[[#This Row],[Disposition]]=0,\"\",K46+$F$2)))","v":"2017-08-24"},{"$f":"IF(Table16[[#This Row],[Disposition]]=\"\",\"\",IF(AND(Table16[[#This Row],[Next Calibration]]<$E$1,Table16[[#This Row],[Disposition]]=\"Lost\"),\"Find and Calibrate\",IF(Table16[[#This Row],[Disposition]]=\"Lost\",\"Find\",IF(OR(Table16[[#This Row],[Next Calibration]]<$E$1,Table16[[#This Row],[Next Calibration]]=\"NEVER CALIBRATED\"),\"Calibrate\",\"Nominal\"))))","v":"Calibrate"},{"$f":"IF(((Table16[[#This Row],[Next Calibration]]-TODAY())/30)>2,\"More Than 2\",IF(((Table16[[#This Row],[Next Calibration]]-TODAY())/30)>1,\"Between 2 and 1\",\"Less than 1\"))","v":"Less than 1"},{"$f":"IF(Table16[[#This Row],[Issued]]=\"\",\"\",IF(Table16[[#This Row],[Lent]]=\"\",0,1))","v":{"v":1,"d":"1.00"}},{"$f":"IF(Table16[[#This Row],[Lent]]=\"\",\"\",IF(Table16[[#This Row],[Returned]]=\"\",0,1))","v":{"v":0,"d":"0.00"}}]
[140861627,{"$nulls":3},"Brown & Sharpe 0-1\"","Accounted For",null,"2021-03-08",null,null,"2016-08-25",{"$f":"IF(IF(Table16[[#This Row],[Disposition]]=\"Retired\",\"N/A\",IF(Table16[[#This Row],[Disposition]]=0,\"\",K47+$F$2))=0+$F$2,\"NEVER CALIBRATED\",IF(Table16[[#This Row],[Disposition]]=\"Retired\",\"N/A\",IF(Table16[[#This Row],[Disposition]]=0,\"\",K47+$F$2)))","v":"2017-08-25"},{"$f":"IF(Table16[[#This Row],[Disposition]]=\"\",\"\",IF(AND(Table16[[#This Row],[Next Calibration]]<$E$1,Table16[[#This Row],[Disposition]]=\"Lost\"),\"Find and Calibrate\",IF(Table16[[#This Row],[Disposition]]=\"Lost\",\"Find\",IF(OR(Table16[[#This Row],[Next Calibration]]<$E$1,Table16[[#This Row],[Next Calibration]]=\"NEVER CALIBRATED\"),\"Calibrate\",\"Nominal\"))))","v":"Calibrate"},{"$f":"IF(((Table16[[#This Row],[Next Calibration]]-TODAY())/30)>2,\"More Than 2\",IF(((Table16[[#This Row],[Next Calibration]]-TODAY())/30)>1,\"Between 2 and 1\",\"Less than 1\"))","v":"Less than 1"},{"$f":"IF(Table16[[#This Row],[Issued]]=\"\",\"\",IF(Table16[[#This Row],[Lent]]=\"\",0,1))","v":{"v":0,"d":"0.00"}},{"$f":"IF(Table16[[#This Row],[Lent]]=\"\",\"\",IF(Table16[[#This Row],[Returned]]=\"\",0,1))","v":""}]
["M1820",{"$nulls":3},"Brown & Sharpe 0-1\"","Accounted For",null,"2021-03-08",{"$nulls":3},{"$f":"IF(IF(Table16[[#This Row],[Disposition]]=\"Retired\",\"N/A\",IF(Table16[[#This Row],[Disposition]]=0,\"\",K48+$F$2))=0+$F$2,\"NEVER CALIBRATED\",IF(Table16[[#This Row],[Disposition]]=\"Retired\",\"N/A\",IF(Table16[[#This Row],[Disposition]]=0,\"\",K48+$F$2)))","v":"NEVER CALIBRATED"},{"$f":"IF(Table16[[#This Row],[Disposition]]=\"\",\"\",IF(AND(Table16[[#This Row],[Next Calibration]]<$E$1,Table16[[#This Row],[Disposition]]=\"Lost\"),\"Find and Calibrate\",IF(Table16[[#This Row],[Disposition]]=\"Lost\",\"Find\",IF(OR(Table16[[#This Row],[Next Calibration]]<$E$1,Table16[[#This Row],[Next Calibration]]=\"NEVER CALIBRATED\"),\"Calibrate\",\"Nominal\"))))","v":"Calibrate"},{"$f":"IF(((Table16[[#This Row],[Next Calibration]]-TODAY())/30)>2,\"More Than 2\",IF(((Table16[[#This Row],[Next Calibration]]-TODAY())/30)>1,\"Between 2 and 1\",\"Less than 1\"))","v":{"$error":"#VALUE!"}},{"$f":"IF(Table16[[#This Row],[Issued]]=\"\",\"\",IF(Table16[[#This Row],[Lent]]=\"\",0,1))","v":{"v":0,"d":"0.00"}},{"$f":"IF(Table16[[#This Row],[Lent]]=\"\",\"\",IF(Table16[[#This Row],[Returned]]=\"\",0,1))","v":""}]
[130377753,{"$nulls":3},"Fowler 0-1\"","Accounted For",null,"2021-03-08",{"$nulls":3},{"$f":"IF(IF(Table16[[#This Row],[Disposition]]=\"Retired\",\"N/A\",IF(Table16[[#This Row],[Disposition]]=0,\"\",K49+$F$2))=0+$F$2,\"NEVER CALIBRATED\",IF(Table16[[#This Row],[Disposition]]=\"Retired\",\"N/A\",IF(Table16[[#This Row],[Disposition]]=0,\"\",K49+$F$2)))","v":"NEVER CALIBRATED"},{"$f":"IF(Table16[[#This Row],[Disposition]]=\"\",\"\",IF(AND(Table16[[#This Row],[Next Calibration]]<$E$1,Table16[[#This Row],[Disposition]]=\"Lost\"),\"Find and Calibrate\",IF(Table16[[#This Row],[Disposition]]=\"Lost\",\"Find\",IF(OR(Table16[[#This Row],[Next Calibration]]<$E$1,Table16[[#This Row],[Next Calibration]]=\"NEVER CALIBRATED\"),\"Calibrate\",\"Nominal\"))))","v":"Calibrate"},{"$f":"IF(((Table16[[#This Row],[Next Calibration]]-TODAY())/30)>2,\"More Than 2\",IF(((Table16[[#This Row],[Next Calibration]]-TODAY())/30)>1,\"Between 2 and 1\",\"Less than 1\"))","v":{"$error":"#VALUE!"}},{"$f":"IF(Table16[[#This Row],[Issued]]=\"\",\"\",IF(Table16[[#This Row],[Lent]]=\"\",0,1))","v":{"v":0,"d":"0.00"}},{"$f":"IF(Table16[[#This Row],[Lent]]=\"\",\"\",IF(Table16[[#This Row],[Returned]]=\"\",0,1))","v":""}]
["6L325201",{"$nulls":3},"Brown & Sharpe 0-1\"","Accounted For",null,"2021-03-08",null,null,"2018-08-18",{"$f":"IF(IF(Table16[[#This Row],[Disposition]]=\"Retired\",\"N/A\",IF(Table16[[#This Row],[Disposition]]=0,\"\",K50+$F$2))=0+$F$2,\"NEVER CALIBRATED\",IF(Table16[[#This Row],[Disposition]]=\"Retired\",\"N/A\",IF(Table16[[#This Row],[Disposition]]=0,\"\",K50+$F$2)))","v":"2019-08-18"},{"$f":"IF(Table16[[#This Row],[Disposition]]=\"\",\"\",IF(AND(Table16[[#This Row],[Next Calibration]]<$E$1,Table16[[#This Row],[Disposition]]=\"Lost\"),\"Find and Calibrate\",IF(Table16[[#This Row],[Disposition]]=\"Lost\",\"Find\",IF(OR(Table16[[#This Row],[Next Calibration]]<$E$1,Table16[[#This Row],[Next Calibration]]=\"NEVER CALIBRATED\"),\"Calibrate\",\"Nominal\"))))","v":"Calibrate"},{"$f":"IF(((Table16[[#This Row],[Next Calibration]]-TODAY())/30)>2,\"More Than 2\",IF(((Table16[[#This Row],[Next Calibration]]-TODAY())/30)>1,\"Between 2 and 1\",\"Less than 1\"))","v":"Less than 1"},{"$f":"IF(Table16[[#This Row],[Issued]]=\"\",\"\",IF(Table16[[#This Row],[Lent]]=\"\",0,1))","v":{"v":0,"d":"0.00"}},{"$f":"IF(Table16[[#This Row],[Lent]]=\"\",\"\",IF(Table16[[#This Row],[Returned]]=\"\",0,1))","v":""}]
[3009726,{"$nulls":3},"Mitutoyo 0-1\"","Accounted For",null,"2021-03-08",null,null,"2014-06-10",{"$f":"IF(IF(Table16[[#This Row],[Disposition]]=\"Retired\",\"N/A\",IF(Table16[[#This Row],[Disposition]]=0,\"\",K51+$F$2))=0+$F$2,\"NEVER CALIBRATED\",IF(Table16[[#This Row],[Disposition]]=\"Retired\",\"N/A\",IF(Table16[[#This Row],[Disposition]]=0,\"\",K51+$F$2)))","v":"2015-06-10"},{"$f":"IF(Table16[[#This Row],[Disposition]]=\"\",\"\",IF(AND(Table16[[#This Row],[Next Calibration]]<$E$1,Table16[[#This Row],[Disposition]]=\"Lost\"),\"Find and Calibrate\",IF(Table16[[#This Row],[Disposition]]=\"Lost\",\"Find\",IF(OR(Table16[[#This Row],[Next Calibration]]<$E$1,Table16[[#This Row],[Next Calibration]]=\"NEVER CALIBRATED\"),\"Calibrate\",\"Nominal\"))))","v":"Calibrate"},{"$f":"IF(((Table16[[#This Row],[Next Calibration]]-TODAY())/30)>2,\"More Than 2\",IF(((Table16[[#This Row],[Next Calibration]]-TODAY())/30)>1,\"Between 2 and 1\",\"Less than 1\"))","v":"Less than 1"},{"$f":"IF(Table16[[#This Row],[Issued]]=\"\",\"\",IF(Table16[[#This Row],[Lent]]=\"\",0,1))","v":{"v":0,"d":"0.00"}},{"$f":"IF(Table16[[#This Row],[Lent]]=\"\",\"\",IF(Table16[[#This Row],[Returned]]=\"\",0,1))","v":""}]
["M1803",{"$nulls":3},"NO BRAND SPECIFIED","Accounted For",null,"2021-03-08",{"$nulls":3},{"$f":"IF(IF(Table16[[#This Row],[Disposition]]=\"Retired\",\"N/A\",IF(Table16[[#This Row],[Disposition]]=0,\"\",K52+$F$2))=0+$F$2,\"NEVER CALIBRATED\",IF(Table16[[#This Row],[Disposition]]=\"Retired\",\"N/A\",IF(Table16[[#This Row],[Disposition]]=0,\"\",K52+$F$2)))","v":"NEVER CALIBRATED"},{"$f":"IF(Table16[[#This Row],[Disposition]]=\"\",\"\",IF(AND(Table16[[#This Row],[Next Calibration]]<$E$1,Table16[[#This Row],[Disposition]]=\"Lost\"),\"Find and Calibrate\",IF(Table16[[#This Row],[Disposition]]=\"Lost\",\"Find\",IF(OR(Table16[[#This Row],[Next Calibration]]<$E$1,Table16[[#This Row],[Next Calibration]]=\"NEVER CALIBRATED\"),\"Calibrate\",\"Nominal\"))))","v":"Calibrate"},{"$f":"IF(((Table16[[#This Row],[Next Calibration]]-TODAY())/30)>2,\"More Than 2\",IF(((Table16[[#This Row],[Next Calibration]]-TODAY())/30)>1,\"Between 2 and 1\",\"Less than 1\"))","v":{"$error":"#VALUE!"}},{"$f":"IF(Table16[[#This Row],[Issued]]=\"\",\"\",IF(Table16[[#This Row],[Lent]]=\"\",0,1))","v":{"v":0,"d":"0.00"}},{"$f":"IF(Table16[[#This Row],[Lent]]=\"\",\"\",IF(Table16[[#This Row],[Returned]]=\"\",0,1))","v":""}]
[37073338,{"$nulls":3},"Mitutoyo 0-1\" Ball","Accounted For",null,"2021-03-08",{"$nulls":3},{"$f":"IF(IF(Table16[[#This Row],[Disposition]]=\"Retired\",\"N/A\",IF(Table16[[#This Row],[Disposition]]=0,\"\",K53+$F$2))=0+$F$2,\"NEVER CALIBRATED\",IF(Table16[[#This Row],[Disposition]]=\"Retired\",\"N/A\",IF(Table16[[#This Row],[Disposition]]=0,\"\",K53+$F$2)))","v":"NEVER CALIBRATED"},{"$f":"IF(Table16[[#This Row],[Disposition]]=\"\",\"\",IF(AND(Table16[[#This Row],[Next Calibration]]<$E$1,Table16[[#This Row],[Disposition]]=\"Lost\"),\"Find and Calibrate\",IF(Table16[[#This Row],[Disposition]]=\"Lost\",\"Find\",IF(OR(Table16[[#This Row],[Next Calibration]]<$E$1,Table16[[#This Row],[Next Calibration]]=\"NEVER CALIBRATED\"),\"Calibrate\",\"Nominal\"))))","v":"Calibrate"},{"$f":"IF(((Table16[[#This Row],[Next Calibration]]-TODAY())/30)>2,\"More Than 2\",IF(((Table16[[#This Row],[Next Calibration]]-TODAY())/30)>1,\"Between 2 and 1\",\"Less than 1\"))","v":{"$error":"#VALUE!"}},{"$f":"IF(Table16[[#This Row],[Issued]]=\"\",\"\",IF(Table16[[#This Row],[Lent]]=\"\",0,1))","v":{"v":0,"d":"0.00"}},{"$f":"IF(Table16[[#This Row],[Lent]]=\"\",\"\",IF(Table16[[#This Row],[Returned]]=\"\",0,1))","v":""}]
["M1178",{"$nulls":3},"Mitutoyo 0-1\" Small Frame","Accounted For",null,"2021-03-08",{"$nulls":3},{"$f":"IF(IF(Table16[[#This Row],[Disposition]]=\"Retired\",\"N/A\",IF(Table16[[#This Row],[Disposition]]=0,\"\",K54+$F$2))=0+$F$2,\"NEVER CALIBRATED\",IF(Table16[[#This Row],[Disposition]]=\"Retired\",\"N/A\",IF(Table16[[#This Row],[Disposition]]=0,\"\",K54+$F$2)))","v":"NEVER CALIBRATED"},{"$f":"IF(Table16[[#This Row],[Disposition]]=\"\",\"\",IF(AND(Table16[[#This Row],[Next Calibration]]<$E$1,Table16[[#This Row],[Disposition]]=\"Lost\"),\"Find and Calibrate\",IF(Table16[[#This Row],[Disposition]]=\"Lost\",\"Find\",IF(OR(Table16[[#This Row],[Next Calibration]]<$E$1,Table16[[#This Row],[Next Calibration]]=\"NEVER CALIBRATED\"),\"Calibrate\",\"Nominal\"))))","v":"Calibrate"},{"$f":"IF(((Table16[[#This Row],[Next Calibration]]-TODAY())/30)>2,\"More Than 2\",IF(((Table16[[#This Row],[Next Calibration]]-TODAY())/30)>1,\"Between 2 and 1\",\"Less than 1\"))","v":{"$error":"#VALUE!"}},{"$f":"IF(Table16[[#This Row],[Issued]]=\"\",\"\",IF(Table16[[#This Row],[Lent]]=\"\",0,1))","v":{"v":0,"d":"0.00"}},{"$f":"IF(Table16[[#This Row],[Lent]]=\"\",\"\",IF(Table16[[#This Row],[Returned]]=\"\",0,1))","v":""}]
["M883",{"$nulls":3},"Mitutoyo 25-50mm","Accounted For",null,"2021-03-08",null,null,"2009-08-25",{"$f":"IF(IF(Table16[[#This Row],[Disposition]]=\"Retired\",\"N/A\",IF(Table16[[#This Row],[Disposition]]=0,\"\",K55+$F$2))=0+$F$2,\"NEVER CALIBRATED\",IF(Table16[[#This Row],[Disposition]]=\"Retired\",\"N/A\",IF(Table16[[#This Row],[Disposition]]=0,\"\",K55+$F$2)))","v":"2010-08-25"},{"$f":"IF(Table16[[#This Row],[Disposition]]=\"\",\"\",IF(AND(Table16[[#This Row],[Next Calibration]]<$E$1,Table16[[#This Row],[Disposition]]=\"Lost\"),\"Find and Calibrate\",IF(Table16[[#This Row],[Disposition]]=\"Lost\",\"Find\",IF(OR(Table16[[#This Row],[Next Calibration]]<$E$1,Table16[[#This Row],[Next Calibration]]=\"NEVER CALIBRATED\"),\"Calibrate\",\"Nominal\"))))","v":"Calibrate"},{"$f":"IF(((Table16[[#This Row],[Next Calibration]]-TODAY())/30)>2,\"More Than 2\",IF(((Table16[[#This Row],[Next Calibration]]-TODAY())/30)>1,\"Between 2 and 1\",\"Less than 1\"))","v":"Less than 1"},{"$f":"IF(Table16[[#This Row],[Issued]]=\"\",\"\",IF(Table16[[#This Row],[Lent]]=\"\",0,1))","v":{"v":0,"d":"0.00"}},{"$f":"IF(Table16[[#This Row],[Lent]]=\"\",\"\",IF(Table16[[#This Row],[Returned]]=\"\",0,1))","v":""}]
[9071478,"Cunningham, Bobby","3rd","Large CNCs","Mitutoyo 1-2\"","Accounted For",null,"2021-03-08","2021-03-24",null,"2021-03-24",{"$f":"IF(IF(Table16[[#This Row],[Disposition]]=\"Retired\",\"N/A\",IF(Table16[[#This Row],[Disposition]]=0,\"\",K56+$F$2))=0+$F$2,\"NEVER CALIBRATED\",IF(Table16[[#This Row],[Disposition]]=\"Retired\",\"N/A\",IF(Table16[[#This Row],[Disposition]]=0,\"\",K56+$F$2)))","v":"2022-03-24"},{"$f":"IF(Table16[[#This Row],[Disposition]]=\"\",\"\",IF(AND(Table16[[#This Row],[Next Calibration]]<$E$1,Table16[[#This Row],[Disposition]]=\"Lost\"),\"Find and Calibrate\",IF(Table16[[#This Row],[Disposition]]=\"Lost\",\"Find\",IF(OR(Table16[[#This Row],[Next Calibration]]<$E$1,Table16[[#This Row],[Next Calibration]]=\"NEVER CALIBRATED\"),\"Calibrate\",\"Nominal\"))))","v":"Nominal"},{"$f":"IF(((Table16[[#This Row],[Next Calibration]]-TODAY())/30)>2,\"More Than 2\",IF(((Table16[[#This Row],[Next Calibration]]-TODAY())/30)>1,\"Between 2 and 1\",\"Less than 1\"))","v":"More Than 2"},{"$f":"IF(Table16[[#This Row],[Issued]]=\"\",\"\",IF(Table16[[#This Row],[Lent]]=\"\",0,1))","v":{"v":1,"d":"1.00"}},{"$f":"IF(Table16[[#This Row],[Lent]]=\"\",\"\",IF(Table16[[#This Row],[Returned]]=\"\",0,1))","v":{"v":0,"d":"0.00"}}]
[57194569,{"$nulls":3},"Mitutoyo 0-1\" Tube","Accounted For",null,"2021-03-08",{"$nulls":3},{"$f":"IF(IF(Table16[[#This Row],[Disposition]]=\"Retired\",\"N/A\",IF(Table16[[#This Row],[Disposition]]=0,\"\",K57+$F$2))=0+$F$2,\"NEVER CALIBRATED\",IF(Table16[[#This Row],[Disposition]]=\"Retired\",\"N/A\",IF(Table16[[#This Row],[Disposition]]=0,\"\",K57+$F$2)))","v":"NEVER CALIBRATED"},{"$f":"IF(Table16[[#This Row],[Disposition]]=\"\",\"\",IF(AND(Table16[[#This Row],[Next Calibration]]<$E$1,Table16[[#This Row],[Disposition]]=\"Lost\"),\"Find and Calibrate\",IF(Table16[[#This Row],[Disposition]]=\"Lost\",\"Find\",IF(OR(Table16[[#This Row],[Next Calibration]]<$E$1,Table16[[#This Row],[Next Calibration]]=\"NEVER CALIBRATED\"),\"Calibrate\",\"Nominal\"))))","v":"Calibrate"},{"$f":"IF(((Table16[[#This Row],[Next Calibration]]-TODAY())/30)>2,\"More Than 2\",IF(((Table16[[#This Row],[Next Calibration]]-TODAY())/30)>1,\"Between 2 and 1\",\"Less than 1\"))","v":{"$error":"#VALUE!"}},{"$f":"IF(Table16[[#This Row],[Issued]]=\"\",\"\",IF(Table16[[#This Row],[Lent]]=\"\",0,1))","v":{"v":0,"d":"0.00"}},{"$f":"IF(Table16[[#This Row],[Lent]]=\"\",\"\",IF(Table16[[#This Row],[Returned]]=\"\",0,1))","v":""}]
["M933",{"$nulls":3},"Mitutoyo 2-3\"","Accounted For",null,"2021-03-08",{"$nulls":3},{"$f":"IF(IF(Table16[[#This Row],[Disposition]]=\"Retired\",\"N/A\",IF(Table16[[#This Row],[Disposition]]=0,\"\",K58+$F$2))=0+$F$2,\"NEVER CALIBRATED\",IF(Table16[[#This Row],[Disposition]]=\"Retired\",\"N/A\",IF(Table16[[#This Row],[Disposition]]=0,\"\",K58+$F$2)))","v":"NEVER CALIBRATED"},{"$f":"IF(Table16[[#This Row],[Disposition]]=\"\",\"\",IF(AND(Table16[[#This Row],[Next Calibration]]<$E$1,Table16[[#This Row],[Disposition]]=\"Lost\"),\"Find and Calibrate\",IF(Table16[[#This Row],[Disposition]]=\"Lost\",\"Find\",IF(OR(Table16[[#This Row],[Next Calibration]]<$E$1,Table16[[#This Row],[Next Calibration]]=\"NEVER CALIBRATED\"),\"Calibrate\",\"Nominal\"))))","v":"Calibrate"},{"$f":"IF(((Table16[[#This Row],[Next Calibration]]-TODAY())/30)>2,\"More Than 2\",IF(((Table16[[#This Row],[Next Calibration]]-TODAY())/30)>1,\"Between 2 and 1\",\"Less than 1\"))","v":{"$error":"#VALUE!"}},{"$f":"IF(Table16[[#This Row],[Issued]]=\"\",\"\",IF(Table16[[#This Row],[Lent]]=\"\",0,1))","v":{"v":0,"d":"0.00"}},{"$f":"IF(Table16[[#This Row],[Lent]]=\"\",\"\",IF(Table16[[#This Row],[Returned]]=\"\",0,1))","v":""}]
["M197",{"$nulls":3},"Mitutoyo 2-3\"","Accounted For",null,"2021-03-08",null,null,"2009-08-25",{"$f":"IF(IF(Table16[[#This Row],[Disposition]]=\"Retired\",\"N/A\",IF(Table16[[#This Row],[Disposition]]=0,\"\",K59+$F$2))=0+$F$2,\"NEVER CALIBRATED\",IF(Table16[[#This Row],[Disposition]]=\"Retired\",\"N/A\",IF(Table16[[#This Row],[Disposition]]=0,\"\",K59+$F$2)))","v":"2010-08-25"},{"$f":"IF(Table16[[#This Row],[Disposition]]=\"\",\"\",IF(AND(Table16[[#This Row],[Next Calibration]]<$E$1,Table16[[#This Row],[Disposition]]=\"Lost\"),\"Find and Calibrate\",IF(Table16[[#This Row],[Disposition]]=\"Lost\",\"Find\",IF(OR(Table16[[#This Row],[Next Calibration]]<$E$1,Table16[[#This Row],[Next Calibration]]=\"NEVER CALIBRATED\"),\"Calibrate\",\"Nominal\"))))","v":"Calibrate"},{"$f":"IF(((Table16[[#This Row],[Next Calibration]]-TODAY())/30)>2,\"More Than 2\",IF(((Table16[[#This Row],[Next Calibration]]-TODAY())/30)>1,\"Between 2 and 1\",\"Less than 1\"))","v":"Less than 1"},{"$f":"IF(Table16[[#This Row],[Issued]]=\"\",\"\",IF(Table16[[#This Row],[Lent]]=\"\",0,1))","v":{"v":0,"d":"0.00"}},{"$f":"IF(Table16[[#This Row],[Lent]]=\"\",\"\",IF(Table16[[#This Row],[Returned]]=\"\",0,1))","v":""}]
["M198",{"$nulls":3},"Mitutoyo 3-4\"","Accounted For",null,"2021-03-08",null,null,"2009-08-25",{"$f":"IF(IF(Table16[[#This Row],[Disposition]]=\"Retired\",\"N/A\",IF(Table16[[#This Row],[Disposition]]=0,\"\",K60+$F$2))=0+$F$2,\"NEVER CALIBRATED\",IF(Table16[[#This Row],[Disposition]]=\"Retired\",\"N/A\",IF(Table16[[#This Row],[Disposition]]=0,\"\",K60+$F$2)))","v":"2010-08-25"},{"$f":"IF(Table16[[#This Row],[Disposition]]=\"\",\"\",IF(AND(Table16[[#This Row],[Next Calibration]]<$E$1,Table16[[#This Row],[Disposition]]=\"Lost\"),\"Find and Calibrate\",IF(Table16[[#This Row],[Disposition]]=\"Lost\",\"Find\",IF(OR(Table16[[#This Row],[Next Calibration]]<$E$1,Table16[[#This Row],[Next Calibration]]=\"NEVER CALIBRATED\"),\"Calibrate\",\"Nominal\"))))","v":"Calibrate"},{"$f":"IF(((Table16[[#This Row],[Next Calibration]]-TODAY())/30)>2,\"More Than 2\",IF(((Table16[[#This Row],[Next Calibration]]-TODAY())/30)>1,\"Between 2 and 1\",\"Less than 1\"))","v":"Less than 1"},{"$f":"IF(Table16[[#This Row],[Issued]]=\"\",\"\",IF(Table16[[#This Row],[Lent]]=\"\",0,1))","v":{"v":0,"d":"0.00"}},{"$f":"IF(Table16[[#This Row],[Lent]]=\"\",\"\",IF(Table16[[#This Row],[Returned]]=\"\",0,1))","v":""}]
[8092817,{"$nulls":3},"Mitutoyo 3-4\"","Accounted For",null,"2021-03-08",{"$nulls":3},{"$f":"IF(IF(Table16[[#This Row],[Disposition]]=\"Retired\",\"N/A\",IF(Table16[[#This Row],[Disposition]]=0,\"\",K61+$F$2))=0+$F$2,\"NEVER CALIBRATED\",IF(Table16[[#This Row],[Disposition]]=\"Retired\",\"N/A\",IF(Table16[[#This Row],[Disposition]]=0,\"\",K61+$F$2)))","v":"NEVER CALIBRATED"},{"$f":"IF(Table16[[#This Row],[Disposition]]=\"\",\"\",IF(AND(Table16[[#This Row],[Next Calibration]]<$E$1,Table16[[#This Row],[Disposition]]=\"Lost\"),\"Find and Calibrate\",IF(Table16[[#This Row],[Disposition]]=\"Lost\",\"Find\",IF(OR(Table16[[#This Row],[Next Calibration]]<$E$1,Table16[[#This Row],[Next Calibration]]=\"NEVER CALIBRATED\"),\"Calibrate\",\"Nominal\"))))","v":"Calibrate"},{"$f":"IF(((Table16[[#This Row],[Next Calibration]]-TODAY())/30)>2,\"More Than 2\",IF(((Table16[[#This Row],[Next Calibration]]-TODAY())/30)>1,\"Between 2 and 1\",\"Less than 1\"))","v":{"$error":"#VALUE!"}},{"$f":"IF(Table16[[#This Row],[Issued]]=\"\",\"\",IF(Table16[[#This Row],[Lent]]=\"\",0,1))","v":{"v":0,"d":"0.00"}},{"$f":"IF(Table16[[#This Row],[Lent]]=\"\",\"\",IF(Table16[[#This Row],[Returned]]=\"\",0,1))","v":""}]
[67056777,{"$nulls":3},"Mitutoyo 3-4\"","Accounted For",null,"2021-03-08",{"$nulls":3},{"$f":"IF(IF(Table16[[#This Row],[Disposition]]=\"Retired\",\"N/A\",IF(Table16[[#This Row],[Disposition]]=0,\"\",K62+$F$2))=0+$F$2,\"NEVER CALIBRATED\",IF(Table16[[#This Row],[Disposition]]=\"Retired\",\"N/A\",IF(Table16[[#This Row],[Disposition]]=0,\"\",K62+$F$2)))","v":"NEVER CALIBRATED"},{"$f":"IF(Table16[[#This Row],[Disposition]]=\"\",\"\",IF(AND(Table16[[#This Row],[Next Calibration]]<$E$1,Table16[[#This Row],[Disposition]]=\"Lost\"),\"Find and Calibrate\",IF(Table16[[#This Row],[Disposition]]=\"Lost\",\"Find\",IF(OR(Table16[[#This Row],[Next Calibration]]<$E$1,Table16[[#This Row],[Next Calibration]]=\"NEVER CALIBRATED\"),\"Calibrate\",\"Nominal\"))))","v":"Calibrate"},{"$f":"IF(((Table16[[#This Row],[Next Calibration]]-TODAY())/30)>2,\"More Than 2\",IF(((Table16[[#This Row],[Next Calibration]]-TODAY())/30)>1,\"Between 2 and 1\",\"Less than 1\"))","v":{"$error":"#VALUE!"}},{"$f":"IF(Table16[[#This Row],[Issued]]=\"\",\"\",IF(Table16[[#This Row],[Lent]]=\"\",0,1))","v":{"v":0,"d":"0.00"}},{"$f":"IF(Table16[[#This Row],[Lent]]=\"\",\"\",IF(Table16[[#This Row],[Returned]]=\"\",0,1))","v":""}]
["M1634",{"$nulls":3},"Starrett Depth","Accounted For",null,"2021-03-08",{"$nulls":3},{"$f":"IF(IF(Table16[[#This Row],[Disposition]]=\"Retired\",\"N/A\",IF(Table16[[#This Row],[Disposition]]=0,\"\",K63+$F$2))=0+$F$2,\"NEVER CALIBRATED\",IF(Table16[[#This Row],[Disposition]]=\"Retired\",\"N/A\",IF(Table16[[#This Row],[Disposition]]=0,\"\",K63+$F$2)))","v":"NEVER CALIBRATED"},{"$f":"IF(Table16[[#This Row],[Disposition]]=\"\",\"\",IF(AND(Table16[[#This Row],[Next Calibration]]<$E$1,Table16[[#This Row],[Disposition]]=\"Lost\"),\"Find and Calibrate\",IF(Table16[[#This Row],[Disposition]]=\"Lost\",\"Find\",IF(OR(Table16[[#This Row],[Next Calibration]]<$E$1,Table16[[#This Row],[Next Calibration]]=\"NEVER CALIBRATED\"),\"Calibrate\",\"Nominal\"))))","v":"Calibrate"},{"$f":"IF(((Table16[[#This Row],[Next Calibration]]-TODAY())/30)>2,\"More Than 2\",IF(((Table16[[#This Row],[Next Calibration]]-TODAY())/30)>1,\"Between 2 and 1\",\"Less than 1\"))","v":{"$error":"#VALUE!"}},{"$f":"IF(Table16[[#This Row],[Issued]]=\"\",\"\",IF(Table16[[#This Row],[Lent]]=\"\",0,1))","v":{"v":0,"d":"0.00"}},{"$f":"IF(Table16[[#This Row],[Lent]]=\"\",\"\",IF(Table16[[#This Row],[Returned]]=\"\",0,1))","v":""}]
["M880",{"$nulls":3},"Brown & Sharpe Depth","Accounted For",null,"2021-03-08",{"$nulls":3},{"$f":"IF(IF(Table16[[#This Row],[Disposition]]=\"Retired\",\"N/A\",IF(Table16[[#This Row],[Disposition]]=0,\"\",K64+$F$2))=0+$F$2,\"NEVER CALIBRATED\",IF(Table16[[#This Row],[Disposition]]=\"Retired\",\"N/A\",IF(Table16[[#This Row],[Disposition]]=0,\"\",K64+$F$2)))","v":"NEVER CALIBRATED"},{"$f":"IF(Table16[[#This Row],[Disposition]]=\"\",\"\",IF(AND(Table16[[#This Row],[Next Calibration]]<$E$1,Table16[[#This Row],[Disposition]]=\"Lost\"),\"Find and Calibrate\",IF(Table16[[#This Row],[Disposition]]=\"Lost\",\"Find\",IF(OR(Table16[[#This Row],[Next Calibration]]<$E$1,Table16[[#This Row],[Next Calibration]]=\"NEVER CALIBRATED\"),\"Calibrate\",\"Nominal\"))))","v":"Calibrate"},{"$f":"IF(((Table16[[#This Row],[Next Calibration]]-TODAY())/30)>2,\"More Than 2\",IF(((Table16[[#This Row],[Next Calibration]]-TODAY())/30)>1,\"Between 2 and 1\",\"Less than 1\"))","v":{"$error":"#VALUE!"}},{"$f":"IF(Table16[[#This Row],[Issued]]=\"\",\"\",IF(Table16[[#This Row],[Lent]]=\"\",0,1))","v":{"v":0,"d":"0.00"}},{"$f":"IF(Table16[[#This Row],[Lent]]=\"\",\"\",IF(Table16[[#This Row],[Returned]]=\"\",0,1))","v":""}]
["M1220",{"$nulls":3},"Starrett Depth","Accounted For",null,"2021-03-08",{"$nulls":3},{"$f":"IF(IF(Table16[[#This Row],[Disposition]]=\"Retired\",\"N/A\",IF(Table16[[#This Row],[Disposition]]=0,\"\",K65+$F$2))=0+$F$2,\"NEVER CALIBRATED\",IF(Table16[[#This Row],[Disposition]]=\"Retired\",\"N/A\",IF(Table16[[#This Row],[Disposition]]=0,\"\",K65+$F$2)))","v":"NEVER CALIBRATED"},{"$f":"IF(Table16[[#This Row],[Disposition]]=\"\",\"\",IF(AND(Table16[[#This Row],[Next Calibration]]<$E$1,Table16[[#This Row],[Disposition]]=\"Lost\"),\"Find and Calibrate\",IF(Table16[[#This Row],[Disposition]]=\"Lost\",\"Find\",IF(OR(Table16[[#This Row],[Next Calibration]]<$E$1,Table16[[#This Row],[Next Calibration]]=\"NEVER CALIBRATED\"),\"Calibrate\",\"Nominal\"))))","v":"Calibrate"},{"$f":"IF(((Table16[[#This Row],[Next Calibration]]-TODAY())/30)>2,\"More Than 2\",IF(((Table16[[#This Row],[Next Calibration]]-TODAY())/30)>1,\"Between 2 and 1\",\"Less than 1\"))","v":{"$error":"#VALUE!"}},{"$f":"IF(Table16[[#This Row],[Issued]]=\"\",\"\",IF(Table16[[#This Row],[Lent]]=\"\",0,1))","v":{"v":0,"d":"0.00"}},{"$f":"IF(Table16[[#This Row],[Lent]]=\"\",\"\",IF(Table16[[#This Row],[Returned]]=\"\",0,1))","v":""}]
["M1223",{"$nulls":3},"Starrett Depth","Accounted For",null,"2021-03-08",{"$nulls":3},{"$f":"IF(IF(Table16[[#This Row],[Disposition]]=\"Retired\",\"N/A\",IF(Table16[[#This Row],[Disposition]]=0,\"\",K66+$F$2))=0+$F$2,\"NEVER CALIBRATED\",IF(Table16[[#This Row],[Disposition]]=\"Retired\",\"N/A\",IF(Table16[[#This Row],[Disposition]]=0,\"\",K66+$F$2)))","v":"NEVER CALIBRATED"},{"$f":"IF(Table16[[#This Row],[Disposition]]=\"\",\"\",IF(AND(Table16[[#This Row],[Next Calibration]]<$E$1,Table16[[#This Row],[Disposition]]=\"Lost\"),\"Find and Calibrate\",IF(Table16[[#This Row],[Disposition]]=\"Lost\",\"Find\",IF(OR(Table16[[#This Row],[Next Calibration]]<$E$1,Table16[[#This Row],[Next Calibration]]=\"NEVER CALIBRATED\"),\"Calibrate\",\"Nominal\"))))","v":"Calibrate"},{"$f":"IF(((Table16[[#This Row],[Next Calibration]]-TODAY())/30)>2,\"More Than 2\",IF(((Table16[[#This Row],[Next Calibration]]-TODAY())/30)>1,\"Between 2 and 1\",\"Less than 1\"))","v":{"$error":"#VALUE!"}},{"$f":"IF(Table16[[#This Row],[Issued]]=\"\",\"\",IF(Table16[[#This Row],[Lent]]=\"\",0,1))","v":{"v":0,"d":"0.00"}},{"$f":"IF(Table16[[#This Row],[Lent]]=\"\",\"\",IF(Table16[[#This Row],[Returned]]=\"\",0,1))","v":""}]
["M1222",{"$nulls":3},"Starrett Depth","Accounted For",null,"2021-03-08",{"$nulls":3},{"$f":"IF(IF(Table16[[#This Row],[Disposition]]=\"Retired\",\"N/A\",IF(Table16[[#This Row],[Disposition]]=0,\"\",K67+$F$2))=0+$F$2,\"NEVER CALIBRATED\",IF(Table16[[#This Row],[Disposition]]=\"Retired\",\"N/A\",IF(Table16[[#This Row],[Disposition]]=0,\"\",K67+$F$2)))","v":"NEVER CALIBRATED"},{"$f":"IF(Table16[[#This Row],[Disposition]]=\"\",\"\",IF(AND(Table16[[#This Row],[Next Calibration]]<$E$1,Table16[[#This Row],[Disposition]]=\"Lost\"),\"Find and Calibrate\",IF(Table16[[#This Row],[Disposition]]=\"Lost\",\"Find\",IF(OR(Table16[[#This Row],[Next Calibration]]<$E$1,Table16[[#This Row],[Next Calibration]]=\"NEVER CALIBRATED\"),\"Calibrate\",\"Nominal\"))))","v":"Calibrate"},{"$f":"IF(((Table16[[#This Row],[Next Calibration]]-TODAY())/30)>2,\"More Than 2\",IF(((Table16[[#This Row],[Next Calibration]]-TODAY())/30)>1,\"Between 2 and 1\",\"Less than 1\"))","v":{"$error":"#VALUE!"}},{"$f":"IF(Table16[[#This Row],[Issued]]=\"\",\"\",IF(Table16[[#This Row],[Lent]]=\"\",0,1))","v":{"v":0,"d":"0.00"}},{"$f":"IF(Table16[[#This Row],[Lent]]=\"\",\"\",IF(Table16[[#This Row],[Returned]]=\"\",0,1))","v":""}]
["M1184",{"$nulls":3},"Moore & Wright 0-1\" Digital","Accounted For",null,"2021-03-08",{"$nulls":3},{"$f":"IF(IF(Table16[[#This Row],[Disposition]]=\"Retired\",\"N/A\",IF(Table16[[#This Row],[Disposition]]=0,\"\",K68+$F$2))=0+$F$2,\"NEVER CALIBRATED\",IF(Table16[[#This Row],[Disposition]]=\"Retired\",\"N/A\",IF(Table16[[#This Row],[Disposition]]=0,\"\",K68+$F$2)))","v":"NEVER CALIBRATED"},{"$f":"IF(Table16[[#This Row],[Disposition]]=\"\",\"\",IF(AND(Table16[[#This Row],[Next Calibration]]<$E$1,Table16[[#This Row],[Disposition]]=\"Lost\"),\"Find and Calibrate\",IF(Table16[[#This Row],[Disposition]]=\"Lost\",\"Find\",IF(OR(Table16[[#This Row],[Next Calibration]]<$E$1,Table16[[#This Row],[Next Calibration]]=\"NEVER CALIBRATED\"),\"Calibrate\",\"Nominal\"))))","v":"Calibrate"},{"$f":"IF(((Table16[[#This Row],[Next Calibration]]-TODAY())/30)>2,\"More Than 2\",IF(((Table16[[#This Row],[Next Calibration]]-TODAY())/30)>1,\"Between 2 and 1\",\"Less than 1\"))","v":{"$error":"#VALUE!"}},{"$f":"IF(Table16[[#This Row],[Issued]]=\"\",\"\",IF(Table16[[#This Row],[Lent]]=\"\",0,1))","v":{"v":0,"d":"0.00"}},{"$f":"IF(Table16[[#This Row],[Lent]]=\"\",\"\",IF(Table16[[#This Row],[Returned]]=\"\",0,1))","v":""}]
["M1218",{"$nulls":3},"Starrett 0-1\" Blades","Accounted For",null,"2021-03-08",{"$nulls":3},{"$f":"IF(IF(Table16[[#This Row],[Disposition]]=\"Retired\",\"N/A\",IF(Table16[[#This Row],[Disposition]]=0,\"\",K69+$F$2))=0+$F$2,\"NEVER CALIBRATED\",IF(Table16[[#This Row],[Disposition]]=\"Retired\",\"N/A\",IF(Table16[[#This Row],[Disposition]]=0,\"\",K69+$F$2)))","v":"NEVER CALIBRATED"},{"$f":"IF(Table16[[#This Row],[Disposition]]=\"\",\"\",IF(AND(Table16[[#This Row],[Next Calibration]]<$E$1,Table16[[#This Row],[Disposition]]=\"Lost\"),\"Find and Calibrate\",IF(Table16[[#This Row],[Disposition]]=\"Lost\",\"Find\",IF(OR(Table16[[#This Row],[Next Calibration]]<$E$1,Table16[[#This Row],[Next Calibration]]=\"NEVER CALIBRATED\"),\"Calibrate\",\"Nominal\"))))","v":"Calibrate"},{"$f":"IF(((Table16[[#This Row],[Next Calibration]]-TODAY())/30)>2,\"More Than 2\",IF(((Table16[[#This Row],[Next Calibration]]-TODAY())/30)>1,\"Between 2 and 1\",\"Less than 1\"))","v":{"$error":"#VALUE!"}},{"$f":"IF(Table16[[#This Row],[Issued]]=\"\",\"\",IF(Table16[[#This Row],[Lent]]=\"\",0,1))","v":{"v":0,"d":"0.00"}},{"$f":"IF(Table16[[#This Row],[Lent]]=\"\",\"\",IF(Table16[[#This Row],[Returned]]=\"\",0,1))","v":""}]
["M1215",{"$nulls":3},"Starrett 0-1\" Blades","Accounted For",null,"2021-03-08",{"$nulls":3},{"$f":"IF(IF(Table16[[#This Row],[Disposition]]=\"Retired\",\"N/A\",IF(Table16[[#This Row],[Disposition]]=0,\"\",K70+$F$2))=0+$F$2,\"NEVER CALIBRATED\",IF(Table16[[#This Row],[Disposition]]=\"Retired\",\"N/A\",IF(Table16[[#This Row],[Disposition]]=0,\"\",K70+$F$2)))","v":"NEVER CALIBRATED"},{"$f":"IF(Table16[[#This Row],[Disposition]]=\"\",\"\",IF(AND(Table16[[#This Row],[Next Calibration]]<$E$1,Table16[[#This Row],[Disposition]]=\"Lost\"),\"Find and Calibrate\",IF(Table16[[#This Row],[Disposition]]=\"Lost\",\"Find\",IF(OR(Table16[[#This Row],[Next Calibration]]<$E$1,Table16[[#This Row],[Next Calibration]]=\"NEVER CALIBRATED\"),\"Calibrate\",\"Nominal\"))))","v":"Calibrate"},{"$f":"IF(((Table16[[#This Row],[Next Calibration]]-TODAY())/30)>2,\"More Than 2\",IF(((Table16[[#This Row],[Next Calibration]]-TODAY())/30)>1,\"Between 2 and 1\",\"Less than 1\"))","v":{"$error":"#VALUE!"}},{"$f":"IF(Table16[[#This Row],[Issued]]=\"\",\"\",IF(Table16[[#This Row],[Lent]]=\"\",0,1))","v":{"v":0,"d":"0.00"}},{"$f":"IF(Table16[[#This Row],[Lent]]=\"\",\"\",IF(Table16[[#This Row],[Returned]]=\"\",0,1))","v":""}]
["M1217",{"$nulls":3},"Starrett 0-1\" Blades","Accounted For",null,"2021-03-08",{"$nulls":3},{"$f":"IF(IF(Table16[[#This Row],[Disposition]]=\"Retired\",\"N/A\",IF(Table16[[#This Row],[Disposition]]=0,\"\",K71+$F$2))=0+$F$2,\"NEVER CALIBRATED\",IF(Table16[[#This Row],[Disposition]]=\"Retired\",\"N/A\",IF(Table16[[#This Row],[Disposition]]=0,\"\",K71+$F$2)))","v":"NEVER CALIBRATED"},{"$f":"IF(Table16[[#This Row],[Disposition]]=\"\",\"\",IF(AND(Table16[[#This Row],[Next Calibration]]<$E$1,Table16[[#This Row],[Disposition]]=\"Lost\"),\"Find and Calibrate\",IF(Table16[[#This Row],[Disposition]]=\"Lost\",\"Find\",IF(OR(Table16[[#This Row],[Next Calibration]]<$E$1,Table16[[#This Row],[Next Calibration]]=\"NEVER CALIBRATED\"),\"Calibrate\",\"Nominal\"))))","v":"Calibrate"},{"$f":"IF(((Table16[[#This Row],[Next Calibration]]-TODAY())/30)>2,\"More Than 2\",IF(((Table16[[#This Row],[Next Calibration]]-TODAY())/30)>1,\"Between 2 and 1\",\"Less than 1\"))","v":{"$error":"#VALUE!"}},{"$f":"IF(Table16[[#This Row],[Issued]]=\"\",\"\",IF(Table16[[#This Row],[Lent]]=\"\",0,1))","v":{"v":0,"d":"0.00"}},{"$f":"IF(Table16[[#This Row],[Lent]]=\"\",\"\",IF(Table16[[#This Row],[Returned]]=\"\",0,1))","v":""}]
[8003249,{"$nulls":3},"Mitutoyo 0-1\" Blade","Accounted For",null,"2021-03-08",{"$nulls":3},{"$f":"IF(IF(Table16[[#This Row],[Disposition]]=\"Retired\",\"N/A\",IF(Table16[[#This Row],[Disposition]]=0,\"\",K72+$F$2))=0+$F$2,\"NEVER CALIBRATED\",IF(Table16[[#This Row],[Disposition]]=\"Retired\",\"N/A\",IF(Table16[[#This Row],[Disposition]]=0,\"\",K72+$F$2)))","v":"NEVER CALIBRATED"},{"$f":"IF(Table16[[#This Row],[Disposition]]=\"\",\"\",IF(AND(Table16[[#This Row],[Next Calibration]]<$E$1,Table16[[#This Row],[Disposition]]=\"Lost\"),\"Find and Calibrate\",IF(Table16[[#This Row],[Disposition]]=\"Lost\",\"Find\",IF(OR(Table16[[#This Row],[Next Calibration]]<$E$1,Table16[[#This Row],[Next Calibration]]=\"NEVER CALIBRATED\"),\"Calibrate\",\"Nominal\"))))","v":"Calibrate"},{"$f":"IF(((Table16[[#This Row],[Next Calibration]]-TODAY())/30)>2,\"More Than 2\",IF(((Table16[[#This Row],[Next Calibration]]-TODAY())/30)>1,\"Between 2 and 1\",\"Less than 1\"))","v":{"$error":"#VALUE!"}},{"$f":"IF(Table16[[#This Row],[Issued]]=\"\",\"\",IF(Table16[[#This Row],[Lent]]=\"\",0,1))","v":{"v":0,"d":"0.00"}},{"$f":"IF(Table16[[#This Row],[Lent]]=\"\",\"\",IF(Table16[[#This Row],[Returned]]=\"\",0,1))","v":""}]
["M1374",{"$nulls":3},"Mitutoyo 0-1\" Blade","Accounted For",null,"2021-03-08",{"$nulls":3},{"$f":"IF(IF(Table16[[#This Row],[Disposition]]=\"Retired\",\"N/A\",IF(Table16[[#This Row],[Disposition]]=0,\"\",K73+$F$2))=0+$F$2,\"NEVER CALIBRATED\",IF(Table16[[#This Row],[Disposition]]=\"Retired\",\"N/A\",IF(Table16[[#This Row],[Disposition]]=0,\"\",K73+$F$2)))","v":"NEVER CALIBRATED"},{"$f":"IF(Table16[[#This Row],[Disposition]]=\"\",\"\",IF(AND(Table16[[#This Row],[Next Calibration]]<$E$1,Table16[[#This Row],[Disposition]]=\"Lost\"),\"Find and Calibrate\",IF(Table16[[#This Row],[Disposition]]=\"Lost\",\"Find\",IF(OR(Table16[[#This Row],[Next Calibration]]<$E$1,Table16[[#This Row],[Next Calibration]]=\"NEVER CALIBRATED\"),\"Calibrate\",\"Nominal\"))))","v":"Calibrate"},{"$f":"IF(((Table16[[#This Row],[Next Calibration]]-TODAY())/30)>2,\"More Than 2\",IF(((Table16[[#This Row],[Next Calibration]]-TODAY())/30)>1,\"Between 2 and 1\",\"Less than 1\"))","v":{"$error":"#VALUE!"}},{"$f":"IF(Table16[[#This Row],[Issued]]=\"\",\"\",IF(Table16[[#This Row],[Lent]]=\"\",0,1))","v":{"v":0,"d":"0.00"}},{"$f":"IF(Table16[[#This Row],[Lent]]=\"\",\"\",IF(Table16[[#This Row],[Returned]]=\"\",0,1))","v":""}]
["M875",{"$nulls":3},"Starrett Thread 28-30","Accounted For",null,"2021-03-08",{"$nulls":3},{"$f":"IF(IF(Table16[[#This Row],[Disposition]]=\"Retired\",\"N/A\",IF(Table16[[#This Row],[Disposition]]=0,\"\",K74+$F$2))=0+$F$2,\"NEVER CALIBRATED\",IF(Table16[[#This Row],[Disposition]]=\"Retired\",\"N/A\",IF(Table16[[#This Row],[Disposition]]=0,\"\",K74+$F$2)))","v":"NEVER CALIBRATED"},{"$f":"IF(Table16[[#This Row],[Disposition]]=\"\",\"\",IF(AND(Table16[[#This Row],[Next Calibration]]<$E$1,Table16[[#This Row],[Disposition]]=\"Lost\"),\"Find and Calibrate\",IF(Table16[[#This Row],[Disposition]]=\"Lost\",\"Find\",IF(OR(Table16[[#This Row],[Next Calibration]]<$E$1,Table16[[#This Row],[Next Calibration]]=\"NEVER CALIBRATED\"),\"Calibrate\",\"Nominal\"))))","v":"Calibrate"},{"$f":"IF(((Table16[[#This Row],[Next Calibration]]-TODAY())/30)>2,\"More Than 2\",IF(((Table16[[#This Row],[Next Calibration]]-TODAY())/30)>1,\"Between 2 and 1\",\"Less than 1\"))","v":{"$error":"#VALUE!"}},{"$f":"IF(Table16[[#This Row],[Issued]]=\"\",\"\",IF(Table16[[#This Row],[Lent]]=\"\",0,1))","v":{"v":0,"d":"0.00"}},{"$f":"IF(Table16[[#This Row],[Lent]]=\"\",\"\",IF(Table16[[#This Row],[Returned]]=\"\",0,1))","v":""}]
["M876",{"$nulls":3},"Starrett Thread 32-40","Accounted For",null,"2021-03-08",{"$nulls":3},{"$f":"IF(IF(Table16[[#This Row],[Disposition]]=\"Retired\",\"N/A\",IF(Table16[[#This Row],[Disposition]]=0,\"\",K75+$F$2))=0+$F$2,\"NEVER CALIBRATED\",IF(Table16[[#This Row],[Disposition]]=\"Retired\",\"N/A\",IF(Table16[[#This Row],[Disposition]]=0,\"\",K75+$F$2)))","v":"NEVER CALIBRATED"},{"$f":"IF(Table16[[#This Row],[Disposition]]=\"\",\"\",IF(AND(Table16[[#This Row],[Next Calibration]]<$E$1,Table16[[#This Row],[Disposition]]=\"Lost\"),\"Find and Calibrate\",IF(Table16[[#This Row],[Disposition]]=\"Lost\",\"Find\",IF(OR(Table16[[#This Row],[Next Calibration]]<$E$1,Table16[[#This Row],[Next Calibration]]=\"NEVER CALIBRATED\"),\"Calibrate\",\"Nominal\"))))","v":"Calibrate"},{"$f":"IF(((Table16[[#This Row],[Next Calibration]]-TODAY())/30)>2,\"More Than 2\",IF(((Table16[[#This Row],[Next Calibration]]-TODAY())/30)>1,\"Between 2 and 1\",\"Less than 1\"))","v":{"$error":"#VALUE!"}},{"$f":"IF(Table16[[#This Row],[Issued]]=\"\",\"\",IF(Table16[[#This Row],[Lent]]=\"\",0,1))","v":{"v":0,"d":"0.00"}},{"$f":"IF(Table16[[#This Row],[Lent]]=\"\",\"\",IF(Table16[[#This Row],[Returned]]=\"\",0,1))","v":""}]
["M886",{"$nulls":3},"Starrett Thread 20-24","Accounted For",null,"2021-03-08",{"$nulls":3},{"$f":"IF(IF(Table16[[#This Row],[Disposition]]=\"Retired\",\"N/A\",IF(Table16[[#This Row],[Disposition]]=0,\"\",K76+$F$2))=0+$F$2,\"NEVER CALIBRATED\",IF(Table16[[#This Row],[Disposition]]=\"Retired\",\"N/A\",IF(Table16[[#This Row],[Disposition]]=0,\"\",K76+$F$2)))","v":"NEVER CALIBRATED"},{"$f":"IF(Table16[[#This Row],[Disposition]]=\"\",\"\",IF(AND(Table16[[#This Row],[Next Calibration]]<$E$1,Table16[[#This Row],[Disposition]]=\"Lost\"),\"Find and Calibrate\",IF(Table16[[#This Row],[Disposition]]=\"Lost\",\"Find\",IF(OR(Table16[[#This Row],[Next Calibration]]<$E$1,Table16[[#This Row],[Next Calibration]]=\"NEVER CALIBRATED\"),\"Calibrate\",\"Nominal\"))))","v":"Calibrate"},{"$f":"IF(((Table16[[#This Row],[Next Calibration]]-TODAY())/30)>2,\"More Than 2\",IF(((Table16[[#This Row],[Next Calibration]]-TODAY())/30)>1,\"Between 2 and 1\",\"Less than 1\"))","v":{"$error":"#VALUE!"}},{"$f":"IF(Table16[[#This Row],[Issued]]=\"\",\"\",IF(Table16[[#This Row],[Lent]]=\"\",0,1))","v":{"v":0,"d":"0.00"}},{"$f":"IF(Table16[[#This Row],[Lent]]=\"\",\"\",IF(Table16[[#This Row],[Returned]]=\"\",0,1))","v":""}]
["M285",{"$nulls":3},"Starrett Thread 22-30","Accounted For",null,"2021-03-08",{"$nulls":3},{"$f":"IF(IF(Table16[[#This Row],[Disposition]]=\"Retired\",\"N/A\",IF(Table16[[#This Row],[Disposition]]=0,\"\",K77+$F$2))=0+$F$2,\"NEVER CALIBRATED\",IF(Table16[[#This Row],[Disposition]]=\"Retired\",\"N/A\",IF(Table16[[#This Row],[Disposition]]=0,\"\",K77+$F$2)))","v":"NEVER CALIBRATED"},{"$f":"IF(Table16[[#This Row],[Disposition]]=\"\",\"\",IF(AND(Table16[[#This Row],[Next Calibration]]<$E$1,Table16[[#This Row],[Disposition]]=\"Lost\"),\"Find and Calibrate\",IF(Table16[[#This Row],[Disposition]]=\"Lost\",\"Find\",IF(OR(Table16[[#This Row],[Next Calibration]]<$E$1,Table16[[#This Row],[Next Calibration]]=\"NEVER CALIBRATED\"),\"Calibrate\",\"Nominal\"))))","v":"Calibrate"},{"$f":"IF(((Table16[[#This Row],[Next Calibration]]-TODAY())/30)>2,\"More Than 2\",IF(((Table16[[#This Row],[Next Calibration]]-TODAY())/30)>1,\"Between 2 and 1\",\"Less than 1\"))","v":{"$error":"#VALUE!"}},{"$f":"IF(Table16[[#This Row],[Issued]]=\"\",\"\",IF(Table16[[#This Row],[Lent]]=\"\",0,1))","v":{"v":0,"d":"0.00"}},{"$f":"IF(Table16[[#This Row],[Lent]]=\"\",\"\",IF(Table16[[#This Row],[Returned]]=\"\",0,1))","v":""}]
["M1167",{"$nulls":3},"Brown & Sharpe 210-1","Accounted For",null,"2021-03-08",{"$nulls":3},{"$f":"IF(IF(Table16[[#This Row],[Disposition]]=\"Retired\",\"N/A\",IF(Table16[[#This Row],[Disposition]]=0,\"\",K78+$F$2))=0+$F$2,\"NEVER CALIBRATED\",IF(Table16[[#This Row],[Disposition]]=\"Retired\",\"N/A\",IF(Table16[[#This Row],[Disposition]]=0,\"\",K78+$F$2)))","v":"NEVER CALIBRATED"},{"$f":"IF(Table16[[#This Row],[Disposition]]=\"\",\"\",IF(AND(Table16[[#This Row],[Next Calibration]]<$E$1,Table16[[#This Row],[Disposition]]=\"Lost\"),\"Find and Calibrate\",IF(Table16[[#This Row],[Disposition]]=\"Lost\",\"Find\",IF(OR(Table16[[#This Row],[Next Calibration]]<$E$1,Table16[[#This Row],[Next Calibration]]=\"NEVER CALIBRATED\"),\"Calibrate\",\"Nominal\"))))","v":"Calibrate"},{"$f":"IF(((Table16[[#This Row],[Next Calibration]]-TODAY())/30)>2,\"More Than 2\",IF(((Table16[[#This Row],[Next Calibration]]-TODAY())/30)>1,\"Between 2 and 1\",\"Less than 1\"))","v":{"$error":"#VALUE!"}},{"$f":"IF(Table16[[#This Row],[Issued]]=\"\",\"\",IF(Table16[[#This Row],[Lent]]=\"\",0,1))","v":{"v":0,"d":"0.00"}},{"$f":"IF(Table16[[#This Row],[Lent]]=\"\",\"\",IF(Table16[[#This Row],[Returned]]=\"\",0,1))","v":""}]
[483,{"$nulls":3},"Starrett 3 Point","Accounted For",null,"2021-03-08",{"$nulls":3},{"$f":"IF(IF(Table16[[#This Row],[Disposition]]=\"Retired\",\"N/A\",IF(Table16[[#This Row],[Disposition]]=0,\"\",K79+$F$2))=0+$F$2,\"NEVER CALIBRATED\",IF(Table16[[#This Row],[Disposition]]=\"Retired\",\"N/A\",IF(Table16[[#This Row],[Disposition]]=0,\"\",K79+$F$2)))","v":"NEVER CALIBRATED"},{"$f":"IF(Table16[[#This Row],[Disposition]]=\"\",\"\",IF(AND(Table16[[#This Row],[Next Calibration]]<$E$1,Table16[[#This Row],[Disposition]]=\"Lost\"),\"Find and Calibrate\",IF(Table16[[#This Row],[Disposition]]=\"Lost\",\"Find\",IF(OR(Table16[[#This Row],[Next Calibration]]<$E$1,Table16[[#This Row],[Next Calibration]]=\"NEVER CALIBRATED\"),\"Calibrate\",\"Nominal\"))))","v":"Calibrate"},{"$f":"IF(((Table16[[#This Row],[Next Calibration]]-TODAY())/30)>2,\"More Than 2\",IF(((Table16[[#This Row],[Next Calibration]]-TODAY())/30)>1,\"Between 2 and 1\",\"Less than 1\"))","v":{"$error":"#VALUE!"}},{"$f":"IF(Table16[[#This Row],[Issued]]=\"\",\"\",IF(Table16[[#This Row],[Lent]]=\"\",0,1))","v":{"v":0,"d":"0.00"}},{"$f":"IF(Table16[[#This Row],[Lent]]=\"\",\"\",IF(Table16[[#This Row],[Returned]]=\"\",0,1))","v":""}]
["K1-13B59",{"$nulls":3},"Kwik Chek Taper","Accounted For",null,"2021-03-08",{"$nulls":3},{"$f":"IF(IF(Table16[[#This Row],[Disposition]]=\"Retired\",\"N/A\",IF(Table16[[#This Row],[Disposition]]=0,\"\",K80+$F$2))=0+$F$2,\"NEVER CALIBRATED\",IF(Table16[[#This Row],[Disposition]]=\"Retired\",\"N/A\",IF(Table16[[#This Row],[Disposition]]=0,\"\",K80+$F$2)))","v":"NEVER CALIBRATED"},{"$f":"IF(Table16[[#This Row],[Disposition]]=\"\",\"\",IF(AND(Table16[[#This Row],[Next Calibration]]<$E$1,Table16[[#This Row],[Disposition]]=\"Lost\"),\"Find and Calibrate\",IF(Table16[[#This Row],[Disposition]]=\"Lost\",\"Find\",IF(OR(Table16[[#This Row],[Next Calibration]]<$E$1,Table16[[#This Row],[Next Calibration]]=\"NEVER CALIBRATED\"),\"Calibrate\",\"Nominal\"))))","v":"Calibrate"},{"$f":"IF(((Table16[[#This Row],[Next Calibration]]-TODAY())/30)>2,\"More Than 2\",IF(((Table16[[#This Row],[Next Calibration]]-TODAY())/30)>1,\"Between 2 and 1\",\"Less than 1\"))","v":{"$error":"#VALUE!"}},{"$f":"IF(Table16[[#This Row],[Issued]]=\"\",\"\",IF(Table16[[#This Row],[Lent]]=\"\",0,1))","v":{"v":0,"d":"0.00"}},{"$f":"IF(Table16[[#This Row],[Lent]]=\"\",\"\",IF(Table16[[#This Row],[Returned]]=\"\",0,1))","v":""}]
["483-Box",{"$nulls":3},"Starrett 3 Point","Accounted For",null,"2021-03-08",{"$nulls":3},{"$f":"IF(IF(Table16[[#This Row],[Disposition]]=\"Retired\",\"N/A\",IF(Table16[[#This Row],[Disposition]]=0,\"\",K81+$F$2))=0+$F$2,\"NEVER CALIBRATED\",IF(Table16[[#This Row],[Disposition]]=\"Retired\",\"N/A\",IF(Table16[[#This Row],[Disposition]]=0,\"\",K81+$F$2)))","v":"NEVER CALIBRATED"},{"$f":"IF(Table16[[#This Row],[Disposition]]=\"\",\"\",IF(AND(Table16[[#This Row],[Next Calibration]]<$E$1,Table16[[#This Row],[Disposition]]=\"Lost\"),\"Find and Calibrate\",IF(Table16[[#This Row],[Disposition]]=\"Lost\",\"Find\",IF(OR(Table16[[#This Row],[Next Calibration]]<$E$1,Table16[[#This Row],[Next Calibration]]=\"NEVER CALIBRATED\"),\"Calibrate\",\"Nominal\"))))","v":"Calibrate"},{"$f":"IF(((Table16[[#This Row],[Next Calibration]]-TODAY())/30)>2,\"More Than 2\",IF(((Table16[[#This Row],[Next Calibration]]-TODAY())/30)>1,\"Between 2 and 1\",\"Less than 1\"))","v":{"$error":"#VALUE!"}},{"$f":"IF(Table16[[#This Row],[Issued]]=\"\",\"\",IF(Table16[[#This Row],[Lent]]=\"\",0,1))","v":{"v":0,"d":"0.00"}},{"$f":"IF(Table16[[#This Row],[Lent]]=\"\",\"\",IF(Table16[[#This Row],[Returned]]=\"\",0,1))","v":""}]
[{"$nulls":11},{"$f":"IF(IF(Table16[[#This Row],[Disposition]]=\"Retired\",\"N/A\",IF(Table16[[#This Row],[Disposition]]=0,\"\",K82+$F$2))=0+$F$2,\"NEVER CALIBRATED\",IF(Table16[[#This Row],[Disposition]]=\"Retired\",\"N/A\",IF(Table16[[#This Row],[Disposition]]=0,\"\",K82+$F$2)))","v":""},{"$f":"IF(Table16[[#This Row],[Disposition]]=\"\",\"\",IF(AND(Table16[[#This Row],[Next Calibration]]<$E$1,Table16[[#This Row],[Disposition]]=\"Lost\"),\"Find and Calibrate\",IF(Table16[[#This Row],[Disposition]]=\"Lost\",\"Find\",IF(OR(Table16[[#This Row],[Next Calibration]]<$E$1,Table16[[#This Row],[Next Calibration]]=\"NEVER CALIBRATED\"),\"Calibrate\",\"Nominal\"))))","v":""},{"$f":"IF(((Table16[[#This Row],[Next Calibration]]-TODAY())/30)>2,\"More Than 2\",IF(((Table16[[#This Row],[Next Calibration]]-TODAY())/30)>1,\"Between 2 and 1\",\"Less than 1\"))","v":{"$error":"#VALUE!"}},{"$f":"IF(Table16[[#This Row],[Issued]]=\"\",\"\",IF(Table16[[#This Row],[Lent]]=\"\",0,1))","v":""},{"$f":"IF(Table16[[#This Row],[Lent]]=\"\",\"\",IF(Table16[[#This Row],[Returned]]=\"\",0,1))","v":""}]
[{"$nulls":11},{"$f":"IF(IF(Table16[[#This Row],[Disposition]]=\"Retired\",\"N/A\",IF(Table16[[#This Row],[Disposition]]=0,\"\",K83+$F$2))=0+$F$2,\"NEVER CALIBRATED\",IF(Table16[[#This Row],[Disposition]]=\"Retired\",\"N/A\",IF(Table16[[#This Row],[Disposition]]=0,\"\",K83+$F$2)))","v":""},{"$f":"IF(Table16[[#This Row],[Disposition]]=\"\",\"\",IF(AND(Table16[[#This Row],[Next Calibration]]<$E$1,Table16[[#This Row],[Disposition]]=\"Lost\"),\"Find and Calibrate\",IF(Table16[[#This Row],[Disposition]]=\"Lost\",\"Find\",IF(OR(Table16[[#This Row],[Next Calibration]]<$E$1,Table16[[#This Row],[Next Calibration]]=\"NEVER CALIBRATED\"),\"Calibrate\",\"Nominal\"))))","v":""},{"$f":"IF(((Table16[[#This Row],[Next Calibration]]-TODAY())/30)>2,\"More Than 2\",IF(((Table16[[#This Row],[Next Calibration]]-TODAY())/30)>1,\"Between 2 and 1\",\"Less than 1\"))","v":{"$error":"#VALUE!"}},{"$f":"IF(Table16[[#This Row],[Issued]]=\"\",\"\",IF(Table16[[#This Row],[Lent]]=\"\",0,1))","v":""},{"$f":"IF(Table16[[#This Row],[Lent]]=\"\",\"\",IF(Table16[[#This Row],[Returned]]=\"\",0,1))","v":""}]
[{"$nulls":11},{"$f":"IF(IF(Table16[[#This Row],[Disposition]]=\"Retired\",\"N/A\",IF(Table16[[#This Row],[Disposition]]=0,\"\",K84+$F$2))=0+$F$2,\"NEVER CALIBRATED\",IF(Table16[[#This Row],[Disposition]]=\"Retired\",\"N/A\",IF(Table16[[#This Row],[Disposition]]=0,\"\",K84+$F$2)))","v":""},{"$f":"IF(Table16[[#This Row],[Disposition]]=\"\",\"\",IF(AND(Table16[[#This Row],[Next Calibration]]<$E$1,Table16[[#This Row],[Disposition]]=\"Lost\"),\"Find and Calibrate\",IF(Table16[[#This Row],[Disposition]]=\"Lost\",\"Find\",IF(OR(Table16[[#This Row],[Next Calibration]]<$E$1,Table16[[#This Row],[Next Calibration]]=\"NEVER CALIBRATED\"),\"Calibrate\",\"Nominal\"))))","v":""},{"$f":"IF(((Table16[[#This Row],[Next Calibration]]-TODAY())/30)>2,\"More Than 2\",IF(((Table16[[#This Row],[Next Calibration]]-TODAY())/30)>1,\"Between 2 and 1\",\"Less than 1\"))","v":{"$error":"#VALUE!"}},{"$f":"IF(Table16[[#This Row],[Issued]]=\"\",\"\",IF(Table16[[#This Row],[Lent]]=\"\",0,1))","v":""},{"$f":"IF(Table16[[#This Row],[Lent]]=\"\",\"\",IF(Table16[[#This Row],[Returned]]=\"\",0,1))","v":""}]
[{"$nulls":11},{"$f":"IF(IF(Table16[[#This Row],[Disposition]]=\"Retired\",\"N/A\",IF(Table16[[#This Row],[Disposition]]=0,\"\",K85+$F$2))=0+$F$2,\"NEVER CALIBRATED\",IF(Table16[[#This Row],[Disposition]]=\"Retired\",\"N/A\",IF(Table16[[#This Row],[Disposition]]=0,\"\",K85+$F$2)))","v":""},{"$f":"IF(Table16[[#This Row],[Disposition]]=\"\",\"\",IF(AND(Table16[[#This Row],[Next Calibration]]<$E$1,Table16[[#This Row],[Disposition]]=\"Lost\"),\"Find and Calibrate\",IF(Table16[[#This Row],[Disposition]]=\"Lost\",\"Find\",IF(OR(Table16[[#This Row],[Next Calibration]]<$E$1,Table16[[#This Row],[Next Calibration]]=\"NEVER CALIBRATED\"),\"Calibrate\",\"Nominal\"))))","v":""},{"$f":"IF(((Table16[[#This Row],[Next Calibration]]-TODAY())/30)>2,\"More Than 2\",IF(((Table16[[#This Row],[Next Calibration]]-TODAY())/30)>1,\"Between 2 and 1\",\"Less than 1\"))","v":{"$error":"#VALUE!"}},{"$f":"IF(Table16[[#This Row],[Issued]]=\"\",\"\",IF(Table16[[#This Row],[Lent]]=\"\",0,1))","v":""},{"$f":"IF(Table16[[#This Row],[Lent]]=\"\",\"\",IF(Table16[[#This Row],[Returned]]=\"\",0,1))","v":""}]
[{"$nulls":11},{"$f":"IF(IF(Table16[[#This Row],[Disposition]]=\"Retired\",\"N/A\",IF(Table16[[#This Row],[Disposition]]=0,\"\",K86+$F$2))=0+$F$2,\"NEVER CALIBRATED\",IF(Table16[[#This Row],[Disposition]]=\"Retired\",\"N/A\",IF(Table16[[#This Row],[Disposition]]=0,\"\",K86+$F$2)))","v":""},{"$f":"IF(Table16[[#This Row],[Disposition]]=\"\",\"\",IF(AND(Table16[[#This Row],[Next Calibration]]<$E$1,Table16[[#This Row],[Disposition]]=\"Lost\"),\"Find and Calibrate\",IF(Table16[[#This Row],[Disposition]]=\"Lost\",\"Find\",IF(OR(Table16[[#This Row],[Next Calibration]]<$E$1,Table16[[#This Row],[Next Calibration]]=\"NEVER CALIBRATED\"),\"Calibrate\",\"Nominal\"))))","v":""},{"$f":"IF(((Table16[[#This Row],[Next Calibration]]-TODAY())/30)>2,\"More Than 2\",IF(((Table16[[#This Row],[Next Calibration]]-TODAY())/30)>1,\"Between 2 and 1\",\"Less than 1\"))","v":{"$error":"#VALUE!"}},{"$f":"IF(Table16[[#This Row],[Issued]]=\"\",\"\",IF(Table16[[#This Row],[Lent]]=\"\",0,1))","v":""},{"$f":"IF(Table16[[#This Row],[Lent]]=\"\",\"\",IF(Table16[[#This Row],[Returned]]=\"\",0,1))","v":""}]
[{"$nulls":11},{"$f":"IF(IF(Table16[[#This Row],[Disposition]]=\"Retired\",\"N/A\",IF(Table16[[#This Row],[Disposition]]=0,\"\",K87+$F$2))=0+$F$2,\"NEVER CALIBRATED\",IF(Table16[[#This Row],[Disposition]]=\"Retired\",\"N/A\",IF(Table16[[#This Row],[Disposition]]=0,\"\",K87+$F$2)))","v":""},{"$f":"IF(Table16[[#This Row],[Disposition]]=\"\",\"\",IF(AND(Table16[[#This Row],[Next Calibration]]<$E$1,Table16[[#This Row],[Disposition]]=\"Lost\"),\"Find and Calibrate\",IF(Table16[[#This Row],[Disposition]]=\"Lost\",\"Find\",IF(OR(Table16[[#This Row],[Next Calibration]]<$E$1,Table16[[#This Row],[Next Calibration]]=\"NEVER CALIBRATED\"),\"Calibrate\",\"Nominal\"))))","v":""},{"$f":"IF(((Table16[[#This Row],[Next Calibration]]-TODAY())/30)>2,\"More Than 2\",IF(((Table16[[#This Row],[Next Calibration]]-TODAY())/30)>1,\"Between 2 and 1\",\"Less than 1\"))","v":{"$error":"#VALUE!"}},{"$f":"IF(Table16[[#This Row],[Issued]]=\"\",\"\",IF(Table16[[#This Row],[Lent]]=\"\",0,1))","v":""},{"$f":"IF(Table16[[#This Row],[Lent]]=\"\",\"\",IF(Table16[[#This Row],[Returned]]=\"\",0,1))","v":""}]
[{"$nulls":11},{"$f":"IF(IF(Table16[[#This Row],[Disposition]]=\"Retired\",\"N/A\",IF(Table16[[#This Row],[Disposition]]=0,\"\",K88+$F$2))=0+$F$2,\"NEVER CALIBRATED\",IF(Table16[[#This Row],[Disposition]]=\"Retired\",\"N/A\",IF(Table16[[#This Row],[Disposition]]=0,\"\",K88+$F$2)))","v":""},{"$f":"IF(Table16[[#This Row],[Disposition]]=\"\",\"\",IF(AND(Table16[[#This Row],[Next Calibration]]<$E$1,Table16[[#This Row],[Disposition]]=\"Lost\"),\"Find and Calibrate\",IF(Table16[[#This Row],[Disposition]]=\"Lost\",\"Find\",IF(OR(Table16[[#This Row],[Next Calibration]]<$E$1,Table16[[#This Row],[Next Calibration]]=\"NEVER CALIBRATED\"),\"Calibrate\",\"Nominal\"))))","v":""},{"$f":"IF(((Table16[[#This Row],[Next Calibration]]-TODAY())/30)>2,\"More Than 2\",IF(((Table16[[#This Row],[Next Calibration]]-TODAY())/30)>1,\"Between 2 and 1\",\"Less than 1\"))","v":{"$error":"#VALUE!"}},{"$f":"IF(Table16[[#This Row],[Issued]]=\"\",\"\",IF(Table16[[#This Row],[Lent]]=\"\",0,1))","v":""},{"$f":"IF(Table16[[#This Row],[Lent]]=\"\",\"\",IF(Table16[[#This Row],[Returned]]=\"\",0,1))","v":""}]
[{"$nulls":11},{"$f":"IF(IF(Table16[[#This Row],[Disposition]]=\"Retired\",\"N/A\",IF(Table16[[#This Row],[Disposition]]=0,\"\",K89+$F$2))=0+$F$2,\"NEVER CALIBRATED\",IF(Table16[[#This Row],[Disposition]]=\"Retired\",\"N/A\",IF(Table16[[#This Row],[Disposition]]=0,\"\",K89+$F$2)))","v":""},{"$f":"IF(Table16[[#This Row],[Disposition]]=\"\",\"\",IF(AND(Table16[[#This Row],[Next Calibration]]<$E$1,Table16[[#This Row],[Disposition]]=\"Lost\"),\"Find and Calibrate\",IF(Table16[[#This Row],[Disposition]]=\"Lost\",\"Find\",IF(OR(Table16[[#This Row],[Next Calibration]]<$E$1,Table16[[#This Row],[Next Calibration]]=\"NEVER CALIBRATED\"),\"Calibrate\",\"Nominal\"))))","v":""},{"$f":"IF(((Table16[[#This Row],[Next Calibration]]-TODAY())/30)>2,\"More Than 2\",IF(((Table16[[#This Row],[Next Calibration]]-TODAY())/30)>1,\"Between 2 and 1\",\"Less than 1\"))","v":{"$error":"#VALUE!"}},{"$f":"IF(Table16[[#This Row],[Issued]]=\"\",\"\",IF(Table16[[#This Row],[Lent]]=\"\",0,1))","v":""},{"$f":"IF(Table16[[#This Row],[Lent]]=\"\",\"\",IF(Table16[[#This Row],[Returned]]=\"\",0,1))","v":""}]
[{"$nulls":11},{"$f":"IF(IF(Table16[[#This Row],[Disposition]]=\"Retired\",\"N/A\",IF(Table16[[#This Row],[Disposition]]=0,\"\",K90+$F$2))=0+$F$2,\"NEVER CALIBRATED\",IF(Table16[[#This Row],[Disposition]]=\"Retired\",\"N/A\",IF(Table16[[#This Row],[Disposition]]=0,\"\",K90+$F$2)))","v":""},{"$f":"IF(Table16[[#This Row],[Disposition]]=\"\",\"\",IF(AND(Table16[[#This Row],[Next Calibration]]<$E$1,Table16[[#This Row],[Disposition]]=\"Lost\"),\"Find and Calibrate\",IF(Table16[[#This Row],[Disposition]]=\"Lost\",\"Find\",IF(OR(Table16[[#This Row],[Next Calibration]]<$E$1,Table16[[#This Row],[Next Calibration]]=\"NEVER CALIBRATED\"),\"Calibrate\",\"Nominal\"))))","v":""},{"$f":"IF(((Table16[[#This Row],[Next Calibration]]-TODAY())/30)>2,\"More Than 2\",IF(((Table16[[#This Row],[Next Calibration]]-TODAY())/30)>1,\"Between 2 and 1\",\"Less than 1\"))","v":{"$error":"#VALUE!"}},{"$f":"IF(Table16[[#This Row],[Issued]]=\"\",\"\",IF(Table16[[#This Row],[Lent]]=\"\",0,1))","v":""},{"$f":"IF(Table16[[#This Row],[Lent]]=\"\",\"\",IF(Table16[[#This Row],[Returned]]=\"\",0,1))","v":""}]
[{"$nulls":11},{"$f":"IF(IF(Table16[[#This Row],[Disposition]]=\"Retired\",\"N/A\",IF(Table16[[#This Row],[Disposition]]=0,\"\",K91+$F$2))=0+$F$2,\"NEVER CALIBRATED\",IF(Table16[[#This Row],[Disposition]]=\"Retired\",\"N/A\",IF(Table16[[#This Row],[Disposition]]=0,\"\",K91+$F$2)))","v":""},{"$f":"IF(Table16[[#This Row],[Disposition]]=\"\",\"\",IF(AND(Table16[[#This Row],[Next Calibration]]<$E$1,Table16[[#This Row],[Disposition]]=\"Lost\"),\"Find and Calibrate\",IF(Table16[[#This Row],[Disposition]]=\"Lost\",\"Find\",IF(OR(Table16[[#This Row],[Next Calibration]]<$E$1,Table16[[#This Row],[Next Calibration]]=\"NEVER CALIBRATED\"),\"Calibrate\",\"Nominal\"))))","v":""},{"$f":"IF(((Table16[[#This Row],[Next Calibration]]-TODAY())/30)>2,\"More Than 2\",IF(((Table16[[#This Row],[Next Calibration]]-TODAY())/30)>1,\"Between 2 and 1\",\"Less than 1\"))","v":{"$error":"#VALUE!"}},{"$f":"IF(Table16[[#This Row],[Issued]]=\"\",\"\",IF(Table16[[#This Row],[Lent]]=\"\",0,1))","v":""},{"$f":"IF(Table16[[#This Row],[Lent]]=\"\",\"\",IF(Table16[[#This Row],[Returned]]=\"\",0,1))","v":""}]
[{"$nulls":11},{"$f":"IF(IF(Table16[[#This Row],[Disposition]]=\"Retired\",\"N/A\",IF(Table16[[#This Row],[Disposition]]=0,\"\",K92+$F$2))=0+$F$2,\"NEVER CALIBRATED\",IF(Table16[[#This Row],[Disposition]]=\"Retired\",\"N/A\",IF(Table16[[#This Row],[Disposition]]=0,\"\",K92+$F$2)))","v":""},{"$f":"IF(Table16[[#This Row],[Disposition]]=\"\",\"\",IF(AND(Table16[[#This Row],[Next Calibration]]<$E$1,Table16[[#This Row],[Disposition]]=\"Lost\"),\"Find and Calibrate\",IF(Table16[[#This Row],[Disposition]]=\"Lost\",\"Find\",IF(OR(Table16[[#This Row],[Next Calibration]]<$E$1,Table16[[#This Row],[Next Calibration]]=\"NEVER CALIBRATED\"),\"Calibrate\",\"Nominal\"))))","v":""},{"$f":"IF(((Table16[[#This Row],[Next Calibration]]-TODAY())/30)>2,\"More Than 2\",IF(((Table16[[#This Row],[Next Calibration]]-TODAY())/30)>1,\"Between 2 and 1\",\"Less than 1\"))","v":{"$error":"#VALUE!"}},{"$f":"IF(Table16[[#This Row],[Issued]]=\"\",\"\",IF(Table16[[#This Row],[Lent]]=\"\",0,1))","v":""},{"$f":"IF(Table16[[#This Row],[Lent]]=\"\",\"\",IF(Table16[[#This Row],[Returned]]=\"\",0,1))","v":""}]
[{"$nulls":11},{"$f":"IF(IF(Table16[[#This Row],[Disposition]]=\"Retired\",\"N/A\",IF(Table16[[#This Row],[Disposition]]=0,\"\",K93+$F$2))=0+$F$2,\"NEVER CALIBRATED\",IF(Table16[[#This Row],[Disposition]]=\"Retired\",\"N/A\",IF(Table16[[#This Row],[Disposition]]=0,\"\",K93+$F$2)))","v":""},{"$f":"IF(Table16[[#This Row],[Disposition]]=\"\",\"\",IF(AND(Table16[[#This Row],[Next Calibration]]<$E$1,Table16[[#This Row],[Disposition]]=\"Lost\"),\"Find and Calibrate\",IF(Table16[[#This Row],[Disposition]]=\"Lost\",\"Find\",IF(OR(Table16[[#This Row],[Next Calibration]]<$E$1,Table16[[#This Row],[Next Calibration]]=\"NEVER CALIBRATED\"),\"Calibrate\",\"Nominal\"))))","v":""},{"$f":"IF(((Table16[[#This Row],[Next Calibration]]-TODAY())/30)>2,\"More Than 2\",IF(((Table16[[#This Row],[Next Calibration]]-TODAY())/30)>1,\"Between 2 and 1\",\"Less than 1\"))","v":{"$error":"#VALUE!"}},{"$f":"IF(Table16[[#This Row],[Issued]]=\"\",\"\",IF(Table16[[#This Row],[Lent]]=\"\",0,1))","v":""},{"$f":"IF(Table16[[#This Row],[Lent]]=\"\",\"\",IF(Table16[[#This Row],[Returned]]=\"\",0,1))","v":""}]
[{"$nulls":11},{"$f":"IF(IF(Table16[[#This Row],[Disposition]]=\"Retired\",\"N/A\",IF(Table16[[#This Row],[Disposition]]=0,\"\",K94+$F$2))=0+$F$2,\"NEVER CALIBRATED\",IF(Table16[[#This Row],[Disposition]]=\"Retired\",\"N/A\",IF(Table16[[#This Row],[Disposition]]=0,\"\",K94+$F$2)))","v":""},{"$f":"IF(Table16[[#This Row],[Disposition]]=\"\",\"\",IF(AND(Table16[[#This Row],[Next Calibration]]<$E$1,Table16[[#This Row],[Disposition]]=\"Lost\"),\"Find and Calibrate\",IF(Table16[[#This Row],[Disposition]]=\"Lost\",\"Find\",IF(OR(Table16[[#This Row],[Next Calibration]]<$E$1,Table16[[#This Row],[Next Calibration]]=\"NEVER CALIBRATED\"),\"Calibrate\",\"Nominal\"))))","v":""},{"$f":"IF(((Table16[[#This Row],[Next Calibration]]-TODAY())/30)>2,\"More Than 2\",IF(((Table16[[#This Row],[Next Calibration]]-TODAY())/30)>1,\"Between 2 and 1\",\"Less than 1\"))","v":{"$error":"#VALUE!"}},{"$f":"IF(Table16[[#This Row],[Issued]]=\"\",\"\",IF(Table16[[#This Row],[Lent]]=\"\",0,1))","v":""},{"$f":"IF(Table16[[#This Row],[Lent]]=\"\",\"\",IF(Table16[[#This Row],[Returned]]=\"\",0,1))","v":""}]
[{"$nulls":11},{"$f":"IF(IF(Table16[[#This Row],[Disposition]]=\"Retired\",\"N/A\",IF(Table16[[#This Row],[Disposition]]=0,\"\",K95+$F$2))=0+$F$2,\"NEVER CALIBRATED\",IF(Table16[[#This Row],[Disposition]]=\"Retired\",\"N/A\",IF(Table16[[#This Row],[Disposition]]=0,\"\",K95+$F$2)))","v":""},{"$f":"IF(Table16[[#This Row],[Disposition]]=\"\",\"\",IF(AND(Table16[[#This Row],[Next Calibration]]<$E$1,Table16[[#This Row],[Disposition]]=\"Lost\"),\"Find and Calibrate\",IF(Table16[[#This Row],[Disposition]]=\"Lost\",\"Find\",IF(OR(Table16[[#This Row],[Next Calibration]]<$E$1,Table16[[#This Row],[Next Calibration]]=\"NEVER CALIBRATED\"),\"Calibrate\",\"Nominal\"))))","v":""},{"$f":"IF(((Table16[[#This Row],[Next Calibration]]-TODAY())/30)>2,\"More Than 2\",IF(((Table16[[#This Row],[Next Calibration]]-TODAY())/30)>1,\"Between 2 and 1\",\"Less than 1\"))","v":{"$error":"#VALUE!"}},{"$f":"IF(Table16[[#This Row],[Issued]]=\"\",\"\",IF(Table16[[#This Row],[Lent]]=\"\",0,1))","v":""},{"$f":"IF(Table16[[#This Row],[Lent]]=\"\",\"\",IF(Table16[[#This Row],[Returned]]=\"\",0,1))","v":""}]
[{"$nulls":11},{"$f":"IF(IF(Table16[[#This Row],[Disposition]]=\"Retired\",\"N/A\",IF(Table16[[#This Row],[Disposition]]=0,\"\",K96+$F$2))=0+$F$2,\"NEVER CALIBRATED\",IF(Table16[[#This Row],[Disposition]]=\"Retired\",\"N/A\",IF(Table16[[#This Row],[Disposition]]=0,\"\",K96+$F$2)))","v":""},{"$f":"IF(Table16[[#This Row],[Disposition]]=\"\",\"\",IF(AND(Table16[[#This Row],[Next Calibration]]<$E$1,Table16[[#This Row],[Disposition]]=\"Lost\"),\"Find and Calibrate\",IF(Table16[[#This Row],[Disposition]]=\"Lost\",\"Find\",IF(OR(Table16[[#This Row],[Next Calibration]]<$E$1,Table16[[#This Row],[Next Calibration]]=\"NEVER CALIBRATED\"),\"Calibrate\",\"Nominal\"))))","v":""},{"$f":"IF(((Table16[[#This Row],[Next Calibration]]-TODAY())/30)>2,\"More Than 2\",IF(((Table16[[#This Row],[Next Calibration]]-TODAY())/30)>1,\"Between 2 and 1\",\"Less than 1\"))","v":{"$error":"#VALUE!"}},{"$f":"IF(Table16[[#This Row],[Issued]]=\"\",\"\",IF(Table16[[#This Row],[Lent]]=\"\",0,1))","v":""},{"$f":"IF(Table16[[#This Row],[Lent]]=\"\",\"\",IF(Table16[[#This Row],[Returned]]=\"\",0,1))","v":""}]
[{"$nulls":11},{"$f":"IF(IF(Table16[[#This Row],[Disposition]]=\"Retired\",\"N/A\",IF(Table16[[#This Row],[Disposition]]=0,\"\",K97+$F$2))=0+$F$2,\"NEVER CALIBRATED\",IF(Table16[[#This Row],[Disposition]]=\"Retired\",\"N/A\",IF(Table16[[#This Row],[Disposition]]=0,\"\",K97+$F$2)))","v":""},{"$f":"IF(Table16[[#This Row],[Disposition]]=\"\",\"\",IF(AND(Table16[[#This Row],[Next Calibration]]<$E$1,Table16[[#This Row],[Disposition]]=\"Lost\"),\"Find and Calibrate\",IF(Table16[[#This Row],[Disposition]]=\"Lost\",\"Find\",IF(OR(Table16[[#This Row],[Next Calibration]]<$E$1,Table16[[#This Row],[Next Calibration]]=\"NEVER CALIBRATED\"),\"Calibrate\",\"Nominal\"))))","v":""},{"$f":"IF(((Table16[[#This Row],[Next Calibration]]-TODAY())/30)>2,\"More Than 2\",IF(((Table16[[#This Row],[Next Calibration]]-TODAY())/30)>1,\"Between 2 and 1\",\"Less than 1\"))","v":{"$error":"#VALUE!"}},{"$f":"IF(Table16[[#This Row],[Issued]]=\"\",\"\",IF(Table16[[#This Row],[Lent]]=\"\",0,1))","v":""},{"$f":"IF(Table16[[#This Row],[Lent]]=\"\",\"\",IF(Table16[[#This Row],[Returned]]=\"\",0,1))","v":""}]
[{"$nulls":11},{"$f":"IF(IF(Table16[[#This Row],[Disposition]]=\"Retired\",\"N/A\",IF(Table16[[#This Row],[Disposition]]=0,\"\",K98+$F$2))=0+$F$2,\"NEVER CALIBRATED\",IF(Table16[[#This Row],[Disposition]]=\"Retired\",\"N/A\",IF(Table16[[#This Row],[Disposition]]=0,\"\",K98+$F$2)))","v":""},{"$f":"IF(Table16[[#This Row],[Disposition]]=\"\",\"\",IF(AND(Table16[[#This Row],[Next Calibration]]<$E$1,Table16[[#This Row],[Disposition]]=\"Lost\"),\"Find and Calibrate\",IF(Table16[[#This Row],[Disposition]]=\"Lost\",\"Find\",IF(OR(Table16[[#This Row],[Next Calibration]]<$E$1,Table16[[#This Row],[Next Calibration]]=\"NEVER CALIBRATED\"),\"Calibrate\",\"Nominal\"))))","v":""},{"$f":"IF(((Table16[[#This Row],[Next Calibration]]-TODAY())/30)>2,\"More Than 2\",IF(((Table16[[#This Row],[Next Calibration]]-TODAY())/30)>1,\"Between 2 and 1\",\"Less than 1\"))","v":{"$error":"#VALUE!"}},{"$f":"IF(Table16[[#This Row],[Issued]]=\"\",\"\",IF(Table16[[#This Row],[Lent]]=\"\",0,1))","v":""},{"$f":"IF(Table16[[#This Row],[Lent]]=\"\",\"\",IF(Table16[[#This Row],[Returned]]=\"\",0,1))","v":""}]
[{"$nulls":11},{"$f":"IF(IF(Table16[[#This Row],[Disposition]]=\"Retired\",\"N/A\",IF(Table16[[#This Row],[Disposition]]=0,\"\",K99+$F$2))=0+$F$2,\"NEVER CALIBRATED\",IF(Table16[[#This Row],[Disposition]]=\"Retired\",\"N/A\",IF(Table16[[#This Row],[Disposition]]=0,\"\",K99+$F$2)))","v":""},{"$f":"IF(Table16[[#This Row],[Disposition]]=\"\",\"\",IF(AND(Table16[[#This Row],[Next Calibration]]<$E$1,Table16[[#This Row],[Disposition]]=\"Lost\"),\"Find and Calibrate\",IF(Table16[[#This Row],[Disposition]]=\"Lost\",\"Find\",IF(OR(Table16[[#This Row],[Next Calibration]]<$E$1,Table16[[#This Row],[Next Calibration]]=\"NEVER CALIBRATED\"),\"Calibrate\",\"Nominal\"))))","v":""},{"$f":"IF(((Table16[[#This Row],[Next Calibration]]-TODAY())/30)>2,\"More Than 2\",IF(((Table16[[#This Row],[Next Calibration]]-TODAY())/30)>1,\"Between 2 and 1\",\"Less than 1\"))","v":{"$error":"#VALUE!"}},{"$f":"IF(Table16[[#This Row],[Issued]]=\"\",\"\",IF(Table16[[#This Row],[Lent]]=\"\",0,1))","v":""},{"$f":"IF(Table16[[#This Row],[Lent]]=\"\",\"\",IF(Table16[[#This Row],[Returned]]=\"\",0,1))","v":""}]
[{"$nulls":11},{"$f":"IF(IF(Table16[[#This Row],[Disposition]]=\"Retired\",\"N/A\",IF(Table16[[#This Row],[Disposition]]=0,\"\",K100+$F$2))=0+$F$2,\"NEVER CALIBRATED\",IF(Table16[[#This Row],[Disposition]]=\"Retired\",\"N/A\",IF(Table16[[#This Row],[Disposition]]=0,\"\",K100+$F$2)))","v":""},{"$f":"IF(Table16[[#This Row],[Disposition]]=\"\",\"\",IF(AND(Table16[[#This Row],[Next Calibration]]<$E$1,Table16[[#This Row],[Disposition]]=\"Lost\"),\"Find and Calibrate\",IF(Table16[[#This Row],[Disposition]]=\"Lost\",\"Find\",IF(OR(Table16[[#This Row],[Next Calibration]]<$E$1,Table16[[#This Row],[Next Calibration]]=\"NEVER CALIBRATED\"),\"Calibrate\",\"Nominal\"))))","v":""},{"$f":"IF(((Table16[[#This Row],[Next Calibration]]-TODAY())/30)>2,\"More Than 2\",IF(((Table16[[#This Row],[Next Calibration]]-TODAY())/30)>1,\"Between 2 and 1\",\"Less than 1\"))","v":{"$error":"#VALUE!"}},{"$f":"IF(Table16[[#This Row],[Issued]]=\"\",\"\",IF(Table16[[#This Row],[Lent]]=\"\",0,1))","v":""},{"$f":"IF(Table16[[#This Row],[Lent]]=\"\",\"\",IF(Table16[[#This Row],[Returned]]=\"\",0,1))","v":""}]
[{"$nulls":11},{"$f":"IF(IF(Table16[[#This Row],[Disposition]]=\"Retired\",\"N/A\",IF(Table16[[#This Row],[Disposition]]=0,\"\",K101+$F$2))=0+$F$2,\"NEVER CALIBRATED\",IF(Table16[[#This Row],[Disposition]]=\"Retired\",\"N/A\",IF(Table16[[#This Row],[Disposition]]=0,\"\",K101+$F$2)))","v":""},{"$f":"IF(Table16[[#This Row],[Disposition]]=\"\",\"\",IF(AND(Table16[[#This Row],[Next Calibration]]<$E$1,Table16[[#This Row],[Disposition]]=\"Lost\"),\"Find and Calibrate\",IF(Table16[[#This Row],[Disposition]]=\"Lost\",\"Find\",IF(OR(Table16[[#This Row],[Next Calibration]]<$E$1,Table16[[#This Row],[Next Calibration]]=\"NEVER CALIBRATED\"),\"Calibrate\",\"Nominal\"))))","v":""},{"$f":"IF(((Table16[[#This Row],[Next Calibration]]-TODAY())/30)>2,\"More Than 2\",IF(((Table16[[#This Row],[Next Calibration]]-TODAY())/30)>1,\"Between 2 and 1\",\"Less than 1\"))","v":{"$error":"#VALUE!"}},{"$f":"IF(Table16[[#This Row],[Issued]]=\"\",\"\",IF(Table16[[#This Row],[Lent]]=\"\",0,1))","v":""},{"$f":"IF(Table16[[#This Row],[Lent]]=\"\",\"\",IF(Table16[[#This Row],[Returned]]=\"\",0,1))","v":""}]
[{"$nulls":11},{"$f":"IF(IF(Table16[[#This Row],[Disposition]]=\"Retired\",\"N/A\",IF(Table16[[#This Row],[Disposition]]=0,\"\",K102+$F$2))=0+$F$2,\"NEVER CALIBRATED\",IF(Table16[[#This Row],[Disposition]]=\"Retired\",\"N/A\",IF(Table16[[#This Row],[Disposition]]=0,\"\",K102+$F$2)))","v":""},{"$f":"IF(Table16[[#This Row],[Disposition]]=\"\",\"\",IF(AND(Table16[[#This Row],[Next Calibration]]<$E$1,Table16[[#This Row],[Disposition]]=\"Lost\"),\"Find and Calibrate\",IF(Table16[[#This Row],[Disposition]]=\"Lost\",\"Find\",IF(OR(Table16[[#This Row],[Next Calibration]]<$E$1,Table16[[#This Row],[Next Calibration]]=\"NEVER CALIBRATED\"),\"Calibrate\",\"Nominal\"))))","v":""},{"$f":"IF(((Table16[[#This Row],[Next Calibration]]-TODAY())/30)>2,\"More Than 2\",IF(((Table16[[#This Row],[Next Calibration]]-TODAY())/30)>1,\"Between 2 and 1\",\"Less than 1\"))","v":{"$error":"#VALUE!"}},{"$f":"IF(Table16[[#This Row],[Issued]]=\"\",\"\",IF(Table16[[#This Row],[Lent]]=\"\",0,1))","v":""},{"$f":"IF(Table16[[#This Row],[Lent]]=\"\",\"\",IF(Table16[[#This Row],[Returned]]=\"\",0,1))","v":""}]
[{"$nulls":11},{"$f":"IF(IF(Table16[[#This Row],[Disposition]]=\"Retired\",\"N/A\",IF(Table16[[#This Row],[Disposition]]=0,\"\",K103+$F$2))=0+$F$2,\"NEVER CALIBRATED\",IF(Table16[[#This Row],[Disposition]]=\"Retired\",\"N/A\",IF(Table16[[#This Row],[Disposition]]=0,\"\",K103+$F$2)))","v":""},{"$f":"IF(Table16[[#This Row],[Disposition]]=\"\",\"\",IF(AND(Table16[[#This Row],[Next Calibration]]<$E$1,Table16[[#This Row],[Disposition]]=\"Lost\"),\"Find and Calibrate\",IF(Table16[[#This Row],[Disposition]]=\"Lost\",\"Find\",IF(OR(Table16[[#This Row],[Next Calibration]]<$E$1,Table16[[#This Row],[Next Calibration]]=\"NEVER CALIBRATED\"),\"Calibrate\",\"Nominal\"))))","v":""},{"$f":"IF(((Table16[[#This Row],[Next Calibration]]-TODAY())/30)>2,\"More Than 2\",IF(((Table16[[#This Row],[Next Calibration]]-TODAY())/30)>1,\"Between 2 and 1\",\"Less than 1\"))","v":{"$error":"#VALUE!"}},{"$f":"IF(Table16[[#This Row],[Issued]]=\"\",\"\",IF(Table16[[#This Row],[Lent]]=\"\",0,1))","v":""},{"$f":"IF(Table16[[#This Row],[Lent]]=\"\",\"\",IF(Table16[[#This Row],[Returned]]=\"\",0,1))","v":""}]
[{"$nulls":11},{"$f":"IF(IF(Table16[[#This Row],[Disposition]]=\"Retired\",\"N/A\",IF(Table16[[#This Row],[Disposition]]=0,\"\",K104+$F$2))=0+$F$2,\"NEVER CALIBRATED\",IF(Table16[[#This Row],[Disposition]]=\"Retired\",\"N/A\",IF(Table16[[#This Row],[Disposition]]=0,\"\",K104+$F$2)))","v":""},{"$f":"IF(Table16[[#This Row],[Disposition]]=\"\",\"\",IF(AND(Table16[[#This Row],[Next Calibration]]<$E$1,Table16[[#This Row],[Disposition]]=\"Lost\"),\"Find and Calibrate\",IF(Table16[[#This Row],[Disposition]]=\"Lost\",\"Find\",IF(OR(Table16[[#This Row],[Next Calibration]]<$E$1,Table16[[#This Row],[Next Calibration]]=\"NEVER CALIBRATED\"),\"Calibrate\",\"Nominal\"))))","v":""},{"$f":"IF(((Table16[[#This Row],[Next Calibration]]-TODAY())/30)>2,\"More Than 2\",IF(((Table16[[#This Row],[Next Calibration]]-TODAY())/30)>1,\"Between 2 and 1\",\"Less than 1\"))","v":{"$error":"#VALUE!"}},{"$f":"IF(Table16[[#This Row],[Issued]]=\"\",\"\",IF(Table16[[#This Row],[Lent]]=\"\",0,1))","v":""},{"$f":"IF(Table16[[#This Row],[Lent]]=\"\",\"\",IF(Table16[[#This Row],[Returned]]=\"\",0,1))","v":""}]
[{"$nulls":11},{"$f":"IF(IF(Table16[[#This Row],[Disposition]]=\"Retired\",\"N/A\",IF(Table16[[#This Row],[Disposition]]=0,\"\",K105+$F$2))=0+$F$2,\"NEVER CALIBRATED\",IF(Table16[[#This Row],[Disposition]]=\"Retired\",\"N/A\",IF(Table16[[#This Row],[Disposition]]=0,\"\",K105+$F$2)))","v":""},{"$f":"IF(Table16[[#This Row],[Disposition]]=\"\",\"\",IF(AND(Table16[[#This Row],[Next Calibration]]<$E$1,Table16[[#This Row],[Disposition]]=\"Lost\"),\"Find and Calibrate\",IF(Table16[[#This Row],[Disposition]]=\"Lost\",\"Find\",IF(OR(Table16[[#This Row],[Next Calibration]]<$E$1,Table16[[#This Row],[Next Calibration]]=\"NEVER CALIBRATED\"),\"Calibrate\",\"Nominal\"))))","v":""},{"$f":"IF(((Table16[[#This Row],[Next Calibration]]-TODAY())/30)>2,\"More Than 2\",IF(((Table16[[#This Row],[Next Calibration]]-TODAY())/30)>1,\"Between 2 and 1\",\"Less than 1\"))","v":{"$error":"#VALUE!"}},{"$f":"IF(Table16[[#This Row],[Issued]]=\"\",\"\",IF(Table16[[#This Row],[Lent]]=\"\",0,1))","v":""},{"$f":"IF(Table16[[#This Row],[Lent]]=\"\",\"\",IF(Table16[[#This Row],[Returned]]=\"\",0,1))","v":""}]
[{"$nulls":11},{"$f":"IF(IF(Table16[[#This Row],[Disposition]]=\"Retired\",\"N/A\",IF(Table16[[#This Row],[Disposition]]=0,\"\",K106+$F$2))=0+$F$2,\"NEVER CALIBRATED\",IF(Table16[[#This Row],[Disposition]]=\"Retired\",\"N/A\",IF(Table16[[#This Row],[Disposition]]=0,\"\",K106+$F$2)))","v":""},{"$f":"IF(Table16[[#This Row],[Disposition]]=\"\",\"\",IF(AND(Table16[[#This Row],[Next Calibration]]<$E$1,Table16[[#This Row],[Disposition]]=\"Lost\"),\"Find and Calibrate\",IF(Table16[[#This Row],[Disposition]]=\"Lost\",\"Find\",IF(OR(Table16[[#This Row],[Next Calibration]]<$E$1,Table16[[#This Row],[Next Calibration]]=\"NEVER CALIBRATED\"),\"Calibrate\",\"Nominal\"))))","v":""},{"$f":"IF(((Table16[[#This Row],[Next Calibration]]-TODAY())/30)>2,\"More Than 2\",IF(((Table16[[#This Row],[Next Calibration]]-TODAY())/30)>1,\"Between 2 and 1\",\"Less than 1\"))","v":{"$error":"#VALUE!"}},{"$f":"IF(Table16[[#This Row],[Issued]]=\"\",\"\",IF(Table16[[#This Row],[Lent]]=\"\",0,1))","v":""},{"$f":"IF(Table16[[#This Row],[Lent]]=\"\",\"\",IF(Table16[[#This Row],[Returned]]=\"\",0,1))","v":""}]
[{"$nulls":11},{"$f":"IF(IF(Table16[[#This Row],[Disposition]]=\"Retired\",\"N/A\",IF(Table16[[#This Row],[Disposition]]=0,\"\",K107+$F$2))=0+$F$2,\"NEVER CALIBRATED\",IF(Table16[[#This Row],[Disposition]]=\"Retired\",\"N/A\",IF(Table16[[#This Row],[Disposition]]=0,\"\",K107+$F$2)))","v":""},{"$f":"IF(Table16[[#This Row],[Disposition]]=\"\",\"\",IF(AND(Table16[[#This Row],[Next Calibration]]<$E$1,Table16[[#This Row],[Disposition]]=\"Lost\"),\"Find and Calibrate\",IF(Table16[[#This Row],[Disposition]]=\"Lost\",\"Find\",IF(OR(Table16[[#This Row],[Next Calibration]]<$E$1,Table16[[#This Row],[Next Calibration]]=\"NEVER CALIBRATED\"),\"Calibrate\",\"Nominal\"))))","v":""},{"$f":"IF(((Table16[[#This Row],[Next Calibration]]-TODAY())/30)>2,\"More Than 2\",IF(((Table16[[#This Row],[Next Calibration]]-TODAY())/30)>1,\"Between 2 and 1\",\"Less than 1\"))","v":{"$error":"#VALUE!"}},{"$f":"IF(Table16[[#This Row],[Issued]]=\"\",\"\",IF(Table16[[#This Row],[Lent]]=\"\",0,1))","v":""},{"$f":"IF(Table16[[#This Row],[Lent]]=\"\",\"\",IF(Table16[[#This Row],[Returned]]=\"\",0,1))","v":""}]
[{"$nulls":11},{"$f":"IF(IF(Table16[[#This Row],[Disposition]]=\"Retired\",\"N/A\",IF(Table16[[#This Row],[Disposition]]=0,\"\",K108+$F$2))=0+$F$2,\"NEVER CALIBRATED\",IF(Table16[[#This Row],[Disposition]]=\"Retired\",\"N/A\",IF(Table16[[#This Row],[Disposition]]=0,\"\",K108+$F$2)))","v":""},{"$f":"IF(Table16[[#This Row],[Disposition]]=\"\",\"\",IF(AND(Table16[[#This Row],[Next Calibration]]<$E$1,Table16[[#This Row],[Disposition]]=\"Lost\"),\"Find and Calibrate\",IF(Table16[[#This Row],[Disposition]]=\"Lost\",\"Find\",IF(OR(Table16[[#This Row],[Next Calibration]]<$E$1,Table16[[#This Row],[Next Calibration]]=\"NEVER CALIBRATED\"),\"Calibrate\",\"Nominal\"))))","v":""},{"$f":"IF(((Table16[[#This Row],[Next Calibration]]-TODAY())/30)>2,\"More Than 2\",IF(((Table16[[#This Row],[Next Calibration]]-TODAY())/30)>1,\"Between 2 and 1\",\"Less than 1\"))","v":{"$error":"#VALUE!"}},{"$f":"IF(Table16[[#This Row],[Issued]]=\"\",\"\",IF(Table16[[#This Row],[Lent]]=\"\",0,1))","v":""},{"$f":"IF(Table16[[#This Row],[Lent]]=\"\",\"\",IF(Table16[[#This Row],[Returned]]=\"\",0,1))","v":""}]
[{"$nulls":11},{"$f":"IF(IF(Table16[[#This Row],[Disposition]]=\"Retired\",\"N/A\",IF(Table16[[#This Row],[Disposition]]=0,\"\",K109+$F$2))=0+$F$2,\"NEVER CALIBRATED\",IF(Table16[[#This Row],[Disposition]]=\"Retired\",\"N/A\",IF(Table16[[#This Row],[Disposition]]=0,\"\",K109+$F$2)))","v":""},{"$f":"IF(Table16[[#This Row],[Disposition]]=\"\",\"\",IF(AND(Table16[[#This Row],[Next Calibration]]<$E$1,Table16[[#This Row],[Disposition]]=\"Lost\"),\"Find and Calibrate\",IF(Table16[[#This Row],[Disposition]]=\"Lost\",\"Find\",IF(OR(Table16[[#This Row],[Next Calibration]]<$E$1,Table16[[#This Row],[Next Calibration]]=\"NEVER CALIBRATED\"),\"Calibrate\",\"Nominal\"))))","v":""},{"$f":"IF(((Table16[[#This Row],[Next Calibration]]-TODAY())/30)>2,\"More Than 2\",IF(((Table16[[#This Row],[Next Calibration]]-TODAY())/30)>1,\"Between 2 and 1\",\"Less than 1\"))","v":{"$error":"#VALUE!"}},{"$f":"IF(Table16[[#This Row],[Issued]]=\"\",\"\",IF(Table16[[#This Row],[Lent]]=\"\",0,1))","v":""},{"$f":"IF(Table16[[#This Row],[Lent]]=\"\",\"\",IF(Table16[[#This Row],[Returned]]=\"\",0,1))","v":""}]
[{"$nulls":11},{"$f":"IF(IF(Table16[[#This Row],[Disposition]]=\"Retired\",\"N/A\",IF(Table16[[#This Row],[Disposition]]=0,\"\",K110+$F$2))=0+$F$2,\"NEVER CALIBRATED\",IF(Table16[[#This Row],[Disposition]]=\"Retired\",\"N/A\",IF(Table16[[#This Row],[Disposition]]=0,\"\",K110+$F$2)))","v":""},{"$f":"IF(Table16[[#This Row],[Disposition]]=\"\",\"\",IF(AND(Table16[[#This Row],[Next Calibration]]<$E$1,Table16[[#This Row],[Disposition]]=\"Lost\"),\"Find and Calibrate\",IF(Table16[[#This Row],[Disposition]]=\"Lost\",\"Find\",IF(OR(Table16[[#This Row],[Next Calibration]]<$E$1,Table16[[#This Row],[Next Calibration]]=\"NEVER CALIBRATED\"),\"Calibrate\",\"Nominal\"))))","v":""},{"$f":"IF(((Table16[[#This Row],[Next Calibration]]-TODAY())/30)>2,\"More Than 2\",IF(((Table16[[#This Row],[Next Calibration]]-TODAY())/30)>1,\"Between 2 and 1\",\"Less than 1\"))","v":{"$error":"#VALUE!"}},{"$f":"IF(Table16[[#This Row],[Issued]]=\"\",\"\",IF(Table16[[#This Row],[Lent]]=\"\",0,1))","v":""},{"$f":"IF(Table16[[#This Row],[Lent]]=\"\",\"\",IF(Table16[[#This Row],[Returned]]=\"\",0,1))","v":""}]
[{"$nulls":11},{"$f":"IF(IF(Table16[[#This Row],[Disposition]]=\"Retired\",\"N/A\",IF(Table16[[#This Row],[Disposition]]=0,\"\",K111+$F$2))=0+$F$2,\"NEVER CALIBRATED\",IF(Table16[[#This Row],[Disposition]]=\"Retired\",\"N/A\",IF(Table16[[#This Row],[Disposition]]=0,\"\",K111+$F$2)))","v":""},{"$f":"IF(Table16[[#This Row],[Disposition]]=\"\",\"\",IF(AND(Table16[[#This Row],[Next Calibration]]<$E$1,Table16[[#This Row],[Disposition]]=\"Lost\"),\"Find and Calibrate\",IF(Table16[[#This Row],[Disposition]]=\"Lost\",\"Find\",IF(OR(Table16[[#This Row],[Next Calibration]]<$E$1,Table16[[#This Row],[Next Calibration]]=\"NEVER CALIBRATED\"),\"Calibrate\",\"Nominal\"))))","v":""},{"$f":"IF(((Table16[[#This Row],[Next Calibration]]-TODAY())/30)>2,\"More Than 2\",IF(((Table16[[#This Row],[Next Calibration]]-TODAY())/30)>1,\"Between 2 and 1\",\"Less than 1\"))","v":{"$error":"#VALUE!"}},{"$f":"IF(Table16[[#This Row],[Issued]]=\"\",\"\",IF(Table16[[#This Row],[Lent]]=\"\",0,1))","v":""},{"$f":"IF(Table16[[#This Row],[Lent]]=\"\",\"\",IF(Table16[[#This Row],[Returned]]=\"\",0,1))","v":""}]
[{"$nulls":11},{"$f":"IF(IF(Table16[[#This Row],[Disposition]]=\"Retired\",\"N/A\",IF(Table16[[#This Row],[Disposition]]=0,\"\",K112+$F$2))=0+$F$2,\"NEVER CALIBRATED\",IF(Table16[[#This Row],[Disposition]]=\"Retired\",\"N/A\",IF(Table16[[#This Row],[Disposition]]=0,\"\",K112+$F$2)))","v":""},{"$f":"IF(Table16[[#This Row],[Disposition]]=\"\",\"\",IF(AND(Table16[[#This Row],[Next Calibration]]<$E$1,Table16[[#This Row],[Disposition]]=\"Lost\"),\"Find and Calibrate\",IF(Table16[[#This Row],[Disposition]]=\"Lost\",\"Find\",IF(OR(Table16[[#This Row],[Next Calibration]]<$E$1,Table16[[#This Row],[Next Calibration]]=\"NEVER CALIBRATED\"),\"Calibrate\",\"Nominal\"))))","v":""},{"$f":"IF(((Table16[[#This Row],[Next Calibration]]-TODAY())/30)>2,\"More Than 2\",IF(((Table16[[#This Row],[Next Calibration]]-TODAY())/30)>1,\"Between 2 and 1\",\"Less than 1\"))","v":{"$error":"#VALUE!"}},{"$f":"IF(Table16[[#This Row],[Issued]]=\"\",\"\",IF(Table16[[#This Row],[Lent]]=\"\",0,1))","v":""},{"$f":"IF(Table16[[#This Row],[Lent]]=\"\",\"\",IF(Table16[[#This Row],[Returned]]=\"\",0,1))","v":""}]
[{"$nulls":11},{"$f":"IF(IF(Table16[[#This Row],[Disposition]]=\"Retired\",\"N/A\",IF(Table16[[#This Row],[Disposition]]=0,\"\",K113+$F$2))=0+$F$2,\"NEVER CALIBRATED\",IF(Table16[[#This Row],[Disposition]]=\"Retired\",\"N/A\",IF(Table16[[#This Row],[Disposition]]=0,\"\",K113+$F$2)))","v":""},{"$f":"IF(Table16[[#This Row],[Disposition]]=\"\",\"\",IF(AND(Table16[[#This Row],[Next Calibration]]<$E$1,Table16[[#This Row],[Disposition]]=\"Lost\"),\"Find and Calibrate\",IF(Table16[[#This Row],[Disposition]]=\"Lost\",\"Find\",IF(OR(Table16[[#This Row],[Next Calibration]]<$E$1,Table16[[#This Row],[Next Calibration]]=\"NEVER CALIBRATED\"),\"Calibrate\",\"Nominal\"))))","v":""},{"$f":"IF(((Table16[[#This Row],[Next Calibration]]-TODAY())/30)>2,\"More Than 2\",IF(((Table16[[#This Row],[Next Calibration]]-TODAY())/30)>1,\"Between 2 and 1\",\"Less than 1\"))","v":{"$error":"#VALUE!"}},{"$f":"IF(Table16[[#This Row],[Issued]]=\"\",\"\",IF(Table16[[#This Row],[Lent]]=\"\",0,1))","v":""},{"$f":"IF(Table16[[#This Row],[Lent]]=\"\",\"\",IF(Table16[[#This Row],[Returned]]=\"\",0,1))","v":""}]
[{"$nulls":11},{"$f":"IF(IF(Table16[[#This Row],[Disposition]]=\"Retired\",\"N/A\",IF(Table16[[#This Row],[Disposition]]=0,\"\",K114+$F$2))=0+$F$2,\"NEVER CALIBRATED\",IF(Table16[[#This Row],[Disposition]]=\"Retired\",\"N/A\",IF(Table16[[#This Row],[Disposition]]=0,\"\",K114+$F$2)))","v":""},{"$f":"IF(Table16[[#This Row],[Disposition]]=\"\",\"\",IF(AND(Table16[[#This Row],[Next Calibration]]<$E$1,Table16[[#This Row],[Disposition]]=\"Lost\"),\"Find and Calibrate\",IF(Table16[[#This Row],[Disposition]]=\"Lost\",\"Find\",IF(OR(Table16[[#This Row],[Next Calibration]]<$E$1,Table16[[#This Row],[Next Calibration]]=\"NEVER CALIBRATED\"),\"Calibrate\",\"Nominal\"))))","v":""},{"$f":"IF(((Table16[[#This Row],[Next Calibration]]-TODAY())/30)>2,\"More Than 2\",IF(((Table16[[#This Row],[Next Calibration]]-TODAY())/30)>1,\"Between 2 and 1\",\"Less than 1\"))","v":{"$error":"#VALUE!"}},{"$f":"IF(Table16[[#This Row],[Issued]]=\"\",\"\",IF(Table16[[#This Row],[Lent]]=\"\",0,1))","v":""},{"$f":"IF(Table16[[#This Row],[Lent]]=\"\",\"\",IF(Table16[[#This Row],[Returned]]=\"\",0,1))","v":""}]
[{"$nulls":11},{"$f":"IF(IF(Table16[[#This Row],[Disposition]]=\"Retired\",\"N/A\",IF(Table16[[#This Row],[Disposition]]=0,\"\",K115+$F$2))=0+$F$2,\"NEVER CALIBRATED\",IF(Table16[[#This Row],[Disposition]]=\"Retired\",\"N/A\",IF(Table16[[#This Row],[Disposition]]=0,\"\",K115+$F$2)))","v":""},{"$f":"IF(Table16[[#This Row],[Disposition]]=\"\",\"\",IF(AND(Table16[[#This Row],[Next Calibration]]<$E$1,Table16[[#This Row],[Disposition]]=\"Lost\"),\"Find and Calibrate\",IF(Table16[[#This Row],[Disposition]]=\"Lost\",\"Find\",IF(OR(Table16[[#This Row],[Next Calibration]]<$E$1,Table16[[#This Row],[Next Calibration]]=\"NEVER CALIBRATED\"),\"Calibrate\",\"Nominal\"))))","v":""},{"$f":"IF(((Table16[[#This Row],[Next Calibration]]-TODAY())/30)>2,\"More Than 2\",IF(((Table16[[#This Row],[Next Calibration]]-TODAY())/30)>1,\"Between 2 and 1\",\"Less than 1\"))","v":{"$error":"#VALUE!"}},{"$f":"IF(Table16[[#This Row],[Issued]]=\"\",\"\",IF(Table16[[#This Row],[Lent]]=\"\",0,1))","v":""},{"$f":"IF(Table16[[#This Row],[Lent]]=\"\",\"\",IF(Table16[[#This Row],[Returned]]=\"\",0,1))","v":""}]
[{"$nulls":11},{"$f":"IF(IF(Table16[[#This Row],[Disposition]]=\"Retired\",\"N/A\",IF(Table16[[#This Row],[Disposition]]=0,\"\",K116+$F$2))=0+$F$2,\"NEVER CALIBRATED\",IF(Table16[[#This Row],[Disposition]]=\"Retired\",\"N/A\",IF(Table16[[#This Row],[Disposition]]=0,\"\",K116+$F$2)))","v":""},{"$f":"IF(Table16[[#This Row],[Disposition]]=\"\",\"\",IF(AND(Table16[[#This Row],[Next Calibration]]<$E$1,Table16[[#This Row],[Disposition]]=\"Lost\"),\"Find and Calibrate\",IF(Table16[[#This Row],[Disposition]]=\"Lost\",\"Find\",IF(OR(Table16[[#This Row],[Next Calibration]]<$E$1,Table16[[#This Row],[Next Calibration]]=\"NEVER CALIBRATED\"),\"Calibrate\",\"Nominal\"))))","v":""},{"$f":"IF(((Table16[[#This Row],[Next Calibration]]-TODAY())/30)>2,\"More Than 2\",IF(((Table16[[#This Row],[Next Calibration]]-TODAY())/30)>1,\"Between 2 and 1\",\"Less than 1\"))","v":{"$error":"#VALUE!"}},{"$f":"IF(Table16[[#This Row],[Issued]]=\"\",\"\",IF(Table16[[#This Row],[Lent]]=\"\",0,1))","v":""},{"$f":"IF(Table16[[#This Row],[Lent]]=\"\",\"\",IF(Table16[[#This Row],[Returned]]=\"\",0,1))","v":""}]
[{"$nulls":11},{"$f":"IF(IF(Table16[[#This Row],[Disposition]]=\"Retired\",\"N/A\",IF(Table16[[#This Row],[Disposition]]=0,\"\",K117+$F$2))=0+$F$2,\"NEVER CALIBRATED\",IF(Table16[[#This Row],[Disposition]]=\"Retired\",\"N/A\",IF(Table16[[#This Row],[Disposition]]=0,\"\",K117+$F$2)))","v":""},{"$f":"IF(Table16[[#This Row],[Disposition]]=\"\",\"\",IF(AND(Table16[[#This Row],[Next Calibration]]<$E$1,Table16[[#This Row],[Disposition]]=\"Lost\"),\"Find and Calibrate\",IF(Table16[[#This Row],[Disposition]]=\"Lost\",\"Find\",IF(OR(Table16[[#This Row],[Next Calibration]]<$E$1,Table16[[#This Row],[Next Calibration]]=\"NEVER CALIBRATED\"),\"Calibrate\",\"Nominal\"))))","v":""},{"$f":"IF(((Table16[[#This Row],[Next Calibration]]-TODAY())/30)>2,\"More Than 2\",IF(((Table16[[#This Row],[Next Calibration]]-TODAY())/30)>1,\"Between 2 and 1\",\"Less than 1\"))","v":{"$error":"#VALUE!"}},{"$f":"IF(Table16[[#This Row],[Issued]]=\"\",\"\",IF(Table16[[#This Row],[Lent]]=\"\",0,1))","v":""},{"$f":"IF(Table16[[#This Row],[Lent]]=\"\",\"\",IF(Table16[[#This Row],[Returned]]=\"\",0,1))","v":""}]
[{"$nulls":11},{"$f":"IF(IF(Table16[[#This Row],[Disposition]]=\"Retired\",\"N/A\",IF(Table16[[#This Row],[Disposition]]=0,\"\",K118+$F$2))=0+$F$2,\"NEVER CALIBRATED\",IF(Table16[[#This Row],[Disposition]]=\"Retired\",\"N/A\",IF(Table16[[#This Row],[Disposition]]=0,\"\",K118+$F$2)))","v":""},{"$f":"IF(Table16[[#This Row],[Disposition]]=\"\",\"\",IF(AND(Table16[[#This Row],[Next Calibration]]<$E$1,Table16[[#This Row],[Disposition]]=\"Lost\"),\"Find and Calibrate\",IF(Table16[[#This Row],[Disposition]]=\"Lost\",\"Find\",IF(OR(Table16[[#This Row],[Next Calibration]]<$E$1,Table16[[#This Row],[Next Calibration]]=\"NEVER CALIBRATED\"),\"Calibrate\",\"Nominal\"))))","v":""},{"$f":"IF(((Table16[[#This Row],[Next Calibration]]-TODAY())/30)>2,\"More Than 2\",IF(((Table16[[#This Row],[Next Calibration]]-TODAY())/30)>1,\"Between 2 and 1\",\"Less than 1\"))","v":{"$error":"#VALUE!"}},{"$f":"IF(Table16[[#This Row],[Issued]]=\"\",\"\",IF(Table16[[#This Row],[Lent]]=\"\",0,1))","v":""},{"$f":"IF(Table16[[#This Row],[Lent]]=\"\",\"\",IF(Table16[[#This Row],[Returned]]=\"\",0,1))","v":""}]
[{"$nulls":11},{"$f":"IF(IF(Table16[[#This Row],[Disposition]]=\"Retired\",\"N/A\",IF(Table16[[#This Row],[Disposition]]=0,\"\",K119+$F$2))=0+$F$2,\"NEVER CALIBRATED\",IF(Table16[[#This Row],[Disposition]]=\"Retired\",\"N/A\",IF(Table16[[#This Row],[Disposition]]=0,\"\",K119+$F$2)))","v":""},{"$f":"IF(Table16[[#This Row],[Disposition]]=\"\",\"\",IF(AND(Table16[[#This Row],[Next Calibration]]<$E$1,Table16[[#This Row],[Disposition]]=\"Lost\"),\"Find and Calibrate\",IF(Table16[[#This Row],[Disposition]]=\"Lost\",\"Find\",IF(OR(Table16[[#This Row],[Next Calibration]]<$E$1,Table16[[#This Row],[Next Calibration]]=\"NEVER CALIBRATED\"),\"Calibrate\",\"Nominal\"))))","v":""},{"$f":"IF(((Table16[[#This Row],[Next Calibration]]-TODAY())/30)>2,\"More Than 2\",IF(((Table16[[#This Row],[Next Calibration]]-TODAY())/30)>1,\"Between 2 and 1\",\"Less than 1\"))","v":{"$error":"#VALUE!"}},{"$f":"IF(Table16[[#This Row],[Issued]]=\"\",\"\",IF(Table16[[#This Row],[Lent]]=\"\",0,1))","v":""},{"$f":"IF(Table16[[#This Row],[Lent]]=\"\",\"\",IF(Table16[[#This Row],[Returned]]=\"\",0,1))","v":""}]
[{"$nulls":11},{"$f":"IF(IF(Table16[[#This Row],[Disposition]]=\"Retired\",\"N/A\",IF(Table16[[#This Row],[Disposition]]=0,\"\",K120+$F$2))=0+$F$2,\"NEVER CALIBRATED\",IF(Table16[[#This Row],[Disposition]]=\"Retired\",\"N/A\",IF(Table16[[#This Row],[Disposition]]=0,\"\",K120+$F$2)))","v":""},{"$f":"IF(Table16[[#This Row],[Disposition]]=\"\",\"\",IF(AND(Table16[[#This Row],[Next Calibration]]<$E$1,Table16[[#This Row],[Disposition]]=\"Lost\"),\"Find and Calibrate\",IF(Table16[[#This Row],[Disposition]]=\"Lost\",\"Find\",IF(OR(Table16[[#This Row],[Next Calibration]]<$E$1,Table16[[#This Row],[Next Calibration]]=\"NEVER CALIBRATED\"),\"Calibrate\",\"Nominal\"))))","v":""},{"$f":"IF(((Table16[[#This Row],[Next Calibration]]-TODAY())/30)>2,\"More Than 2\",IF(((Table16[[#This Row],[Next Calibration]]-TODAY())/30)>1,\"Between 2 and 1\",\"Less than 1\"))","v":{"$error":"#VALUE!"}},{"$f":"IF(Table16[[#This Row],[Issued]]=\"\",\"\",IF(Table16[[#This Row],[Lent]]=\"\",0,1))","v":""},{"$f":"IF(Table16[[#This Row],[Lent]]=\"\",\"\",IF(Table16[[#This Row],[Returned]]=\"\",0,1))","v":""}]
[{"$nulls":11},{"$f":"IF(IF(Table16[[#This Row],[Disposition]]=\"Retired\",\"N/A\",IF(Table16[[#This Row],[Disposition]]=0,\"\",K121+$F$2))=0+$F$2,\"NEVER CALIBRATED\",IF(Table16[[#This Row],[Disposition]]=\"Retired\",\"N/A\",IF(Table16[[#This Row],[Disposition]]=0,\"\",K121+$F$2)))","v":""},{"$f":"IF(Table16[[#This Row],[Disposition]]=\"\",\"\",IF(AND(Table16[[#This Row],[Next Calibration]]<$E$1,Table16[[#This Row],[Disposition]]=\"Lost\"),\"Find and Calibrate\",IF(Table16[[#This Row],[Disposition]]=\"Lost\",\"Find\",IF(OR(Table16[[#This Row],[Next Calibration]]<$E$1,Table16[[#This Row],[Next Calibration]]=\"NEVER CALIBRATED\"),\"Calibrate\",\"Nominal\"))))","v":""},{"$f":"IF(((Table16[[#This Row],[Next Calibration]]-TODAY())/30)>2,\"More Than 2\",IF(((Table16[[#This Row],[Next Calibration]]-TODAY())/30)>1,\"Between 2 and 1\",\"Less than 1\"))","v":{"$error":"#VALUE!"}},{"$f":"IF(Table16[[#This Row],[Issued]]=\"\",\"\",IF(Table16[[#This Row],[Lent]]=\"\",0,1))","v":""},{"$f":"IF(Table16[[#This Row],[Lent]]=\"\",\"\",IF(Table16[[#This Row],[Returned]]=\"\",0,1))","v":""}]
[{"$nulls":11},{"$f":"IF(IF(Table16[[#This Row],[Disposition]]=\"Retired\",\"N/A\",IF(Table16[[#This Row],[Disposition]]=0,\"\",K122+$F$2))=0+$F$2,\"NEVER CALIBRATED\",IF(Table16[[#This Row],[Disposition]]=\"Retired\",\"N/A\",IF(Table16[[#This Row],[Disposition]]=0,\"\",K122+$F$2)))","v":""},{"$f":"IF(Table16[[#This Row],[Disposition]]=\"\",\"\",IF(AND(Table16[[#This Row],[Next Calibration]]<$E$1,Table16[[#This Row],[Disposition]]=\"Lost\"),\"Find and Calibrate\",IF(Table16[[#This Row],[Disposition]]=\"Lost\",\"Find\",IF(OR(Table16[[#This Row],[Next Calibration]]<$E$1,Table16[[#This Row],[Next Calibration]]=\"NEVER CALIBRATED\"),\"Calibrate\",\"Nominal\"))))","v":""},{"$f":"IF(((Table16[[#This Row],[Next Calibration]]-TODAY())/30)>2,\"More Than 2\",IF(((Table16[[#This Row],[Next Calibration]]-TODAY())/30)>1,\"Between 2 and 1\",\"Less than 1\"))","v":{"$error":"#VALUE!"}},{"$f":"IF(Table16[[#This Row],[Issued]]=\"\",\"\",IF(Table16[[#This Row],[Lent]]=\"\",0,1))","v":""},{"$f":"IF(Table16[[#This Row],[Lent]]=\"\",\"\",IF(Table16[[#This Row],[Returned]]=\"\",0,1))","v":""}]
[{"$nulls":11},{"$f":"IF(IF(Table16[[#This Row],[Disposition]]=\"Retired\",\"N/A\",IF(Table16[[#This Row],[Disposition]]=0,\"\",K123+$F$2))=0+$F$2,\"NEVER CALIBRATED\",IF(Table16[[#This Row],[Disposition]]=\"Retired\",\"N/A\",IF(Table16[[#This Row],[Disposition]]=0,\"\",K123+$F$2)))","v":""},{"$f":"IF(Table16[[#This Row],[Disposition]]=\"\",\"\",IF(AND(Table16[[#This Row],[Next Calibration]]<$E$1,Table16[[#This Row],[Disposition]]=\"Lost\"),\"Find and Calibrate\",IF(Table16[[#This Row],[Disposition]]=\"Lost\",\"Find\",IF(OR(Table16[[#This Row],[Next Calibration]]<$E$1,Table16[[#This Row],[Next Calibration]]=\"NEVER CALIBRATED\"),\"Calibrate\",\"Nominal\"))))","v":""},{"$f":"IF(((Table16[[#This Row],[Next Calibration]]-TODAY())/30)>2,\"More Than 2\",IF(((Table16[[#This Row],[Next Calibration]]-TODAY())/30)>1,\"Between 2 and 1\",\"Less than 1\"))","v":{"$error":"#VALUE!"}},{"$f":"IF(Table16[[#This Row],[Issued]]=\"\",\"\",IF(Table16[[#This Row],[Lent]]=\"\",0,1))","v":""},{"$f":"IF(Table16[[#This Row],[Lent]]=\"\",\"\",IF(Table16[[#This Row],[Returned]]=\"\",0,1))","v":""}]
[{"$nulls":11},{"$f":"IF(IF(Table16[[#This Row],[Disposition]]=\"Retired\",\"N/A\",IF(Table16[[#This Row],[Disposition]]=0,\"\",K124+$F$2))=0+$F$2,\"NEVER CALIBRATED\",IF(Table16[[#This Row],[Disposition]]=\"Retired\",\"N/A\",IF(Table16[[#This Row],[Disposition]]=0,\"\",K124+$F$2)))","v":""},{"$f":"IF(Table16[[#This Row],[Disposition]]=\"\",\"\",IF(AND(Table16[[#This Row],[Next Calibration]]<$E$1,Table16[[#This Row],[Disposition]]=\"Lost\"),\"Find and Calibrate\",IF(Table16[[#This Row],[Disposition]]=\"Lost\",\"Find\",IF(OR(Table16[[#This Row],[Next Calibration]]<$E$1,Table16[[#This Row],[Next Calibration]]=\"NEVER CALIBRATED\"),\"Calibrate\",\"Nominal\"))))","v":""},{"$f":"IF(((Table16[[#This Row],[Next Calibration]]-TODAY())/30)>2,\"More Than 2\",IF(((Table16[[#This Row],[Next Calibration]]-TODAY())/30)>1,\"Between 2 and 1\",\"Less than 1\"))","v":{"$error":"#VALUE!"}},{"$f":"IF(Table16[[#This Row],[Issued]]=\"\",\"\",IF(Table16[[#This Row],[Lent]]=\"\",0,1))","v":""},{"$f":"IF(Table16[[#This Row],[Lent]]=\"\",\"\",IF(Table16[[#This Row],[Returned]]=\"\",0,1))","v":""}]
[{"$nulls":11},{"$f":"IF(IF(Table16[[#This Row],[Disposition]]=\"Retired\",\"N/A\",IF(Table16[[#This Row],[Disposition]]=0,\"\",K125+$F$2))=0+$F$2,\"NEVER CALIBRATED\",IF(Table16[[#This Row],[Disposition]]=\"Retired\",\"N/A\",IF(Table16[[#This Row],[Disposition]]=0,\"\",K125+$F$2)))","v":""},{"$f":"IF(Table16[[#This Row],[Disposition]]=\"\",\"\",IF(AND(Table16[[#This Row],[Next Calibration]]<$E$1,Table16[[#This Row],[Disposition]]=\"Lost\"),\"Find and Calibrate\",IF(Table16[[#This Row],[Disposition]]=\"Lost\",\"Find\",IF(OR(Table16[[#This Row],[Next Calibration]]<$E$1,Table16[[#This Row],[Next Calibration]]=\"NEVER CALIBRATED\"),\"Calibrate\",\"Nominal\"))))","v":""},{"$f":"IF(((Table16[[#This Row],[Next Calibration]]-TODAY())/30)>2,\"More Than 2\",IF(((Table16[[#This Row],[Next Calibration]]-TODAY())/30)>1,\"Between 2 and 1\",\"Less than 1\"))","v":{"$error":"#VALUE!"}},{"$f":"IF(Table16[[#This Row],[Issued]]=\"\",\"\",IF(Table16[[#This Row],[Lent]]=\"\",0,1))","v":""},{"$f":"IF(Table16[[#This Row],[Lent]]=\"\",\"\",IF(Table16[[#This Row],[Returned]]=\"\",0,1))","v":""}]
[{"$nulls":11},{"$f":"IF(IF(Table16[[#This Row],[Disposition]]=\"Retired\",\"N/A\",IF(Table16[[#This Row],[Disposition]]=0,\"\",K126+$F$2))=0+$F$2,\"NEVER CALIBRATED\",IF(Table16[[#This Row],[Disposition]]=\"Retired\",\"N/A\",IF(Table16[[#This Row],[Disposition]]=0,\"\",K126+$F$2)))","v":""},{"$f":"IF(Table16[[#This Row],[Disposition]]=\"\",\"\",IF(AND(Table16[[#This Row],[Next Calibration]]<$E$1,Table16[[#This Row],[Disposition]]=\"Lost\"),\"Find and Calibrate\",IF(Table16[[#This Row],[Disposition]]=\"Lost\",\"Find\",IF(OR(Table16[[#This Row],[Next Calibration]]<$E$1,Table16[[#This Row],[Next Calibration]]=\"NEVER CALIBRATED\"),\"Calibrate\",\"Nominal\"))))","v":""},{"$f":"IF(((Table16[[#This Row],[Next Calibration]]-TODAY())/30)>2,\"More Than 2\",IF(((Table16[[#This Row],[Next Calibration]]-TODAY())/30)>1,\"Between 2 and 1\",\"Less than 1\"))","v":{"$error":"#VALUE!"}},{"$f":"IF(Table16[[#This Row],[Issued]]=\"\",\"\",IF(Table16[[#This Row],[Lent]]=\"\",0,1))","v":""},{"$f":"IF(Table16[[#This Row],[Lent]]=\"\",\"\",IF(Table16[[#This Row],[Returned]]=\"\",0,1))","v":""}]
[{"$nulls":11},{"$f":"IF(IF(Table16[[#This Row],[Disposition]]=\"Retired\",\"N/A\",IF(Table16[[#This Row],[Disposition]]=0,\"\",K127+$F$2))=0+$F$2,\"NEVER CALIBRATED\",IF(Table16[[#This Row],[Disposition]]=\"Retired\",\"N/A\",IF(Table16[[#This Row],[Disposition]]=0,\"\",K127+$F$2)))","v":""},{"$f":"IF(Table16[[#This Row],[Disposition]]=\"\",\"\",IF(AND(Table16[[#This Row],[Next Calibration]]<$E$1,Table16[[#This Row],[Disposition]]=\"Lost\"),\"Find and Calibrate\",IF(Table16[[#This Row],[Disposition]]=\"Lost\",\"Find\",IF(OR(Table16[[#This Row],[Next Calibration]]<$E$1,Table16[[#This Row],[Next Calibration]]=\"NEVER CALIBRATED\"),\"Calibrate\",\"Nominal\"))))","v":""},{"$f":"IF(((Table16[[#This Row],[Next Calibration]]-TODAY())/30)>2,\"More Than 2\",IF(((Table16[[#This Row],[Next Calibration]]-TODAY())/30)>1,\"Between 2 and 1\",\"Less than 1\"))","v":{"$error":"#VALUE!"}},{"$f":"IF(Table16[[#This Row],[Issued]]=\"\",\"\",IF(Table16[[#This Row],[Lent]]=\"\",0,1))","v":""},{"$f":"IF(Table16[[#This Row],[Lent]]=\"\",\"\",IF(Table16[[#This Row],[Returned]]=\"\",0,1))","v":""}]
[{"$nulls":11},{"$f":"IF(IF(Table16[[#This Row],[Disposition]]=\"Retired\",\"N/A\",IF(Table16[[#This Row],[Disposition]]=0,\"\",K128+$F$2))=0+$F$2,\"NEVER CALIBRATED\",IF(Table16[[#This Row],[Disposition]]=\"Retired\",\"N/A\",IF(Table16[[#This Row],[Disposition]]=0,\"\",K128+$F$2)))","v":""},{"$f":"IF(Table16[[#This Row],[Disposition]]=\"\",\"\",IF(AND(Table16[[#This Row],[Next Calibration]]<$E$1,Table16[[#This Row],[Disposition]]=\"Lost\"),\"Find and Calibrate\",IF(Table16[[#This Row],[Disposition]]=\"Lost\",\"Find\",IF(OR(Table16[[#This Row],[Next Calibration]]<$E$1,Table16[[#This Row],[Next Calibration]]=\"NEVER CALIBRATED\"),\"Calibrate\",\"Nominal\"))))","v":""},{"$f":"IF(((Table16[[#This Row],[Next Calibration]]-TODAY())/30)>2,\"More Than 2\",IF(((Table16[[#This Row],[Next Calibration]]-TODAY())/30)>1,\"Between 2 and 1\",\"Less than 1\"))","v":{"$error":"#VALUE!"}},{"$f":"IF(Table16[[#This Row],[Issued]]=\"\",\"\",IF(Table16[[#This Row],[Lent]]=\"\",0,1))","v":""},{"$f":"IF(Table16[[#This Row],[Lent]]=\"\",\"\",IF(Table16[[#This Row],[Returned]]=\"\",0,1))","v":""}]
[{"$nulls":11},{"$f":"IF(IF(Table16[[#This Row],[Disposition]]=\"Retired\",\"N/A\",IF(Table16[[#This Row],[Disposition]]=0,\"\",K129+$F$2))=0+$F$2,\"NEVER CALIBRATED\",IF(Table16[[#This Row],[Disposition]]=\"Retired\",\"N/A\",IF(Table16[[#This Row],[Disposition]]=0,\"\",K129+$F$2)))","v":""},{"$f":"IF(Table16[[#This Row],[Disposition]]=\"\",\"\",IF(AND(Table16[[#This Row],[Next Calibration]]<$E$1,Table16[[#This Row],[Disposition]]=\"Lost\"),\"Find and Calibrate\",IF(Table16[[#This Row],[Disposition]]=\"Lost\",\"Find\",IF(OR(Table16[[#This Row],[Next Calibration]]<$E$1,Table16[[#This Row],[Next Calibration]]=\"NEVER CALIBRATED\"),\"Calibrate\",\"Nominal\"))))","v":""},{"$f":"IF(((Table16[[#This Row],[Next Calibration]]-TODAY())/30)>2,\"More Than 2\",IF(((Table16[[#This Row],[Next Calibration]]-TODAY())/30)>1,\"Between 2 and 1\",\"Less than 1\"))","v":{"$error":"#VALUE!"}},{"$f":"IF(Table16[[#This Row],[Issued]]=\"\",\"\",IF(Table16[[#This Row],[Lent]]=\"\",0,1))","v":""},{"$f":"IF(Table16[[#This Row],[Lent]]=\"\",\"\",IF(Table16[[#This Row],[Returned]]=\"\",0,1))","v":""}]
[{"$nulls":11},{"$f":"IF(IF(Table16[[#This Row],[Disposition]]=\"Retired\",\"N/A\",IF(Table16[[#This Row],[Disposition]]=0,\"\",K130+$F$2))=0+$F$2,\"NEVER CALIBRATED\",IF(Table16[[#This Row],[Disposition]]=\"Retired\",\"N/A\",IF(Table16[[#This Row],[Disposition]]=0,\"\",K130+$F$2)))","v":""},{"$f":"IF(Table16[[#This Row],[Disposition]]=\"\",\"\",IF(AND(Table16[[#This Row],[Next Calibration]]<$E$1,Table16[[#This Row],[Disposition]]=\"Lost\"),\"Find and Calibrate\",IF(Table16[[#This Row],[Disposition]]=\"Lost\",\"Find\",IF(OR(Table16[[#This Row],[Next Calibration]]<$E$1,Table16[[#This Row],[Next Calibration]]=\"NEVER CALIBRATED\"),\"Calibrate\",\"Nominal\"))))","v":""},{"$f":"IF(((Table16[[#This Row],[Next Calibration]]-TODAY())/30)>2,\"More Than 2\",IF(((Table16[[#This Row],[Next Calibration]]-TODAY())/30)>1,\"Between 2 and 1\",\"Less than 1\"))","v":{"$error":"#VALUE!"}},{"$f":"IF(Table16[[#This Row],[Issued]]=\"\",\"\",IF(Table16[[#This Row],[Lent]]=\"\",0,1))","v":""},{"$f":"IF(Table16[[#This Row],[Lent]]=\"\",\"\",IF(Table16[[#This Row],[Returned]]=\"\",0,1))","v":""}]
[{"$nulls":11},{"$f":"IF(IF(Table16[[#This Row],[Disposition]]=\"Retired\",\"N/A\",IF(Table16[[#This Row],[Disposition]]=0,\"\",K131+$F$2))=0+$F$2,\"NEVER CALIBRATED\",IF(Table16[[#This Row],[Disposition]]=\"Retired\",\"N/A\",IF(Table16[[#This Row],[Disposition]]=0,\"\",K131+$F$2)))","v":""},{"$f":"IF(Table16[[#This Row],[Disposition]]=\"\",\"\",IF(AND(Table16[[#This Row],[Next Calibration]]<$E$1,Table16[[#This Row],[Disposition]]=\"Lost\"),\"Find and Calibrate\",IF(Table16[[#This Row],[Disposition]]=\"Lost\",\"Find\",IF(OR(Table16[[#This Row],[Next Calibration]]<$E$1,Table16[[#This Row],[Next Calibration]]=\"NEVER CALIBRATED\"),\"Calibrate\",\"Nominal\"))))","v":""},{"$f":"IF(((Table16[[#This Row],[Next Calibration]]-TODAY())/30)>2,\"More Than 2\",IF(((Table16[[#This Row],[Next Calibration]]-TODAY())/30)>1,\"Between 2 and 1\",\"Less than 1\"))","v":{"$error":"#VALUE!"}},{"$f":"IF(Table16[[#This Row],[Issued]]=\"\",\"\",IF(Table16[[#This Row],[Lent]]=\"\",0,1))","v":""},{"$f":"IF(Table16[[#This Row],[Lent]]=\"\",\"\",IF(Table16[[#This Row],[Returned]]=\"\",0,1))","v":""}]
[{"$nulls":11},{"$f":"IF(IF(Table16[[#This Row],[Disposition]]=\"Retired\",\"N/A\",IF(Table16[[#This Row],[Disposition]]=0,\"\",K132+$F$2))=0+$F$2,\"NEVER CALIBRATED\",IF(Table16[[#This Row],[Disposition]]=\"Retired\",\"N/A\",IF(Table16[[#This Row],[Disposition]]=0,\"\",K132+$F$2)))","v":""},{"$f":"IF(Table16[[#This Row],[Disposition]]=\"\",\"\",IF(AND(Table16[[#This Row],[Next Calibration]]<$E$1,Table16[[#This Row],[Disposition]]=\"Lost\"),\"Find and Calibrate\",IF(Table16[[#This Row],[Disposition]]=\"Lost\",\"Find\",IF(OR(Table16[[#This Row],[Next Calibration]]<$E$1,Table16[[#This Row],[Next Calibration]]=\"NEVER CALIBRATED\"),\"Calibrate\",\"Nominal\"))))","v":""},{"$f":"IF(((Table16[[#This Row],[Next Calibration]]-TODAY())/30)>2,\"More Than 2\",IF(((Table16[[#This Row],[Next Calibration]]-TODAY())/30)>1,\"Between 2 and 1\",\"Less than 1\"))","v":{"$error":"#VALUE!"}},{"$f":"IF(Table16[[#This Row],[Issued]]=\"\",\"\",IF(Table16[[#This Row],[Lent]]=\"\",0,1))","v":""},{"$f":"IF(Table16[[#This Row],[Lent]]=\"\",\"\",IF(Table16[[#This Row],[Returned]]=\"\",0,1))","v":""}]
[{"$nulls":11},{"$f":"IF(IF(Table16[[#This Row],[Disposition]]=\"Retired\",\"N/A\",IF(Table16[[#This Row],[Disposition]]=0,\"\",K133+$F$2))=0+$F$2,\"NEVER CALIBRATED\",IF(Table16[[#This Row],[Disposition]]=\"Retired\",\"N/A\",IF(Table16[[#This Row],[Disposition]]=0,\"\",K133+$F$2)))","v":""},{"$f":"IF(Table16[[#This Row],[Disposition]]=\"\",\"\",IF(AND(Table16[[#This Row],[Next Calibration]]<$E$1,Table16[[#This Row],[Disposition]]=\"Lost\"),\"Find and Calibrate\",IF(Table16[[#This Row],[Disposition]]=\"Lost\",\"Find\",IF(OR(Table16[[#This Row],[Next Calibration]]<$E$1,Table16[[#This Row],[Next Calibration]]=\"NEVER CALIBRATED\"),\"Calibrate\",\"Nominal\"))))","v":""},{"$f":"IF(((Table16[[#This Row],[Next Calibration]]-TODAY())/30)>2,\"More Than 2\",IF(((Table16[[#This Row],[Next Calibration]]-TODAY())/30)>1,\"Between 2 and 1\",\"Less than 1\"))","v":{"$error":"#VALUE!"}},{"$f":"IF(Table16[[#This Row],[Issued]]=\"\",\"\",IF(Table16[[#This Row],[Lent]]=\"\",0,1))","v":""},{"$f":"IF(Table16[[#This Row],[Lent]]=\"\",\"\",IF(Table16[[#This Row],[Returned]]=\"\",0,1))","v":""}]
[{"$nulls":11},{"$f":"IF(IF(Table16[[#This Row],[Disposition]]=\"Retired\",\"N/A\",IF(Table16[[#This Row],[Disposition]]=0,\"\",K134+$F$2))=0+$F$2,\"NEVER CALIBRATED\",IF(Table16[[#This Row],[Disposition]]=\"Retired\",\"N/A\",IF(Table16[[#This Row],[Disposition]]=0,\"\",K134+$F$2)))","v":""},{"$f":"IF(Table16[[#This Row],[Disposition]]=\"\",\"\",IF(AND(Table16[[#This Row],[Next Calibration]]<$E$1,Table16[[#This Row],[Disposition]]=\"Lost\"),\"Find and Calibrate\",IF(Table16[[#This Row],[Disposition]]=\"Lost\",\"Find\",IF(OR(Table16[[#This Row],[Next Calibration]]<$E$1,Table16[[#This Row],[Next Calibration]]=\"NEVER CALIBRATED\"),\"Calibrate\",\"Nominal\"))))","v":""},{"$f":"IF(((Table16[[#This Row],[Next Calibration]]-TODAY())/30)>2,\"More Than 2\",IF(((Table16[[#This Row],[Next Calibration]]-TODAY())/30)>1,\"Between 2 and 1\",\"Less than 1\"))","v":{"$error":"#VALUE!"}},{"$f":"IF(Table16[[#This Row],[Issued]]=\"\",\"\",IF(Table16[[#This Row],[Lent]]=\"\",0,1))","v":""},{"$f":"IF(Table16[[#This Row],[Lent]]=\"\",\"\",IF(Table16[[#This Row],[Returned]]=\"\",0,1))","v":""}]
[{"$nulls":11},{"$f":"IF(IF(Table16[[#This Row],[Disposition]]=\"Retired\",\"N/A\",IF(Table16[[#This Row],[Disposition]]=0,\"\",K135+$F$2))=0+$F$2,\"NEVER CALIBRATED\",IF(Table16[[#This Row],[Disposition]]=\"Retired\",\"N/A\",IF(Table16[[#This Row],[Disposition]]=0,\"\",K135+$F$2)))","v":""},{"$f":"IF(Table16[[#This Row],[Disposition]]=\"\",\"\",IF(AND(Table16[[#This Row],[Next Calibration]]<$E$1,Table16[[#This Row],[Disposition]]=\"Lost\"),\"Find and Calibrate\",IF(Table16[[#This Row],[Disposition]]=\"Lost\",\"Find\",IF(OR(Table16[[#This Row],[Next Calibration]]<$E$1,Table16[[#This Row],[Next Calibration]]=\"NEVER CALIBRATED\"),\"Calibrate\",\"Nominal\"))))","v":""},{"$f":"IF(((Table16[[#This Row],[Next Calibration]]-TODAY())/30)>2,\"More Than 2\",IF(((Table16[[#This Row],[Next Calibration]]-TODAY())/30)>1,\"Between 2 and 1\",\"Less than 1\"))","v":{"$error":"#VALUE!"}},{"$f":"IF(Table16[[#This Row],[Issued]]=\"\",\"\",IF(Table16[[#This Row],[Lent]]=\"\",0,1))","v":""},{"$f":"IF(Table16[[#This Row],[Lent]]=\"\",\"\",IF(Table16[[#This Row],[Returned]]=\"\",0,1))","v":""}]
[{"$nulls":11},{"$f":"IF(IF(Table16[[#This Row],[Disposition]]=\"Retired\",\"N/A\",IF(Table16[[#This Row],[Disposition]]=0,\"\",K136+$F$2))=0+$F$2,\"NEVER CALIBRATED\",IF(Table16[[#This Row],[Disposition]]=\"Retired\",\"N/A\",IF(Table16[[#This Row],[Disposition]]=0,\"\",K136+$F$2)))","v":""},{"$f":"IF(Table16[[#This Row],[Disposition]]=\"\",\"\",IF(AND(Table16[[#This Row],[Next Calibration]]<$E$1,Table16[[#This Row],[Disposition]]=\"Lost\"),\"Find and Calibrate\",IF(Table16[[#This Row],[Disposition]]=\"Lost\",\"Find\",IF(OR(Table16[[#This Row],[Next Calibration]]<$E$1,Table16[[#This Row],[Next Calibration]]=\"NEVER CALIBRATED\"),\"Calibrate\",\"Nominal\"))))","v":""},{"$f":"IF(((Table16[[#This Row],[Next Calibration]]-TODAY())/30)>2,\"More Than 2\",IF(((Table16[[#This Row],[Next Calibration]]-TODAY())/30)>1,\"Between 2 and 1\",\"Less than 1\"))","v":{"$error":"#VALUE!"}},{"$f":"IF(Table16[[#This Row],[Issued]]=\"\",\"\",IF(Table16[[#This Row],[Lent]]=\"\",0,1))","v":""},{"$f":"IF(Table16[[#This Row],[Lent]]=\"\",\"\",IF(Table16[[#This Row],[Returned]]=\"\",0,1))","v":""}]
[{"$nulls":11},{"$f":"IF(IF(Table16[[#This Row],[Disposition]]=\"Retired\",\"N/A\",IF(Table16[[#This Row],[Disposition]]=0,\"\",K137+$F$2))=0+$F$2,\"NEVER CALIBRATED\",IF(Table16[[#This Row],[Disposition]]=\"Retired\",\"N/A\",IF(Table16[[#This Row],[Disposition]]=0,\"\",K137+$F$2)))","v":""},{"$f":"IF(Table16[[#This Row],[Disposition]]=\"\",\"\",IF(AND(Table16[[#This Row],[Next Calibration]]<$E$1,Table16[[#This Row],[Disposition]]=\"Lost\"),\"Find and Calibrate\",IF(Table16[[#This Row],[Disposition]]=\"Lost\",\"Find\",IF(OR(Table16[[#This Row],[Next Calibration]]<$E$1,Table16[[#This Row],[Next Calibration]]=\"NEVER CALIBRATED\"),\"Calibrate\",\"Nominal\"))))","v":""},{"$f":"IF(((Table16[[#This Row],[Next Calibration]]-TODAY())/30)>2,\"More Than 2\",IF(((Table16[[#This Row],[Next Calibration]]-TODAY())/30)>1,\"Between 2 and 1\",\"Less than 1\"))","v":{"$error":"#VALUE!"}},{"$f":"IF(Table16[[#This Row],[Issued]]=\"\",\"\",IF(Table16[[#This Row],[Lent]]=\"\",0,1))","v":""},{"$f":"IF(Table16[[#This Row],[Lent]]=\"\",\"\",IF(Table16[[#This Row],[Returned]]=\"\",0,1))","v":""}]
[{"$nulls":11},{"$f":"IF(IF(Table16[[#This Row],[Disposition]]=\"Retired\",\"N/A\",IF(Table16[[#This Row],[Disposition]]=0,\"\",K138+$F$2))=0+$F$2,\"NEVER CALIBRATED\",IF(Table16[[#This Row],[Disposition]]=\"Retired\",\"N/A\",IF(Table16[[#This Row],[Disposition]]=0,\"\",K138+$F$2)))","v":""},{"$f":"IF(Table16[[#This Row],[Disposition]]=\"\",\"\",IF(AND(Table16[[#This Row],[Next Calibration]]<$E$1,Table16[[#This Row],[Disposition]]=\"Lost\"),\"Find and Calibrate\",IF(Table16[[#This Row],[Disposition]]=\"Lost\",\"Find\",IF(OR(Table16[[#This Row],[Next Calibration]]<$E$1,Table16[[#This Row],[Next Calibration]]=\"NEVER CALIBRATED\"),\"Calibrate\",\"Nominal\"))))","v":""},{"$f":"IF(((Table16[[#This Row],[Next Calibration]]-TODAY())/30)>2,\"More Than 2\",IF(((Table16[[#This Row],[Next Calibration]]-TODAY())/30)>1,\"Between 2 and 1\",\"Less than 1\"))","v":{"$error":"#VALUE!"}},{"$f":"IF(Table16[[#This Row],[Issued]]=\"\",\"\",IF(Table16[[#This Row],[Lent]]=\"\",0,1))","v":""},{"$f":"IF(Table16[[#This Row],[Lent]]=\"\",\"\",IF(Table16[[#This Row],[Returned]]=\"\",0,1))","v":""}]
[{"$nulls":11},{"$f":"IF(IF(Table16[[#This Row],[Disposition]]=\"Retired\",\"N/A\",IF(Table16[[#This Row],[Disposition]]=0,\"\",K139+$F$2))=0+$F$2,\"NEVER CALIBRATED\",IF(Table16[[#This Row],[Disposition]]=\"Retired\",\"N/A\",IF(Table16[[#This Row],[Disposition]]=0,\"\",K139+$F$2)))","v":""},{"$f":"IF(Table16[[#This Row],[Disposition]]=\"\",\"\",IF(AND(Table16[[#This Row],[Next Calibration]]<$E$1,Table16[[#This Row],[Disposition]]=\"Lost\"),\"Find and Calibrate\",IF(Table16[[#This Row],[Disposition]]=\"Lost\",\"Find\",IF(OR(Table16[[#This Row],[Next Calibration]]<$E$1,Table16[[#This Row],[Next Calibration]]=\"NEVER CALIBRATED\"),\"Calibrate\",\"Nominal\"))))","v":""},{"$f":"IF(((Table16[[#This Row],[Next Calibration]]-TODAY())/30)>2,\"More Than 2\",IF(((Table16[[#This Row],[Next Calibration]]-TODAY())/30)>1,\"Between 2 and 1\",\"Less than 1\"))","v":{"$error":"#VALUE!"}},{"$f":"IF(Table16[[#This Row],[Issued]]=\"\",\"\",IF(Table16[[#This Row],[Lent]]=\"\",0,1))","v":""},{"$f":"IF(Table16[[#This Row],[Lent]]=\"\",\"\",IF(Table16[[#This Row],[Returned]]=\"\",0,1))","v":""}]
[{"$nulls":11},{"$f":"IF(IF(Table16[[#This Row],[Disposition]]=\"Retired\",\"N/A\",IF(Table16[[#This Row],[Disposition]]=0,\"\",K140+$F$2))=0+$F$2,\"NEVER CALIBRATED\",IF(Table16[[#This Row],[Disposition]]=\"Retired\",\"N/A\",IF(Table16[[#This Row],[Disposition]]=0,\"\",K140+$F$2)))","v":""},{"$f":"IF(Table16[[#This Row],[Disposition]]=\"\",\"\",IF(AND(Table16[[#This Row],[Next Calibration]]<$E$1,Table16[[#This Row],[Disposition]]=\"Lost\"),\"Find and Calibrate\",IF(Table16[[#This Row],[Disposition]]=\"Lost\",\"Find\",IF(OR(Table16[[#This Row],[Next Calibration]]<$E$1,Table16[[#This Row],[Next Calibration]]=\"NEVER CALIBRATED\"),\"Calibrate\",\"Nominal\"))))","v":""},{"$f":"IF(((Table16[[#This Row],[Next Calibration]]-TODAY())/30)>2,\"More Than 2\",IF(((Table16[[#This Row],[Next Calibration]]-TODAY())/30)>1,\"Between 2 and 1\",\"Less than 1\"))","v":{"$error":"#VALUE!"}},{"$f":"IF(Table16[[#This Row],[Issued]]=\"\",\"\",IF(Table16[[#This Row],[Lent]]=\"\",0,1))","v":""},{"$f":"IF(Table16[[#This Row],[Lent]]=\"\",\"\",IF(Table16[[#This Row],[Returned]]=\"\",0,1))","v":""}]
[{"$nulls":11},{"$f":"IF(IF(Table16[[#This Row],[Disposition]]=\"Retired\",\"N/A\",IF(Table16[[#This Row],[Disposition]]=0,\"\",K141+$F$2))=0+$F$2,\"NEVER CALIBRATED\",IF(Table16[[#This Row],[Disposition]]=\"Retired\",\"N/A\",IF(Table16[[#This Row],[Disposition]]=0,\"\",K141+$F$2)))","v":""},{"$f":"IF(Table16[[#This Row],[Disposition]]=\"\",\"\",IF(AND(Table16[[#This Row],[Next Calibration]]<$E$1,Table16[[#This Row],[Disposition]]=\"Lost\"),\"Find and Calibrate\",IF(Table16[[#This Row],[Disposition]]=\"Lost\",\"Find\",IF(OR(Table16[[#This Row],[Next Calibration]]<$E$1,Table16[[#This Row],[Next Calibration]]=\"NEVER CALIBRATED\"),\"Calibrate\",\"Nominal\"))))","v":""},{"$f":"IF(((Table16[[#This Row],[Next Calibration]]-TODAY())/30)>2,\"More Than 2\",IF(((Table16[[#This Row],[Next Calibration]]-TODAY())/30)>1,\"Between 2 and 1\",\"Less than 1\"))","v":{"$error":"#VALUE!"}},{"$f":"IF(Table16[[#This Row],[Issued]]=\"\",\"\",IF(Table16[[#This Row],[Lent]]=\"\",0,1))","v":""},{"$f":"IF(Table16[[#This Row],[Lent]]=\"\",\"\",IF(Table16[[#This Row],[Returned]]=\"\",0,1))","v":""}]
[{"$nulls":11},{"$f":"IF(IF(Table16[[#This Row],[Disposition]]=\"Retired\",\"N/A\",IF(Table16[[#This Row],[Disposition]]=0,\"\",K142+$F$2))=0+$F$2,\"NEVER CALIBRATED\",IF(Table16[[#This Row],[Disposition]]=\"Retired\",\"N/A\",IF(Table16[[#This Row],[Disposition]]=0,\"\",K142+$F$2)))","v":""},{"$f":"IF(Table16[[#This Row],[Disposition]]=\"\",\"\",IF(AND(Table16[[#This Row],[Next Calibration]]<$E$1,Table16[[#This Row],[Disposition]]=\"Lost\"),\"Find and Calibrate\",IF(Table16[[#This Row],[Disposition]]=\"Lost\",\"Find\",IF(OR(Table16[[#This Row],[Next Calibration]]<$E$1,Table16[[#This Row],[Next Calibration]]=\"NEVER CALIBRATED\"),\"Calibrate\",\"Nominal\"))))","v":""},{"$f":"IF(((Table16[[#This Row],[Next Calibration]]-TODAY())/30)>2,\"More Than 2\",IF(((Table16[[#This Row],[Next Calibration]]-TODAY())/30)>1,\"Between 2 and 1\",\"Less than 1\"))","v":{"$error":"#VALUE!"}},{"$f":"IF(Table16[[#This Row],[Issued]]=\"\",\"\",IF(Table16[[#This Row],[Lent]]=\"\",0,1))","v":""},{"$f":"IF(Table16[[#This Row],[Lent]]=\"\",\"\",IF(Table16[[#This Row],[Returned]]=\"\",0,1))","v":""}]
[{"$nulls":11},{"$f":"IF(IF(Table16[[#This Row],[Disposition]]=\"Retired\",\"N/A\",IF(Table16[[#This Row],[Disposition]]=0,\"\",K143+$F$2))=0+$F$2,\"NEVER CALIBRATED\",IF(Table16[[#This Row],[Disposition]]=\"Retired\",\"N/A\",IF(Table16[[#This Row],[Disposition]]=0,\"\",K143+$F$2)))","v":""},{"$f":"IF(Table16[[#This Row],[Disposition]]=\"\",\"\",IF(AND(Table16[[#This Row],[Next Calibration]]<$E$1,Table16[[#This Row],[Disposition]]=\"Lost\"),\"Find and Calibrate\",IF(Table16[[#This Row],[Disposition]]=\"Lost\",\"Find\",IF(OR(Table16[[#This Row],[Next Calibration]]<$E$1,Table16[[#This Row],[Next Calibration]]=\"NEVER CALIBRATED\"),\"Calibrate\",\"Nominal\"))))","v":""},{"$f":"IF(((Table16[[#This Row],[Next Calibration]]-TODAY())/30)>2,\"More Than 2\",IF(((Table16[[#This Row],[Next Calibration]]-TODAY())/30)>1,\"Between 2 and 1\",\"Less than 1\"))","v":{"$error":"#VALUE!"}},{"$f":"IF(Table16[[#This Row],[Issued]]=\"\",\"\",IF(Table16[[#This Row],[Lent]]=\"\",0,1))","v":""},{"$f":"IF(Table16[[#This Row],[Lent]]=\"\",\"\",IF(Table16[[#This Row],[Returned]]=\"\",0,1))","v":""}]
[{"$nulls":11},{"$f":"IF(IF(Table16[[#This Row],[Disposition]]=\"Retired\",\"N/A\",IF(Table16[[#This Row],[Disposition]]=0,\"\",K144+$F$2))=0+$F$2,\"NEVER CALIBRATED\",IF(Table16[[#This Row],[Disposition]]=\"Retired\",\"N/A\",IF(Table16[[#This Row],[Disposition]]=0,\"\",K144+$F$2)))","v":""},{"$f":"IF(Table16[[#This Row],[Disposition]]=\"\",\"\",IF(AND(Table16[[#This Row],[Next Calibration]]<$E$1,Table16[[#This Row],[Disposition]]=\"Lost\"),\"Find and Calibrate\",IF(Table16[[#This Row],[Disposition]]=\"Lost\",\"Find\",IF(OR(Table16[[#This Row],[Next Calibration]]<$E$1,Table16[[#This Row],[Next Calibration]]=\"NEVER CALIBRATED\"),\"Calibrate\",\"Nominal\"))))","v":""},{"$f":"IF(((Table16[[#This Row],[Next Calibration]]-TODAY())/30)>2,\"More Than 2\",IF(((Table16[[#This Row],[Next Calibration]]-TODAY())/30)>1,\"Between 2 and 1\",\"Less than 1\"))","v":{"$error":"#VALUE!"}},{"$f":"IF(Table16[[#This Row],[Issued]]=\"\",\"\",IF(Table16[[#This Row],[Lent]]=\"\",0,1))","v":""},{"$f":"IF(Table16[[#This Row],[Lent]]=\"\",\"\",IF(Table16[[#This Row],[Returned]]=\"\",0,1))","v":""}]
[{"$nulls":11},{"$f":"IF(IF(Table16[[#This Row],[Disposition]]=\"Retired\",\"N/A\",IF(Table16[[#This Row],[Disposition]]=0,\"\",K145+$F$2))=0+$F$2,\"NEVER CALIBRATED\",IF(Table16[[#This Row],[Disposition]]=\"Retired\",\"N/A\",IF(Table16[[#This Row],[Disposition]]=0,\"\",K145+$F$2)))","v":""},{"$f":"IF(Table16[[#This Row],[Disposition]]=\"\",\"\",IF(AND(Table16[[#This Row],[Next Calibration]]<$E$1,Table16[[#This Row],[Disposition]]=\"Lost\"),\"Find and Calibrate\",IF(Table16[[#This Row],[Disposition]]=\"Lost\",\"Find\",IF(OR(Table16[[#This Row],[Next Calibration]]<$E$1,Table16[[#This Row],[Next Calibration]]=\"NEVER CALIBRATED\"),\"Calibrate\",\"Nominal\"))))","v":""},{"$f":"IF(((Table16[[#This Row],[Next Calibration]]-TODAY())/30)>2,\"More Than 2\",IF(((Table16[[#This Row],[Next Calibration]]-TODAY())/30)>1,\"Between 2 and 1\",\"Less than 1\"))","v":{"$error":"#VALUE!"}},{"$f":"IF(Table16[[#This Row],[Issued]]=\"\",\"\",IF(Table16[[#This Row],[Lent]]=\"\",0,1))","v":""},{"$f":"IF(Table16[[#This Row],[Lent]]=\"\",\"\",IF(Table16[[#This Row],[Returned]]=\"\",0,1))","v":""}]
[{"$nulls":11},{"$f":"IF(IF(Table16[[#This Row],[Disposition]]=\"Retired\",\"N/A\",IF(Table16[[#This Row],[Disposition]]=0,\"\",K146+$F$2))=0+$F$2,\"NEVER CALIBRATED\",IF(Table16[[#This Row],[Disposition]]=\"Retired\",\"N/A\",IF(Table16[[#This Row],[Disposition]]=0,\"\",K146+$F$2)))","v":""},{"$f":"IF(Table16[[#This Row],[Disposition]]=\"\",\"\",IF(AND(Table16[[#This Row],[Next Calibration]]<$E$1,Table16[[#This Row],[Disposition]]=\"Lost\"),\"Find and Calibrate\",IF(Table16[[#This Row],[Disposition]]=\"Lost\",\"Find\",IF(OR(Table16[[#This Row],[Next Calibration]]<$E$1,Table16[[#This Row],[Next Calibration]]=\"NEVER CALIBRATED\"),\"Calibrate\",\"Nominal\"))))","v":""},{"$f":"IF(((Table16[[#This Row],[Next Calibration]]-TODAY())/30)>2,\"More Than 2\",IF(((Table16[[#This Row],[Next Calibration]]-TODAY())/30)>1,\"Between 2 and 1\",\"Less than 1\"))","v":{"$error":"#VALUE!"}},{"$f":"IF(Table16[[#This Row],[Issued]]=\"\",\"\",IF(Table16[[#This Row],[Lent]]=\"\",0,1))","v":""},{"$f":"IF(Table16[[#This Row],[Lent]]=\"\",\"\",IF(Table16[[#This Row],[Returned]]=\"\",0,1))","v":""}]
[{"$nulls":11},{"$f":"IF(IF(Table16[[#This Row],[Disposition]]=\"Retired\",\"N/A\",IF(Table16[[#This Row],[Disposition]]=0,\"\",K147+$F$2))=0+$F$2,\"NEVER CALIBRATED\",IF(Table16[[#This Row],[Disposition]]=\"Retired\",\"N/A\",IF(Table16[[#This Row],[Disposition]]=0,\"\",K147+$F$2)))","v":""},{"$f":"IF(Table16[[#This Row],[Disposition]]=\"\",\"\",IF(AND(Table16[[#This Row],[Next Calibration]]<$E$1,Table16[[#This Row],[Disposition]]=\"Lost\"),\"Find and Calibrate\",IF(Table16[[#This Row],[Disposition]]=\"Lost\",\"Find\",IF(OR(Table16[[#This Row],[Next Calibration]]<$E$1,Table16[[#This Row],[Next Calibration]]=\"NEVER CALIBRATED\"),\"Calibrate\",\"Nominal\"))))","v":""},{"$f":"IF(((Table16[[#This Row],[Next Calibration]]-TODAY())/30)>2,\"More Than 2\",IF(((Table16[[#This Row],[Next Calibration]]-TODAY())/30)>1,\"Between 2 and 1\",\"Less than 1\"))","v":{"$error":"#VALUE!"}},{"$f":"IF(Table16[[#This Row],[Issued]]=\"\",\"\",IF(Table16[[#This Row],[Lent]]=\"\",0,1))","v":""},{"$f":"IF(Table16[[#This Row],[Lent]]=\"\",\"\",IF(Table16[[#This Row],[Returned]]=\"\",0,1))","v":""}]
[{"$nulls":11},{"$f":"IF(IF(Table16[[#This Row],[Disposition]]=\"Retired\",\"N/A\",IF(Table16[[#This Row],[Disposition]]=0,\"\",K148+$F$2))=0+$F$2,\"NEVER CALIBRATED\",IF(Table16[[#This Row],[Disposition]]=\"Retired\",\"N/A\",IF(Table16[[#This Row],[Disposition]]=0,\"\",K148+$F$2)))","v":""},{"$f":"IF(Table16[[#This Row],[Disposition]]=\"\",\"\",IF(AND(Table16[[#This Row],[Next Calibration]]<$E$1,Table16[[#This Row],[Disposition]]=\"Lost\"),\"Find and Calibrate\",IF(Table16[[#This Row],[Disposition]]=\"Lost\",\"Find\",IF(OR(Table16[[#This Row],[Next Calibration]]<$E$1,Table16[[#This Row],[Next Calibration]]=\"NEVER CALIBRATED\"),\"Calibrate\",\"Nominal\"))))","v":""},{"$f":"IF(((Table16[[#This Row],[Next Calibration]]-TODAY())/30)>2,\"More Than 2\",IF(((Table16[[#This Row],[Next Calibration]]-TODAY())/30)>1,\"Between 2 and 1\",\"Less than 1\"))","v":{"$error":"#VALUE!"}},{"$f":"IF(Table16[[#This Row],[Issued]]=\"\",\"\",IF(Table16[[#This Row],[Lent]]=\"\",0,1))","v":""},{"$f":"IF(Table16[[#This Row],[Lent]]=\"\",\"\",IF(Table16[[#This Row],[Returned]]=\"\",0,1))","v":""}]
[{"$nulls":11},{"$f":"IF(IF(Table16[[#This Row],[Disposition]]=\"Retired\",\"N/A\",IF(Table16[[#This Row],[Disposition]]=0,\"\",K149+$F$2))=0+$F$2,\"NEVER CALIBRATED\",IF(Table16[[#This Row],[Disposition]]=\"Retired\",\"N/A\",IF(Table16[[#This Row],[Disposition]]=0,\"\",K149+$F$2)))","v":""},{"$f":"IF(Table16[[#This Row],[Disposition]]=\"\",\"\",IF(AND(Table16[[#This Row],[Next Calibration]]<$E$1,Table16[[#This Row],[Disposition]]=\"Lost\"),\"Find and Calibrate\",IF(Table16[[#This Row],[Disposition]]=\"Lost\",\"Find\",IF(OR(Table16[[#This Row],[Next Calibration]]<$E$1,Table16[[#This Row],[Next Calibration]]=\"NEVER CALIBRATED\"),\"Calibrate\",\"Nominal\"))))","v":""},{"$f":"IF(((Table16[[#This Row],[Next Calibration]]-TODAY())/30)>2,\"More Than 2\",IF(((Table16[[#This Row],[Next Calibration]]-TODAY())/30)>1,\"Between 2 and 1\",\"Less than 1\"))","v":{"$error":"#VALUE!"}},{"$f":"IF(Table16[[#This Row],[Issued]]=\"\",\"\",IF(Table16[[#This Row],[Lent]]=\"\",0,1))","v":""},{"$f":"IF(Table16[[#This Row],[Lent]]=\"\",\"\",IF(Table16[[#This Row],[Returned]]=\"\",0,1))","v":""}]
[{"$nulls":11},{"$f":"IF(IF(Table16[[#This Row],[Disposition]]=\"Retired\",\"N/A\",IF(Table16[[#This Row],[Disposition]]=0,\"\",K150+$F$2))=0+$F$2,\"NEVER CALIBRATED\",IF(Table16[[#This Row],[Disposition]]=\"Retired\",\"N/A\",IF(Table16[[#This Row],[Disposition]]=0,\"\",K150+$F$2)))","v":""},{"$f":"IF(Table16[[#This Row],[Disposition]]=\"\",\"\",IF(AND(Table16[[#This Row],[Next Calibration]]<$E$1,Table16[[#This Row],[Disposition]]=\"Lost\"),\"Find and Calibrate\",IF(Table16[[#This Row],[Disposition]]=\"Lost\",\"Find\",IF(OR(Table16[[#This Row],[Next Calibration]]<$E$1,Table16[[#This Row],[Next Calibration]]=\"NEVER CALIBRATED\"),\"Calibrate\",\"Nominal\"))))","v":""},{"$f":"IF(((Table16[[#This Row],[Next Calibration]]-TODAY())/30)>2,\"More Than 2\",IF(((Table16[[#This Row],[Next Calibration]]-TODAY())/30)>1,\"Between 2 and 1\",\"Less than 1\"))","v":{"$error":"#VALUE!"}},{"$f":"IF(Table16[[#This Row],[Issued]]=\"\",\"\",IF(Table16[[#This Row],[Lent]]=\"\",0,1))","v":""},{"$f":"IF(Table16[[#This Row],[Lent]]=\"\",\"\",IF(Table16[[#This Row],[Returned]]=\"\",0,1))","v":""}]
[{"$nulls":11},{"$f":"IF(IF(Table16[[#This Row],[Disposition]]=\"Retired\",\"N/A\",IF(Table16[[#This Row],[Disposition]]=0,\"\",K151+$F$2))=0+$F$2,\"NEVER CALIBRATED\",IF(Table16[[#This Row],[Disposition]]=\"Retired\",\"N/A\",IF(Table16[[#This Row],[Disposition]]=0,\"\",K151+$F$2)))","v":""},{"$f":"IF(Table16[[#This Row],[Disposition]]=\"\",\"\",IF(AND(Table16[[#This Row],[Next Calibration]]<$E$1,Table16[[#This Row],[Disposition]]=\"Lost\"),\"Find and Calibrate\",IF(Table16[[#This Row],[Disposition]]=\"Lost\",\"Find\",IF(OR(Table16[[#This Row],[Next Calibration]]<$E$1,Table16[[#This Row],[Next Calibration]]=\"NEVER CALIBRATED\"),\"Calibrate\",\"Nominal\"))))","v":""},{"$f":"IF(((Table16[[#This Row],[Next Calibration]]-TODAY())/30)>2,\"More Than 2\",IF(((Table16[[#This Row],[Next Calibration]]-TODAY())/30)>1,\"Between 2 and 1\",\"Less than 1\"))","v":{"$error":"#VALUE!"}},{"$f":"IF(Table16[[#This Row],[Issued]]=\"\",\"\",IF(Table16[[#This Row],[Lent]]=\"\",0,1))","v":""},{"$f":"IF(Table16[[#This Row],[Lent]]=\"\",\"\",IF(Table16[[#This Row],[Returned]]=\"\",0,1))","v":""}]
[{"$nulls":11},{"$f":"IF(IF(Table16[[#This Row],[Disposition]]=\"Retired\",\"N/A\",IF(Table16[[#This Row],[Disposition]]=0,\"\",K152+$F$2))=0+$F$2,\"NEVER CALIBRATED\",IF(Table16[[#This Row],[Disposition]]=\"Retired\",\"N/A\",IF(Table16[[#This Row],[Disposition]]=0,\"\",K152+$F$2)))","v":""},{"$f":"IF(Table16[[#This Row],[Disposition]]=\"\",\"\",IF(AND(Table16[[#This Row],[Next Calibration]]<$E$1,Table16[[#This Row],[Disposition]]=\"Lost\"),\"Find and Calibrate\",IF(Table16[[#This Row],[Disposition]]=\"Lost\",\"Find\",IF(OR(Table16[[#This Row],[Next Calibration]]<$E$1,Table16[[#This Row],[Next Calibration]]=\"NEVER CALIBRATED\"),\"Calibrate\",\"Nominal\"))))","v":""},{"$f":"IF(((Table16[[#This Row],[Next Calibration]]-TODAY())/30)>2,\"More Than 2\",IF(((Table16[[#This Row],[Next Calibration]]-TODAY())/30)>1,\"Between 2 and 1\",\"Less than 1\"))","v":{"$error":"#VALUE!"}},{"$f":"IF(Table16[[#This Row],[Issued]]=\"\",\"\",IF(Table16[[#This Row],[Lent]]=\"\",0,1))","v":""},{"$f":"IF(Table16[[#This Row],[Lent]]=\"\",\"\",IF(Table16[[#This Row],[Returned]]=\"\",0,1))","v":""}]
[{"$nulls":11},{"$f":"IF(IF(Table16[[#This Row],[Disposition]]=\"Retired\",\"N/A\",IF(Table16[[#This Row],[Disposition]]=0,\"\",K153+$F$2))=0+$F$2,\"NEVER CALIBRATED\",IF(Table16[[#This Row],[Disposition]]=\"Retired\",\"N/A\",IF(Table16[[#This Row],[Disposition]]=0,\"\",K153+$F$2)))","v":""},{"$f":"IF(Table16[[#This Row],[Disposition]]=\"\",\"\",IF(AND(Table16[[#This Row],[Next Calibration]]<$E$1,Table16[[#This Row],[Disposition]]=\"Lost\"),\"Find and Calibrate\",IF(Table16[[#This Row],[Disposition]]=\"Lost\",\"Find\",IF(OR(Table16[[#This Row],[Next Calibration]]<$E$1,Table16[[#This Row],[Next Calibration]]=\"NEVER CALIBRATED\"),\"Calibrate\",\"Nominal\"))))","v":""},{"$f":"IF(((Table16[[#This Row],[Next Calibration]]-TODAY())/30)>2,\"More Than 2\",IF(((Table16[[#This Row],[Next Calibration]]-TODAY())/30)>1,\"Between 2 and 1\",\"Less than 1\"))","v":{"$error":"#VALUE!"}},{"$f":"IF(Table16[[#This Row],[Issued]]=\"\",\"\",IF(Table16[[#This Row],[Lent]]=\"\",0,1))","v":""},{"$f":"IF(Table16[[#This Row],[Lent]]=\"\",\"\",IF(Table16[[#This Row],[Returned]]=\"\",0,1))","v":""}]
[{"$nulls":11},{"$f":"IF(IF(Table16[[#This Row],[Disposition]]=\"Retired\",\"N/A\",IF(Table16[[#This Row],[Disposition]]=0,\"\",K154+$F$2))=0+$F$2,\"NEVER CALIBRATED\",IF(Table16[[#This Row],[Disposition]]=\"Retired\",\"N/A\",IF(Table16[[#This Row],[Disposition]]=0,\"\",K154+$F$2)))","v":""},{"$f":"IF(Table16[[#This Row],[Disposition]]=\"\",\"\",IF(AND(Table16[[#This Row],[Next Calibration]]<$E$1,Table16[[#This Row],[Disposition]]=\"Lost\"),\"Find and Calibrate\",IF(Table16[[#This Row],[Disposition]]=\"Lost\",\"Find\",IF(OR(Table16[[#This Row],[Next Calibration]]<$E$1,Table16[[#This Row],[Next Calibration]]=\"NEVER CALIBRATED\"),\"Calibrate\",\"Nominal\"))))","v":""},{"$f":"IF(((Table16[[#This Row],[Next Calibration]]-TODAY())/30)>2,\"More Than 2\",IF(((Table16[[#This Row],[Next Calibration]]-TODAY())/30)>1,\"Between 2 and 1\",\"Less than 1\"))","v":{"$error":"#VALUE!"}},{"$f":"IF(Table16[[#This Row],[Issued]]=\"\",\"\",IF(Table16[[#This Row],[Lent]]=\"\",0,1))","v":""},{"$f":"IF(Table16[[#This Row],[Lent]]=\"\",\"\",IF(Table16[[#This Row],[Returned]]=\"\",0,1))","v":""}]
[{"$nulls":11},{"$f":"IF(IF(Table16[[#This Row],[Disposition]]=\"Retired\",\"N/A\",IF(Table16[[#This Row],[Disposition]]=0,\"\",K155+$F$2))=0+$F$2,\"NEVER CALIBRATED\",IF(Table16[[#This Row],[Disposition]]=\"Retired\",\"N/A\",IF(Table16[[#This Row],[Disposition]]=0,\"\",K155+$F$2)))","v":""},{"$f":"IF(Table16[[#This Row],[Disposition]]=\"\",\"\",IF(AND(Table16[[#This Row],[Next Calibration]]<$E$1,Table16[[#This Row],[Disposition]]=\"Lost\"),\"Find and Calibrate\",IF(Table16[[#This Row],[Disposition]]=\"Lost\",\"Find\",IF(OR(Table16[[#This Row],[Next Calibration]]<$E$1,Table16[[#This Row],[Next Calibration]]=\"NEVER CALIBRATED\"),\"Calibrate\",\"Nominal\"))))","v":""},{"$f":"IF(((Table16[[#This Row],[Next Calibration]]-TODAY())/30)>2,\"More Than 2\",IF(((Table16[[#This Row],[Next Calibration]]-TODAY())/30)>1,\"Between 2 and 1\",\"Less than 1\"))","v":{"$error":"#VALUE!"}},{"$f":"IF(Table16[[#This Row],[Issued]]=\"\",\"\",IF(Table16[[#This Row],[Lent]]=\"\",0,1))","v":""},{"$f":"IF(Table16[[#This Row],[Lent]]=\"\",\"\",IF(Table16[[#This Row],[Returned]]=\"\",0,1))","v":""}]
[{"$nulls":11},{"$f":"IF(IF(Table16[[#This Row],[Disposition]]=\"Retired\",\"N/A\",IF(Table16[[#This Row],[Disposition]]=0,\"\",K156+$F$2))=0+$F$2,\"NEVER CALIBRATED\",IF(Table16[[#This Row],[Disposition]]=\"Retired\",\"N/A\",IF(Table16[[#This Row],[Disposition]]=0,\"\",K156+$F$2)))","v":""},{"$f":"IF(Table16[[#This Row],[Disposition]]=\"\",\"\",IF(AND(Table16[[#This Row],[Next Calibration]]<$E$1,Table16[[#This Row],[Disposition]]=\"Lost\"),\"Find and Calibrate\",IF(Table16[[#This Row],[Disposition]]=\"Lost\",\"Find\",IF(OR(Table16[[#This Row],[Next Calibration]]<$E$1,Table16[[#This Row],[Next Calibration]]=\"NEVER CALIBRATED\"),\"Calibrate\",\"Nominal\"))))","v":""},{"$f":"IF(((Table16[[#This Row],[Next Calibration]]-TODAY())/30)>2,\"More Than 2\",IF(((Table16[[#This Row],[Next Calibration]]-TODAY())/30)>1,\"Between 2 and 1\",\"Less than 1\"))","v":{"$error":"#VALUE!"}},{"$f":"IF(Table16[[#This Row],[Issued]]=\"\",\"\",IF(Table16[[#This Row],[Lent]]=\"\",0,1))","v":""},{"$f":"IF(Table16[[#This Row],[Lent]]=\"\",\"\",IF(Table16[[#This Row],[Returned]]=\"\",0,1))","v":""}]
[{"$nulls":11},{"$f":"IF(IF(Table16[[#This Row],[Disposition]]=\"Retired\",\"N/A\",IF(Table16[[#This Row],[Disposition]]=0,\"\",K157+$F$2))=0+$F$2,\"NEVER CALIBRATED\",IF(Table16[[#This Row],[Disposition]]=\"Retired\",\"N/A\",IF(Table16[[#This Row],[Disposition]]=0,\"\",K157+$F$2)))","v":""},{"$f":"IF(Table16[[#This Row],[Disposition]]=\"\",\"\",IF(AND(Table16[[#This Row],[Next Calibration]]<$E$1,Table16[[#This Row],[Disposition]]=\"Lost\"),\"Find and Calibrate\",IF(Table16[[#This Row],[Disposition]]=\"Lost\",\"Find\",IF(OR(Table16[[#This Row],[Next Calibration]]<$E$1,Table16[[#This Row],[Next Calibration]]=\"NEVER CALIBRATED\"),\"Calibrate\",\"Nominal\"))))","v":""},{"$f":"IF(((Table16[[#This Row],[Next Calibration]]-TODAY())/30)>2,\"More Than 2\",IF(((Table16[[#This Row],[Next Calibration]]-TODAY())/30)>1,\"Between 2 and 1\",\"Less than 1\"))","v":{"$error":"#VALUE!"}},{"$f":"IF(Table16[[#This Row],[Issued]]=\"\",\"\",IF(Table16[[#This Row],[Lent]]=\"\",0,1))","v":""},{"$f":"IF(Table16[[#This Row],[Lent]]=\"\",\"\",IF(Table16[[#This Row],[Returned]]=\"\",0,1))","v":""}]
[{"$nulls":11},{"$f":"IF(IF(Table16[[#This Row],[Disposition]]=\"Retired\",\"N/A\",IF(Table16[[#This Row],[Disposition]]=0,\"\",K158+$F$2))=0+$F$2,\"NEVER CALIBRATED\",IF(Table16[[#This Row],[Disposition]]=\"Retired\",\"N/A\",IF(Table16[[#This Row],[Disposition]]=0,\"\",K158+$F$2)))","v":""},{"$f":"IF(Table16[[#This Row],[Disposition]]=\"\",\"\",IF(AND(Table16[[#This Row],[Next Calibration]]<$E$1,Table16[[#This Row],[Disposition]]=\"Lost\"),\"Find and Calibrate\",IF(Table16[[#This Row],[Disposition]]=\"Lost\",\"Find\",IF(OR(Table16[[#This Row],[Next Calibration]]<$E$1,Table16[[#This Row],[Next Calibration]]=\"NEVER CALIBRATED\"),\"Calibrate\",\"Nominal\"))))","v":""},{"$f":"IF(((Table16[[#This Row],[Next Calibration]]-TODAY())/30)>2,\"More Than 2\",IF(((Table16[[#This Row],[Next Calibration]]-TODAY())/30)>1,\"Between 2 and 1\",\"Less than 1\"))","v":{"$error":"#VALUE!"}},{"$f":"IF(Table16[[#This Row],[Issued]]=\"\",\"\",IF(Table16[[#This Row],[Lent]]=\"\",0,1))","v":""},{"$f":"IF(Table16[[#This Row],[Lent]]=\"\",\"\",IF(Table16[[#This Row],[Returned]]=\"\",0,1))","v":""}]
[{"$nulls":11},{"$f":"IF(IF(Table16[[#This Row],[Disposition]]=\"Retired\",\"N/A\",IF(Table16[[#This Row],[Disposition]]=0,\"\",K159+$F$2))=0+$F$2,\"NEVER CALIBRATED\",IF(Table16[[#This Row],[Disposition]]=\"Retired\",\"N/A\",IF(Table16[[#This Row],[Disposition]]=0,\"\",K159+$F$2)))","v":""},{"$f":"IF(Table16[[#This Row],[Disposition]]=\"\",\"\",IF(AND(Table16[[#This Row],[Next Calibration]]<$E$1,Table16[[#This Row],[Disposition]]=\"Lost\"),\"Find and Calibrate\",IF(Table16[[#This Row],[Disposition]]=\"Lost\",\"Find\",IF(OR(Table16[[#This Row],[Next Calibration]]<$E$1,Table16[[#This Row],[Next Calibration]]=\"NEVER CALIBRATED\"),\"Calibrate\",\"Nominal\"))))","v":""},{"$f":"IF(((Table16[[#This Row],[Next Calibration]]-TODAY())/30)>2,\"More Than 2\",IF(((Table16[[#This Row],[Next Calibration]]-TODAY())/30)>1,\"Between 2 and 1\",\"Less than 1\"))","v":{"$error":"#VALUE!"}},{"$f":"IF(Table16[[#This Row],[Issued]]=\"\",\"\",IF(Table16[[#This Row],[Lent]]=\"\",0,1))","v":""},{"$f":"IF(Table16[[#This Row],[Lent]]=\"\",\"\",IF(Table16[[#This Row],[Returned]]=\"\",0,1))","v":""}]
[{"$nulls":11},{"$f":"IF(IF(Table16[[#This Row],[Disposition]]=\"Retired\",\"N/A\",IF(Table16[[#This Row],[Disposition]]=0,\"\",K160+$F$2))=0+$F$2,\"NEVER CALIBRATED\",IF(Table16[[#This Row],[Disposition]]=\"Retired\",\"N/A\",IF(Table16[[#This Row],[Disposition]]=0,\"\",K160+$F$2)))","v":""},{"$f":"IF(Table16[[#This Row],[Disposition]]=\"\",\"\",IF(AND(Table16[[#This Row],[Next Calibration]]<$E$1,Table16[[#This Row],[Disposition]]=\"Lost\"),\"Find and Calibrate\",IF(Table16[[#This Row],[Disposition]]=\"Lost\",\"Find\",IF(OR(Table16[[#This Row],[Next Calibration]]<$E$1,Table16[[#This Row],[Next Calibration]]=\"NEVER CALIBRATED\"),\"Calibrate\",\"Nominal\"))))","v":""},{"$f":"IF(((Table16[[#This Row],[Next Calibration]]-TODAY())/30)>2,\"More Than 2\",IF(((Table16[[#This Row],[Next Calibration]]-TODAY())/30)>1,\"Between 2 and 1\",\"Less than 1\"))","v":{"$error":"#VALUE!"}},{"$f":"IF(Table16[[#This Row],[Issued]]=\"\",\"\",IF(Table16[[#This Row],[Lent]]=\"\",0,1))","v":""},{"$f":"IF(Table16[[#This Row],[Lent]]=\"\",\"\",IF(Table16[[#This Row],[Returned]]=\"\",0,1))","v":""}]
[{"$nulls":11},{"$f":"IF(IF(Table16[[#This Row],[Disposition]]=\"Retired\",\"N/A\",IF(Table16[[#This Row],[Disposition]]=0,\"\",K161+$F$2))=0+$F$2,\"NEVER CALIBRATED\",IF(Table16[[#This Row],[Disposition]]=\"Retired\",\"N/A\",IF(Table16[[#This Row],[Disposition]]=0,\"\",K161+$F$2)))","v":""},{"$f":"IF(Table16[[#This Row],[Disposition]]=\"\",\"\",IF(AND(Table16[[#This Row],[Next Calibration]]<$E$1,Table16[[#This Row],[Disposition]]=\"Lost\"),\"Find and Calibrate\",IF(Table16[[#This Row],[Disposition]]=\"Lost\",\"Find\",IF(OR(Table16[[#This Row],[Next Calibration]]<$E$1,Table16[[#This Row],[Next Calibration]]=\"NEVER CALIBRATED\"),\"Calibrate\",\"Nominal\"))))","v":""},{"$f":"IF(((Table16[[#This Row],[Next Calibration]]-TODAY())/30)>2,\"More Than 2\",IF(((Table16[[#This Row],[Next Calibration]]-TODAY())/30)>1,\"Between 2 and 1\",\"Less than 1\"))","v":{"$error":"#VALUE!"}},{"$f":"IF(Table16[[#This Row],[Issued]]=\"\",\"\",IF(Table16[[#This Row],[Lent]]=\"\",0,1))","v":""},{"$f":"IF(Table16[[#This Row],[Lent]]=\"\",\"\",IF(Table16[[#This Row],[Returned]]=\"\",0,1))","v":""}]
[{"$nulls":11},{"$f":"IF(IF(Table16[[#This Row],[Disposition]]=\"Retired\",\"N/A\",IF(Table16[[#This Row],[Disposition]]=0,\"\",K162+$F$2))=0+$F$2,\"NEVER CALIBRATED\",IF(Table16[[#This Row],[Disposition]]=\"Retired\",\"N/A\",IF(Table16[[#This Row],[Disposition]]=0,\"\",K162+$F$2)))","v":""},{"$f":"IF(Table16[[#This Row],[Disposition]]=\"\",\"\",IF(AND(Table16[[#This Row],[Next Calibration]]<$E$1,Table16[[#This Row],[Disposition]]=\"Lost\"),\"Find and Calibrate\",IF(Table16[[#This Row],[Disposition]]=\"Lost\",\"Find\",IF(OR(Table16[[#This Row],[Next Calibration]]<$E$1,Table16[[#This Row],[Next Calibration]]=\"NEVER CALIBRATED\"),\"Calibrate\",\"Nominal\"))))","v":""},{"$f":"IF(((Table16[[#This Row],[Next Calibration]]-TODAY())/30)>2,\"More Than 2\",IF(((Table16[[#This Row],[Next Calibration]]-TODAY())/30)>1,\"Between 2 and 1\",\"Less than 1\"))","v":{"$error":"#VALUE!"}},{"$f":"IF(Table16[[#This Row],[Issued]]=\"\",\"\",IF(Table16[[#This Row],[Lent]]=\"\",0,1))","v":""},{"$f":"IF(Table16[[#This Row],[Lent]]=\"\",\"\",IF(Table16[[#This Row],[Returned]]=\"\",0,1))","v":""}]
[{"$nulls":11},{"$f":"IF(IF(Table16[[#This Row],[Disposition]]=\"Retired\",\"N/A\",IF(Table16[[#This Row],[Disposition]]=0,\"\",K163+$F$2))=0+$F$2,\"NEVER CALIBRATED\",IF(Table16[[#This Row],[Disposition]]=\"Retired\",\"N/A\",IF(Table16[[#This Row],[Disposition]]=0,\"\",K163+$F$2)))","v":""},{"$f":"IF(Table16[[#This Row],[Disposition]]=\"\",\"\",IF(AND(Table16[[#This Row],[Next Calibration]]<$E$1,Table16[[#This Row],[Disposition]]=\"Lost\"),\"Find and Calibrate\",IF(Table16[[#This Row],[Disposition]]=\"Lost\",\"Find\",IF(OR(Table16[[#This Row],[Next Calibration]]<$E$1,Table16[[#This Row],[Next Calibration]]=\"NEVER CALIBRATED\"),\"Calibrate\",\"Nominal\"))))","v":""},{"$f":"IF(((Table16[[#This Row],[Next Calibration]]-TODAY())/30)>2,\"More Than 2\",IF(((Table16[[#This Row],[Next Calibration]]-TODAY())/30)>1,\"Between 2 and 1\",\"Less than 1\"))","v":{"$error":"#VALUE!"}},{"$f":"IF(Table16[[#This Row],[Issued]]=\"\",\"\",IF(Table16[[#This Row],[Lent]]=\"\",0,1))","v":""},{"$f":"IF(Table16[[#This Row],[Lent]]=\"\",\"\",IF(Table16[[#This Row],[Returned]]=\"\",0,1))","v":""}]
[{"$nulls":11},{"$f":"IF(IF(Table16[[#This Row],[Disposition]]=\"Retired\",\"N/A\",IF(Table16[[#This Row],[Disposition]]=0,\"\",K164+$F$2))=0+$F$2,\"NEVER CALIBRATED\",IF(Table16[[#This Row],[Disposition]]=\"Retired\",\"N/A\",IF(Table16[[#This Row],[Disposition]]=0,\"\",K164+$F$2)))","v":""},{"$f":"IF(Table16[[#This Row],[Disposition]]=\"\",\"\",IF(AND(Table16[[#This Row],[Next Calibration]]<$E$1,Table16[[#This Row],[Disposition]]=\"Lost\"),\"Find and Calibrate\",IF(Table16[[#This Row],[Disposition]]=\"Lost\",\"Find\",IF(OR(Table16[[#This Row],[Next Calibration]]<$E$1,Table16[[#This Row],[Next Calibration]]=\"NEVER CALIBRATED\"),\"Calibrate\",\"Nominal\"))))","v":""},{"$f":"IF(((Table16[[#This Row],[Next Calibration]]-TODAY())/30)>2,\"More Than 2\",IF(((Table16[[#This Row],[Next Calibration]]-TODAY())/30)>1,\"Between 2 and 1\",\"Less than 1\"))","v":{"$error":"#VALUE!"}},{"$f":"IF(Table16[[#This Row],[Issued]]=\"\",\"\",IF(Table16[[#This Row],[Lent]]=\"\",0,1))","v":""},{"$f":"IF(Table16[[#This Row],[Lent]]=\"\",\"\",IF(Table16[[#This Row],[Returned]]=\"\",0,1))","v":""}]
[{"$nulls":11},{"$f":"IF(IF(Table16[[#This Row],[Disposition]]=\"Retired\",\"N/A\",IF(Table16[[#This Row],[Disposition]]=0,\"\",K165+$F$2))=0+$F$2,\"NEVER CALIBRATED\",IF(Table16[[#This Row],[Disposition]]=\"Retired\",\"N/A\",IF(Table16[[#This Row],[Disposition]]=0,\"\",K165+$F$2)))","v":""},{"$f":"IF(Table16[[#This Row],[Disposition]]=\"\",\"\",IF(AND(Table16[[#This Row],[Next Calibration]]<$E$1,Table16[[#This Row],[Disposition]]=\"Lost\"),\"Find and Calibrate\",IF(Table16[[#This Row],[Disposition]]=\"Lost\",\"Find\",IF(OR(Table16[[#This Row],[Next Calibration]]<$E$1,Table16[[#This Row],[Next Calibration]]=\"NEVER CALIBRATED\"),\"Calibrate\",\"Nominal\"))))","v":""},{"$f":"IF(((Table16[[#This Row],[Next Calibration]]-TODAY())/30)>2,\"More Than 2\",IF(((Table16[[#This Row],[Next Calibration]]-TODAY())/30)>1,\"Between 2 and 1\",\"Less than 1\"))","v":{"$error":"#VALUE!"}},{"$f":"IF(Table16[[#This Row],[Issued]]=\"\",\"\",IF(Table16[[#This Row],[Lent]]=\"\",0,1))","v":""},{"$f":"IF(Table16[[#This Row],[Lent]]=\"\",\"\",IF(Table16[[#This Row],[Returned]]=\"\",0,1))","v":""}]
[{"$nulls":11},{"$f":"IF(IF(Table16[[#This Row],[Disposition]]=\"Retired\",\"N/A\",IF(Table16[[#This Row],[Disposition]]=0,\"\",K166+$F$2))=0+$F$2,\"NEVER CALIBRATED\",IF(Table16[[#This Row],[Disposition]]=\"Retired\",\"N/A\",IF(Table16[[#This Row],[Disposition]]=0,\"\",K166+$F$2)))","v":""},{"$f":"IF(Table16[[#This Row],[Disposition]]=\"\",\"\",IF(AND(Table16[[#This Row],[Next Calibration]]<$E$1,Table16[[#This Row],[Disposition]]=\"Lost\"),\"Find and Calibrate\",IF(Table16[[#This Row],[Disposition]]=\"Lost\",\"Find\",IF(OR(Table16[[#This Row],[Next Calibration]]<$E$1,Table16[[#This Row],[Next Calibration]]=\"NEVER CALIBRATED\"),\"Calibrate\",\"Nominal\"))))","v":""},{"$f":"IF(((Table16[[#This Row],[Next Calibration]]-TODAY())/30)>2,\"More Than 2\",IF(((Table16[[#This Row],[Next Calibration]]-TODAY())/30)>1,\"Between 2 and 1\",\"Less than 1\"))","v":{"$error":"#VALUE!"}},{"$f":"IF(Table16[[#This Row],[Issued]]=\"\",\"\",IF(Table16[[#This Row],[Lent]]=\"\",0,1))","v":""},{"$f":"IF(Table16[[#This Row],[Lent]]=\"\",\"\",IF(Table16[[#This Row],[Returned]]=\"\",0,1))","v":""}]
[{"$nulls":11},{"$f":"IF(IF(Table16[[#This Row],[Disposition]]=\"Retired\",\"N/A\",IF(Table16[[#This Row],[Disposition]]=0,\"\",K167+$F$2))=0+$F$2,\"NEVER CALIBRATED\",IF(Table16[[#This Row],[Disposition]]=\"Retired\",\"N/A\",IF(Table16[[#This Row],[Disposition]]=0,\"\",K167+$F$2)))","v":""},{"$f":"IF(Table16[[#This Row],[Disposition]]=\"\",\"\",IF(AND(Table16[[#This Row],[Next Calibration]]<$E$1,Table16[[#This Row],[Disposition]]=\"Lost\"),\"Find and Calibrate\",IF(Table16[[#This Row],[Disposition]]=\"Lost\",\"Find\",IF(OR(Table16[[#This Row],[Next Calibration]]<$E$1,Table16[[#This Row],[Next Calibration]]=\"NEVER CALIBRATED\"),\"Calibrate\",\"Nominal\"))))","v":""},{"$f":"IF(((Table16[[#This Row],[Next Calibration]]-TODAY())/30)>2,\"More Than 2\",IF(((Table16[[#This Row],[Next Calibration]]-TODAY())/30)>1,\"Between 2 and 1\",\"Less than 1\"))","v":{"$error":"#VALUE!"}},{"$f":"IF(Table16[[#This Row],[Issued]]=\"\",\"\",IF(Table16[[#This Row],[Lent]]=\"\",0,1))","v":""},{"$f":"IF(Table16[[#This Row],[Lent]]=\"\",\"\",IF(Table16[[#This Row],[Returned]]=\"\",0,1))","v":""}]
[{"$nulls":11},{"$f":"IF(IF(Table16[[#This Row],[Disposition]]=\"Retired\",\"N/A\",IF(Table16[[#This Row],[Disposition]]=0,\"\",K168+$F$2))=0+$F$2,\"NEVER CALIBRATED\",IF(Table16[[#This Row],[Disposition]]=\"Retired\",\"N/A\",IF(Table16[[#This Row],[Disposition]]=0,\"\",K168+$F$2)))","v":""},{"$f":"IF(Table16[[#This Row],[Disposition]]=\"\",\"\",IF(AND(Table16[[#This Row],[Next Calibration]]<$E$1,Table16[[#This Row],[Disposition]]=\"Lost\"),\"Find and Calibrate\",IF(Table16[[#This Row],[Disposition]]=\"Lost\",\"Find\",IF(OR(Table16[[#This Row],[Next Calibration]]<$E$1,Table16[[#This Row],[Next Calibration]]=\"NEVER CALIBRATED\"),\"Calibrate\",\"Nominal\"))))","v":""},{"$f":"IF(((Table16[[#This Row],[Next Calibration]]-TODAY())/30)>2,\"More Than 2\",IF(((Table16[[#This Row],[Next Calibration]]-TODAY())/30)>1,\"Between 2 and 1\",\"Less than 1\"))","v":{"$error":"#VALUE!"}},{"$f":"IF(Table16[[#This Row],[Issued]]=\"\",\"\",IF(Table16[[#This Row],[Lent]]=\"\",0,1))","v":""},{"$f":"IF(Table16[[#This Row],[Lent]]=\"\",\"\",IF(Table16[[#This Row],[Returned]]=\"\",0,1))","v":""}]
[{"$nulls":11},{"$f":"IF(IF(Table16[[#This Row],[Disposition]]=\"Retired\",\"N/A\",IF(Table16[[#This Row],[Disposition]]=0,\"\",K169+$F$2))=0+$F$2,\"NEVER CALIBRATED\",IF(Table16[[#This Row],[Disposition]]=\"Retired\",\"N/A\",IF(Table16[[#This Row],[Disposition]]=0,\"\",K169+$F$2)))","v":""},{"$f":"IF(Table16[[#This Row],[Disposition]]=\"\",\"\",IF(AND(Table16[[#This Row],[Next Calibration]]<$E$1,Table16[[#This Row],[Disposition]]=\"Lost\"),\"Find and Calibrate\",IF(Table16[[#This Row],[Disposition]]=\"Lost\",\"Find\",IF(OR(Table16[[#This Row],[Next Calibration]]<$E$1,Table16[[#This Row],[Next Calibration]]=\"NEVER CALIBRATED\"),\"Calibrate\",\"Nominal\"))))","v":""},{"$f":"IF(((Table16[[#This Row],[Next Calibration]]-TODAY())/30)>2,\"More Than 2\",IF(((Table16[[#This Row],[Next Calibration]]-TODAY())/30)>1,\"Between 2 and 1\",\"Less than 1\"))","v":{"$error":"#VALUE!"}},{"$f":"IF(Table16[[#This Row],[Issued]]=\"\",\"\",IF(Table16[[#This Row],[Lent]]=\"\",0,1))","v":""},{"$f":"IF(Table16[[#This Row],[Lent]]=\"\",\"\",IF(Table16[[#This Row],[Returned]]=\"\",0,1))","v":""}]
[{"$nulls":11},{"$f":"IF(IF(Table16[[#This Row],[Disposition]]=\"Retired\",\"N/A\",IF(Table16[[#This Row],[Disposition]]=0,\"\",K170+$F$2))=0+$F$2,\"NEVER CALIBRATED\",IF(Table16[[#This Row],[Disposition]]=\"Retired\",\"N/A\",IF(Table16[[#This Row],[Disposition]]=0,\"\",K170+$F$2)))","v":""},{"$f":"IF(Table16[[#This Row],[Disposition]]=\"\",\"\",IF(AND(Table16[[#This Row],[Next Calibration]]<$E$1,Table16[[#This Row],[Disposition]]=\"Lost\"),\"Find and Calibrate\",IF(Table16[[#This Row],[Disposition]]=\"Lost\",\"Find\",IF(OR(Table16[[#This Row],[Next Calibration]]<$E$1,Table16[[#This Row],[Next Calibration]]=\"NEVER CALIBRATED\"),\"Calibrate\",\"Nominal\"))))","v":""},{"$f":"IF(((Table16[[#This Row],[Next Calibration]]-TODAY())/30)>2,\"More Than 2\",IF(((Table16[[#This Row],[Next Calibration]]-TODAY())/30)>1,\"Between 2 and 1\",\"Less than 1\"))","v":{"$error":"#VALUE!"}},{"$f":"IF(Table16[[#This Row],[Issued]]=\"\",\"\",IF(Table16[[#This Row],[Lent]]=\"\",0,1))","v":""},{"$f":"IF(Table16[[#This Row],[Lent]]=\"\",\"\",IF(Table16[[#This Row],[Returned]]=\"\",0,1))","v":""}]
[{"$nulls":11},{"$f":"IF(IF(Table16[[#This Row],[Disposition]]=\"Retired\",\"N/A\",IF(Table16[[#This Row],[Disposition]]=0,\"\",K171+$F$2))=0+$F$2,\"NEVER CALIBRATED\",IF(Table16[[#This Row],[Disposition]]=\"Retired\",\"N/A\",IF(Table16[[#This Row],[Disposition]]=0,\"\",K171+$F$2)))","v":""},{"$f":"IF(Table16[[#This Row],[Disposition]]=\"\",\"\",IF(AND(Table16[[#This Row],[Next Calibration]]<$E$1,Table16[[#This Row],[Disposition]]=\"Lost\"),\"Find and Calibrate\",IF(Table16[[#This Row],[Disposition]]=\"Lost\",\"Find\",IF(OR(Table16[[#This Row],[Next Calibration]]<$E$1,Table16[[#This Row],[Next Calibration]]=\"NEVER CALIBRATED\"),\"Calibrate\",\"Nominal\"))))","v":""},{"$f":"IF(((Table16[[#This Row],[Next Calibration]]-TODAY())/30)>2,\"More Than 2\",IF(((Table16[[#This Row],[Next Calibration]]-TODAY())/30)>1,\"Between 2 and 1\",\"Less than 1\"))","v":{"$error":"#VALUE!"}},{"$f":"IF(Table16[[#This Row],[Issued]]=\"\",\"\",IF(Table16[[#This Row],[Lent]]=\"\",0,1))","v":""},{"$f":"IF(Table16[[#This Row],[Lent]]=\"\",\"\",IF(Table16[[#This Row],[Returned]]=\"\",0,1))","v":""}]
[{"$nulls":11},{"$f":"IF(IF(Table16[[#This Row],[Disposition]]=\"Retired\",\"N/A\",IF(Table16[[#This Row],[Disposition]]=0,\"\",K172+$F$2))=0+$F$2,\"NEVER CALIBRATED\",IF(Table16[[#This Row],[Disposition]]=\"Retired\",\"N/A\",IF(Table16[[#This Row],[Disposition]]=0,\"\",K172+$F$2)))","v":""},{"$f":"IF(Table16[[#This Row],[Disposition]]=\"\",\"\",IF(AND(Table16[[#This Row],[Next Calibration]]<$E$1,Table16[[#This Row],[Disposition]]=\"Lost\"),\"Find and Calibrate\",IF(Table16[[#This Row],[Disposition]]=\"Lost\",\"Find\",IF(OR(Table16[[#This Row],[Next Calibration]]<$E$1,Table16[[#This Row],[Next Calibration]]=\"NEVER CALIBRATED\"),\"Calibrate\",\"Nominal\"))))","v":""},{"$f":"IF(((Table16[[#This Row],[Next Calibration]]-TODAY())/30)>2,\"More Than 2\",IF(((Table16[[#This Row],[Next Calibration]]-TODAY())/30)>1,\"Between 2 and 1\",\"Less than 1\"))","v":{"$error":"#VALUE!"}},{"$f":"IF(Table16[[#This Row],[Issued]]=\"\",\"\",IF(Table16[[#This Row],[Lent]]=\"\",0,1))","v":""},{"$f":"IF(Table16[[#This Row],[Lent]]=\"\",\"\",IF(Table16[[#This Row],[Returned]]=\"\",0,1))","v":""}]
[{"$nulls":11},{"$f":"IF(IF(Table16[[#This Row],[Disposition]]=\"Retired\",\"N/A\",IF(Table16[[#This Row],[Disposition]]=0,\"\",K173+$F$2))=0+$F$2,\"NEVER CALIBRATED\",IF(Table16[[#This Row],[Disposition]]=\"Retired\",\"N/A\",IF(Table16[[#This Row],[Disposition]]=0,\"\",K173+$F$2)))","v":""},{"$f":"IF(Table16[[#This Row],[Disposition]]=\"\",\"\",IF(AND(Table16[[#This Row],[Next Calibration]]<$E$1,Table16[[#This Row],[Disposition]]=\"Lost\"),\"Find and Calibrate\",IF(Table16[[#This Row],[Disposition]]=\"Lost\",\"Find\",IF(OR(Table16[[#This Row],[Next Calibration]]<$E$1,Table16[[#This Row],[Next Calibration]]=\"NEVER CALIBRATED\"),\"Calibrate\",\"Nominal\"))))","v":""},{"$f":"IF(((Table16[[#This Row],[Next Calibration]]-TODAY())/30)>2,\"More Than 2\",IF(((Table16[[#This Row],[Next Calibration]]-TODAY())/30)>1,\"Between 2 and 1\",\"Less than 1\"))","v":{"$error":"#VALUE!"}},{"$f":"IF(Table16[[#This Row],[Issued]]=\"\",\"\",IF(Table16[[#This Row],[Lent]]=\"\",0,1))","v":""},{"$f":"IF(Table16[[#This Row],[Lent]]=\"\",\"\",IF(Table16[[#This Row],[Returned]]=\"\",0,1))","v":""}]
[{"$nulls":11},{"$f":"IF(IF(Table16[[#This Row],[Disposition]]=\"Retired\",\"N/A\",IF(Table16[[#This Row],[Disposition]]=0,\"\",K174+$F$2))=0+$F$2,\"NEVER CALIBRATED\",IF(Table16[[#This Row],[Disposition]]=\"Retired\",\"N/A\",IF(Table16[[#This Row],[Disposition]]=0,\"\",K174+$F$2)))","v":""},{"$f":"IF(Table16[[#This Row],[Disposition]]=\"\",\"\",IF(AND(Table16[[#This Row],[Next Calibration]]<$E$1,Table16[[#This Row],[Disposition]]=\"Lost\"),\"Find and Calibrate\",IF(Table16[[#This Row],[Disposition]]=\"Lost\",\"Find\",IF(OR(Table16[[#This Row],[Next Calibration]]<$E$1,Table16[[#This Row],[Next Calibration]]=\"NEVER CALIBRATED\"),\"Calibrate\",\"Nominal\"))))","v":""},{"$f":"IF(((Table16[[#This Row],[Next Calibration]]-TODAY())/30)>2,\"More Than 2\",IF(((Table16[[#This Row],[Next Calibration]]-TODAY())/30)>1,\"Between 2 and 1\",\"Less than 1\"))","v":{"$error":"#VALUE!"}},{"$f":"IF(Table16[[#This Row],[Issued]]=\"\",\"\",IF(Table16[[#This Row],[Lent]]=\"\",0,1))","v":""},{"$f":"IF(Table16[[#This Row],[Lent]]=\"\",\"\",IF(Table16[[#This Row],[Returned]]=\"\",0,1))","v":""}]
[{"$nulls":11},{"$f":"IF(IF(Table16[[#This Row],[Disposition]]=\"Retired\",\"N/A\",IF(Table16[[#This Row],[Disposition]]=0,\"\",K175+$F$2))=0+$F$2,\"NEVER CALIBRATED\",IF(Table16[[#This Row],[Disposition]]=\"Retired\",\"N/A\",IF(Table16[[#This Row],[Disposition]]=0,\"\",K175+$F$2)))","v":""},{"$f":"IF(Table16[[#This Row],[Disposition]]=\"\",\"\",IF(AND(Table16[[#This Row],[Next Calibration]]<$E$1,Table16[[#This Row],[Disposition]]=\"Lost\"),\"Find and Calibrate\",IF(Table16[[#This Row],[Disposition]]=\"Lost\",\"Find\",IF(OR(Table16[[#This Row],[Next Calibration]]<$E$1,Table16[[#This Row],[Next Calibration]]=\"NEVER CALIBRATED\"),\"Calibrate\",\"Nominal\"))))","v":""},{"$f":"IF(((Table16[[#This Row],[Next Calibration]]-TODAY())/30)>2,\"More Than 2\",IF(((Table16[[#This Row],[Next Calibration]]-TODAY())/30)>1,\"Between 2 and 1\",\"Less than 1\"))","v":{"$error":"#VALUE!"}},{"$f":"IF(Table16[[#This Row],[Issued]]=\"\",\"\",IF(Table16[[#This Row],[Lent]]=\"\",0,1))","v":""},{"$f":"IF(Table16[[#This Row],[Lent]]=\"\",\"\",IF(Table16[[#This Row],[Returned]]=\"\",0,1))","v":""}]
[{"$nulls":11},{"$f":"IF(IF(Table16[[#This Row],[Disposition]]=\"Retired\",\"N/A\",IF(Table16[[#This Row],[Disposition]]=0,\"\",K176+$F$2))=0+$F$2,\"NEVER CALIBRATED\",IF(Table16[[#This Row],[Disposition]]=\"Retired\",\"N/A\",IF(Table16[[#This Row],[Disposition]]=0,\"\",K176+$F$2)))","v":""},{"$f":"IF(Table16[[#This Row],[Disposition]]=\"\",\"\",IF(AND(Table16[[#This Row],[Next Calibration]]<$E$1,Table16[[#This Row],[Disposition]]=\"Lost\"),\"Find and Calibrate\",IF(Table16[[#This Row],[Disposition]]=\"Lost\",\"Find\",IF(OR(Table16[[#This Row],[Next Calibration]]<$E$1,Table16[[#This Row],[Next Calibration]]=\"NEVER CALIBRATED\"),\"Calibrate\",\"Nominal\"))))","v":""},{"$f":"IF(((Table16[[#This Row],[Next Calibration]]-TODAY())/30)>2,\"More Than 2\",IF(((Table16[[#This Row],[Next Calibration]]-TODAY())/30)>1,\"Between 2 and 1\",\"Less than 1\"))","v":{"$error":"#VALUE!"}},{"$f":"IF(Table16[[#This Row],[Issued]]=\"\",\"\",IF(Table16[[#This Row],[Lent]]=\"\",0,1))","v":""},{"$f":"IF(Table16[[#This Row],[Lent]]=\"\",\"\",IF(Table16[[#This Row],[Returned]]=\"\",0,1))","v":""}]
[{"$nulls":11},{"$f":"IF(IF(Table16[[#This Row],[Disposition]]=\"Retired\",\"N/A\",IF(Table16[[#This Row],[Disposition]]=0,\"\",K177+$F$2))=0+$F$2,\"NEVER CALIBRATED\",IF(Table16[[#This Row],[Disposition]]=\"Retired\",\"N/A\",IF(Table16[[#This Row],[Disposition]]=0,\"\",K177+$F$2)))","v":""},{"$f":"IF(Table16[[#This Row],[Disposition]]=\"\",\"\",IF(AND(Table16[[#This Row],[Next Calibration]]<$E$1,Table16[[#This Row],[Disposition]]=\"Lost\"),\"Find and Calibrate\",IF(Table16[[#This Row],[Disposition]]=\"Lost\",\"Find\",IF(OR(Table16[[#This Row],[Next Calibration]]<$E$1,Table16[[#This Row],[Next Calibration]]=\"NEVER CALIBRATED\"),\"Calibrate\",\"Nominal\"))))","v":""},{"$f":"IF(((Table16[[#This Row],[Next Calibration]]-TODAY())/30)>2,\"More Than 2\",IF(((Table16[[#This Row],[Next Calibration]]-TODAY())/30)>1,\"Between 2 and 1\",\"Less than 1\"))","v":{"$error":"#VALUE!"}},{"$f":"IF(Table16[[#This Row],[Issued]]=\"\",\"\",IF(Table16[[#This Row],[Lent]]=\"\",0,1))","v":""},{"$f":"IF(Table16[[#This Row],[Lent]]=\"\",\"\",IF(Table16[[#This Row],[Returned]]=\"\",0,1))","v":""}]
[{"$nulls":11},{"$f":"IF(IF(Table16[[#This Row],[Disposition]]=\"Retired\",\"N/A\",IF(Table16[[#This Row],[Disposition]]=0,\"\",K178+$F$2))=0+$F$2,\"NEVER CALIBRATED\",IF(Table16[[#This Row],[Disposition]]=\"Retired\",\"N/A\",IF(Table16[[#This Row],[Disposition]]=0,\"\",K178+$F$2)))","v":""},{"$f":"IF(Table16[[#This Row],[Disposition]]=\"\",\"\",IF(AND(Table16[[#This Row],[Next Calibration]]<$E$1,Table16[[#This Row],[Disposition]]=\"Lost\"),\"Find and Calibrate\",IF(Table16[[#This Row],[Disposition]]=\"Lost\",\"Find\",IF(OR(Table16[[#This Row],[Next Calibration]]<$E$1,Table16[[#This Row],[Next Calibration]]=\"NEVER CALIBRATED\"),\"Calibrate\",\"Nominal\"))))","v":""},{"$f":"IF(((Table16[[#This Row],[Next Calibration]]-TODAY())/30)>2,\"More Than 2\",IF(((Table16[[#This Row],[Next Calibration]]-TODAY())/30)>1,\"Between 2 and 1\",\"Less than 1\"))","v":{"$error":"#VALUE!"}},{"$f":"IF(Table16[[#This Row],[Issued]]=\"\",\"\",IF(Table16[[#This Row],[Lent]]=\"\",0,1))","v":""},{"$f":"IF(Table16[[#This Row],[Lent]]=\"\",\"\",IF(Table16[[#This Row],[Returned]]=\"\",0,1))","v":""}]
[{"$nulls":11},{"$f":"IF(IF(Table16[[#This Row],[Disposition]]=\"Retired\",\"N/A\",IF(Table16[[#This Row],[Disposition]]=0,\"\",K179+$F$2))=0+$F$2,\"NEVER CALIBRATED\",IF(Table16[[#This Row],[Disposition]]=\"Retired\",\"N/A\",IF(Table16[[#This Row],[Disposition]]=0,\"\",K179+$F$2)))","v":""},{"$f":"IF(Table16[[#This Row],[Disposition]]=\"\",\"\",IF(AND(Table16[[#This Row],[Next Calibration]]<$E$1,Table16[[#This Row],[Disposition]]=\"Lost\"),\"Find and Calibrate\",IF(Table16[[#This Row],[Disposition]]=\"Lost\",\"Find\",IF(OR(Table16[[#This Row],[Next Calibration]]<$E$1,Table16[[#This Row],[Next Calibration]]=\"NEVER CALIBRATED\"),\"Calibrate\",\"Nominal\"))))","v":""},{"$f":"IF(((Table16[[#This Row],[Next Calibration]]-TODAY())/30)>2,\"More Than 2\",IF(((Table16[[#This Row],[Next Calibration]]-TODAY())/30)>1,\"Between 2 and 1\",\"Less than 1\"))","v":{"$error":"#VALUE!"}},{"$f":"IF(Table16[[#This Row],[Issued]]=\"\",\"\",IF(Table16[[#This Row],[Lent]]=\"\",0,1))","v":""},{"$f":"IF(Table16[[#This Row],[Lent]]=\"\",\"\",IF(Table16[[#This Row],[Returned]]=\"\",0,1))","v":""}]
[{"$nulls":11},{"$f":"IF(IF(Table16[[#This Row],[Disposition]]=\"Retired\",\"N/A\",IF(Table16[[#This Row],[Disposition]]=0,\"\",K180+$F$2))=0+$F$2,\"NEVER CALIBRATED\",IF(Table16[[#This Row],[Disposition]]=\"Retired\",\"N/A\",IF(Table16[[#This Row],[Disposition]]=0,\"\",K180+$F$2)))","v":""},{"$f":"IF(Table16[[#This Row],[Disposition]]=\"\",\"\",IF(AND(Table16[[#This Row],[Next Calibration]]<$E$1,Table16[[#This Row],[Disposition]]=\"Lost\"),\"Find and Calibrate\",IF(Table16[[#This Row],[Disposition]]=\"Lost\",\"Find\",IF(OR(Table16[[#This Row],[Next Calibration]]<$E$1,Table16[[#This Row],[Next Calibration]]=\"NEVER CALIBRATED\"),\"Calibrate\",\"Nominal\"))))","v":""},{"$f":"IF(((Table16[[#This Row],[Next Calibration]]-TODAY())/30)>2,\"More Than 2\",IF(((Table16[[#This Row],[Next Calibration]]-TODAY())/30)>1,\"Between 2 and 1\",\"Less than 1\"))","v":{"$error":"#VALUE!"}},{"$f":"IF(Table16[[#This Row],[Issued]]=\"\",\"\",IF(Table16[[#This Row],[Lent]]=\"\",0,1))","v":""},{"$f":"IF(Table16[[#This Row],[Lent]]=\"\",\"\",IF(Table16[[#This Row],[Returned]]=\"\",0,1))","v":""}]
[{"$nulls":11},{"$f":"IF(IF(Table16[[#This Row],[Disposition]]=\"Retired\",\"N/A\",IF(Table16[[#This Row],[Disposition]]=0,\"\",K181+$F$2))=0+$F$2,\"NEVER CALIBRATED\",IF(Table16[[#This Row],[Disposition]]=\"Retired\",\"N/A\",IF(Table16[[#This Row],[Disposition]]=0,\"\",K181+$F$2)))","v":""},{"$f":"IF(Table16[[#This Row],[Disposition]]=\"\",\"\",IF(AND(Table16[[#This Row],[Next Calibration]]<$E$1,Table16[[#This Row],[Disposition]]=\"Lost\"),\"Find and Calibrate\",IF(Table16[[#This Row],[Disposition]]=\"Lost\",\"Find\",IF(OR(Table16[[#This Row],[Next Calibration]]<$E$1,Table16[[#This Row],[Next Calibration]]=\"NEVER CALIBRATED\"),\"Calibrate\",\"Nominal\"))))","v":""},{"$f":"IF(((Table16[[#This Row],[Next Calibration]]-TODAY())/30)>2,\"More Than 2\",IF(((Table16[[#This Row],[Next Calibration]]-TODAY())/30)>1,\"Between 2 and 1\",\"Less than 1\"))","v":{"$error":"#VALUE!"}},{"$f":"IF(Table16[[#This Row],[Issued]]=\"\",\"\",IF(Table16[[#This Row],[Lent]]=\"\",0,1))","v":""},{"$f":"IF(Table16[[#This Row],[Lent]]=\"\",\"\",IF(Table16[[#This Row],[Returned]]=\"\",0,1))","v":""}]
[{"$nulls":11},{"$f":"IF(IF(Table16[[#This Row],[Disposition]]=\"Retired\",\"N/A\",IF(Table16[[#This Row],[Disposition]]=0,\"\",K182+$F$2))=0+$F$2,\"NEVER CALIBRATED\",IF(Table16[[#This Row],[Disposition]]=\"Retired\",\"N/A\",IF(Table16[[#This Row],[Disposition]]=0,\"\",K182+$F$2)))","v":""},{"$f":"IF(Table16[[#This Row],[Disposition]]=\"\",\"\",IF(AND(Table16[[#This Row],[Next Calibration]]<$E$1,Table16[[#This Row],[Disposition]]=\"Lost\"),\"Find and Calibrate\",IF(Table16[[#This Row],[Disposition]]=\"Lost\",\"Find\",IF(OR(Table16[[#This Row],[Next Calibration]]<$E$1,Table16[[#This Row],[Next Calibration]]=\"NEVER CALIBRATED\"),\"Calibrate\",\"Nominal\"))))","v":""},{"$f":"IF(((Table16[[#This Row],[Next Calibration]]-TODAY())/30)>2,\"More Than 2\",IF(((Table16[[#This Row],[Next Calibration]]-TODAY())/30)>1,\"Between 2 and 1\",\"Less than 1\"))","v":{"$error":"#VALUE!"}},{"$f":"IF(Table16[[#This Row],[Issued]]=\"\",\"\",IF(Table16[[#This Row],[Lent]]=\"\",0,1))","v":""},{"$f":"IF(Table16[[#This Row],[Lent]]=\"\",\"\",IF(Table16[[#This Row],[Returned]]=\"\",0,1))","v":""}]
[{"$nulls":11},{"$f":"IF(IF(Table16[[#This Row],[Disposition]]=\"Retired\",\"N/A\",IF(Table16[[#This Row],[Disposition]]=0,\"\",K183+$F$2))=0+$F$2,\"NEVER CALIBRATED\",IF(Table16[[#This Row],[Disposition]]=\"Retired\",\"N/A\",IF(Table16[[#This Row],[Disposition]]=0,\"\",K183+$F$2)))","v":""},{"$f":"IF(Table16[[#This Row],[Disposition]]=\"\",\"\",IF(AND(Table16[[#This Row],[Next Calibration]]<$E$1,Table16[[#This Row],[Disposition]]=\"Lost\"),\"Find and Calibrate\",IF(Table16[[#This Row],[Disposition]]=\"Lost\",\"Find\",IF(OR(Table16[[#This Row],[Next Calibration]]<$E$1,Table16[[#This Row],[Next Calibration]]=\"NEVER CALIBRATED\"),\"Calibrate\",\"Nominal\"))))","v":""},{"$f":"IF(((Table16[[#This Row],[Next Calibration]]-TODAY())/30)>2,\"More Than 2\",IF(((Table16[[#This Row],[Next Calibration]]-TODAY())/30)>1,\"Between 2 and 1\",\"Less than 1\"))","v":{"$error":"#VALUE!"}},{"$f":"IF(Table16[[#This Row],[Issued]]=\"\",\"\",IF(Table16[[#This Row],[Lent]]=\"\",0,1))","v":""},{"$f":"IF(Table16[[#This Row],[Lent]]=\"\",\"\",IF(Table16[[#This Row],[Returned]]=\"\",0,1))","v":""}]
[{"$nulls":11},{"$f":"IF(IF(Table16[[#This Row],[Disposition]]=\"Retired\",\"N/A\",IF(Table16[[#This Row],[Disposition]]=0,\"\",K184+$F$2))=0+$F$2,\"NEVER CALIBRATED\",IF(Table16[[#This Row],[Disposition]]=\"Retired\",\"N/A\",IF(Table16[[#This Row],[Disposition]]=0,\"\",K184+$F$2)))","v":""},{"$f":"IF(Table16[[#This Row],[Disposition]]=\"\",\"\",IF(AND(Table16[[#This Row],[Next Calibration]]<$E$1,Table16[[#This Row],[Disposition]]=\"Lost\"),\"Find and Calibrate\",IF(Table16[[#This Row],[Disposition]]=\"Lost\",\"Find\",IF(OR(Table16[[#This Row],[Next Calibration]]<$E$1,Table16[[#This Row],[Next Calibration]]=\"NEVER CALIBRATED\"),\"Calibrate\",\"Nominal\"))))","v":""},{"$f":"IF(((Table16[[#This Row],[Next Calibration]]-TODAY())/30)>2,\"More Than 2\",IF(((Table16[[#This Row],[Next Calibration]]-TODAY())/30)>1,\"Between 2 and 1\",\"Less than 1\"))","v":{"$error":"#VALUE!"}},{"$f":"IF(Table16[[#This Row],[Issued]]=\"\",\"\",IF(Table16[[#This Row],[Lent]]=\"\",0,1))","v":""},{"$f":"IF(Table16[[#This Row],[Lent]]=\"\",\"\",IF(Table16[[#This Row],[Returned]]=\"\",0,1))","v":""}]
[{"$nulls":11},{"$f":"IF(IF(Table16[[#This Row],[Disposition]]=\"Retired\",\"N/A\",IF(Table16[[#This Row],[Disposition]]=0,\"\",K185+$F$2))=0+$F$2,\"NEVER CALIBRATED\",IF(Table16[[#This Row],[Disposition]]=\"Retired\",\"N/A\",IF(Table16[[#This Row],[Disposition]]=0,\"\",K185+$F$2)))","v":""},{"$f":"IF(Table16[[#This Row],[Disposition]]=\"\",\"\",IF(AND(Table16[[#This Row],[Next Calibration]]<$E$1,Table16[[#This Row],[Disposition]]=\"Lost\"),\"Find and Calibrate\",IF(Table16[[#This Row],[Disposition]]=\"Lost\",\"Find\",IF(OR(Table16[[#This Row],[Next Calibration]]<$E$1,Table16[[#This Row],[Next Calibration]]=\"NEVER CALIBRATED\"),\"Calibrate\",\"Nominal\"))))","v":""},{"$f":"IF(((Table16[[#This Row],[Next Calibration]]-TODAY())/30)>2,\"More Than 2\",IF(((Table16[[#This Row],[Next Calibration]]-TODAY())/30)>1,\"Between 2 and 1\",\"Less than 1\"))","v":{"$error":"#VALUE!"}},{"$f":"IF(Table16[[#This Row],[Issued]]=\"\",\"\",IF(Table16[[#This Row],[Lent]]=\"\",0,1))","v":""},{"$f":"IF(Table16[[#This Row],[Lent]]=\"\",\"\",IF(Table16[[#This Row],[Returned]]=\"\",0,1))","v":""}]
[{"$nulls":11},{"$f":"IF(IF(Table16[[#This Row],[Disposition]]=\"Retired\",\"N/A\",IF(Table16[[#This Row],[Disposition]]=0,\"\",K186+$F$2))=0+$F$2,\"NEVER CALIBRATED\",IF(Table16[[#This Row],[Disposition]]=\"Retired\",\"N/A\",IF(Table16[[#This Row],[Disposition]]=0,\"\",K186+$F$2)))","v":""},{"$f":"IF(Table16[[#This Row],[Disposition]]=\"\",\"\",IF(AND(Table16[[#This Row],[Next Calibration]]<$E$1,Table16[[#This Row],[Disposition]]=\"Lost\"),\"Find and Calibrate\",IF(Table16[[#This Row],[Disposition]]=\"Lost\",\"Find\",IF(OR(Table16[[#This Row],[Next Calibration]]<$E$1,Table16[[#This Row],[Next Calibration]]=\"NEVER CALIBRATED\"),\"Calibrate\",\"Nominal\"))))","v":""},{"$f":"IF(((Table16[[#This Row],[Next Calibration]]-TODAY())/30)>2,\"More Than 2\",IF(((Table16[[#This Row],[Next Calibration]]-TODAY())/30)>1,\"Between 2 and 1\",\"Less than 1\"))","v":{"$error":"#VALUE!"}},{"$f":"IF(Table16[[#This Row],[Issued]]=\"\",\"\",IF(Table16[[#This Row],[Lent]]=\"\",0,1))","v":""},{"$f":"IF(Table16[[#This Row],[Lent]]=\"\",\"\",IF(Table16[[#This Row],[Returned]]=\"\",0,1))","v":""}]
[{"$nulls":11},{"$f":"IF(IF(Table16[[#This Row],[Disposition]]=\"Retired\",\"N/A\",IF(Table16[[#This Row],[Disposition]]=0,\"\",K187+$F$2))=0+$F$2,\"NEVER CALIBRATED\",IF(Table16[[#This Row],[Disposition]]=\"Retired\",\"N/A\",IF(Table16[[#This Row],[Disposition]]=0,\"\",K187+$F$2)))","v":""},{"$f":"IF(Table16[[#This Row],[Disposition]]=\"\",\"\",IF(AND(Table16[[#This Row],[Next Calibration]]<$E$1,Table16[[#This Row],[Disposition]]=\"Lost\"),\"Find and Calibrate\",IF(Table16[[#This Row],[Disposition]]=\"Lost\",\"Find\",IF(OR(Table16[[#This Row],[Next Calibration]]<$E$1,Table16[[#This Row],[Next Calibration]]=\"NEVER CALIBRATED\"),\"Calibrate\",\"Nominal\"))))","v":""},{"$f":"IF(((Table16[[#This Row],[Next Calibration]]-TODAY())/30)>2,\"More Than 2\",IF(((Table16[[#This Row],[Next Calibration]]-TODAY())/30)>1,\"Between 2 and 1\",\"Less than 1\"))","v":{"$error":"#VALUE!"}},{"$f":"IF(Table16[[#This Row],[Issued]]=\"\",\"\",IF(Table16[[#This Row],[Lent]]=\"\",0,1))","v":""},{"$f":"IF(Table16[[#This Row],[Lent]]=\"\",\"\",IF(Table16[[#This Row],[Returned]]=\"\",0,1))","v":""}]
[{"$nulls":11},{"$f":"IF(IF(Table16[[#This Row],[Disposition]]=\"Retired\",\"N/A\",IF(Table16[[#This Row],[Disposition]]=0,\"\",K188+$F$2))=0+$F$2,\"NEVER CALIBRATED\",IF(Table16[[#This Row],[Disposition]]=\"Retired\",\"N/A\",IF(Table16[[#This Row],[Disposition]]=0,\"\",K188+$F$2)))","v":""},{"$f":"IF(Table16[[#This Row],[Disposition]]=\"\",\"\",IF(AND(Table16[[#This Row],[Next Calibration]]<$E$1,Table16[[#This Row],[Disposition]]=\"Lost\"),\"Find and Calibrate\",IF(Table16[[#This Row],[Disposition]]=\"Lost\",\"Find\",IF(OR(Table16[[#This Row],[Next Calibration]]<$E$1,Table16[[#This Row],[Next Calibration]]=\"NEVER CALIBRATED\"),\"Calibrate\",\"Nominal\"))))","v":""},{"$f":"IF(((Table16[[#This Row],[Next Calibration]]-TODAY())/30)>2,\"More Than 2\",IF(((Table16[[#This Row],[Next Calibration]]-TODAY())/30)>1,\"Between 2 and 1\",\"Less than 1\"))","v":{"$error":"#VALUE!"}},{"$f":"IF(Table16[[#This Row],[Issued]]=\"\",\"\",IF(Table16[[#This Row],[Lent]]=\"\",0,1))","v":""},{"$f":"IF(Table16[[#This Row],[Lent]]=\"\",\"\",IF(Table16[[#This Row],[Returned]]=\"\",0,1))","v":""}]
[{"$nulls":11},{"$f":"IF(IF(Table16[[#This Row],[Disposition]]=\"Retired\",\"N/A\",IF(Table16[[#This Row],[Disposition]]=0,\"\",K189+$F$2))=0+$F$2,\"NEVER CALIBRATED\",IF(Table16[[#This Row],[Disposition]]=\"Retired\",\"N/A\",IF(Table16[[#This Row],[Disposition]]=0,\"\",K189+$F$2)))","v":""},{"$f":"IF(Table16[[#This Row],[Disposition]]=\"\",\"\",IF(AND(Table16[[#This Row],[Next Calibration]]<$E$1,Table16[[#This Row],[Disposition]]=\"Lost\"),\"Find and Calibrate\",IF(Table16[[#This Row],[Disposition]]=\"Lost\",\"Find\",IF(OR(Table16[[#This Row],[Next Calibration]]<$E$1,Table16[[#This Row],[Next Calibration]]=\"NEVER CALIBRATED\"),\"Calibrate\",\"Nominal\"))))","v":""},{"$f":"IF(((Table16[[#This Row],[Next Calibration]]-TODAY())/30)>2,\"More Than 2\",IF(((Table16[[#This Row],[Next Calibration]]-TODAY())/30)>1,\"Between 2 and 1\",\"Less than 1\"))","v":{"$error":"#VALUE!"}},{"$f":"IF(Table16[[#This Row],[Issued]]=\"\",\"\",IF(Table16[[#This Row],[Lent]]=\"\",0,1))","v":""},{"$f":"IF(Table16[[#This Row],[Lent]]=\"\",\"\",IF(Table16[[#This Row],[Returned]]=\"\",0,1))","v":""}]
[{"$nulls":11},{"$f":"IF(IF(Table16[[#This Row],[Disposition]]=\"Retired\",\"N/A\",IF(Table16[[#This Row],[Disposition]]=0,\"\",K190+$F$2))=0+$F$2,\"NEVER CALIBRATED\",IF(Table16[[#This Row],[Disposition]]=\"Retired\",\"N/A\",IF(Table16[[#This Row],[Disposition]]=0,\"\",K190+$F$2)))","v":""},{"$f":"IF(Table16[[#This Row],[Disposition]]=\"\",\"\",IF(AND(Table16[[#This Row],[Next Calibration]]<$E$1,Table16[[#This Row],[Disposition]]=\"Lost\"),\"Find and Calibrate\",IF(Table16[[#This Row],[Disposition]]=\"Lost\",\"Find\",IF(OR(Table16[[#This Row],[Next Calibration]]<$E$1,Table16[[#This Row],[Next Calibration]]=\"NEVER CALIBRATED\"),\"Calibrate\",\"Nominal\"))))","v":""},{"$f":"IF(((Table16[[#This Row],[Next Calibration]]-TODAY())/30)>2,\"More Than 2\",IF(((Table16[[#This Row],[Next Calibration]]-TODAY())/30)>1,\"Between 2 and 1\",\"Less than 1\"))","v":{"$error":"#VALUE!"}},{"$f":"IF(Table16[[#This Row],[Issued]]=\"\",\"\",IF(Table16[[#This Row],[Lent]]=\"\",0,1))","v":""},{"$f":"IF(Table16[[#This Row],[Lent]]=\"\",\"\",IF(Table16[[#This Row],[Returned]]=\"\",0,1))","v":""}]
[{"$nulls":11},{"$f":"IF(IF(Table16[[#This Row],[Disposition]]=\"Retired\",\"N/A\",IF(Table16[[#This Row],[Disposition]]=0,\"\",K191+$F$2))=0+$F$2,\"NEVER CALIBRATED\",IF(Table16[[#This Row],[Disposition]]=\"Retired\",\"N/A\",IF(Table16[[#This Row],[Disposition]]=0,\"\",K191+$F$2)))","v":""},{"$f":"IF(Table16[[#This Row],[Disposition]]=\"\",\"\",IF(AND(Table16[[#This Row],[Next Calibration]]<$E$1,Table16[[#This Row],[Disposition]]=\"Lost\"),\"Find and Calibrate\",IF(Table16[[#This Row],[Disposition]]=\"Lost\",\"Find\",IF(OR(Table16[[#This Row],[Next Calibration]]<$E$1,Table16[[#This Row],[Next Calibration]]=\"NEVER CALIBRATED\"),\"Calibrate\",\"Nominal\"))))","v":""},{"$f":"IF(((Table16[[#This Row],[Next Calibration]]-TODAY())/30)>2,\"More Than 2\",IF(((Table16[[#This Row],[Next Calibration]]-TODAY())/30)>1,\"Between 2 and 1\",\"Less than 1\"))","v":{"$error":"#VALUE!"}},{"$f":"IF(Table16[[#This Row],[Issued]]=\"\",\"\",IF(Table16[[#This Row],[Lent]]=\"\",0,1))","v":""},{"$f":"IF(Table16[[#This Row],[Lent]]=\"\",\"\",IF(Table16[[#This Row],[Returned]]=\"\",0,1))","v":""}]
[{"$nulls":11},{"$f":"IF(IF(Table16[[#This Row],[Disposition]]=\"Retired\",\"N/A\",IF(Table16[[#This Row],[Disposition]]=0,\"\",K192+$F$2))=0+$F$2,\"NEVER CALIBRATED\",IF(Table16[[#This Row],[Disposition]]=\"Retired\",\"N/A\",IF(Table16[[#This Row],[Disposition]]=0,\"\",K192+$F$2)))","v":""},{"$f":"IF(Table16[[#This Row],[Disposition]]=\"\",\"\",IF(AND(Table16[[#This Row],[Next Calibration]]<$E$1,Table16[[#This Row],[Disposition]]=\"Lost\"),\"Find and Calibrate\",IF(Table16[[#This Row],[Disposition]]=\"Lost\",\"Find\",IF(OR(Table16[[#This Row],[Next Calibration]]<$E$1,Table16[[#This Row],[Next Calibration]]=\"NEVER CALIBRATED\"),\"Calibrate\",\"Nominal\"))))","v":""},{"$f":"IF(((Table16[[#This Row],[Next Calibration]]-TODAY())/30)>2,\"More Than 2\",IF(((Table16[[#This Row],[Next Calibration]]-TODAY())/30)>1,\"Between 2 and 1\",\"Less than 1\"))","v":{"$error":"#VALUE!"}},{"$f":"IF(Table16[[#This Row],[Issued]]=\"\",\"\",IF(Table16[[#This Row],[Lent]]=\"\",0,1))","v":""},{"$f":"IF(Table16[[#This Row],[Lent]]=\"\",\"\",IF(Table16[[#This Row],[Returned]]=\"\",0,1))","v":""}]
[{"$nulls":11},{"$f":"IF(IF(Table16[[#This Row],[Disposition]]=\"Retired\",\"N/A\",IF(Table16[[#This Row],[Disposition]]=0,\"\",K193+$F$2))=0+$F$2,\"NEVER CALIBRATED\",IF(Table16[[#This Row],[Disposition]]=\"Retired\",\"N/A\",IF(Table16[[#This Row],[Disposition]]=0,\"\",K193+$F$2)))","v":""},{"$f":"IF(Table16[[#This Row],[Disposition]]=\"\",\"\",IF(AND(Table16[[#This Row],[Next Calibration]]<$E$1,Table16[[#This Row],[Disposition]]=\"Lost\"),\"Find and Calibrate\",IF(Table16[[#This Row],[Disposition]]=\"Lost\",\"Find\",IF(OR(Table16[[#This Row],[Next Calibration]]<$E$1,Table16[[#This Row],[Next Calibration]]=\"NEVER CALIBRATED\"),\"Calibrate\",\"Nominal\"))))","v":""},{"$f":"IF(((Table16[[#This Row],[Next Calibration]]-TODAY())/30)>2,\"More Than 2\",IF(((Table16[[#This Row],[Next Calibration]]-TODAY())/30)>1,\"Between 2 and 1\",\"Less than 1\"))","v":{"$error":"#VALUE!"}},{"$f":"IF(Table16[[#This Row],[Issued]]=\"\",\"\",IF(Table16[[#This Row],[Lent]]=\"\",0,1))","v":""},{"$f":"IF(Table16[[#This Row],[Lent]]=\"\",\"\",IF(Table16[[#This Row],[Returned]]=\"\",0,1))","v":""}]
[{"$nulls":11},{"$f":"IF(IF(Table16[[#This Row],[Disposition]]=\"Retired\",\"N/A\",IF(Table16[[#This Row],[Disposition]]=0,\"\",K194+$F$2))=0+$F$2,\"NEVER CALIBRATED\",IF(Table16[[#This Row],[Disposition]]=\"Retired\",\"N/A\",IF(Table16[[#This Row],[Disposition]]=0,\"\",K194+$F$2)))","v":""},{"$f":"IF(Table16[[#This Row],[Disposition]]=\"\",\"\",IF(AND(Table16[[#This Row],[Next Calibration]]<$E$1,Table16[[#This Row],[Disposition]]=\"Lost\"),\"Find and Calibrate\",IF(Table16[[#This Row],[Disposition]]=\"Lost\",\"Find\",IF(OR(Table16[[#This Row],[Next Calibration]]<$E$1,Table16[[#This Row],[Next Calibration]]=\"NEVER CALIBRATED\"),\"Calibrate\",\"Nominal\"))))","v":""},{"$f":"IF(((Table16[[#This Row],[Next Calibration]]-TODAY())/30)>2,\"More Than 2\",IF(((Table16[[#This Row],[Next Calibration]]-TODAY())/30)>1,\"Between 2 and 1\",\"Less than 1\"))","v":{"$error":"#VALUE!"}},{"$f":"IF(Table16[[#This Row],[Issued]]=\"\",\"\",IF(Table16[[#This Row],[Lent]]=\"\",0,1))","v":""},{"$f":"IF(Table16[[#This Row],[Lent]]=\"\",\"\",IF(Table16[[#This Row],[Returned]]=\"\",0,1))","v":""}]
[{"$nulls":11},{"$f":"IF(IF(Table16[[#This Row],[Disposition]]=\"Retired\",\"N/A\",IF(Table16[[#This Row],[Disposition]]=0,\"\",K195+$F$2))=0+$F$2,\"NEVER CALIBRATED\",IF(Table16[[#This Row],[Disposition]]=\"Retired\",\"N/A\",IF(Table16[[#This Row],[Disposition]]=0,\"\",K195+$F$2)))","v":""},{"$f":"IF(Table16[[#This Row],[Disposition]]=\"\",\"\",IF(AND(Table16[[#This Row],[Next Calibration]]<$E$1,Table16[[#This Row],[Disposition]]=\"Lost\"),\"Find and Calibrate\",IF(Table16[[#This Row],[Disposition]]=\"Lost\",\"Find\",IF(OR(Table16[[#This Row],[Next Calibration]]<$E$1,Table16[[#This Row],[Next Calibration]]=\"NEVER CALIBRATED\"),\"Calibrate\",\"Nominal\"))))","v":""},{"$f":"IF(((Table16[[#This Row],[Next Calibration]]-TODAY())/30)>2,\"More Than 2\",IF(((Table16[[#This Row],[Next Calibration]]-TODAY())/30)>1,\"Between 2 and 1\",\"Less than 1\"))","v":{"$error":"#VALUE!"}},{"$f":"IF(Table16[[#This Row],[Issued]]=\"\",\"\",IF(Table16[[#This Row],[Lent]]=\"\",0,1))","v":""},{"$f":"IF(Table16[[#This Row],[Lent]]=\"\",\"\",IF(Table16[[#This Row],[Returned]]=\"\",0,1))","v":""}]
[{"$nulls":11},{"$f":"IF(IF(Table16[[#This Row],[Disposition]]=\"Retired\",\"N/A\",IF(Table16[[#This Row],[Disposition]]=0,\"\",K196+$F$2))=0+$F$2,\"NEVER CALIBRATED\",IF(Table16[[#This Row],[Disposition]]=\"Retired\",\"N/A\",IF(Table16[[#This Row],[Disposition]]=0,\"\",K196+$F$2)))","v":""},{"$f":"IF(Table16[[#This Row],[Disposition]]=\"\",\"\",IF(AND(Table16[[#This Row],[Next Calibration]]<$E$1,Table16[[#This Row],[Disposition]]=\"Lost\"),\"Find and Calibrate\",IF(Table16[[#This Row],[Disposition]]=\"Lost\",\"Find\",IF(OR(Table16[[#This Row],[Next Calibration]]<$E$1,Table16[[#This Row],[Next Calibration]]=\"NEVER CALIBRATED\"),\"Calibrate\",\"Nominal\"))))","v":""},{"$f":"IF(((Table16[[#This Row],[Next Calibration]]-TODAY())/30)>2,\"More Than 2\",IF(((Table16[[#This Row],[Next Calibration]]-TODAY())/30)>1,\"Between 2 and 1\",\"Less than 1\"))","v":{"$error":"#VALUE!"}},{"$f":"IF(Table16[[#This Row],[Issued]]=\"\",\"\",IF(Table16[[#This Row],[Lent]]=\"\",0,1))","v":""},{"$f":"IF(Table16[[#This Row],[Lent]]=\"\",\"\",IF(Table16[[#This Row],[Returned]]=\"\",0,1))","v":""}]
[{"$nulls":11},{"$f":"IF(IF(Table16[[#This Row],[Disposition]]=\"Retired\",\"N/A\",IF(Table16[[#This Row],[Disposition]]=0,\"\",K197+$F$2))=0+$F$2,\"NEVER CALIBRATED\",IF(Table16[[#This Row],[Disposition]]=\"Retired\",\"N/A\",IF(Table16[[#This Row],[Disposition]]=0,\"\",K197+$F$2)))","v":""},{"$f":"IF(Table16[[#This Row],[Disposition]]=\"\",\"\",IF(AND(Table16[[#This Row],[Next Calibration]]<$E$1,Table16[[#This Row],[Disposition]]=\"Lost\"),\"Find and Calibrate\",IF(Table16[[#This Row],[Disposition]]=\"Lost\",\"Find\",IF(OR(Table16[[#This Row],[Next Calibration]]<$E$1,Table16[[#This Row],[Next Calibration]]=\"NEVER CALIBRATED\"),\"Calibrate\",\"Nominal\"))))","v":""},{"$f":"IF(((Table16[[#This Row],[Next Calibration]]-TODAY())/30)>2,\"More Than 2\",IF(((Table16[[#This Row],[Next Calibration]]-TODAY())/30)>1,\"Between 2 and 1\",\"Less than 1\"))","v":{"$error":"#VALUE!"}},{"$f":"IF(Table16[[#This Row],[Issued]]=\"\",\"\",IF(Table16[[#This Row],[Lent]]=\"\",0,1))","v":""},{"$f":"IF(Table16[[#This Row],[Lent]]=\"\",\"\",IF(Table16[[#This Row],[Returned]]=\"\",0,1))","v":""}]
[{"$nulls":11},{"$f":"IF(IF(Table16[[#This Row],[Disposition]]=\"Retired\",\"N/A\",IF(Table16[[#This Row],[Disposition]]=0,\"\",K198+$F$2))=0+$F$2,\"NEVER CALIBRATED\",IF(Table16[[#This Row],[Disposition]]=\"Retired\",\"N/A\",IF(Table16[[#This Row],[Disposition]]=0,\"\",K198+$F$2)))","v":""},{"$f":"IF(Table16[[#This Row],[Disposition]]=\"\",\"\",IF(AND(Table16[[#This Row],[Next Calibration]]<$E$1,Table16[[#This Row],[Disposition]]=\"Lost\"),\"Find and Calibrate\",IF(Table16[[#This Row],[Disposition]]=\"Lost\",\"Find\",IF(OR(Table16[[#This Row],[Next Calibration]]<$E$1,Table16[[#This Row],[Next Calibration]]=\"NEVER CALIBRATED\"),\"Calibrate\",\"Nominal\"))))","v":""},{"$f":"IF(((Table16[[#This Row],[Next Calibration]]-TODAY())/30)>2,\"More Than 2\",IF(((Table16[[#This Row],[Next Calibration]]-TODAY())/30)>1,\"Between 2 and 1\",\"Less than 1\"))","v":{"$error":"#VALUE!"}},{"$f":"IF(Table16[[#This Row],[Issued]]=\"\",\"\",IF(Table16[[#This Row],[Lent]]=\"\",0,1))","v":""},{"$f":"IF(Table16[[#This Row],[Lent]]=\"\",\"\",IF(Table16[[#This Row],[Returned]]=\"\",0,1))","v":""}]
[{"$nulls":11},{"$f":"IF(IF(Table16[[#This Row],[Disposition]]=\"Retired\",\"N/A\",IF(Table16[[#This Row],[Disposition]]=0,\"\",K199+$F$2))=0+$F$2,\"NEVER CALIBRATED\",IF(Table16[[#This Row],[Disposition]]=\"Retired\",\"N/A\",IF(Table16[[#This Row],[Disposition]]=0,\"\",K199+$F$2)))","v":""},{"$f":"IF(Table16[[#This Row],[Disposition]]=\"\",\"\",IF(AND(Table16[[#This Row],[Next Calibration]]<$E$1,Table16[[#This Row],[Disposition]]=\"Lost\"),\"Find and Calibrate\",IF(Table16[[#This Row],[Disposition]]=\"Lost\",\"Find\",IF(OR(Table16[[#This Row],[Next Calibration]]<$E$1,Table16[[#This Row],[Next Calibration]]=\"NEVER CALIBRATED\"),\"Calibrate\",\"Nominal\"))))","v":""},{"$f":"IF(((Table16[[#This Row],[Next Calibration]]-TODAY())/30)>2,\"More Than 2\",IF(((Table16[[#This Row],[Next Calibration]]-TODAY())/30)>1,\"Between 2 and 1\",\"Less than 1\"))","v":{"$error":"#VALUE!"}},{"$f":"IF(Table16[[#This Row],[Issued]]=\"\",\"\",IF(Table16[[#This Row],[Lent]]=\"\",0,1))","v":""},{"$f":"IF(Table16[[#This Row],[Lent]]=\"\",\"\",IF(Table16[[#This Row],[Returned]]=\"\",0,1))","v":""}]
[{"$nulls":11},{"$f":"IF(IF(Table16[[#This Row],[Disposition]]=\"Retired\",\"N/A\",IF(Table16[[#This Row],[Disposition]]=0,\"\",K200+$F$2))=0+$F$2,\"NEVER CALIBRATED\",IF(Table16[[#This Row],[Disposition]]=\"Retired\",\"N/A\",IF(Table16[[#This Row],[Disposition]]=0,\"\",K200+$F$2)))","v":""},{"$f":"IF(Table16[[#This Row],[Disposition]]=\"\",\"\",IF(AND(Table16[[#This Row],[Next Calibration]]<$E$1,Table16[[#This Row],[Disposition]]=\"Lost\"),\"Find and Calibrate\",IF(Table16[[#This Row],[Disposition]]=\"Lost\",\"Find\",IF(OR(Table16[[#This Row],[Next Calibration]]<$E$1,Table16[[#This Row],[Next Calibration]]=\"NEVER CALIBRATED\"),\"Calibrate\",\"Nominal\"))))","v":""},{"$f":"IF(((Table16[[#This Row],[Next Calibration]]-TODAY())/30)>2,\"More Than 2\",IF(((Table16[[#This Row],[Next Calibration]]-TODAY())/30)>1,\"Between 2 and 1\",\"Less than 1\"))","v":{"$error":"#VALUE!"}},{"$f":"IF(Table16[[#This Row],[Issued]]=\"\",\"\",IF(Table16[[#This Row],[Lent]]=\"\",0,1))","v":""},{"$f":"IF(Table16[[#This Row],[Lent]]=\"\",\"\",IF(Table16[[#This Row],[Returned]]=\"\",0,1))","v":""}]
[{"$nulls":11},{"$f":"IF(IF(Table16[[#This Row],[Disposition]]=\"Retired\",\"N/A\",IF(Table16[[#This Row],[Disposition]]=0,\"\",K201+$F$2))=0+$F$2,\"NEVER CALIBRATED\",IF(Table16[[#This Row],[Disposition]]=\"Retired\",\"N/A\",IF(Table16[[#This Row],[Disposition]]=0,\"\",K201+$F$2)))","v":""},{"$f":"IF(Table16[[#This Row],[Disposition]]=\"\",\"\",IF(AND(Table16[[#This Row],[Next Calibration]]<$E$1,Table16[[#This Row],[Disposition]]=\"Lost\"),\"Find and Calibrate\",IF(Table16[[#This Row],[Disposition]]=\"Lost\",\"Find\",IF(OR(Table16[[#This Row],[Next Calibration]]<$E$1,Table16[[#This Row],[Next Calibration]]=\"NEVER CALIBRATED\"),\"Calibrate\",\"Nominal\"))))","v":""},{"$f":"IF(((Table16[[#This Row],[Next Calibration]]-TODAY())/30)>2,\"More Than 2\",IF(((Table16[[#This Row],[Next Calibration]]-TODAY())/30)>1,\"Between 2 and 1\",\"Less than 1\"))","v":{"$error":"#VALUE!"}},{"$f":"IF(Table16[[#This Row],[Issued]]=\"\",\"\",IF(Table16[[#This Row],[Lent]]=\"\",0,1))","v":""},{"$f":"IF(Table16[[#This Row],[Lent]]=\"\",\"\",IF(Table16[[#This Row],[Returned]]=\"\",0,1))","v":""}]
[{"$nulls":11},{"$f":"IF(IF(Table16[[#This Row],[Disposition]]=\"Retired\",\"N/A\",IF(Table16[[#This Row],[Disposition]]=0,\"\",K202+$F$2))=0+$F$2,\"NEVER CALIBRATED\",IF(Table16[[#This Row],[Disposition]]=\"Retired\",\"N/A\",IF(Table16[[#This Row],[Disposition]]=0,\"\",K202+$F$2)))","v":""},{"$f":"IF(Table16[[#This Row],[Disposition]]=\"\",\"\",IF(AND(Table16[[#This Row],[Next Calibration]]<$E$1,Table16[[#This Row],[Disposition]]=\"Lost\"),\"Find and Calibrate\",IF(Table16[[#This Row],[Disposition]]=\"Lost\",\"Find\",IF(OR(Table16[[#This Row],[Next Calibration]]<$E$1,Table16[[#This Row],[Next Calibration]]=\"NEVER CALIBRATED\"),\"Calibrate\",\"Nominal\"))))","v":""},{"$f":"IF(((Table16[[#This Row],[Next Calibration]]-TODAY())/30)>2,\"More Than 2\",IF(((Table16[[#This Row],[Next Calibration]]-TODAY())/30)>1,\"Between 2 and 1\",\"Less than 1\"))","v":{"$error":"#VALUE!"}},{"$f":"IF(Table16[[#This Row],[Issued]]=\"\",\"\",IF(Table16[[#This Row],[Lent]]=\"\",0,1))","v":""},{"$f":"IF(Table16[[#This Row],[Lent]]=\"\",\"\",IF(Table16[[#This Row],[Returned]]=\"\",0,1))","v":""}]
[{"$nulls":11},{"$f":"IF(IF(Table16[[#This Row],[Disposition]]=\"Retired\",\"N/A\",IF(Table16[[#This Row],[Disposition]]=0,\"\",K203+$F$2))=0+$F$2,\"NEVER CALIBRATED\",IF(Table16[[#This Row],[Disposition]]=\"Retired\",\"N/A\",IF(Table16[[#This Row],[Disposition]]=0,\"\",K203+$F$2)))","v":""},{"$f":"IF(Table16[[#This Row],[Disposition]]=\"\",\"\",IF(AND(Table16[[#This Row],[Next Calibration]]<$E$1,Table16[[#This Row],[Disposition]]=\"Lost\"),\"Find and Calibrate\",IF(Table16[[#This Row],[Disposition]]=\"Lost\",\"Find\",IF(OR(Table16[[#This Row],[Next Calibration]]<$E$1,Table16[[#This Row],[Next Calibration]]=\"NEVER CALIBRATED\"),\"Calibrate\",\"Nominal\"))))","v":""},{"$f":"IF(((Table16[[#This Row],[Next Calibration]]-TODAY())/30)>2,\"More Than 2\",IF(((Table16[[#This Row],[Next Calibration]]-TODAY())/30)>1,\"Between 2 and 1\",\"Less than 1\"))","v":{"$error":"#VALUE!"}},{"$f":"IF(Table16[[#This Row],[Issued]]=\"\",\"\",IF(Table16[[#This Row],[Lent]]=\"\",0,1))","v":""},{"$f":"IF(Table16[[#This Row],[Lent]]=\"\",\"\",IF(Table16[[#This Row],[Returned]]=\"\",0,1))","v":""}]

{"sheet":"Drop Indicators","index":4,"n_rows":203,"n_cols":16,"rows_kept":203,"merged":[[0,0,1,2],[0,9,1,9],[0,10,0,11],[1,10,1,11],[3,0,4,0]]}
["Drop Indicators",null,null,"Date",{"$f":"TODAY()","v":"2021-04-27"},"Calibration Frequency (days)",{"$nulls":3},"Key","Personal Tool",null,"Adjustabe"]
[{"$nulls":3},"Time",{"$f":"NOW()","v":44313.375952546296},365,{"$nulls":4},"Attention",null,"DO NOT EDIT"]
[]
["Tool Modification"]
[]
[]
["Gauge #","Lent To","Shift","Work Area","Brand","Disposition","Personal (1/0)","Issued","Lent","Returned","Calibrated","Next Calibration","Action Required","count down","Lent (1/0)","Returned (1/0)"]
["J0007",{"$nulls":3},"Fowler 0-1\" Drop","Accounted For",null,"2021-02-17",null,null,"2021-02-17",{"$f":"IF(IF(Table17[[#This Row],[Disposition]]=\"Retired\",\"N/A\",IF(Table17[[#This Row],[Disposition]]=0,\"\",K8+$F$2))=0+$F$2,\"NEVER CALIBRATED\",IF(Table17[[#This Row],[Disposition]]=\"Retired\",\"N/A\",IF(Table17[[#This Row],[Disposition]]=0,\"\",K8+$F$2)))","v":"2022-02-17"},{"$f":"IF(Table17[[#This Row],[Disposition]]=\"\",\"\",IF(AND(Table17[[#This Row],[Next Calibration]]<$E$1,Table17[[#This Row],[Disposition]]=\"Lost\"),\"Find and Calibrate\",IF(Table17[[#This Row],[Disposition]]=\"Lost\",\"Find\",IF(OR(Table17[[#This Row],[Next Calibration]]<$E$1,Table17[[#This Row],[Next Calibration]]=\"NEVER CALIBRATED\"),\"Calibrate\",\"Nominal\"))))","v":"Nominal"},{"$f":"IF(((Table17[[#This Row],[Next Calibration]]-TODAY())/30)>2,\"More Than 2\",IF(((Table17[[#This Row],[Next Calibration]]-TODAY())/30)>1,\"Between 2 and 1\",\"Less than 1\"))","v":"More Than 2"},{"$f":"IF(Table17[[#This Row],[Issued]]=\"\",\"\",IF(Table17[[#This Row],[Lent]]=\"\",0,1))","v":{"v":0,"d":"0.00"}},{"$f":"IF(Table17[[#This Row],[Lent]]=\"\",\"\",IF(Table17[[#This Row],[Returned]]=\"\",0,1))","v":""}]
[9100469,"NO PERSON SPECIFIED","NO SHIFT SPECIFIED","Braze (Weld)","Fowler 0-1\" Drop","Accounted For",null,"2021-03-08","2021-03-08",null,"2021-03-08",{"$f":"IF(IF(Table17[[#This Row],[Disposition]]=\"Retired\",\"N/A\",IF(Table17[[#This Row],[Disposition]]=0,\"\",K9+$F$2))=0+$F$2,\"NEVER CALIBRATED\",IF(Table17[[#This Row],[Disposition]]=\"Retired\",\"N/A\",IF(Table17[[#This Row],[Disposition]]=0,\"\",K9+$F$2)))","v":"2022-03-08"},{"$f":"IF(Table17[[#This Row],[Disposition]]=\"\",\"\",IF(AND(Table17[[#This Row],[Next Calibration]]<$E$1,Table17[[#This Row],[Disposition]]=\"Lost\"),\"Find and Calibrate\",IF(Table17[[#This Row],[Disposition]]=\"Lost\",\"Find\",IF(OR(Table17[[#This Row],[Next Calibration]]<$E$1,Table17[[#This Row],[Next Calibration]]=\"NEVER CALIBRATED\"),\"Calibrate\",\"Nominal\"))))","v":"Nominal"},{"$f":"IF(((Table17[[#This Row],[Next Calibration]]-TODAY())/30)>2,\"More Than 2\",IF(((Table17[[#This Row],[Next Calibration]]-TODAY())/30)>1,\"Between 2 and 1\",\"Less than 1\"))","v":"More Than 2"},{"$f":"IF(Table17[[#This Row],[Issued]]=\"\",\"\",IF(Table17[[#This Row],[Lent]]=\"\",0,1))","v":{"v":1,"d":"1.00"}},{"$f":"IF(Table17[[#This Row],[Lent]]=\"\",\"\",IF(Table17[[#This Row],[Returned]]=\"\",0,1))","v":{"v":0,"d":"0.00"}}]
[1734928,{"$nulls":3},"Fowler 0-1\" Drop","Accounted For",null,"2021-03-08",{"$nulls":3},{"$f":"IF(IF(Table17[[#This Row],[Disposition]]=\"Retired\",\"N/A\",IF(Table17[[#This Row],[Disposition]]=0,\"\",K10+$F$2))=0+$F$2,\"NEVER CALIBRATED\",IF(Table17[[#This Row],[Disposition]]=\"Retired\",\"N/A\",IF(Table17[[#This Row],[Disposition]]=0,\"\",K10+$F$2)))","v":"NEVER CALIBRATED"},{"$f":"IF(Table17[[#This Row],[Disposition]]=\"\",\"\",IF(AND(Table17[[#This Row],[Next Calibration]]<$E$1,Table17[[#This Row],[Disposition]]=\"Lost\"),\"Find and Calibrate\",IF(Table17[[#This Row],[Disposition]]=\"Lost\",\"Find\",IF(OR(Table17[[#This Row],[Next Calibration]]<$E$1,Table17[[#This Row],[Next Calibration]]=\"NEVER CALIBRATED\"),\"Calibrate\",\"Nominal\"))))","v":"Calibrate"},{"$f":"IF(((Table17[[#This Row],[Next Calibration]]-TODAY())/30)>2,\"More Than 2\",IF(((Table17[[#This Row],[Next Calibration]]-TODAY())/30)>1,\"Between 2 and 1\",\"Less than 1\"))","v":{"$error":"#VALUE!"}},{"$f":"IF(Table17[[#This Row],[Issued]]=\"\",\"\",IF(Table17[[#This Row],[Lent]]=\"\",0,1))","v":{"v":0,"d":"0.00"}},{"$f":"IF(Table17[[#This Row],[Lent]]=\"\",\"\",IF(Table17[[#This Row],[Returned]]=\"\",0,1))","v":""}]
[1171750,{"$nulls":3},"MHC 0-1\" Drop","Accounted For",null,"2021-03-08",{"$nulls":3},{"$f":"IF(IF(Table17[[#This Row],[Disposition]]=\"Retired\",\"N/A\",IF(Table17[[#This Row],[Disposition]]=0,\"\",K11+$F$2))=0+$F$2,\"NEVER CALIBRATED\",IF(Table17[[#This Row],[Disposition]]=\"Retired\",\"N/A\",IF(Table17[[#This Row],[Disposition]]=0,\"\",K11+$F$2)))","v":"NEVER CALIBRATED"},{"$f":"IF(Table17[[#This Row],[Disposition]]=\"\",\"\",IF(AND(Table17[[#This Row],[Next Calibration]]<$E$1,Table17[[#This Row],[Disposition]]=\"Lost\"),\"Find and Calibrate\",IF(Table17[[#This Row],[Disposition]]=\"Lost\",\"Find\",IF(OR(Table17[[#This Row],[Next Calibration]]<$E$1,Table17[[#This Row],[Next Calibration]]=\"NEVER CALIBRATED\"),\"Calibrate\",\"Nominal\"))))","v":"Calibrate"},{"$f":"IF(((Table17[[#This Row],[Next Calibration]]-TODAY())/30)>2,\"More Than 2\",IF(((Table17[[#This Row],[Next Calibration]]-TODAY())/30)>1,\"Between 2 and 1\",\"Less than 1\"))","v":{"$error":"#VALUE!"}},{"$f":"IF(Table17[[#This Row],[Issued]]=\"\",\"\",IF(Table17[[#This Row],[Lent]]=\"\",0,1))","v":{"v":0,"d":"0.00"}},{"$f":"IF(Table17[[#This Row],[Lent]]=\"\",\"\",IF(Table17[[#This Row],[Returned]]=\"\",0,1))","v":""}]
[1172154,{"$nulls":3},"MHC 0-1\" Drop","Accounted For",null,"2021-03-08",{"$nulls":3},{"$f":"IF(IF(Table17[[#This Row],[Disposition]]=\"Retired\",\"N/A\",IF(Table17[[#This Row],[Disposition]]=0,\"\",K12+$F$2))=0+$F$2,\"NEVER CALIBRATED\",IF(Table17[[#This Row],[Disposition]]=\"Retired\",\"N/A\",IF(Table17[[#This Row],[Disposition]]=0,\"\",K12+$F$2)))","v":"NEVER CALIBRATED"},{"$f":"IF(Table17[[#This Row],[Disposition]]=\"\",\"\",IF(AND(Table17[[#This Row],[Next Calibration]]<$E$1,Table17[[#This Row],[Disposition]]=\"Lost\"),\"Find and Calibrate\",IF(Table17[[#This Row],[Disposition]]=\"Lost\",\"Find\",IF(OR(Table17[[#This Row],[Next Calibration]]<$E$1,Table17[[#This Row],[Next Calibration]]=\"NEVER CALIBRATED\"),\"Calibrate\",\"Nominal\"))))","v":"Calibrate"},{"$f":"IF(((Table17[[#This Row],[Next Calibration]]-TODAY())/30)>2,\"More Than 2\",IF(((Table17[[#This Row],[Next Calibration]]-TODAY())/30)>1,\"Between 2 and 1\",\"Less than 1\"))","v":{"$error":"#VALUE!"}},{"$f":"IF(Table17[[#This Row],[Issued]]=\"\",\"\",IF(Table17[[#This Row],[Lent]]=\"\",0,1))","v":{"v":0,"d":"0.00"}},{"$f":"IF(Table17[[#This Row],[Lent]]=\"\",\"\",IF(Table17[[#This Row],[Returned]]=\"\",0,1))","v":""}]
["J0008",{"$nulls":3},"Federal Drop 0.0005\"","Accounted For",null,"2021-03-08",{"$nulls":3},{"$f":"IF(IF(Table17[[#This Row],[Disposition]]=\"Retired\",\"N/A\",IF(Table17[[#This Row],[Disposition]]=0,\"\",K13+$F$2))=0+$F$2,\"NEVER CALIBRATED\",IF(Table17[[#This Row],[Disposition]]=\"Retired\",\"N/A\",IF(Table17[[#This Row],[Disposition]]=0,\"\",K13+$F$2)))","v":"NEVER CALIBRATED"},{"$f":"IF(Table17[[#This Row],[Disposition]]=\"\",\"\",IF(AND(Table17[[#This Row],[Next Calibration]]<$E$1,Table17[[#This Row],[Disposition]]=\"Lost\"),\"Find and Calibrate\",IF(Table17[[#This Row],[Disposition]]=\"Lost\",\"Find\",IF(OR(Table17[[#This Row],[Next Calibration]]<$E$1,Table17[[#This Row],[Next Calibration]]=\"NEVER CALIBRATED\"),\"Calibrate\",\"Nominal\"))))","v":"Calibrate"},{"$f":"IF(((Table17[[#This Row],[Next Calibration]]-TODAY())/30)>2,\"More Than 2\",IF(((Table17[[#This Row],[Next Calibration]]-TODAY())/30)>1,\"Between 2 and 1\",\"Less than 1\"))","v":{"$error":"#VALUE!"}},{"$f":"IF(Table17[[#This Row],[Issued]]=\"\",\"\",IF(Table17[[#This Row],[Lent]]=\"\",0,1))","v":{"v":0,"d":"0.00"}},{"$f":"IF(Table17[[#This Row],[Lent]]=\"\",\"\",IF(Table17[[#This Row],[Returned]]=\"\",0,1))","v":""}]
["J0009",{"$nulls":3},"Federal Drop 0.00025\"","Accounted For",null,"2021-03-08",{"$nulls":3},{"$f":"IF(IF(Table17[[#This Row],[Disposition]]=\"Retired\",\"N/A\",IF(Table17[[#This Row],[Disposition]]=0,\"\",K14+$F$2))=0+$F$2,\"NEVER CALIBRATED\",IF(Table17[[#This Row],[Disposition]]=\"Retired\",\"N/A\",IF(Table17[[#This Row],[Disposition]]=0,\"\",K14+$F$2)))","v":"NEVER CALIBRATED"},{"$f":"IF(Table17[[#This Row],[Disposition]]=\"\",\"\",IF(AND(Table17[[#This Row],[Next Calibration]]<$E$1,Table17[[#This Row],[Disposition]]=\"Lost\"),\"Find and Calibrate\",IF(Table17[[#This Row],[Disposition]]=\"Lost\",\"Find\",IF(OR(Table17[[#This Row],[Next Calibration]]<$E$1,Table17[[#This Row],[Next Calibration]]=\"NEVER CALIBRATED\"),\"Calibrate\",\"Nominal\"))))","v":"Calibrate"},{"$f":"IF(((Table17[[#This Row],[Next Calibration]]-TODAY())/30)>2,\"More Than 2\",IF(((Table17[[#This Row],[Next Calibration]]-TODAY())/30)>1,\"Between 2 and 1\",\"Less than 1\"))","v":{"$error":"#VALUE!"}},{"$f":"IF(Table17[[#This Row],[Issued]]=\"\",\"\",IF(Table17[[#This Row],[Lent]]=\"\",0,1))","v":{"v":0,"d":"0.00"}},{"$f":"IF(Table17[[#This Row],[Lent]]=\"\",\"\",IF(Table17[[#This Row],[Returned]]=\"\",0,1))","v":""}]
["J0010",{"$nulls":3},"Federal Drop 0.00025\"","Accounted For",null,"2021-03-08",{"$nulls":3},{"$f":"IF(IF(Table17[[#This Row],[Disposition]]=\"Retired\",\"N/A\",IF(Table17[[#This Row],[Disposition]]=0,\"\",K15+$F$2))=0+$F$2,\"NEVER CALIBRATED\",IF(Table17[[#This Row],[Disposition]]=\"Retired\",\"N/A\",IF(Table17[[#This Row],[Disposition]]=0,\"\",K15+$F$2)))","v":"NEVER CALIBRATED"},{"$f":"IF(Table17[[#This Row],[Disposition]]=\"\",\"\",IF(AND(Table17[[#This Row],[Next Calibration]]<$E$1,Table17[[#This Row],[Disposition]]=\"Lost\"),\"Find and Calibrate\",IF(Table17[[#This Row],[Disposition]]=\"Lost\",\"Find\",IF(OR(Table17[[#This Row],[Next Calibration]]<$E$1,Table17[[#This Row],[Next Calibration]]=\"NEVER CALIBRATED\"),\"Calibrate\",\"Nominal\"))))","v":"Calibrate"},{"$f":"IF(((Table17[[#This Row],[Next Calibration]]-TODAY())/30)>2,\"More Than 2\",IF(((Table17[[#This Row],[Next Calibration]]-TODAY())/30)>1,\"Between 2 and 1\",\"Less than 1\"))","v":{"$error":"#VALUE!"}},{"$f":"IF(Table17[[#This Row],[Issued]]=\"\",\"\",IF(Table17[[#This Row],[Lent]]=\"\",0,1))","v":{"v":0,"d":"0.00"}},{"$f":"IF(Table17[[#This Row],[Lent]]=\"\",\"\",IF(Table17[[#This Row],[Returned]]=\"\",0,1))","v":""}]
["J0011",{"$nulls":3},"Federal Drop 0.0001\"","Accounted For",null,"2021-03-08",{"$nulls":3},{"$f":"IF(IF(Table17[[#This Row],[Disposition]]=\"Retired\",\"N/A\",IF(Table17[[#This Row],[Disposition]]=0,\"\",K16+$F$2))=0+$F$2,\"NEVER CALIBRATED\",IF(Table17[[#This Row],[Disposition]]=\"Retired\",\"N/A\",IF(Table17[[#This Row],[Disposition]]=0,\"\",K16+$F$2)))","v":"NEVER CALIBRATED"},{"$f":"IF(Table17[[#This Row],[Disposition]]=\"\",\"\",IF(AND(Table17[[#This Row],[Next Calibration]]<$E$1,Table17[[#This Row],[Disposition]]=\"Lost\"),\"Find and Calibrate\",IF(Table17[[#This Row],[Disposition]]=\"Lost\",\"Find\",IF(OR(Table17[[#This Row],[Next Calibration]]<$E$1,Table17[[#This Row],[Next Calibration]]=\"NEVER CALIBRATED\"),\"Calibrate\",\"Nominal\"))))","v":"Calibrate"},{"$f":"IF(((Table17[[#This Row],[Next Calibration]]-TODAY())/30)>2,\"More Than 2\",IF(((Table17[[#This Row],[Next Calibration]]-TODAY())/30)>1,\"Between 2 and 1\",\"Less than 1\"))","v":{"$error":"#VALUE!"}},{"$f":"IF(Table17[[#This Row],[Issued]]=\"\",\"\",IF(Table17[[#This Row],[Lent]]=\"\",0,1))","v":{"v":0,"d":"0.00"}},{"$f":"IF(Table17[[#This Row],[Lent]]=\"\",\"\",IF(Table17[[#This Row],[Returned]]=\"\",0,1))","v":""}]
["J2-C100-500",{"$nulls":3},"CDI 0.5\" Drop","Accounted For",null,"2021-03-08",{"$nulls":3},{"$f":"IF(IF(Table17[[#This Row],[Disposition]]=\"Retired\",\"N/A\",IF(Table17[[#This Row],[Disposition]]=0,\"\",K17+$F$2))=0+$F$2,\"NEVER CALIBRATED\",IF(Table17[[#This Row],[Disposition]]=\"Retired\",\"N/A\",IF(Table17[[#This Row],[Disposition]]=0,\"\",K17+$F$2)))","v":"NEVER CALIBRATED"},{"$f":"IF(Table17[[#This Row],[Disposition]]=\"\",\"\",IF(AND(Table17[[#This Row],[Next Calibration]]<$E$1,Table17[[#This Row],[Disposition]]=\"Lost\"),\"Find and Calibrate\",IF(Table17[[#This Row],[Disposition]]=\"Lost\",\"Find\",IF(OR(Table17[[#This Row],[Next Calibration]]<$E$1,Table17[[#This Row],[Next Calibration]]=\"NEVER CALIBRATED\"),\"Calibrate\",\"Nominal\"))))","v":"Calibrate"},{"$f":"IF(((Table17[[#This Row],[Next Calibration]]-TODAY())/30)>2,\"More Than 2\",IF(((Table17[[#This Row],[Next Calibration]]-TODAY())/30)>1,\"Between 2 and 1\",\"Less than 1\"))","v":{"$error":"#VALUE!"}},{"$f":"IF(Table17[[#This Row],[Issued]]=\"\",\"\",IF(Table17[[#This Row],[Lent]]=\"\",0,1))","v":{"v":0,"d":"0.00"}},{"$f":"IF(Table17[[#This Row],[Lent]]=\"\",\"\",IF(Table17[[#This Row],[Returned]]=\"\",0,1))","v":""}]
[{"$f":"\"018274\"","v":"018274"},{"$nulls":3},"Mitutoyo 0-1\" digital drop","Accounted For",null,"2021-03-08",{"$nulls":3},{"$f":"IF(IF(Table17[[#This Row],[Disposition]]=\"Retired\",\"N/A\",IF(Table17[[#This Row],[Disposition]]=0,\"\",K18+$F$2))=0+$F$2,\"NEVER CALIBRATED\",IF(Table17[[#This Row],[Disposition]]=\"Retired\",\"N/A\",IF(Table17[[#This Row],[Disposition]]=0,\"\",K18+$F$2)))","v":"NEVER CALIBRATED"},{"$f":"IF(Table17[[#This Row],[Disposition]]=\"\",\"\",IF(AND(Table17[[#This Row],[Next Calibration]]<$E$1,Table17[[#This Row],[Disposition]]=\"Lost\"),\"Find and Calibrate\",IF(Table17[[#This Row],[Disposition]]=\"Lost\",\"Find\",IF(OR(Table17[[#This Row],[Next Calibration]]<$E$1,Table17[[#This Row],[Next Calibration]]=\"NEVER CALIBRATED\"),\"Calibrate\",\"Nominal\"))))","v":"Calibrate"},{"$f":"IF(((Table17[[#This Row],[Next Calibration]]-TODAY())/30)>2,\"More Than 2\",IF(((Table17[[#This Row],[Next Calibration]]-TODAY())/30)>1,\"Between 2 and 1\",\"Less than 1\"))","v":{"$error":"#VALUE!"}},{"$f":"IF(Table17[[#This Row],[Issued]]=\"\",\"\",IF(Table17[[#This Row],[Lent]]=\"\",0,1))","v":{"v":0,"d":"0.00"}},{"$f":"IF(Table17[[#This Row],[Lent]]=\"\",\"\",IF(Table17[[#This Row],[Returned]]=\"\",0,1))","v":""}]
[8008490,{"$nulls":3},"Mitutoyo 0-1\" digital drop","Accounted For",null,"2021-03-08",{"$nulls":3},{"$f":"IF(IF(Table17[[#This Row],[Disposition]]=\"Retired\",\"N/A\",IF(Table17[[#This Row],[Disposition]]=0,\"\",K19+$F$2))=0+$F$2,\"NEVER CALIBRATED\",IF(Table17[[#This Row],[Disposition]]=\"Retired\",\"N/A\",IF(Table17[[#This Row],[Disposition]]=0,\"\",K19+$F$2)))","v":"NEVER CALIBRATED"},{"$f":"IF(Table17[[#This Row],[Disposition]]=\"\",\"\",IF(AND(Table17[[#This Row],[Next Calibration]]<$E$1,Table17[[#This Row],[Disposition]]=\"Lost\"),\"Find and Calibrate\",IF(Table17[[#This Row],[Disposition]]=\"Lost\",\"Find\",IF(OR(Table17[[#This Row],[Next Calibration]]<$E$1,Table17[[#This Row],[Next Calibration]]=\"NEVER CALIBRATED\"),\"Calibrate\",\"Nominal\"))))","v":"Calibrate"},{"$f":"IF(((Table17[[#This Row],[Next Calibration]]-TODAY())/30)>2,\"More Than 2\",IF(((Table17[[#This Row],[Next Calibration]]-TODAY())/30)>1,\"Between 2 and 1\",\"Less than 1\"))","v":{"$error":"#VALUE!"}},{"$f":"IF(Table17[[#This Row],[Issued]]=\"\",\"\",IF(Table17[[#This Row],[Lent]]=\"\",0,1))","v":{"v":0,"d":"0.00"}},{"$f":"IF(Table17[[#This Row],[Lent]]=\"\",\"\",IF(Table17[[#This Row],[Returned]]=\"\",0,1))","v":""}]
[1006,{"$nulls":3},"Mitutoyo 0-2\" digital drop","Accounted For",null,"2021-03-08",{"$nulls":3},{"$f":"IF(IF(Table17[[#This Row],[Disposition]]=\"Retired\",\"N/A\",IF(Table17[[#This Row],[Disposition]]=0,\"\",K20+$F$2))=0+$F$2,\"NEVER CALIBRATED\",IF(Table17[[#This Row],[Disposition]]=\"Retired\",\"N/A\",IF(Table17[[#This Row],[Disposition]]=0,\"\",K20+$F$2)))","v":"NEVER CALIBRATED"},{"$f":"IF(Table17[[#This Row],[Disposition]]=\"\",\"\",IF(AND(Table17[[#This Row],[Next Calibration]]<$E$1,Table17[[#This Row],[Disposition]]=\"Lost\"),\"Find and Calibrate\",IF(Table17[[#This Row],[Disposition]]=\"Lost\",\"Find\",IF(OR(Table17[[#This Row],[Next Calibration]]<$E$1,Table17[[#This Row],[Next Calibration]]=\"NEVER CALIBRATED\"),\"Calibrate\",\"Nominal\"))))","v":"Calibrate"},{"$f":"IF(((Table17[[#This Row],[Next Calibration]]-TODAY())/30)>2,\"More Than 2\",IF(((Table17[[#This Row],[Next Calibration]]-TODAY())/30)>1,\"Between 2 and 1\",\"Less than 1\"))","v":{"$error":"#VALUE!"}},{"$f":"IF(Table17[[#This Row],[Issued]]=\"\",\"\",IF(Table17[[#This Row],[Lent]]=\"\",0,1))","v":{"v":0,"d":"0.00"}},{"$f":"IF(Table17[[#This Row],[Lent]]=\"\",\"\",IF(Table17[[#This Row],[Returned]]=\"\",0,1))","v":""}]
[1175876,"NO PERSON SPECIFIED","NO SHIFT SPECIFIED","Inline Hydromats","MHC 0-1\" Drop","Accounted For",null,"2021-04-07","2021-04-08",null,"2021-04-07",{"$f":"IF(IF(Table17[[#This Row],[Disposition]]=\"Retired\",\"N/A\",IF(Table17[[#This Row],[Disposition]]=0,\"\",K21+$F$2))=0+$F$2,\"NEVER CALIBRATED\",IF(Table17[[#This Row],[Disposition]]=\"Retired\",\"N/A\",IF(Table17[[#This Row],[Disposition]]=0,\"\",K21+$F$2)))","v":"2022-04-07"},{"$f":"IF(Table17[[#This Row],[Disposition]]=\"\",\"\",IF(AND(Table17[[#This Row],[Next Calibration]]<$E$1,Table17[[#This Row],[Disposition]]=\"Lost\"),\"Find and Calibrate\",IF(Table17[[#This Row],[Disposition]]=\"Lost\",\"Find\",IF(OR(Table17[[#This Row],[Next Calibration]]<$E$1,Table17[[#This Row],[Next Calibration]]=\"NEVER CALIBRATED\"),\"Calibrate\",\"Nominal\"))))","v":"Nominal"},{"$f":"IF(((Table17[[#This Row],[Next Calibration]]-TODAY())/30)>2,\"More Than 2\",IF(((Table17[[#This Row],[Next Calibration]]-TODAY())/30)>1,\"Between 2 and 1\",\"Less than 1\"))","v":"More Than 2"},{"$f":"IF(Table17[[#This Row],[Issued]]=\"\",\"\",IF(Table17[[#This Row],[Lent]]=\"\",0,1))","v":{"v":1,"d":"1.00"}},{"$f":"IF(Table17[[#This Row],[Lent]]=\"\",\"\",IF(Table17[[#This Row],[Returned]]=\"\",0,1))","v":{"v":0,"d":"0.00"}}]
[1174949,"NO PERSON SPECIFIED","NO SHIFT SPECIFIED","Inline Hydromats","MHC 0-1\" Drop","Accounted For",null,"2021-04-07","2021-04-08",null,"2021-04-07",{"$f":"IF(IF(Table17[[#This Row],[Disposition]]=\"Retired\",\"N/A\",IF(Table17[[#This Row],[Disposition]]=0,\"\",K22+$F$2))=0+$F$2,\"NEVER CALIBRATED\",IF(Table17[[#This Row],[Disposition]]=\"Retired\",\"N/A\",IF(Table17[[#This Row],[Disposition]]=0,\"\",K22+$F$2)))","v":"2022-04-07"},{"$f":"IF(Table17[[#This Row],[Disposition]]=\"\",\"\",IF(AND(Table17[[#This Row],[Next Calibration]]<$E$1,Table17[[#This Row],[Disposition]]=\"Lost\"),\"Find and Calibrate\",IF(Table17[[#This Row],[Disposition]]=\"Lost\",\"Find\",IF(OR(Table17[[#This Row],[Next Calibration]]<$E$1,Table17[[#This Row],[Next Calibration]]=\"NEVER CALIBRATED\"),\"Calibrate\",\"Nominal\"))))","v":"Nominal"},{"$f":"IF(((Table17[[#This Row],[Next Calibration]]-TODAY())/30)>2,\"More Than 2\",IF(((Table17[[#This Row],[Next Calibration]]-TODAY())/30)>1,\"Between 2 and 1\",\"Less than 1\"))","v":"More Than 2"},{"$f":"IF(Table17[[#This Row],[Issued]]=\"\",\"\",IF(Table17[[#This Row],[Lent]]=\"\",0,1))","v":{"v":1,"d":"1.00"}},{"$f":"IF(Table17[[#This Row],[Lent]]=\"\",\"\",IF(Table17[[#This Row],[Returned]]=\"\",0,1))","v":{"v":0,"d":"0.00"}}]
[1173465,{"$nulls":3},"MHC 0-1\" Drop","Accounted For",null,"2021-04-07",{"$nulls":3},{"$f":"IF(IF(Table17[[#This Row],[Disposition]]=\"Retired\",\"N/A\",IF(Table17[[#This Row],[Disposition]]=0,\"\",K23+$F$2))=0+$F$2,\"NEVER CALIBRATED\",IF(Table17[[#This Row],[Disposition]]=\"Retired\",\"N/A\",IF(Table17[[#This Row],[Disposition]]=0,\"\",K23+$F$2)))","v":"NEVER CALIBRATED"},{"$f":"IF(Table17[[#This Row],[Disposition]]=\"\",\"\",IF(AND(Table17[[#This Row],[Next Calibration]]<$E$1,Table17[[#This Row],[Disposition]]=\"Lost\"),\"Find and Calibrate\",IF(Table17[[#This Row],[Disposition]]=\"Lost\",\"Find\",IF(OR(Table17[[#This Row],[Next Calibration]]<$E$1,Table17[[#This Row],[Next Calibration]]=\"NEVER CALIBRATED\"),\"Calibrate\",\"Nominal\"))))","v":"Calibrate"},{"$f":"IF(((Table17[[#This Row],[Next Calibration]]-TODAY())/30)>2,\"More Than 2\",IF(((Table17[[#This Row],[Next Calibration]]-TODAY())/30)>1,\"Between 2 and 1\",\"Less than 1\"))","v":{"$error":"#VALUE!"}},{"$f":"IF(Table17[[#This Row],[Issued]]=\"\",\"\",IF(Table17[[#This Row],[Lent]]=\"\",0,1))","v":{"v":0,"d":"0.00"}},{"$f":"IF(Table17[[#This Row],[Lent]]=\"\",\"\",IF(Table17[[#This Row],[Returned]]=\"\",0,1))","v":""}]
[{"$nulls":11},{"$f":"IF(IF(Table17[[#This Row],[Disposition]]=\"Retired\",\"N/A\",IF(Table17[[#This Row],[Disposition]]=0,\"\",K24+$F$2))=0+$F$2,\"NEVER CALIBRATED\",IF(Table17[[#This Row],[Disposition]]=\"Retired\",\"N/A\",IF(Table17[[#This Row],[Disposition]]=0,\"\",K24+$F$2)))","v":""},{"$f":"IF(Table17[[#This Row],[Disposition]]=\"\",\"\",IF(AND(Table17[[#This Row],[Next Calibration]]<$E$1,Table17[[#This Row],[Disposition]]=\"Lost\"),\"Find and Calibrate\",IF(Table17[[#This Row],[Disposition]]=\"Lost\",\"Find\",IF(OR(Table17[[#This Row],[Next Calibration]]<$E$1,Table17[[#This Row],[Next Calibration]]=\"NEVER CALIBRATED\"),\"Calibrate\",\"Nominal\"))))","v":""},{"$f":"IF(((Table17[[#This Row],[Next Calibration]]-TODAY())/30)>2,\"More Than 2\",IF(((Table17[[#This Row],[Next Calibration]]-TODAY())/30)>1,\"Between 2 and 1\",\"Less than 1\"))","v":{"$error":"#VALUE!"}},{"$f":"IF(Table17[[#This Row],[Issued]]=\"\",\"\",IF(Table17[[#This Row],[Lent]]=\"\",0,1))","v":""},{"$f":"IF(Table17[[#This Row],[Lent]]=\"\",\"\",IF(Table17[[#This Row],[Returned]]=\"\",0,1))","v":""}]
[{"$nulls":11},{"$f":"IF(IF(Table17[[#This Row],[Disposition]]=\"Retired\",\"N/A\",IF(Table17[[#This Row],[Disposition]]=0,\"\",K25+$F$2))=0+$F$2,\"NEVER CALIBRATED\",IF(Table17[[#This Row],[Disposition]]=\"Retired\",\"N/A\",IF(Table17[[#This Row],[Disposition]]=0,\"\",K25+$F$2)))","v":""},{"$f":"IF(Table17[[#This Row],[Disposition]]=\"\",\"\",IF(AND(Table17[[#This Row],[Next Calibration]]<$E$1,Table17[[#This Row],[Disposition]]=\"Lost\"),\"Find and Calibrate\",IF(Table17[[#This Row],[Disposition]]=\"Lost\",\"Find\",IF(OR(Table17[[#This Row],[Next Calibration]]<$E$1,Table17[[#This Row],[Next Calibration]]=\"NEVER CALIBRATED\"),\"Calibrate\",\"Nominal\"))))","v":""},{"$f":"IF(((Table17[[#This Row],[Next Calibration]]-TODAY())/30)>2,\"More Than 2\",IF(((Table17[[#This Row],[Next Calibration]]-TODAY())/30)>1,\"Between 2 and 1\",\"Less than 1\"))","v":{"$error":"#VALUE!"}},{"$f":"IF(Table17[[#This Row],[Issued]]=\"\",\"\",IF(Table17[[#This Row],[Lent]]=\"\",0,1))","v":""},{"$f":"IF(Table17[[#This Row],[Lent]]=\"\",\"\",IF(Table17[[#This Row],[Returned]]=\"\",0,1))","v":""}]
[{"$nulls":11},{"$f":"IF(IF(Table17[[#This Row],[Disposition]]=\"Retired\",\"N/A\",IF(Table17[[#This Row],[Disposition]]=0,\"\",K26+$F$2))=0+$F$2,\"NEVER CALIBRATED\",IF(Table17[[#This Row],[Disposition]]=\"Retired\",\"N/A\",IF(Table17[[#This Row],[Disposition]]=0,\"\",K26+$F$2)))","v":""},{"$f":"IF(Table17[[#This Row],[Disposition]]=\"\",\"\",IF(AND(Table17[[#This Row],[Next Calibration]]<$E$1,Table17[[#This Row],[Disposition]]=\"Lost\"),\"Find and Calibrate\",IF(Table17[[#This Row],[Disposition]]=\"Lost\",\"Find\",IF(OR(Table17[[#This Row],[Next Calibration]]<$E$1,Table17[[#This Row],[Next Calibration]]=\"NEVER CALIBRATED\"),\"Calibrate\",\"Nominal\"))))","v":""},{"$f":"IF(((Table17[[#This Row],[Next Calibration]]-TODAY())/30)>2,\"More Than 2\",IF(((Table17[[#This Row],[Next Calibration]]-TODAY())/30)>1,\"Between 2 and 1\",\"Less than 1\"))","v":{"$error":"#VALUE!"}},{"$f":"IF(Table17[[#This Row],[Issued]]=\"\",\"\",IF(Table17[[#This Row],[Lent]]=\"\",0,1))","v":""},{"$f":"IF(Table17[[#This Row],[Lent]]=\"\",\"\",IF(Table17[[#This Row],[Returned]]=\"\",0,1))","v":""}]
[{"$nulls":11},{"$f":"IF(IF(Table17[[#This Row],[Disposition]]=\"Retired\",\"N/A\",IF(Table17[[#This Row],[Disposition]]=0,\"\",K27+$F$2))=0+$F$2,\"NEVER CALIBRATED\",IF(Table17[[#This Row],[Disposition]]=\"Retired\",\"N/A\",IF(Table17[[#This Row],[Disposition]]=0,\"\",K27+$F$2)))","v":""},{"$f":"IF(Table17[[#This Row],[Disposition]]=\"\",\"\",IF(AND(Table17[[#This Row],[Next Calibration]]<$E$1,Table17[[#This Row],[Disposition]]=\"Lost\"),\"Find and Calibrate\",IF(Table17[[#This Row],[Disposition]]=\"Lost\",\"Find\",IF(OR(Table17[[#This Row],[Next Calibration]]<$E$1,Table17[[#This Row],[Next Calibration]]=\"NEVER CALIBRATED\"),\"Calibrate\",\"Nominal\"))))","v":""},{"$f":"IF(((Table17[[#This Row],[Next Calibration]]-TODAY())/30)>2,\"More Than 2\",IF(((Table17[[#This Row],[Next Calibration]]-TODAY())/30)>1,\"Between 2 and 1\",\"Less than 1\"))","v":{"$error":"#VALUE!"}},{"$f":"IF(Table17[[#This Row],[Issued]]=\"\",\"\",IF(Table17[[#This Row],[Lent]]=\"\",0,1))","v":""},{"$f":"IF(Table17[[#This Row],[Lent]]=\"\",\"\",IF(Table17[[#This Row],[Returned]]=\"\",0,1))","v":""}]
[{"$nulls":11},{"$f":"IF(IF(Table17[[#This Row],[Disposition]]=\"Retired\",\"N/A\",IF(Table17[[#This Row],[Disposition]]=0,\"\",K28+$F$2))=0+$F$2,\"NEVER CALIBRATED\",IF(Table17[[#This Row],[Disposition]]=\"Retired\",\"N/A\",IF(Table17[[#This Row],[Disposition]]=0,\"\",K28+$F$2)))","v":""},{"$f":"IF(Table17[[#This Row],[Disposition]]=\"\",\"\",IF(AND(Table17[[#This Row],[Next Calibration]]<$E$1,Table17[[#This Row],[Disposition]]=\"Lost\"),\"Find and Calibrate\",IF(Table17[[#This Row],[Disposition]]=\"Lost\",\"Find\",IF(OR(Table17[[#This Row],[Next Calibration]]<$E$1,Table17[[#This Row],[Next Calibration]]=\"NEVER CALIBRATED\"),\"Calibrate\",\"Nominal\"))))","v":""},{"$f":"IF(((Table17[[#This Row],[Next Calibration]]-TODAY())/30)>2,\"More Than 2\",IF(((Table17[[#This Row],[Next Calibration]]-TODAY())/30)>1,\"Between 2 and 1\",\"Less than 1\"))","v":{"$error":"#VALUE!"}},{"$f":"IF(Table17[[#This Row],[Issued]]=\"\",\"\",IF(Table17[[#This Row],[Lent]]=\"\",0,1))","v":""},{"$f":"IF(Table17[[#This Row],[Lent]]=\"\",\"\",IF(Table17[[#This Row],[Returned]]=\"\",0,1))","v":""}]
[{"$nulls":11},{"$f":"IF(IF(Table17[[#This Row],[Disposition]]=\"Retired\",\"N/A\",IF(Table17[[#This Row],[Disposition]]=0,\"\",K29+$F$2))=0+$F$2,\"NEVER CALIBRATED\",IF(Table17[[#This Row],[Disposition]]=\"Retired\",\"N/A\",IF(Table17[[#This Row],[Disposition]]=0,\"\",K29+$F$2)))","v":""},{"$f":"IF(Table17[[#This Row],[Disposition]]=\"\",\"\",IF(AND(Table17[[#This Row],[Next Calibration]]<$E$1,Table17[[#This Row],[Disposition]]=\"Lost\"),\"Find and Calibrate\",IF(Table17[[#This Row],[Disposition]]=\"Lost\",\"Find\",IF(OR(Table17[[#This Row],[Next Calibration]]<$E$1,Table17[[#This Row],[Next Calibration]]=\"NEVER CALIBRATED\"),\"Calibrate\",\"Nominal\"))))","v":""},{"$f":"IF(((Table17[[#This Row],[Next Calibration]]-TODAY())/30)>2,\"More Than 2\",IF(((Table17[[#This Row],[Next Calibration]]-TODAY())/30)>1,\"Between 2 and 1\",\"Less than 1\"))","v":{"$error":"#VALUE!"}},{"$f":"IF(Table17[[#This Row],[Issued]]=\"\",\"\",IF(Table17[[#This Row],[Lent]]=\"\",0,1))","v":""},{"$f":"IF(Table17[[#This Row],[Lent]]=\"\",\"\",IF(Table17[[#This Row],[Returned]]=\"\",0,1))","v":""}]
[{"$nulls":11},{"$f":"IF(IF(Table17[[#This Row],[Disposition]]=\"Retired\",\"N/A\",IF(Table17[[#This Row],[Disposition]]=0,\"\",K30+$F$2))=0+$F$2,\"NEVER CALIBRATED\",IF(Table17[[#This Row],[Disposition]]=\"Retired\",\"N/A\",IF(Table17[[#This Row],[Disposition]]=0,\"\",K30+$F$2)))","v":""},{"$f":"IF(Table17[[#This Row],[Disposition]]=\"\",\"\",IF(AND(Table17[[#This Row],[Next Calibration]]<$E$1,Table17[[#This Row],[Disposition]]=\"Lost\"),\"Find and Calibrate\",IF(Table17[[#This Row],[Disposition]]=\"Lost\",\"Find\",IF(OR(Table17[[#This Row],[Next Calibration]]<$E$1,Table17[[#This Row],[Next Calibration]]=\"NEVER CALIBRATED\"),\"Calibrate\",\"Nominal\"))))","v":""},{"$f":"IF(((Table17[[#This Row],[Next Calibration]]-TODAY())/30)>2,\"More Than 2\",IF(((Table17[[#This Row],[Next Calibration]]-TODAY())/30)>1,\"Between 2 and 1\",\"Less than 1\"))","v":{"$error":"#VALUE!"}},{"$f":"IF(Table17[[#This Row],[Issued]]=\"\",\"\",IF(Table17[[#This Row],[Lent]]=\"\",0,1))","v":""},{"$f":"IF(Table17[[#This Row],[Lent]]=\"\",\"\",IF(Table17[[#This Row],[Returned]]=\"\",0,1))","v":""}]
[{"$nulls":11},{"$f":"IF(IF(Table17[[#This Row],[Disposition]]=\"Retired\",\"N/A\",IF(Table17[[#This Row],[Disposition]]=0,\"\",K31+$F$2))=0+$F$2,\"NEVER CALIBRATED\",IF(Table17[[#This Row],[Disposition]]=\"Retired\",\"N/A\",IF(Table17[[#This Row],[Disposition]]=0,\"\",K31+$F$2)))","v":""},{"$f":"IF(Table17[[#This Row],[Disposition]]=\"\",\"\",IF(AND(Table17[[#This Row],[Next Calibration]]<$E$1,Table17[[#This Row],[Disposition]]=\"Lost\"),\"Find and Calibrate\",IF(Table17[[#This Row],[Disposition]]=\"Lost\",\"Find\",IF(OR(Table17[[#This Row],[Next Calibration]]<$E$1,Table17[[#This Row],[Next Calibration]]=\"NEVER CALIBRATED\"),\"Calibrate\",\"Nominal\"))))","v":""},{"$f":"IF(((Table17[[#This Row],[Next Calibration]]-TODAY())/30)>2,\"More Than 2\",IF(((Table17[[#This Row],[Next Calibration]]-TODAY())/30)>1,\"Between 2 and 1\",\"Less than 1\"))","v":{"$error":"#VALUE!"}},{"$f":"IF(Table17[[#This Row],[Issued]]=\"\",\"\",IF(Table17[[#This Row],[Lent]]=\"\",0,1))","v":""},{"$f":"IF(Table17[[#This Row],[Lent]]=\"\",\"\",IF(Table17[[#This Row],[Returned]]=\"\",0,1))","v":""}]
[{"$nulls":11},{"$f":"IF(IF(Table17[[#This Row],[Disposition]]=\"Retired\",\"N/A\",IF(Table17[[#This Row],[Disposition]]=0,\"\",K32+$F$2))=0+$F$2,\"NEVER CALIBRATED\",IF(Table17[[#This Row],[Disposition]]=\"Retired\",\"N/A\",IF(Table17[[#This Row],[Disposition]]=0,\"\",K32+$F$2)))","v":""},{"$f":"IF(Table17[[#This Row],[Disposition]]=\"\",\"\",IF(AND(Table17[[#This Row],[Next Calibration]]<$E$1,Table17[[#This Row],[Disposition]]=\"Lost\"),\"Find and Calibrate\",IF(Table17[[#This Row],[Disposition]]=\"Lost\",\"Find\",IF(OR(Table17[[#This Row],[Next Calibration]]<$E$1,Table17[[#This Row],[Next Calibration]]=\"NEVER CALIBRATED\"),\"Calibrate\",\"Nominal\"))))","v":""},{"$f":"IF(((Table17[[#This Row],[Next Calibration]]-TODAY())/30)>2,\"More Than 2\",IF(((Table17[[#This Row],[Next Calibration]]-TODAY())/30)>1,\"Between 2 and 1\",\"Less than 1\"))","v":{"$error":"#VALUE!"}},{"$f":"IF(Table17[[#This Row],[Issued]]=\"\",\"\",IF(Table17[[#This Row],[Lent]]=\"\",0,1))","v":""},{"$f":"IF(Table17[[#This Row],[Lent]]=\"\",\"\",IF(Table17[[#This Row],[Returned]]=\"\",0,1))","v":""}]
[{"$nulls":11},{"$f":"IF(IF(Table17[[#This Row],[Disposition]]=\"Retired\",\"N/A\",IF(Table17[[#This Row],[Disposition]]=0,\"\",K33+$F$2))=0+$F$2,\"NEVER CALIBRATED\",IF(Table17[[#This Row],[Disposition]]=\"Retired\",\"N/A\",IF(Table17[[#This Row],[Disposition]]=0,\"\",K33+$F$2)))","v":""},{"$f":"IF(Table17[[#This Row],[Disposition]]=\"\",\"\",IF(AND(Table17[[#This Row],[Next Calibration]]<$E$1,Table17[[#This Row],[Disposition]]=\"Lost\"),\"Find and Calibrate\",IF(Table17[[#This Row],[Disposition]]=\"Lost\",\"Find\",IF(OR(Table17[[#This Row],[Next Calibration]]<$E$1,Table17[[#This Row],[Next Calibration]]=\"NEVER CALIBRATED\"),\"Calibrate\",\"Nominal\"))))","v":""},{"$f":"IF(((Table17[[#This Row],[Next Calibration]]-TODAY())/30)>2,\"More Than 2\",IF(((Table17[[#This Row],[Next Calibration]]-TODAY())/30)>1,\"Between 2 and 1\",\"Less than 1\"))","v":{"$error":"#VALUE!"}},{"$f":"IF(Table17[[#This Row],[Issued]]=\"\",\"\",IF(Table17[[#This Row],[Lent]]=\"\",0,1))","v":""},{"$f":"IF(Table17[[#This Row],[Lent]]=\"\",\"\",IF(Table17[[#This Row],[Returned]]=\"\",0,1))","v":""}]
[{"$nulls":11},{"$f":"IF(IF(Table17[[#This Row],[Disposition]]=\"Retired\",\"N/A\",IF(Table17[[#This Row],[Disposition]]=0,\"\",K34+$F$2))=0+$F$2,\"NEVER CALIBRATED\",IF(Table17[[#This Row],[Disposition]]=\"Retired\",\"N/A\",IF(Table17[[#This Row],[Disposition]]=0,\"\",K34+$F$2)))","v":""},{"$f":"IF(Table17[[#This Row],[Disposition]]=\"\",\"\",IF(AND(Table17[[#This Row],[Next Calibration]]<$E$1,Table17[[#This Row],[Disposition]]=\"Lost\"),\"Find and Calibrate\",IF(Table17[[#This Row],[Disposition]]=\"Lost\",\"Find\",IF(OR(Table17[[#This Row],[Next Calibration]]<$E$1,Table17[[#This Row],[Next Calibration]]=\"NEVER CALIBRATED\"),\"Calibrate\",\"Nominal\"))))","v":""},{"$f":"IF(((Table17[[#This Row],[Next Calibration]]-TODAY())/30)>2,\"More Than 2\",IF(((Table17[[#This Row],[Next Calibration]]-TODAY())/30)>1,\"Between 2 and 1\",\"Less than 1\"))","v":{"$error":"#VALUE!"}},{"$f":"IF(Table17[[#This Row],[Issued]]=\"\",\"\",IF(Table17[[#This Row],[Lent]]=\"\",0,1))","v":""},{"$f":"IF(Table17[[#This Row],[Lent]]=\"\",\"\",IF(Table17[[#This Row],[Returned]]=\"\",0,1))","v":""}]
[{"$nulls":11},{"$f":"IF(IF(Table17[[#This Row],[Disposition]]=\"Retired\",\"N/A\",IF(Table17[[#This Row],[Disposition]]=0,\"\",K35+$F$2))=0+$F$2,\"NEVER CALIBRATED\",IF(Table17[[#This Row],[Disposition]]=\"Retired\",\"N/A\",IF(Table17[[#This Row],[Disposition]]=0,\"\",K35+$F$2)))","v":""},{"$f":"IF(Table17[[#This Row],[Disposition]]=\"\",\"\",IF(AND(Table17[[#This Row],[Next Calibration]]<$E$1,Table17[[#This Row],[Disposition]]=\"Lost\"),\"Find and Calibrate\",IF(Table17[[#This Row],[Disposition]]=\"Lost\",\"Find\",IF(OR(Table17[[#This Row],[Next Calibration]]<$E$1,Table17[[#This Row],[Next Calibration]]=\"NEVER CALIBRATED\"),\"Calibrate\",\"Nominal\"))))","v":""},{"$f":"IF(((Table17[[#This Row],[Next Calibration]]-TODAY())/30)>2,\"More Than 2\",IF(((Table17[[#This Row],[Next Calibration]]-TODAY())/30)>1,\"Between 2 and 1\",\"Less than 1\"))","v":{"$error":"#VALUE!"}},{"$f":"IF(Table17[[#This Row],[Issued]]=\"\",\"\",IF(Table17[[#This Row],[Lent]]=\"\",0,1))","v":""},{"$f":"IF(Table17[[#This Row],[Lent]]=\"\",\"\",IF(Table17[[#This Row],[Returned]]=\"\",0,1))","v":""}]
[{"$nulls":11},{"$f":"IF(IF(Table17[[#This Row],[Disposition]]=\"Retired\",\"N/A\",IF(Table17[[#This Row],[Disposition]]=0,\"\",K36+$F$2))=0+$F$2,\"NEVER CALIBRATED\",IF(Table17[[#This Row],[Disposition]]=\"Retired\",\"N/A\",IF(Table17[[#This Row],[Disposition]]=0,\"\",K36+$F$2)))","v":""},{"$f":"IF(Table17[[#This Row],[Disposition]]=\"\",\"\",IF(AND(Table17[[#This Row],[Next Calibration]]<$E$1,Table17[[#This Row],[Disposition]]=\"Lost\"),\"Find and Calibrate\",IF(Table17[[#This Row],[Disposition]]=\"Lost\",\"Find\",IF(OR(Table17[[#This Row],[Next Calibration]]<$E$1,Table17[[#This Row],[Next Calibration]]=\"NEVER CALIBRATED\"),\"Calibrate\",\"Nominal\"))))","v":""},{"$f":"IF(((Table17[[#This Row],[Next Calibration]]-TODAY())/30)>2,\"More Than 2\",IF(((Table17[[#This Row],[Next Calibration]]-TODAY())/30)>1,\"Between 2 and 1\",\"Less than 1\"))","v":{"$error":"#VALUE!"}},{"$f":"IF(Table17[[#This Row],[Issued]]=\"\",\"\",IF(Table17[[#This Row],[Lent]]=\"\",0,1))","v":""},{"$f":"IF(Table17[[#This Row],[Lent]]=\"\",\"\",IF(Table17[[#This Row],[Returned]]=\"\",0,1))","v":""}]
[{"$nulls":11},{"$f":"IF(IF(Table17[[#This Row],[Disposition]]=\"Retired\",\"N/A\",IF(Table17[[#This Row],[Disposition]]=0,\"\",K37+$F$2))=0+$F$2,\"NEVER CALIBRATED\",IF(Table17[[#This Row],[Disposition]]=\"Retired\",\"N/A\",IF(Table17[[#This Row],[Disposition]]=0,\"\",K37+$F$2)))","v":""},{"$f":"IF(Table17[[#This Row],[Disposition]]=\"\",\"\",IF(AND(Table17[[#This Row],[Next Calibration]]<$E$1,Table17[[#This Row],[Disposition]]=\"Lost\"),\"Find and Calibrate\",IF(Table17[[#This Row],[Disposition]]=\"Lost\",\"Find\",IF(OR(Table17[[#This Row],[Next Calibration]]<$E$1,Table17[[#This Row],[Next Calibration]]=\"NEVER CALIBRATED\"),\"Calibrate\",\"Nominal\"))))","v":""},{"$f":"IF(((Table17[[#This Row],[Next Calibration]]-TODAY())/30)>2,\"More Than 2\",IF(((Table17[[#This Row],[Next Calibration]]-TODAY())/30)>1,\"Between 2 and 1\",\"Less than 1\"))","v":{"$error":"#VALUE!"}},{"$f":"IF(Table17[[#This Row],[Issued]]=\"\",\"\",IF(Table17[[#This Row],[Lent]]=\"\",0,1))","v":""},{"$f":"IF(Table17[[#This Row],[Lent]]=\"\",\"\",IF(Table17[[#This Row],[Returned]]=\"\",0,1))","v":""}]
[{"$nulls":11},{"$f":"IF(IF(Table17[[#This Row],[Disposition]]=\"Retired\",\"N/A\",IF(Table17[[#This Row],[Disposition]]=0,\"\",K38+$F$2))=0+$F$2,\"NEVER CALIBRATED\",IF(Table17[[#This Row],[Disposition]]=\"Retired\",\"N/A\",IF(Table17[[#This Row],[Disposition]]=0,\"\",K38+$F$2)))","v":""},{"$f":"IF(Table17[[#This Row],[Disposition]]=\"\",\"\",IF(AND(Table17[[#This Row],[Next Calibration]]<$E$1,Table17[[#This Row],[Disposition]]=\"Lost\"),\"Find and Calibrate\",IF(Table17[[#This Row],[Disposition]]=\"Lost\",\"Find\",IF(OR(Table17[[#This Row],[Next Calibration]]<$E$1,Table17[[#This Row],[Next Calibration]]=\"NEVER CALIBRATED\"),\"Calibrate\",\"Nominal\"))))","v":""},{"$f":"IF(((Table17[[#This Row],[Next Calibration]]-TODAY())/30)>2,\"More Than 2\",IF(((Table17[[#This Row],[Next Calibration]]-TODAY())/30)>1,\"Between 2 and 1\",\"Less than 1\"))","v":{"$error":"#VALUE!"}},{"$f":"IF(Table17[[#This Row],[Issued]]=\"\",\"\",IF(Table17[[#This Row],[Lent]]=\"\",0,1))","v":""},{"$f":"IF(Table17[[#This Row],[Lent]]=\"\",\"\",IF(Table17[[#This Row],[Returned]]=\"\",0,1))","v":""}]
[{"$nulls":11},{"$f":"IF(IF(Table17[[#This Row],[Disposition]]=\"Retired\",\"N/A\",IF(Table17[[#This Row],[Disposition]]=0,\"\",K39+$F$2))=0+$F$2,\"NEVER CALIBRATED\",IF(Table17[[#This Row],[Disposition]]=\"Retired\",\"N/A\",IF(Table17[[#This Row],[Disposition]]=0,\"\",K39+$F$2)))","v":""},{"$f":"IF(Table17[[#This Row],[Disposition]]=\"\",\"\",IF(AND(Table17[[#This Row],[Next Calibration]]<$E$1,Table17[[#This Row],[Disposition]]=\"Lost\"),\"Find and Calibrate\",IF(Table17[[#This Row],[Disposition]]=\"Lost\",\"Find\",IF(OR(Table17[[#This Row],[Next Calibration]]<$E$1,Table17[[#This Row],[Next Calibration]]=\"NEVER CALIBRATED\"),\"Calibrate\",\"Nominal\"))))","v":""},{"$f":"IF(((Table17[[#This Row],[Next Calibration]]-TODAY())/30)>2,\"More Than 2\",IF(((Table17[[#This Row],[Next Calibration]]-TODAY())/30)>1,\"Between 2 and 1\",\"Less than 1\"))","v":{"$error":"#VALUE!"}},{"$f":"IF(Table17[[#This Row],[Issued]]=\"\",\"\",IF(Table17[[#This Row],[Lent]]=\"\",0,1))","v":""},{"$f":"IF(Table17[[#This Row],[Lent]]=\"\",\"\",IF(Table17[[#This Row],[Returned]]=\"\",0,1))","v":""}]
[{"$nulls":11},{"$f":"IF(IF(Table17[[#This Row],[Disposition]]=\"Retired\",\"N/A\",IF(Table17[[#This Row],[Disposition]]=0,\"\",K40+$F$2))=0+$F$2,\"NEVER CALIBRATED\",IF(Table17[[#This Row],[Disposition]]=\"Retired\",\"N/A\",IF(Table17[[#This Row],[Disposition]]=0,\"\",K40+$F$2)))","v":""},{"$f":"IF(Table17[[#This Row],[Disposition]]=\"\",\"\",IF(AND(Table17[[#This Row],[Next Calibration]]<$E$1,Table17[[#This Row],[Disposition]]=\"Lost\"),\"Find and Calibrate\",IF(Table17[[#This Row],[Disposition]]=\"Lost\",\"Find\",IF(OR(Table17[[#This Row],[Next Calibration]]<$E$1,Table17[[#This Row],[Next Calibration]]=\"NEVER CALIBRATED\"),\"Calibrate\",\"Nominal\"))))","v":""},{"$f":"IF(((Table17[[#This Row],[Next Calibration]]-TODAY())/30)>2,\"More Than 2\",IF(((Table17[[#This Row],[Next Calibration]]-TODAY())/30)>1,\"Between 2 and 1\",\"Less than 1\"))","v":{"$error":"#VALUE!"}},{"$f":"IF(Table17[[#This Row],[Issued]]=\"\",\"\",IF(Table17[[#This Row],[Lent]]=\"\",0,1))","v":""},{"$f":"IF(Table17[[#This Row],[Lent]]=\"\",\"\",IF(Table17[[#This Row],[Returned]]=\"\",0,1))","v":""}]
[{"$nulls":11},{"$f":"IF(IF(Table17[[#This Row],[Disposition]]=\"Retired\",\"N/A\",IF(Table17[[#This Row],[Disposition]]=0,\"\",K41+$F$2))=0+$F$2,\"NEVER CALIBRATED\",IF(Table17[[#This Row],[Disposition]]=\"Retired\",\"N/A\",IF(Table17[[#This Row],[Disposition]]=0,\"\",K41+$F$2)))","v":""},{"$f":"IF(Table17[[#This Row],[Disposition]]=\"\",\"\",IF(AND(Table17[[#This Row],[Next Calibration]]<$E$1,Table17[[#This Row],[Disposition]]=\"Lost\"),\"Find and Calibrate\",IF(Table17[[#This Row],[Disposition]]=\"Lost\",\"Find\",IF(OR(Table17[[#This Row],[Next Calibration]]<$E$1,Table17[[#This Row],[Next Calibration]]=\"NEVER CALIBRATED\"),\"Calibrate\",\"Nominal\"))))","v":""},{"$f":"IF(((Table17[[#This Row],[Next Calibration]]-TODAY())/30)>2,\"More Than 2\",IF(((Table17[[#This Row],[Next Calibration]]-TODAY())/30)>1,\"Between 2 and 1\",\"Less than 1\"))","v":{"$error":"#VALUE!"}},{"$f":"IF(Table17[[#This Row],[Issued]]=\"\",\"\",IF(Table17[[#This Row],[Lent]]=\"\",0,1))","v":""},{"$f":"IF(Table17[[#This Row],[Lent]]=\"\",\"\",IF(Table17[[#This Row],[Returned]]=\"\",0,1))","v":""}]
[{"$nulls":11},{"$f":"IF(IF(Table17[[#This Row],[Disposition]]=\"Retired\",\"N/A\",IF(Table17[[#This Row],[Disposition]]=0,\"\",K42+$F$2))=0+$F$2,\"NEVER CALIBRATED\",IF(Table17[[#This Row],[Disposition]]=\"Retired\",\"N/A\",IF(Table17[[#This Row],[Disposition]]=0,\"\",K42+$F$2)))","v":""},{"$f":"IF(Table17[[#This Row],[Disposition]]=\"\",\"\",IF(AND(Table17[[#This Row],[Next Calibration]]<$E$1,Table17[[#This Row],[Disposition]]=\"Lost\"),\"Find and Calibrate\",IF(Table17[[#This Row],[Disposition]]=\"Lost\",\"Find\",IF(OR(Table17[[#This Row],[Next Calibration]]<$E$1,Table17[[#This Row],[Next Calibration]]=\"NEVER CALIBRATED\"),\"Calibrate\",\"Nominal\"))))","v":""},{"$f":"IF(((Table17[[#This Row],[Next Calibration]]-TODAY())/30)>2,\"More Than 2\",IF(((Table17[[#This Row],[Next Calibration]]-TODAY())/30)>1,\"Between 2 and 1\",\"Less than 1\"))","v":{"$error":"#VALUE!"}},{"$f":"IF(Table17[[#This Row],[Issued]]=\"\",\"\",IF(Table17[[#This Row],[Lent]]=\"\",0,1))","v":""},{"$f":"IF(Table17[[#This Row],[Lent]]=\"\",\"\",IF(Table17[[#This Row],[Returned]]=\"\",0,1))","v":""}]
[{"$nulls":11},{"$f":"IF(IF(Table17[[#This Row],[Disposition]]=\"Retired\",\"N/A\",IF(Table17[[#This Row],[Disposition]]=0,\"\",K43+$F$2))=0+$F$2,\"NEVER CALIBRATED\",IF(Table17[[#This Row],[Disposition]]=\"Retired\",\"N/A\",IF(Table17[[#This Row],[Disposition]]=0,\"\",K43+$F$2)))","v":""},{"$f":"IF(Table17[[#This Row],[Disposition]]=\"\",\"\",IF(AND(Table17[[#This Row],[Next Calibration]]<$E$1,Table17[[#This Row],[Disposition]]=\"Lost\"),\"Find and Calibrate\",IF(Table17[[#This Row],[Disposition]]=\"Lost\",\"Find\",IF(OR(Table17[[#This Row],[Next Calibration]]<$E$1,Table17[[#This Row],[Next Calibration]]=\"NEVER CALIBRATED\"),\"Calibrate\",\"Nominal\"))))","v":""},{"$f":"IF(((Table17[[#This Row],[Next Calibration]]-TODAY())/30)>2,\"More Than 2\",IF(((Table17[[#This Row],[Next Calibration]]-TODAY())/30)>1,\"Between 2 and 1\",\"Less than 1\"))","v":{"$error":"#VALUE!"}},{"$f":"IF(Table17[[#This Row],[Issued]]=\"\",\"\",IF(Table17[[#This Row],[Lent]]=\"\",0,1))","v":""},{"$f":"IF(Table17[[#This Row],[Lent]]=\"\",\"\",IF(Table17[[#This Row],[Returned]]=\"\",0,1))","v":""}]
[{"$nulls":11},{"$f":"IF(IF(Table17[[#This Row],[Disposition]]=\"Retired\",\"N/A\",IF(Table17[[#This Row],[Disposition]]=0,\"\",K44+$F$2))=0+$F$2,\"NEVER CALIBRATED\",IF(Table17[[#This Row],[Disposition]]=\"Retired\",\"N/A\",IF(Table17[[#This Row],[Disposition]]=0,\"\",K44+$F$2)))","v":""},{"$f":"IF(Table17[[#This Row],[Disposition]]=\"\",\"\",IF(AND(Table17[[#This Row],[Next Calibration]]<$E$1,Table17[[#This Row],[Disposition]]=\"Lost\"),\"Find and Calibrate\",IF(Table17[[#This Row],[Disposition]]=\"Lost\",\"Find\",IF(OR(Table17[[#This Row],[Next Calibration]]<$E$1,Table17[[#This Row],[Next Calibration]]=\"NEVER CALIBRATED\"),\"Calibrate\",\"Nominal\"))))","v":""},{"$f":"IF(((Table17[[#This Row],[Next Calibration]]-TODAY())/30)>2,\"More Than 2\",IF(((Table17[[#This Row],[Next Calibration]]-TODAY())/30)>1,\"Between 2 and 1\",\"Less than 1\"))","v":{"$error":"#VALUE!"}},{"$f":"IF(Table17[[#This Row],[Issued]]=\"\",\"\",IF(Table17[[#This Row],[Lent]]=\"\",0,1))","v":""},{"$f":"IF(Table17[[#This Row],[Lent]]=\"\",\"\",IF(Table17[[#This Row],[Returned]]=\"\",0,1))","v":""}]
[{"$nulls":11},{"$f":"IF(IF(Table17[[#This Row],[Disposition]]=\"Retired\",\"N/A\",IF(Table17[[#This Row],[Disposition]]=0,\"\",K45+$F$2))=0+$F$2,\"NEVER CALIBRATED\",IF(Table17[[#This Row],[Disposition]]=\"Retired\",\"N/A\",IF(Table17[[#This Row],[Disposition]]=0,\"\",K45+$F$2)))","v":""},{"$f":"IF(Table17[[#This Row],[Disposition]]=\"\",\"\",IF(AND(Table17[[#This Row],[Next Calibration]]<$E$1,Table17[[#This Row],[Disposition]]=\"Lost\"),\"Find and Calibrate\",IF(Table17[[#This Row],[Disposition]]=\"Lost\",\"Find\",IF(OR(Table17[[#This Row],[Next Calibration]]<$E$1,Table17[[#This Row],[Next Calibration]]=\"NEVER CALIBRATED\"),\"Calibrate\",\"Nominal\"))))","v":""},{"$f":"IF(((Table17[[#This Row],[Next Calibration]]-TODAY())/30)>2,\"More Than 2\",IF(((Table17[[#This Row],[Next Calibration]]-TODAY())/30)>1,\"Between 2 and 1\",\"Less than 1\"))","v":{"$error":"#VALUE!"}},{"$f":"IF(Table17[[#This Row],[Issued]]=\"\",\"\",IF(Table17[[#This Row],[Lent]]=\"\",0,1))","v":""},{"$f":"IF(Table17[[#This Row],[Lent]]=\"\",\"\",IF(Table17[[#This Row],[Returned]]=\"\",0,1))","v":""}]
[{"$nulls":11},{"$f":"IF(IF(Table17[[#This Row],[Disposition]]=\"Retired\",\"N/A\",IF(Table17[[#This Row],[Disposition]]=0,\"\",K46+$F$2))=0+$F$2,\"NEVER CALIBRATED\",IF(Table17[[#This Row],[Disposition]]=\"Retired\",\"N/A\",IF(Table17[[#This Row],[Disposition]]=0,\"\",K46+$F$2)))","v":""},{"$f":"IF(Table17[[#This Row],[Disposition]]=\"\",\"\",IF(AND(Table17[[#This Row],[Next Calibration]]<$E$1,Table17[[#This Row],[Disposition]]=\"Lost\"),\"Find and Calibrate\",IF(Table17[[#This Row],[Disposition]]=\"Lost\",\"Find\",IF(OR(Table17[[#This Row],[Next Calibration]]<$E$1,Table17[[#This Row],[Next Calibration]]=\"NEVER CALIBRATED\"),\"Calibrate\",\"Nominal\"))))","v":""},{"$f":"IF(((Table17[[#This Row],[Next Calibration]]-TODAY())/30)>2,\"More Than 2\",IF(((Table17[[#This Row],[Next Calibration]]-TODAY())/30)>1,\"Between 2 and 1\",\"Less than 1\"))","v":{"$error":"#VALUE!"}},{"$f":"IF(Table17[[#This Row],[Issued]]=\"\",\"\",IF(Table17[[#This Row],[Lent]]=\"\",0,1))","v":""},{"$f":"IF(Table17[[#This Row],[Lent]]=\"\",\"\",IF(Table17[[#This Row],[Returned]]=\"\",0,1))","v":""}]
[{"$nulls":11},{"$f":"IF(IF(Table17[[#This Row],[Disposition]]=\"Retired\",\"N/A\",IF(Table17[[#This Row],[Disposition]]=0,\"\",K47+$F$2))=0+$F$2,\"NEVER CALIBRATED\",IF(Table17[[#This Row],[Disposition]]=\"Retired\",\"N/A\",IF(Table17[[#This Row],[Disposition]]=0,\"\",K47+$F$2)))","v":""},{"$f":"IF(Table17[[#This Row],[Disposition]]=\"\",\"\",IF(AND(Table17[[#This Row],[Next Calibration]]<$E$1,Table17[[#This Row],[Disposition]]=\"Lost\"),\"Find and Calibrate\",IF(Table17[[#This Row],[Disposition]]=\"Lost\",\"Find\",IF(OR(Table17[[#This Row],[Next Calibration]]<$E$1,Table17[[#This Row],[Next Calibration]]=\"NEVER CALIBRATED\"),\"Calibrate\",\"Nominal\"))))","v":""},{"$f":"IF(((Table17[[#This Row],[Next Calibration]]-TODAY())/30)>2,\"More Than 2\",IF(((Table17[[#This Row],[Next Calibration]]-TODAY())/30)>1,\"Between 2 and 1\",\"Less than 1\"))","v":{"$error":"#VALUE!"}},{"$f":"IF(Table17[[#This Row],[Issued]]=\"\",\"\",IF(Table17[[#This Row],[Lent]]=\"\",0,1))","v":""},{"$f":"IF(Table17[[#This Row],[Lent]]=\"\",\"\",IF(Table17[[#This Row],[Returned]]=\"\",0,1))","v":""}]
[{"$nulls":11},{"$f":"IF(IF(Table17[[#This Row],[Disposition]]=\"Retired\",\"N/A\",IF(Table17[[#This Row],[Disposition]]=0,\"\",K48+$F$2))=0+$F$2,\"NEVER CALIBRATED\",IF(Table17[[#This Row],[Disposition]]=\"Retired\",\"N/A\",IF(Table17[[#This Row],[Disposition]]=0,\"\",K48+$F$2)))","v":""},{"$f":"IF(Table17[[#This Row],[Disposition]]=\"\",\"\",IF(AND(Table17[[#This Row],[Next Calibration]]<$E$1,Table17[[#This Row],[Disposition]]=\"Lost\"),\"Find and Calibrate\",IF(Table17[[#This Row],[Disposition]]=\"Lost\",\"Find\",IF(OR(Table17[[#This Row],[Next Calibration]]<$E$1,Table17[[#This Row],[Next Calibration]]=\"NEVER CALIBRATED\"),\"Calibrate\",\"Nominal\"))))","v":""},{"$f":"IF(((Table17[[#This Row],[Next Calibration]]-TODAY())/30)>2,\"More Than 2\",IF(((Table17[[#This Row],[Next Calibration]]-TODAY())/30)>1,\"Between 2 and 1\",\"Less than 1\"))","v":{"$error":"#VALUE!"}},{"$f":"IF(Table17[[#This Row],[Issued]]=\"\",\"\",IF(Table17[[#This Row],[Lent]]=\"\",0,1))","v":""},{"$f":"IF(Table17[[#This Row],[Lent]]=\"\",\"\",IF(Table17[[#This Row],[Returned]]=\"\",0,1))","v":""}]
[{"$nulls":11},{"$f":"IF(IF(Table17[[#This Row],[Disposition]]=\"Retired\",\"N/A\",IF(Table17[[#This Row],[Disposition]]=0,\"\",K49+$F$2))=0+$F$2,\"NEVER CALIBRATED\",IF(Table17[[#This Row],[Disposition]]=\"Retired\",\"N/A\",IF(Table17[[#This Row],[Disposition]]=0,\"\",K49+$F$2)))","v":""},{"$f":"IF(Table17[[#This Row],[Disposition]]=\"\",\"\",IF(AND(Table17[[#This Row],[Next Calibration]]<$E$1,Table17[[#This Row],[Disposition]]=\"Lost\"),\"Find and Calibrate\",IF(Table17[[#This Row],[Disposition]]=\"Lost\",\"Find\",IF(OR(Table17[[#This Row],[Next Calibration]]<$E$1,Table17[[#This Row],[Next Calibration]]=\"NEVER CALIBRATED\"),\"Calibrate\",\"Nominal\"))))","v":""},{"$f":"IF(((Table17[[#This Row],[Next Calibration]]-TODAY())/30)>2,\"More Than 2\",IF(((Table17[[#This Row],[Next Calibration]]-TODAY())/30)>1,\"Between 2 and 1\",\"Less than 1\"))","v":{"$error":"#VALUE!"}},{"$f":"IF(Table17[[#This Row],[Issued]]=\"\",\"\",IF(Table17[[#This Row],[Lent]]=\"\",0,1))","v":""},{"$f":"IF(Table17[[#This Row],[Lent]]=\"\",\"\",IF(Table17[[#This Row],[Returned]]=\"\",0,1))","v":""}]
[{"$nulls":11},{"$f":"IF(IF(Table17[[#This Row],[Disposition]]=\"Retired\",\"N/A\",IF(Table17[[#This Row],[Disposition]]=0,\"\",K50+$F$2))=0+$F$2,\"NEVER CALIBRATED\",IF(Table17[[#This Row],[Disposition]]=\"Retired\",\"N/A\",IF(Table17[[#This Row],[Disposition]]=0,\"\",K50+$F$2)))","v":""},{"$f":"IF(Table17[[#This Row],[Disposition]]=\"\",\"\",IF(AND(Table17[[#This Row],[Next Calibration]]<$E$1,Table17[[#This Row],[Disposition]]=\"Lost\"),\"Find and Calibrate\",IF(Table17[[#This Row],[Disposition]]=\"Lost\",\"Find\",IF(OR(Table17[[#This Row],[Next Calibration]]<$E$1,Table17[[#This Row],[Next Calibration]]=\"NEVER CALIBRATED\"),\"Calibrate\",\"Nominal\"))))","v":""},{"$f":"IF(((Table17[[#This Row],[Next Calibration]]-TODAY())/30)>2,\"More Than 2\",IF(((Table17[[#This Row],[Next Calibration]]-TODAY())/30)>1,\"Between 2 and 1\",\"Less than 1\"))","v":{"$error":"#VALUE!"}},{"$f":"IF(Table17[[#This Row],[Issued]]=\"\",\"\",IF(Table17[[#This Row],[Lent]]=\"\",0,1))","v":""},{"$f":"IF(Table17[[#This Row],[Lent]]=\"\",\"\",IF(Table17[[#This Row],[Returned]]=\"\",0,1))","v":""}]
[{"$nulls":11},{"$f":"IF(IF(Table17[[#This Row],[Disposition]]=\"Retired\",\"N/A\",IF(Table17[[#This Row],[Disposition]]=0,\"\",K51+$F$2))=0+$F$2,\"NEVER CALIBRATED\",IF(Table17[[#This Row],[Disposition]]=\"Retired\",\"N/A\",IF(Table17[[#This Row],[Disposition]]=0,\"\",K51+$F$2)))","v":""},{"$f":"IF(Table17[[#This Row],[Disposition]]=\"\",\"\",IF(AND(Table17[[#This Row],[Next Calibration]]<$E$1,Table17[[#This Row],[Disposition]]=\"Lost\"),\"Find and Calibrate\",IF(Table17[[#This Row],[Disposition]]=\"Lost\",\"Find\",IF(OR(Table17[[#This Row],[Next Calibration]]<$E$1,Table17[[#This Row],[Next Calibration]]=\"NEVER CALIBRATED\"),\"Calibrate\",\"Nominal\"))))","v":""},{"$f":"IF(((Table17[[#This Row],[Next Calibration]]-TODAY())/30)>2,\"More Than 2\",IF(((Table17[[#This Row],[Next Calibration]]-TODAY())/30)>1,\"Between 2 and 1\",\"Less than 1\"))","v":{"$error":"#VALUE!"}},{"$f":"IF(Table17[[#This Row],[Issued]]=\"\",\"\",IF(Table17[[#This Row],[Lent]]=\"\",0,1))","v":""},{"$f":"IF(Table17[[#This Row],[Lent]]=\"\",\"\",IF(Table17[[#This Row],[Returned]]=\"\",0,1))","v":""}]
[{"$nulls":11},{"$f":"IF(IF(Table17[[#This Row],[Disposition]]=\"Retired\",\"N/A\",IF(Table17[[#This Row],[Disposition]]=0,\"\",K52+$F$2))=0+$F$2,\"NEVER CALIBRATED\",IF(Table17[[#This Row],[Disposition]]=\"Retired\",\"N/A\",IF(Table17[[#This Row],[Disposition]]=0,\"\",K52+$F$2)))","v":""},{"$f":"IF(Table17[[#This Row],[Disposition]]=\"\",\"\",IF(AND(Table17[[#This Row],[Next Calibration]]<$E$1,Table17[[#This Row],[Disposition]]=\"Lost\"),\"Find and Calibrate\",IF(Table17[[#This Row],[Disposition]]=\"Lost\",\"Find\",IF(OR(Table17[[#This Row],[Next Calibration]]<$E$1,Table17[[#This Row],[Next Calibration]]=\"NEVER CALIBRATED\"),\"Calibrate\",\"Nominal\"))))","v":""},{"$f":"IF(((Table17[[#This Row],[Next Calibration]]-TODAY())/30)>2,\"More Than 2\",IF(((Table17[[#This Row],[Next Calibration]]-TODAY())/30)>1,\"Between 2 and 1\",\"Less than 1\"))","v":{"$error":"#VALUE!"}},{"$f":"IF(Table17[[#This Row],[Issued]]=\"\",\"\",IF(Table17[[#This Row],[Lent]]=\"\",0,1))","v":""},{"$f":"IF(Table17[[#This Row],[Lent]]=\"\",\"\",IF(Table17[[#This Row],[Returned]]=\"\",0,1))","v":""}]
[{"$nulls":11},{"$f":"IF(IF(Table17[[#This Row],[Disposition]]=\"Retired\",\"N/A\",IF(Table17[[#This Row],[Disposition]]=0,\"\",K53+$F$2))=0+$F$2,\"NEVER CALIBRATED\",IF(Table17[[#This Row],[Disposition]]=\"Retired\",\"N/A\",IF(Table17[[#This Row],[Disposition]]=0,\"\",K53+$F$2)))","v":""},{"$f":"IF(Table17[[#This Row],[Disposition]]=\"\",\"\",IF(AND(Table17[[#This Row],[Next Calibration]]<$E$1,Table17[[#This Row],[Disposition]]=\"Lost\"),\"Find and Calibrate\",IF(Table17[[#This Row],[Disposition]]=\"Lost\",\"Find\",IF(OR(Table17[[#This Row],[Next Calibration]]<$E$1,Table17[[#This Row],[Next Calibration]]=\"NEVER CALIBRATED\"),\"Calibrate\",\"Nominal\"))))","v":""},{"$f":"IF(((Table17[[#This Row],[Next Calibration]]-TODAY())/30)>2,\"More Than 2\",IF(((Table17[[#This Row],[Next Calibration]]-TODAY())/30)>1,\"Between 2 and 1\",\"Less than 1\"))","v":{"$error":"#VALUE!"}},{"$f":"IF(Table17[[#This Row],[Issued]]=\"\",\"\",IF(Table17[[#This Row],[Lent]]=\"\",0,1))","v":""},{"$f":"IF(Table17[[#This Row],[Lent]]=\"\",\"\",IF(Table17[[#This Row],[Returned]]=\"\",0,1))","v":""}]
[{"$nulls":11},{"$f":"IF(IF(Table17[[#This Row],[Disposition]]=\"Retired\",\"N/A\",IF(Table17[[#This Row],[Disposition]]=0,\"\",K54+$F$2))=0+$F$2,\"NEVER CALIBRATED\",IF(Table17[[#This Row],[Disposition]]=\"Retired\",\"N/A\",IF(Table17[[#This Row],[Disposition]]=0,\"\",K54+$F$2)))","v":""},{"$f":"IF(Table17[[#This Row],[Disposition]]=\"\",\"\",IF(AND(Table17[[#This Row],[Next Calibration]]<$E$1,Table17[[#This Row],[Disposition]]=\"Lost\"),\"Find and Calibrate\",IF(Table17[[#This Row],[Disposition]]=\"Lost\",\"Find\",IF(OR(Table17[[#This Row],[Next Calibration]]<$E$1,Table17[[#This Row],[Next Calibration]]=\"NEVER CALIBRATED\"),\"Calibrate\",\"Nominal\"))))","v":""},{"$f":"IF(((Table17[[#This Row],[Next Calibration]]-TODAY())/30)>2,\"More Than 2\",IF(((Table17[[#This Row],[Next Calibration]]-TODAY())/30)>1,\"Between 2 and 1\",\"Less than 1\"))","v":{"$error":"#VALUE!"}},{"$f":"IF(Table17[[#This Row],[Issued]]=\"\",\"\",IF(Table17[[#This Row],[Lent]]=\"\",0,1))","v":""},{"$f":"IF(Table17[[#This Row],[Lent]]=\"\",\"\",IF(Table17[[#This Row],[Returned]]=\"\",0,1))","v":""}]
[{"$nulls":11},{"$f":"IF(IF(Table17[[#This Row],[Disposition]]=\"Retired\",\"N/A\",IF(Table17[[#This Row],[Disposition]]=0,\"\",K55+$F$2))=0+$F$2,\"NEVER CALIBRATED\",IF(Table17[[#This Row],[Disposition]]=\"Retired\",\"N/A\",IF(Table17[[#This Row],[Disposition]]=0,\"\",K55+$F$2)))","v":""},{"$f":"IF(Table17[[#This Row],[Disposition]]=\"\",\"\",IF(AND(Table17[[#This Row],[Next Calibration]]<$E$1,Table17[[#This Row],[Disposition]]=\"Lost\"),\"Find and Calibrate\",IF(Table17[[#This Row],[Disposition]]=\"Lost\",\"Find\",IF(OR(Table17[[#This Row],[Next Calibration]]<$E$1,Table17[[#This Row],[Next Calibration]]=\"NEVER CALIBRATED\"),\"Calibrate\",\"Nominal\"))))","v":""},{"$f":"IF(((Table17[[#This Row],[Next Calibration]]-TODAY())/30)>2,\"More Than 2\",IF(((Table17[[#This Row],[Next Calibration]]-TODAY())/30)>1,\"Between 2 and 1\",\"Less than 1\"))","v":{"$error":"#VALUE!"}},{"$f":"IF(Table17[[#This Row],[Issued]]=\"\",\"\",IF(Table17[[#This Row],[Lent]]=\"\",0,1))","v":""},{"$f":"IF(Table17[[#This Row],[Lent]]=\"\",\"\",IF(Table17[[#This Row],[Returned]]=\"\",0,1))","v":""}]
[{"$nulls":11},{"$f":"IF(IF(Table17[[#This Row],[Disposition]]=\"Retired\",\"N/A\",IF(Table17[[#This Row],[Disposition]]=0,\"\",K56+$F$2))=0+$F$2,\"NEVER CALIBRATED\",IF(Table17[[#This Row],[Disposition]]=\"Retired\",\"N/A\",IF(Table17[[#This Row],[Disposition]]=0,\"\",K56+$F$2)))","v":""},{"$f":"IF(Table17[[#This Row],[Disposition]]=\"\",\"\",IF(AND(Table17[[#This Row],[Next Calibration]]<$E$1,Table17[[#This Row],[Disposition]]=\"Lost\"),\"Find and Calibrate\",IF(Table17[[#This Row],[Disposition]]=\"Lost\",\"Find\",IF(OR(Table17[[#This Row],[Next Calibration]]<$E$1,Table17[[#This Row],[Next Calibration]]=\"NEVER CALIBRATED\"),\"Calibrate\",\"Nominal\"))))","v":""},{"$f":"IF(((Table17[[#This Row],[Next Calibration]]-TODAY())/30)>2,\"More Than 2\",IF(((Table17[[#This Row],[Next Calibration]]-TODAY())/30)>1,\"Between 2 and 1\",\"Less than 1\"))","v":{"$error":"#VALUE!"}},{"$f":"IF(Table17[[#This Row],[Issued]]=\"\",\"\",IF(Table17[[#This Row],[Lent]]=\"\",0,1))","v":""},{"$f":"IF(Table17[[#This Row],[Lent]]=\"\",\"\",IF(Table17[[#This Row],[Returned]]=\"\",0,1))","v":""}]
[{"$nulls":11},{"$f":"IF(IF(Table17[[#This Row],[Disposition]]=\"Retired\",\"N/A\",IF(Table17[[#This Row],[Disposition]]=0,\"\",K57+$F$2))=0+$F$2,\"NEVER CALIBRATED\",IF(Table17[[#This Row],[Disposition]]=\"Retired\",\"N/A\",IF(Table17[[#This Row],[Disposition]]=0,\"\",K57+$F$2)))","v":""},{"$f":"IF(Table17[[#This Row],[Disposition]]=\"\",\"\",IF(AND(Table17[[#This Row],[Next Calibration]]<$E$1,Table17[[#This Row],[Disposition]]=\"Lost\"),\"Find and Calibrate\",IF(Table17[[#This Row],[Disposition]]=\"Lost\",\"Find\",IF(OR(Table17[[#This Row],[Next Calibration]]<$E$1,Table17[[#This Row],[Next Calibration]]=\"NEVER CALIBRATED\"),\"Calibrate\",\"Nominal\"))))","v":""},{"$f":"IF(((Table17[[#This Row],[Next Calibration]]-TODAY())/30)>2,\"More Than 2\",IF(((Table17[[#This Row],[Next Calibration]]-TODAY())/30)>1,\"Between 2 and 1\",\"Less than 1\"))","v":{"$error":"#VALUE!"}},{"$f":"IF(Table17[[#This Row],[Issued]]=\"\",\"\",IF(Table17[[#This Row],[Lent]]=\"\",0,1))","v":""},{"$f":"IF(Table17[[#This Row],[Lent]]=\"\",\"\",IF(Table17[[#This Row],[Returned]]=\"\",0,1))","v":""}]
[{"$nulls":11},{"$f":"IF(IF(Table17[[#This Row],[Disposition]]=\"Retired\",\"N/A\",IF(Table17[[#This Row],[Disposition]]=0,\"\",K58+$F$2))=0+$F$2,\"NEVER CALIBRATED\",IF(Table17[[#This Row],[Disposition]]=\"Retired\",\"N/A\",IF(Table17[[#This Row],[Disposition]]=0,\"\",K58+$F$2)))","v":""},{"$f":"IF(Table17[[#This Row],[Disposition]]=\"\",\"\",IF(AND(Table17[[#This Row],[Next Calibration]]<$E$1,Table17[[#This Row],[Disposition]]=\"Lost\"),\"Find and Calibrate\",IF(Table17[[#This Row],[Disposition]]=\"Lost\",\"Find\",IF(OR(Table17[[#This Row],[Next Calibration]]<$E$1,Table17[[#This Row],[Next Calibration]]=\"NEVER CALIBRATED\"),\"Calibrate\",\"Nominal\"))))","v":""},{"$f":"IF(((Table17[[#This Row],[Next Calibration]]-TODAY())/30)>2,\"More Than 2\",IF(((Table17[[#This Row],[Next Calibration]]-TODAY())/30)>1,\"Between 2 and 1\",\"Less than 1\"))","v":{"$error":"#VALUE!"}},{"$f":"IF(Table17[[#This Row],[Issued]]=\"\",\"\",IF(Table17[[#This Row],[Lent]]=\"\",0,1))","v":""},{"$f":"IF(Table17[[#This Row],[Lent]]=\"\",\"\",IF(Table17[[#This Row],[Returned]]=\"\",0,1))","v":""}]
[{"$nulls":11},{"$f":"IF(IF(Table17[[#This Row],[Disposition]]=\"Retired\",\"N/A\",IF(Table17[[#This Row],[Disposition]]=0,\"\",K59+$F$2))=0+$F$2,\"NEVER CALIBRATED\",IF(Table17[[#This Row],[Disposition]]=\"Retired\",\"N/A\",IF(Table17[[#This Row],[Disposition]]=0,\"\",K59+$F$2)))","v":""},{"$f":"IF(Table17[[#This Row],[Disposition]]=\"\",\"\",IF(AND(Table17[[#This Row],[Next Calibration]]<$E$1,Table17[[#This Row],[Disposition]]=\"Lost\"),\"Find and Calibrate\",IF(Table17[[#This Row],[Disposition]]=\"Lost\",\"Find\",IF(OR(Table17[[#This Row],[Next Calibration]]<$E$1,Table17[[#This Row],[Next Calibration]]=\"NEVER CALIBRATED\"),\"Calibrate\",\"Nominal\"))))","v":""},{"$f":"IF(((Table17[[#This Row],[Next Calibration]]-TODAY())/30)>2,\"More Than 2\",IF(((Table17[[#This Row],[Next Calibration]]-TODAY())/30)>1,\"Between 2 and 1\",\"Less than 1\"))","v":{"$error":"#VALUE!"}},{"$f":"IF(Table17[[#This Row],[Issued]]=\"\",\"\",IF(Table17[[#This Row],[Lent]]=\"\",0,1))","v":""},{"$f":"IF(Table17[[#This Row],[Lent]]=\"\",\"\",IF(Table17[[#This Row],[Returned]]=\"\",0,1))","v":""}]
[{"$nulls":11},{"$f":"IF(IF(Table17[[#This Row],[Disposition]]=\"Retired\",\"N/A\",IF(Table17[[#This Row],[Disposition]]=0,\"\",K60+$F$2))=0+$F$2,\"NEVER CALIBRATED\",IF(Table17[[#This Row],[Disposition]]=\"Retired\",\"N/A\",IF(Table17[[#This Row],[Disposition]]=0,\"\",K60+$F$2)))","v":""},{"$f":"IF(Table17[[#This Row],[Disposition]]=\"\",\"\",IF(AND(Table17[[#This Row],[Next Calibration]]<$E$1,Table17[[#This Row],[Disposition]]=\"Lost\"),\"Find and Calibrate\",IF(Table17[[#This Row],[Disposition]]=\"Lost\",\"Find\",IF(OR(Table17[[#This Row],[Next Calibration]]<$E$1,Table17[[#This Row],[Next Calibration]]=\"NEVER CALIBRATED\"),\"Calibrate\",\"Nominal\"))))","v":""},{"$f":"IF(((Table17[[#This Row],[Next Calibration]]-TODAY())/30)>2,\"More Than 2\",IF(((Table17[[#This Row],[Next Calibration]]-TODAY())/30)>1,\"Between 2 and 1\",\"Less than 1\"))","v":{"$error":"#VALUE!"}},{"$f":"IF(Table17[[#This Row],[Issued]]=\"\",\"\",IF(Table17[[#This Row],[Lent]]=\"\",0,1))","v":""},{"$f":"IF(Table17[[#This Row],[Lent]]=\"\",\"\",IF(Table17[[#This Row],[Returned]]=\"\",0,1))","v":""}]
[{"$nulls":11},{"$f":"IF(IF(Table17[[#This Row],[Disposition]]=\"Retired\",\"N/A\",IF(Table17[[#This Row],[Disposition]]=0,\"\",K61+$F$2))=0+$F$2,\"NEVER CALIBRATED\",IF(Table17[[#This Row],[Disposition]]=\"Retired\",\"N/A\",IF(Table17[[#This Row],[Disposition]]=0,\"\",K61+$F$2)))","v":""},{"$f":"IF(Table17[[#This Row],[Disposition]]=\"\",\"\",IF(AND(Table17[[#This Row],[Next Calibration]]<$E$1,Table17[[#This Row],[Disposition]]=\"Lost\"),\"Find and Calibrate\",IF(Table17[[#This Row],[Disposition]]=\"Lost\",\"Find\",IF(OR(Table17[[#This Row],[Next Calibration]]<$E$1,Table17[[#This Row],[Next Calibration]]=\"NEVER CALIBRATED\"),\"Calibrate\",\"Nominal\"))))","v":""},{"$f":"IF(((Table17[[#This Row],[Next Calibration]]-TODAY())/30)>2,\"More Than 2\",IF(((Table17[[#This Row],[Next Calibration]]-TODAY())/30)>1,\"Between 2 and 1\",\"Less than 1\"))","v":{"$error":"#VALUE!"}},{"$f":"IF(Table17[[#This Row],[Issued]]=\"\",\"\",IF(Table17[[#This Row],[Lent]]=\"\",0,1))","v":""},{"$f":"IF(Table17[[#This Row],[Lent]]=\"\",\"\",IF(Table17[[#This Row],[Returned]]=\"\",0,1))","v":""}]
[{"$nulls":11},{"$f":"IF(IF(Table17[[#This Row],[Disposition]]=\"Retired\",\"N/A\",IF(Table17[[#This Row],[Disposition]]=0,\"\",K62+$F$2))=0+$F$2,\"NEVER CALIBRATED\",IF(Table17[[#This Row],[Disposition]]=\"Retired\",\"N/A\",IF(Table17[[#This Row],[Disposition]]=0,\"\",K62+$F$2)))","v":""},{"$f":"IF(Table17[[#This Row],[Disposition]]=\"\",\"\",IF(AND(Table17[[#This Row],[Next Calibration]]<$E$1,Table17[[#This Row],[Disposition]]=\"Lost\"),\"Find and Calibrate\",IF(Table17[[#This Row],[Disposition]]=\"Lost\",\"Find\",IF(OR(Table17[[#This Row],[Next Calibration]]<$E$1,Table17[[#This Row],[Next Calibration]]=\"NEVER CALIBRATED\"),\"Calibrate\",\"Nominal\"))))","v":""},{"$f":"IF(((Table17[[#This Row],[Next Calibration]]-TODAY())/30)>2,\"More Than 2\",IF(((Table17[[#This Row],[Next Calibration]]-TODAY())/30)>1,\"Between 2 and 1\",\"Less than 1\"))","v":{"$error":"#VALUE!"}},{"$f":"IF(Table17[[#This Row],[Issued]]=\"\",\"\",IF(Table17[[#This Row],[Lent]]=\"\",0,1))","v":""},{"$f":"IF(Table17[[#This Row],[Lent]]=\"\",\"\",IF(Table17[[#This Row],[Returned]]=\"\",0,1))","v":""}]
[{"$nulls":11},{"$f":"IF(IF(Table17[[#This Row],[Disposition]]=\"Retired\",\"N/A\",IF(Table17[[#This Row],[Disposition]]=0,\"\",K63+$F$2))=0+$F$2,\"NEVER CALIBRATED\",IF(Table17[[#This Row],[Disposition]]=\"Retired\",\"N/A\",IF(Table17[[#This Row],[Disposition]]=0,\"\",K63+$F$2)))","v":""},{"$f":"IF(Table17[[#This Row],[Disposition]]=\"\",\"\",IF(AND(Table17[[#This Row],[Next Calibration]]<$E$1,Table17[[#This Row],[Disposition]]=\"Lost\"),\"Find and Calibrate\",IF(Table17[[#This Row],[Disposition]]=\"Lost\",\"Find\",IF(OR(Table17[[#This Row],[Next Calibration]]<$E$1,Table17[[#This Row],[Next Calibration]]=\"NEVER CALIBRATED\"),\"Calibrate\",\"Nominal\"))))","v":""},{"$f":"IF(((Table17[[#This Row],[Next Calibration]]-TODAY())/30)>2,\"More Than 2\",IF(((Table17[[#This Row],[Next Calibration]]-TODAY())/30)>1,\"Between 2 and 1\",\"Less than 1\"))","v":{"$error":"#VALUE!"}},{"$f":"IF(Table17[[#This Row],[Issued]]=\"\",\"\",IF(Table17[[#This Row],[Lent]]=\"\",0,1))","v":""},{"$f":"IF(Table17[[#This Row],[Lent]]=\"\",\"\",IF(Table17[[#This Row],[Returned]]=\"\",0,1))","v":""}]
[{"$nulls":11},{"$f":"IF(IF(Table17[[#This Row],[Disposition]]=\"Retired\",\"N/A\",IF(Table17[[#This Row],[Disposition]]=0,\"\",K64+$F$2))=0+$F$2,\"NEVER CALIBRATED\",IF(Table17[[#This Row],[Disposition]]=\"Retired\",\"N/A\",IF(Table17[[#This Row],[Disposition]]=0,\"\",K64+$F$2)))","v":""},{"$f":"IF(Table17[[#This Row],[Disposition]]=\"\",\"\",IF(AND(Table17[[#This Row],[Next Calibration]]<$E$1,Table17[[#This Row],[Disposition]]=\"Lost\"),\"Find and Calibrate\",IF(Table17[[#This Row],[Disposition]]=\"Lost\",\"Find\",IF(OR(Table17[[#This Row],[Next Calibration]]<$E$1,Table17[[#This Row],[Next Calibration]]=\"NEVER CALIBRATED\"),\"Calibrate\",\"Nominal\"))))","v":""},{"$f":"IF(((Table17[[#This Row],[Next Calibration]]-TODAY())/30)>2,\"More Than 2\",IF(((Table17[[#This Row],[Next Calibration]]-TODAY())/30)>1,\"Between 2 and 1\",\"Less than 1\"))","v":{"$error":"#VALUE!"}},{"$f":"IF(Table17[[#This Row],[Issued]]=\"\",\"\",IF(Table17[[#This Row],[Lent]]=\"\",0,1))","v":""},{"$f":"IF(Table17[[#This Row],[Lent]]=\"\",\"\",IF(Table17[[#This Row],[Returned]]=\"\",0,1))","v":""}]
[{"$nulls":11},{"$f":"IF(IF(Table17[[#This Row],[Disposition]]=\"Retired\",\"N/A\",IF(Table17[[#This Row],[Disposition]]=0,\"\",K65+$F$2))=0+$F$2,\"NEVER CALIBRATED\",IF(Table17[[#This Row],[Disposition]]=\"Retired\",\"N/A\",IF(Table17[[#This Row],[Disposition]]=0,\"\",K65+$F$2)))","v":""},{"$f":"IF(Table17[[#This Row],[Disposition]]=\"\",\"\",IF(AND(Table17[[#This Row],[Next Calibration]]<$E$1,Table17[[#This Row],[Disposition]]=\"Lost\"),\"Find and Calibrate\",IF(Table17[[#This Row],[Disposition]]=\"Lost\",\"Find\",IF(OR(Table17[[#This Row],[Next Calibration]]<$E$1,Table17[[#This Row],[Next Calibration]]=\"NEVER CALIBRATED\"),\"Calibrate\",\"Nominal\"))))","v":""},{"$f":"IF(((Table17[[#This Row],[Next Calibration]]-TODAY())/30)>2,\"More Than 2\",IF(((Table17[[#This Row],[Next Calibration]]-TODAY())/30)>1,\"Between 2 and 1\",\"Less than 1\"))","v":{"$error":"#VALUE!"}},{"$f":"IF(Table17[[#This Row],[Issued]]=\"\",\"\",IF(Table17[[#This Row],[Lent]]=\"\",0,1))","v":""},{"$f":"IF(Table17[[#This Row],[Lent]]=\"\",\"\",IF(Table17[[#This Row],[Returned]]=\"\",0,1))","v":""}]
[{"$nulls":11},{"$f":"IF(IF(Table17[[#This Row],[Disposition]]=\"Retired\",\"N/A\",IF(Table17[[#This Row],[Disposition]]=0,\"\",K66+$F$2))=0+$F$2,\"NEVER CALIBRATED\",IF(Table17[[#This Row],[Disposition]]=\"Retired\",\"N/A\",IF(Table17[[#This Row],[Disposition]]=0,\"\",K66+$F$2)))","v":""},{"$f":"IF(Table17[[#This Row],[Disposition]]=\"\",\"\",IF(AND(Table17[[#This Row],[Next Calibration]]<$E$1,Table17[[#This Row],[Disposition]]=\"Lost\"),\"Find and Calibrate\",IF(Table17[[#This Row],[Disposition]]=\"Lost\",\"Find\",IF(OR(Table17[[#This Row],[Next Calibration]]<$E$1,Table17[[#This Row],[Next Calibration]]=\"NEVER CALIBRATED\"),\"Calibrate\",\"Nominal\"))))","v":""},{"$f":"IF(((Table17[[#This Row],[Next Calibration]]-TODAY())/30)>2,\"More Than 2\",IF(((Table17[[#This Row],[Next Calibration]]-TODAY())/30)>1,\"Between 2 and 1\",\"Less than 1\"))","v":{"$error":"#VALUE!"}},{"$f":"IF(Table17[[#This Row],[Issued]]=\"\",\"\",IF(Table17[[#This Row],[Lent]]=\"\",0,1))","v":""},{"$f":"IF(Table17[[#This Row],[Lent]]=\"\",\"\",IF(Table17[[#This Row],[Returned]]=\"\",0,1))","v":""}]
[{"$nulls":11},{"$f":"IF(IF(Table17[[#This Row],[Disposition]]=\"Retired\",\"N/A\",IF(Table17[[#This Row],[Disposition]]=0,\"\",K67+$F$2))=0+$F$2,\"NEVER CALIBRATED\",IF(Table17[[#This Row],[Disposition]]=\"Retired\",\"N/A\",IF(Table17[[#This Row],[Disposition]]=0,\"\",K67+$F$2)))","v":""},{"$f":"IF(Table17[[#This Row],[Disposition]]=\"\",\"\",IF(AND(Table17[[#This Row],[Next Calibration]]<$E$1,Table17[[#This Row],[Disposition]]=\"Lost\"),\"Find and Calibrate\",IF(Table17[[#This Row],[Disposition]]=\"Lost\",\"Find\",IF(OR(Table17[[#This Row],[Next Calibration]]<$E$1,Table17[[#This Row],[Next Calibration]]=\"NEVER CALIBRATED\"),\"Calibrate\",\"Nominal\"))))","v":""},{"$f":"IF(((Table17[[#This Row],[Next Calibration]]-TODAY())/30)>2,\"More Than 2\",IF(((Table17[[#This Row],[Next Calibration]]-TODAY())/30)>1,\"Between 2 and 1\",\"Less than 1\"))","v":{"$error":"#VALUE!"}},{"$f":"IF(Table17[[#This Row],[Issued]]=\"\",\"\",IF(Table17[[#This Row],[Lent]]=\"\",0,1))","v":""},{"$f":"IF(Table17[[#This Row],[Lent]]=\"\",\"\",IF(Table17[[#This Row],[Returned]]=\"\",0,1))","v":""}]
[{"$nulls":11},{"$f":"IF(IF(Table17[[#This Row],[Disposition]]=\"Retired\",\"N/A\",IF(Table17[[#This Row],[Disposition]]=0,\"\",K68+$F$2))=0+$F$2,\"NEVER CALIBRATED\",IF(Table17[[#This Row],[Disposition]]=\"Retired\",\"N/A\",IF(Table17[[#This Row],[Disposition]]=0,\"\",K68+$F$2)))","v":""},{"$f":"IF(Table17[[#This Row],[Disposition]]=\"\",\"\",IF(AND(Table17[[#This Row],[Next Calibration]]<$E$1,Table17[[#This Row],[Disposition]]=\"Lost\"),\"Find and Calibrate\",IF(Table17[[#This Row],[Disposition]]=\"Lost\",\"Find\",IF(OR(Table17[[#This Row],[Next Calibration]]<$E$1,Table17[[#This Row],[Next Calibration]]=\"NEVER CALIBRATED\"),\"Calibrate\",\"Nominal\"))))","v":""},{"$f":"IF(((Table17[[#This Row],[Next Calibration]]-TODAY())/30)>2,\"More Than 2\",IF(((Table17[[#This Row],[Next Calibration]]-TODAY())/30)>1,\"Between 2 and 1\",\"Less than 1\"))","v":{"$error":"#VALUE!"}},{"$f":"IF(Table17[[#This Row],[Issued]]=\"\",\"\",IF(Table17[[#This Row],[Lent]]=\"\",0,1))","v":""},{"$f":"IF(Table17[[#This Row],[Lent]]=\"\",\"\",IF(Table17[[#This Row],[Returned]]=\"\",0,1))","v":""}]
[{"$nulls":11},{"$f":"IF(IF(Table17[[#This Row],[Disposition]]=\"Retired\",\"N/A\",IF(Table17[[#This Row],[Disposition]]=0,\"\",K69+$F$2))=0+$F$2,\"NEVER CALIBRATED\",IF(Table17[[#This Row],[Disposition]]=\"Retired\",\"N/A\",IF(Table17[[#This Row],[Disposition]]=0,\"\",K69+$F$2)))","v":""},{"$f":"IF(Table17[[#This Row],[Disposition]]=\"\",\"\",IF(AND(Table17[[#This Row],[Next Calibration]]<$E$1,Table17[[#This Row],[Disposition]]=\"Lost\"),\"Find and Calibrate\",IF(Table17[[#This Row],[Disposition]]=\"Lost\",\"Find\",IF(OR(Table17[[#This Row],[Next Calibration]]<$E$1,Table17[[#This Row],[Next Calibration]]=\"NEVER CALIBRATED\"),\"Calibrate\",\"Nominal\"))))","v":""},{"$f":"IF(((Table17[[#This Row],[Next Calibration]]-TODAY())/30)>2,\"More Than 2\",IF(((Table17[[#This Row],[Next Calibration]]-TODAY())/30)>1,\"Between 2 and 1\",\"Less than 1\"))","v":{"$error":"#VALUE!"}},{"$f":"IF(Table17[[#This Row],[Issued]]=\"\",\"\",IF(Table17[[#This Row],[Lent]]=\"\",0,1))","v":""},{"$f":"IF(Table17[[#This Row],[Lent]]=\"\",\"\",IF(Table17[[#This Row],[Returned]]=\"\",0,1))","v":""}]
[{"$nulls":11},{"$f":"IF(IF(Table17[[#This Row],[Disposition]]=\"Retired\",\"N/A\",IF(Table17[[#This Row],[Disposition]]=0,\"\",K70+$F$2))=0+$F$2,\"NEVER CALIBRATED\",IF(Table17[[#This Row],[Disposition]]=\"Retired\",\"N/A\",IF(Table17[[#This Row],[Disposition]]=0,\"\",K70+$F$2)))","v":""},{"$f":"IF(Table17[[#This Row],[Disposition]]=\"\",\"\",IF(AND(Table17[[#This Row],[Next Calibration]]<$E$1,Table17[[#This Row],[Disposition]]=\"Lost\"),\"Find and Calibrate\",IF(Table17[[#This Row],[Disposition]]=\"Lost\",\"Find\",IF(OR(Table17[[#This Row],[Next Calibration]]<$E$1,Table17[[#This Row],[Next Calibration]]=\"NEVER CALIBRATED\"),\"Calibrate\",\"Nominal\"))))","v":""},{"$f":"IF(((Table17[[#This Row],[Next Calibration]]-TODAY())/30)>2,\"More Than 2\",IF(((Table17[[#This Row],[Next Calibration]]-TODAY())/30)>1,\"Between 2 and 1\",\"Less than 1\"))","v":{"$error":"#VALUE!"}},{"$f":"IF(Table17[[#This Row],[Issued]]=\"\",\"\",IF(Table17[[#This Row],[Lent]]=\"\",0,1))","v":""},{"$f":"IF(Table17[[#This Row],[Lent]]=\"\",\"\",IF(Table17[[#This Row],[Returned]]=\"\",0,1))","v":""}]
[{"$nulls":11},{"$f":"IF(IF(Table17[[#This Row],[Disposition]]=\"Retired\",\"N/A\",IF(Table17[[#This Row],[Disposition]]=0,\"\",K71+$F$2))=0+$F$2,\"NEVER CALIBRATED\",IF(Table17[[#This Row],[Disposition]]=\"Retired\",\"N/A\",IF(Table17[[#This Row],[Disposition]]=0,\"\",K71+$F$2)))","v":""},{"$f":"IF(Table17[[#This Row],[Disposition]]=\"\",\"\",IF(AND(Table17[[#This Row],[Next Calibration]]<$E$1,Table17[[#This Row],[Disposition]]=\"Lost\"),\"Find and Calibrate\",IF(Table17[[#This Row],[Disposition]]=\"Lost\",\"Find\",IF(OR(Table17[[#This Row],[Next Calibration]]<$E$1,Table17[[#This Row],[Next Calibration]]=\"NEVER CALIBRATED\"),\"Calibrate\",\"Nominal\"))))","v":""},{"$f":"IF(((Table17[[#This Row],[Next Calibration]]-TODAY())/30)>2,\"More Than 2\",IF(((Table17[[#This Row],[Next Calibration]]-TODAY())/30)>1,\"Between 2 and 1\",\"Less than 1\"))","v":{"$error":"#VALUE!"}},{"$f":"IF(Table17[[#This Row],[Issued]]=\"\",\"\",IF(Table17[[#This Row],[Lent]]=\"\",0,1))","v":""},{"$f":"IF(Table17[[#This Row],[Lent]]=\"\",\"\",IF(Table17[[#This Row],[Returned]]=\"\",0,1))","v":""}]
[{"$nulls":11},{"$f":"IF(IF(Table17[[#This Row],[Disposition]]=\"Retired\",\"N/A\",IF(Table17[[#This Row],[Disposition]]=0,\"\",K72+$F$2))=0+$F$2,\"NEVER CALIBRATED\",IF(Table17[[#This Row],[Disposition]]=\"Retired\",\"N/A\",IF(Table17[[#This Row],[Disposition]]=0,\"\",K72+$F$2)))","v":""},{"$f":"IF(Table17[[#This Row],[Disposition]]=\"\",\"\",IF(AND(Table17[[#This Row],[Next Calibration]]<$E$1,Table17[[#This Row],[Disposition]]=\"Lost\"),\"Find and Calibrate\",IF(Table17[[#This Row],[Disposition]]=\"Lost\",\"Find\",IF(OR(Table17[[#This Row],[Next Calibration]]<$E$1,Table17[[#This Row],[Next Calibration]]=\"NEVER CALIBRATED\"),\"Calibrate\",\"Nominal\"))))","v":""},{"$f":"IF(((Table17[[#This Row],[Next Calibration]]-TODAY())/30)>2,\"More Than 2\",IF(((Table17[[#This Row],[Next Calibration]]-TODAY())/30)>1,\"Between 2 and 1\",\"Less than 1\"))","v":{"$error":"#VALUE!"}},{"$f":"IF(Table17[[#This Row],[Issued]]=\"\",\"\",IF(Table17[[#This Row],[Lent]]=\"\",0,1))","v":""},{"$f":"IF(Table17[[#This Row],[Lent]]=\"\",\"\",IF(Table17[[#This Row],[Returned]]=\"\",0,1))","v":""}]
[{"$nulls":11},{"$f":"IF(IF(Table17[[#This Row],[Disposition]]=\"Retired\",\"N/A\",IF(Table17[[#This Row],[Disposition]]=0,\"\",K73+$F$2))=0+$F$2,\"NEVER CALIBRATED\",IF(Table17[[#This Row],[Disposition]]=\"Retired\",\"N/A\",IF(Table17[[#This Row],[Disposition]]=0,\"\",K73+$F$2)))","v":""},{"$f":"IF(Table17[[#This Row],[Disposition]]=\"\",\"\",IF(AND(Table17[[#This Row],[Next Calibration]]<$E$1,Table17[[#This Row],[Disposition]]=\"Lost\"),\"Find and Calibrate\",IF(Table17[[#This Row],[Disposition]]=\"Lost\",\"Find\",IF(OR(Table17[[#This Row],[Next Calibration]]<$E$1,Table17[[#This Row],[Next Calibration]]=\"NEVER CALIBRATED\"),\"Calibrate\",\"Nominal\"))))","v":""},{"$f":"IF(((Table17[[#This Row],[Next Calibration]]-TODAY())/30)>2,\"More Than 2\",IF(((Table17[[#This Row],[Next Calibration]]-TODAY())/30)>1,\"Between 2 and 1\",\"Less than 1\"))","v":{"$error":"#VALUE!"}},{"$f":"IF(Table17[[#This Row],[Issued]]=\"\",\"\",IF(Table17[[#This Row],[Lent]]=\"\",0,1))","v":""},{"$f":"IF(Table17[[#This Row],[Lent]]=\"\",\"\",IF(Table17[[#This Row],[Returned]]=\"\",0,1))","v":""}]
[{"$nulls":11},{"$f":"IF(IF(Table17[[#This Row],[Disposition]]=\"Retired\",\"N/A\",IF(Table17[[#This Row],[Disposition]]=0,\"\",K74+$F$2))=0+$F$2,\"NEVER CALIBRATED\",IF(Table17[[#This Row],[Disposition]]=\"Retired\",\"N/A\",IF(Table17[[#This Row],[Disposition]]=0,\"\",K74+$F$2)))","v":""},{"$f":"IF(Table17[[#This Row],[Disposition]]=\"\",\"\",IF(AND(Table17[[#This Row],[Next Calibration]]<$E$1,Table17[[#This Row],[Disposition]]=\"Lost\"),\"Find and Calibrate\",IF(Table17[[#This Row],[Disposition]]=\"Lost\",\"Find\",IF(OR(Table17[[#This Row],[Next Calibration]]<$E$1,Table17[[#This Row],[Next Calibration]]=\"NEVER CALIBRATED\"),\"Calibrate\",\"Nominal\"))))","v":""},{"$f":"IF(((Table17[[#This Row],[Next Calibration]]-TODAY())/30)>2,\"More Than 2\",IF(((Table17[[#This Row],[Next Calibration]]-TODAY())/30)>1,\"Between 2 and 1\",\"Less than 1\"))","v":{"$error":"#VALUE!"}},{"$f":"IF(Table17[[#This Row],[Issued]]=\"\",\"\",IF(Table17[[#This Row],[Lent]]=\"\",0,1))","v":""},{"$f":"IF(Table17[[#This Row],[Lent]]=\"\",\"\",IF(Table17[[#This Row],[Returned]]=\"\",0,1))","v":""}]
[{"$nulls":11},{"$f":"IF(IF(Table17[[#This Row],[Disposition]]=\"Retired\",\"N/A\",IF(Table17[[#This Row],[Disposition]]=0,\"\",K75+$F$2))=0+$F$2,\"NEVER CALIBRATED\",IF(Table17[[#This Row],[Disposition]]=\"Retired\",\"N/A\",IF(Table17[[#This Row],[Disposition]]=0,\"\",K75+$F$2)))","v":""},{"$f":"IF(Table17[[#This Row],[Disposition]]=\"\",\"\",IF(AND(Table17[[#This Row],[Next Calibration]]<$E$1,Table17[[#This Row],[Disposition]]=\"Lost\"),\"Find and Calibrate\",IF(Table17[[#This Row],[Disposition]]=\"Lost\",\"Find\",IF(OR(Table17[[#This Row],[Next Calibration]]<$E$1,Table17[[#This Row],[Next Calibration]]=\"NEVER CALIBRATED\"),\"Calibrate\",\"Nominal\"))))","v":""},{"$f":"IF(((Table17[[#This Row],[Next Calibration]]-TODAY())/30)>2,\"More Than 2\",IF(((Table17[[#This Row],[Next Calibration]]-TODAY())/30)>1,\"Between 2 and 1\",\"Less than 1\"))","v":{"$error":"#VALUE!"}},{"$f":"IF(Table17[[#This Row],[Issued]]=\"\",\"\",IF(Table17[[#This Row],[Lent]]=\"\",0,1))","v":""},{"$f":"IF(Table17[[#This Row],[Lent]]=\"\",\"\",IF(Table17[[#This Row],[Returned]]=\"\",0,1))","v":""}]
[{"$nulls":11},{"$f":"IF(IF(Table17[[#This Row],[Disposition]]=\"Retired\",\"N/A\",IF(Table17[[#This Row],[Disposition]]=0,\"\",K76+$F$2))=0+$F$2,\"NEVER CALIBRATED\",IF(Table17[[#This Row],[Disposition]]=\"Retired\",\"N/A\",IF(Table17[[#This Row],[Disposition]]=0,\"\",K76+$F$2)))","v":""},{"$f":"IF(Table17[[#This Row],[Disposition]]=\"\",\"\",IF(AND(Table17[[#This Row],[Next Calibration]]<$E$1,Table17[[#This Row],[Disposition]]=\"Lost\"),\"Find and Calibrate\",IF(Table17[[#This Row],[Disposition]]=\"Lost\",\"Find\",IF(OR(Table17[[#This Row],[Next Calibration]]<$E$1,Table17[[#This Row],[Next Calibration]]=\"NEVER CALIBRATED\"),\"Calibrate\",\"Nominal\"))))","v":""},{"$f":"IF(((Table17[[#This Row],[Next Calibration]]-TODAY())/30)>2,\"More Than 2\",IF(((Table17[[#This Row],[Next Calibration]]-TODAY())/30)>1,\"Between 2 and 1\",\"Less than 1\"))","v":{"$error":"#VALUE!"}},{"$f":"IF(Table17[[#This Row],[Issued]]=\"\",\"\",IF(Table17[[#This Row],[Lent]]=\"\",0,1))","v":""},{"$f":"IF(Table17[[#This Row],[Lent]]=\"\",\"\",IF(Table17[[#This Row],[Returned]]=\"\",0,1))","v":""}]
[{"$nulls":11},{"$f":"IF(IF(Table17[[#This Row],[Disposition]]=\"Retired\",\"N/A\",IF(Table17[[#This Row],[Disposition]]=0,\"\",K77+$F$2))=0+$F$2,\"NEVER CALIBRATED\",IF(Table17[[#This Row],[Disposition]]=\"Retired\",\"N/A\",IF(Table17[[#This Row],[Disposition]]=0,\"\",K77+$F$2)))","v":""},{"$f":"IF(Table17[[#This Row],[Disposition]]=\"\",\"\",IF(AND(Table17[[#This Row],[Next Calibration]]<$E$1,Table17[[#This Row],[Disposition]]=\"Lost\"),\"Find and Calibrate\",IF(Table17[[#This Row],[Disposition]]=\"Lost\",\"Find\",IF(OR(Table17[[#This Row],[Next Calibration]]<$E$1,Table17[[#This Row],[Next Calibration]]=\"NEVER CALIBRATED\"),\"Calibrate\",\"Nominal\"))))","v":""},{"$f":"IF(((Table17[[#This Row],[Next Calibration]]-TODAY())/30)>2,\"More Than 2\",IF(((Table17[[#This Row],[Next Calibration]]-TODAY())/30)>1,\"Between 2 and 1\",\"Less than 1\"))","v":{"$error":"#VALUE!"}},{"$f":"IF(Table17[[#This Row],[Issued]]=\"\",\"\",IF(Table17[[#This Row],[Lent]]=\"\",0,1))","v":""},{"$f":"IF(Table17[[#This Row],[Lent]]=\"\",\"\",IF(Table17[[#This Row],[Returned]]=\"\",0,1))","v":""}]
[{"$nulls":11},{"$f":"IF(IF(Table17[[#This Row],[Disposition]]=\"Retired\",\"N/A\",IF(Table17[[#This Row],[Disposition]]=0,\"\",K78+$F$2))=0+$F$2,\"NEVER CALIBRATED\",IF(Table17[[#This Row],[Disposition]]=\"Retired\",\"N/A\",IF(Table17[[#This Row],[Disposition]]=0,\"\",K78+$F$2)))","v":""},{"$f":"IF(Table17[[#This Row],[Disposition]]=\"\",\"\",IF(AND(Table17[[#This Row],[Next Calibration]]<$E$1,Table17[[#This Row],[Disposition]]=\"Lost\"),\"Find and Calibrate\",IF(Table17[[#This Row],[Disposition]]=\"Lost\",\"Find\",IF(OR(Table17[[#This Row],[Next Calibration]]<$E$1,Table17[[#This Row],[Next Calibration]]=\"NEVER CALIBRATED\"),\"Calibrate\",\"Nominal\"))))","v":""},{"$f":"IF(((Table17[[#This Row],[Next Calibration]]-TODAY())/30)>2,\"More Than 2\",IF(((Table17[[#This Row],[Next Calibration]]-TODAY())/30)>1,\"Between 2 and 1\",\"Less than 1\"))","v":{"$error":"#VALUE!"}},{"$f":"IF(Table17[[#This Row],[Issued]]=\"\",\"\",IF(Table17[[#This Row],[Lent]]=\"\",0,1))","v":""},{"$f":"IF(Table17[[#This Row],[Lent]]=\"\",\"\",IF(Table17[[#This Row],[Returned]]=\"\",0,1))","v":""}]
[{"$nulls":11},{"$f":"IF(IF(Table17[[#This Row],[Disposition]]=\"Retired\",\"N/A\",IF(Table17[[#This Row],[Disposition]]=0,\"\",K79+$F$2))=0+$F$2,\"NEVER CALIBRATED\",IF(Table17[[#This Row],[Disposition]]=\"Retired\",\"N/A\",IF(Table17[[#This Row],[Disposition]]=0,\"\",K79+$F$2)))","v":""},{"$f":"IF(Table17[[#This Row],[Disposition]]=\"\",\"\",IF(AND(Table17[[#This Row],[Next Calibration]]<$E$1,Table17[[#This Row],[Disposition]]=\"Lost\"),\"Find and Calibrate\",IF(Table17[[#This Row],[Disposition]]=\"Lost\",\"Find\",IF(OR(Table17[[#This Row],[Next Calibration]]<$E$1,Table17[[#This Row],[Next Calibration]]=\"NEVER CALIBRATED\"),\"Calibrate\",\"Nominal\"))))","v":""},{"$f":"IF(((Table17[[#This Row],[Next Calibration]]-TODAY())/30)>2,\"More Than 2\",IF(((Table17[[#This Row],[Next Calibration]]-TODAY())/30)>1,\"Between 2 and 1\",\"Less than 1\"))","v":{"$error":"#VALUE!"}},{"$f":"IF(Table17[[#This Row],[Issued]]=\"\",\"\",IF(Table17[[#This Row],[Lent]]=\"\",0,1))","v":""},{"$f":"IF(Table17[[#This Row],[Lent]]=\"\",\"\",IF(Table17[[#This Row],[Returned]]=\"\",0,1))","v":""}]
[{"$nulls":11},{"$f":"IF(IF(Table17[[#This Row],[Disposition]]=\"Retired\",\"N/A\",IF(Table17[[#This Row],[Disposition]]=0,\"\",K80+$F$2))=0+$F$2,\"NEVER CALIBRATED\",IF(Table17[[#This Row],[Disposition]]=\"Retired\",\"N/A\",IF(Table17[[#This Row],[Disposition]]=0,\"\",K80+$F$2)))","v":""},{"$f":"IF(Table17[[#This Row],[Disposition]]=\"\",\"\",IF(AND(Table17[[#This Row],[Next Calibration]]<$E$1,Table17[[#This Row],[Disposition]]=\"Lost\"),\"Find and Calibrate\",IF(Table17[[#This Row],[Disposition]]=\"Lost\",\"Find\",IF(OR(Table17[[#This Row],[Next Calibration]]<$E$1,Table17[[#This Row],[Next Calibration]]=\"NEVER CALIBRATED\"),\"Calibrate\",\"Nominal\"))))","v":""},{"$f":"IF(((Table17[[#This Row],[Next Calibration]]-TODAY())/30)>2,\"More Than 2\",IF(((Table17[[#This Row],[Next Calibration]]-TODAY())/30)>1,\"Between 2 and 1\",\"Less than 1\"))","v":{"$error":"#VALUE!"}},{"$f":"IF(Table17[[#This Row],[Issued]]=\"\",\"\",IF(Table17[[#This Row],[Lent]]=\"\",0,1))","v":""},{"$f":"IF(Table17[[#This Row],[Lent]]=\"\",\"\",IF(Table17[[#This Row],[Returned]]=\"\",0,1))","v":""}]
[{"$nulls":11},{"$f":"IF(IF(Table17[[#This Row],[Disposition]]=\"Retired\",\"N/A\",IF(Table17[[#This Row],[Disposition]]=0,\"\",K81+$F$2))=0+$F$2,\"NEVER CALIBRATED\",IF(Table17[[#This Row],[Disposition]]=\"Retired\",\"N/A\",IF(Table17[[#This Row],[Disposition]]=0,\"\",K81+$F$2)))","v":""},{"$f":"IF(Table17[[#This Row],[Disposition]]=\"\",\"\",IF(AND(Table17[[#This Row],[Next Calibration]]<$E$1,Table17[[#This Row],[Disposition]]=\"Lost\"),\"Find and Calibrate\",IF(Table17[[#This Row],[Disposition]]=\"Lost\",\"Find\",IF(OR(Table17[[#This Row],[Next Calibration]]<$E$1,Table17[[#This Row],[Next Calibration]]=\"NEVER CALIBRATED\"),\"Calibrate\",\"Nominal\"))))","v":""},{"$f":"IF(((Table17[[#This Row],[Next Calibration]]-TODAY())/30)>2,\"More Than 2\",IF(((Table17[[#This Row],[Next Calibration]]-TODAY())/30)>1,\"Between 2 and 1\",\"Less than 1\"))","v":{"$error":"#VALUE!"}},{"$f":"IF(Table17[[#This Row],[Issued]]=\"\",\"\",IF(Table17[[#This Row],[Lent]]=\"\",0,1))","v":""},{"$f":"IF(Table17[[#This Row],[Lent]]=\"\",\"\",IF(Table17[[#This Row],[Returned]]=\"\",0,1))","v":""}]
[{"$nulls":11},{"$f":"IF(IF(Table17[[#This Row],[Disposition]]=\"Retired\",\"N/A\",IF(Table17[[#This Row],[Disposition]]=0,\"\",K82+$F$2))=0+$F$2,\"NEVER CALIBRATED\",IF(Table17[[#This Row],[Disposition]]=\"Retired\",\"N/A\",IF(Table17[[#This Row],[Disposition]]=0,\"\",K82+$F$2)))","v":""},{"$f":"IF(Table17[[#This Row],[Disposition]]=\"\",\"\",IF(AND(Table17[[#This Row],[Next Calibration]]<$E$1,Table17[[#This Row],[Disposition]]=\"Lost\"),\"Find and Calibrate\",IF(Table17[[#This Row],[Disposition]]=\"Lost\",\"Find\",IF(OR(Table17[[#This Row],[Next Calibration]]<$E$1,Table17[[#This Row],[Next Calibration]]=\"NEVER CALIBRATED\"),\"Calibrate\",\"Nominal\"))))","v":""},{"$f":"IF(((Table17[[#This Row],[Next Calibration]]-TODAY())/30)>2,\"More Than 2\",IF(((Table17[[#This Row],[Next Calibration]]-TODAY())/30)>1,\"Between 2 and 1\",\"Less than 1\"))","v":{"$error":"#VALUE!"}},{"$f":"IF(Table17[[#This Row],[Issued]]=\"\",\"\",IF(Table17[[#This Row],[Lent]]=\"\",0,1))","v":""},{"$f":"IF(Table17[[#This Row],[Lent]]=\"\",\"\",IF(Table17[[#This Row],[Returned]]=\"\",0,1))","v":""}]
[{"$nulls":11},{"$f":"IF(IF(Table17[[#This Row],[Disposition]]=\"Retired\",\"N/A\",IF(Table17[[#This Row],[Disposition]]=0,\"\",K83+$F$2))=0+$F$2,\"NEVER CALIBRATED\",IF(Table17[[#This Row],[Disposition]]=\"Retired\",\"N/A\",IF(Table17[[#This Row],[Disposition]]=0,\"\",K83+$F$2)))","v":""},{"$f":"IF(Table17[[#This Row],[Disposition]]=\"\",\"\",IF(AND(Table17[[#This Row],[Next Calibration]]<$E$1,Table17[[#This Row],[Disposition]]=\"Lost\"),\"Find and Calibrate\",IF(Table17[[#This Row],[Disposition]]=\"Lost\",\"Find\",IF(OR(Table17[[#This Row],[Next Calibration]]<$E$1,Table17[[#This Row],[Next Calibration]]=\"NEVER CALIBRATED\"),\"Calibrate\",\"Nominal\"))))","v":""},{"$f":"IF(((Table17[[#This Row],[Next Calibration]]-TODAY())/30)>2,\"More Than 2\",IF(((Table17[[#This Row],[Next Calibration]]-TODAY())/30)>1,\"Between 2 and 1\",\"Less than 1\"))","v":{"$error":"#VALUE!"}},{"$f":"IF(Table17[[#This Row],[Issued]]=\"\",\"\",IF(Table17[[#This Row],[Lent]]=\"\",0,1))","v":""},{"$f":"IF(Table17[[#This Row],[Lent]]=\"\",\"\",IF(Table17[[#This Row],[Returned]]=\"\",0,1))","v":""}]
[{"$nulls":11},{"$f":"IF(IF(Table17[[#This Row],[Disposition]]=\"Retired\",\"N/A\",IF(Table17[[#This Row],[Disposition]]=0,\"\",K84+$F$2))=0+$F$2,\"NEVER CALIBRATED\",IF(Table17[[#This Row],[Disposition]]=\"Retired\",\"N/A\",IF(Table17[[#This Row],[Disposition]]=0,\"\",K84+$F$2)))","v":""},{"$f":"IF(Table17[[#This Row],[Disposition]]=\"\",\"\",IF(AND(Table17[[#This Row],[Next Calibration]]<$E$1,Table17[[#This Row],[Disposition]]=\"Lost\"),\"Find and Calibrate\",IF(Table17[[#This Row],[Disposition]]=\"Lost\",\"Find\",IF(OR(Table17[[#This Row],[Next Calibration]]<$E$1,Table17[[#This Row],[Next Calibration]]=\"NEVER CALIBRATED\"),\"Calibrate\",\"Nominal\"))))","v":""},{"$f":"IF(((Table17[[#This Row],[Next Calibration]]-TODAY())/30)>2,\"More Than 2\",IF(((Table17[[#This Row],[Next Calibration]]-TODAY())/30)>1,\"Between 2 and 1\",\"Less than 1\"))","v":{"$error":"#VALUE!"}},{"$f":"IF(Table17[[#This Row],[Issued]]=\"\",\"\",IF(Table17[[#This Row],[Lent]]=\"\",0,1))","v":""},{"$f":"IF(Table17[[#This Row],[Lent]]=\"\",\"\",IF(Table17[[#This Row],[Returned]]=\"\",0,1))","v":""}]
[{"$nulls":11},{"$f":"IF(IF(Table17[[#This Row],[Disposition]]=\"Retired\",\"N/A\",IF(Table17[[#This Row],[Disposition]]=0,\"\",K85+$F$2))=0+$F$2,\"NEVER CALIBRATED\",IF(Table17[[#This Row],[Disposition]]=\"Retired\",\"N/A\",IF(Table17[[#This Row],[Disposition]]=0,\"\",K85+$F$2)))","v":""},{"$f":"IF(Table17[[#This Row],[Disposition]]=\"\",\"\",IF(AND(Table17[[#This Row],[Next Calibration]]<$E$1,Table17[[#This Row],[Disposition]]=\"Lost\"),\"Find and Calibrate\",IF(Table17[[#This Row],[Disposition]]=\"Lost\",\"Find\",IF(OR(Table17[[#This Row],[Next Calibration]]<$E$1,Table17[[#This Row],[Next Calibration]]=\"NEVER CALIBRATED\"),\"Calibrate\",\"Nominal\"))))","v":""},{"$f":"IF(((Table17[[#This Row],[Next Calibration]]-TODAY())/30)>2,\"More Than 2\",IF(((Table17[[#This Row],[Next Calibration]]-TODAY())/30)>1,\"Between 2 and 1\",\"Less than 1\"))","v":{"$error":"#VALUE!"}},{"$f":"IF(Table17[[#This Row],[Issued]]=\"\",\"\",IF(Table17[[#This Row],[Lent]]=\"\",0,1))","v":""},{"$f":"IF(Table17[[#This Row],[Lent]]=\"\",\"\",IF(Table17[[#This Row],[Returned]]=\"\",0,1))","v":""}]
[{"$nulls":11},{"$f":"IF(IF(Table17[[#This Row],[Disposition]]=\"Retired\",\"N/A\",IF(Table17[[#This Row],[Disposition]]=0,\"\",K86+$F$2))=0+$F$2,\"NEVER CALIBRATED\",IF(Table17[[#This Row],[Disposition]]=\"Retired\",\"N/A\",IF(Table17[[#This Row],[Disposition]]=0,\"\",K86+$F$2)))","v":""},{"$f":"IF(Table17[[#This Row],[Disposition]]=\"\",\"\",IF(AND(Table17[[#This Row],[Next Calibration]]<$E$1,Table17[[#This Row],[Disposition]]=\"Lost\"),\"Find and Calibrate\",IF(Table17[[#This Row],[Disposition]]=\"Lost\",\"Find\",IF(OR(Table17[[#This Row],[Next Calibration]]<$E$1,Table17[[#This Row],[Next Calibration]]=\"NEVER CALIBRATED\"),\"Calibrate\",\"Nominal\"))))","v":""},{"$f":"IF(((Table17[[#This Row],[Next Calibration]]-TODAY())/30)>2,\"More Than 2\",IF(((Table17[[#This Row],[Next Calibration]]-TODAY())/30)>1,\"Between 2 and 1\",\"Less than 1\"))","v":{"$error":"#VALUE!"}},{"$f":"IF(Table17[[#This Row],[Issued]]=\"\",\"\",IF(Table17[[#This Row],[Lent]]=\"\",0,1))","v":""},{"$f":"IF(Table17[[#This Row],[Lent]]=\"\",\"\",IF(Table17[[#This Row],[Returned]]=\"\",0,1))","v":""}]
[{"$nulls":11},{"$f":"IF(IF(Table17[[#This Row],[Disposition]]=\"Retired\",\"N/A\",IF(Table17[[#This Row],[Disposition]]=0,\"\",K87+$F$2))=0+$F$2,\"NEVER CALIBRATED\",IF(Table17[[#This Row],[Disposition]]=\"Retired\",\"N/A\",IF(Table17[[#This Row],[Disposition]]=0,\"\",K87+$F$2)))","v":""},{"$f":"IF(Table17[[#This Row],[Disposition]]=\"\",\"\",IF(AND(Table17[[#This Row],[Next Calibration]]<$E$1,Table17[[#This Row],[Disposition]]=\"Lost\"),\"Find and Calibrate\",IF(Table17[[#This Row],[Disposition]]=\"Lost\",\"Find\",IF(OR(Table17[[#This Row],[Next Calibration]]<$E$1,Table17[[#This Row],[Next Calibration]]=\"NEVER CALIBRATED\"),\"Calibrate\",\"Nominal\"))))","v":""},{"$f":"IF(((Table17[[#This Row],[Next Calibration]]-TODAY())/30)>2,\"More Than 2\",IF(((Table17[[#This Row],[Next Calibration]]-TODAY())/30)>1,\"Between 2 and 1\",\"Less than 1\"))","v":{"$error":"#VALUE!"}},{"$f":"IF(Table17[[#This Row],[Issued]]=\"\",\"\",IF(Table17[[#This Row],[Lent]]=\"\",0,1))","v":""},{"$f":"IF(Table17[[#This Row],[Lent]]=\"\",\"\",IF(Table17[[#This Row],[Returned]]=\"\",0,1))","v":""}]
[{"$nulls":11},{"$f":"IF(IF(Table17[[#This Row],[Disposition]]=\"Retired\",\"N/A\",IF(Table17[[#This Row],[Disposition]]=0,\"\",K88+$F$2))=0+$F$2,\"NEVER CALIBRATED\",IF(Table17[[#This Row],[Disposition]]=\"Retired\",\"N/A\",IF(Table17[[#This Row],[Disposition]]=0,\"\",K88+$F$2)))","v":""},{"$f":"IF(Table17[[#This Row],[Disposition]]=\"\",\"\",IF(AND(Table17[[#This Row],[Next Calibration]]<$E$1,Table17[[#This Row],[Disposition]]=\"Lost\"),\"Find and Calibrate\",IF(Table17[[#This Row],[Disposition]]=\"Lost\",\"Find\",IF(OR(Table17[[#This Row],[Next Calibration]]<$E$1,Table17[[#This Row],[Next Calibration]]=\"NEVER CALIBRATED\"),\"Calibrate\",\"Nominal\"))))","v":""},{"$f":"IF(((Table17[[#This Row],[Next Calibration]]-TODAY())/30)>2,\"More Than 2\",IF(((Table17[[#This Row],[Next Calibration]]-TODAY())/30)>1,\"Between 2 and 1\",\"Less than 1\"))","v":{"$error":"#VALUE!"}},{"$f":"IF(Table17[[#This Row],[Issued]]=\"\",\"\",IF(Table17[[#This Row],[Lent]]=\"\",0,1))","v":""},{"$f":"IF(Table17[[#This Row],[Lent]]=\"\",\"\",IF(Table17[[#This Row],[Returned]]=\"\",0,1))","v":""}]
[{"$nulls":11},{"$f":"IF(IF(Table17[[#This Row],[Disposition]]=\"Retired\",\"N/A\",IF(Table17[[#This Row],[Disposition]]=0,\"\",K89+$F$2))=0+$F$2,\"NEVER CALIBRATED\",IF(Table17[[#This Row],[Disposition]]=\"Retired\",\"N/A\",IF(Table17[[#This Row],[Disposition]]=0,\"\",K89+$F$2)))","v":""},{"$f":"IF(Table17[[#This Row],[Disposition]]=\"\",\"\",IF(AND(Table17[[#This Row],[Next Calibration]]<$E$1,Table17[[#This Row],[Disposition]]=\"Lost\"),\"Find and Calibrate\",IF(Table17[[#This Row],[Disposition]]=\"Lost\",\"Find\",IF(OR(Table17[[#This Row],[Next Calibration]]<$E$1,Table17[[#This Row],[Next Calibration]]=\"NEVER CALIBRATED\"),\"Calibrate\",\"Nominal\"))))","v":""},{"$f":"IF(((Table17[[#This Row],[Next Calibration]]-TODAY())/30)>2,\"More Than 2\",IF(((Table17[[#This Row],[Next Calibration]]-TODAY())/30)>1,\"Between 2 and 1\",\"Less than 1\"))","v":{"$error":"#VALUE!"}},{"$f":"IF(Table17[[#This Row],[Issued]]=\"\",\"\",IF(Table17[[#This Row],[Lent]]=\"\",0,1))","v":""},{"$f":"IF(Table17[[#This Row],[Lent]]=\"\",\"\",IF(Table17[[#This Row],[Returned]]=\"\",0,1))","v":""}]
[{"$nulls":11},{"$f":"IF(IF(Table17[[#This Row],[Disposition]]=\"Retired\",\"N/A\",IF(Table17[[#This Row],[Disposition]]=0,\"\",K90+$F$2))=0+$F$2,\"NEVER CALIBRATED\",IF(Table17[[#This Row],[Disposition]]=\"Retired\",\"N/A\",IF(Table17[[#This Row],[Disposition]]=0,\"\",K90+$F$2)))","v":""},{"$f":"IF(Table17[[#This Row],[Disposition]]=\"\",\"\",IF(AND(Table17[[#This Row],[Next Calibration]]<$E$1,Table17[[#This Row],[Disposition]]=\"Lost\"),\"Find and Calibrate\",IF(Table17[[#This Row],[Disposition]]=\"Lost\",\"Find\",IF(OR(Table17[[#This Row],[Next Calibration]]<$E$1,Table17[[#This Row],[Next Calibration]]=\"NEVER CALIBRATED\"),\"Calibrate\",\"Nominal\"))))","v":""},{"$f":"IF(((Table17[[#This Row],[Next Calibration]]-TODAY())/30)>2,\"More Than 2\",IF(((Table17[[#This Row],[Next Calibration]]-TODAY())/30)>1,\"Between 2 and 1\",\"Less than 1\"))","v":{"$error":"#VALUE!"}},{"$f":"IF(Table17[[#This Row],[Issued]]=\"\",\"\",IF(Table17[[#This Row],[Lent]]=\"\",0,1))","v":""},{"$f":"IF(Table17[[#This Row],[Lent]]=\"\",\"\",IF(Table17[[#This Row],[Returned]]=\"\",0,1))","v":""}]
[{"$nulls":11},{"$f":"IF(IF(Table17[[#This Row],[Disposition]]=\"Retired\",\"N/A\",IF(Table17[[#This Row],[Disposition]]=0,\"\",K91+$F$2))=0+$F$2,\"NEVER CALIBRATED\",IF(Table17[[#This Row],[Disposition]]=\"Retired\",\"N/A\",IF(Table17[[#This Row],[Disposition]]=0,\"\",K91+$F$2)))","v":""},{"$f":"IF(Table17[[#This Row],[Disposition]]=\"\",\"\",IF(AND(Table17[[#This Row],[Next Calibration]]<$E$1,Table17[[#This Row],[Disposition]]=\"Lost\"),\"Find and Calibrate\",IF(Table17[[#This Row],[Disposition]]=\"Lost\",\"Find\",IF(OR(Table17[[#This Row],[Next Calibration]]<$E$1,Table17[[#This Row],[Next Calibration]]=\"NEVER CALIBRATED\"),\"Calibrate\",\"Nominal\"))))","v":""},{"$f":"IF(((Table17[[#This Row],[Next Calibration]]-TODAY())/30)>2,\"More Than 2\",IF(((Table17[[#This Row],[Next Calibration]]-TODAY())/30)>1,\"Between 2 and 1\",\"Less than 1\"))","v":{"$error":"#VALUE!"}},{"$f":"IF(Table17[[#This Row],[Issued]]=\"\",\"\",IF(Table17[[#This Row],[Lent]]=\"\",0,1))","v":""},{"$f":"IF(Table17[[#This Row],[Lent]]=\"\",\"\",IF(Table17[[#This Row],[Returned]]=\"\",0,1))","v":""}]
[{"$nulls":11},{"$f":"IF(IF(Table17[[#This Row],[Disposition]]=\"Retired\",\"N/A\",IF(Table17[[#This Row],[Disposition]]=0,\"\",K92+$F$2))=0+$F$2,\"NEVER CALIBRATED\",IF(Table17[[#This Row],[Disposition]]=\"Retired\",\"N/A\",IF(Table17[[#This Row],[Disposition]]=0,\"\",K92+$F$2)))","v":""},{"$f":"IF(Table17[[#This Row],[Disposition]]=\"\",\"\",IF(AND(Table17[[#This Row],[Next Calibration]]<$E$1,Table17[[#This Row],[Disposition]]=\"Lost\"),\"Find and Calibrate\",IF(Table17[[#This Row],[Disposition]]=\"Lost\",\"Find\",IF(OR(Table17[[#This Row],[Next Calibration]]<$E$1,Table17[[#This Row],[Next Calibration]]=\"NEVER CALIBRATED\"),\"Calibrate\",\"Nominal\"))))","v":""},{"$f":"IF(((Table17[[#This Row],[Next Calibration]]-TODAY())/30)>2,\"More Than 2\",IF(((Table17[[#This Row],[Next Calibration]]-TODAY())/30)>1,\"Between 2 and 1\",\"Less than 1\"))","v":{"$error":"#VALUE!"}},{"$f":"IF(Table17[[#This Row],[Issued]]=\"\",\"\",IF(Table17[[#This Row],[Lent]]=\"\",0,1))","v":""},{"$f":"IF(Table17[[#This Row],[Lent]]=\"\",\"\",IF(Table17[[#This Row],[Returned]]=\"\",0,1))","v":""}]
[{"$nulls":11},{"$f":"IF(IF(Table17[[#This Row],[Disposition]]=\"Retired\",\"N/A\",IF(Table17[[#This Row],[Disposition]]=0,\"\",K93+$F$2))=0+$F$2,\"NEVER CALIBRATED\",IF(Table17[[#This Row],[Disposition]]=\"Retired\",\"N/A\",IF(Table17[[#This Row],[Disposition]]=0,\"\",K93+$F$2)))","v":""},{"$f":"IF(Table17[[#This Row],[Disposition]]=\"\",\"\",IF(AND(Table17[[#This Row],[Next Calibration]]<$E$1,Table17[[#This Row],[Disposition]]=\"Lost\"),\"Find and Calibrate\",IF(Table17[[#This Row],[Disposition]]=\"Lost\",\"Find\",IF(OR(Table17[[#This Row],[Next Calibration]]<$E$1,Table17[[#This Row],[Next Calibration]]=\"NEVER CALIBRATED\"),\"Calibrate\",\"Nominal\"))))","v":""},{"$f":"IF(((Table17[[#This Row],[Next Calibration]]-TODAY())/30)>2,\"More Than 2\",IF(((Table17[[#This Row],[Next Calibration]]-TODAY())/30)>1,\"Between 2 and 1\",\"Less than 1\"))","v":{"$error":"#VALUE!"}},{"$f":"IF(Table17[[#This Row],[Issued]]=\"\",\"\",IF(Table17[[#This Row],[Lent]]=\"\",0,1))","v":""},{"$f":"IF(Table17[[#This Row],[Lent]]=\"\",\"\",IF(Table17[[#This Row],[Returned]]=\"\",0,1))","v":""}]
[{"$nulls":11},{"$f":"IF(IF(Table17[[#This Row],[Disposition]]=\"Retired\",\"N/A\",IF(Table17[[#This Row],[Disposition]]=0,\"\",K94+$F$2))=0+$F$2,\"NEVER CALIBRATED\",IF(Table17[[#This Row],[Disposition]]=\"Retired\",\"N/A\",IF(Table17[[#This Row],[Disposition]]=0,\"\",K94+$F$2)))","v":""},{"$f":"IF(Table17[[#This Row],[Disposition]]=\"\",\"\",IF(AND(Table17[[#This Row],[Next Calibration]]<$E$1,Table17[[#This Row],[Disposition]]=\"Lost\"),\"Find and Calibrate\",IF(Table17[[#This Row],[Disposition]]=\"Lost\",\"Find\",IF(OR(Table17[[#This Row],[Next Calibration]]<$E$1,Table17[[#This Row],[Next Calibration]]=\"NEVER CALIBRATED\"),\"Calibrate\",\"Nominal\"))))","v":""},{"$f":"IF(((Table17[[#This Row],[Next Calibration]]-TODAY())/30)>2,\"More Than 2\",IF(((Table17[[#This Row],[Next Calibration]]-TODAY())/30)>1,\"Between 2 and 1\",\"Less than 1\"))","v":{"$error":"#VALUE!"}},{"$f":"IF(Table17[[#This Row],[Issued]]=\"\",\"\",IF(Table17[[#This Row],[Lent]]=\"\",0,1))","v":""},{"$f":"IF(Table17[[#This Row],[Lent]]=\"\",\"\",IF(Table17[[#This Row],[Returned]]=\"\",0,1))","v":""}]
[{"$nulls":11},{"$f":"IF(IF(Table17[[#This Row],[Disposition]]=\"Retired\",\"N/A\",IF(Table17[[#This Row],[Disposition]]=0,\"\",K95+$F$2))=0+$F$2,\"NEVER CALIBRATED\",IF(Table17[[#This Row],[Disposition]]=\"Retired\",\"N/A\",IF(Table17[[#This Row],[Disposition]]=0,\"\",K95+$F$2)))","v":""},{"$f":"IF(Table17[[#This Row],[Disposition]]=\"\",\"\",IF(AND(Table17[[#This Row],[Next Calibration]]<$E$1,Table17[[#This Row],[Disposition]]=\"Lost\"),\"Find and Calibrate\",IF(Table17[[#This Row],[Disposition]]=\"Lost\",\"Find\",IF(OR(Table17[[#This Row],[Next Calibration]]<$E$1,Table17[[#This Row],[Next Calibration]]=\"NEVER CALIBRATED\"),\"Calibrate\",\"Nominal\"))))","v":""},{"$f":"IF(((Table17[[#This Row],[Next Calibration]]-TODAY())/30)>2,\"More Than 2\",IF(((Table17[[#This Row],[Next Calibration]]-TODAY())/30)>1,\"Between 2 and 1\",\"Less than 1\"))","v":{"$error":"#VALUE!"}},{"$f":"IF(Table17[[#This Row],[Issued]]=\"\",\"\",IF(Table17[[#This Row],[Lent]]=\"\",0,1))","v":""},{"$f":"IF(Table17[[#This Row],[Lent]]=\"\",\"\",IF(Table17[[#This Row],[Returned]]=\"\",0,1))","v":""}]
[{"$nulls":11},{"$f":"IF(IF(Table17[[#This Row],[Disposition]]=\"Retired\",\"N/A\",IF(Table17[[#This Row],[Disposition]]=0,\"\",K96+$F$2))=0+$F$2,\"NEVER CALIBRATED\",IF(Table17[[#This Row],[Disposition]]=\"Retired\",\"N/A\",IF(Table17[[#This Row],[Disposition]]=0,\"\",K96+$F$2)))","v":""},{"$f":"IF(Table17[[#This Row],[Disposition]]=\"\",\"\",IF(AND(Table17[[#This Row],[Next Calibration]]<$E$1,Table17[[#This Row],[Disposition]]=\"Lost\"),\"Find and Calibrate\",IF(Table17[[#This Row],[Disposition]]=\"Lost\",\"Find\",IF(OR(Table17[[#This Row],[Next Calibration]]<$E$1,Table17[[#This Row],[Next Calibration]]=\"NEVER CALIBRATED\"),\"Calibrate\",\"Nominal\"))))","v":""},{"$f":"IF(((Table17[[#This Row],[Next Calibration]]-TODAY())/30)>2,\"More Than 2\",IF(((Table17[[#This Row],[Next Calibration]]-TODAY())/30)>1,\"Between 2 and 1\",\"Less than 1\"))","v":{"$error":"#VALUE!"}},{"$f":"IF(Table17[[#This Row],[Issued]]=\"\",\"\",IF(Table17[[#This Row],[Lent]]=\"\",0,1))","v":""},{"$f":"IF(Table17[[#This Row],[Lent]]=\"\",\"\",IF(Table17[[#This Row],[Returned]]=\"\",0,1))","v":""}]
[{"$nulls":11},{"$f":"IF(IF(Table17[[#This Row],[Disposition]]=\"Retired\",\"N/A\",IF(Table17[[#This Row],[Disposition]]=0,\"\",K97+$F$2))=0+$F$2,\"NEVER CALIBRATED\",IF(Table17[[#This Row],[Disposition]]=\"Retired\",\"N/A\",IF(Table17[[#This Row],[Disposition]]=0,\"\",K97+$F$2)))","v":""},{"$f":"IF(Table17[[#This Row],[Disposition]]=\"\",\"\",IF(AND(Table17[[#This Row],[Next Calibration]]<$E$1,Table17[[#This Row],[Disposition]]=\"Lost\"),\"Find and Calibrate\",IF(Table17[[#This Row],[Disposition]]=\"Lost\",\"Find\",IF(OR(Table17[[#This Row],[Next Calibration]]<$E$1,Table17[[#This Row],[Next Calibration]]=\"NEVER CALIBRATED\"),\"Calibrate\",\"Nominal\"))))","v":""},{"$f":"IF(((Table17[[#This Row],[Next Calibration]]-TODAY())/30)>2,\"More Than 2\",IF(((Table17[[#This Row],[Next Calibration]]-TODAY())/30)>1,\"Between 2 and 1\",\"Less than 1\"))","v":{"$error":"#VALUE!"}},{"$f":"IF(Table17[[#This Row],[Issued]]=\"\",\"\",IF(Table17[[#This Row],[Lent]]=\"\",0,1))","v":""},{"$f":"IF(Table17[[#This Row],[Lent]]=\"\",\"\",IF(Table17[[#This Row],[Returned]]=\"\",0,1))","v":""}]
[{"$nulls":11},{"$f":"IF(IF(Table17[[#This Row],[Disposition]]=\"Retired\",\"N/A\",IF(Table17[[#This Row],[Disposition]]=0,\"\",K98+$F$2))=0+$F$2,\"NEVER CALIBRATED\",IF(Table17[[#This Row],[Disposition]]=\"Retired\",\"N/A\",IF(Table17[[#This Row],[Disposition]]=0,\"\",K98+$F$2)))","v":""},{"$f":"IF(Table17[[#This Row],[Disposition]]=\"\",\"\",IF(AND(Table17[[#This Row],[Next Calibration]]<$E$1,Table17[[#This Row],[Disposition]]=\"Lost\"),\"Find and Calibrate\",IF(Table17[[#This Row],[Disposition]]=\"Lost\",\"Find\",IF(OR(Table17[[#This Row],[Next Calibration]]<$E$1,Table17[[#This Row],[Next Calibration]]=\"NEVER CALIBRATED\"),\"Calibrate\",\"Nominal\"))))","v":""},{"$f":"IF(((Table17[[#This Row],[Next Calibration]]-TODAY())/30)>2,\"More Than 2\",IF(((Table17[[#This Row],[Next Calibration]]-TODAY())/30)>1,\"Between 2 and 1\",\"Less than 1\"))","v":{"$error":"#VALUE!"}},{"$f":"IF(Table17[[#This Row],[Issued]]=\"\",\"\",IF(Table17[[#This Row],[Lent]]=\"\",0,1))","v":""},{"$f":"IF(Table17[[#This Row],[Lent]]=\"\",\"\",IF(Table17[[#This Row],[Returned]]=\"\",0,1))","v":""}]
[{"$nulls":11},{"$f":"IF(IF(Table17[[#This Row],[Disposition]]=\"Retired\",\"N/A\",IF(Table17[[#This Row],[Disposition]]=0,\"\",K99+$F$2))=0+$F$2,\"NEVER CALIBRATED\",IF(Table17[[#This Row],[Disposition]]=\"Retired\",\"N/A\",IF(Table17[[#This Row],[Disposition]]=0,\"\",K99+$F$2)))","v":""},{"$f":"IF(Table17[[#This Row],[Disposition]]=\"\",\"\",IF(AND(Table17[[#This Row],[Next Calibration]]<$E$1,Table17[[#This Row],[Disposition]]=\"Lost\"),\"Find and Calibrate\",IF(Table17[[#This Row],[Disposition]]=\"Lost\",\"Find\",IF(OR(Table17[[#This Row],[Next Calibration]]<$E$1,Table17[[#This Row],[Next Calibration]]=\"NEVER CALIBRATED\"),\"Calibrate\",\"Nominal\"))))","v":""},{"$f":"IF(((Table17[[#This Row],[Next Calibration]]-TODAY())/30)>2,\"More Than 2\",IF(((Table17[[#This Row],[Next Calibration]]-TODAY())/30)>1,\"Between 2 and 1\",\"Less than 1\"))","v":{"$error":"#VALUE!"}},{"$f":"IF(Table17[[#This Row],[Issued]]=\"\",\"\",IF(Table17[[#This Row],[Lent]]=\"\",0,1))","v":""},{"$f":"IF(Table17[[#This Row],[Lent]]=\"\",\"\",IF(Table17[[#This Row],[Returned]]=\"\",0,1))","v":""}]
[{"$nulls":11},{"$f":"IF(IF(Table17[[#This Row],[Disposition]]=\"Retired\",\"N/A\",IF(Table17[[#This Row],[Disposition]]=0,\"\",K100+$F$2))=0+$F$2,\"NEVER CALIBRATED\",IF(Table17[[#This Row],[Disposition]]=\"Retired\",\"N/A\",IF(Table17[[#This Row],[Disposition]]=0,\"\",K100+$F$2)))","v":""},{"$f":"IF(Table17[[#This Row],[Disposition]]=\"\",\"\",IF(AND(Table17[[#This Row],[Next Calibration]]<$E$1,Table17[[#This Row],[Disposition]]=\"Lost\"),\"Find and Calibrate\",IF(Table17[[#This Row],[Disposition]]=\"Lost\",\"Find\",IF(OR(Table17[[#This Row],[Next Calibration]]<$E$1,Table17[[#This Row],[Next Calibration]]=\"NEVER CALIBRATED\"),\"Calibrate\",\"Nominal\"))))","v":""},{"$f":"IF(((Table17[[#This Row],[Next Calibration]]-TODAY())/30)>2,\"More Than 2\",IF(((Table17[[#This Row],[Next Calibration]]-TODAY())/30)>1,\"Between 2 and 1\",\"Less than 1\"))","v":{"$error":"#VALUE!"}},{"$f":"IF(Table17[[#This Row],[Issued]]=\"\",\"\",IF(Table17[[#This Row],[Lent]]=\"\",0,1))","v":""},{"$f":"IF(Table17[[#This Row],[Lent]]=\"\",\"\",IF(Table17[[#This Row],[Returned]]=\"\",0,1))","v":""}]
[{"$nulls":11},{"$f":"IF(IF(Table17[[#This Row],[Disposition]]=\"Retired\",\"N/A\",IF(Table17[[#This Row],[Disposition]]=0,\"\",K101+$F$2))=0+$F$2,\"NEVER CALIBRATED\",IF(Table17[[#This Row],[Disposition]]=\"Retired\",\"N/A\",IF(Table17[[#This Row],[Disposition]]=0,\"\",K101+$F$2)))","v":""},{"$f":"IF(Table17[[#This Row],[Disposition]]=\"\",\"\",IF(AND(Table17[[#This Row],[Next Calibration]]<$E$1,Table17[[#This Row],[Disposition]]=\"Lost\"),\"Find and Calibrate\",IF(Table17[[#This Row],[Disposition]]=\"Lost\",\"Find\",IF(OR(Table17[[#This Row],[Next Calibration]]<$E$1,Table17[[#This Row],[Next Calibration]]=\"NEVER CALIBRATED\"),\"Calibrate\",\"Nominal\"))))","v":""},{"$f":"IF(((Table17[[#This Row],[Next Calibration]]-TODAY())/30)>2,\"More Than 2\",IF(((Table17[[#This Row],[Next Calibration]]-TODAY())/30)>1,\"Between 2 and 1\",\"Less than 1\"))","v":{"$error":"#VALUE!"}},{"$f":"IF(Table17[[#This Row],[Issued]]=\"\",\"\",IF(Table17[[#This Row],[Lent]]=\"\",0,1))","v":""},{"$f":"IF(Table17[[#This Row],[Lent]]=\"\",\"\",IF(Table17[[#This Row],[Returned]]=\"\",0,1))","v":""}]
[{"$nulls":11},{"$f":"IF(IF(Table17[[#This Row],[Disposition]]=\"Retired\",\"N/A\",IF(Table17[[#This Row],[Disposition]]=0,\"\",K102+$F$2))=0+$F$2,\"NEVER CALIBRATED\",IF(Table17[[#This Row],[Disposition]]=\"Retired\",\"N/A\",IF(Table17[[#This Row],[Disposition]]=0,\"\",K102+$F$2)))","v":""},{"$f":"IF(Table17[[#This Row],[Disposition]]=\"\",\"\",IF(AND(Table17[[#This Row],[Next Calibration]]<$E$1,Table17[[#This Row],[Disposition]]=\"Lost\"),\"Find and Calibrate\",IF(Table17[[#This Row],[Disposition]]=\"Lost\",\"Find\",IF(OR(Table17[[#This Row],[Next Calibration]]<$E$1,Table17[[#This Row],[Next Calibration]]=\"NEVER CALIBRATED\"),\"Calibrate\",\"Nominal\"))))","v":""},{"$f":"IF(((Table17[[#This Row],[Next Calibration]]-TODAY())/30)>2,\"More Than 2\",IF(((Table17[[#This Row],[Next Calibration]]-TODAY())/30)>1,\"Between 2 and 1\",\"Less than 1\"))","v":{"$error":"#VALUE!"}},{"$f":"IF(Table17[[#This Row],[Issued]]=\"\",\"\",IF(Table17[[#This Row],[Lent]]=\"\",0,1))","v":""},{"$f":"IF(Table17[[#This Row],[Lent]]=\"\",\"\",IF(Table17[[#This Row],[Returned]]=\"\",0,1))","v":""}]
[{"$nulls":11},{"$f":"IF(IF(Table17[[#This Row],[Disposition]]=\"Retired\",\"N/A\",IF(Table17[[#This Row],[Disposition]]=0,\"\",K103+$F$2))=0+$F$2,\"NEVER CALIBRATED\",IF(Table17[[#This Row],[Disposition]]=\"Retired\",\"N/A\",IF(Table17[[#This Row],[Disposition]]=0,\"\",K103+$F$2)))","v":""},{"$f":"IF(Table17[[#This Row],[Disposition]]=\"\",\"\",IF(AND(Table17[[#This Row],[Next Calibration]]<$E$1,Table17[[#This Row],[Disposition]]=\"Lost\"),\"Find and Calibrate\",IF(Table17[[#This Row],[Disposition]]=\"Lost\",\"Find\",IF(OR(Table17[[#This Row],[Next Calibration]]<$E$1,Table17[[#This Row],[Next Calibration]]=\"NEVER CALIBRATED\"),\"Calibrate\",\"Nominal\"))))","v":""},{"$f":"IF(((Table17[[#This Row],[Next Calibration]]-TODAY())/30)>2,\"More Than 2\",IF(((Table17[[#This Row],[Next Calibration]]-TODAY())/30)>1,\"Between 2 and 1\",\"Less than 1\"))","v":{"$error":"#VALUE!"}},{"$f":"IF(Table17[[#This Row],[Issued]]=\"\",\"\",IF(Table17[[#This Row],[Lent]]=\"\",0,1))","v":""},{"$f":"IF(Table17[[#This Row],[Lent]]=\"\",\"\",IF(Table17[[#This Row],[Returned]]=\"\",0,1))","v":""}]
[{"$nulls":11},{"$f":"IF(IF(Table17[[#This Row],[Disposition]]=\"Retired\",\"N/A\",IF(Table17[[#This Row],[Disposition]]=0,\"\",K104+$F$2))=0+$F$2,\"NEVER CALIBRATED\",IF(Table17[[#This Row],[Disposition]]=\"Retired\",\"N/A\",IF(Table17[[#This Row],[Disposition]]=0,\"\",K104+$F$2)))","v":""},{"$f":"IF(Table17[[#This Row],[Disposition]]=\"\",\"\",IF(AND(Table17[[#This Row],[Next Calibration]]<$E$1,Table17[[#This Row],[Disposition]]=\"Lost\"),\"Find and Calibrate\",IF(Table17[[#This Row],[Disposition]]=\"Lost\",\"Find\",IF(OR(Table17[[#This Row],[Next Calibration]]<$E$1,Table17[[#This Row],[Next Calibration]]=\"NEVER CALIBRATED\"),\"Calibrate\",\"Nominal\"))))","v":""},{"$f":"IF(((Table17[[#This Row],[Next Calibration]]-TODAY())/30)>2,\"More Than 2\",IF(((Table17[[#This Row],[Next Calibration]]-TODAY())/30)>1,\"Between 2 and 1\",\"Less than 1\"))","v":{"$error":"#VALUE!"}},{"$f":"IF(Table17[[#This Row],[Issued]]=\"\",\"\",IF(Table17[[#This Row],[Lent]]=\"\",0,1))","v":""},{"$f":"IF(Table17[[#This Row],[Lent]]=\"\",\"\",IF(Table17[[#This Row],[Returned]]=\"\",0,1))","v":""}]
[{"$nulls":11},{"$f":"IF(IF(Table17[[#This Row],[Disposition]]=\"Retired\",\"N/A\",IF(Table17[[#This Row],[Disposition]]=0,\"\",K105+$F$2))=0+$F$2,\"NEVER CALIBRATED\",IF(Table17[[#This Row],[Disposition]]=\"Retired\",\"N/A\",IF(Table17[[#This Row],[Disposition]]=0,\"\",K105+$F$2)))","v":""},{"$f":"IF(Table17[[#This Row],[Disposition]]=\"\",\"\",IF(AND(Table17[[#This Row],[Next Calibration]]<$E$1,Table17[[#This Row],[Disposition]]=\"Lost\"),\"Find and Calibrate\",IF(Table17[[#This Row],[Disposition]]=\"Lost\",\"Find\",IF(OR(Table17[[#This Row],[Next Calibration]]<$E$1,Table17[[#This Row],[Next Calibration]]=\"NEVER CALIBRATED\"),\"Calibrate\",\"Nominal\"))))","v":""},{"$f":"IF(((Table17[[#This Row],[Next Calibration]]-TODAY())/30)>2,\"More Than 2\",IF(((Table17[[#This Row],[Next Calibration]]-TODAY())/30)>1,\"Between 2 and 1\",\"Less than 1\"))","v":{"$error":"#VALUE!"}},{"$f":"IF(Table17[[#This Row],[Issued]]=\"\",\"\",IF(Table17[[#This Row],[Lent]]=\"\",0,1))","v":""},{"$f":"IF(Table17[[#This Row],[Lent]]=\"\",\"\",IF(Table17[[#This Row],[Returned]]=\"\",0,1))","v":""}]
[{"$nulls":11},{"$f":"IF(IF(Table17[[#This Row],[Disposition]]=\"Retired\",\"N/A\",IF(Table17[[#This Row],[Disposition]]=0,\"\",K106+$F$2))=0+$F$2,\"NEVER CALIBRATED\",IF(Table17[[#This Row],[Disposition]]=\"Retired\",\"N/A\",IF(Table17[[#This Row],[Disposition]]=0,\"\",K106+$F$2)))","v":""},{"$f":"IF(Table17[[#This Row],[Disposition]]=\"\",\"\",IF(AND(Table17[[#This Row],[Next Calibration]]<$E$1,Table17[[#This Row],[Disposition]]=\"Lost\"),\"Find and Calibrate\",IF(Table17[[#This Row],[Disposition]]=\"Lost\",\"Find\",IF(OR(Table17[[#This Row],[Next Calibration]]<$E$1,Table17[[#This Row],[Next Calibration]]=\"NEVER CALIBRATED\"),\"Calibrate\",\"Nominal\"))))","v":""},{"$f":"IF(((Table17[[#This Row],[Next Calibration]]-TODAY())/30)>2,\"More Than 2\",IF(((Table17[[#This Row],[Next Calibration]]-TODAY())/30)>1,\"Between 2 and 1\",\"Less than 1\"))","v":{"$error":"#VALUE!"}},{"$f":"IF(Table17[[#This Row],[Issued]]=\"\",\"\",IF(Table17[[#This Row],[Lent]]=\"\",0,1))","v":""},{"$f":"IF(Table17[[#This Row],[Lent]]=\"\",\"\",IF(Table17[[#This Row],[Returned]]=\"\",0,1))","v":""}]
[{"$nulls":11},{"$f":"IF(IF(Table17[[#This Row],[Disposition]]=\"Retired\",\"N/A\",IF(Table17[[#This Row],[Disposition]]=0,\"\",K107+$F$2))=0+$F$2,\"NEVER CALIBRATED\",IF(Table17[[#This Row],[Disposition]]=\"Retired\",\"N/A\",IF(Table17[[#This Row],[Disposition]]=0,\"\",K107+$F$2)))","v":""},{"$f":"IF(Table17[[#This Row],[Disposition]]=\"\",\"\",IF(AND(Table17[[#This Row],[Next Calibration]]<$E$1,Table17[[#This Row],[Disposition]]=\"Lost\"),\"Find and Calibrate\",IF(Table17[[#This Row],[Disposition]]=\"Lost\",\"Find\",IF(OR(Table17[[#This Row],[Next Calibration]]<$E$1,Table17[[#This Row],[Next Calibration]]=\"NEVER CALIBRATED\"),\"Calibrate\",\"Nominal\"))))","v":""},{"$f":"IF(((Table17[[#This Row],[Next Calibration]]-TODAY())/30)>2,\"More Than 2\",IF(((Table17[[#This Row],[Next Calibration]]-TODAY())/30)>1,\"Between 2 and 1\",\"Less than 1\"))","v":{"$error":"#VALUE!"}},{"$f":"IF(Table17[[#This Row],[Issued]]=\"\",\"\",IF(Table17[[#This Row],[Lent]]=\"\",0,1))","v":""},{"$f":"IF(Table17[[#This Row],[Lent]]=\"\",\"\",IF(Table17[[#This Row],[Returned]]=\"\",0,1))","v":""}]
[{"$nulls":11},{"$f":"IF(IF(Table17[[#This Row],[Disposition]]=\"Retired\",\"N/A\",IF(Table17[[#This Row],[Disposition]]=0,\"\",K108+$F$2))=0+$F$2,\"NEVER CALIBRATED\",IF(Table17[[#This Row],[Disposition]]=\"Retired\",\"N/A\",IF(Table17[[#This Row],[Disposition]]=0,\"\",K108+$F$2)))","v":""},{"$f":"IF(Table17[[#This Row],[Disposition]]=\"\",\"\",IF(AND(Table17[[#This Row],[Next Calibration]]<$E$1,Table17[[#This Row],[Disposition]]=\"Lost\"),\"Find and Calibrate\",IF(Table17[[#This Row],[Disposition]]=\"Lost\",\"Find\",IF(OR(Table17[[#This Row],[Next Calibration]]<$E$1,Table17[[#This Row],[Next Calibration]]=\"NEVER CALIBRATED\"),\"Calibrate\",\"Nominal\"))))","v":""},{"$f":"IF(((Table17[[#This Row],[Next Calibration]]-TODAY())/30)>2,\"More Than 2\",IF(((Table17[[#This Row],[Next Calibration]]-TODAY())/30)>1,\"Between 2 and 1\",\"Less than 1\"))","v":{"$error":"#VALUE!"}},{"$f":"IF(Table17[[#This Row],[Issued]]=\"\",\"\",IF(Table17[[#This Row],[Lent]]=\"\",0,1))","v":""},{"$f":"IF(Table17[[#This Row],[Lent]]=\"\",\"\",IF(Table17[[#This Row],[Returned]]=\"\",0,1))","v":""}]
[{"$nulls":11},{"$f":"IF(IF(Table17[[#This Row],[Disposition]]=\"Retired\",\"N/A\",IF(Table17[[#This Row],[Disposition]]=0,\"\",K109+$F$2))=0+$F$2,\"NEVER CALIBRATED\",IF(Table17[[#This Row],[Disposition]]=\"Retired\",\"N/A\",IF(Table17[[#This Row],[Disposition]]=0,\"\",K109+$F$2)))","v":""},{"$f":"IF(Table17[[#This Row],[Disposition]]=\"\",\"\",IF(AND(Table17[[#This Row],[Next Calibration]]<$E$1,Table17[[#This Row],[Disposition]]=\"Lost\"),\"Find and Calibrate\",IF(Table17[[#This Row],[Disposition]]=\"Lost\",\"Find\",IF(OR(Table17[[#This Row],[Next Calibration]]<$E$1,Table17[[#This Row],[Next Calibration]]=\"NEVER CALIBRATED\"),\"Calibrate\",\"Nominal\"))))","v":""},{"$f":"IF(((Table17[[#This Row],[Next Calibration]]-TODAY())/30)>2,\"More Than 2\",IF(((Table17[[#This Row],[Next Calibration]]-TODAY())/30)>1,\"Between 2 and 1\",\"Less than 1\"))","v":{"$error":"#VALUE!"}},{"$f":"IF(Table17[[#This Row],[Issued]]=\"\",\"\",IF(Table17[[#This Row],[Lent]]=\"\",0,1))","v":""},{"$f":"IF(Table17[[#This Row],[Lent]]=\"\",\"\",IF(Table17[[#This Row],[Returned]]=\"\",0,1))","v":""}]
[{"$nulls":11},{"$f":"IF(IF(Table17[[#This Row],[Disposition]]=\"Retired\",\"N/A\",IF(Table17[[#This Row],[Disposition]]=0,\"\",K110+$F$2))=0+$F$2,\"NEVER CALIBRATED\",IF(Table17[[#This Row],[Disposition]]=\"Retired\",\"N/A\",IF(Table17[[#This Row],[Disposition]]=0,\"\",K110+$F$2)))","v":""},{"$f":"IF(Table17[[#This Row],[Disposition]]=\"\",\"\",IF(AND(Table17[[#This Row],[Next Calibration]]<$E$1,Table17[[#This Row],[Disposition]]=\"Lost\"),\"Find and Calibrate\",IF(Table17[[#This Row],[Disposition]]=\"Lost\",\"Find\",IF(OR(Table17[[#This Row],[Next Calibration]]<$E$1,Table17[[#This Row],[Next Calibration]]=\"NEVER CALIBRATED\"),\"Calibrate\",\"Nominal\"))))","v":""},{"$f":"IF(((Table17[[#This Row],[Next Calibration]]-TODAY())/30)>2,\"More Than 2\",IF(((Table17[[#This Row],[Next Calibration]]-TODAY())/30)>1,\"Between 2 and 1\",\"Less than 1\"))","v":{"$error":"#VALUE!"}},{"$f":"IF(Table17[[#This Row],[Issued]]=\"\",\"\",IF(Table17[[#This Row],[Lent]]=\"\",0,1))","v":""},{"$f":"IF(Table17[[#This Row],[Lent]]=\"\",\"\",IF(Table17[[#This Row],[Returned]]=\"\",0,1))","v":""}]
[{"$nulls":11},{"$f":"IF(IF(Table17[[#This Row],[Disposition]]=\"Retired\",\"N/A\",IF(Table17[[#This Row],[Disposition]]=0,\"\",K111+$F$2))=0+$F$2,\"NEVER CALIBRATED\",IF(Table17[[#This Row],[Disposition]]=\"Retired\",\"N/A\",IF(Table17[[#This Row],[Disposition]]=0,\"\",K111+$F$2)))","v":""},{"$f":"IF(Table17[[#This Row],[Disposition]]=\"\",\"\",IF(AND(Table17[[#This Row],[Next Calibration]]<$E$1,Table17[[#This Row],[Disposition]]=\"Lost\"),\"Find and Calibrate\",IF(Table17[[#This Row],[Disposition]]=\"Lost\",\"Find\",IF(OR(Table17[[#This Row],[Next Calibration]]<$E$1,Table17[[#This Row],[Next Calibration]]=\"NEVER CALIBRATED\"),\"Calibrate\",\"Nominal\"))))","v":""},{"$f":"IF(((Table17[[#This Row],[Next Calibration]]-TODAY())/30)>2,\"More Than 2\",IF(((Table17[[#This Row],[Next Calibration]]-TODAY())/30)>1,\"Between 2 and 1\",\"Less than 1\"))","v":{"$error":"#VALUE!"}},{"$f":"IF(Table17[[#This Row],[Issued]]=\"\",\"\",IF(Table17[[#This Row],[Lent]]=\"\",0,1))","v":""},{"$f":"IF(Table17[[#This Row],[Lent]]=\"\",\"\",IF(Table17[[#This Row],[Returned]]=\"\",0,1))","v":""}]
[{"$nulls":11},{"$f":"IF(IF(Table17[[#This Row],[Disposition]]=\"Retired\",\"N/A\",IF(Table17[[#This Row],[Disposition]]=0,\"\",K112+$F$2))=0+$F$2,\"NEVER CALIBRATED\",IF(Table17[[#This Row],[Disposition]]=\"Retired\",\"N/A\",IF(Table17[[#This Row],[Disposition]]=0,\"\",K112+$F$2)))","v":""},{"$f":"IF(Table17[[#This Row],[Disposition]]=\"\",\"\",IF(AND(Table17[[#This Row],[Next Calibration]]<$E$1,Table17[[#This Row],[Disposition]]=\"Lost\"),\"Find and Calibrate\",IF(Table17[[#This Row],[Disposition]]=\"Lost\",\"Find\",IF(OR(Table17[[#This Row],[Next Calibration]]<$E$1,Table17[[#This Row],[Next Calibration]]=\"NEVER CALIBRATED\"),\"Calibrate\",\"Nominal\"))))","v":""},{"$f":"IF(((Table17[[#This Row],[Next Calibration]]-TODAY())/30)>2,\"More Than 2\",IF(((Table17[[#This Row],[Next Calibration]]-TODAY())/30)>1,\"Between 2 and 1\",\"Less than 1\"))","v":{"$error":"#VALUE!"}},{"$f":"IF(Table17[[#This Row],[Issued]]=\"\",\"\",IF(Table17[[#This Row],[Lent]]=\"\",0,1))","v":""},{"$f":"IF(Table17[[#This Row],[Lent]]=\"\",\"\",IF(Table17[[#This Row],[Returned]]=\"\",0,1))","v":""}]
[{"$nulls":11},{"$f":"IF(IF(Table17[[#This Row],[Disposition]]=\"Retired\",\"N/A\",IF(Table17[[#This Row],[Disposition]]=0,\"\",K113+$F$2))=0+$F$2,\"NEVER CALIBRATED\",IF(Table17[[#This Row],[Disposition]]=\"Retired\",\"N/A\",IF(Table17[[#This Row],[Disposition]]=0,\"\",K113+$F$2)))","v":""},{"$f":"IF(Table17[[#This Row],[Disposition]]=\"\",\"\",IF(AND(Table17[[#This Row],[Next Calibration]]<$E$1,Table17[[#This Row],[Disposition]]=\"Lost\"),\"Find and Calibrate\",IF(Table17[[#This Row],[Disposition]]=\"Lost\",\"Find\",IF(OR(Table17[[#This Row],[Next Calibration]]<$E$1,Table17[[#This Row],[Next Calibration]]=\"NEVER CALIBRATED\"),\"Calibrate\",\"Nominal\"))))","v":""},{"$f":"IF(((Table17[[#This Row],[Next Calibration]]-TODAY())/30)>2,\"More Than 2\",IF(((Table17[[#This Row],[Next Calibration]]-TODAY())/30)>1,\"Between 2 and 1\",\"Less than 1\"))","v":{"$error":"#VALUE!"}},{"$f":"IF(Table17[[#This Row],[Issued]]=\"\",\"\",IF(Table17[[#This Row],[Lent]]=\"\",0,1))","v":""},{"$f":"IF(Table17[[#This Row],[Lent]]=\"\",\"\",IF(Table17[[#This Row],[Returned]]=\"\",0,1))","v":""}]
[{"$nulls":11},{"$f":"IF(IF(Table17[[#This Row],[Disposition]]=\"Retired\",\"N/A\",IF(Table17[[#This Row],[Disposition]]=0,\"\",K114+$F$2))=0+$F$2,\"NEVER CALIBRATED\",IF(Table17[[#This Row],[Disposition]]=\"Retired\",\"N/A\",IF(Table17[[#This Row],[Disposition]]=0,\"\",K114+$F$2)))","v":""},{"$f":"IF(Table17[[#This Row],[Disposition]]=\"\",\"\",IF(AND(Table17[[#This Row],[Next Calibration]]<$E$1,Table17[[#This Row],[Disposition]]=\"Lost\"),\"Find and Calibrate\",IF(Table17[[#This Row],[Disposition]]=\"Lost\",\"Find\",IF(OR(Table17[[#This Row],[Next Calibration]]<$E$1,Table17[[#This Row],[Next Calibration]]=\"NEVER CALIBRATED\"),\"Calibrate\",\"Nominal\"))))","v":""},{"$f":"IF(((Table17[[#This Row],[Next Calibration]]-TODAY())/30)>2,\"More Than 2\",IF(((Table17[[#This Row],[Next Calibration]]-TODAY())/30)>1,\"Between 2 and 1\",\"Less than 1\"))","v":{"$error":"#VALUE!"}},{"$f":"IF(Table17[[#This Row],[Issued]]=\"\",\"\",IF(Table17[[#This Row],[Lent]]=\"\",0,1))","v":""},{"$f":"IF(Table17[[#This Row],[Lent]]=\"\",\"\",IF(Table17[[#This Row],[Returned]]=\"\",0,1))","v":""}]
[{"$nulls":11},{"$f":"IF(IF(Table17[[#This Row],[Disposition]]=\"Retired\",\"N/A\",IF(Table17[[#This Row],[Disposition]]=0,\"\",K115+$F$2))=0+$F$2,\"NEVER CALIBRATED\",IF(Table17[[#This Row],[Disposition]]=\"Retired\",\"N/A\",IF(Table17[[#This Row],[Disposition]]=0,\"\",K115+$F$2)))","v":""},{"$f":"IF(Table17[[#This Row],[Disposition]]=\"\",\"\",IF(AND(Table17[[#This Row],[Next Calibration]]<$E$1,Table17[[#This Row],[Disposition]]=\"Lost\"),\"Find and Calibrate\",IF(Table17[[#This Row],[Disposition]]=\"Lost\",\"Find\",IF(OR(Table17[[#This Row],[Next Calibration]]<$E$1,Table17[[#This Row],[Next Calibration]]=\"NEVER CALIBRATED\"),\"Calibrate\",\"Nominal\"))))","v":""},{"$f":"IF(((Table17[[#This Row],[Next Calibration]]-TODAY())/30)>2,\"More Than 2\",IF(((Table17[[#This Row],[Next Calibration]]-TODAY())/30)>1,\"Between 2 and 1\",\"Less than 1\"))","v":{"$error":"#VALUE!"}},{"$f":"IF(Table17[[#This Row],[Issued]]=\"\",\"\",IF(Table17[[#This Row],[Lent]]=\"\",0,1))","v":""},{"$f":"IF(Table17[[#This Row],[Lent]]=\"\",\"\",IF(Table17[[#This Row],[Returned]]=\"\",0,1))","v":""}]
[{"$nulls":11},{"$f":"IF(IF(Table17[[#This Row],[Disposition]]=\"Retired\",\"N/A\",IF(Table17[[#This Row],[Disposition]]=0,\"\",K116+$F$2))=0+$F$2,\"NEVER CALIBRATED\",IF(Table17[[#This Row],[Disposition]]=\"Retired\",\"N/A\",IF(Table17[[#This Row],[Disposition]]=0,\"\",K116+$F$2)))","v":""},{"$f":"IF(Table17[[#This Row],[Disposition]]=\"\",\"\",IF(AND(Table17[[#This Row],[Next Calibration]]<$E$1,Table17[[#This Row],[Disposition]]=\"Lost\"),\"Find and Calibrate\",IF(Table17[[#This Row],[Disposition]]=\"Lost\",\"Find\",IF(OR(Table17[[#This Row],[Next Calibration]]<$E$1,Table17[[#This Row],[Next Calibration]]=\"NEVER CALIBRATED\"),\"Calibrate\",\"Nominal\"))))","v":""},{"$f":"IF(((Table17[[#This Row],[Next Calibration]]-TODAY())/30)>2,\"More Than 2\",IF(((Table17[[#This Row],[Next Calibration]]-TODAY())/30)>1,\"Between 2 and 1\",\"Less than 1\"))","v":{"$error":"#VALUE!"}},{"$f":"IF(Table17[[#This Row],[Issued]]=\"\",\"\",IF(Table17[[#This Row],[Lent]]=\"\",0,1))","v":""},{"$f":"IF(Table17[[#This Row],[Lent]]=\"\",\"\",IF(Table17[[#This Row],[Returned]]=\"\",0,1))","v":""}]
[{"$nulls":11},{"$f":"IF(IF(Table17[[#This Row],[Disposition]]=\"Retired\",\"N/A\",IF(Table17[[#This Row],[Disposition]]=0,\"\",K117+$F$2))=0+$F$2,\"NEVER CALIBRATED\",IF(Table17[[#This Row],[Disposition]]=\"Retired\",\"N/A\",IF(Table17[[#This Row],[Disposition]]=0,\"\",K117+$F$2)))","v":""},{"$f":"IF(Table17[[#This Row],[Disposition]]=\"\",\"\",IF(AND(Table17[[#This Row],[Next Calibration]]<$E$1,Table17[[#This Row],[Disposition]]=\"Lost\"),\"Find and Calibrate\",IF(Table17[[#This Row],[Disposition]]=\"Lost\",\"Find\",IF(OR(Table17[[#This Row],[Next Calibration]]<$E$1,Table17[[#This Row],[Next Calibration]]=\"NEVER CALIBRATED\"),\"Calibrate\",\"Nominal\"))))","v":""},{"$f":"IF(((Table17[[#This Row],[Next Calibration]]-TODAY())/30)>2,\"More Than 2\",IF(((Table17[[#This Row],[Next Calibration]]-TODAY())/30)>1,\"Between 2 and 1\",\"Less than 1\"))","v":{"$error":"#VALUE!"}},{"$f":"IF(Table17[[#This Row],[Issued]]=\"\",\"\",IF(Table17[[#This Row],[Lent]]=\"\",0,1))","v":""},{"$f":"IF(Table17[[#This Row],[Lent]]=\"\",\"\",IF(Table17[[#This Row],[Returned]]=\"\",0,1))","v":""}]
[{"$nulls":11},{"$f":"IF(IF(Table17[[#This Row],[Disposition]]=\"Retired\",\"N/A\",IF(Table17[[#This Row],[Disposition]]=0,\"\",K118+$F$2))=0+$F$2,\"NEVER CALIBRATED\",IF(Table17[[#This Row],[Disposition]]=\"Retired\",\"N/A\",IF(Table17[[#This Row],[Disposition]]=0,\"\",K118+$F$2)))","v":""},{"$f":"IF(Table17[[#This Row],[Disposition]]=\"\",\"\",IF(AND(Table17[[#This Row],[Next Calibration]]<$E$1,Table17[[#This Row],[Disposition]]=\"Lost\"),\"Find and Calibrate\",IF(Table17[[#This Row],[Disposition]]=\"Lost\",\"Find\",IF(OR(Table17[[#This Row],[Next Calibration]]<$E$1,Table17[[#This Row],[Next Calibration]]=\"NEVER CALIBRATED\"),\"Calibrate\",\"Nominal\"))))","v":""},{"$f":"IF(((Table17[[#This Row],[Next Calibration]]-TODAY())/30)>2,\"More Than 2\",IF(((Table17[[#This Row],[Next Calibration]]-TODAY())/30)>1,\"Between 2 and 1\",\"Less than 1\"))","v":{"$error":"#VALUE!"}},{"$f":"IF(Table17[[#This Row],[Issued]]=\"\",\"\",IF(Table17[[#This Row],[Lent]]=\"\",0,1))","v":""},{"$f":"IF(Table17[[#This Row],[Lent]]=\"\",\"\",IF(Table17[[#This Row],[Returned]]=\"\",0,1))","v":""}]
[{"$nulls":11},{"$f":"IF(IF(Table17[[#This Row],[Disposition]]=\"Retired\",\"N/A\",IF(Table17[[#This Row],[Disposition]]=0,\"\",K119+$F$2))=0+$F$2,\"NEVER CALIBRATED\",IF(Table17[[#This Row],[Disposition]]=\"Retired\",\"N/A\",IF(Table17[[#This Row],[Disposition]]=0,\"\",K119+$F$2)))","v":""},{"$f":"IF(Table17[[#This Row],[Disposition]]=\"\",\"\",IF(AND(Table17[[#This Row],[Next Calibration]]<$E$1,Table17[[#This Row],[Disposition]]=\"Lost\"),\"Find and Calibrate\",IF(Table17[[#This Row],[Disposition]]=\"Lost\",\"Find\",IF(OR(Table17[[#This Row],[Next Calibration]]<$E$1,Table17[[#This Row],[Next Calibration]]=\"NEVER CALIBRATED\"),\"Calibrate\",\"Nominal\"))))","v":""},{"$f":"IF(((Table17[[#This Row],[Next Calibration]]-TODAY())/30)>2,\"More Than 2\",IF(((Table17[[#This Row],[Next Calibration]]-TODAY())/30)>1,\"Between 2 and 1\",\"Less than 1\"))","v":{"$error":"#VALUE!"}},{"$f":"IF(Table17[[#This Row],[Issued]]=\"\",\"\",IF(Table17[[#This Row],[Lent]]=\"\",0,1))","v":""},{"$f":"IF(Table17[[#This Row],[Lent]]=\"\",\"\",IF(Table17[[#This Row],[Returned]]=\"\",0,1))","v":""}]
[{"$nulls":11},{"$f":"IF(IF(Table17[[#This Row],[Disposition]]=\"Retired\",\"N/A\",IF(Table17[[#This Row],[Disposition]]=0,\"\",K120+$F$2))=0+$F$2,\"NEVER CALIBRATED\",IF(Table17[[#This Row],[Disposition]]=\"Retired\",\"N/A\",IF(Table17[[#This Row],[Disposition]]=0,\"\",K120+$F$2)))","v":""},{"$f":"IF(Table17[[#This Row],[Disposition]]=\"\",\"\",IF(AND(Table17[[#This Row],[Next Calibration]]<$E$1,Table17[[#This Row],[Disposition]]=\"Lost\"),\"Find and Calibrate\",IF(Table17[[#This Row],[Disposition]]=\"Lost\",\"Find\",IF(OR(Table17[[#This Row],[Next Calibration]]<$E$1,Table17[[#This Row],[Next Calibration]]=\"NEVER CALIBRATED\"),\"Calibrate\",\"Nominal\"))))","v":""},{"$f":"IF(((Table17[[#This Row],[Next Calibration]]-TODAY())/30)>2,\"More Than 2\",IF(((Table17[[#This Row],[Next Calibration]]-TODAY())/30)>1,\"Between 2 and 1\",\"Less than 1\"))","v":{"$error":"#VALUE!"}},{"$f":"IF(Table17[[#This Row],[Issued]]=\"\",\"\",IF(Table17[[#This Row],[Lent]]=\"\",0,1))","v":""},{"$f":"IF(Table17[[#This Row],[Lent]]=\"\",\"\",IF(Table17[[#This Row],[Returned]]=\"\",0,1))","v":""}]
[{"$nulls":11},{"$f":"IF(IF(Table17[[#This Row],[Disposition]]=\"Retired\",\"N/A\",IF(Table17[[#This Row],[Disposition]]=0,\"\",K121+$F$2))=0+$F$2,\"NEVER CALIBRATED\",IF(Table17[[#This Row],[Disposition]]=\"Retired\",\"N/A\",IF(Table17[[#This Row],[Disposition]]=0,\"\",K121+$F$2)))","v":""},{"$f":"IF(Table17[[#This Row],[Disposition]]=\"\",\"\",IF(AND(Table17[[#This Row],[Next Calibration]]<$E$1,Table17[[#This Row],[Disposition]]=\"Lost\"),\"Find and Calibrate\",IF(Table17[[#This Row],[Disposition]]=\"Lost\",\"Find\",IF(OR(Table17[[#This Row],[Next Calibration]]<$E$1,Table17[[#This Row],[Next Calibration]]=\"NEVER CALIBRATED\"),\"Calibrate\",\"Nominal\"))))","v":""},{"$f":"IF(((Table17[[#This Row],[Next Calibration]]-TODAY())/30)>2,\"More Than 2\",IF(((Table17[[#This Row],[Next Calibration]]-TODAY())/30)>1,\"Between 2 and 1\",\"Less than 1\"))","v":{"$error":"#VALUE!"}},{"$f":"IF(Table17[[#This Row],[Issued]]=\"\",\"\",IF(Table17[[#This Row],[Lent]]=\"\",0,1))","v":""},{"$f":"IF(Table17[[#This Row],[Lent]]=\"\",\"\",IF(Table17[[#This Row],[Returned]]=\"\",0,1))","v":""}]
[{"$nulls":11},{"$f":"IF(IF(Table17[[#This Row],[Disposition]]=\"Retired\",\"N/A\",IF(Table17[[#This Row],[Disposition]]=0,\"\",K122+$F$2))=0+$F$2,\"NEVER CALIBRATED\",IF(Table17[[#This Row],[Disposition]]=\"Retired\",\"N/A\",IF(Table17[[#This Row],[Disposition]]=0,\"\",K122+$F$2)))","v":""},{"$f":"IF(Table17[[#This Row],[Disposition]]=\"\",\"\",IF(AND(Table17[[#This Row],[Next Calibration]]<$E$1,Table17[[#This Row],[Disposition]]=\"Lost\"),\"Find and Calibrate\",IF(Table17[[#This Row],[Disposition]]=\"Lost\",\"Find\",IF(OR(Table17[[#This Row],[Next Calibration]]<$E$1,Table17[[#This Row],[Next Calibration]]=\"NEVER CALIBRATED\"),\"Calibrate\",\"Nominal\"))))","v":""},{"$f":"IF(((Table17[[#This Row],[Next Calibration]]-TODAY())/30)>2,\"More Than 2\",IF(((Table17[[#This Row],[Next Calibration]]-TODAY())/30)>1,\"Between 2 and 1\",\"Less than 1\"))","v":{"$error":"#VALUE!"}},{"$f":"IF(Table17[[#This Row],[Issued]]=\"\",\"\",IF(Table17[[#This Row],[Lent]]=\"\",0,1))","v":""},{"$f":"IF(Table17[[#This Row],[Lent]]=\"\",\"\",IF(Table17[[#This Row],[Returned]]=\"\",0,1))","v":""}]
[{"$nulls":11},{"$f":"IF(IF(Table17[[#This Row],[Disposition]]=\"Retired\",\"N/A\",IF(Table17[[#This Row],[Disposition]]=0,\"\",K123+$F$2))=0+$F$2,\"NEVER CALIBRATED\",IF(Table17[[#This Row],[Disposition]]=\"Retired\",\"N/A\",IF(Table17[[#This Row],[Disposition]]=0,\"\",K123+$F$2)))","v":""},{"$f":"IF(Table17[[#This Row],[Disposition]]=\"\",\"\",IF(AND(Table17[[#This Row],[Next Calibration]]<$E$1,Table17[[#This Row],[Disposition]]=\"Lost\"),\"Find and Calibrate\",IF(Table17[[#This Row],[Disposition]]=\"Lost\",\"Find\",IF(OR(Table17[[#This Row],[Next Calibration]]<$E$1,Table17[[#This Row],[Next Calibration]]=\"NEVER CALIBRATED\"),\"Calibrate\",\"Nominal\"))))","v":""},{"$f":"IF(((Table17[[#This Row],[Next Calibration]]-TODAY())/30)>2,\"More Than 2\",IF(((Table17[[#This Row],[Next Calibration]]-TODAY())/30)>1,\"Between 2 and 1\",\"Less than 1\"))","v":{"$error":"#VALUE!"}},{"$f":"IF(Table17[[#This Row],[Issued]]=\"\",\"\",IF(Table17[[#This Row],[Lent]]=\"\",0,1))","v":""},{"$f":"IF(Table17[[#This Row],[Lent]]=\"\",\"\",IF(Table17[[#This Row],[Returned]]=\"\",0,1))","v":""}]
[{"$nulls":11},{"$f":"IF(IF(Table17[[#This Row],[Disposition]]=\"Retired\",\"N/A\",IF(Table17[[#This Row],[Disposition]]=0,\"\",K124+$F$2))=0+$F$2,\"NEVER CALIBRATED\",IF(Table17[[#This Row],[Disposition]]=\"Retired\",\"N/A\",IF(Table17[[#This Row],[Disposition]]=0,\"\",K124+$F$2)))","v":""},{"$f":"IF(Table17[[#This Row],[Disposition]]=\"\",\"\",IF(AND(Table17[[#This Row],[Next Calibration]]<$E$1,Table17[[#This Row],[Disposition]]=\"Lost\"),\"Find and Calibrate\",IF(Table17[[#This Row],[Disposition]]=\"Lost\",\"Find\",IF(OR(Table17[[#This Row],[Next Calibration]]<$E$1,Table17[[#This Row],[Next Calibration]]=\"NEVER CALIBRATED\"),\"Calibrate\",\"Nominal\"))))","v":""},{"$f":"IF(((Table17[[#This Row],[Next Calibration]]-TODAY())/30)>2,\"More Than 2\",IF(((Table17[[#This Row],[Next Calibration]]-TODAY())/30)>1,\"Between 2 and 1\",\"Less than 1\"))","v":{"$error":"#VALUE!"}},{"$f":"IF(Table17[[#This Row],[Issued]]=\"\",\"\",IF(Table17[[#This Row],[Lent]]=\"\",0,1))","v":""},{"$f":"IF(Table17[[#This Row],[Lent]]=\"\",\"\",IF(Table17[[#This Row],[Returned]]=\"\",0,1))","v":""}]
[{"$nulls":11},{"$f":"IF(IF(Table17[[#This Row],[Disposition]]=\"Retired\",\"N/A\",IF(Table17[[#This Row],[Disposition]]=0,\"\",K125+$F$2))=0+$F$2,\"NEVER CALIBRATED\",IF(Table17[[#This Row],[Disposition]]=\"Retired\",\"N/A\",IF(Table17[[#This Row],[Disposition]]=0,\"\",K125+$F$2)))","v":""},{"$f":"IF(Table17[[#This Row],[Disposition]]=\"\",\"\",IF(AND(Table17[[#This Row],[Next Calibration]]<$E$1,Table17[[#This Row],[Disposition]]=\"Lost\"),\"Find and Calibrate\",IF(Table17[[#This Row],[Disposition]]=\"Lost\",\"Find\",IF(OR(Table17[[#This Row],[Next Calibration]]<$E$1,Table17[[#This Row],[Next Calibration]]=\"NEVER CALIBRATED\"),\"Calibrate\",\"Nominal\"))))","v":""},{"$f":"IF(((Table17[[#This Row],[Next Calibration]]-TODAY())/30)>2,\"More Than 2\",IF(((Table17[[#This Row],[Next Calibration]]-TODAY())/30)>1,\"Between 2 and 1\",\"Less than 1\"))","v":{"$error":"#VALUE!"}},{"$f":"IF(Table17[[#This Row],[Issued]]=\"\",\"\",IF(Table17[[#This Row],[Lent]]=\"\",0,1))","v":""},{"$f":"IF(Table17[[#This Row],[Lent]]=\"\",\"\",IF(Table17[[#This Row],[Returned]]=\"\",0,1))","v":""}]
[{"$nulls":11},{"$f":"IF(IF(Table17[[#This Row],[Disposition]]=\"Retired\",\"N/A\",IF(Table17[[#This Row],[Disposition]]=0,\"\",K126+$F$2))=0+$F$2,\"NEVER CALIBRATED\",IF(Table17[[#This Row],[Disposition]]=\"Retired\",\"N/A\",IF(Table17[[#This Row],[Disposition]]=0,\"\",K126+$F$2)))","v":""},{"$f":"IF(Table17[[#This Row],[Disposition]]=\"\",\"\",IF(AND(Table17[[#This Row],[Next Calibration]]<$E$1,Table17[[#This Row],[Disposition]]=\"Lost\"),\"Find and Calibrate\",IF(Table17[[#This Row],[Disposition]]=\"Lost\",\"Find\",IF(OR(Table17[[#This Row],[Next Calibration]]<$E$1,Table17[[#This Row],[Next Calibration]]=\"NEVER CALIBRATED\"),\"Calibrate\",\"Nominal\"))))","v":""},{"$f":"IF(((Table17[[#This Row],[Next Calibration]]-TODAY())/30)>2,\"More Than 2\",IF(((Table17[[#This Row],[Next Calibration]]-TODAY())/30)>1,\"Between 2 and 1\",\"Less than 1\"))","v":{"$error":"#VALUE!"}},{"$f":"IF(Table17[[#This Row],[Issued]]=\"\",\"\",IF(Table17[[#This Row],[Lent]]=\"\",0,1))","v":""},{"$f":"IF(Table17[[#This Row],[Lent]]=\"\",\"\",IF(Table17[[#This Row],[Returned]]=\"\",0,1))","v":""}]
[{"$nulls":11},{"$f":"IF(IF(Table17[[#This Row],[Disposition]]=\"Retired\",\"N/A\",IF(Table17[[#This Row],[Disposition]]=0,\"\",K127+$F$2))=0+$F$2,\"NEVER CALIBRATED\",IF(Table17[[#This Row],[Disposition]]=\"Retired\",\"N/A\",IF(Table17[[#This Row],[Disposition]]=0,\"\",K127+$F$2)))","v":""},{"$f":"IF(Table17[[#This Row],[Disposition]]=\"\",\"\",IF(AND(Table17[[#This Row],[Next Calibration]]<$E$1,Table17[[#This Row],[Disposition]]=\"Lost\"),\"Find and Calibrate\",IF(Table17[[#This Row],[Disposition]]=\"Lost\",\"Find\",IF(OR(Table17[[#This Row],[Next Calibration]]<$E$1,Table17[[#This Row],[Next Calibration]]=\"NEVER CALIBRATED\"),\"Calibrate\",\"Nominal\"))))","v":""},{"$f":"IF(((Table17[[#This Row],[Next Calibration]]-TODAY())/30)>2,\"More Than 2\",IF(((Table17[[#This Row],[Next Calibration]]-TODAY())/30)>1,\"Between 2 and 1\",\"Less than 1\"))","v":{"$error":"#VALUE!"}},{"$f":"IF(Table17[[#This Row],[Issued]]=\"\",\"\",IF(Table17[[#This Row],[Lent]]=\"\",0,1))","v":""},{"$f":"IF(Table17[[#This Row],[Lent]]=\"\",\"\",IF(Table17[[#This Row],[Returned]]=\"\",0,1))","v":""}]
[{"$nulls":11},{"$f":"IF(IF(Table17[[#This Row],[Disposition]]=\"Retired\",\"N/A\",IF(Table17[[#This Row],[Disposition]]=0,\"\",K128+$F$2))=0+$F$2,\"NEVER CALIBRATED\",IF(Table17[[#This Row],[Disposition]]=\"Retired\",\"N/A\",IF(Table17[[#This Row],[Disposition]]=0,\"\",K128+$F$2)))","v":""},{"$f":"IF(Table17[[#This Row],[Disposition]]=\"\",\"\",IF(AND(Table17[[#This Row],[Next Calibration]]<$E$1,Table17[[#This Row],[Disposition]]=\"Lost\"),\"Find and Calibrate\",IF(Table17[[#This Row],[Disposition]]=\"Lost\",\"Find\",IF(OR(Table17[[#This Row],[Next Calibration]]<$E$1,Table17[[#This Row],[Next Calibration]]=\"NEVER CALIBRATED\"),\"Calibrate\",\"Nominal\"))))","v":""},{"$f":"IF(((Table17[[#This Row],[Next Calibration]]-TODAY())/30)>2,\"More Than 2\",IF(((Table17[[#This Row],[Next Calibration]]-TODAY())/30)>1,\"Between 2 and 1\",\"Less than 1\"))","v":{"$error":"#VALUE!"}},{"$f":"IF(Table17[[#This Row],[Issued]]=\"\",\"\",IF(Table17[[#This Row],[Lent]]=\"\",0,1))","v":""},{"$f":"IF(Table17[[#This Row],[Lent]]=\"\",\"\",IF(Table17[[#This Row],[Returned]]=\"\",0,1))","v":""}]
[{"$nulls":11},{"$f":"IF(IF(Table17[[#This Row],[Disposition]]=\"Retired\",\"N/A\",IF(Table17[[#This Row],[Disposition]]=0,\"\",K129+$F$2))=0+$F$2,\"NEVER CALIBRATED\",IF(Table17[[#This Row],[Disposition]]=\"Retired\",\"N/A\",IF(Table17[[#This Row],[Disposition]]=0,\"\",K129+$F$2)))","v":""},{"$f":"IF(Table17[[#This Row],[Disposition]]=\"\",\"\",IF(AND(Table17[[#This Row],[Next Calibration]]<$E$1,Table17[[#This Row],[Disposition]]=\"Lost\"),\"Find and Calibrate\",IF(Table17[[#This Row],[Disposition]]=\"Lost\",\"Find\",IF(OR(Table17[[#This Row],[Next Calibration]]<$E$1,Table17[[#This Row],[Next Calibration]]=\"NEVER CALIBRATED\"),\"Calibrate\",\"Nominal\"))))","v":""},{"$f":"IF(((Table17[[#This Row],[Next Calibration]]-TODAY())/30)>2,\"More Than 2\",IF(((Table17[[#This Row],[Next Calibration]]-TODAY())/30)>1,\"Between 2 and 1\",\"Less than 1\"))","v":{"$error":"#VALUE!"}},{"$f":"IF(Table17[[#This Row],[Issued]]=\"\",\"\",IF(Table17[[#This Row],[Lent]]=\"\",0,1))","v":""},{"$f":"IF(Table17[[#This Row],[Lent]]=\"\",\"\",IF(Table17[[#This Row],[Returned]]=\"\",0,1))","v":""}]
[{"$nulls":11},{"$f":"IF(IF(Table17[[#This Row],[Disposition]]=\"Retired\",\"N/A\",IF(Table17[[#This Row],[Disposition]]=0,\"\",K130+$F$2))=0+$F$2,\"NEVER CALIBRATED\",IF(Table17[[#This Row],[Disposition]]=\"Retired\",\"N/A\",IF(Table17[[#This Row],[Disposition]]=0,\"\",K130+$F$2)))","v":""},{"$f":"IF(Table17[[#This Row],[Disposition]]=\"\",\"\",IF(AND(Table17[[#This Row],[Next Calibration]]<$E$1,Table17[[#This Row],[Disposition]]=\"Lost\"),\"Find and Calibrate\",IF(Table17[[#This Row],[Disposition]]=\"Lost\",\"Find\",IF(OR(Table17[[#This Row],[Next Calibration]]<$E$1,Table17[[#This Row],[Next Calibration]]=\"NEVER CALIBRATED\"),\"Calibrate\",\"Nominal\"))))","v":""},{"$f":"IF(((Table17[[#This Row],[Next Calibration]]-TODAY())/30)>2,\"More Than 2\",IF(((Table17[[#This Row],[Next Calibration]]-TODAY())/30)>1,\"Between 2 and 1\",\"Less than 1\"))","v":{"$error":"#VALUE!"}},{"$f":"IF(Table17[[#This Row],[Issued]]=\"\",\"\",IF(Table17[[#This Row],[Lent]]=\"\",0,1))","v":""},{"$f":"IF(Table17[[#This Row],[Lent]]=\"\",\"\",IF(Table17[[#This Row],[Returned]]=\"\",0,1))","v":""}]
[{"$nulls":11},{"$f":"IF(IF(Table17[[#This Row],[Disposition]]=\"Retired\",\"N/A\",IF(Table17[[#This Row],[Disposition]]=0,\"\",K131+$F$2))=0+$F$2,\"NEVER CALIBRATED\",IF(Table17[[#This Row],[Disposition]]=\"Retired\",\"N/A\",IF(Table17[[#This Row],[Disposition]]=0,\"\",K131+$F$2)))","v":""},{"$f":"IF(Table17[[#This Row],[Disposition]]=\"\",\"\",IF(AND(Table17[[#This Row],[Next Calibration]]<$E$1,Table17[[#This Row],[Disposition]]=\"Lost\"),\"Find and Calibrate\",IF(Table17[[#This Row],[Disposition]]=\"Lost\",\"Find\",IF(OR(Table17[[#This Row],[Next Calibration]]<$E$1,Table17[[#This Row],[Next Calibration]]=\"NEVER CALIBRATED\"),\"Calibrate\",\"Nominal\"))))","v":""},{"$f":"IF(((Table17[[#This Row],[Next Calibration]]-TODAY())/30)>2,\"More Than 2\",IF(((Table17[[#This Row],[Next Calibration]]-TODAY())/30)>1,\"Between 2 and 1\",\"Less than 1\"))","v":{"$error":"#VALUE!"}},{"$f":"IF(Table17[[#This Row],[Issued]]=\"\",\"\",IF(Table17[[#This Row],[Lent]]=\"\",0,1))","v":""},{"$f":"IF(Table17[[#This Row],[Lent]]=\"\",\"\",IF(Table17[[#This Row],[Returned]]=\"\",0,1))","v":""}]
[{"$nulls":11},{"$f":"IF(IF(Table17[[#This Row],[Disposition]]=\"Retired\",\"N/A\",IF(Table17[[#This Row],[Disposition]]=0,\"\",K132+$F$2))=0+$F$2,\"NEVER CALIBRATED\",IF(Table17[[#This Row],[Disposition]]=\"Retired\",\"N/A\",IF(Table17[[#This Row],[Disposition]]=0,\"\",K132+$F$2)))","v":""},{"$f":"IF(Table17[[#This Row],[Disposition]]=\"\",\"\",IF(AND(Table17[[#This Row],[Next Calibration]]<$E$1,Table17[[#This Row],[Disposition]]=\"Lost\"),\"Find and Calibrate\",IF(Table17[[#This Row],[Disposition]]=\"Lost\",\"Find\",IF(OR(Table17[[#This Row],[Next Calibration]]<$E$1,Table17[[#This Row],[Next Calibration]]=\"NEVER CALIBRATED\"),\"Calibrate\",\"Nominal\"))))","v":""},{"$f":"IF(((Table17[[#This Row],[Next Calibration]]-TODAY())/30)>2,\"More Than 2\",IF(((Table17[[#This Row],[Next Calibration]]-TODAY())/30)>1,\"Between 2 and 1\",\"Less than 1\"))","v":{"$error":"#VALUE!"}},{"$f":"IF(Table17[[#This Row],[Issued]]=\"\",\"\",IF(Table17[[#This Row],[Lent]]=\"\",0,1))","v":""},{"$f":"IF(Table17[[#This Row],[Lent]]=\"\",\"\",IF(Table17[[#This Row],[Returned]]=\"\",0,1))","v":""}]
[{"$nulls":11},{"$f":"IF(IF(Table17[[#This Row],[Disposition]]=\"Retired\",\"N/A\",IF(Table17[[#This Row],[Disposition]]=0,\"\",K133+$F$2))=0+$F$2,\"NEVER CALIBRATED\",IF(Table17[[#This Row],[Disposition]]=\"Retired\",\"N/A\",IF(Table17[[#This Row],[Disposition]]=0,\"\",K133+$F$2)))","v":""},{"$f":"IF(Table17[[#This Row],[Disposition]]=\"\",\"\",IF(AND(Table17[[#This Row],[Next Calibration]]<$E$1,Table17[[#This Row],[Disposition]]=\"Lost\"),\"Find and Calibrate\",IF(Table17[[#This Row],[Disposition]]=\"Lost\",\"Find\",IF(OR(Table17[[#This Row],[Next Calibration]]<$E$1,Table17[[#This Row],[Next Calibration]]=\"NEVER CALIBRATED\"),\"Calibrate\",\"Nominal\"))))","v":""},{"$f":"IF(((Table17[[#This Row],[Next Calibration]]-TODAY())/30)>2,\"More Than 2\",IF(((Table17[[#This Row],[Next Calibration]]-TODAY())/30)>1,\"Between 2 and 1\",\"Less than 1\"))","v":{"$error":"#VALUE!"}},{"$f":"IF(Table17[[#This Row],[Issued]]=\"\",\"\",IF(Table17[[#This Row],[Lent]]=\"\",0,1))","v":""},{"$f":"IF(Table17[[#This Row],[Lent]]=\"\",\"\",IF(Table17[[#This Row],[Returned]]=\"\",0,1))","v":""}]
[{"$nulls":11},{"$f":"IF(IF(Table17[[#This Row],[Disposition]]=\"Retired\",\"N/A\",IF(Table17[[#This Row],[Disposition]]=0,\"\",K134+$F$2))=0+$F$2,\"NEVER CALIBRATED\",IF(Table17[[#This Row],[Disposition]]=\"Retired\",\"N/A\",IF(Table17[[#This Row],[Disposition]]=0,\"\",K134+$F$2)))","v":""},{"$f":"IF(Table17[[#This Row],[Disposition]]=\"\",\"\",IF(AND(Table17[[#This Row],[Next Calibration]]<$E$1,Table17[[#This Row],[Disposition]]=\"Lost\"),\"Find and Calibrate\",IF(Table17[[#This Row],[Disposition]]=\"Lost\",\"Find\",IF(OR(Table17[[#This Row],[Next Calibration]]<$E$1,Table17[[#This Row],[Next Calibration]]=\"NEVER CALIBRATED\"),\"Calibrate\",\"Nominal\"))))","v":""},{"$f":"IF(((Table17[[#This Row],[Next Calibration]]-TODAY())/30)>2,\"More Than 2\",IF(((Table17[[#This Row],[Next Calibration]]-TODAY())/30)>1,\"Between 2 and 1\",\"Less than 1\"))","v":{"$error":"#VALUE!"}},{"$f":"IF(Table17[[#This Row],[Issued]]=\"\",\"\",IF(Table17[[#This Row],[Lent]]=\"\",0,1))","v":""},{"$f":"IF(Table17[[#This Row],[Lent]]=\"\",\"\",IF(Table17[[#This Row],[Returned]]=\"\",0,1))","v":""}]
[{"$nulls":11},{"$f":"IF(IF(Table17[[#This Row],[Disposition]]=\"Retired\",\"N/A\",IF(Table17[[#This Row],[Disposition]]=0,\"\",K135+$F$2))=0+$F$2,\"NEVER CALIBRATED\",IF(Table17[[#This Row],[Disposition]]=\"Retired\",\"N/A\",IF(Table17[[#This Row],[Disposition]]=0,\"\",K135+$F$2)))","v":""},{"$f":"IF(Table17[[#This Row],[Disposition]]=\"\",\"\",IF(AND(Table17[[#This Row],[Next Calibration]]<$E$1,Table17[[#This Row],[Disposition]]=\"Lost\"),\"Find and Calibrate\",IF(Table17[[#This Row],[Disposition]]=\"Lost\",\"Find\",IF(OR(Table17[[#This Row],[Next Calibration]]<$E$1,Table17[[#This Row],[Next Calibration]]=\"NEVER CALIBRATED\"),\"Calibrate\",\"Nominal\"))))","v":""},{"$f":"IF(((Table17[[#This Row],[Next Calibration]]-TODAY())/30)>2,\"More Than 2\",IF(((Table17[[#This Row],[Next Calibration]]-TODAY())/30)>1,\"Between 2 and 1\",\"Less than 1\"))","v":{"$error":"#VALUE!"}},{"$f":"IF(Table17[[#This Row],[Issued]]=\"\",\"\",IF(Table17[[#This Row],[Lent]]=\"\",0,1))","v":""},{"$f":"IF(Table17[[#This Row],[Lent]]=\"\",\"\",IF(Table17[[#This Row],[Returned]]=\"\",0,1))","v":""}]
[{"$nulls":11},{"$f":"IF(IF(Table17[[#This Row],[Disposition]]=\"Retired\",\"N/A\",IF(Table17[[#This Row],[Disposition]]=0,\"\",K136+$F$2))=0+$F$2,\"NEVER CALIBRATED\",IF(Table17[[#This Row],[Disposition]]=\"Retired\",\"N/A\",IF(Table17[[#This Row],[Disposition]]=0,\"\",K136+$F$2)))","v":""},{"$f":"IF(Table17[[#This Row],[Disposition]]=\"\",\"\",IF(AND(Table17[[#This Row],[Next Calibration]]<$E$1,Table17[[#This Row],[Disposition]]=\"Lost\"),\"Find and Calibrate\",IF(Table17[[#This Row],[Disposition]]=\"Lost\",\"Find\",IF(OR(Table17[[#This Row],[Next Calibration]]<$E$1,Table17[[#This Row],[Next Calibration]]=\"NEVER CALIBRATED\"),\"Calibrate\",\"Nominal\"))))","v":""},{"$f":"IF(((Table17[[#This Row],[Next Calibration]]-TODAY())/30)>2,\"More Than 2\",IF(((Table17[[#This Row],[Next Calibration]]-TODAY())/30)>1,\"Between 2 and 1\",\"Less than 1\"))","v":{"$error":"#VALUE!"}},{"$f":"IF(Table17[[#This Row],[Issued]]=\"\",\"\",IF(Table17[[#This Row],[Lent]]=\"\",0,1))","v":""},{"$f":"IF(Table17[[#This Row],[Lent]]=\"\",\"\",IF(Table17[[#This Row],[Returned]]=\"\",0,1))","v":""}]
[{"$nulls":11},{"$f":"IF(IF(Table17[[#This Row],[Disposition]]=\"Retired\",\"N/A\",IF(Table17[[#This Row],[Disposition]]=0,\"\",K137+$F$2))=0+$F$2,\"NEVER CALIBRATED\",IF(Table17[[#This Row],[Disposition]]=\"Retired\",\"N/A\",IF(Table17[[#This Row],[Disposition]]=0,\"\",K137+$F$2)))","v":""},{"$f":"IF(Table17[[#This Row],[Disposition]]=\"\",\"\",IF(AND(Table17[[#This Row],[Next Calibration]]<$E$1,Table17[[#This Row],[Disposition]]=\"Lost\"),\"Find and Calibrate\",IF(Table17[[#This Row],[Disposition]]=\"Lost\",\"Find\",IF(OR(Table17[[#This Row],[Next Calibration]]<$E$1,Table17[[#This Row],[Next Calibration]]=\"NEVER CALIBRATED\"),\"Calibrate\",\"Nominal\"))))","v":""},{"$f":"IF(((Table17[[#This Row],[Next Calibration]]-TODAY())/30)>2,\"More Than 2\",IF(((Table17[[#This Row],[Next Calibration]]-TODAY())/30)>1,\"Between 2 and 1\",\"Less than 1\"))","v":{"$error":"#VALUE!"}},{"$f":"IF(Table17[[#This Row],[Issued]]=\"\",\"\",IF(Table17[[#This Row],[Lent]]=\"\",0,1))","v":""},{"$f":"IF(Table17[[#This Row],[Lent]]=\"\",\"\",IF(Table17[[#This Row],[Returned]]=\"\",0,1))","v":""}]
[{"$nulls":11},{"$f":"IF(IF(Table17[[#This Row],[Disposition]]=\"Retired\",\"N/A\",IF(Table17[[#This Row],[Disposition]]=0,\"\",K138+$F$2))=0+$F$2,\"NEVER CALIBRATED\",IF(Table17[[#This Row],[Disposition]]=\"Retired\",\"N/A\",IF(Table17[[#This Row],[Disposition]]=0,\"\",K138+$F$2)))","v":""},{"$f":"IF(Table17[[#This Row],[Disposition]]=\"\",\"\",IF(AND(Table17[[#This Row],[Next Calibration]]<$E$1,Table17[[#This Row],[Disposition]]=\"Lost\"),\"Find and Calibrate\",IF(Table17[[#This Row],[Disposition]]=\"Lost\",\"Find\",IF(OR(Table17[[#This Row],[Next Calibration]]<$E$1,Table17[[#This Row],[Next Calibration]]=\"NEVER CALIBRATED\"),\"Calibrate\",\"Nominal\"))))","v":""},{"$f":"IF(((Table17[[#This Row],[Next Calibration]]-TODAY())/30)>2,\"More Than 2\",IF(((Table17[[#This Row],[Next Calibration]]-TODAY())/30)>1,\"Between 2 and 1\",\"Less than 1\"))","v":{"$error":"#VALUE!"}},{"$f":"IF(Table17[[#This Row],[Issued]]=\"\",\"\",IF(Table17[[#This Row],[Lent]]=\"\",0,1))","v":""},{"$f":"IF(Table17[[#This Row],[Lent]]=\"\",\"\",IF(Table17[[#This Row],[Returned]]=\"\",0,1))","v":""}]
[{"$nulls":11},{"$f":"IF(IF(Table17[[#This Row],[Disposition]]=\"Retired\",\"N/A\",IF(Table17[[#This Row],[Disposition]]=0,\"\",K139+$F$2))=0+$F$2,\"NEVER CALIBRATED\",IF(Table17[[#This Row],[Disposition]]=\"Retired\",\"N/A\",IF(Table17[[#This Row],[Disposition]]=0,\"\",K139+$F$2)))","v":""},{"$f":"IF(Table17[[#This Row],[Disposition]]=\"\",\"\",IF(AND(Table17[[#This Row],[Next Calibration]]<$E$1,Table17[[#This Row],[Disposition]]=\"Lost\"),\"Find and Calibrate\",IF(Table17[[#This Row],[Disposition]]=\"Lost\",\"Find\",IF(OR(Table17[[#This Row],[Next Calibration]]<$E$1,Table17[[#This Row],[Next Calibration]]=\"NEVER CALIBRATED\"),\"Calibrate\",\"Nominal\"))))","v":""},{"$f":"IF(((Table17[[#This Row],[Next Calibration]]-TODAY())/30)>2,\"More Than 2\",IF(((Table17[[#This Row],[Next Calibration]]-TODAY())/30)>1,\"Between 2 and 1\",\"Less than 1\"))","v":{"$error":"#VALUE!"}},{"$f":"IF(Table17[[#This Row],[Issued]]=\"\",\"\",IF(Table17[[#This Row],[Lent]]=\"\",0,1))","v":""},{"$f":"IF(Table17[[#This Row],[Lent]]=\"\",\"\",IF(Table17[[#This Row],[Returned]]=\"\",0,1))","v":""}]
[{"$nulls":11},{"$f":"IF(IF(Table17[[#This Row],[Disposition]]=\"Retired\",\"N/A\",IF(Table17[[#This Row],[Disposition]]=0,\"\",K140+$F$2))=0+$F$2,\"NEVER CALIBRATED\",IF(Table17[[#This Row],[Disposition]]=\"Retired\",\"N/A\",IF(Table17[[#This Row],[Disposition]]=0,\"\",K140+$F$2)))","v":""},{"$f":"IF(Table17[[#This Row],[Disposition]]=\"\",\"\",IF(AND(Table17[[#This Row],[Next Calibration]]<$E$1,Table17[[#This Row],[Disposition]]=\"Lost\"),\"Find and Calibrate\",IF(Table17[[#This Row],[Disposition]]=\"Lost\",\"Find\",IF(OR(Table17[[#This Row],[Next Calibration]]<$E$1,Table17[[#This Row],[Next Calibration]]=\"NEVER CALIBRATED\"),\"Calibrate\",\"Nominal\"))))","v":""},{"$f":"IF(((Table17[[#This Row],[Next Calibration]]-TODAY())/30)>2,\"More Than 2\",IF(((Table17[[#This Row],[Next Calibration]]-TODAY())/30)>1,\"Between 2 and 1\",\"Less than 1\"))","v":{"$error":"#VALUE!"}},{"$f":"IF(Table17[[#This Row],[Issued]]=\"\",\"\",IF(Table17[[#This Row],[Lent]]=\"\",0,1))","v":""},{"$f":"IF(Table17[[#This Row],[Lent]]=\"\",\"\",IF(Table17[[#This Row],[Returned]]=\"\",0,1))","v":""}]
[{"$nulls":11},{"$f":"IF(IF(Table17[[#This Row],[Disposition]]=\"Retired\",\"N/A\",IF(Table17[[#This Row],[Disposition]]=0,\"\",K141+$F$2))=0+$F$2,\"NEVER CALIBRATED\",IF(Table17[[#This Row],[Disposition]]=\"Retired\",\"N/A\",IF(Table17[[#This Row],[Disposition]]=0,\"\",K141+$F$2)))","v":""},{"$f":"IF(Table17[[#This Row],[Disposition]]=\"\",\"\",IF(AND(Table17[[#This Row],[Next Calibration]]<$E$1,Table17[[#This Row],[Disposition]]=\"Lost\"),\"Find and Calibrate\",IF(Table17[[#This Row],[Disposition]]=\"Lost\",\"Find\",IF(OR(Table17[[#This Row],[Next Calibration]]<$E$1,Table17[[#This Row],[Next Calibration]]=\"NEVER CALIBRATED\"),\"Calibrate\",\"Nominal\"))))","v":""},{"$f":"IF(((Table17[[#This Row],[Next Calibration]]-TODAY())/30)>2,\"More Than 2\",IF(((Table17[[#This Row],[Next Calibration]]-TODAY())/30)>1,\"Between 2 and 1\",\"Less than 1\"))","v":{"$error":"#VALUE!"}},{"$f":"IF(Table17[[#This Row],[Issued]]=\"\",\"\",IF(Table17[[#This Row],[Lent]]=\"\",0,1))","v":""},{"$f":"IF(Table17[[#This Row],[Lent]]=\"\",\"\",IF(Table17[[#This Row],[Returned]]=\"\",0,1))","v":""}]
[{"$nulls":11},{"$f":"IF(IF(Table17[[#This Row],[Disposition]]=\"Retired\",\"N/A\",IF(Table17[[#This Row],[Disposition]]=0,\"\",K142+$F$2))=0+$F$2,\"NEVER CALIBRATED\",IF(Table17[[#This Row],[Disposition]]=\"Retired\",\"N/A\",IF(Table17[[#This Row],[Disposition]]=0,\"\",K142+$F$2)))","v":""},{"$f":"IF(Table17[[#This Row],[Disposition]]=\"\",\"\",IF(AND(Table17[[#This Row],[Next Calibration]]<$E$1,Table17[[#This Row],[Disposition]]=\"Lost\"),\"Find and Calibrate\",IF(Table17[[#This Row],[Disposition]]=\"Lost\",\"Find\",IF(OR(Table17[[#This Row],[Next Calibration]]<$E$1,Table17[[#This Row],[Next Calibration]]=\"NEVER CALIBRATED\"),\"Calibrate\",\"Nominal\"))))","v":""},{"$f":"IF(((Table17[[#This Row],[Next Calibration]]-TODAY())/30)>2,\"More Than 2\",IF(((Table17[[#This Row],[Next Calibration]]-TODAY())/30)>1,\"Between 2 and 1\",\"Less than 1\"))","v":{"$error":"#VALUE!"}},{"$f":"IF(Table17[[#This Row],[Issued]]=\"\",\"\",IF(Table17[[#This Row],[Lent]]=\"\",0,1))","v":""},{"$f":"IF(Table17[[#This Row],[Lent]]=\"\",\"\",IF(Table17[[#This Row],[Returned]]=\"\",0,1))","v":""}]
[{"$nulls":11},{"$f":"IF(IF(Table17[[#This Row],[Disposition]]=\"Retired\",\"N/A\",IF(Table17[[#This Row],[Disposition]]=0,\"\",K143+$F$2))=0+$F$2,\"NEVER CALIBRATED\",IF(Table17[[#This Row],[Disposition]]=\"Retired\",\"N/A\",IF(Table17[[#This Row],[Disposition]]=0,\"\",K143+$F$2)))","v":""},{"$f":"IF(Table17[[#This Row],[Disposition]]=\"\",\"\",IF(AND(Table17[[#This Row],[Next Calibration]]<$E$1,Table17[[#This Row],[Disposition]]=\"Lost\"),\"Find and Calibrate\",IF(Table17[[#This Row],[Disposition]]=\"Lost\",\"Find\",IF(OR(Table17[[#This Row],[Next Calibration]]<$E$1,Table17[[#This Row],[Next Calibration]]=\"NEVER CALIBRATED\"),\"Calibrate\",\"Nominal\"))))","v":""},{"$f":"IF(((Table17[[#This Row],[Next Calibration]]-TODAY())/30)>2,\"More Than 2\",IF(((Table17[[#This Row],[Next Calibration]]-TODAY())/30)>1,\"Between 2 and 1\",\"Less than 1\"))","v":{"$error":"#VALUE!"}},{"$f":"IF(Table17[[#This Row],[Issued]]=\"\",\"\",IF(Table17[[#This Row],[Lent]]=\"\",0,1))","v":""},{"$f":"IF(Table17[[#This Row],[Lent]]=\"\",\"\",IF(Table17[[#This Row],[Returned]]=\"\",0,1))","v":""}]
[{"$nulls":11},{"$f":"IF(IF(Table17[[#This Row],[Disposition]]=\"Retired\",\"N/A\",IF(Table17[[#This Row],[Disposition]]=0,\"\",K144+$F$2))=0+$F$2,\"NEVER CALIBRATED\",IF(Table17[[#This Row],[Disposition]]=\"Retired\",\"N/A\",IF(Table17[[#This Row],[Disposition]]=0,\"\",K144+$F$2)))","v":""},{"$f":"IF(Table17[[#This Row],[Disposition]]=\"\",\"\",IF(AND(Table17[[#This Row],[Next Calibration]]<$E$1,Table17[[#This Row],[Disposition]]=\"Lost\"),\"Find and Calibrate\",IF(Table17[[#This Row],[Disposition]]=\"Lost\",\"Find\",IF(OR(Table17[[#This Row],[Next Calibration]]<$E$1,Table17[[#This Row],[Next Calibration]]=\"NEVER CALIBRATED\"),\"Calibrate\",\"Nominal\"))))","v":""},{"$f":"IF(((Table17[[#This Row],[Next Calibration]]-TODAY())/30)>2,\"More Than 2\",IF(((Table17[[#This Row],[Next Calibration]]-TODAY())/30)>1,\"Between 2 and 1\",\"Less than 1\"))","v":{"$error":"#VALUE!"}},{"$f":"IF(Table17[[#This Row],[Issued]]=\"\",\"\",IF(Table17[[#This Row],[Lent]]=\"\",0,1))","v":""},{"$f":"IF(Table17[[#This Row],[Lent]]=\"\",\"\",IF(Table17[[#This Row],[Returned]]=\"\",0,1))","v":""}]
[{"$nulls":11},{"$f":"IF(IF(Table17[[#This Row],[Disposition]]=\"Retired\",\"N/A\",IF(Table17[[#This Row],[Disposition]]=0,\"\",K145+$F$2))=0+$F$2,\"NEVER CALIBRATED\",IF(Table17[[#This Row],[Disposition]]=\"Retired\",\"N/A\",IF(Table17[[#This Row],[Disposition]]=0,\"\",K145+$F$2)))","v":""},{"$f":"IF(Table17[[#This Row],[Disposition]]=\"\",\"\",IF(AND(Table17[[#This Row],[Next Calibration]]<$E$1,Table17[[#This Row],[Disposition]]=\"Lost\"),\"Find and Calibrate\",IF(Table17[[#This Row],[Disposition]]=\"Lost\",\"Find\",IF(OR(Table17[[#This Row],[Next Calibration]]<$E$1,Table17[[#This Row],[Next Calibration]]=\"NEVER CALIBRATED\"),\"Calibrate\",\"Nominal\"))))","v":""},{"$f":"IF(((Table17[[#This Row],[Next Calibration]]-TODAY())/30)>2,\"More Than 2\",IF(((Table17[[#This Row],[Next Calibration]]-TODAY())/30)>1,\"Between 2 and 1\",\"Less than 1\"))","v":{"$error":"#VALUE!"}},{"$f":"IF(Table17[[#This Row],[Issued]]=\"\",\"\",IF(Table17[[#This Row],[Lent]]=\"\",0,1))","v":""},{"$f":"IF(Table17[[#This Row],[Lent]]=\"\",\"\",IF(Table17[[#This Row],[Returned]]=\"\",0,1))","v":""}]
[{"$nulls":11},{"$f":"IF(IF(Table17[[#This Row],[Disposition]]=\"Retired\",\"N/A\",IF(Table17[[#This Row],[Disposition]]=0,\"\",K146+$F$2))=0+$F$2,\"NEVER CALIBRATED\",IF(Table17[[#This Row],[Disposition]]=\"Retired\",\"N/A\",IF(Table17[[#This Row],[Disposition]]=0,\"\",K146+$F$2)))","v":""},{"$f":"IF(Table17[[#This Row],[Disposition]]=\"\",\"\",IF(AND(Table17[[#This Row],[Next Calibration]]<$E$1,Table17[[#This Row],[Disposition]]=\"Lost\"),\"Find and Calibrate\",IF(Table17[[#This Row],[Disposition]]=\"Lost\",\"Find\",IF(OR(Table17[[#This Row],[Next Calibration]]<$E$1,Table17[[#This Row],[Next Calibration]]=\"NEVER CALIBRATED\"),\"Calibrate\",\"Nominal\"))))","v":""},{"$f":"IF(((Table17[[#This Row],[Next Calibration]]-TODAY())/30)>2,\"More Than 2\",IF(((Table17[[#This Row],[Next Calibration]]-TODAY())/30)>1,\"Between 2 and 1\",\"Less than 1\"))","v":{"$error":"#VALUE!"}},{"$f":"IF(Table17[[#This Row],[Issued]]=\"\",\"\",IF(Table17[[#This Row],[Lent]]=\"\",0,1))","v":""},{"$f":"IF(Table17[[#This Row],[Lent]]=\"\",\"\",IF(Table17[[#This Row],[Returned]]=\"\",0,1))","v":""}]
[{"$nulls":11},{"$f":"IF(IF(Table17[[#This Row],[Disposition]]=\"Retired\",\"N/A\",IF(Table17[[#This Row],[Disposition]]=0,\"\",K147+$F$2))=0+$F$2,\"NEVER CALIBRATED\",IF(Table17[[#This Row],[Disposition]]=\"Retired\",\"N/A\",IF(Table17[[#This Row],[Disposition]]=0,\"\",K147+$F$2)))","v":""},{"$f":"IF(Table17[[#This Row],[Disposition]]=\"\",\"\",IF(AND(Table17[[#This Row],[Next Calibration]]<$E$1,Table17[[#This Row],[Disposition]]=\"Lost\"),\"Find and Calibrate\",IF(Table17[[#This Row],[Disposition]]=\"Lost\",\"Find\",IF(OR(Table17[[#This Row],[Next Calibration]]<$E$1,Table17[[#This Row],[Next Calibration]]=\"NEVER CALIBRATED\"),\"Calibrate\",\"Nominal\"))))","v":""},{"$f":"IF(((Table17[[#This Row],[Next Calibration]]-TODAY())/30)>2,\"More Than 2\",IF(((Table17[[#This Row],[Next Calibration]]-TODAY())/30)>1,\"Between 2 and 1\",\"Less than 1\"))","v":{"$error":"#VALUE!"}},{"$f":"IF(Table17[[#This Row],[Issued]]=\"\",\"\",IF(Table17[[#This Row],[Lent]]=\"\",0,1))","v":""},{"$f":"IF(Table17[[#This Row],[Lent]]=\"\",\"\",IF(Table17[[#This Row],[Returned]]=\"\",0,1))","v":""}]
[{"$nulls":11},{"$f":"IF(IF(Table17[[#This Row],[Disposition]]=\"Retired\",\"N/A\",IF(Table17[[#This Row],[Disposition]]=0,\"\",K148+$F$2))=0+$F$2,\"NEVER CALIBRATED\",IF(Table17[[#This Row],[Disposition]]=\"Retired\",\"N/A\",IF(Table17[[#This Row],[Disposition]]=0,\"\",K148+$F$2)))","v":""},{"$f":"IF(Table17[[#This Row],[Disposition]]=\"\",\"\",IF(AND(Table17[[#This Row],[Next Calibration]]<$E$1,Table17[[#This Row],[Disposition]]=\"Lost\"),\"Find and Calibrate\",IF(Table17[[#This Row],[Disposition]]=\"Lost\",\"Find\",IF(OR(Table17[[#This Row],[Next Calibration]]<$E$1,Table17[[#This Row],[Next Calibration]]=\"NEVER CALIBRATED\"),\"Calibrate\",\"Nominal\"))))","v":""},{"$f":"IF(((Table17[[#This Row],[Next Calibration]]-TODAY())/30)>2,\"More Than 2\",IF(((Table17[[#This Row],[Next Calibration]]-TODAY())/30)>1,\"Between 2 and 1\",\"Less than 1\"))","v":{"$error":"#VALUE!"}},{"$f":"IF(Table17[[#This Row],[Issued]]=\"\",\"\",IF(Table17[[#This Row],[Lent]]=\"\",0,1))","v":""},{"$f":"IF(Table17[[#This Row],[Lent]]=\"\",\"\",IF(Table17[[#This Row],[Returned]]=\"\",0,1))","v":""}]
[{"$nulls":11},{"$f":"IF(IF(Table17[[#This Row],[Disposition]]=\"Retired\",\"N/A\",IF(Table17[[#This Row],[Disposition]]=0,\"\",K149+$F$2))=0+$F$2,\"NEVER CALIBRATED\",IF(Table17[[#This Row],[Disposition]]=\"Retired\",\"N/A\",IF(Table17[[#This Row],[Disposition]]=0,\"\",K149+$F$2)))","v":""},{"$f":"IF(Table17[[#This Row],[Disposition]]=\"\",\"\",IF(AND(Table17[[#This Row],[Next Calibration]]<$E$1,Table17[[#This Row],[Disposition]]=\"Lost\"),\"Find and Calibrate\",IF(Table17[[#This Row],[Disposition]]=\"Lost\",\"Find\",IF(OR(Table17[[#This Row],[Next Calibration]]<$E$1,Table17[[#This Row],[Next Calibration]]=\"NEVER CALIBRATED\"),\"Calibrate\",\"Nominal\"))))","v":""},{"$f":"IF(((Table17[[#This Row],[Next Calibration]]-TODAY())/30)>2,\"More Than 2\",IF(((Table17[[#This Row],[Next Calibration]]-TODAY())/30)>1,\"Between 2 and 1\",\"Less than 1\"))","v":{"$error":"#VALUE!"}},{"$f":"IF(Table17[[#This Row],[Issued]]=\"\",\"\",IF(Table17[[#This Row],[Lent]]=\"\",0,1))","v":""},{"$f":"IF(Table17[[#This Row],[Lent]]=\"\",\"\",IF(Table17[[#This Row],[Returned]]=\"\",0,1))","v":""}]
[{"$nulls":11},{"$f":"IF(IF(Table17[[#This Row],[Disposition]]=\"Retired\",\"N/A\",IF(Table17[[#This Row],[Disposition]]=0,\"\",K150+$F$2))=0+$F$2,\"NEVER CALIBRATED\",IF(Table17[[#This Row],[Disposition]]=\"Retired\",\"N/A\",IF(Table17[[#This Row],[Disposition]]=0,\"\",K150+$F$2)))","v":""},{"$f":"IF(Table17[[#This Row],[Disposition]]=\"\",\"\",IF(AND(Table17[[#This Row],[Next Calibration]]<$E$1,Table17[[#This Row],[Disposition]]=\"Lost\"),\"Find and Calibrate\",IF(Table17[[#This Row],[Disposition]]=\"Lost\",\"Find\",IF(OR(Table17[[#This Row],[Next Calibration]]<$E$1,Table17[[#This Row],[Next Calibration]]=\"NEVER CALIBRATED\"),\"Calibrate\",\"Nominal\"))))","v":""},{"$f":"IF(((Table17[[#This Row],[Next Calibration]]-TODAY())/30)>2,\"More Than 2\",IF(((Table17[[#This Row],[Next Calibration]]-TODAY())/30)>1,\"Between 2 and 1\",\"Less than 1\"))","v":{"$error":"#VALUE!"}},{"$f":"IF(Table17[[#This Row],[Issued]]=\"\",\"\",IF(Table17[[#This Row],[Lent]]=\"\",0,1))","v":""},{"$f":"IF(Table17[[#This Row],[Lent]]=\"\",\"\",IF(Table17[[#This Row],[Returned]]=\"\",0,1))","v":""}]
[{"$nulls":11},{"$f":"IF(IF(Table17[[#This Row],[Disposition]]=\"Retired\",\"N/A\",IF(Table17[[#This Row],[Disposition]]=0,\"\",K151+$F$2))=0+$F$2,\"NEVER CALIBRATED\",IF(Table17[[#This Row],[Disposition]]=\"Retired\",\"N/A\",IF(Table17[[#This Row],[Disposition]]=0,\"\",K151+$F$2)))","v":""},{"$f":"IF(Table17[[#This Row],[Disposition]]=\"\",\"\",IF(AND(Table17[[#This Row],[Next Calibration]]<$E$1,Table17[[#This Row],[Disposition]]=\"Lost\"),\"Find and Calibrate\",IF(Table17[[#This Row],[Disposition]]=\"Lost\",\"Find\",IF(OR(Table17[[#This Row],[Next Calibration]]<$E$1,Table17[[#This Row],[Next Calibration]]=\"NEVER CALIBRATED\"),\"Calibrate\",\"Nominal\"))))","v":""},{"$f":"IF(((Table17[[#This Row],[Next Calibration]]-TODAY())/30)>2,\"More Than 2\",IF(((Table17[[#This Row],[Next Calibration]]-TODAY())/30)>1,\"Between 2 and 1\",\"Less than 1\"))","v":{"$error":"#VALUE!"}},{"$f":"IF(Table17[[#This Row],[Issued]]=\"\",\"\",IF(Table17[[#This Row],[Lent]]=\"\",0,1))","v":""},{"$f":"IF(Table17[[#This Row],[Lent]]=\"\",\"\",IF(Table17[[#This Row],[Returned]]=\"\",0,1))","v":""}]
[{"$nulls":11},{"$f":"IF(IF(Table17[[#This Row],[Disposition]]=\"Retired\",\"N/A\",IF(Table17[[#This Row],[Disposition]]=0,\"\",K152+$F$2))=0+$F$2,\"NEVER CALIBRATED\",IF(Table17[[#This Row],[Disposition]]=\"Retired\",\"N/A\",IF(Table17[[#This Row],[Disposition]]=0,\"\",K152+$F$2)))","v":""},{"$f":"IF(Table17[[#This Row],[Disposition]]=\"\",\"\",IF(AND(Table17[[#This Row],[Next Calibration]]<$E$1,Table17[[#This Row],[Disposition]]=\"Lost\"),\"Find and Calibrate\",IF(Table17[[#This Row],[Disposition]]=\"Lost\",\"Find\",IF(OR(Table17[[#This Row],[Next Calibration]]<$E$1,Table17[[#This Row],[Next Calibration]]=\"NEVER CALIBRATED\"),\"Calibrate\",\"Nominal\"))))","v":""},{"$f":"IF(((Table17[[#This Row],[Next Calibration]]-TODAY())/30)>2,\"More Than 2\",IF(((Table17[[#This Row],[Next Calibration]]-TODAY())/30)>1,\"Between 2 and 1\",\"Less than 1\"))","v":{"$error":"#VALUE!"}},{"$f":"IF(Table17[[#This Row],[Issued]]=\"\",\"\",IF(Table17[[#This Row],[Lent]]=\"\",0,1))","v":""},{"$f":"IF(Table17[[#This Row],[Lent]]=\"\",\"\",IF(Table17[[#This Row],[Returned]]=\"\",0,1))","v":""}]
[{"$nulls":11},{"$f":"IF(IF(Table17[[#This Row],[Disposition]]=\"Retired\",\"N/A\",IF(Table17[[#This Row],[Disposition]]=0,\"\",K153+$F$2))=0+$F$2,\"NEVER CALIBRATED\",IF(Table17[[#This Row],[Disposition]]=\"Retired\",\"N/A\",IF(Table17[[#This Row],[Disposition]]=0,\"\",K153+$F$2)))","v":""},{"$f":"IF(Table17[[#This Row],[Disposition]]=\"\",\"\",IF(AND(Table17[[#This Row],[Next Calibration]]<$E$1,Table17[[#This Row],[Disposition]]=\"Lost\"),\"Find and Calibrate\",IF(Table17[[#This Row],[Disposition]]=\"Lost\",\"Find\",IF(OR(Table17[[#This Row],[Next Calibration]]<$E$1,Table17[[#This Row],[Next Calibration]]=\"NEVER CALIBRATED\"),\"Calibrate\",\"Nominal\"))))","v":""},{"$f":"IF(((Table17[[#This Row],[Next Calibration]]-TODAY())/30)>2,\"More Than 2\",IF(((Table17[[#This Row],[Next Calibration]]-TODAY())/30)>1,\"Between 2 and 1\",\"Less than 1\"))","v":{"$error":"#VALUE!"}},{"$f":"IF(Table17[[#This Row],[Issued]]=\"\",\"\",IF(Table17[[#This Row],[Lent]]=\"\",0,1))","v":""},{"$f":"IF(Table17[[#This Row],[Lent]]=\"\",\"\",IF(Table17[[#This Row],[Returned]]=\"\",0,1))","v":""}]
[{"$nulls":11},{"$f":"IF(IF(Table17[[#This Row],[Disposition]]=\"Retired\",\"N/A\",IF(Table17[[#This Row],[Disposition]]=0,\"\",K154+$F$2))=0+$F$2,\"NEVER CALIBRATED\",IF(Table17[[#This Row],[Disposition]]=\"Retired\",\"N/A\",IF(Table17[[#This Row],[Disposition]]=0,\"\",K154+$F$2)))","v":""},{"$f":"IF(Table17[[#This Row],[Disposition]]=\"\",\"\",IF(AND(Table17[[#This Row],[Next Calibration]]<$E$1,Table17[[#This Row],[Disposition]]=\"Lost\"),\"Find and Calibrate\",IF(Table17[[#This Row],[Disposition]]=\"Lost\",\"Find\",IF(OR(Table17[[#This Row],[Next Calibration]]<$E$1,Table17[[#This Row],[Next Calibration]]=\"NEVER CALIBRATED\"),\"Calibrate\",\"Nominal\"))))","v":""},{"$f":"IF(((Table17[[#This Row],[Next Calibration]]-TODAY())/30)>2,\"More Than 2\",IF(((Table17[[#This Row],[Next Calibration]]-TODAY())/30)>1,\"Between 2 and 1\",\"Less than 1\"))","v":{"$error":"#VALUE!"}},{"$f":"IF(Table17[[#This Row],[Issued]]=\"\",\"\",IF(Table17[[#This Row],[Lent]]=\"\",0,1))","v":""},{"$f":"IF(Table17[[#This Row],[Lent]]=\"\",\"\",IF(Table17[[#This Row],[Returned]]=\"\",0,1))","v":""}]
[{"$nulls":11},{"$f":"IF(IF(Table17[[#This Row],[Disposition]]=\"Retired\",\"N/A\",IF(Table17[[#This Row],[Disposition]]=0,\"\",K155+$F$2))=0+$F$2,\"NEVER CALIBRATED\",IF(Table17[[#This Row],[Disposition]]=\"Retired\",\"N/A\",IF(Table17[[#This Row],[Disposition]]=0,\"\",K155+$F$2)))","v":""},{"$f":"IF(Table17[[#This Row],[Disposition]]=\"\",\"\",IF(AND(Table17[[#This Row],[Next Calibration]]<$E$1,Table17[[#This Row],[Disposition]]=\"Lost\"),\"Find and Calibrate\",IF(Table17[[#This Row],[Disposition]]=\"Lost\",\"Find\",IF(OR(Table17[[#This Row],[Next Calibration]]<$E$1,Table17[[#This Row],[Next Calibration]]=\"NEVER CALIBRATED\"),\"Calibrate\",\"Nominal\"))))","v":""},{"$f":"IF(((Table17[[#This Row],[Next Calibration]]-TODAY())/30)>2,\"More Than 2\",IF(((Table17[[#This Row],[Next Calibration]]-TODAY())/30)>1,\"Between 2 and 1\",\"Less than 1\"))","v":{"$error":"#VALUE!"}},{"$f":"IF(Table17[[#This Row],[Issued]]=\"\",\"\",IF(Table17[[#This Row],[Lent]]=\"\",0,1))","v":""},{"$f":"IF(Table17[[#This Row],[Lent]]=\"\",\"\",IF(Table17[[#This Row],[Returned]]=\"\",0,1))","v":""}]
[{"$nulls":11},{"$f":"IF(IF(Table17[[#This Row],[Disposition]]=\"Retired\",\"N/A\",IF(Table17[[#This Row],[Disposition]]=0,\"\",K156+$F$2))=0+$F$2,\"NEVER CALIBRATED\",IF(Table17[[#This Row],[Disposition]]=\"Retired\",\"N/A\",IF(Table17[[#This Row],[Disposition]]=0,\"\",K156+$F$2)))","v":""},{"$f":"IF(Table17[[#This Row],[Disposition]]=\"\",\"\",IF(AND(Table17[[#This Row],[Next Calibration]]<$E$1,Table17[[#This Row],[Disposition]]=\"Lost\"),\"Find and Calibrate\",IF(Table17[[#This Row],[Disposition]]=\"Lost\",\"Find\",IF(OR(Table17[[#This Row],[Next Calibration]]<$E$1,Table17[[#This Row],[Next Calibration]]=\"NEVER CALIBRATED\"),\"Calibrate\",\"Nominal\"))))","v":""},{"$f":"IF(((Table17[[#This Row],[Next Calibration]]-TODAY())/30)>2,\"More Than 2\",IF(((Table17[[#This Row],[Next Calibration]]-TODAY())/30)>1,\"Between 2 and 1\",\"Less than 1\"))","v":{"$error":"#VALUE!"}},{"$f":"IF(Table17[[#This Row],[Issued]]=\"\",\"\",IF(Table17[[#This Row],[Lent]]=\"\",0,1))","v":""},{"$f":"IF(Table17[[#This Row],[Lent]]=\"\",\"\",IF(Table17[[#This Row],[Returned]]=\"\",0,1))","v":""}]
[{"$nulls":11},{"$f":"IF(IF(Table17[[#This Row],[Disposition]]=\"Retired\",\"N/A\",IF(Table17[[#This Row],[Disposition]]=0,\"\",K157+$F$2))=0+$F$2,\"NEVER CALIBRATED\",IF(Table17[[#This Row],[Disposition]]=\"Retired\",\"N/A\",IF(Table17[[#This Row],[Disposition]]=0,\"\",K157+$F$2)))","v":""},{"$f":"IF(Table17[[#This Row],[Disposition]]=\"\",\"\",IF(AND(Table17[[#This Row],[Next Calibration]]<$E$1,Table17[[#This Row],[Disposition]]=\"Lost\"),\"Find and Calibrate\",IF(Table17[[#This Row],[Disposition]]=\"Lost\",\"Find\",IF(OR(Table17[[#This Row],[Next Calibration]]<$E$1,Table17[[#This Row],[Next Calibration]]=\"NEVER CALIBRATED\"),\"Calibrate\",\"Nominal\"))))","v":""},{"$f":"IF(((Table17[[#This Row],[Next Calibration]]-TODAY())/30)>2,\"More Than 2\",IF(((Table17[[#This Row],[Next Calibration]]-TODAY())/30)>1,\"Between 2 and 1\",\"Less than 1\"))","v":{"$error":"#VALUE!"}},{"$f":"IF(Table17[[#This Row],[Issued]]=\"\",\"\",IF(Table17[[#This Row],[Lent]]=\"\",0,1))","v":""},{"$f":"IF(Table17[[#This Row],[Lent]]=\"\",\"\",IF(Table17[[#This Row],[Returned]]=\"\",0,1))","v":""}]
[{"$nulls":11},{"$f":"IF(IF(Table17[[#This Row],[Disposition]]=\"Retired\",\"N/A\",IF(Table17[[#This Row],[Disposition]]=0,\"\",K158+$F$2))=0+$F$2,\"NEVER CALIBRATED\",IF(Table17[[#This Row],[Disposition]]=\"Retired\",\"N/A\",IF(Table17[[#This Row],[Disposition]]=0,\"\",K158+$F$2)))","v":""},{"$f":"IF(Table17[[#This Row],[Disposition]]=\"\",\"\",IF(AND(Table17[[#This Row],[Next Calibration]]<$E$1,Table17[[#This Row],[Disposition]]=\"Lost\"),\"Find and Calibrate\",IF(Table17[[#This Row],[Disposition]]=\"Lost\",\"Find\",IF(OR(Table17[[#This Row],[Next Calibration]]<$E$1,Table17[[#This Row],[Next Calibration]]=\"NEVER CALIBRATED\"),\"Calibrate\",\"Nominal\"))))","v":""},{"$f":"IF(((Table17[[#This Row],[Next Calibration]]-TODAY())/30)>2,\"More Than 2\",IF(((Table17[[#This Row],[Next Calibration]]-TODAY())/30)>1,\"Between 2 and 1\",\"Less than 1\"))","v":{"$error":"#VALUE!"}},{"$f":"IF(Table17[[#This Row],[Issued]]=\"\",\"\",IF(Table17[[#This Row],[Lent]]=\"\",0,1))","v":""},{"$f":"IF(Table17[[#This Row],[Lent]]=\"\",\"\",IF(Table17[[#This Row],[Returned]]=\"\",0,1))","v":""}]
[{"$nulls":11},{"$f":"IF(IF(Table17[[#This Row],[Disposition]]=\"Retired\",\"N/A\",IF(Table17[[#This Row],[Disposition]]=0,\"\",K159+$F$2))=0+$F$2,\"NEVER CALIBRATED\",IF(Table17[[#This Row],[Disposition]]=\"Retired\",\"N/A\",IF(Table17[[#This Row],[Disposition]]=0,\"\",K159+$F$2)))","v":""},{"$f":"IF(Table17[[#This Row],[Disposition]]=\"\",\"\",IF(AND(Table17[[#This Row],[Next Calibration]]<$E$1,Table17[[#This Row],[Disposition]]=\"Lost\"),\"Find and Calibrate\",IF(Table17[[#This Row],[Disposition]]=\"Lost\",\"Find\",IF(OR(Table17[[#This Row],[Next Calibration]]<$E$1,Table17[[#This Row],[Next Calibration]]=\"NEVER CALIBRATED\"),\"Calibrate\",\"Nominal\"))))","v":""},{"$f":"IF(((Table17[[#This Row],[Next Calibration]]-TODAY())/30)>2,\"More Than 2\",IF(((Table17[[#This Row],[Next Calibration]]-TODAY())/30)>1,\"Between 2 and 1\",\"Less than 1\"))","v":{"$error":"#VALUE!"}},{"$f":"IF(Table17[[#This Row],[Issued]]=\"\",\"\",IF(Table17[[#This Row],[Lent]]=\"\",0,1))","v":""},{"$f":"IF(Table17[[#This Row],[Lent]]=\"\",\"\",IF(Table17[[#This Row],[Returned]]=\"\",0,1))","v":""}]
[{"$nulls":11},{"$f":"IF(IF(Table17[[#This Row],[Disposition]]=\"Retired\",\"N/A\",IF(Table17[[#This Row],[Disposition]]=0,\"\",K160+$F$2))=0+$F$2,\"NEVER CALIBRATED\",IF(Table17[[#This Row],[Disposition]]=\"Retired\",\"N/A\",IF(Table17[[#This Row],[Disposition]]=0,\"\",K160+$F$2)))","v":""},{"$f":"IF(Table17[[#This Row],[Disposition]]=\"\",\"\",IF(AND(Table17[[#This Row],[Next Calibration]]<$E$1,Table17[[#This Row],[Disposition]]=\"Lost\"),\"Find and Calibrate\",IF(Table17[[#This Row],[Disposition]]=\"Lost\",\"Find\",IF(OR(Table17[[#This Row],[Next Calibration]]<$E$1,Table17[[#This Row],[Next Calibration]]=\"NEVER CALIBRATED\"),\"Calibrate\",\"Nominal\"))))","v":""},{"$f":"IF(((Table17[[#This Row],[Next Calibration]]-TODAY())/30)>2,\"More Than 2\",IF(((Table17[[#This Row],[Next Calibration]]-TODAY())/30)>1,\"Between 2 and 1\",\"Less than 1\"))","v":{"$error":"#VALUE!"}},{"$f":"IF(Table17[[#This Row],[Issued]]=\"\",\"\",IF(Table17[[#This Row],[Lent]]=\"\",0,1))","v":""},{"$f":"IF(Table17[[#This Row],[Lent]]=\"\",\"\",IF(Table17[[#This Row],[Returned]]=\"\",0,1))","v":""}]
[{"$nulls":11},{"$f":"IF(IF(Table17[[#This Row],[Disposition]]=\"Retired\",\"N/A\",IF(Table17[[#This Row],[Disposition]]=0,\"\",K161+$F$2))=0+$F$2,\"NEVER CALIBRATED\",IF(Table17[[#This Row],[Disposition]]=\"Retired\",\"N/A\",IF(Table17[[#This Row],[Disposition]]=0,\"\",K161+$F$2)))","v":""},{"$f":"IF(Table17[[#This Row],[Disposition]]=\"\",\"\",IF(AND(Table17[[#This Row],[Next Calibration]]<$E$1,Table17[[#This Row],[Disposition]]=\"Lost\"),\"Find and Calibrate\",IF(Table17[[#This Row],[Disposition]]=\"Lost\",\"Find\",IF(OR(Table17[[#This Row],[Next Calibration]]<$E$1,Table17[[#This Row],[Next Calibration]]=\"NEVER CALIBRATED\"),\"Calibrate\",\"Nominal\"))))","v":""},{"$f":"IF(((Table17[[#This Row],[Next Calibration]]-TODAY())/30)>2,\"More Than 2\",IF(((Table17[[#This Row],[Next Calibration]]-TODAY())/30)>1,\"Between 2 and 1\",\"Less than 1\"))","v":{"$error":"#VALUE!"}},{"$f":"IF(Table17[[#This Row],[Issued]]=\"\",\"\",IF(Table17[[#This Row],[Lent]]=\"\",0,1))","v":""},{"$f":"IF(Table17[[#This Row],[Lent]]=\"\",\"\",IF(Table17[[#This Row],[Returned]]=\"\",0,1))","v":""}]
[{"$nulls":11},{"$f":"IF(IF(Table17[[#This Row],[Disposition]]=\"Retired\",\"N/A\",IF(Table17[[#This Row],[Disposition]]=0,\"\",K162+$F$2))=0+$F$2,\"NEVER CALIBRATED\",IF(Table17[[#This Row],[Disposition]]=\"Retired\",\"N/A\",IF(Table17[[#This Row],[Disposition]]=0,\"\",K162+$F$2)))","v":""},{"$f":"IF(Table17[[#This Row],[Disposition]]=\"\",\"\",IF(AND(Table17[[#This Row],[Next Calibration]]<$E$1,Table17[[#This Row],[Disposition]]=\"Lost\"),\"Find and Calibrate\",IF(Table17[[#This Row],[Disposition]]=\"Lost\",\"Find\",IF(OR(Table17[[#This Row],[Next Calibration]]<$E$1,Table17[[#This Row],[Next Calibration]]=\"NEVER CALIBRATED\"),\"Calibrate\",\"Nominal\"))))","v":""},{"$f":"IF(((Table17[[#This Row],[Next Calibration]]-TODAY())/30)>2,\"More Than 2\",IF(((Table17[[#This Row],[Next Calibration]]-TODAY())/30)>1,\"Between 2 and 1\",\"Less than 1\"))","v":{"$error":"#VALUE!"}},{"$f":"IF(Table17[[#This Row],[Issued]]=\"\",\"\",IF(Table17[[#This Row],[Lent]]=\"\",0,1))","v":""},{"$f":"IF(Table17[[#This Row],[Lent]]=\"\",\"\",IF(Table17[[#This Row],[Returned]]=\"\",0,1))","v":""}]
[{"$nulls":11},{"$f":"IF(IF(Table17[[#This Row],[Disposition]]=\"Retired\",\"N/A\",IF(Table17[[#This Row],[Disposition]]=0,\"\",K163+$F$2))=0+$F$2,\"NEVER CALIBRATED\",IF(Table17[[#This Row],[Disposition]]=\"Retired\",\"N/A\",IF(Table17[[#This Row],[Disposition]]=0,\"\",K163+$F$2)))","v":""},{"$f":"IF(Table17[[#This Row],[Disposition]]=\"\",\"\",IF(AND(Table17[[#This Row],[Next Calibration]]<$E$1,Table17[[#This Row],[Disposition]]=\"Lost\"),\"Find and Calibrate\",IF(Table17[[#This Row],[Disposition]]=\"Lost\",\"Find\",IF(OR(Table17[[#This Row],[Next Calibration]]<$E$1,Table17[[#This Row],[Next Calibration]]=\"NEVER CALIBRATED\"),\"Calibrate\",\"Nominal\"))))","v":""},{"$f":"IF(((Table17[[#This Row],[Next Calibration]]-TODAY())/30)>2,\"More Than 2\",IF(((Table17[[#This Row],[Next Calibration]]-TODAY())/30)>1,\"Between 2 and 1\",\"Less than 1\"))","v":{"$error":"#VALUE!"}},{"$f":"IF(Table17[[#This Row],[Issued]]=\"\",\"\",IF(Table17[[#This Row],[Lent]]=\"\",0,1))","v":""},{"$f":"IF(Table17[[#This Row],[Lent]]=\"\",\"\",IF(Table17[[#This Row],[Returned]]=\"\",0,1))","v":""}]
[{"$nulls":11},{"$f":"IF(IF(Table17[[#This Row],[Disposition]]=\"Retired\",\"N/A\",IF(Table17[[#This Row],[Disposition]]=0,\"\",K164+$F$2))=0+$F$2,\"NEVER CALIBRATED\",IF(Table17[[#This Row],[Disposition]]=\"Retired\",\"N/A\",IF(Table17[[#This Row],[Disposition]]=0,\"\",K164+$F$2)))","v":""},{"$f":"IF(Table17[[#This Row],[Disposition]]=\"\",\"\",IF(AND(Table17[[#This Row],[Next Calibration]]<$E$1,Table17[[#This Row],[Disposition]]=\"Lost\"),\"Find and Calibrate\",IF(Table17[[#This Row],[Disposition]]=\"Lost\",\"Find\",IF(OR(Table17[[#This Row],[Next Calibration]]<$E$1,Table17[[#This Row],[Next Calibration]]=\"NEVER CALIBRATED\"),\"Calibrate\",\"Nominal\"))))","v":""},{"$f":"IF(((Table17[[#This Row],[Next Calibration]]-TODAY())/30)>2,\"More Than 2\",IF(((Table17[[#This Row],[Next Calibration]]-TODAY())/30)>1,\"Between 2 and 1\",\"Less than 1\"))","v":{"$error":"#VALUE!"}},{"$f":"IF(Table17[[#This Row],[Issued]]=\"\",\"\",IF(Table17[[#This Row],[Lent]]=\"\",0,1))","v":""},{"$f":"IF(Table17[[#This Row],[Lent]]=\"\",\"\",IF(Table17[[#This Row],[Returned]]=\"\",0,1))","v":""}]
[{"$nulls":11},{"$f":"IF(IF(Table17[[#This Row],[Disposition]]=\"Retired\",\"N/A\",IF(Table17[[#This Row],[Disposition]]=0,\"\",K165+$F$2))=0+$F$2,\"NEVER CALIBRATED\",IF(Table17[[#This Row],[Disposition]]=\"Retired\",\"N/A\",IF(Table17[[#This Row],[Disposition]]=0,\"\",K165+$F$2)))","v":""},{"$f":"IF(Table17[[#This Row],[Disposition]]=\"\",\"\",IF(AND(Table17[[#This Row],[Next Calibration]]<$E$1,Table17[[#This Row],[Disposition]]=\"Lost\"),\"Find and Calibrate\",IF(Table17[[#This Row],[Disposition]]=\"Lost\",\"Find\",IF(OR(Table17[[#This Row],[Next Calibration]]<$E$1,Table17[[#This Row],[Next Calibration]]=\"NEVER CALIBRATED\"),\"Calibrate\",\"Nominal\"))))","v":""},{"$f":"IF(((Table17[[#This Row],[Next Calibration]]-TODAY())/30)>2,\"More Than 2\",IF(((Table17[[#This Row],[Next Calibration]]-TODAY())/30)>1,\"Between 2 and 1\",\"Less than 1\"))","v":{"$error":"#VALUE!"}},{"$f":"IF(Table17[[#This Row],[Issued]]=\"\",\"\",IF(Table17[[#This Row],[Lent]]=\"\",0,1))","v":""},{"$f":"IF(Table17[[#This Row],[Lent]]=\"\",\"\",IF(Table17[[#This Row],[Returned]]=\"\",0,1))","v":""}]
[{"$nulls":11},{"$f":"IF(IF(Table17[[#This Row],[Disposition]]=\"Retired\",\"N/A\",IF(Table17[[#This Row],[Disposition]]=0,\"\",K166+$F$2))=0+$F$2,\"NEVER CALIBRATED\",IF(Table17[[#This Row],[Disposition]]=\"Retired\",\"N/A\",IF(Table17[[#This Row],[Disposition]]=0,\"\",K166+$F$2)))","v":""},{"$f":"IF(Table17[[#This Row],[Disposition]]=\"\",\"\",IF(AND(Table17[[#This Row],[Next Calibration]]<$E$1,Table17[[#This Row],[Disposition]]=\"Lost\"),\"Find and Calibrate\",IF(Table17[[#This Row],[Disposition]]=\"Lost\",\"Find\",IF(OR(Table17[[#This Row],[Next Calibration]]<$E$1,Table17[[#This Row],[Next Calibration]]=\"NEVER CALIBRATED\"),\"Calibrate\",\"Nominal\"))))","v":""},{"$f":"IF(((Table17[[#This Row],[Next Calibration]]-TODAY())/30)>2,\"More Than 2\",IF(((Table17[[#This Row],[Next Calibration]]-TODAY())/30)>1,\"Between 2 and 1\",\"Less than 1\"))","v":{"$error":"#VALUE!"}},{"$f":"IF(Table17[[#This Row],[Issued]]=\"\",\"\",IF(Table17[[#This Row],[Lent]]=\"\",0,1))","v":""},{"$f":"IF(Table17[[#This Row],[Lent]]=\"\",\"\",IF(Table17[[#This Row],[Returned]]=\"\",0,1))","v":""}]
[{"$nulls":11},{"$f":"IF(IF(Table17[[#This Row],[Disposition]]=\"Retired\",\"N/A\",IF(Table17[[#This Row],[Disposition]]=0,\"\",K167+$F$2))=0+$F$2,\"NEVER CALIBRATED\",IF(Table17[[#This Row],[Disposition]]=\"Retired\",\"N/A\",IF(Table17[[#This Row],[Disposition]]=0,\"\",K167+$F$2)))","v":""},{"$f":"IF(Table17[[#This Row],[Disposition]]=\"\",\"\",IF(AND(Table17[[#This Row],[Next Calibration]]<$E$1,Table17[[#This Row],[Disposition]]=\"Lost\"),\"Find and Calibrate\",IF(Table17[[#This Row],[Disposition]]=\"Lost\",\"Find\",IF(OR(Table17[[#This Row],[Next Calibration]]<$E$1,Table17[[#This Row],[Next Calibration]]=\"NEVER CALIBRATED\"),\"Calibrate\",\"Nominal\"))))","v":""},{"$f":"IF(((Table17[[#This Row],[Next Calibration]]-TODAY())/30)>2,\"More Than 2\",IF(((Table17[[#This Row],[Next Calibration]]-TODAY())/30)>1,\"Between 2 and 1\",\"Less than 1\"))","v":{"$error":"#VALUE!"}},{"$f":"IF(Table17[[#This Row],[Issued]]=\"\",\"\",IF(Table17[[#This Row],[Lent]]=\"\",0,1))","v":""},{"$f":"IF(Table17[[#This Row],[Lent]]=\"\",\"\",IF(Table17[[#This Row],[Returned]]=\"\",0,1))","v":""}]
[{"$nulls":11},{"$f":"IF(IF(Table17[[#This Row],[Disposition]]=\"Retired\",\"N/A\",IF(Table17[[#This Row],[Disposition]]=0,\"\",K168+$F$2))=0+$F$2,\"NEVER CALIBRATED\",IF(Table17[[#This Row],[Disposition]]=\"Retired\",\"N/A\",IF(Table17[[#This Row],[Disposition]]=0,\"\",K168+$F$2)))","v":""},{"$f":"IF(Table17[[#This Row],[Disposition]]=\"\",\"\",IF(AND(Table17[[#This Row],[Next Calibration]]<$E$1,Table17[[#This Row],[Disposition]]=\"Lost\"),\"Find and Calibrate\",IF(Table17[[#This Row],[Disposition]]=\"Lost\",\"Find\",IF(OR(Table17[[#This Row],[Next Calibration]]<$E$1,Table17[[#This Row],[Next Calibration]]=\"NEVER CALIBRATED\"),\"Calibrate\",\"Nominal\"))))","v":""},{"$f":"IF(((Table17[[#This Row],[Next Calibration]]-TODAY())/30)>2,\"More Than 2\",IF(((Table17[[#This Row],[Next Calibration]]-TODAY())/30)>1,\"Between 2 and 1\",\"Less than 1\"))","v":{"$error":"#VALUE!"}},{"$f":"IF(Table17[[#This Row],[Issued]]=\"\",\"\",IF(Table17[[#This Row],[Lent]]=\"\",0,1))","v":""},{"$f":"IF(Table17[[#This Row],[Lent]]=\"\",\"\",IF(Table17[[#This Row],[Returned]]=\"\",0,1))","v":""}]
[{"$nulls":11},{"$f":"IF(IF(Table17[[#This Row],[Disposition]]=\"Retired\",\"N/A\",IF(Table17[[#This Row],[Disposition]]=0,\"\",K169+$F$2))=0+$F$2,\"NEVER CALIBRATED\",IF(Table17[[#This Row],[Disposition]]=\"Retired\",\"N/A\",IF(Table17[[#This Row],[Disposition]]=0,\"\",K169+$F$2)))","v":""},{"$f":"IF(Table17[[#This Row],[Disposition]]=\"\",\"\",IF(AND(Table17[[#This Row],[Next Calibration]]<$E$1,Table17[[#This Row],[Disposition]]=\"Lost\"),\"Find and Calibrate\",IF(Table17[[#This Row],[Disposition]]=\"Lost\",\"Find\",IF(OR(Table17[[#This Row],[Next Calibration]]<$E$1,Table17[[#This Row],[Next Calibration]]=\"NEVER CALIBRATED\"),\"Calibrate\",\"Nominal\"))))","v":""},{"$f":"IF(((Table17[[#This Row],[Next Calibration]]-TODAY())/30)>2,\"More Than 2\",IF(((Table17[[#This Row],[Next Calibration]]-TODAY())/30)>1,\"Between 2 and 1\",\"Less than 1\"))","v":{"$error":"#VALUE!"}},{"$f":"IF(Table17[[#This Row],[Issued]]=\"\",\"\",IF(Table17[[#This Row],[Lent]]=\"\",0,1))","v":""},{"$f":"IF(Table17[[#This Row],[Lent]]=\"\",\"\",IF(Table17[[#This Row],[Returned]]=\"\",0,1))","v":""}]
[{"$nulls":11},{"$f":"IF(IF(Table17[[#This Row],[Disposition]]=\"Retired\",\"N/A\",IF(Table17[[#This Row],[Disposition]]=0,\"\",K170+$F$2))=0+$F$2,\"NEVER CALIBRATED\",IF(Table17[[#This Row],[Disposition]]=\"Retired\",\"N/A\",IF(Table17[[#This Row],[Disposition]]=0,\"\",K170+$F$2)))","v":""},{"$f":"IF(Table17[[#This Row],[Disposition]]=\"\",\"\",IF(AND(Table17[[#This Row],[Next Calibration]]<$E$1,Table17[[#This Row],[Disposition]]=\"Lost\"),\"Find and Calibrate\",IF(Table17[[#This Row],[Disposition]]=\"Lost\",\"Find\",IF(OR(Table17[[#This Row],[Next Calibration]]<$E$1,Table17[[#This Row],[Next Calibration]]=\"NEVER CALIBRATED\"),\"Calibrate\",\"Nominal\"))))","v":""},{"$f":"IF(((Table17[[#This Row],[Next Calibration]]-TODAY())/30)>2,\"More Than 2\",IF(((Table17[[#This Row],[Next Calibration]]-TODAY())/30)>1,\"Between 2 and 1\",\"Less than 1\"))","v":{"$error":"#VALUE!"}},{"$f":"IF(Table17[[#This Row],[Issued]]=\"\",\"\",IF(Table17[[#This Row],[Lent]]=\"\",0,1))","v":""},{"$f":"IF(Table17[[#This Row],[Lent]]=\"\",\"\",IF(Table17[[#This Row],[Returned]]=\"\",0,1))","v":""}]
[{"$nulls":11},{"$f":"IF(IF(Table17[[#This Row],[Disposition]]=\"Retired\",\"N/A\",IF(Table17[[#This Row],[Disposition]]=0,\"\",K171+$F$2))=0+$F$2,\"NEVER CALIBRATED\",IF(Table17[[#This Row],[Disposition]]=\"Retired\",\"N/A\",IF(Table17[[#This Row],[Disposition]]=0,\"\",K171+$F$2)))","v":""},{"$f":"IF(Table17[[#This Row],[Disposition]]=\"\",\"\",IF(AND(Table17[[#This Row],[Next Calibration]]<$E$1,Table17[[#This Row],[Disposition]]=\"Lost\"),\"Find and Calibrate\",IF(Table17[[#This Row],[Disposition]]=\"Lost\",\"Find\",IF(OR(Table17[[#This Row],[Next Calibration]]<$E$1,Table17[[#This Row],[Next Calibration]]=\"NEVER CALIBRATED\"),\"Calibrate\",\"Nominal\"))))","v":""},{"$f":"IF(((Table17[[#This Row],[Next Calibration]]-TODAY())/30)>2,\"More Than 2\",IF(((Table17[[#This Row],[Next Calibration]]-TODAY())/30)>1,\"Between 2 and 1\",\"Less than 1\"))","v":{"$error":"#VALUE!"}},{"$f":"IF(Table17[[#This Row],[Issued]]=\"\",\"\",IF(Table17[[#This Row],[Lent]]=\"\",0,1))","v":""},{"$f":"IF(Table17[[#This Row],[Lent]]=\"\",\"\",IF(Table17[[#This Row],[Returned]]=\"\",0,1))","v":""}]
[{"$nulls":11},{"$f":"IF(IF(Table17[[#This Row],[Disposition]]=\"Retired\",\"N/A\",IF(Table17[[#This Row],[Disposition]]=0,\"\",K172+$F$2))=0+$F$2,\"NEVER CALIBRATED\",IF(Table17[[#This Row],[Disposition]]=\"Retired\",\"N/A\",IF(Table17[[#This Row],[Disposition]]=0,\"\",K172+$F$2)))","v":""},{"$f":"IF(Table17[[#This Row],[Disposition]]=\"\",\"\",IF(AND(Table17[[#This Row],[Next Calibration]]<$E$1,Table17[[#This Row],[Disposition]]=\"Lost\"),\"Find and Calibrate\",IF(Table17[[#This Row],[Disposition]]=\"Lost\",\"Find\",IF(OR(Table17[[#This Row],[Next Calibration]]<$E$1,Table17[[#This Row],[Next Calibration]]=\"NEVER CALIBRATED\"),\"Calibrate\",\"Nominal\"))))","v":""},{"$f":"IF(((Table17[[#This Row],[Next Calibration]]-TODAY())/30)>2,\"More Than 2\",IF(((Table17[[#This Row],[Next Calibration]]-TODAY())/30)>1,\"Between 2 and 1\",\"Less than 1\"))","v":{"$error":"#VALUE!"}},{"$f":"IF(Table17[[#This Row],[Issued]]=\"\",\"\",IF(Table17[[#This Row],[Lent]]=\"\",0,1))","v":""},{"$f":"IF(Table17[[#This Row],[Lent]]=\"\",\"\",IF(Table17[[#This Row],[Returned]]=\"\",0,1))","v":""}]
[{"$nulls":11},{"$f":"IF(IF(Table17[[#This Row],[Disposition]]=\"Retired\",\"N/A\",IF(Table17[[#This Row],[Disposition]]=0,\"\",K173+$F$2))=0+$F$2,\"NEVER CALIBRATED\",IF(Table17[[#This Row],[Disposition]]=\"Retired\",\"N/A\",IF(Table17[[#This Row],[Disposition]]=0,\"\",K173+$F$2)))","v":""},{"$f":"IF(Table17[[#This Row],[Disposition]]=\"\",\"\",IF(AND(Table17[[#This Row],[Next Calibration]]<$E$1,Table17[[#This Row],[Disposition]]=\"Lost\"),\"Find and Calibrate\",IF(Table17[[#This Row],[Disposition]]=\"Lost\",\"Find\",IF(OR(Table17[[#This Row],[Next Calibration]]<$E$1,Table17[[#This Row],[Next Calibration]]=\"NEVER CALIBRATED\"),\"Calibrate\",\"Nominal\"))))","v":""},{"$f":"IF(((Table17[[#This Row],[Next Calibration]]-TODAY())/30)>2,\"More Than 2\",IF(((Table17[[#This Row],[Next Calibration]]-TODAY())/30)>1,\"Between 2 and 1\",\"Less than 1\"))","v":{"$error":"#VALUE!"}},{"$f":"IF(Table17[[#This Row],[Issued]]=\"\",\"\",IF(Table17[[#This Row],[Lent]]=\"\",0,1))","v":""},{"$f":"IF(Table17[[#This Row],[Lent]]=\"\",\"\",IF(Table17[[#This Row],[Returned]]=\"\",0,1))","v":""}]
[{"$nulls":11},{"$f":"IF(IF(Table17[[#This Row],[Disposition]]=\"Retired\",\"N/A\",IF(Table17[[#This Row],[Disposition]]=0,\"\",K174+$F$2))=0+$F$2,\"NEVER CALIBRATED\",IF(Table17[[#This Row],[Disposition]]=\"Retired\",\"N/A\",IF(Table17[[#This Row],[Disposition]]=0,\"\",K174+$F$2)))","v":""},{"$f":"IF(Table17[[#This Row],[Disposition]]=\"\",\"\",IF(AND(Table17[[#This Row],[Next Calibration]]<$E$1,Table17[[#This Row],[Disposition]]=\"Lost\"),\"Find and Calibrate\",IF(Table17[[#This Row],[Disposition]]=\"Lost\",\"Find\",IF(OR(Table17[[#This Row],[Next Calibration]]<$E$1,Table17[[#This Row],[Next Calibration]]=\"NEVER CALIBRATED\"),\"Calibrate\",\"Nominal\"))))","v":""},{"$f":"IF(((Table17[[#This Row],[Next Calibration]]-TODAY())/30)>2,\"More Than 2\",IF(((Table17[[#This Row],[Next Calibration]]-TODAY())/30)>1,\"Between 2 and 1\",\"Less than 1\"))","v":{"$error":"#VALUE!"}},{"$f":"IF(Table17[[#This Row],[Issued]]=\"\",\"\",IF(Table17[[#This Row],[Lent]]=\"\",0,1))","v":""},{"$f":"IF(Table17[[#This Row],[Lent]]=\"\",\"\",IF(Table17[[#This Row],[Returned]]=\"\",0,1))","v":""}]
[{"$nulls":11},{"$f":"IF(IF(Table17[[#This Row],[Disposition]]=\"Retired\",\"N/A\",IF(Table17[[#This Row],[Disposition]]=0,\"\",K175+$F$2))=0+$F$2,\"NEVER CALIBRATED\",IF(Table17[[#This Row],[Disposition]]=\"Retired\",\"N/A\",IF(Table17[[#This Row],[Disposition]]=0,\"\",K175+$F$2)))","v":""},{"$f":"IF(Table17[[#This Row],[Disposition]]=\"\",\"\",IF(AND(Table17[[#This Row],[Next Calibration]]<$E$1,Table17[[#This Row],[Disposition]]=\"Lost\"),\"Find and Calibrate\",IF(Table17[[#This Row],[Disposition]]=\"Lost\",\"Find\",IF(OR(Table17[[#This Row],[Next Calibration]]<$E$1,Table17[[#This Row],[Next Calibration]]=\"NEVER CALIBRATED\"),\"Calibrate\",\"Nominal\"))))","v":""},{"$f":"IF(((Table17[[#This Row],[Next Calibration]]-TODAY())/30)>2,\"More Than 2\",IF(((Table17[[#This Row],[Next Calibration]]-TODAY())/30)>1,\"Between 2 and 1\",\"Less than 1\"))","v":{"$error":"#VALUE!"}},{"$f":"IF(Table17[[#This Row],[Issued]]=\"\",\"\",IF(Table17[[#This Row],[Lent]]=\"\",0,1))","v":""},{"$f":"IF(Table17[[#This Row],[Lent]]=\"\",\"\",IF(Table17[[#This Row],[Returned]]=\"\",0,1))","v":""}]
[{"$nulls":11},{"$f":"IF(IF(Table17[[#This Row],[Disposition]]=\"Retired\",\"N/A\",IF(Table17[[#This Row],[Disposition]]=0,\"\",K176+$F$2))=0+$F$2,\"NEVER CALIBRATED\",IF(Table17[[#This Row],[Disposition]]=\"Retired\",\"N/A\",IF(Table17[[#This Row],[Disposition]]=0,\"\",K176+$F$2)))","v":""},{"$f":"IF(Table17[[#This Row],[Disposition]]=\"\",\"\",IF(AND(Table17[[#This Row],[Next Calibration]]<$E$1,Table17[[#This Row],[Disposition]]=\"Lost\"),\"Find and Calibrate\",IF(Table17[[#This Row],[Disposition]]=\"Lost\",\"Find\",IF(OR(Table17[[#This Row],[Next Calibration]]<$E$1,Table17[[#This Row],[Next Calibration]]=\"NEVER CALIBRATED\"),\"Calibrate\",\"Nominal\"))))","v":""},{"$f":"IF(((Table17[[#This Row],[Next Calibration]]-TODAY())/30)>2,\"More Than 2\",IF(((Table17[[#This Row],[Next Calibration]]-TODAY())/30)>1,\"Between 2 and 1\",\"Less than 1\"))","v":{"$error":"#VALUE!"}},{"$f":"IF(Table17[[#This Row],[Issued]]=\"\",\"\",IF(Table17[[#This Row],[Lent]]=\"\",0,1))","v":""},{"$f":"IF(Table17[[#This Row],[Lent]]=\"\",\"\",IF(Table17[[#This Row],[Returned]]=\"\",0,1))","v":""}]
[{"$nulls":11},{"$f":"IF(IF(Table17[[#This Row],[Disposition]]=\"Retired\",\"N/A\",IF(Table17[[#This Row],[Disposition]]=0,\"\",K177+$F$2))=0+$F$2,\"NEVER CALIBRATED\",IF(Table17[[#This Row],[Disposition]]=\"Retired\",\"N/A\",IF(Table17[[#This Row],[Disposition]]=0,\"\",K177+$F$2)))","v":""},{"$f":"IF(Table17[[#This Row],[Disposition]]=\"\",\"\",IF(AND(Table17[[#This Row],[Next Calibration]]<$E$1,Table17[[#This Row],[Disposition]]=\"Lost\"),\"Find and Calibrate\",IF(Table17[[#This Row],[Disposition]]=\"Lost\",\"Find\",IF(OR(Table17[[#This Row],[Next Calibration]]<$E$1,Table17[[#This Row],[Next Calibration]]=\"NEVER CALIBRATED\"),\"Calibrate\",\"Nominal\"))))","v":""},{"$f":"IF(((Table17[[#This Row],[Next Calibration]]-TODAY())/30)>2,\"More Than 2\",IF(((Table17[[#This Row],[Next Calibration]]-TODAY())/30)>1,\"Between 2 and 1\",\"Less than 1\"))","v":{"$error":"#VALUE!"}},{"$f":"IF(Table17[[#This Row],[Issued]]=\"\",\"\",IF(Table17[[#This Row],[Lent]]=\"\",0,1))","v":""},{"$f":"IF(Table17[[#This Row],[Lent]]=\"\",\"\",IF(Table17[[#This Row],[Returned]]=\"\",0,1))","v":""}]
[{"$nulls":11},{"$f":"IF(IF(Table17[[#This Row],[Disposition]]=\"Retired\",\"N/A\",IF(Table17[[#This Row],[Disposition]]=0,\"\",K178+$F$2))=0+$F$2,\"NEVER CALIBRATED\",IF(Table17[[#This Row],[Disposition]]=\"Retired\",\"N/A\",IF(Table17[[#This Row],[Disposition]]=0,\"\",K178+$F$2)))","v":""},{"$f":"IF(Table17[[#This Row],[Disposition]]=\"\",\"\",IF(AND(Table17[[#This Row],[Next Calibration]]<$E$1,Table17[[#This Row],[Disposition]]=\"Lost\"),\"Find and Calibrate\",IF(Table17[[#This Row],[Disposition]]=\"Lost\",\"Find\",IF(OR(Table17[[#This Row],[Next Calibration]]<$E$1,Table17[[#This Row],[Next Calibration]]=\"NEVER CALIBRATED\"),\"Calibrate\",\"Nominal\"))))","v":""},{"$f":"IF(((Table17[[#This Row],[Next Calibration]]-TODAY())/30)>2,\"More Than 2\",IF(((Table17[[#This Row],[Next Calibration]]-TODAY())/30)>1,\"Between 2 and 1\",\"Less than 1\"))","v":{"$error":"#VALUE!"}},{"$f":"IF(Table17[[#This Row],[Issued]]=\"\",\"\",IF(Table17[[#This Row],[Lent]]=\"\",0,1))","v":""},{"$f":"IF(Table17[[#This Row],[Lent]]=\"\",\"\",IF(Table17[[#This Row],[Returned]]=\"\",0,1))","v":""}]
[{"$nulls":11},{"$f":"IF(IF(Table17[[#This Row],[Disposition]]=\"Retired\",\"N/A\",IF(Table17[[#This Row],[Disposition]]=0,\"\",K179+$F$2))=0+$F$2,\"NEVER CALIBRATED\",IF(Table17[[#This Row],[Disposition]]=\"Retired\",\"N/A\",IF(Table17[[#This Row],[Disposition]]=0,\"\",K179+$F$2)))","v":""},{"$f":"IF(Table17[[#This Row],[Disposition]]=\"\",\"\",IF(AND(Table17[[#This Row],[Next Calibration]]<$E$1,Table17[[#This Row],[Disposition]]=\"Lost\"),\"Find and Calibrate\",IF(Table17[[#This Row],[Disposition]]=\"Lost\",\"Find\",IF(OR(Table17[[#This Row],[Next Calibration]]<$E$1,Table17[[#This Row],[Next Calibration]]=\"NEVER CALIBRATED\"),\"Calibrate\",\"Nominal\"))))","v":""},{"$f":"IF(((Table17[[#This Row],[Next Calibration]]-TODAY())/30)>2,\"More Than 2\",IF(((Table17[[#This Row],[Next Calibration]]-TODAY())/30)>1,\"Between 2 and 1\",\"Less than 1\"))","v":{"$error":"#VALUE!"}},{"$f":"IF(Table17[[#This Row],[Issued]]=\"\",\"\",IF(Table17[[#This Row],[Lent]]=\"\",0,1))","v":""},{"$f":"IF(Table17[[#This Row],[Lent]]=\"\",\"\",IF(Table17[[#This Row],[Returned]]=\"\",0,1))","v":""}]
[{"$nulls":11},{"$f":"IF(IF(Table17[[#This Row],[Disposition]]=\"Retired\",\"N/A\",IF(Table17[[#This Row],[Disposition]]=0,\"\",K180+$F$2))=0+$F$2,\"NEVER CALIBRATED\",IF(Table17[[#This Row],[Disposition]]=\"Retired\",\"N/A\",IF(Table17[[#This Row],[Disposition]]=0,\"\",K180+$F$2)))","v":""},{"$f":"IF(Table17[[#This Row],[Disposition]]=\"\",\"\",IF(AND(Table17[[#This Row],[Next Calibration]]<$E$1,Table17[[#This Row],[Disposition]]=\"Lost\"),\"Find and Calibrate\",IF(Table17[[#This Row],[Disposition]]=\"Lost\",\"Find\",IF(OR(Table17[[#This Row],[Next Calibration]]<$E$1,Table17[[#This Row],[Next Calibration]]=\"NEVER CALIBRATED\"),\"Calibrate\",\"Nominal\"))))","v":""},{"$f":"IF(((Table17[[#This Row],[Next Calibration]]-TODAY())/30)>2,\"More Than 2\",IF(((Table17[[#This Row],[Next Calibration]]-TODAY())/30)>1,\"Between 2 and 1\",\"Less than 1\"))","v":{"$error":"#VALUE!"}},{"$f":"IF(Table17[[#This Row],[Issued]]=\"\",\"\",IF(Table17[[#This Row],[Lent]]=\"\",0,1))","v":""},{"$f":"IF(Table17[[#This Row],[Lent]]=\"\",\"\",IF(Table17[[#This Row],[Returned]]=\"\",0,1))","v":""}]
[{"$nulls":11},{"$f":"IF(IF(Table17[[#This Row],[Disposition]]=\"Retired\",\"N/A\",IF(Table17[[#This Row],[Disposition]]=0,\"\",K181+$F$2))=0+$F$2,\"NEVER CALIBRATED\",IF(Table17[[#This Row],[Disposition]]=\"Retired\",\"N/A\",IF(Table17[[#This Row],[Disposition]]=0,\"\",K181+$F$2)))","v":""},{"$f":"IF(Table17[[#This Row],[Disposition]]=\"\",\"\",IF(AND(Table17[[#This Row],[Next Calibration]]<$E$1,Table17[[#This Row],[Disposition]]=\"Lost\"),\"Find and Calibrate\",IF(Table17[[#This Row],[Disposition]]=\"Lost\",\"Find\",IF(OR(Table17[[#This Row],[Next Calibration]]<$E$1,Table17[[#This Row],[Next Calibration]]=\"NEVER CALIBRATED\"),\"Calibrate\",\"Nominal\"))))","v":""},{"$f":"IF(((Table17[[#This Row],[Next Calibration]]-TODAY())/30)>2,\"More Than 2\",IF(((Table17[[#This Row],[Next Calibration]]-TODAY())/30)>1,\"Between 2 and 1\",\"Less than 1\"))","v":{"$error":"#VALUE!"}},{"$f":"IF(Table17[[#This Row],[Issued]]=\"\",\"\",IF(Table17[[#This Row],[Lent]]=\"\",0,1))","v":""},{"$f":"IF(Table17[[#This Row],[Lent]]=\"\",\"\",IF(Table17[[#This Row],[Returned]]=\"\",0,1))","v":""}]
[{"$nulls":11},{"$f":"IF(IF(Table17[[#This Row],[Disposition]]=\"Retired\",\"N/A\",IF(Table17[[#This Row],[Disposition]]=0,\"\",K182+$F$2))=0+$F$2,\"NEVER CALIBRATED\",IF(Table17[[#This Row],[Disposition]]=\"Retired\",\"N/A\",IF(Table17[[#This Row],[Disposition]]=0,\"\",K182+$F$2)))","v":""},{"$f":"IF(Table17[[#This Row],[Disposition]]=\"\",\"\",IF(AND(Table17[[#This Row],[Next Calibration]]<$E$1,Table17[[#This Row],[Disposition]]=\"Lost\"),\"Find and Calibrate\",IF(Table17[[#This Row],[Disposition]]=\"Lost\",\"Find\",IF(OR(Table17[[#This Row],[Next Calibration]]<$E$1,Table17[[#This Row],[Next Calibration]]=\"NEVER CALIBRATED\"),\"Calibrate\",\"Nominal\"))))","v":""},{"$f":"IF(((Table17[[#This Row],[Next Calibration]]-TODAY())/30)>2,\"More Than 2\",IF(((Table17[[#This Row],[Next Calibration]]-TODAY())/30)>1,\"Between 2 and 1\",\"Less than 1\"))","v":{"$error":"#VALUE!"}},{"$f":"IF(Table17[[#This Row],[Issued]]=\"\",\"\",IF(Table17[[#This Row],[Lent]]=\"\",0,1))","v":""},{"$f":"IF(Table17[[#This Row],[Lent]]=\"\",\"\",IF(Table17[[#This Row],[Returned]]=\"\",0,1))","v":""}]
[{"$nulls":11},{"$f":"IF(IF(Table17[[#This Row],[Disposition]]=\"Retired\",\"N/A\",IF(Table17[[#This Row],[Disposition]]=0,\"\",K183+$F$2))=0+$F$2,\"NEVER CALIBRATED\",IF(Table17[[#This Row],[Disposition]]=\"Retired\",\"N/A\",IF(Table17[[#This Row],[Disposition]]=0,\"\",K183+$F$2)))","v":""},{"$f":"IF(Table17[[#This Row],[Disposition]]=\"\",\"\",IF(AND(Table17[[#This Row],[Next Calibration]]<$E$1,Table17[[#This Row],[Disposition]]=\"Lost\"),\"Find and Calibrate\",IF(Table17[[#This Row],[Disposition]]=\"Lost\",\"Find\",IF(OR(Table17[[#This Row],[Next Calibration]]<$E$1,Table17[[#This Row],[Next Calibration]]=\"NEVER CALIBRATED\"),\"Calibrate\",\"Nominal\"))))","v":""},{"$f":"IF(((Table17[[#This Row],[Next Calibration]]-TODAY())/30)>2,\"More Than 2\",IF(((Table17[[#This Row],[Next Calibration]]-TODAY())/30)>1,\"Between 2 and 1\",\"Less than 1\"))","v":{"$error":"#VALUE!"}},{"$f":"IF(Table17[[#This Row],[Issued]]=\"\",\"\",IF(Table17[[#This Row],[Lent]]=\"\",0,1))","v":""},{"$f":"IF(Table17[[#This Row],[Lent]]=\"\",\"\",IF(Table17[[#This Row],[Returned]]=\"\",0,1))","v":""}]
[{"$nulls":11},{"$f":"IF(IF(Table17[[#This Row],[Disposition]]=\"Retired\",\"N/A\",IF(Table17[[#This Row],[Disposition]]=0,\"\",K184+$F$2))=0+$F$2,\"NEVER CALIBRATED\",IF(Table17[[#This Row],[Disposition]]=\"Retired\",\"N/A\",IF(Table17[[#This Row],[Disposition]]=0,\"\",K184+$F$2)))","v":""},{"$f":"IF(Table17[[#This Row],[Disposition]]=\"\",\"\",IF(AND(Table17[[#This Row],[Next Calibration]]<$E$1,Table17[[#This Row],[Disposition]]=\"Lost\"),\"Find and Calibrate\",IF(Table17[[#This Row],[Disposition]]=\"Lost\",\"Find\",IF(OR(Table17[[#This Row],[Next Calibration]]<$E$1,Table17[[#This Row],[Next Calibration]]=\"NEVER CALIBRATED\"),\"Calibrate\",\"Nominal\"))))","v":""},{"$f":"IF(((Table17[[#This Row],[Next Calibration]]-TODAY())/30)>2,\"More Than 2\",IF(((Table17[[#This Row],[Next Calibration]]-TODAY())/30)>1,\"Between 2 and 1\",\"Less than 1\"))","v":{"$error":"#VALUE!"}},{"$f":"IF(Table17[[#This Row],[Issued]]=\"\",\"\",IF(Table17[[#This Row],[Lent]]=\"\",0,1))","v":""},{"$f":"IF(Table17[[#This Row],[Lent]]=\"\",\"\",IF(Table17[[#This Row],[Returned]]=\"\",0,1))","v":""}]
[{"$nulls":11},{"$f":"IF(IF(Table17[[#This Row],[Disposition]]=\"Retired\",\"N/A\",IF(Table17[[#This Row],[Disposition]]=0,\"\",K185+$F$2))=0+$F$2,\"NEVER CALIBRATED\",IF(Table17[[#This Row],[Disposition]]=\"Retired\",\"N/A\",IF(Table17[[#This Row],[Disposition]]=0,\"\",K185+$F$2)))","v":""},{"$f":"IF(Table17[[#This Row],[Disposition]]=\"\",\"\",IF(AND(Table17[[#This Row],[Next Calibration]]<$E$1,Table17[[#This Row],[Disposition]]=\"Lost\"),\"Find and Calibrate\",IF(Table17[[#This Row],[Disposition]]=\"Lost\",\"Find\",IF(OR(Table17[[#This Row],[Next Calibration]]<$E$1,Table17[[#This Row],[Next Calibration]]=\"NEVER CALIBRATED\"),\"Calibrate\",\"Nominal\"))))","v":""},{"$f":"IF(((Table17[[#This Row],[Next Calibration]]-TODAY())/30)>2,\"More Than 2\",IF(((Table17[[#This Row],[Next Calibration]]-TODAY())/30)>1,\"Between 2 and 1\",\"Less than 1\"))","v":{"$error":"#VALUE!"}},{"$f":"IF(Table17[[#This Row],[Issued]]=\"\",\"\",IF(Table17[[#This Row],[Lent]]=\"\",0,1))","v":""},{"$f":"IF(Table17[[#This Row],[Lent]]=\"\",\"\",IF(Table17[[#This Row],[Returned]]=\"\",0,1))","v":""}]
[{"$nulls":11},{"$f":"IF(IF(Table17[[#This Row],[Disposition]]=\"Retired\",\"N/A\",IF(Table17[[#This Row],[Disposition]]=0,\"\",K186+$F$2))=0+$F$2,\"NEVER CALIBRATED\",IF(Table17[[#This Row],[Disposition]]=\"Retired\",\"N/A\",IF(Table17[[#This Row],[Disposition]]=0,\"\",K186+$F$2)))","v":""},{"$f":"IF(Table17[[#This Row],[Disposition]]=\"\",\"\",IF(AND(Table17[[#This Row],[Next Calibration]]<$E$1,Table17[[#This Row],[Disposition]]=\"Lost\"),\"Find and Calibrate\",IF(Table17[[#This Row],[Disposition]]=\"Lost\",\"Find\",IF(OR(Table17[[#This Row],[Next Calibration]]<$E$1,Table17[[#This Row],[Next Calibration]]=\"NEVER CALIBRATED\"),\"Calibrate\",\"Nominal\"))))","v":""},{"$f":"IF(((Table17[[#This Row],[Next Calibration]]-TODAY())/30)>2,\"More Than 2\",IF(((Table17[[#This Row],[Next Calibration]]-TODAY())/30)>1,\"Between 2 and 1\",\"Less than 1\"))","v":{"$error":"#VALUE!"}},{"$f":"IF(Table17[[#This Row],[Issued]]=\"\",\"\",IF(Table17[[#This Row],[Lent]]=\"\",0,1))","v":""},{"$f":"IF(Table17[[#This Row],[Lent]]=\"\",\"\",IF(Table17[[#This Row],[Returned]]=\"\",0,1))","v":""}]
[{"$nulls":11},{"$f":"IF(IF(Table17[[#This Row],[Disposition]]=\"Retired\",\"N/A\",IF(Table17[[#This Row],[Disposition]]=0,\"\",K187+$F$2))=0+$F$2,\"NEVER CALIBRATED\",IF(Table17[[#This Row],[Disposition]]=\"Retired\",\"N/A\",IF(Table17[[#This Row],[Disposition]]=0,\"\",K187+$F$2)))","v":""},{"$f":"IF(Table17[[#This Row],[Disposition]]=\"\",\"\",IF(AND(Table17[[#This Row],[Next Calibration]]<$E$1,Table17[[#This Row],[Disposition]]=\"Lost\"),\"Find and Calibrate\",IF(Table17[[#This Row],[Disposition]]=\"Lost\",\"Find\",IF(OR(Table17[[#This Row],[Next Calibration]]<$E$1,Table17[[#This Row],[Next Calibration]]=\"NEVER CALIBRATED\"),\"Calibrate\",\"Nominal\"))))","v":""},{"$f":"IF(((Table17[[#This Row],[Next Calibration]]-TODAY())/30)>2,\"More Than 2\",IF(((Table17[[#This Row],[Next Calibration]]-TODAY())/30)>1,\"Between 2 and 1\",\"Less than 1\"))","v":{"$error":"#VALUE!"}},{"$f":"IF(Table17[[#This Row],[Issued]]=\"\",\"\",IF(Table17[[#This Row],[Lent]]=\"\",0,1))","v":""},{"$f":"IF(Table17[[#This Row],[Lent]]=\"\",\"\",IF(Table17[[#This Row],[Returned]]=\"\",0,1))","v":""}]
[{"$nulls":11},{"$f":"IF(IF(Table17[[#This Row],[Disposition]]=\"Retired\",\"N/A\",IF(Table17[[#This Row],[Disposition]]=0,\"\",K188+$F$2))=0+$F$2,\"NEVER CALIBRATED\",IF(Table17[[#This Row],[Disposition]]=\"Retired\",\"N/A\",IF(Table17[[#This Row],[Disposition]]=0,\"\",K188+$F$2)))","v":""},{"$f":"IF(Table17[[#This Row],[Disposition]]=\"\",\"\",IF(AND(Table17[[#This Row],[Next Calibration]]<$E$1,Table17[[#This Row],[Disposition]]=\"Lost\"),\"Find and Calibrate\",IF(Table17[[#This Row],[Disposition]]=\"Lost\",\"Find\",IF(OR(Table17[[#This Row],[Next Calibration]]<$E$1,Table17[[#This Row],[Next Calibration]]=\"NEVER CALIBRATED\"),\"Calibrate\",\"Nominal\"))))","v":""},{"$f":"IF(((Table17[[#This Row],[Next Calibration]]-TODAY())/30)>2,\"More Than 2\",IF(((Table17[[#This Row],[Next Calibration]]-TODAY())/30)>1,\"Between 2 and 1\",\"Less than 1\"))","v":{"$error":"#VALUE!"}},{"$f":"IF(Table17[[#This Row],[Issued]]=\"\",\"\",IF(Table17[[#This Row],[Lent]]=\"\",0,1))","v":""},{"$f":"IF(Table17[[#This Row],[Lent]]=\"\",\"\",IF(Table17[[#This Row],[Returned]]=\"\",0,1))","v":""}]
[{"$nulls":11},{"$f":"IF(IF(Table17[[#This Row],[Disposition]]=\"Retired\",\"N/A\",IF(Table17[[#This Row],[Disposition]]=0,\"\",K189+$F$2))=0+$F$2,\"NEVER CALIBRATED\",IF(Table17[[#This Row],[Disposition]]=\"Retired\",\"N/A\",IF(Table17[[#This Row],[Disposition]]=0,\"\",K189+$F$2)))","v":""},{"$f":"IF(Table17[[#This Row],[Disposition]]=\"\",\"\",IF(AND(Table17[[#This Row],[Next Calibration]]<$E$1,Table17[[#This Row],[Disposition]]=\"Lost\"),\"Find and Calibrate\",IF(Table17[[#This Row],[Disposition]]=\"Lost\",\"Find\",IF(OR(Table17[[#This Row],[Next Calibration]]<$E$1,Table17[[#This Row],[Next Calibration]]=\"NEVER CALIBRATED\"),\"Calibrate\",\"Nominal\"))))","v":""},{"$f":"IF(((Table17[[#This Row],[Next Calibration]]-TODAY())/30)>2,\"More Than 2\",IF(((Table17[[#This Row],[Next Calibration]]-TODAY())/30)>1,\"Between 2 and 1\",\"Less than 1\"))","v":{"$error":"#VALUE!"}},{"$f":"IF(Table17[[#This Row],[Issued]]=\"\",\"\",IF(Table17[[#This Row],[Lent]]=\"\",0,1))","v":""},{"$f":"IF(Table17[[#This Row],[Lent]]=\"\",\"\",IF(Table17[[#This Row],[Returned]]=\"\",0,1))","v":""}]
[{"$nulls":11},{"$f":"IF(IF(Table17[[#This Row],[Disposition]]=\"Retired\",\"N/A\",IF(Table17[[#This Row],[Disposition]]=0,\"\",K190+$F$2))=0+$F$2,\"NEVER CALIBRATED\",IF(Table17[[#This Row],[Disposition]]=\"Retired\",\"N/A\",IF(Table17[[#This Row],[Disposition]]=0,\"\",K190+$F$2)))","v":""},{"$f":"IF(Table17[[#This Row],[Disposition]]=\"\",\"\",IF(AND(Table17[[#This Row],[Next Calibration]]<$E$1,Table17[[#This Row],[Disposition]]=\"Lost\"),\"Find and Calibrate\",IF(Table17[[#This Row],[Disposition]]=\"Lost\",\"Find\",IF(OR(Table17[[#This Row],[Next Calibration]]<$E$1,Table17[[#This Row],[Next Calibration]]=\"NEVER CALIBRATED\"),\"Calibrate\",\"Nominal\"))))","v":""},{"$f":"IF(((Table17[[#This Row],[Next Calibration]]-TODAY())/30)>2,\"More Than 2\",IF(((Table17[[#This Row],[Next Calibration]]-TODAY())/30)>1,\"Between 2 and 1\",\"Less than 1\"))","v":{"$error":"#VALUE!"}},{"$f":"IF(Table17[[#This Row],[Issued]]=\"\",\"\",IF(Table17[[#This Row],[Lent]]=\"\",0,1))","v":""},{"$f":"IF(Table17[[#This Row],[Lent]]=\"\",\"\",IF(Table17[[#This Row],[Returned]]=\"\",0,1))","v":""}]
[{"$nulls":11},{"$f":"IF(IF(Table17[[#This Row],[Disposition]]=\"Retired\",\"N/A\",IF(Table17[[#This Row],[Disposition]]=0,\"\",K191+$F$2))=0+$F$2,\"NEVER CALIBRATED\",IF(Table17[[#This Row],[Disposition]]=\"Retired\",\"N/A\",IF(Table17[[#This Row],[Disposition]]=0,\"\",K191+$F$2)))","v":""},{"$f":"IF(Table17[[#This Row],[Disposition]]=\"\",\"\",IF(AND(Table17[[#This Row],[Next Calibration]]<$E$1,Table17[[#This Row],[Disposition]]=\"Lost\"),\"Find and Calibrate\",IF(Table17[[#This Row],[Disposition]]=\"Lost\",\"Find\",IF(OR(Table17[[#This Row],[Next Calibration]]<$E$1,Table17[[#This Row],[Next Calibration]]=\"NEVER CALIBRATED\"),\"Calibrate\",\"Nominal\"))))","v":""},{"$f":"IF(((Table17[[#This Row],[Next Calibration]]-TODAY())/30)>2,\"More Than 2\",IF(((Table17[[#This Row],[Next Calibration]]-TODAY())/30)>1,\"Between 2 and 1\",\"Less than 1\"))","v":{"$error":"#VALUE!"}},{"$f":"IF(Table17[[#This Row],[Issued]]=\"\",\"\",IF(Table17[[#This Row],[Lent]]=\"\",0,1))","v":""},{"$f":"IF(Table17[[#This Row],[Lent]]=\"\",\"\",IF(Table17[[#This Row],[Returned]]=\"\",0,1))","v":""}]
[{"$nulls":11},{"$f":"IF(IF(Table17[[#This Row],[Disposition]]=\"Retired\",\"N/A\",IF(Table17[[#This Row],[Disposition]]=0,\"\",K192+$F$2))=0+$F$2,\"NEVER CALIBRATED\",IF(Table17[[#This Row],[Disposition]]=\"Retired\",\"N/A\",IF(Table17[[#This Row],[Disposition]]=0,\"\",K192+$F$2)))","v":""},{"$f":"IF(Table17[[#This Row],[Disposition]]=\"\",\"\",IF(AND(Table17[[#This Row],[Next Calibration]]<$E$1,Table17[[#This Row],[Disposition]]=\"Lost\"),\"Find and Calibrate\",IF(Table17[[#This Row],[Disposition]]=\"Lost\",\"Find\",IF(OR(Table17[[#This Row],[Next Calibration]]<$E$1,Table17[[#This Row],[Next Calibration]]=\"NEVER CALIBRATED\"),\"Calibrate\",\"Nominal\"))))","v":""},{"$f":"IF(((Table17[[#This Row],[Next Calibration]]-TODAY())/30)>2,\"More Than 2\",IF(((Table17[[#This Row],[Next Calibration]]-TODAY())/30)>1,\"Between 2 and 1\",\"Less than 1\"))","v":{"$error":"#VALUE!"}},{"$f":"IF(Table17[[#This Row],[Issued]]=\"\",\"\",IF(Table17[[#This Row],[Lent]]=\"\",0,1))","v":""},{"$f":"IF(Table17[[#This Row],[Lent]]=\"\",\"\",IF(Table17[[#This Row],[Returned]]=\"\",0,1))","v":""}]
[{"$nulls":11},{"$f":"IF(IF(Table17[[#This Row],[Disposition]]=\"Retired\",\"N/A\",IF(Table17[[#This Row],[Disposition]]=0,\"\",K193+$F$2))=0+$F$2,\"NEVER CALIBRATED\",IF(Table17[[#This Row],[Disposition]]=\"Retired\",\"N/A\",IF(Table17[[#This Row],[Disposition]]=0,\"\",K193+$F$2)))","v":""},{"$f":"IF(Table17[[#This Row],[Disposition]]=\"\",\"\",IF(AND(Table17[[#This Row],[Next Calibration]]<$E$1,Table17[[#This Row],[Disposition]]=\"Lost\"),\"Find and Calibrate\",IF(Table17[[#This Row],[Disposition]]=\"Lost\",\"Find\",IF(OR(Table17[[#This Row],[Next Calibration]]<$E$1,Table17[[#This Row],[Next Calibration]]=\"NEVER CALIBRATED\"),\"Calibrate\",\"Nominal\"))))","v":""},{"$f":"IF(((Table17[[#This Row],[Next Calibration]]-TODAY())/30)>2,\"More Than 2\",IF(((Table17[[#This Row],[Next Calibration]]-TODAY())/30)>1,\"Between 2 and 1\",\"Less than 1\"))","v":{"$error":"#VALUE!"}},{"$f":"IF(Table17[[#This Row],[Issued]]=\"\",\"\",IF(Table17[[#This Row],[Lent]]=\"\",0,1))","v":""},{"$f":"IF(Table17[[#This Row],[Lent]]=\"\",\"\",IF(Table17[[#This Row],[Returned]]=\"\",0,1))","v":""}]
[{"$nulls":11},{"$f":"IF(IF(Table17[[#This Row],[Disposition]]=\"Retired\",\"N/A\",IF(Table17[[#This Row],[Disposition]]=0,\"\",K194+$F$2))=0+$F$2,\"NEVER CALIBRATED\",IF(Table17[[#This Row],[Disposition]]=\"Retired\",\"N/A\",IF(Table17[[#This Row],[Disposition]]=0,\"\",K194+$F$2)))","v":""},{"$f":"IF(Table17[[#This Row],[Disposition]]=\"\",\"\",IF(AND(Table17[[#This Row],[Next Calibration]]<$E$1,Table17[[#This Row],[Disposition]]=\"Lost\"),\"Find and Calibrate\",IF(Table17[[#This Row],[Disposition]]=\"Lost\",\"Find\",IF(OR(Table17[[#This Row],[Next Calibration]]<$E$1,Table17[[#This Row],[Next Calibration]]=\"NEVER CALIBRATED\"),\"Calibrate\",\"Nominal\"))))","v":""},{"$f":"IF(((Table17[[#This Row],[Next Calibration]]-TODAY())/30)>2,\"More Than 2\",IF(((Table17[[#This Row],[Next Calibration]]-TODAY())/30)>1,\"Between 2 and 1\",\"Less than 1\"))","v":{"$error":"#VALUE!"}},{"$f":"IF(Table17[[#This Row],[Issued]]=\"\",\"\",IF(Table17[[#This Row],[Lent]]=\"\",0,1))","v":""},{"$f":"IF(Table17[[#This Row],[Lent]]=\"\",\"\",IF(Table17[[#This Row],[Returned]]=\"\",0,1))","v":""}]
[{"$nulls":11},{"$f":"IF(IF(Table17[[#This Row],[Disposition]]=\"Retired\",\"N/A\",IF(Table17[[#This Row],[Disposition]]=0,\"\",K195+$F$2))=0+$F$2,\"NEVER CALIBRATED\",IF(Table17[[#This Row],[Disposition]]=\"Retired\",\"N/A\",IF(Table17[[#This Row],[Disposition]]=0,\"\",K195+$F$2)))","v":""},{"$f":"IF(Table17[[#This Row],[Disposition]]=\"\",\"\",IF(AND(Table17[[#This Row],[Next Calibration]]<$E$1,Table17[[#This Row],[Disposition]]=\"Lost\"),\"Find and Calibrate\",IF(Table17[[#This Row],[Disposition]]=\"Lost\",\"Find\",IF(OR(Table17[[#This Row],[Next Calibration]]<$E$1,Table17[[#This Row],[Next Calibration]]=\"NEVER CALIBRATED\"),\"Calibrate\",\"Nominal\"))))","v":""},{"$f":"IF(((Table17[[#This Row],[Next Calibration]]-TODAY())/30)>2,\"More Than 2\",IF(((Table17[[#This Row],[Next Calibration]]-TODAY())/30)>1,\"Between 2 and 1\",\"Less than 1\"))","v":{"$error":"#VALUE!"}},{"$f":"IF(Table17[[#This Row],[Issued]]=\"\",\"\",IF(Table17[[#This Row],[Lent]]=\"\",0,1))","v":""},{"$f":"IF(Table17[[#This Row],[Lent]]=\"\",\"\",IF(Table17[[#This Row],[Returned]]=\"\",0,1))","v":""}]
[{"$nulls":11},{"$f":"IF(IF(Table17[[#This Row],[Disposition]]=\"Retired\",\"N/A\",IF(Table17[[#This Row],[Disposition]]=0,\"\",K196+$F$2))=0+$F$2,\"NEVER CALIBRATED\",IF(Table17[[#This Row],[Disposition]]=\"Retired\",\"N/A\",IF(Table17[[#This Row],[Disposition]]=0,\"\",K196+$F$2)))","v":""},{"$f":"IF(Table17[[#This Row],[Disposition]]=\"\",\"\",IF(AND(Table17[[#This Row],[Next Calibration]]<$E$1,Table17[[#This Row],[Disposition]]=\"Lost\"),\"Find and Calibrate\",IF(Table17[[#This Row],[Disposition]]=\"Lost\",\"Find\",IF(OR(Table17[[#This Row],[Next Calibration]]<$E$1,Table17[[#This Row],[Next Calibration]]=\"NEVER CALIBRATED\"),\"Calibrate\",\"Nominal\"))))","v":""},{"$f":"IF(((Table17[[#This Row],[Next Calibration]]-TODAY())/30)>2,\"More Than 2\",IF(((Table17[[#This Row],[Next Calibration]]-TODAY())/30)>1,\"Between 2 and 1\",\"Less than 1\"))","v":{"$error":"#VALUE!"}},{"$f":"IF(Table17[[#This Row],[Issued]]=\"\",\"\",IF(Table17[[#This Row],[Lent]]=\"\",0,1))","v":""},{"$f":"IF(Table17[[#This Row],[Lent]]=\"\",\"\",IF(Table17[[#This Row],[Returned]]=\"\",0,1))","v":""}]
[{"$nulls":11},{"$f":"IF(IF(Table17[[#This Row],[Disposition]]=\"Retired\",\"N/A\",IF(Table17[[#This Row],[Disposition]]=0,\"\",K197+$F$2))=0+$F$2,\"NEVER CALIBRATED\",IF(Table17[[#This Row],[Disposition]]=\"Retired\",\"N/A\",IF(Table17[[#This Row],[Disposition]]=0,\"\",K197+$F$2)))","v":""},{"$f":"IF(Table17[[#This Row],[Disposition]]=\"\",\"\",IF(AND(Table17[[#This Row],[Next Calibration]]<$E$1,Table17[[#This Row],[Disposition]]=\"Lost\"),\"Find and Calibrate\",IF(Table17[[#This Row],[Disposition]]=\"Lost\",\"Find\",IF(OR(Table17[[#This Row],[Next Calibration]]<$E$1,Table17[[#This Row],[Next Calibration]]=\"NEVER CALIBRATED\"),\"Calibrate\",\"Nominal\"))))","v":""},{"$f":"IF(((Table17[[#This Row],[Next Calibration]]-TODAY())/30)>2,\"More Than 2\",IF(((Table17[[#This Row],[Next Calibration]]-TODAY())/30)>1,\"Between 2 and 1\",\"Less than 1\"))","v":{"$error":"#VALUE!"}},{"$f":"IF(Table17[[#This Row],[Issued]]=\"\",\"\",IF(Table17[[#This Row],[Lent]]=\"\",0,1))","v":""},{"$f":"IF(Table17[[#This Row],[Lent]]=\"\",\"\",IF(Table17[[#This Row],[Returned]]=\"\",0,1))","v":""}]
[{"$nulls":11},{"$f":"IF(IF(Table17[[#This Row],[Disposition]]=\"Retired\",\"N/A\",IF(Table17[[#This Row],[Disposition]]=0,\"\",K198+$F$2))=0+$F$2,\"NEVER CALIBRATED\",IF(Table17[[#This Row],[Disposition]]=\"Retired\",\"N/A\",IF(Table17[[#This Row],[Disposition]]=0,\"\",K198+$F$2)))","v":""},{"$f":"IF(Table17[[#This Row],[Disposition]]=\"\",\"\",IF(AND(Table17[[#This Row],[Next Calibration]]<$E$1,Table17[[#This Row],[Disposition]]=\"Lost\"),\"Find and Calibrate\",IF(Table17[[#This Row],[Disposition]]=\"Lost\",\"Find\",IF(OR(Table17[[#This Row],[Next Calibration]]<$E$1,Table17[[#This Row],[Next Calibration]]=\"NEVER CALIBRATED\"),\"Calibrate\",\"Nominal\"))))","v":""},{"$f":"IF(((Table17[[#This Row],[Next Calibration]]-TODAY())/30)>2,\"More Than 2\",IF(((Table17[[#This Row],[Next Calibration]]-TODAY())/30)>1,\"Between 2 and 1\",\"Less than 1\"))","v":{"$error":"#VALUE!"}},{"$f":"IF(Table17[[#This Row],[Issued]]=\"\",\"\",IF(Table17[[#This Row],[Lent]]=\"\",0,1))","v":""},{"$f":"IF(Table17[[#This Row],[Lent]]=\"\",\"\",IF(Table17[[#This Row],[Returned]]=\"\",0,1))","v":""}]
[{"$nulls":11},{"$f":"IF(IF(Table17[[#This Row],[Disposition]]=\"Retired\",\"N/A\",IF(Table17[[#This Row],[Disposition]]=0,\"\",K199+$F$2))=0+$F$2,\"NEVER CALIBRATED\",IF(Table17[[#This Row],[Disposition]]=\"Retired\",\"N/A\",IF(Table17[[#This Row],[Disposition]]=0,\"\",K199+$F$2)))","v":""},{"$f":"IF(Table17[[#This Row],[Disposition]]=\"\",\"\",IF(AND(Table17[[#This Row],[Next Calibration]]<$E$1,Table17[[#This Row],[Disposition]]=\"Lost\"),\"Find and Calibrate\",IF(Table17[[#This Row],[Disposition]]=\"Lost\",\"Find\",IF(OR(Table17[[#This Row],[Next Calibration]]<$E$1,Table17[[#This Row],[Next Calibration]]=\"NEVER CALIBRATED\"),\"Calibrate\",\"Nominal\"))))","v":""},{"$f":"IF(((Table17[[#This Row],[Next Calibration]]-TODAY())/30)>2,\"More Than 2\",IF(((Table17[[#This Row],[Next Calibration]]-TODAY())/30)>1,\"Between 2 and 1\",\"Less than 1\"))","v":{"$error":"#VALUE!"}},{"$f":"IF(Table17[[#This Row],[Issued]]=\"\",\"\",IF(Table17[[#This Row],[Lent]]=\"\",0,1))","v":""},{"$f":"IF(Table17[[#This Row],[Lent]]=\"\",\"\",IF(Table17[[#This Row],[Returned]]=\"\",0,1))","v":""}]
[{"$nulls":11},{"$f":"IF(IF(Table17[[#This Row],[Disposition]]=\"Retired\",\"N/A\",IF(Table17[[#This Row],[Disposition]]=0,\"\",K200+$F$2))=0+$F$2,\"NEVER CALIBRATED\",IF(Table17[[#This Row],[Disposition]]=\"Retired\",\"N/A\",IF(Table17[[#This Row],[Disposition]]=0,\"\",K200+$F$2)))","v":""},{"$f":"IF(Table17[[#This Row],[Disposition]]=\"\",\"\",IF(AND(Table17[[#This Row],[Next Calibration]]<$E$1,Table17[[#This Row],[Disposition]]=\"Lost\"),\"Find and Calibrate\",IF(Table17[[#This Row],[Disposition]]=\"Lost\",\"Find\",IF(OR(Table17[[#This Row],[Next Calibration]]<$E$1,Table17[[#This Row],[Next Calibration]]=\"NEVER CALIBRATED\"),\"Calibrate\",\"Nominal\"))))","v":""},{"$f":"IF(((Table17[[#This Row],[Next Calibration]]-TODAY())/30)>2,\"More Than 2\",IF(((Table17[[#This Row],[Next Calibration]]-TODAY())/30)>1,\"Between 2 and 1\",\"Less than 1\"))","v":{"$error":"#VALUE!"}},{"$f":"IF(Table17[[#This Row],[Issued]]=\"\",\"\",IF(Table17[[#This Row],[Lent]]=\"\",0,1))","v":""},{"$f":"IF(Table17[[#This Row],[Lent]]=\"\",\"\",IF(Table17[[#This Row],[Returned]]=\"\",0,1))","v":""}]
[{"$nulls":11},{"$f":"IF(IF(Table17[[#This Row],[Disposition]]=\"Retired\",\"N/A\",IF(Table17[[#This Row],[Disposition]]=0,\"\",K201+$F$2))=0+$F$2,\"NEVER CALIBRATED\",IF(Table17[[#This Row],[Disposition]]=\"Retired\",\"N/A\",IF(Table17[[#This Row],[Disposition]]=0,\"\",K201+$F$2)))","v":""},{"$f":"IF(Table17[[#This Row],[Disposition]]=\"\",\"\",IF(AND(Table17[[#This Row],[Next Calibration]]<$E$1,Table17[[#This Row],[Disposition]]=\"Lost\"),\"Find and Calibrate\",IF(Table17[[#This Row],[Disposition]]=\"Lost\",\"Find\",IF(OR(Table17[[#This Row],[Next Calibration]]<$E$1,Table17[[#This Row],[Next Calibration]]=\"NEVER CALIBRATED\"),\"Calibrate\",\"Nominal\"))))","v":""},{"$f":"IF(((Table17[[#This Row],[Next Calibration]]-TODAY())/30)>2,\"More Than 2\",IF(((Table17[[#This Row],[Next Calibration]]-TODAY())/30)>1,\"Between 2 and 1\",\"Less than 1\"))","v":{"$error":"#VALUE!"}},{"$f":"IF(Table17[[#This Row],[Issued]]=\"\",\"\",IF(Table17[[#This Row],[Lent]]=\"\",0,1))","v":""},{"$f":"IF(Table17[[#This Row],[Lent]]=\"\",\"\",IF(Table17[[#This Row],[Returned]]=\"\",0,1))","v":""}]
[{"$nulls":11},{"$f":"IF(IF(Table17[[#This Row],[Disposition]]=\"Retired\",\"N/A\",IF(Table17[[#This Row],[Disposition]]=0,\"\",K202+$F$2))=0+$F$2,\"NEVER CALIBRATED\",IF(Table17[[#This Row],[Disposition]]=\"Retired\",\"N/A\",IF(Table17[[#This Row],[Disposition]]=0,\"\",K202+$F$2)))","v":""},{"$f":"IF(Table17[[#This Row],[Disposition]]=\"\",\"\",IF(AND(Table17[[#This Row],[Next Calibration]]<$E$1,Table17[[#This Row],[Disposition]]=\"Lost\"),\"Find and Calibrate\",IF(Table17[[#This Row],[Disposition]]=\"Lost\",\"Find\",IF(OR(Table17[[#This Row],[Next Calibration]]<$E$1,Table17[[#This Row],[Next Calibration]]=\"NEVER CALIBRATED\"),\"Calibrate\",\"Nominal\"))))","v":""},{"$f":"IF(((Table17[[#This Row],[Next Calibration]]-TODAY())/30)>2,\"More Than 2\",IF(((Table17[[#This Row],[Next Calibration]]-TODAY())/30)>1,\"Between 2 and 1\",\"Less than 1\"))","v":{"$error":"#VALUE!"}},{"$f":"IF(Table17[[#This Row],[Issued]]=\"\",\"\",IF(Table17[[#This Row],[Lent]]=\"\",0,1))","v":""},{"$f":"IF(Table17[[#This Row],[Lent]]=\"\",\"\",IF(Table17[[#This Row],[Returned]]=\"\",0,1))","v":""}]
[{"$nulls":11},{"$f":"IF(IF(Table17[[#This Row],[Disposition]]=\"Retired\",\"N/A\",IF(Table17[[#This Row],[Disposition]]=0,\"\",K21+$F$2))=0+$F$2,\"NEVER CALIBRATED\",IF(Table17[[#This Row],[Disposition]]=\"Retired\",\"N/A\",IF(Table17[[#This Row],[Disposition]]=0,\"\",K21+$F$2)))","v":""},{"$f":"IF(Table17[[#This Row],[Disposition]]=\"\",\"\",IF(AND(Table17[[#This Row],[Next Calibration]]<$E$1,Table17[[#This Row],[Disposition]]=\"Lost\"),\"Find and Calibrate\",IF(Table17[[#This Row],[Disposition]]=\"Lost\",\"Find\",IF(OR(Table17[[#This Row],[Next Calibration]]<$E$1,Table17[[#This Row],[Next Calibration]]=\"NEVER CALIBRATED\"),\"Calibrate\",\"Nominal\"))))","v":""},{"$f":"IF(((Table17[[#This Row],[Next Calibration]]-TODAY())/30)>2,\"More Than 2\",IF(((Table17[[#This Row],[Next Calibration]]-TODAY())/30)>1,\"Between 2 and 1\",\"Less than 1\"))","v":{"$error":"#VALUE!"}},{"$f":"IF(Table17[[#This Row],[Issued]]=\"\",\"\",IF(Table17[[#This Row],[Lent]]=\"\",0,1))","v":""},{"$f":"IF(Table17[[#This Row],[Lent]]=\"\",\"\",IF(Table17[[#This Row],[Returned]]=\"\",0,1))","v":""}]

{"sheet":"Bore Gauges","index":5,"n_rows":203,"n_cols":16,"rows_kept":203,"merged":[[0,0,1,2],[0,9,1,9],[0,10,0,11],[1,10,1,11],[3,0,4,0]]}
["Bore Gauges",null,null,"Date",{"$f":"TODAY()","v":"2021-04-27"},"Calibration Frequency (days)",{"$nulls":3},"Key","Personal Tool",null,"Adjustabe"]
[{"$nulls":3},"Time",{"$f":"NOW()","v":44313.375952546296},365,{"$nulls":4},"Attention",null,"DO NOT EDIT"]
[]
["Tool Modification"]
[]
[]
["Gauge #","Lent To","Shift","Work Area","Brand","Disposition","Personal (1/0)","Issued","Lent","Returned","Calibrated","Next Calibration","Action Required","count down","Lent (1/0)","Returned (1/0)"]
["M921",{"$nulls":3},"DoAll Bore Gauge","Accounted For",null,"2021-03-08",{"$nulls":3},{"$f":"IF(IF(Table18[[#This Row],[Disposition]]=\"Retired\",\"N/A\",IF(Table18[[#This Row],[Disposition]]=0,\"\",K8+$F$2))=0+$F$2,\"NEVER CALIBRATED\",IF(Table18[[#This Row],[Disposition]]=\"Retired\",\"N/A\",IF(Table18[[#This Row],[Disposition]]=0,\"\",K8+$F$2)))","v":"NEVER CALIBRATED"},{"$f":"IF(Table18[[#This Row],[Disposition]]=\"\",\"\",IF(AND(Table18[[#This Row],[Next Calibration]]<$E$1,Table18[[#This Row],[Disposition]]=\"Lost\"),\"Find and Calibrate\",IF(Table18[[#This Row],[Disposition]]=\"Lost\",\"Find\",IF(OR(Table18[[#This Row],[Next Calibration]]<$E$1,Table18[[#This Row],[Next Calibration]]=\"NEVER CALIBRATED\"),\"Calibrate\",\"Nominal\"))))","v":"Calibrate"},{"$f":"IF(((Table18[[#This Row],[Next Calibration]]-TODAY())/30)>2,\"More Than 2\",IF(((Table18[[#This Row],[Next Calibration]]-TODAY())/30)>1,\"Between 2 and 1\",\"Less than 1\"))","v":{"$error":"#VALUE!"}},{"$f":"IF(Table18[[#This Row],[Issued]]=\"\",\"\",IF(Table18[[#This Row],[Lent]]=\"\",0,1))","v":{"v":0,"d":"0.00"}},{"$f":"IF(Table18[[#This Row],[Lent]]=\"\",\"\",IF(Table18[[#This Row],[Returned]]=\"\",0,1))","v":""}]
["M807",{"$nulls":3},"Mitutoyo Bore Gauge","Accounted For",null,"2021-03-08",{"$nulls":3},{"$f":"IF(IF(Table18[[#This Row],[Disposition]]=\"Retired\",\"N/A\",IF(Table18[[#This Row],[Disposition]]=0,\"\",K9+$F$2))=0+$F$2,\"NEVER CALIBRATED\",IF(Table18[[#This Row],[Disposition]]=\"Retired\",\"N/A\",IF(Table18[[#This Row],[Disposition]]=0,\"\",K9+$F$2)))","v":"NEVER CALIBRATED"},{"$f":"IF(Table18[[#This Row],[Disposition]]=\"\",\"\",IF(AND(Table18[[#This Row],[Next Calibration]]<$E$1,Table18[[#This Row],[Disposition]]=\"Lost\"),\"Find and Calibrate\",IF(Table18[[#This Row],[Disposition]]=\"Lost\",\"Find\",IF(OR(Table18[[#This Row],[Next Calibration]]<$E$1,Table18[[#This Row],[Next Calibration]]=\"NEVER CALIBRATED\"),\"Calibrate\",\"Nominal\"))))","v":"Calibrate"},{"$f":"IF(((Table18[[#This Row],[Next Calibration]]-TODAY())/30)>2,\"More Than 2\",IF(((Table18[[#This Row],[Next Calibration]]-TODAY())/30)>1,\"Between 2 and 1\",\"Less than 1\"))","v":{"$error":"#VALUE!"}},{"$f":"IF(Table18[[#This Row],[Issued]]=\"\",\"\",IF(Table18[[#This Row],[Lent]]=\"\",0,1))","v":{"v":0,"d":"0.00"}},{"$f":"IF(Table18[[#This Row],[Lent]]=\"\",\"\",IF(Table18[[#This Row],[Returned]]=\"\",0,1))","v":""}]
["M869",{"$nulls":3},"Mitutoyo Bore Gauge","Accounted For",null,"2021-03-08",{"$nulls":3},{"$f":"IF(IF(Table18[[#This Row],[Disposition]]=\"Retired\",\"N/A\",IF(Table18[[#This Row],[Disposition]]=0,\"\",K10+$F$2))=0+$F$2,\"NEVER CALIBRATED\",IF(Table18[[#This Row],[Disposition]]=\"Retired\",\"N/A\",IF(Table18[[#This Row],[Disposition]]=0,\"\",K10+$F$2)))","v":"NEVER CALIBRATED"},{"$f":"IF(Table18[[#This Row],[Disposition]]=\"\",\"\",IF(AND(Table18[[#This Row],[Next Calibration]]<$E$1,Table18[[#This Row],[Disposition]]=\"Lost\"),\"Find and Calibrate\",IF(Table18[[#This Row],[Disposition]]=\"Lost\",\"Find\",IF(OR(Table18[[#This Row],[Next Calibration]]<$E$1,Table18[[#This Row],[Next Calibration]]=\"NEVER CALIBRATED\"),\"Calibrate\",\"Nominal\"))))","v":"Calibrate"},{"$f":"IF(((Table18[[#This Row],[Next Calibration]]-TODAY())/30)>2,\"More Than 2\",IF(((Table18[[#This Row],[Next Calibration]]-TODAY())/30)>1,\"Between 2 and 1\",\"Less than 1\"))","v":{"$error":"#VALUE!"}},{"$f":"IF(Table18[[#This Row],[Issued]]=\"\",\"\",IF(Table18[[#This Row],[Lent]]=\"\",0,1))","v":{"v":0,"d":"0.00"}},{"$f":"IF(Table18[[#This Row],[Lent]]=\"\",\"\",IF(Table18[[#This Row],[Returned]]=\"\",0,1))","v":""}]
["M801",{"$nulls":3},"Mitutoyo Bore Gauge","Accounted For",null,"2021-03-08",{"$nulls":3},{"$f":"IF(IF(Table18[[#This Row],[Disposition]]=\"Retired\",\"N/A\",IF(Table18[[#This Row],[Disposition]]=0,\"\",K11+$F$2))=0+$F$2,\"NEVER CALIBRATED\",IF(Table18[[#This Row],[Disposition]]=\"Retired\",\"N/A\",IF(Table18[[#This Row],[Disposition]]=0,\"\",K11+$F$2)))","v":"NEVER CALIBRATED"},{"$f":"IF(Table18[[#This Row],[Disposition]]=\"\",\"\",IF(AND(Table18[[#This Row],[Next Calibration]]<$E$1,Table18[[#This Row],[Disposition]]=\"Lost\"),\"Find and Calibrate\",IF(Table18[[#This Row],[Disposition]]=\"Lost\",\"Find\",IF(OR(Table18[[#This Row],[Next Calibration]]<$E$1,Table18[[#This Row],[Next Calibration]]=\"NEVER CALIBRATED\"),\"Calibrate\",\"Nominal\"))))","v":"Calibrate"},{"$f":"IF(((Table18[[#This Row],[Next Calibration]]-TODAY())/30)>2,\"More Than 2\",IF(((Table18[[#This Row],[Next Calibration]]-TODAY())/30)>1,\"Between 2 and 1\",\"Less than 1\"))","v":{"$error":"#VALUE!"}},{"$f":"IF(Table18[[#This Row],[Issued]]=\"\",\"\",IF(Table18[[#This Row],[Lent]]=\"\",0,1))","v":{"v":0,"d":"0.00"}},{"$f":"IF(Table18[[#This Row],[Lent]]=\"\",\"\",IF(Table18[[#This Row],[Returned]]=\"\",0,1))","v":""}]
["M971",{"$nulls":3},"Mitutoyo Bore Gauge","Accounted For",null,"2021-03-08",{"$nulls":3},{"$f":"IF(IF(Table18[[#This Row],[Disposition]]=\"Retired\",\"N/A\",IF(Table18[[#This Row],[Disposition]]=0,\"\",K12+$F$2))=0+$F$2,\"NEVER CALIBRATED\",IF(Table18[[#This Row],[Disposition]]=\"Retired\",\"N/A\",IF(Table18[[#This Row],[Disposition]]=0,\"\",K12+$F$2)))","v":"NEVER CALIBRATED"},{"$f":"IF(Table18[[#This Row],[Disposition]]=\"\",\"\",IF(AND(Table18[[#This Row],[Next Calibration]]<$E$1,Table18[[#This Row],[Disposition]]=\"Lost\"),\"Find and Calibrate\",IF(Table18[[#This Row],[Disposition]]=\"Lost\",\"Find\",IF(OR(Table18[[#This Row],[Next Calibration]]<$E$1,Table18[[#This Row],[Next Calibration]]=\"NEVER CALIBRATED\"),\"Calibrate\",\"Nominal\"))))","v":"Calibrate"},{"$f":"IF(((Table18[[#This Row],[Next Calibration]]-TODAY())/30)>2,\"More Than 2\",IF(((Table18[[#This Row],[Next Calibration]]-TODAY())/30)>1,\"Between 2 and 1\",\"Less than 1\"))","v":{"$error":"#VALUE!"}},{"$f":"IF(Table18[[#This Row],[Issued]]=\"\",\"\",IF(Table18[[#This Row],[Lent]]=\"\",0,1))","v":{"v":0,"d":"0.00"}},{"$f":"IF(Table18[[#This Row],[Lent]]=\"\",\"\",IF(Table18[[#This Row],[Returned]]=\"\",0,1))","v":""}]
["M32321",{"$nulls":3},"Fowler Bore Gauge","Accounted For",null,"2021-03-08",{"$nulls":3},{"$f":"IF(IF(Table18[[#This Row],[Disposition]]=\"Retired\",\"N/A\",IF(Table18[[#This Row],[Disposition]]=0,\"\",K13+$F$2))=0+$F$2,\"NEVER CALIBRATED\",IF(Table18[[#This Row],[Disposition]]=\"Retired\",\"N/A\",IF(Table18[[#This Row],[Disposition]]=0,\"\",K13+$F$2)))","v":"NEVER CALIBRATED"},{"$f":"IF(Table18[[#This Row],[Disposition]]=\"\",\"\",IF(AND(Table18[[#This Row],[Next Calibration]]<$E$1,Table18[[#This Row],[Disposition]]=\"Lost\"),\"Find and Calibrate\",IF(Table18[[#This Row],[Disposition]]=\"Lost\",\"Find\",IF(OR(Table18[[#This Row],[Next Calibration]]<$E$1,Table18[[#This Row],[Next Calibration]]=\"NEVER CALIBRATED\"),\"Calibrate\",\"Nominal\"))))","v":"Calibrate"},{"$f":"IF(((Table18[[#This Row],[Next Calibration]]-TODAY())/30)>2,\"More Than 2\",IF(((Table18[[#This Row],[Next Calibration]]-TODAY())/30)>1,\"Between 2 and 1\",\"Less than 1\"))","v":{"$error":"#VALUE!"}},{"$f":"IF(Table18[[#This Row],[Issued]]=\"\",\"\",IF(Table18[[#This Row],[Lent]]=\"\",0,1))","v":{"v":0,"d":"0.00"}},{"$f":"IF(Table18[[#This Row],[Lent]]=\"\",\"\",IF(Table18[[#This Row],[Returned]]=\"\",0,1))","v":""}]
["M1266",{"$nulls":3},"Mitutoyo Bore Gauge","Accounted For",null,"2021-03-08",{"$nulls":3},{"$f":"IF(IF(Table18[[#This Row],[Disposition]]=\"Retired\",\"N/A\",IF(Table18[[#This Row],[Disposition]]=0,\"\",K14+$F$2))=0+$F$2,\"NEVER CALIBRATED\",IF(Table18[[#This Row],[Disposition]]=\"Retired\",\"N/A\",IF(Table18[[#This Row],[Disposition]]=0,\"\",K14+$F$2)))","v":"NEVER CALIBRATED"},{"$f":"IF(Table18[[#This Row],[Disposition]]=\"\",\"\",IF(AND(Table18[[#This Row],[Next Calibration]]<$E$1,Table18[[#This Row],[Disposition]]=\"Lost\"),\"Find and Calibrate\",IF(Table18[[#This Row],[Disposition]]=\"Lost\",\"Find\",IF(OR(Table18[[#This Row],[Next Calibration]]<$E$1,Table18[[#This Row],[Next Calibration]]=\"NEVER CALIBRATED\"),\"Calibrate\",\"Nominal\"))))","v":"Calibrate"},{"$f":"IF(((Table18[[#This Row],[Next Calibration]]-TODAY())/30)>2,\"More Than 2\",IF(((Table18[[#This Row],[Next Calibration]]-TODAY())/30)>1,\"Between 2 and 1\",\"Less than 1\"))","v":{"$error":"#VALUE!"}},{"$f":"IF(Table18[[#This Row],[Issued]]=\"\",\"\",IF(Table18[[#This Row],[Lent]]=\"\",0,1))","v":{"v":0,"d":"0.00"}},{"$f":"IF(Table18[[#This Row],[Lent]]=\"\",\"\",IF(Table18[[#This Row],[Returned]]=\"\",0,1))","v":""}]
[{"$nulls":11},{"$f":"IF(IF(Table18[[#This Row],[Disposition]]=\"Retired\",\"N/A\",IF(Table18[[#This Row],[Disposition]]=0,\"\",K15+$F$2))=0+$F$2,\"NEVER CALIBRATED\",IF(Table18[[#This Row],[Disposition]]=\"Retired\",\"N/A\",IF(Table18[[#This Row],[Disposition]]=0,\"\",K15+$F$2)))","v":""},{"$f":"IF(Table18[[#This Row],[Disposition]]=\"\",\"\",IF(AND(Table18[[#This Row],[Next Calibration]]<$E$1,Table18[[#This Row],[Disposition]]=\"Lost\"),\"Find and Calibrate\",IF(Table18[[#This Row],[Disposition]]=\"Lost\",\"Find\",IF(OR(Table18[[#This Row],[Next Calibration]]<$E$1,Table18[[#This Row],[Next Calibration]]=\"NEVER CALIBRATED\"),\"Calibrate\",\"Nominal\"))))","v":""},{"$f":"IF(((Table18[[#This Row],[Next Calibration]]-TODAY())/30)>2,\"More Than 2\",IF(((Table18[[#This Row],[Next Calibration]]-TODAY())/30)>1,\"Between 2 and 1\",\"Less than 1\"))","v":{"$error":"#VALUE!"}},{"$f":"IF(Table18[[#This Row],[Issued]]=\"\",\"\",IF(Table18[[#This Row],[Lent]]=\"\",0,1))","v":""},{"$f":"IF(Table18[[#This Row],[Lent]]=\"\",\"\",IF(Table18[[#This Row],[Returned]]=\"\",0,1))","v":""}]
[{"$nulls":11},{"$f":"IF(IF(Table18[[#This Row],[Disposition]]=\"Retired\",\"N/A\",IF(Table18[[#This Row],[Disposition]]=0,\"\",K16+$F$2))=0+$F$2,\"NEVER CALIBRATED\",IF(Table18[[#This Row],[Disposition]]=\"Retired\",\"N/A\",IF(Table18[[#This Row],[Disposition]]=0,\"\",K16+$F$2)))","v":""},{"$f":"IF(Table18[[#This Row],[Disposition]]=\"\",\"\",IF(AND(Table18[[#This Row],[Next Calibration]]<$E$1,Table18[[#This Row],[Disposition]]=\"Lost\"),\"Find and Calibrate\",IF(Table18[[#This Row],[Disposition]]=\"Lost\",\"Find\",IF(OR(Table18[[#This Row],[Next Calibration]]<$E$1,Table18[[#This Row],[Next Calibration]]=\"NEVER CALIBRATED\"),\"Calibrate\",\"Nominal\"))))","v":""},{"$f":"IF(((Table18[[#This Row],[Next Calibration]]-TODAY())/30)>2,\"More Than 2\",IF(((Table18[[#This Row],[Next Calibration]]-TODAY())/30)>1,\"Between 2 and 1\",\"Less than 1\"))","v":{"$error":"#VALUE!"}},{"$f":"IF(Table18[[#This Row],[Issued]]=\"\",\"\",IF(Table18[[#This Row],[Lent]]=\"\",0,1))","v":""},{"$f":"IF(Table18[[#This Row],[Lent]]=\"\",\"\",IF(Table18[[#This Row],[Returned]]=\"\",0,1))","v":""}]
[{"$nulls":11},{"$f":"IF(IF(Table18[[#This Row],[Disposition]]=\"Retired\",\"N/A\",IF(Table18[[#This Row],[Disposition]]=0,\"\",K17+$F$2))=0+$F$2,\"NEVER CALIBRATED\",IF(Table18[[#This Row],[Disposition]]=\"Retired\",\"N/A\",IF(Table18[[#This Row],[Disposition]]=0,\"\",K17+$F$2)))","v":""},{"$f":"IF(Table18[[#This Row],[Disposition]]=\"\",\"\",IF(AND(Table18[[#This Row],[Next Calibration]]<$E$1,Table18[[#This Row],[Disposition]]=\"Lost\"),\"Find and Calibrate\",IF(Table18[[#This Row],[Disposition]]=\"Lost\",\"Find\",IF(OR(Table18[[#This Row],[Next Calibration]]<$E$1,Table18[[#This Row],[Next Calibration]]=\"NEVER CALIBRATED\"),\"Calibrate\",\"Nominal\"))))","v":""},{"$f":"IF(((Table18[[#This Row],[Next Calibration]]-TODAY())/30)>2,\"More Than 2\",IF(((Table18[[#This Row],[Next Calibration]]-TODAY())/30)>1,\"Between 2 and 1\",\"Less than 1\"))","v":{"$error":"#VALUE!"}},{"$f":"IF(Table18[[#This Row],[Issued]]=\"\",\"\",IF(Table18[[#This Row],[Lent]]=\"\",0,1))","v":""},{"$f":"IF(Table18[[#This Row],[Lent]]=\"\",\"\",IF(Table18[[#This Row],[Returned]]=\"\",0,1))","v":""}]
[{"$nulls":11},{"$f":"IF(IF(Table18[[#This Row],[Disposition]]=\"Retired\",\"N/A\",IF(Table18[[#This Row],[Disposition]]=0,\"\",K18+$F$2))=0+$F$2,\"NEVER CALIBRATED\",IF(Table18[[#This Row],[Disposition]]=\"Retired\",\"N/A\",IF(Table18[[#This Row],[Disposition]]=0,\"\",K18+$F$2)))","v":""},{"$f":"IF(Table18[[#This Row],[Disposition]]=\"\",\"\",IF(AND(Table18[[#This Row],[Next Calibration]]<$E$1,Table18[[#This Row],[Disposition]]=\"Lost\"),\"Find and Calibrate\",IF(Table18[[#This Row],[Disposition]]=\"Lost\",\"Find\",IF(OR(Table18[[#This Row],[Next Calibration]]<$E$1,Table18[[#This Row],[Next Calibration]]=\"NEVER CALIBRATED\"),\"Calibrate\",\"Nominal\"))))","v":""},{"$f":"IF(((Table18[[#This Row],[Next Calibration]]-TODAY())/30)>2,\"More Than 2\",IF(((Table18[[#This Row],[Next Calibration]]-TODAY())/30)>1,\"Between 2 and 1\",\"Less than 1\"))","v":{"$error":"#VALUE!"}},{"$f":"IF(Table18[[#This Row],[Issued]]=\"\",\"\",IF(Table18[[#This Row],[Lent]]=\"\",0,1))","v":""},{"$f":"IF(Table18[[#This Row],[Lent]]=\"\",\"\",IF(Table18[[#This Row],[Returned]]=\"\",0,1))","v":""}]
[{"$nulls":11},{"$f":"IF(IF(Table18[[#This Row],[Disposition]]=\"Retired\",\"N/A\",IF(Table18[[#This Row],[Disposition]]=0,\"\",K19+$F$2))=0+$F$2,\"NEVER CALIBRATED\",IF(Table18[[#This Row],[Disposition]]=\"Retired\",\"N/A\",IF(Table18[[#This Row],[Disposition]]=0,\"\",K19+$F$2)))","v":""},{"$f":"IF(Table18[[#This Row],[Disposition]]=\"\",\"\",IF(AND(Table18[[#This Row],[Next Calibration]]<$E$1,Table18[[#This Row],[Disposition]]=\"Lost\"),\"Find and Calibrate\",IF(Table18[[#This Row],[Disposition]]=\"Lost\",\"Find\",IF(OR(Table18[[#This Row],[Next Calibration]]<$E$1,Table18[[#This Row],[Next Calibration]]=\"NEVER CALIBRATED\"),\"Calibrate\",\"Nominal\"))))","v":""},{"$f":"IF(((Table18[[#This Row],[Next Calibration]]-TODAY())/30)>2,\"More Than 2\",IF(((Table18[[#This Row],[Next Calibration]]-TODAY())/30)>1,\"Between 2 and 1\",\"Less than 1\"))","v":{"$error":"#VALUE!"}},{"$f":"IF(Table18[[#This Row],[Issued]]=\"\",\"\",IF(Table18[[#This Row],[Lent]]=\"\",0,1))","v":""},{"$f":"IF(Table18[[#This Row],[Lent]]=\"\",\"\",IF(Table18[[#This Row],[Returned]]=\"\",0,1))","v":""}]
[{"$nulls":11},{"$f":"IF(IF(Table18[[#This Row],[Disposition]]=\"Retired\",\"N/A\",IF(Table18[[#This Row],[Disposition]]=0,\"\",K20+$F$2))=0+$F$2,\"NEVER CALIBRATED\",IF(Table18[[#This Row],[Disposition]]=\"Retired\",\"N/A\",IF(Table18[[#This Row],[Disposition]]=0,\"\",K20+$F$2)))","v":""},{"$f":"IF(Table18[[#This Row],[Disposition]]=\"\",\"\",IF(AND(Table18[[#This Row],[Next Calibration]]<$E$1,Table18[[#This Row],[Disposition]]=\"Lost\"),\"Find and Calibrate\",IF(Table18[[#This Row],[Disposition]]=\"Lost\",\"Find\",IF(OR(Table18[[#This Row],[Next Calibration]]<$E$1,Table18[[#This Row],[Next Calibration]]=\"NEVER CALIBRATED\"),\"Calibrate\",\"Nominal\"))))","v":""},{"$f":"IF(((Table18[[#This Row],[Next Calibration]]-TODAY())/30)>2,\"More Than 2\",IF(((Table18[[#This Row],[Next Calibration]]-TODAY())/30)>1,\"Between 2 and 1\",\"Less than 1\"))","v":{"$error":"#VALUE!"}},{"$f":"IF(Table18[[#This Row],[Issued]]=\"\",\"\",IF(Table18[[#This Row],[Lent]]=\"\",0,1))","v":""},{"$f":"IF(Table18[[#This Row],[Lent]]=\"\",\"\",IF(Table18[[#This Row],[Returned]]=\"\",0,1))","v":""}]
[{"$nulls":11},{"$f":"IF(IF(Table18[[#This Row],[Disposition]]=\"Retired\",\"N/A\",IF(Table18[[#This Row],[Disposition]]=0,\"\",K21+$F$2))=0+$F$2,\"NEVER CALIBRATED\",IF(Table18[[#This Row],[Disposition]]=\"Retired\",\"N/A\",IF(Table18[[#This Row],[Disposition]]=0,\"\",K21+$F$2)))","v":""},{"$f":"IF(Table18[[#This Row],[Disposition]]=\"\",\"\",IF(AND(Table18[[#This Row],[Next Calibration]]<$E$1,Table18[[#This Row],[Disposition]]=\"Lost\"),\"Find and Calibrate\",IF(Table18[[#This Row],[Disposition]]=\"Lost\",\"Find\",IF(OR(Table18[[#This Row],[Next Calibration]]<$E$1,Table18[[#This Row],[Next Calibration]]=\"NEVER CALIBRATED\"),\"Calibrate\",\"Nominal\"))))","v":""},{"$f":"IF(((Table18[[#This Row],[Next Calibration]]-TODAY())/30)>2,\"More Than 2\",IF(((Table18[[#This Row],[Next Calibration]]-TODAY())/30)>1,\"Between 2 and 1\",\"Less than 1\"))","v":{"$error":"#VALUE!"}},{"$f":"IF(Table18[[#This Row],[Issued]]=\"\",\"\",IF(Table18[[#This Row],[Lent]]=\"\",0,1))","v":""},{"$f":"IF(Table18[[#This Row],[Lent]]=\"\",\"\",IF(Table18[[#This Row],[Returned]]=\"\",0,1))","v":""}]
[{"$nulls":11},{"$f":"IF(IF(Table18[[#This Row],[Disposition]]=\"Retired\",\"N/A\",IF(Table18[[#This Row],[Disposition]]=0,\"\",K22+$F$2))=0+$F$2,\"NEVER CALIBRATED\",IF(Table18[[#This Row],[Disposition]]=\"Retired\",\"N/A\",IF(Table18[[#This Row],[Disposition]]=0,\"\",K22+$F$2)))","v":""},{"$f":"IF(Table18[[#This Row],[Disposition]]=\"\",\"\",IF(AND(Table18[[#This Row],[Next Calibration]]<$E$1,Table18[[#This Row],[Disposition]]=\"Lost\"),\"Find and Calibrate\",IF(Table18[[#This Row],[Disposition]]=\"Lost\",\"Find\",IF(OR(Table18[[#This Row],[Next Calibration]]<$E$1,Table18[[#This Row],[Next Calibration]]=\"NEVER CALIBRATED\"),\"Calibrate\",\"Nominal\"))))","v":""},{"$f":"IF(((Table18[[#This Row],[Next Calibration]]-TODAY())/30)>2,\"More Than 2\",IF(((Table18[[#This Row],[Next Calibration]]-TODAY())/30)>1,\"Between 2 and 1\",\"Less than 1\"))","v":{"$error":"#VALUE!"}},{"$f":"IF(Table18[[#This Row],[Issued]]=\"\",\"\",IF(Table18[[#This Row],[Lent]]=\"\",0,1))","v":""},{"$f":"IF(Table18[[#This Row],[Lent]]=\"\",\"\",IF(Table18[[#This Row],[Returned]]=\"\",0,1))","v":""}]
[{"$nulls":11},{"$f":"IF(IF(Table18[[#This Row],[Disposition]]=\"Retired\",\"N/A\",IF(Table18[[#This Row],[Disposition]]=0,\"\",K23+$F$2))=0+$F$2,\"NEVER CALIBRATED\",IF(Table18[[#This Row],[Disposition]]=\"Retired\",\"N/A\",IF(Table18[[#This Row],[Disposition]]=0,\"\",K23+$F$2)))","v":""},{"$f":"IF(Table18[[#This Row],[Disposition]]=\"\",\"\",IF(AND(Table18[[#This Row],[Next Calibration]]<$E$1,Table18[[#This Row],[Disposition]]=\"Lost\"),\"Find and Calibrate\",IF(Table18[[#This Row],[Disposition]]=\"Lost\",\"Find\",IF(OR(Table18[[#This Row],[Next Calibration]]<$E$1,Table18[[#This Row],[Next Calibration]]=\"NEVER CALIBRATED\"),\"Calibrate\",\"Nominal\"))))","v":""},{"$f":"IF(((Table18[[#This Row],[Next Calibration]]-TODAY())/30)>2,\"More Than 2\",IF(((Table18[[#This Row],[Next Calibration]]-TODAY())/30)>1,\"Between 2 and 1\",\"Less than 1\"))","v":{"$error":"#VALUE!"}},{"$f":"IF(Table18[[#This Row],[Issued]]=\"\",\"\",IF(Table18[[#This Row],[Lent]]=\"\",0,1))","v":""},{"$f":"IF(Table18[[#This Row],[Lent]]=\"\",\"\",IF(Table18[[#This Row],[Returned]]=\"\",0,1))","v":""}]
[{"$nulls":11},{"$f":"IF(IF(Table18[[#This Row],[Disposition]]=\"Retired\",\"N/A\",IF(Table18[[#This Row],[Disposition]]=0,\"\",K24+$F$2))=0+$F$2,\"NEVER CALIBRATED\",IF(Table18[[#This Row],[Disposition]]=\"Retired\",\"N/A\",IF(Table18[[#This Row],[Disposition]]=0,\"\",K24+$F$2)))","v":""},{"$f":"IF(Table18[[#This Row],[Disposition]]=\"\",\"\",IF(AND(Table18[[#This Row],[Next Calibration]]<$E$1,Table18[[#This Row],[Disposition]]=\"Lost\"),\"Find and Calibrate\",IF(Table18[[#This Row],[Disposition]]=\"Lost\",\"Find\",IF(OR(Table18[[#This Row],[Next Calibration]]<$E$1,Table18[[#This Row],[Next Calibration]]=\"NEVER CALIBRATED\"),\"Calibrate\",\"Nominal\"))))","v":""},{"$f":"IF(((Table18[[#This Row],[Next Calibration]]-TODAY())/30)>2,\"More Than 2\",IF(((Table18[[#This Row],[Next Calibration]]-TODAY())/30)>1,\"Between 2 and 1\",\"Less than 1\"))","v":{"$error":"#VALUE!"}},{"$f":"IF(Table18[[#This Row],[Issued]]=\"\",\"\",IF(Table18[[#This Row],[Lent]]=\"\",0,1))","v":""},{"$f":"IF(Table18[[#This Row],[Lent]]=\"\",\"\",IF(Table18[[#This Row],[Returned]]=\"\",0,1))","v":""}]
[{"$nulls":11},{"$f":"IF(IF(Table18[[#This Row],[Disposition]]=\"Retired\",\"N/A\",IF(Table18[[#This Row],[Disposition]]=0,\"\",K25+$F$2))=0+$F$2,\"NEVER CALIBRATED\",IF(Table18[[#This Row],[Disposition]]=\"Retired\",\"N/A\",IF(Table18[[#This Row],[Disposition]]=0,\"\",K25+$F$2)))","v":""},{"$f":"IF(Table18[[#This Row],[Disposition]]=\"\",\"\",IF(AND(Table18[[#This Row],[Next Calibration]]<$E$1,Table18[[#This Row],[Disposition]]=\"Lost\"),\"Find and Calibrate\",IF(Table18[[#This Row],[Disposition]]=\"Lost\",\"Find\",IF(OR(Table18[[#This Row],[Next Calibration]]<$E$1,Table18[[#This Row],[Next Calibration]]=\"NEVER CALIBRATED\"),\"Calibrate\",\"Nominal\"))))","v":""},{"$f":"IF(((Table18[[#This Row],[Next Calibration]]-TODAY())/30)>2,\"More Than 2\",IF(((Table18[[#This Row],[Next Calibration]]-TODAY())/30)>1,\"Between 2 and 1\",\"Less than 1\"))","v":{"$error":"#VALUE!"}},{"$f":"IF(Table18[[#This Row],[Issued]]=\"\",\"\",IF(Table18[[#This Row],[Lent]]=\"\",0,1))","v":""},{"$f":"IF(Table18[[#This Row],[Lent]]=\"\",\"\",IF(Table18[[#This Row],[Returned]]=\"\",0,1))","v":""}]
[{"$nulls":11},{"$f":"IF(IF(Table18[[#This Row],[Disposition]]=\"Retired\",\"N/A\",IF(Table18[[#This Row],[Disposition]]=0,\"\",K26+$F$2))=0+$F$2,\"NEVER CALIBRATED\",IF(Table18[[#This Row],[Disposition]]=\"Retired\",\"N/A\",IF(Table18[[#This Row],[Disposition]]=0,\"\",K26+$F$2)))","v":""},{"$f":"IF(Table18[[#This Row],[Disposition]]=\"\",\"\",IF(AND(Table18[[#This Row],[Next Calibration]]<$E$1,Table18[[#This Row],[Disposition]]=\"Lost\"),\"Find and Calibrate\",IF(Table18[[#This Row],[Disposition]]=\"Lost\",\"Find\",IF(OR(Table18[[#This Row],[Next Calibration]]<$E$1,Table18[[#This Row],[Next Calibration]]=\"NEVER CALIBRATED\"),\"Calibrate\",\"Nominal\"))))","v":""},{"$f":"IF(((Table18[[#This Row],[Next Calibration]]-TODAY())/30)>2,\"More Than 2\",IF(((Table18[[#This Row],[Next Calibration]]-TODAY())/30)>1,\"Between 2 and 1\",\"Less than 1\"))","v":{"$error":"#VALUE!"}},{"$f":"IF(Table18[[#This Row],[Issued]]=\"\",\"\",IF(Table18[[#This Row],[Lent]]=\"\",0,1))","v":""},{"$f":"IF(Table18[[#This Row],[Lent]]=\"\",\"\",IF(Table18[[#This Row],[Returned]]=\"\",0,1))","v":""}]
[{"$nulls":11},{"$f":"IF(IF(Table18[[#This Row],[Disposition]]=\"Retired\",\"N/A\",IF(Table18[[#This Row],[Disposition]]=0,\"\",K27+$F$2))=0+$F$2,\"NEVER CALIBRATED\",IF(Table18[[#This Row],[Disposition]]=\"Retired\",\"N/A\",IF(Table18[[#This Row],[Disposition]]=0,\"\",K27+$F$2)))","v":""},{"$f":"IF(Table18[[#This Row],[Disposition]]=\"\",\"\",IF(AND(Table18[[#This Row],[Next Calibration]]<$E$1,Table18[[#This Row],[Disposition]]=\"Lost\"),\"Find and Calibrate\",IF(Table18[[#This Row],[Disposition]]=\"Lost\",\"Find\",IF(OR(Table18[[#This Row],[Next Calibration]]<$E$1,Table18[[#This Row],[Next Calibration]]=\"NEVER CALIBRATED\"),\"Calibrate\",\"Nominal\"))))","v":""},{"$f":"IF(((Table18[[#This Row],[Next Calibration]]-TODAY())/30)>2,\"More Than 2\",IF(((Table18[[#This Row],[Next Calibration]]-TODAY())/30)>1,\"Between 2 and 1\",\"Less than 1\"))","v":{"$error":"#VALUE!"}},{"$f":"IF(Table18[[#This Row],[Issued]]=\"\",\"\",IF(Table18[[#This Row],[Lent]]=\"\",0,1))","v":""},{"$f":"IF(Table18[[#This Row],[Lent]]=\"\",\"\",IF(Table18[[#This Row],[Returned]]=\"\",0,1))","v":""}]
[{"$nulls":11},{"$f":"IF(IF(Table18[[#This Row],[Disposition]]=\"Retired\",\"N/A\",IF(Table18[[#This Row],[Disposition]]=0,\"\",K28+$F$2))=0+$F$2,\"NEVER CALIBRATED\",IF(Table18[[#This Row],[Disposition]]=\"Retired\",\"N/A\",IF(Table18[[#This Row],[Disposition]]=0,\"\",K28+$F$2)))","v":""},{"$f":"IF(Table18[[#This Row],[Disposition]]=\"\",\"\",IF(AND(Table18[[#This Row],[Next Calibration]]<$E$1,Table18[[#This Row],[Disposition]]=\"Lost\"),\"Find and Calibrate\",IF(Table18[[#This Row],[Disposition]]=\"Lost\",\"Find\",IF(OR(Table18[[#This Row],[Next Calibration]]<$E$1,Table18[[#This Row],[Next Calibration]]=\"NEVER CALIBRATED\"),\"Calibrate\",\"Nominal\"))))","v":""},{"$f":"IF(((Table18[[#This Row],[Next Calibration]]-TODAY())/30)>2,\"More Than 2\",IF(((Table18[[#This Row],[Next Calibration]]-TODAY())/30)>1,\"Between 2 and 1\",\"Less than 1\"))","v":{"$error":"#VALUE!"}},{"$f":"IF(Table18[[#This Row],[Issued]]=\"\",\"\",IF(Table18[[#This Row],[Lent]]=\"\",0,1))","v":""},{"$f":"IF(Table18[[#This Row],[Lent]]=\"\",\"\",IF(Table18[[#This Row],[Returned]]=\"\",0,1))","v":""}]
[{"$nulls":11},{"$f":"IF(IF(Table18[[#This Row],[Disposition]]=\"Retired\",\"N/A\",IF(Table18[[#This Row],[Disposition]]=0,\"\",K29+$F$2))=0+$F$2,\"NEVER CALIBRATED\",IF(Table18[[#This Row],[Disposition]]=\"Retired\",\"N/A\",IF(Table18[[#This Row],[Disposition]]=0,\"\",K29+$F$2)))","v":""},{"$f":"IF(Table18[[#This Row],[Disposition]]=\"\",\"\",IF(AND(Table18[[#This Row],[Next Calibration]]<$E$1,Table18[[#This Row],[Disposition]]=\"Lost\"),\"Find and Calibrate\",IF(Table18[[#This Row],[Disposition]]=\"Lost\",\"Find\",IF(OR(Table18[[#This Row],[Next Calibration]]<$E$1,Table18[[#This Row],[Next Calibration]]=\"NEVER CALIBRATED\"),\"Calibrate\",\"Nominal\"))))","v":""},{"$f":"IF(((Table18[[#This Row],[Next Calibration]]-TODAY())/30)>2,\"More Than 2\",IF(((Table18[[#This Row],[Next Calibration]]-TODAY())/30)>1,\"Between 2 and 1\",\"Less than 1\"))","v":{"$error":"#VALUE!"}},{"$f":"IF(Table18[[#This Row],[Issued]]=\"\",\"\",IF(Table18[[#This Row],[Lent]]=\"\",0,1))","v":""},{"$f":"IF(Table18[[#This Row],[Lent]]=\"\",\"\",IF(Table18[[#This Row],[Returned]]=\"\",0,1))","v":""}]
[{"$nulls":11},{"$f":"IF(IF(Table18[[#This Row],[Disposition]]=\"Retired\",\"N/A\",IF(Table18[[#This Row],[Disposition]]=0,\"\",K30+$F$2))=0+$F$2,\"NEVER CALIBRATED\",IF(Table18[[#This Row],[Disposition]]=\"Retired\",\"N/A\",IF(Table18[[#This Row],[Disposition]]=0,\"\",K30+$F$2)))","v":""},{"$f":"IF(Table18[[#This Row],[Disposition]]=\"\",\"\",IF(AND(Table18[[#This Row],[Next Calibration]]<$E$1,Table18[[#This Row],[Disposition]]=\"Lost\"),\"Find and Calibrate\",IF(Table18[[#This Row],[Disposition]]=\"Lost\",\"Find\",IF(OR(Table18[[#This Row],[Next Calibration]]<$E$1,Table18[[#This Row],[Next Calibration]]=\"NEVER CALIBRATED\"),\"Calibrate\",\"Nominal\"))))","v":""},{"$f":"IF(((Table18[[#This Row],[Next Calibration]]-TODAY())/30)>2,\"More Than 2\",IF(((Table18[[#This Row],[Next Calibration]]-TODAY())/30)>1,\"Between 2 and 1\",\"Less than 1\"))","v":{"$error":"#VALUE!"}},{"$f":"IF(Table18[[#This Row],[Issued]]=\"\",\"\",IF(Table18[[#This Row],[Lent]]=\"\",0,1))","v":""},{"$f":"IF(Table18[[#This Row],[Lent]]=\"\",\"\",IF(Table18[[#This Row],[Returned]]=\"\",0,1))","v":""}]
[{"$nulls":11},{"$f":"IF(IF(Table18[[#This Row],[Disposition]]=\"Retired\",\"N/A\",IF(Table18[[#This Row],[Disposition]]=0,\"\",K31+$F$2))=0+$F$2,\"NEVER CALIBRATED\",IF(Table18[[#This Row],[Disposition]]=\"Retired\",\"N/A\",IF(Table18[[#This Row],[Disposition]]=0,\"\",K31+$F$2)))","v":""},{"$f":"IF(Table18[[#This Row],[Disposition]]=\"\",\"\",IF(AND(Table18[[#This Row],[Next Calibration]]<$E$1,Table18[[#This Row],[Disposition]]=\"Lost\"),\"Find and Calibrate\",IF(Table18[[#This Row],[Disposition]]=\"Lost\",\"Find\",IF(OR(Table18[[#This Row],[Next Calibration]]<$E$1,Table18[[#This Row],[Next Calibration]]=\"NEVER CALIBRATED\"),\"Calibrate\",\"Nominal\"))))","v":""},{"$f":"IF(((Table18[[#This Row],[Next Calibration]]-TODAY())/30)>2,\"More Than 2\",IF(((Table18[[#This Row],[Next Calibration]]-TODAY())/30)>1,\"Between 2 and 1\",\"Less than 1\"))","v":{"$error":"#VALUE!"}},{"$f":"IF(Table18[[#This Row],[Issued]]=\"\",\"\",IF(Table18[[#This Row],[Lent]]=\"\",0,1))","v":""},{"$f":"IF(Table18[[#This Row],[Lent]]=\"\",\"\",IF(Table18[[#This Row],[Returned]]=\"\",0,1))","v":""}]
[{"$nulls":11},{"$f":"IF(IF(Table18[[#This Row],[Disposition]]=\"Retired\",\"N/A\",IF(Table18[[#This Row],[Disposition]]=0,\"\",K32+$F$2))=0+$F$2,\"NEVER CALIBRATED\",IF(Table18[[#This Row],[Disposition]]=\"Retired\",\"N/A\",IF(Table18[[#This Row],[Disposition]]=0,\"\",K32+$F$2)))","v":""},{"$f":"IF(Table18[[#This Row],[Disposition]]=\"\",\"\",IF(AND(Table18[[#This Row],[Next Calibration]]<$E$1,Table18[[#This Row],[Disposition]]=\"Lost\"),\"Find and Calibrate\",IF(Table18[[#This Row],[Disposition]]=\"Lost\",\"Find\",IF(OR(Table18[[#This Row],[Next Calibration]]<$E$1,Table18[[#This Row],[Next Calibration]]=\"NEVER CALIBRATED\"),\"Calibrate\",\"Nominal\"))))","v":""},{"$f":"IF(((Table18[[#This Row],[Next Calibration]]-TODAY())/30)>2,\"More Than 2\",IF(((Table18[[#This Row],[Next Calibration]]-TODAY())/30)>1,\"Between 2 and 1\",\"Less than 1\"))","v":{"$error":"#VALUE!"}},{"$f":"IF(Table18[[#This Row],[Issued]]=\"\",\"\",IF(Table18[[#This Row],[Lent]]=\"\",0,1))","v":""},{"$f":"IF(Table18[[#This Row],[Lent]]=\"\",\"\",IF(Table18[[#This Row],[Returned]]=\"\",0,1))","v":""}]
[{"$nulls":11},{"$f":"IF(IF(Table18[[#This Row],[Disposition]]=\"Retired\",\"N/A\",IF(Table18[[#This Row],[Disposition]]=0,\"\",K33+$F$2))=0+$F$2,\"NEVER CALIBRATED\",IF(Table18[[#This Row],[Disposition]]=\"Retired\",\"N/A\",IF(Table18[[#This Row],[Disposition]]=0,\"\",K33+$F$2)))","v":""},{"$f":"IF(Table18[[#This Row],[Disposition]]=\"\",\"\",IF(AND(Table18[[#This Row],[Next Calibration]]<$E$1,Table18[[#This Row],[Disposition]]=\"Lost\"),\"Find and Calibrate\",IF(Table18[[#This Row],[Disposition]]=\"Lost\",\"Find\",IF(OR(Table18[[#This Row],[Next Calibration]]<$E$1,Table18[[#This Row],[Next Calibration]]=\"NEVER CALIBRATED\"),\"Calibrate\",\"Nominal\"))))","v":""},{"$f":"IF(((Table18[[#This Row],[Next Calibration]]-TODAY())/30)>2,\"More Than 2\",IF(((Table18[[#This Row],[Next Calibration]]-TODAY())/30)>1,\"Between 2 and 1\",\"Less than 1\"))","v":{"$error":"#VALUE!"}},{"$f":"IF(Table18[[#This Row],[Issued]]=\"\",\"\",IF(Table18[[#This Row],[Lent]]=\"\",0,1))","v":""},{"$f":"IF(Table18[[#This Row],[Lent]]=\"\",\"\",IF(Table18[[#This Row],[Returned]]=\"\",0,1))","v":""}]
[{"$nulls":11},{"$f":"IF(IF(Table18[[#This Row],[Disposition]]=\"Retired\",\"N/A\",IF(Table18[[#This Row],[Disposition]]=0,\"\",K34+$F$2))=0+$F$2,\"NEVER CALIBRATED\",IF(Table18[[#This Row],[Disposition]]=\"Retired\",\"N/A\",IF(Table18[[#This Row],[Disposition]]=0,\"\",K34+$F$2)))","v":""},{"$f":"IF(Table18[[#This Row],[Disposition]]=\"\",\"\",IF(AND(Table18[[#This Row],[Next Calibration]]<$E$1,Table18[[#This Row],[Disposition]]=\"Lost\"),\"Find and Calibrate\",IF(Table18[[#This Row],[Disposition]]=\"Lost\",\"Find\",IF(OR(Table18[[#This Row],[Next Calibration]]<$E$1,Table18[[#This Row],[Next Calibration]]=\"NEVER CALIBRATED\"),\"Calibrate\",\"Nominal\"))))","v":""},{"$f":"IF(((Table18[[#This Row],[Next Calibration]]-TODAY())/30)>2,\"More Than 2\",IF(((Table18[[#This Row],[Next Calibration]]-TODAY())/30)>1,\"Between 2 and 1\",\"Less than 1\"))","v":{"$error":"#VALUE!"}},{"$f":"IF(Table18[[#This Row],[Issued]]=\"\",\"\",IF(Table18[[#This Row],[Lent]]=\"\",0,1))","v":""},{"$f":"IF(Table18[[#This Row],[Lent]]=\"\",\"\",IF(Table18[[#This Row],[Returned]]=\"\",0,1))","v":""}]
[{"$nulls":11},{"$f":"IF(IF(Table18[[#This Row],[Disposition]]=\"Retired\",\"N/A\",IF(Table18[[#This Row],[Disposition]]=0,\"\",K35+$F$2))=0+$F$2,\"NEVER CALIBRATED\",IF(Table18[[#This Row],[Disposition]]=\"Retired\",\"N/A\",IF(Table18[[#This Row],[Disposition]]=0,\"\",K35+$F$2)))","v":""},{"$f":"IF(Table18[[#This Row],[Disposition]]=\"\",\"\",IF(AND(Table18[[#This Row],[Next Calibration]]<$E$1,Table18[[#This Row],[Disposition]]=\"Lost\"),\"Find and Calibrate\",IF(Table18[[#This Row],[Disposition]]=\"Lost\",\"Find\",IF(OR(Table18[[#This Row],[Next Calibration]]<$E$1,Table18[[#This Row],[Next Calibration]]=\"NEVER CALIBRATED\"),\"Calibrate\",\"Nominal\"))))","v":""},{"$f":"IF(((Table18[[#This Row],[Next Calibration]]-TODAY())/30)>2,\"More Than 2\",IF(((Table18[[#This Row],[Next Calibration]]-TODAY())/30)>1,\"Between 2 and 1\",\"Less than 1\"))","v":{"$error":"#VALUE!"}},{"$f":"IF(Table18[[#This Row],[Issued]]=\"\",\"\",IF(Table18[[#This Row],[Lent]]=\"\",0,1))","v":""},{"$f":"IF(Table18[[#This Row],[Lent]]=\"\",\"\",IF(Table18[[#This Row],[Returned]]=\"\",0,1))","v":""}]
[{"$nulls":11},{"$f":"IF(IF(Table18[[#This Row],[Disposition]]=\"Retired\",\"N/A\",IF(Table18[[#This Row],[Disposition]]=0,\"\",K36+$F$2))=0+$F$2,\"NEVER CALIBRATED\",IF(Table18[[#This Row],[Disposition]]=\"Retired\",\"N/A\",IF(Table18[[#This Row],[Disposition]]=0,\"\",K36+$F$2)))","v":""},{"$f":"IF(Table18[[#This Row],[Disposition]]=\"\",\"\",IF(AND(Table18[[#This Row],[Next Calibration]]<$E$1,Table18[[#This Row],[Disposition]]=\"Lost\"),\"Find and Calibrate\",IF(Table18[[#This Row],[Disposition]]=\"Lost\",\"Find\",IF(OR(Table18[[#This Row],[Next Calibration]]<$E$1,Table18[[#This Row],[Next Calibration]]=\"NEVER CALIBRATED\"),\"Calibrate\",\"Nominal\"))))","v":""},{"$f":"IF(((Table18[[#This Row],[Next Calibration]]-TODAY())/30)>2,\"More Than 2\",IF(((Table18[[#This Row],[Next Calibration]]-TODAY())/30)>1,\"Between 2 and 1\",\"Less than 1\"))","v":{"$error":"#VALUE!"}},{"$f":"IF(Table18[[#This Row],[Issued]]=\"\",\"\",IF(Table18[[#This Row],[Lent]]=\"\",0,1))","v":""},{"$f":"IF(Table18[[#This Row],[Lent]]=\"\",\"\",IF(Table18[[#This Row],[Returned]]=\"\",0,1))","v":""}]
[{"$nulls":11},{"$f":"IF(IF(Table18[[#This Row],[Disposition]]=\"Retired\",\"N/A\",IF(Table18[[#This Row],[Disposition]]=0,\"\",K37+$F$2))=0+$F$2,\"NEVER CALIBRATED\",IF(Table18[[#This Row],[Disposition]]=\"Retired\",\"N/A\",IF(Table18[[#This Row],[Disposition]]=0,\"\",K37+$F$2)))","v":""},{"$f":"IF(Table18[[#This Row],[Disposition]]=\"\",\"\",IF(AND(Table18[[#This Row],[Next Calibration]]<$E$1,Table18[[#This Row],[Disposition]]=\"Lost\"),\"Find and Calibrate\",IF(Table18[[#This Row],[Disposition]]=\"Lost\",\"Find\",IF(OR(Table18[[#This Row],[Next Calibration]]<$E$1,Table18[[#This Row],[Next Calibration]]=\"NEVER CALIBRATED\"),\"Calibrate\",\"Nominal\"))))","v":""},{"$f":"IF(((Table18[[#This Row],[Next Calibration]]-TODAY())/30)>2,\"More Than 2\",IF(((Table18[[#This Row],[Next Calibration]]-TODAY())/30)>1,\"Between 2 and 1\",\"Less than 1\"))","v":{"$error":"#VALUE!"}},{"$f":"IF(Table18[[#This Row],[Issued]]=\"\",\"\",IF(Table18[[#This Row],[Lent]]=\"\",0,1))","v":""},{"$f":"IF(Table18[[#This Row],[Lent]]=\"\",\"\",IF(Table18[[#This Row],[Returned]]=\"\",0,1))","v":""}]
[{"$nulls":11},{"$f":"IF(IF(Table18[[#This Row],[Disposition]]=\"Retired\",\"N/A\",IF(Table18[[#This Row],[Disposition]]=0,\"\",K38+$F$2))=0+$F$2,\"NEVER CALIBRATED\",IF(Table18[[#This Row],[Disposition]]=\"Retired\",\"N/A\",IF(Table18[[#This Row],[Disposition]]=0,\"\",K38+$F$2)))","v":""},{"$f":"IF(Table18[[#This Row],[Disposition]]=\"\",\"\",IF(AND(Table18[[#This Row],[Next Calibration]]<$E$1,Table18[[#This Row],[Disposition]]=\"Lost\"),\"Find and Calibrate\",IF(Table18[[#This Row],[Disposition]]=\"Lost\",\"Find\",IF(OR(Table18[[#This Row],[Next Calibration]]<$E$1,Table18[[#This Row],[Next Calibration]]=\"NEVER CALIBRATED\"),\"Calibrate\",\"Nominal\"))))","v":""},{"$f":"IF(((Table18[[#This Row],[Next Calibration]]-TODAY())/30)>2,\"More Than 2\",IF(((Table18[[#This Row],[Next Calibration]]-TODAY())/30)>1,\"Between 2 and 1\",\"Less than 1\"))","v":{"$error":"#VALUE!"}},{"$f":"IF(Table18[[#This Row],[Issued]]=\"\",\"\",IF(Table18[[#This Row],[Lent]]=\"\",0,1))","v":""},{"$f":"IF(Table18[[#This Row],[Lent]]=\"\",\"\",IF(Table18[[#This Row],[Returned]]=\"\",0,1))","v":""}]
[{"$nulls":11},{"$f":"IF(IF(Table18[[#This Row],[Disposition]]=\"Retired\",\"N/A\",IF(Table18[[#This Row],[Disposition]]=0,\"\",K39+$F$2))=0+$F$2,\"NEVER CALIBRATED\",IF(Table18[[#This Row],[Disposition]]=\"Retired\",\"N/A\",IF(Table18[[#This Row],[Disposition]]=0,\"\",K39+$F$2)))","v":""},{"$f":"IF(Table18[[#This Row],[Disposition]]=\"\",\"\",IF(AND(Table18[[#This Row],[Next Calibration]]<$E$1,Table18[[#This Row],[Disposition]]=\"Lost\"),\"Find and Calibrate\",IF(Table18[[#This Row],[Disposition]]=\"Lost\",\"Find\",IF(OR(Table18[[#This Row],[Next Calibration]]<$E$1,Table18[[#This Row],[Next Calibration]]=\"NEVER CALIBRATED\"),\"Calibrate\",\"Nominal\"))))","v":""},{"$f":"IF(((Table18[[#This Row],[Next Calibration]]-TODAY())/30)>2,\"More Than 2\",IF(((Table18[[#This Row],[Next Calibration]]-TODAY())/30)>1,\"Between 2 and 1\",\"Less than 1\"))","v":{"$error":"#VALUE!"}},{"$f":"IF(Table18[[#This Row],[Issued]]=\"\",\"\",IF(Table18[[#This Row],[Lent]]=\"\",0,1))","v":""},{"$f":"IF(Table18[[#This Row],[Lent]]=\"\",\"\",IF(Table18[[#This Row],[Returned]]=\"\",0,1))","v":""}]
[{"$nulls":11},{"$f":"IF(IF(Table18[[#This Row],[Disposition]]=\"Retired\",\"N/A\",IF(Table18[[#This Row],[Disposition]]=0,\"\",K40+$F$2))=0+$F$2,\"NEVER CALIBRATED\",IF(Table18[[#This Row],[Disposition]]=\"Retired\",\"N/A\",IF(Table18[[#This Row],[Disposition]]=0,\"\",K40+$F$2)))","v":""},{"$f":"IF(Table18[[#This Row],[Disposition]]=\"\",\"\",IF(AND(Table18[[#This Row],[Next Calibration]]<$E$1,Table18[[#This Row],[Disposition]]=\"Lost\"),\"Find and Calibrate\",IF(Table18[[#This Row],[Disposition]]=\"Lost\",\"Find\",IF(OR(Table18[[#This Row],[Next Calibration]]<$E$1,Table18[[#This Row],[Next Calibration]]=\"NEVER CALIBRATED\"),\"Calibrate\",\"Nominal\"))))","v":""},{"$f":"IF(((Table18[[#This Row],[Next Calibration]]-TODAY())/30)>2,\"More Than 2\",IF(((Table18[[#This Row],[Next Calibration]]-TODAY())/30)>1,\"Between 2 and 1\",\"Less than 1\"))","v":{"$error":"#VALUE!"}},{"$f":"IF(Table18[[#This Row],[Issued]]=\"\",\"\",IF(Table18[[#This Row],[Lent]]=\"\",0,1))","v":""},{"$f":"IF(Table18[[#This Row],[Lent]]=\"\",\"\",IF(Table18[[#This Row],[Returned]]=\"\",0,1))","v":""}]
[{"$nulls":11},{"$f":"IF(IF(Table18[[#This Row],[Disposition]]=\"Retired\",\"N/A\",IF(Table18[[#This Row],[Disposition]]=0,\"\",K41+$F$2))=0+$F$2,\"NEVER CALIBRATED\",IF(Table18[[#This Row],[Disposition]]=\"Retired\",\"N/A\",IF(Table18[[#This Row],[Disposition]]=0,\"\",K41+$F$2)))","v":""},{"$f":"IF(Table18[[#This Row],[Disposition]]=\"\",\"\",IF(AND(Table18[[#This Row],[Next Calibration]]<$E$1,Table18[[#This Row],[Disposition]]=\"Lost\"),\"Find and Calibrate\",IF(Table18[[#This Row],[Disposition]]=\"Lost\",\"Find\",IF(OR(Table18[[#This Row],[Next Calibration]]<$E$1,Table18[[#This Row],[Next Calibration]]=\"NEVER CALIBRATED\"),\"Calibrate\",\"Nominal\"))))","v":""},{"$f":"IF(((Table18[[#This Row],[Next Calibration]]-TODAY())/30)>2,\"More Than 2\",IF(((Table18[[#This Row],[Next Calibration]]-TODAY())/30)>1,\"Between 2 and 1\",\"Less than 1\"))","v":{"$error":"#VALUE!"}},{"$f":"IF(Table18[[#This Row],[Issued]]=\"\",\"\",IF(Table18[[#This Row],[Lent]]=\"\",0,1))","v":""},{"$f":"IF(Table18[[#This Row],[Lent]]=\"\",\"\",IF(Table18[[#This Row],[Returned]]=\"\",0,1))","v":""}]
[{"$nulls":11},{"$f":"IF(IF(Table18[[#This Row],[Disposition]]=\"Retired\",\"N/A\",IF(Table18[[#This Row],[Disposition]]=0,\"\",K42+$F$2))=0+$F$2,\"NEVER CALIBRATED\",IF(Table18[[#This Row],[Disposition]]=\"Retired\",\"N/A\",IF(Table18[[#This Row],[Disposition]]=0,\"\",K42+$F$2)))","v":""},{"$f":"IF(Table18[[#This Row],[Disposition]]=\"\",\"\",IF(AND(Table18[[#This Row],[Next Calibration]]<$E$1,Table18[[#This Row],[Disposition]]=\"Lost\"),\"Find and Calibrate\",IF(Table18[[#This Row],[Disposition]]=\"Lost\",\"Find\",IF(OR(Table18[[#This Row],[Next Calibration]]<$E$1,Table18[[#This Row],[Next Calibration]]=\"NEVER CALIBRATED\"),\"Calibrate\",\"Nominal\"))))","v":""},{"$f":"IF(((Table18[[#This Row],[Next Calibration]]-TODAY())/30)>2,\"More Than 2\",IF(((Table18[[#This Row],[Next Calibration]]-TODAY())/30)>1,\"Between 2 and 1\",\"Less than 1\"))","v":{"$error":"#VALUE!"}},{"$f":"IF(Table18[[#This Row],[Issued]]=\"\",\"\",IF(Table18[[#This Row],[Lent]]=\"\",0,1))","v":""},{"$f":"IF(Table18[[#This Row],[Lent]]=\"\",\"\",IF(Table18[[#This Row],[Returned]]=\"\",0,1))","v":""}]
[{"$nulls":11},{"$f":"IF(IF(Table18[[#This Row],[Disposition]]=\"Retired\",\"N/A\",IF(Table18[[#This Row],[Disposition]]=0,\"\",K43+$F$2))=0+$F$2,\"NEVER CALIBRATED\",IF(Table18[[#This Row],[Disposition]]=\"Retired\",\"N/A\",IF(Table18[[#This Row],[Disposition]]=0,\"\",K43+$F$2)))","v":""},{"$f":"IF(Table18[[#This Row],[Disposition]]=\"\",\"\",IF(AND(Table18[[#This Row],[Next Calibration]]<$E$1,Table18[[#This Row],[Disposition]]=\"Lost\"),\"Find and Calibrate\",IF(Table18[[#This Row],[Disposition]]=\"Lost\",\"Find\",IF(OR(Table18[[#This Row],[Next Calibration]]<$E$1,Table18[[#This Row],[Next Calibration]]=\"NEVER CALIBRATED\"),\"Calibrate\",\"Nominal\"))))","v":""},{"$f":"IF(((Table18[[#This Row],[Next Calibration]]-TODAY())/30)>2,\"More Than 2\",IF(((Table18[[#This Row],[Next Calibration]]-TODAY())/30)>1,\"Between 2 and 1\",\"Less than 1\"))","v":{"$error":"#VALUE!"}},{"$f":"IF(Table18[[#This Row],[Issued]]=\"\",\"\",IF(Table18[[#This Row],[Lent]]=\"\",0,1))","v":""},{"$f":"IF(Table18[[#This Row],[Lent]]=\"\",\"\",IF(Table18[[#This Row],[Returned]]=\"\",0,1))","v":""}]
[{"$nulls":11},{"$f":"IF(IF(Table18[[#This Row],[Disposition]]=\"Retired\",\"N/A\",IF(Table18[[#This Row],[Disposition]]=0,\"\",K44+$F$2))=0+$F$2,\"NEVER CALIBRATED\",IF(Table18[[#This Row],[Disposition]]=\"Retired\",\"N/A\",IF(Table18[[#This Row],[Disposition]]=0,\"\",K44+$F$2)))","v":""},{"$f":"IF(Table18[[#This Row],[Disposition]]=\"\",\"\",IF(AND(Table18[[#This Row],[Next Calibration]]<$E$1,Table18[[#This Row],[Disposition]]=\"Lost\"),\"Find and Calibrate\",IF(Table18[[#This Row],[Disposition]]=\"Lost\",\"Find\",IF(OR(Table18[[#This Row],[Next Calibration]]<$E$1,Table18[[#This Row],[Next Calibration]]=\"NEVER CALIBRATED\"),\"Calibrate\",\"Nominal\"))))","v":""},{"$f":"IF(((Table18[[#This Row],[Next Calibration]]-TODAY())/30)>2,\"More Than 2\",IF(((Table18[[#This Row],[Next Calibration]]-TODAY())/30)>1,\"Between 2 and 1\",\"Less than 1\"))","v":{"$error":"#VALUE!"}},{"$f":"IF(Table18[[#This Row],[Issued]]=\"\",\"\",IF(Table18[[#This Row],[Lent]]=\"\",0,1))","v":""},{"$f":"IF(Table18[[#This Row],[Lent]]=\"\",\"\",IF(Table18[[#This Row],[Returned]]=\"\",0,1))","v":""}]
[{"$nulls":11},{"$f":"IF(IF(Table18[[#This Row],[Disposition]]=\"Retired\",\"N/A\",IF(Table18[[#This Row],[Disposition]]=0,\"\",K45+$F$2))=0+$F$2,\"NEVER CALIBRATED\",IF(Table18[[#This Row],[Disposition]]=\"Retired\",\"N/A\",IF(Table18[[#This Row],[Disposition]]=0,\"\",K45+$F$2)))","v":""},{"$f":"IF(Table18[[#This Row],[Disposition]]=\"\",\"\",IF(AND(Table18[[#This Row],[Next Calibration]]<$E$1,Table18[[#This Row],[Disposition]]=\"Lost\"),\"Find and Calibrate\",IF(Table18[[#This Row],[Disposition]]=\"Lost\",\"Find\",IF(OR(Table18[[#This Row],[Next Calibration]]<$E$1,Table18[[#This Row],[Next Calibration]]=\"NEVER CALIBRATED\"),\"Calibrate\",\"Nominal\"))))","v":""},{"$f":"IF(((Table18[[#This Row],[Next Calibration]]-TODAY())/30)>2,\"More Than 2\",IF(((Table18[[#This Row],[Next Calibration]]-TODAY())/30)>1,\"Between 2 and 1\",\"Less than 1\"))","v":{"$error":"#VALUE!"}},{"$f":"IF(Table18[[#This Row],[Issued]]=\"\",\"\",IF(Table18[[#This Row],[Lent]]=\"\",0,1))","v":""},{"$f":"IF(Table18[[#This Row],[Lent]]=\"\",\"\",IF(Table18[[#This Row],[Returned]]=\"\",0,1))","v":""}]
[{"$nulls":11},{"$f":"IF(IF(Table18[[#This Row],[Disposition]]=\"Retired\",\"N/A\",IF(Table18[[#This Row],[Disposition]]=0,\"\",K46+$F$2))=0+$F$2,\"NEVER CALIBRATED\",IF(Table18[[#This Row],[Disposition]]=\"Retired\",\"N/A\",IF(Table18[[#This Row],[Disposition]]=0,\"\",K46+$F$2)))","v":""},{"$f":"IF(Table18[[#This Row],[Disposition]]=\"\",\"\",IF(AND(Table18[[#This Row],[Next Calibration]]<$E$1,Table18[[#This Row],[Disposition]]=\"Lost\"),\"Find and Calibrate\",IF(Table18[[#This Row],[Disposition]]=\"Lost\",\"Find\",IF(OR(Table18[[#This Row],[Next Calibration]]<$E$1,Table18[[#This Row],[Next Calibration]]=\"NEVER CALIBRATED\"),\"Calibrate\",\"Nominal\"))))","v":""},{"$f":"IF(((Table18[[#This Row],[Next Calibration]]-TODAY())/30)>2,\"More Than 2\",IF(((Table18[[#This Row],[Next Calibration]]-TODAY())/30)>1,\"Between 2 and 1\",\"Less than 1\"))","v":{"$error":"#VALUE!"}},{"$f":"IF(Table18[[#This Row],[Issued]]=\"\",\"\",IF(Table18[[#This Row],[Lent]]=\"\",0,1))","v":""},{"$f":"IF(Table18[[#This Row],[Lent]]=\"\",\"\",IF(Table18[[#This Row],[Returned]]=\"\",0,1))","v":""}]
[{"$nulls":11},{"$f":"IF(IF(Table18[[#This Row],[Disposition]]=\"Retired\",\"N/A\",IF(Table18[[#This Row],[Disposition]]=0,\"\",K47+$F$2))=0+$F$2,\"NEVER CALIBRATED\",IF(Table18[[#This Row],[Disposition]]=\"Retired\",\"N/A\",IF(Table18[[#This Row],[Disposition]]=0,\"\",K47+$F$2)))","v":""},{"$f":"IF(Table18[[#This Row],[Disposition]]=\"\",\"\",IF(AND(Table18[[#This Row],[Next Calibration]]<$E$1,Table18[[#This Row],[Disposition]]=\"Lost\"),\"Find and Calibrate\",IF(Table18[[#This Row],[Disposition]]=\"Lost\",\"Find\",IF(OR(Table18[[#This Row],[Next Calibration]]<$E$1,Table18[[#This Row],[Next Calibration]]=\"NEVER CALIBRATED\"),\"Calibrate\",\"Nominal\"))))","v":""},{"$f":"IF(((Table18[[#This Row],[Next Calibration]]-TODAY())/30)>2,\"More Than 2\",IF(((Table18[[#This Row],[Next Calibration]]-TODAY())/30)>1,\"Between 2 and 1\",\"Less than 1\"))","v":{"$error":"#VALUE!"}},{"$f":"IF(Table18[[#This Row],[Issued]]=\"\",\"\",IF(Table18[[#This Row],[Lent]]=\"\",0,1))","v":""},{"$f":"IF(Table18[[#This Row],[Lent]]=\"\",\"\",IF(Table18[[#This Row],[Returned]]=\"\",0,1))","v":""}]
[{"$nulls":11},{"$f":"IF(IF(Table18[[#This Row],[Disposition]]=\"Retired\",\"N/A\",IF(Table18[[#This Row],[Disposition]]=0,\"\",K48+$F$2))=0+$F$2,\"NEVER CALIBRATED\",IF(Table18[[#This Row],[Disposition]]=\"Retired\",\"N/A\",IF(Table18[[#This Row],[Disposition]]=0,\"\",K48+$F$2)))","v":""},{"$f":"IF(Table18[[#This Row],[Disposition]]=\"\",\"\",IF(AND(Table18[[#This Row],[Next Calibration]]<$E$1,Table18[[#This Row],[Disposition]]=\"Lost\"),\"Find and Calibrate\",IF(Table18[[#This Row],[Disposition]]=\"Lost\",\"Find\",IF(OR(Table18[[#This Row],[Next Calibration]]<$E$1,Table18[[#This Row],[Next Calibration]]=\"NEVER CALIBRATED\"),\"Calibrate\",\"Nominal\"))))","v":""},{"$f":"IF(((Table18[[#This Row],[Next Calibration]]-TODAY())/30)>2,\"More Than 2\",IF(((Table18[[#This Row],[Next Calibration]]-TODAY())/30)>1,\"Between 2 and 1\",\"Less than 1\"))","v":{"$error":"#VALUE!"}},{"$f":"IF(Table18[[#This Row],[Issued]]=\"\",\"\",IF(Table18[[#This Row],[Lent]]=\"\",0,1))","v":""},{"$f":"IF(Table18[[#This Row],[Lent]]=\"\",\"\",IF(Table18[[#This Row],[Returned]]=\"\",0,1))","v":""}]
[{"$nulls":11},{"$f":"IF(IF(Table18[[#This Row],[Disposition]]=\"Retired\",\"N/A\",IF(Table18[[#This Row],[Disposition]]=0,\"\",K49+$F$2))=0+$F$2,\"NEVER CALIBRATED\",IF(Table18[[#This Row],[Disposition]]=\"Retired\",\"N/A\",IF(Table18[[#This Row],[Disposition]]=0,\"\",K49+$F$2)))","v":""},{"$f":"IF(Table18[[#This Row],[Disposition]]=\"\",\"\",IF(AND(Table18[[#This Row],[Next Calibration]]<$E$1,Table18[[#This Row],[Disposition]]=\"Lost\"),\"Find and Calibrate\",IF(Table18[[#This Row],[Disposition]]=\"Lost\",\"Find\",IF(OR(Table18[[#This Row],[Next Calibration]]<$E$1,Table18[[#This Row],[Next Calibration]]=\"NEVER CALIBRATED\"),\"Calibrate\",\"Nominal\"))))","v":""},{"$f":"IF(((Table18[[#This Row],[Next Calibration]]-TODAY())/30)>2,\"More Than 2\",IF(((Table18[[#This Row],[Next Calibration]]-TODAY())/30)>1,\"Between 2 and 1\",\"Less than 1\"))","v":{"$error":"#VALUE!"}},{"$f":"IF(Table18[[#This Row],[Issued]]=\"\",\"\",IF(Table18[[#This Row],[Lent]]=\"\",0,1))","v":""},{"$f":"IF(Table18[[#This Row],[Lent]]=\"\",\"\",IF(Table18[[#This Row],[Returned]]=\"\",0,1))","v":""}]
[{"$nulls":11},{"$f":"IF(IF(Table18[[#This Row],[Disposition]]=\"Retired\",\"N/A\",IF(Table18[[#This Row],[Disposition]]=0,\"\",K50+$F$2))=0+$F$2,\"NEVER CALIBRATED\",IF(Table18[[#This Row],[Disposition]]=\"Retired\",\"N/A\",IF(Table18[[#This Row],[Disposition]]=0,\"\",K50+$F$2)))","v":""},{"$f":"IF(Table18[[#This Row],[Disposition]]=\"\",\"\",IF(AND(Table18[[#This Row],[Next Calibration]]<$E$1,Table18[[#This Row],[Disposition]]=\"Lost\"),\"Find and Calibrate\",IF(Table18[[#This Row],[Disposition]]=\"Lost\",\"Find\",IF(OR(Table18[[#This Row],[Next Calibration]]<$E$1,Table18[[#This Row],[Next Calibration]]=\"NEVER CALIBRATED\"),\"Calibrate\",\"Nominal\"))))","v":""},{"$f":"IF(((Table18[[#This Row],[Next Calibration]]-TODAY())/30)>2,\"More Than 2\",IF(((Table18[[#This Row],[Next Calibration]]-TODAY())/30)>1,\"Between 2 and 1\",\"Less than 1\"))","v":{"$error":"#VALUE!"}},{"$f":"IF(Table18[[#This Row],[Issued]]=\"\",\"\",IF(Table18[[#This Row],[Lent]]=\"\",0,1))","v":""},{"$f":"IF(Table18[[#This Row],[Lent]]=\"\",\"\",IF(Table18[[#This Row],[Returned]]=\"\",0,1))","v":""}]
[{"$nulls":11},{"$f":"IF(IF(Table18[[#This Row],[Disposition]]=\"Retired\",\"N/A\",IF(Table18[[#This Row],[Disposition]]=0,\"\",K51+$F$2))=0+$F$2,\"NEVER CALIBRATED\",IF(Table18[[#This Row],[Disposition]]=\"Retired\",\"N/A\",IF(Table18[[#This Row],[Disposition]]=0,\"\",K51+$F$2)))","v":""},{"$f":"IF(Table18[[#This Row],[Disposition]]=\"\",\"\",IF(AND(Table18[[#This Row],[Next Calibration]]<$E$1,Table18[[#This Row],[Disposition]]=\"Lost\"),\"Find and Calibrate\",IF(Table18[[#This Row],[Disposition]]=\"Lost\",\"Find\",IF(OR(Table18[[#This Row],[Next Calibration]]<$E$1,Table18[[#This Row],[Next Calibration]]=\"NEVER CALIBRATED\"),\"Calibrate\",\"Nominal\"))))","v":""},{"$f":"IF(((Table18[[#This Row],[Next Calibration]]-TODAY())/30)>2,\"More Than 2\",IF(((Table18[[#This Row],[Next Calibration]]-TODAY())/30)>1,\"Between 2 and 1\",\"Less than 1\"))","v":{"$error":"#VALUE!"}},{"$f":"IF(Table18[[#This Row],[Issued]]=\"\",\"\",IF(Table18[[#This Row],[Lent]]=\"\",0,1))","v":""},{"$f":"IF(Table18[[#This Row],[Lent]]=\"\",\"\",IF(Table18[[#This Row],[Returned]]=\"\",0,1))","v":""}]
[{"$nulls":11},{"$f":"IF(IF(Table18[[#This Row],[Disposition]]=\"Retired\",\"N/A\",IF(Table18[[#This Row],[Disposition]]=0,\"\",K52+$F$2))=0+$F$2,\"NEVER CALIBRATED\",IF(Table18[[#This Row],[Disposition]]=\"Retired\",\"N/A\",IF(Table18[[#This Row],[Disposition]]=0,\"\",K52+$F$2)))","v":""},{"$f":"IF(Table18[[#This Row],[Disposition]]=\"\",\"\",IF(AND(Table18[[#This Row],[Next Calibration]]<$E$1,Table18[[#This Row],[Disposition]]=\"Lost\"),\"Find and Calibrate\",IF(Table18[[#This Row],[Disposition]]=\"Lost\",\"Find\",IF(OR(Table18[[#This Row],[Next Calibration]]<$E$1,Table18[[#This Row],[Next Calibration]]=\"NEVER CALIBRATED\"),\"Calibrate\",\"Nominal\"))))","v":""},{"$f":"IF(((Table18[[#This Row],[Next Calibration]]-TODAY())/30)>2,\"More Than 2\",IF(((Table18[[#This Row],[Next Calibration]]-TODAY())/30)>1,\"Between 2 and 1\",\"Less than 1\"))","v":{"$error":"#VALUE!"}},{"$f":"IF(Table18[[#This Row],[Issued]]=\"\",\"\",IF(Table18[[#This Row],[Lent]]=\"\",0,1))","v":""},{"$f":"IF(Table18[[#This Row],[Lent]]=\"\",\"\",IF(Table18[[#This Row],[Returned]]=\"\",0,1))","v":""}]
[{"$nulls":11},{"$f":"IF(IF(Table18[[#This Row],[Disposition]]=\"Retired\",\"N/A\",IF(Table18[[#This Row],[Disposition]]=0,\"\",K53+$F$2))=0+$F$2,\"NEVER CALIBRATED\",IF(Table18[[#This Row],[Disposition]]=\"Retired\",\"N/A\",IF(Table18[[#This Row],[Disposition]]=0,\"\",K53+$F$2)))","v":""},{"$f":"IF(Table18[[#This Row],[Disposition]]=\"\",\"\",IF(AND(Table18[[#This Row],[Next Calibration]]<$E$1,Table18[[#This Row],[Disposition]]=\"Lost\"),\"Find and Calibrate\",IF(Table18[[#This Row],[Disposition]]=\"Lost\",\"Find\",IF(OR(Table18[[#This Row],[Next Calibration]]<$E$1,Table18[[#This Row],[Next Calibration]]=\"NEVER CALIBRATED\"),\"Calibrate\",\"Nominal\"))))","v":""},{"$f":"IF(((Table18[[#This Row],[Next Calibration]]-TODAY())/30)>2,\"More Than 2\",IF(((Table18[[#This Row],[Next Calibration]]-TODAY())/30)>1,\"Between 2 and 1\",\"Less than 1\"))","v":{"$error":"#VALUE!"}},{"$f":"IF(Table18[[#This Row],[Issued]]=\"\",\"\",IF(Table18[[#This Row],[Lent]]=\"\",0,1))","v":""},{"$f":"IF(Table18[[#This Row],[Lent]]=\"\",\"\",IF(Table18[[#This Row],[Returned]]=\"\",0,1))","v":""}]
[{"$nulls":11},{"$f":"IF(IF(Table18[[#This Row],[Disposition]]=\"Retired\",\"N/A\",IF(Table18[[#This Row],[Disposition]]=0,\"\",K54+$F$2))=0+$F$2,\"NEVER CALIBRATED\",IF(Table18[[#This Row],[Disposition]]=\"Retired\",\"N/A\",IF(Table18[[#This Row],[Disposition]]=0,\"\",K54+$F$2)))","v":""},{"$f":"IF(Table18[[#This Row],[Disposition]]=\"\",\"\",IF(AND(Table18[[#This Row],[Next Calibration]]<$E$1,Table18[[#This Row],[Disposition]]=\"Lost\"),\"Find and Calibrate\",IF(Table18[[#This Row],[Disposition]]=\"Lost\",\"Find\",IF(OR(Table18[[#This Row],[Next Calibration]]<$E$1,Table18[[#This Row],[Next Calibration]]=\"NEVER CALIBRATED\"),\"Calibrate\",\"Nominal\"))))","v":""},{"$f":"IF(((Table18[[#This Row],[Next Calibration]]-TODAY())/30)>2,\"More Than 2\",IF(((Table18[[#This Row],[Next Calibration]]-TODAY())/30)>1,\"Between 2 and 1\",\"Less than 1\"))","v":{"$error":"#VALUE!"}},{"$f":"IF(Table18[[#This Row],[Issued]]=\"\",\"\",IF(Table18[[#This Row],[Lent]]=\"\",0,1))","v":""},{"$f":"IF(Table18[[#This Row],[Lent]]=\"\",\"\",IF(Table18[[#This Row],[Returned]]=\"\",0,1))","v":""}]
[{"$nulls":11},{"$f":"IF(IF(Table18[[#This Row],[Disposition]]=\"Retired\",\"N/A\",IF(Table18[[#This Row],[Disposition]]=0,\"\",K55+$F$2))=0+$F$2,\"NEVER CALIBRATED\",IF(Table18[[#This Row],[Disposition]]=\"Retired\",\"N/A\",IF(Table18[[#This Row],[Disposition]]=0,\"\",K55+$F$2)))","v":""},{"$f":"IF(Table18[[#This Row],[Disposition]]=\"\",\"\",IF(AND(Table18[[#This Row],[Next Calibration]]<$E$1,Table18[[#This Row],[Disposition]]=\"Lost\"),\"Find and Calibrate\",IF(Table18[[#This Row],[Disposition]]=\"Lost\",\"Find\",IF(OR(Table18[[#This Row],[Next Calibration]]<$E$1,Table18[[#This Row],[Next Calibration]]=\"NEVER CALIBRATED\"),\"Calibrate\",\"Nominal\"))))","v":""},{"$f":"IF(((Table18[[#This Row],[Next Calibration]]-TODAY())/30)>2,\"More Than 2\",IF(((Table18[[#This Row],[Next Calibration]]-TODAY())/30)>1,\"Between 2 and 1\",\"Less than 1\"))","v":{"$error":"#VALUE!"}},{"$f":"IF(Table18[[#This Row],[Issued]]=\"\",\"\",IF(Table18[[#This Row],[Lent]]=\"\",0,1))","v":""},{"$f":"IF(Table18[[#This Row],[Lent]]=\"\",\"\",IF(Table18[[#This Row],[Returned]]=\"\",0,1))","v":""}]
[{"$nulls":11},{"$f":"IF(IF(Table18[[#This Row],[Disposition]]=\"Retired\",\"N/A\",IF(Table18[[#This Row],[Disposition]]=0,\"\",K56+$F$2))=0+$F$2,\"NEVER CALIBRATED\",IF(Table18[[#This Row],[Disposition]]=\"Retired\",\"N/A\",IF(Table18[[#This Row],[Disposition]]=0,\"\",K56+$F$2)))","v":""},{"$f":"IF(Table18[[#This Row],[Disposition]]=\"\",\"\",IF(AND(Table18[[#This Row],[Next Calibration]]<$E$1,Table18[[#This Row],[Disposition]]=\"Lost\"),\"Find and Calibrate\",IF(Table18[[#This Row],[Disposition]]=\"Lost\",\"Find\",IF(OR(Table18[[#This Row],[Next Calibration]]<$E$1,Table18[[#This Row],[Next Calibration]]=\"NEVER CALIBRATED\"),\"Calibrate\",\"Nominal\"))))","v":""},{"$f":"IF(((Table18[[#This Row],[Next Calibration]]-TODAY())/30)>2,\"More Than 2\",IF(((Table18[[#This Row],[Next Calibration]]-TODAY())/30)>1,\"Between 2 and 1\",\"Less than 1\"))","v":{"$error":"#VALUE!"}},{"$f":"IF(Table18[[#This Row],[Issued]]=\"\",\"\",IF(Table18[[#This Row],[Lent]]=\"\",0,1))","v":""},{"$f":"IF(Table18[[#This Row],[Lent]]=\"\",\"\",IF(Table18[[#This Row],[Returned]]=\"\",0,1))","v":""}]
[{"$nulls":11},{"$f":"IF(IF(Table18[[#This Row],[Disposition]]=\"Retired\",\"N/A\",IF(Table18[[#This Row],[Disposition]]=0,\"\",K57+$F$2))=0+$F$2,\"NEVER CALIBRATED\",IF(Table18[[#This Row],[Disposition]]=\"Retired\",\"N/A\",IF(Table18[[#This Row],[Disposition]]=0,\"\",K57+$F$2)))","v":""},{"$f":"IF(Table18[[#This Row],[Disposition]]=\"\",\"\",IF(AND(Table18[[#This Row],[Next Calibration]]<$E$1,Table18[[#This Row],[Disposition]]=\"Lost\"),\"Find and Calibrate\",IF(Table18[[#This Row],[Disposition]]=\"Lost\",\"Find\",IF(OR(Table18[[#This Row],[Next Calibration]]<$E$1,Table18[[#This Row],[Next Calibration]]=\"NEVER CALIBRATED\"),\"Calibrate\",\"Nominal\"))))","v":""},{"$f":"IF(((Table18[[#This Row],[Next Calibration]]-TODAY())/30)>2,\"More Than 2\",IF(((Table18[[#This Row],[Next Calibration]]-TODAY())/30)>1,\"Between 2 and 1\",\"Less than 1\"))","v":{"$error":"#VALUE!"}},{"$f":"IF(Table18[[#This Row],[Issued]]=\"\",\"\",IF(Table18[[#This Row],[Lent]]=\"\",0,1))","v":""},{"$f":"IF(Table18[[#This Row],[Lent]]=\"\",\"\",IF(Table18[[#This Row],[Returned]]=\"\",0,1))","v":""}]
[{"$nulls":11},{"$f":"IF(IF(Table18[[#This Row],[Disposition]]=\"Retired\",\"N/A\",IF(Table18[[#This Row],[Disposition]]=0,\"\",K58+$F$2))=0+$F$2,\"NEVER CALIBRATED\",IF(Table18[[#This Row],[Disposition]]=\"Retired\",\"N/A\",IF(Table18[[#This Row],[Disposition]]=0,\"\",K58+$F$2)))","v":""},{"$f":"IF(Table18[[#This Row],[Disposition]]=\"\",\"\",IF(AND(Table18[[#This Row],[Next Calibration]]<$E$1,Table18[[#This Row],[Disposition]]=\"Lost\"),\"Find and Calibrate\",IF(Table18[[#This Row],[Disposition]]=\"Lost\",\"Find\",IF(OR(Table18[[#This Row],[Next Calibration]]<$E$1,Table18[[#This Row],[Next Calibration]]=\"NEVER CALIBRATED\"),\"Calibrate\",\"Nominal\"))))","v":""},{"$f":"IF(((Table18[[#This Row],[Next Calibration]]-TODAY())/30)>2,\"More Than 2\",IF(((Table18[[#This Row],[Next Calibration]]-TODAY())/30)>1,\"Between 2 and 1\",\"Less than 1\"))","v":{"$error":"#VALUE!"}},{"$f":"IF(Table18[[#This Row],[Issued]]=\"\",\"\",IF(Table18[[#This Row],[Lent]]=\"\",0,1))","v":""},{"$f":"IF(Table18[[#This Row],[Lent]]=\"\",\"\",IF(Table18[[#This Row],[Returned]]=\"\",0,1))","v":""}]
[{"$nulls":11},{"$f":"IF(IF(Table18[[#This Row],[Disposition]]=\"Retired\",\"N/A\",IF(Table18[[#This Row],[Disposition]]=0,\"\",K59+$F$2))=0+$F$2,\"NEVER CALIBRATED\",IF(Table18[[#This Row],[Disposition]]=\"Retired\",\"N/A\",IF(Table18[[#This Row],[Disposition]]=0,\"\",K59+$F$2)))","v":""},{"$f":"IF(Table18[[#This Row],[Disposition]]=\"\",\"\",IF(AND(Table18[[#This Row],[Next Calibration]]<$E$1,Table18[[#This Row],[Disposition]]=\"Lost\"),\"Find and Calibrate\",IF(Table18[[#This Row],[Disposition]]=\"Lost\",\"Find\",IF(OR(Table18[[#This Row],[Next Calibration]]<$E$1,Table18[[#This Row],[Next Calibration]]=\"NEVER CALIBRATED\"),\"Calibrate\",\"Nominal\"))))","v":""},{"$f":"IF(((Table18[[#This Row],[Next Calibration]]-TODAY())/30)>2,\"More Than 2\",IF(((Table18[[#This Row],[Next Calibration]]-TODAY())/30)>1,\"Between 2 and 1\",\"Less than 1\"))","v":{"$error":"#VALUE!"}},{"$f":"IF(Table18[[#This Row],[Issued]]=\"\",\"\",IF(Table18[[#This Row],[Lent]]=\"\",0,1))","v":""},{"$f":"IF(Table18[[#This Row],[Lent]]=\"\",\"\",IF(Table18[[#This Row],[Returned]]=\"\",0,1))","v":""}]
[{"$nulls":11},{"$f":"IF(IF(Table18[[#This Row],[Disposition]]=\"Retired\",\"N/A\",IF(Table18[[#This Row],[Disposition]]=0,\"\",K60+$F$2))=0+$F$2,\"NEVER CALIBRATED\",IF(Table18[[#This Row],[Disposition]]=\"Retired\",\"N/A\",IF(Table18[[#This Row],[Disposition]]=0,\"\",K60+$F$2)))","v":""},{"$f":"IF(Table18[[#This Row],[Disposition]]=\"\",\"\",IF(AND(Table18[[#This Row],[Next Calibration]]<$E$1,Table18[[#This Row],[Disposition]]=\"Lost\"),\"Find and Calibrate\",IF(Table18[[#This Row],[Disposition]]=\"Lost\",\"Find\",IF(OR(Table18[[#This Row],[Next Calibration]]<$E$1,Table18[[#This Row],[Next Calibration]]=\"NEVER CALIBRATED\"),\"Calibrate\",\"Nominal\"))))","v":""},{"$f":"IF(((Table18[[#This Row],[Next Calibration]]-TODAY())/30)>2,\"More Than 2\",IF(((Table18[[#This Row],[Next Calibration]]-TODAY())/30)>1,\"Between 2 and 1\",\"Less than 1\"))","v":{"$error":"#VALUE!"}},{"$f":"IF(Table18[[#This Row],[Issued]]=\"\",\"\",IF(Table18[[#This Row],[Lent]]=\"\",0,1))","v":""},{"$f":"IF(Table18[[#This Row],[Lent]]=\"\",\"\",IF(Table18[[#This Row],[Returned]]=\"\",0,1))","v":""}]
[{"$nulls":11},{"$f":"IF(IF(Table18[[#This Row],[Disposition]]=\"Retired\",\"N/A\",IF(Table18[[#This Row],[Disposition]]=0,\"\",K61+$F$2))=0+$F$2,\"NEVER CALIBRATED\",IF(Table18[[#This Row],[Disposition]]=\"Retired\",\"N/A\",IF(Table18[[#This Row],[Disposition]]=0,\"\",K61+$F$2)))","v":""},{"$f":"IF(Table18[[#This Row],[Disposition]]=\"\",\"\",IF(AND(Table18[[#This Row],[Next Calibration]]<$E$1,Table18[[#This Row],[Disposition]]=\"Lost\"),\"Find and Calibrate\",IF(Table18[[#This Row],[Disposition]]=\"Lost\",\"Find\",IF(OR(Table18[[#This Row],[Next Calibration]]<$E$1,Table18[[#This Row],[Next Calibration]]=\"NEVER CALIBRATED\"),\"Calibrate\",\"Nominal\"))))","v":""},{"$f":"IF(((Table18[[#This Row],[Next Calibration]]-TODAY())/30)>2,\"More Than 2\",IF(((Table18[[#This Row],[Next Calibration]]-TODAY())/30)>1,\"Between 2 and 1\",\"Less than 1\"))","v":{"$error":"#VALUE!"}},{"$f":"IF(Table18[[#This Row],[Issued]]=\"\",\"\",IF(Table18[[#This Row],[Lent]]=\"\",0,1))","v":""},{"$f":"IF(Table18[[#This Row],[Lent]]=\"\",\"\",IF(Table18[[#This Row],[Returned]]=\"\",0,1))","v":""}]
[{"$nulls":11},{"$f":"IF(IF(Table18[[#This Row],[Disposition]]=\"Retired\",\"N/A\",IF(Table18[[#This Row],[Disposition]]=0,\"\",K62+$F$2))=0+$F$2,\"NEVER CALIBRATED\",IF(Table18[[#This Row],[Disposition]]=\"Retired\",\"N/A\",IF(Table18[[#This Row],[Disposition]]=0,\"\",K62+$F$2)))","v":""},{"$f":"IF(Table18[[#This Row],[Disposition]]=\"\",\"\",IF(AND(Table18[[#This Row],[Next Calibration]]<$E$1,Table18[[#This Row],[Disposition]]=\"Lost\"),\"Find and Calibrate\",IF(Table18[[#This Row],[Disposition]]=\"Lost\",\"Find\",IF(OR(Table18[[#This Row],[Next Calibration]]<$E$1,Table18[[#This Row],[Next Calibration]]=\"NEVER CALIBRATED\"),\"Calibrate\",\"Nominal\"))))","v":""},{"$f":"IF(((Table18[[#This Row],[Next Calibration]]-TODAY())/30)>2,\"More Than 2\",IF(((Table18[[#This Row],[Next Calibration]]-TODAY())/30)>1,\"Between 2 and 1\",\"Less than 1\"))","v":{"$error":"#VALUE!"}},{"$f":"IF(Table18[[#This Row],[Issued]]=\"\",\"\",IF(Table18[[#This Row],[Lent]]=\"\",0,1))","v":""},{"$f":"IF(Table18[[#This Row],[Lent]]=\"\",\"\",IF(Table18[[#This Row],[Returned]]=\"\",0,1))","v":""}]
[{"$nulls":11},{"$f":"IF(IF(Table18[[#This Row],[Disposition]]=\"Retired\",\"N/A\",IF(Table18[[#This Row],[Disposition]]=0,\"\",K63+$F$2))=0+$F$2,\"NEVER CALIBRATED\",IF(Table18[[#This Row],[Disposition]]=\"Retired\",\"N/A\",IF(Table18[[#This Row],[Disposition]]=0,\"\",K63+$F$2)))","v":""},{"$f":"IF(Table18[[#This Row],[Disposition]]=\"\",\"\",IF(AND(Table18[[#This Row],[Next Calibration]]<$E$1,Table18[[#This Row],[Disposition]]=\"Lost\"),\"Find and Calibrate\",IF(Table18[[#This Row],[Disposition]]=\"Lost\",\"Find\",IF(OR(Table18[[#This Row],[Next Calibration]]<$E$1,Table18[[#This Row],[Next Calibration]]=\"NEVER CALIBRATED\"),\"Calibrate\",\"Nominal\"))))","v":""},{"$f":"IF(((Table18[[#This Row],[Next Calibration]]-TODAY())/30)>2,\"More Than 2\",IF(((Table18[[#This Row],[Next Calibration]]-TODAY())/30)>1,\"Between 2 and 1\",\"Less than 1\"))","v":{"$error":"#VALUE!"}},{"$f":"IF(Table18[[#This Row],[Issued]]=\"\",\"\",IF(Table18[[#This Row],[Lent]]=\"\",0,1))","v":""},{"$f":"IF(Table18[[#This Row],[Lent]]=\"\",\"\",IF(Table18[[#This Row],[Returned]]=\"\",0,1))","v":""}]
[{"$nulls":11},{"$f":"IF(IF(Table18[[#This Row],[Disposition]]=\"Retired\",\"N/A\",IF(Table18[[#This Row],[Disposition]]=0,\"\",K64+$F$2))=0+$F$2,\"NEVER CALIBRATED\",IF(Table18[[#This Row],[Disposition]]=\"Retired\",\"N/A\",IF(Table18[[#This Row],[Disposition]]=0,\"\",K64+$F$2)))","v":""},{"$f":"IF(Table18[[#This Row],[Disposition]]=\"\",\"\",IF(AND(Table18[[#This Row],[Next Calibration]]<$E$1,Table18[[#This Row],[Disposition]]=\"Lost\"),\"Find and Calibrate\",IF(Table18[[#This Row],[Disposition]]=\"Lost\",\"Find\",IF(OR(Table18[[#This Row],[Next Calibration]]<$E$1,Table18[[#This Row],[Next Calibration]]=\"NEVER CALIBRATED\"),\"Calibrate\",\"Nominal\"))))","v":""},{"$f":"IF(((Table18[[#This Row],[Next Calibration]]-TODAY())/30)>2,\"More Than 2\",IF(((Table18[[#This Row],[Next Calibration]]-TODAY())/30)>1,\"Between 2 and 1\",\"Less than 1\"))","v":{"$error":"#VALUE!"}},{"$f":"IF(Table18[[#This Row],[Issued]]=\"\",\"\",IF(Table18[[#This Row],[Lent]]=\"\",0,1))","v":""},{"$f":"IF(Table18[[#This Row],[Lent]]=\"\",\"\",IF(Table18[[#This Row],[Returned]]=\"\",0,1))","v":""}]
[{"$nulls":11},{"$f":"IF(IF(Table18[[#This Row],[Disposition]]=\"Retired\",\"N/A\",IF(Table18[[#This Row],[Disposition]]=0,\"\",K65+$F$2))=0+$F$2,\"NEVER CALIBRATED\",IF(Table18[[#This Row],[Disposition]]=\"Retired\",\"N/A\",IF(Table18[[#This Row],[Disposition]]=0,\"\",K65+$F$2)))","v":""},{"$f":"IF(Table18[[#This Row],[Disposition]]=\"\",\"\",IF(AND(Table18[[#This Row],[Next Calibration]]<$E$1,Table18[[#This Row],[Disposition]]=\"Lost\"),\"Find and Calibrate\",IF(Table18[[#This Row],[Disposition]]=\"Lost\",\"Find\",IF(OR(Table18[[#This Row],[Next Calibration]]<$E$1,Table18[[#This Row],[Next Calibration]]=\"NEVER CALIBRATED\"),\"Calibrate\",\"Nominal\"))))","v":""},{"$f":"IF(((Table18[[#This Row],[Next Calibration]]-TODAY())/30)>2,\"More Than 2\",IF(((Table18[[#This Row],[Next Calibration]]-TODAY())/30)>1,\"Between 2 and 1\",\"Less than 1\"))","v":{"$error":"#VALUE!"}},{"$f":"IF(Table18[[#This Row],[Issued]]=\"\",\"\",IF(Table18[[#This Row],[Lent]]=\"\",0,1))","v":""},{"$f":"IF(Table18[[#This Row],[Lent]]=\"\",\"\",IF(Table18[[#This Row],[Returned]]=\"\",0,1))","v":""}]
[{"$nulls":11},{"$f":"IF(IF(Table18[[#This Row],[Disposition]]=\"Retired\",\"N/A\",IF(Table18[[#This Row],[Disposition]]=0,\"\",K66+$F$2))=0+$F$2,\"NEVER CALIBRATED\",IF(Table18[[#This Row],[Disposition]]=\"Retired\",\"N/A\",IF(Table18[[#This Row],[Disposition]]=0,\"\",K66+$F$2)))","v":""},{"$f":"IF(Table18[[#This Row],[Disposition]]=\"\",\"\",IF(AND(Table18[[#This Row],[Next Calibration]]<$E$1,Table18[[#This Row],[Disposition]]=\"Lost\"),\"Find and Calibrate\",IF(Table18[[#This Row],[Disposition]]=\"Lost\",\"Find\",IF(OR(Table18[[#This Row],[Next Calibration]]<$E$1,Table18[[#This Row],[Next Calibration]]=\"NEVER CALIBRATED\"),\"Calibrate\",\"Nominal\"))))","v":""},{"$f":"IF(((Table18[[#This Row],[Next Calibration]]-TODAY())/30)>2,\"More Than 2\",IF(((Table18[[#This Row],[Next Calibration]]-TODAY())/30)>1,\"Between 2 and 1\",\"Less than 1\"))","v":{"$error":"#VALUE!"}},{"$f":"IF(Table18[[#This Row],[Issued]]=\"\",\"\",IF(Table18[[#This Row],[Lent]]=\"\",0,1))","v":""},{"$f":"IF(Table18[[#This Row],[Lent]]=\"\",\"\",IF(Table18[[#This Row],[Returned]]=\"\",0,1))","v":""}]
[{"$nulls":11},{"$f":"IF(IF(Table18[[#This Row],[Disposition]]=\"Retired\",\"N/A\",IF(Table18[[#This Row],[Disposition]]=0,\"\",K67+$F$2))=0+$F$2,\"NEVER CALIBRATED\",IF(Table18[[#This Row],[Disposition]]=\"Retired\",\"N/A\",IF(Table18[[#This Row],[Disposition]]=0,\"\",K67+$F$2)))","v":""},{"$f":"IF(Table18[[#This Row],[Disposition]]=\"\",\"\",IF(AND(Table18[[#This Row],[Next Calibration]]<$E$1,Table18[[#This Row],[Disposition]]=\"Lost\"),\"Find and Calibrate\",IF(Table18[[#This Row],[Disposition]]=\"Lost\",\"Find\",IF(OR(Table18[[#This Row],[Next Calibration]]<$E$1,Table18[[#This Row],[Next Calibration]]=\"NEVER CALIBRATED\"),\"Calibrate\",\"Nominal\"))))","v":""},{"$f":"IF(((Table18[[#This Row],[Next Calibration]]-TODAY())/30)>2,\"More Than 2\",IF(((Table18[[#This Row],[Next Calibration]]-TODAY())/30)>1,\"Between 2 and 1\",\"Less than 1\"))","v":{"$error":"#VALUE!"}},{"$f":"IF(Table18[[#This Row],[Issued]]=\"\",\"\",IF(Table18[[#This Row],[Lent]]=\"\",0,1))","v":""},{"$f":"IF(Table18[[#This Row],[Lent]]=\"\",\"\",IF(Table18[[#This Row],[Returned]]=\"\",0,1))","v":""}]
[{"$nulls":11},{"$f":"IF(IF(Table18[[#This Row],[Disposition]]=\"Retired\",\"N/A\",IF(Table18[[#This Row],[Disposition]]=0,\"\",K68+$F$2))=0+$F$2,\"NEVER CALIBRATED\",IF(Table18[[#This Row],[Disposition]]=\"Retired\",\"N/A\",IF(Table18[[#This Row],[Disposition]]=0,\"\",K68+$F$2)))","v":""},{"$f":"IF(Table18[[#This Row],[Disposition]]=\"\",\"\",IF(AND(Table18[[#This Row],[Next Calibration]]<$E$1,Table18[[#This Row],[Disposition]]=\"Lost\"),\"Find and Calibrate\",IF(Table18[[#This Row],[Disposition]]=\"Lost\",\"Find\",IF(OR(Table18[[#This Row],[Next Calibration]]<$E$1,Table18[[#This Row],[Next Calibration]]=\"NEVER CALIBRATED\"),\"Calibrate\",\"Nominal\"))))","v":""},{"$f":"IF(((Table18[[#This Row],[Next Calibration]]-TODAY())/30)>2,\"More Than 2\",IF(((Table18[[#This Row],[Next Calibration]]-TODAY())/30)>1,\"Between 2 and 1\",\"Less than 1\"))","v":{"$error":"#VALUE!"}},{"$f":"IF(Table18[[#This Row],[Issued]]=\"\",\"\",IF(Table18[[#This Row],[Lent]]=\"\",0,1))","v":""},{"$f":"IF(Table18[[#This Row],[Lent]]=\"\",\"\",IF(Table18[[#This Row],[Returned]]=\"\",0,1))","v":""}]
[{"$nulls":11},{"$f":"IF(IF(Table18[[#This Row],[Disposition]]=\"Retired\",\"N/A\",IF(Table18[[#This Row],[Disposition]]=0,\"\",K69+$F$2))=0+$F$2,\"NEVER CALIBRATED\",IF(Table18[[#This Row],[Disposition]]=\"Retired\",\"N/A\",IF(Table18[[#This Row],[Disposition]]=0,\"\",K69+$F$2)))","v":""},{"$f":"IF(Table18[[#This Row],[Disposition]]=\"\",\"\",IF(AND(Table18[[#This Row],[Next Calibration]]<$E$1,Table18[[#This Row],[Disposition]]=\"Lost\"),\"Find and Calibrate\",IF(Table18[[#This Row],[Disposition]]=\"Lost\",\"Find\",IF(OR(Table18[[#This Row],[Next Calibration]]<$E$1,Table18[[#This Row],[Next Calibration]]=\"NEVER CALIBRATED\"),\"Calibrate\",\"Nominal\"))))","v":""},{"$f":"IF(((Table18[[#This Row],[Next Calibration]]-TODAY())/30)>2,\"More Than 2\",IF(((Table18[[#This Row],[Next Calibration]]-TODAY())/30)>1,\"Between 2 and 1\",\"Less than 1\"))","v":{"$error":"#VALUE!"}},{"$f":"IF(Table18[[#This Row],[Issued]]=\"\",\"\",IF(Table18[[#This Row],[Lent]]=\"\",0,1))","v":""},{"$f":"IF(Table18[[#This Row],[Lent]]=\"\",\"\",IF(Table18[[#This Row],[Returned]]=\"\",0,1))","v":""}]
[{"$nulls":11},{"$f":"IF(IF(Table18[[#This Row],[Disposition]]=\"Retired\",\"N/A\",IF(Table18[[#This Row],[Disposition]]=0,\"\",K70+$F$2))=0+$F$2,\"NEVER CALIBRATED\",IF(Table18[[#This Row],[Disposition]]=\"Retired\",\"N/A\",IF(Table18[[#This Row],[Disposition]]=0,\"\",K70+$F$2)))","v":""},{"$f":"IF(Table18[[#This Row],[Disposition]]=\"\",\"\",IF(AND(Table18[[#This Row],[Next Calibration]]<$E$1,Table18[[#This Row],[Disposition]]=\"Lost\"),\"Find and Calibrate\",IF(Table18[[#This Row],[Disposition]]=\"Lost\",\"Find\",IF(OR(Table18[[#This Row],[Next Calibration]]<$E$1,Table18[[#This Row],[Next Calibration]]=\"NEVER CALIBRATED\"),\"Calibrate\",\"Nominal\"))))","v":""},{"$f":"IF(((Table18[[#This Row],[Next Calibration]]-TODAY())/30)>2,\"More Than 2\",IF(((Table18[[#This Row],[Next Calibration]]-TODAY())/30)>1,\"Between 2 and 1\",\"Less than 1\"))","v":{"$error":"#VALUE!"}},{"$f":"IF(Table18[[#This Row],[Issued]]=\"\",\"\",IF(Table18[[#This Row],[Lent]]=\"\",0,1))","v":""},{"$f":"IF(Table18[[#This Row],[Lent]]=\"\",\"\",IF(Table18[[#This Row],[Returned]]=\"\",0,1))","v":""}]
[{"$nulls":11},{"$f":"IF(IF(Table18[[#This Row],[Disposition]]=\"Retired\",\"N/A\",IF(Table18[[#This Row],[Disposition]]=0,\"\",K71+$F$2))=0+$F$2,\"NEVER CALIBRATED\",IF(Table18[[#This Row],[Disposition]]=\"Retired\",\"N/A\",IF(Table18[[#This Row],[Disposition]]=0,\"\",K71+$F$2)))","v":""},{"$f":"IF(Table18[[#This Row],[Disposition]]=\"\",\"\",IF(AND(Table18[[#This Row],[Next Calibration]]<$E$1,Table18[[#This Row],[Disposition]]=\"Lost\"),\"Find and Calibrate\",IF(Table18[[#This Row],[Disposition]]=\"Lost\",\"Find\",IF(OR(Table18[[#This Row],[Next Calibration]]<$E$1,Table18[[#This Row],[Next Calibration]]=\"NEVER CALIBRATED\"),\"Calibrate\",\"Nominal\"))))","v":""},{"$f":"IF(((Table18[[#This Row],[Next Calibration]]-TODAY())/30)>2,\"More Than 2\",IF(((Table18[[#This Row],[Next Calibration]]-TODAY())/30)>1,\"Between 2 and 1\",\"Less than 1\"))","v":{"$error":"#VALUE!"}},{"$f":"IF(Table18[[#This Row],[Issued]]=\"\",\"\",IF(Table18[[#This Row],[Lent]]=\"\",0,1))","v":""},{"$f":"IF(Table18[[#This Row],[Lent]]=\"\",\"\",IF(Table18[[#This Row],[Returned]]=\"\",0,1))","v":""}]
[{"$nulls":11},{"$f":"IF(IF(Table18[[#This Row],[Disposition]]=\"Retired\",\"N/A\",IF(Table18[[#This Row],[Disposition]]=0,\"\",K72+$F$2))=0+$F$2,\"NEVER CALIBRATED\",IF(Table18[[#This Row],[Disposition]]=\"Retired\",\"N/A\",IF(Table18[[#This Row],[Disposition]]=0,\"\",K72+$F$2)))","v":""},{"$f":"IF(Table18[[#This Row],[Disposition]]=\"\",\"\",IF(AND(Table18[[#This Row],[Next Calibration]]<$E$1,Table18[[#This Row],[Disposition]]=\"Lost\"),\"Find and Calibrate\",IF(Table18[[#This Row],[Disposition]]=\"Lost\",\"Find\",IF(OR(Table18[[#This Row],[Next Calibration]]<$E$1,Table18[[#This Row],[Next Calibration]]=\"NEVER CALIBRATED\"),\"Calibrate\",\"Nominal\"))))","v":""},{"$f":"IF(((Table18[[#This Row],[Next Calibration]]-TODAY())/30)>2,\"More Than 2\",IF(((Table18[[#This Row],[Next Calibration]]-TODAY())/30)>1,\"Between 2 and 1\",\"Less than 1\"))","v":{"$error":"#VALUE!"}},{"$f":"IF(Table18[[#This Row],[Issued]]=\"\",\"\",IF(Table18[[#This Row],[Lent]]=\"\",0,1))","v":""},{"$f":"IF(Table18[[#This Row],[Lent]]=\"\",\"\",IF(Table18[[#This Row],[Returned]]=\"\",0,1))","v":""}]
[{"$nulls":11},{"$f":"IF(IF(Table18[[#This Row],[Disposition]]=\"Retired\",\"N/A\",IF(Table18[[#This Row],[Disposition]]=0,\"\",K73+$F$2))=0+$F$2,\"NEVER CALIBRATED\",IF(Table18[[#This Row],[Disposition]]=\"Retired\",\"N/A\",IF(Table18[[#This Row],[Disposition]]=0,\"\",K73+$F$2)))","v":""},{"$f":"IF(Table18[[#This Row],[Disposition]]=\"\",\"\",IF(AND(Table18[[#This Row],[Next Calibration]]<$E$1,Table18[[#This Row],[Disposition]]=\"Lost\"),\"Find and Calibrate\",IF(Table18[[#This Row],[Disposition]]=\"Lost\",\"Find\",IF(OR(Table18[[#This Row],[Next Calibration]]<$E$1,Table18[[#This Row],[Next Calibration]]=\"NEVER CALIBRATED\"),\"Calibrate\",\"Nominal\"))))","v":""},{"$f":"IF(((Table18[[#This Row],[Next Calibration]]-TODAY())/30)>2,\"More Than 2\",IF(((Table18[[#This Row],[Next Calibration]]-TODAY())/30)>1,\"Between 2 and 1\",\"Less than 1\"))","v":{"$error":"#VALUE!"}},{"$f":"IF(Table18[[#This Row],[Issued]]=\"\",\"\",IF(Table18[[#This Row],[Lent]]=\"\",0,1))","v":""},{"$f":"IF(Table18[[#This Row],[Lent]]=\"\",\"\",IF(Table18[[#This Row],[Returned]]=\"\",0,1))","v":""}]
[{"$nulls":11},{"$f":"IF(IF(Table18[[#This Row],[Disposition]]=\"Retired\",\"N/A\",IF(Table18[[#This Row],[Disposition]]=0,\"\",K74+$F$2))=0+$F$2,\"NEVER CALIBRATED\",IF(Table18[[#This Row],[Disposition]]=\"Retired\",\"N/A\",IF(Table18[[#This Row],[Disposition]]=0,\"\",K74+$F$2)))","v":""},{"$f":"IF(Table18[[#This Row],[Disposition]]=\"\",\"\",IF(AND(Table18[[#This Row],[Next Calibration]]<$E$1,Table18[[#This Row],[Disposition]]=\"Lost\"),\"Find and Calibrate\",IF(Table18[[#This Row],[Disposition]]=\"Lost\",\"Find\",IF(OR(Table18[[#This Row],[Next Calibration]]<$E$1,Table18[[#This Row],[Next Calibration]]=\"NEVER CALIBRATED\"),\"Calibrate\",\"Nominal\"))))","v":""},{"$f":"IF(((Table18[[#This Row],[Next Calibration]]-TODAY())/30)>2,\"More Than 2\",IF(((Table18[[#This Row],[Next Calibration]]-TODAY())/30)>1,\"Between 2 and 1\",\"Less than 1\"))","v":{"$error":"#VALUE!"}},{"$f":"IF(Table18[[#This Row],[Issued]]=\"\",\"\",IF(Table18[[#This Row],[Lent]]=\"\",0,1))","v":""},{"$f":"IF(Table18[[#This Row],[Lent]]=\"\",\"\",IF(Table18[[#This Row],[Returned]]=\"\",0,1))","v":""}]
[{"$nulls":11},{"$f":"IF(IF(Table18[[#This Row],[Disposition]]=\"Retired\",\"N/A\",IF(Table18[[#This Row],[Disposition]]=0,\"\",K75+$F$2))=0+$F$2,\"NEVER CALIBRATED\",IF(Table18[[#This Row],[Disposition]]=\"Retired\",\"N/A\",IF(Table18[[#This Row],[Disposition]]=0,\"\",K75+$F$2)))","v":""},{"$f":"IF(Table18[[#This Row],[Disposition]]=\"\",\"\",IF(AND(Table18[[#This Row],[Next Calibration]]<$E$1,Table18[[#This Row],[Disposition]]=\"Lost\"),\"Find and Calibrate\",IF(Table18[[#This Row],[Disposition]]=\"Lost\",\"Find\",IF(OR(Table18[[#This Row],[Next Calibration]]<$E$1,Table18[[#This Row],[Next Calibration]]=\"NEVER CALIBRATED\"),\"Calibrate\",\"Nominal\"))))","v":""},{"$f":"IF(((Table18[[#This Row],[Next Calibration]]-TODAY())/30)>2,\"More Than 2\",IF(((Table18[[#This Row],[Next Calibration]]-TODAY())/30)>1,\"Between 2 and 1\",\"Less than 1\"))","v":{"$error":"#VALUE!"}},{"$f":"IF(Table18[[#This Row],[Issued]]=\"\",\"\",IF(Table18[[#This Row],[Lent]]=\"\",0,1))","v":""},{"$f":"IF(Table18[[#This Row],[Lent]]=\"\",\"\",IF(Table18[[#This Row],[Returned]]=\"\",0,1))","v":""}]
[{"$nulls":11},{"$f":"IF(IF(Table18[[#This Row],[Disposition]]=\"Retired\",\"N/A\",IF(Table18[[#This Row],[Disposition]]=0,\"\",K76+$F$2))=0+$F$2,\"NEVER CALIBRATED\",IF(Table18[[#This Row],[Disposition]]=\"Retired\",\"N/A\",IF(Table18[[#This Row],[Disposition]]=0,\"\",K76+$F$2)))","v":""},{"$f":"IF(Table18[[#This Row],[Disposition]]=\"\",\"\",IF(AND(Table18[[#This Row],[Next Calibration]]<$E$1,Table18[[#This Row],[Disposition]]=\"Lost\"),\"Find and Calibrate\",IF(Table18[[#This Row],[Disposition]]=\"Lost\",\"Find\",IF(OR(Table18[[#This Row],[Next Calibration]]<$E$1,Table18[[#This Row],[Next Calibration]]=\"NEVER CALIBRATED\"),\"Calibrate\",\"Nominal\"))))","v":""},{"$f":"IF(((Table18[[#This Row],[Next Calibration]]-TODAY())/30)>2,\"More Than 2\",IF(((Table18[[#This Row],[Next Calibration]]-TODAY())/30)>1,\"Between 2 and 1\",\"Less than 1\"))","v":{"$error":"#VALUE!"}},{"$f":"IF(Table18[[#This Row],[Issued]]=\"\",\"\",IF(Table18[[#This Row],[Lent]]=\"\",0,1))","v":""},{"$f":"IF(Table18[[#This Row],[Lent]]=\"\",\"\",IF(Table18[[#This Row],[Returned]]=\"\",0,1))","v":""}]
[{"$nulls":11},{"$f":"IF(IF(Table18[[#This Row],[Disposition]]=\"Retired\",\"N/A\",IF(Table18[[#This Row],[Disposition]]=0,\"\",K77+$F$2))=0+$F$2,\"NEVER CALIBRATED\",IF(Table18[[#This Row],[Disposition]]=\"Retired\",\"N/A\",IF(Table18[[#This Row],[Disposition]]=0,\"\",K77+$F$2)))","v":""},{"$f":"IF(Table18[[#This Row],[Disposition]]=\"\",\"\",IF(AND(Table18[[#This Row],[Next Calibration]]<$E$1,Table18[[#This Row],[Disposition]]=\"Lost\"),\"Find and Calibrate\",IF(Table18[[#This Row],[Disposition]]=\"Lost\",\"Find\",IF(OR(Table18[[#This Row],[Next Calibration]]<$E$1,Table18[[#This Row],[Next Calibration]]=\"NEVER CALIBRATED\"),\"Calibrate\",\"Nominal\"))))","v":""},{"$f":"IF(((Table18[[#This Row],[Next Calibration]]-TODAY())/30)>2,\"More Than 2\",IF(((Table18[[#This Row],[Next Calibration]]-TODAY())/30)>1,\"Between 2 and 1\",\"Less than 1\"))","v":{"$error":"#VALUE!"}},{"$f":"IF(Table18[[#This Row],[Issued]]=\"\",\"\",IF(Table18[[#This Row],[Lent]]=\"\",0,1))","v":""},{"$f":"IF(Table18[[#This Row],[Lent]]=\"\",\"\",IF(Table18[[#This Row],[Returned]]=\"\",0,1))","v":""}]
[{"$nulls":11},{"$f":"IF(IF(Table18[[#This Row],[Disposition]]=\"Retired\",\"N/A\",IF(Table18[[#This Row],[Disposition]]=0,\"\",K78+$F$2))=0+$F$2,\"NEVER CALIBRATED\",IF(Table18[[#This Row],[Disposition]]=\"Retired\",\"N/A\",IF(Table18[[#This Row],[Disposition]]=0,\"\",K78+$F$2)))","v":""},{"$f":"IF(Table18[[#This Row],[Disposition]]=\"\",\"\",IF(AND(Table18[[#This Row],[Next Calibration]]<$E$1,Table18[[#This Row],[Disposition]]=\"Lost\"),\"Find and Calibrate\",IF(Table18[[#This Row],[Disposition]]=\"Lost\",\"Find\",IF(OR(Table18[[#This Row],[Next Calibration]]<$E$1,Table18[[#This Row],[Next Calibration]]=\"NEVER CALIBRATED\"),\"Calibrate\",\"Nominal\"))))","v":""},{"$f":"IF(((Table18[[#This Row],[Next Calibration]]-TODAY())/30)>2,\"More Than 2\",IF(((Table18[[#This Row],[Next Calibration]]-TODAY())/30)>1,\"Between 2 and 1\",\"Less than 1\"))","v":{"$error":"#VALUE!"}},{"$f":"IF(Table18[[#This Row],[Issued]]=\"\",\"\",IF(Table18[[#This Row],[Lent]]=\"\",0,1))","v":""},{"$f":"IF(Table18[[#This Row],[Lent]]=\"\",\"\",IF(Table18[[#This Row],[Returned]]=\"\",0,1))","v":""}]
[{"$nulls":11},{"$f":"IF(IF(Table18[[#This Row],[Disposition]]=\"Retired\",\"N/A\",IF(Table18[[#This Row],[Disposition]]=0,\"\",K79+$F$2))=0+$F$2,\"NEVER CALIBRATED\",IF(Table18[[#This Row],[Disposition]]=\"Retired\",\"N/A\",IF(Table18[[#This Row],[Disposition]]=0,\"\",K79+$F$2)))","v":""},{"$f":"IF(Table18[[#This Row],[Disposition]]=\"\",\"\",IF(AND(Table18[[#This Row],[Next Calibration]]<$E$1,Table18[[#This Row],[Disposition]]=\"Lost\"),\"Find and Calibrate\",IF(Table18[[#This Row],[Disposition]]=\"Lost\",\"Find\",IF(OR(Table18[[#This Row],[Next Calibration]]<$E$1,Table18[[#This Row],[Next Calibration]]=\"NEVER CALIBRATED\"),\"Calibrate\",\"Nominal\"))))","v":""},{"$f":"IF(((Table18[[#This Row],[Next Calibration]]-TODAY())/30)>2,\"More Than 2\",IF(((Table18[[#This Row],[Next Calibration]]-TODAY())/30)>1,\"Between 2 and 1\",\"Less than 1\"))","v":{"$error":"#VALUE!"}},{"$f":"IF(Table18[[#This Row],[Issued]]=\"\",\"\",IF(Table18[[#This Row],[Lent]]=\"\",0,1))","v":""},{"$f":"IF(Table18[[#This Row],[Lent]]=\"\",\"\",IF(Table18[[#This Row],[Returned]]=\"\",0,1))","v":""}]
[{"$nulls":11},{"$f":"IF(IF(Table18[[#This Row],[Disposition]]=\"Retired\",\"N/A\",IF(Table18[[#This Row],[Disposition]]=0,\"\",K80+$F$2))=0+$F$2,\"NEVER CALIBRATED\",IF(Table18[[#This Row],[Disposition]]=\"Retired\",\"N/A\",IF(Table18[[#This Row],[Disposition]]=0,\"\",K80+$F$2)))","v":""},{"$f":"IF(Table18[[#This Row],[Disposition]]=\"\",\"\",IF(AND(Table18[[#This Row],[Next Calibration]]<$E$1,Table18[[#This Row],[Disposition]]=\"Lost\"),\"Find and Calibrate\",IF(Table18[[#This Row],[Disposition]]=\"Lost\",\"Find\",IF(OR(Table18[[#This Row],[Next Calibration]]<$E$1,Table18[[#This Row],[Next Calibration]]=\"NEVER CALIBRATED\"),\"Calibrate\",\"Nominal\"))))","v":""},{"$f":"IF(((Table18[[#This Row],[Next Calibration]]-TODAY())/30)>2,\"More Than 2\",IF(((Table18[[#This Row],[Next Calibration]]-TODAY())/30)>1,\"Between 2 and 1\",\"Less than 1\"))","v":{"$error":"#VALUE!"}},{"$f":"IF(Table18[[#This Row],[Issued]]=\"\",\"\",IF(Table18[[#This Row],[Lent]]=\"\",0,1))","v":""},{"$f":"IF(Table18[[#This Row],[Lent]]=\"\",\"\",IF(Table18[[#This Row],[Returned]]=\"\",0,1))","v":""}]
[{"$nulls":11},{"$f":"IF(IF(Table18[[#This Row],[Disposition]]=\"Retired\",\"N/A\",IF(Table18[[#This Row],[Disposition]]=0,\"\",K81+$F$2))=0+$F$2,\"NEVER CALIBRATED\",IF(Table18[[#This Row],[Disposition]]=\"Retired\",\"N/A\",IF(Table18[[#This Row],[Disposition]]=0,\"\",K81+$F$2)))","v":""},{"$f":"IF(Table18[[#This Row],[Disposition]]=\"\",\"\",IF(AND(Table18[[#This Row],[Next Calibration]]<$E$1,Table18[[#This Row],[Disposition]]=\"Lost\"),\"Find and Calibrate\",IF(Table18[[#This Row],[Disposition]]=\"Lost\",\"Find\",IF(OR(Table18[[#This Row],[Next Calibration]]<$E$1,Table18[[#This Row],[Next Calibration]]=\"NEVER CALIBRATED\"),\"Calibrate\",\"Nominal\"))))","v":""},{"$f":"IF(((Table18[[#This Row],[Next Calibration]]-TODAY())/30)>2,\"More Than 2\",IF(((Table18[[#This Row],[Next Calibration]]-TODAY())/30)>1,\"Between 2 and 1\",\"Less than 1\"))","v":{"$error":"#VALUE!"}},{"$f":"IF(Table18[[#This Row],[Issued]]=\"\",\"\",IF(Table18[[#This Row],[Lent]]=\"\",0,1))","v":""},{"$f":"IF(Table18[[#This Row],[Lent]]=\"\",\"\",IF(Table18[[#This Row],[Returned]]=\"\",0,1))","v":""}]
[{"$nulls":11},{"$f":"IF(IF(Table18[[#This Row],[Disposition]]=\"Retired\",\"N/A\",IF(Table18[[#This Row],[Disposition]]=0,\"\",K82+$F$2))=0+$F$2,\"NEVER CALIBRATED\",IF(Table18[[#This Row],[Disposition]]=\"Retired\",\"N/A\",IF(Table18[[#This Row],[Disposition]]=0,\"\",K82+$F$2)))","v":""},{"$f":"IF(Table18[[#This Row],[Disposition]]=\"\",\"\",IF(AND(Table18[[#This Row],[Next Calibration]]<$E$1,Table18[[#This Row],[Disposition]]=\"Lost\"),\"Find and Calibrate\",IF(Table18[[#This Row],[Disposition]]=\"Lost\",\"Find\",IF(OR(Table18[[#This Row],[Next Calibration]]<$E$1,Table18[[#This Row],[Next Calibration]]=\"NEVER CALIBRATED\"),\"Calibrate\",\"Nominal\"))))","v":""},{"$f":"IF(((Table18[[#This Row],[Next Calibration]]-TODAY())/30)>2,\"More Than 2\",IF(((Table18[[#This Row],[Next Calibration]]-TODAY())/30)>1,\"Between 2 and 1\",\"Less than 1\"))","v":{"$error":"#VALUE!"}},{"$f":"IF(Table18[[#This Row],[Issued]]=\"\",\"\",IF(Table18[[#This Row],[Lent]]=\"\",0,1))","v":""},{"$f":"IF(Table18[[#This Row],[Lent]]=\"\",\"\",IF(Table18[[#This Row],[Returned]]=\"\",0,1))","v":""}]
[{"$nulls":11},{"$f":"IF(IF(Table18[[#This Row],[Disposition]]=\"Retired\",\"N/A\",IF(Table18[[#This Row],[Disposition]]=0,\"\",K83+$F$2))=0+$F$2,\"NEVER CALIBRATED\",IF(Table18[[#This Row],[Disposition]]=\"Retired\",\"N/A\",IF(Table18[[#This Row],[Disposition]]=0,\"\",K83+$F$2)))","v":""},{"$f":"IF(Table18[[#This Row],[Disposition]]=\"\",\"\",IF(AND(Table18[[#This Row],[Next Calibration]]<$E$1,Table18[[#This Row],[Disposition]]=\"Lost\"),\"Find and Calibrate\",IF(Table18[[#This Row],[Disposition]]=\"Lost\",\"Find\",IF(OR(Table18[[#This Row],[Next Calibration]]<$E$1,Table18[[#This Row],[Next Calibration]]=\"NEVER CALIBRATED\"),\"Calibrate\",\"Nominal\"))))","v":""},{"$f":"IF(((Table18[[#This Row],[Next Calibration]]-TODAY())/30)>2,\"More Than 2\",IF(((Table18[[#This Row],[Next Calibration]]-TODAY())/30)>1,\"Between 2 and 1\",\"Less than 1\"))","v":{"$error":"#VALUE!"}},{"$f":"IF(Table18[[#This Row],[Issued]]=\"\",\"\",IF(Table18[[#This Row],[Lent]]=\"\",0,1))","v":""},{"$f":"IF(Table18[[#This Row],[Lent]]=\"\",\"\",IF(Table18[[#This Row],[Returned]]=\"\",0,1))","v":""}]
[{"$nulls":11},{"$f":"IF(IF(Table18[[#This Row],[Disposition]]=\"Retired\",\"N/A\",IF(Table18[[#This Row],[Disposition]]=0,\"\",K84+$F$2))=0+$F$2,\"NEVER CALIBRATED\",IF(Table18[[#This Row],[Disposition]]=\"Retired\",\"N/A\",IF(Table18[[#This Row],[Disposition]]=0,\"\",K84+$F$2)))","v":""},{"$f":"IF(Table18[[#This Row],[Disposition]]=\"\",\"\",IF(AND(Table18[[#This Row],[Next Calibration]]<$E$1,Table18[[#This Row],[Disposition]]=\"Lost\"),\"Find and Calibrate\",IF(Table18[[#This Row],[Disposition]]=\"Lost\",\"Find\",IF(OR(Table18[[#This Row],[Next Calibration]]<$E$1,Table18[[#This Row],[Next Calibration]]=\"NEVER CALIBRATED\"),\"Calibrate\",\"Nominal\"))))","v":""},{"$f":"IF(((Table18[[#This Row],[Next Calibration]]-TODAY())/30)>2,\"More Than 2\",IF(((Table18[[#This Row],[Next Calibration]]-TODAY())/30)>1,\"Between 2 and 1\",\"Less than 1\"))","v":{"$error":"#VALUE!"}},{"$f":"IF(Table18[[#This Row],[Issued]]=\"\",\"\",IF(Table18[[#This Row],[Lent]]=\"\",0,1))","v":""},{"$f":"IF(Table18[[#This Row],[Lent]]=\"\",\"\",IF(Table18[[#This Row],[Returned]]=\"\",0,1))","v":""}]
[{"$nulls":11},{"$f":"IF(IF(Table18[[#This Row],[Disposition]]=\"Retired\",\"N/A\",IF(Table18[[#This Row],[Disposition]]=0,\"\",K85+$F$2))=0+$F$2,\"NEVER CALIBRATED\",IF(Table18[[#This Row],[Disposition]]=\"Retired\",\"N/A\",IF(Table18[[#This Row],[Disposition]]=0,\"\",K85+$F$2)))","v":""},{"$f":"IF(Table18[[#This Row],[Disposition]]=\"\",\"\",IF(AND(Table18[[#This Row],[Next Calibration]]<$E$1,Table18[[#This Row],[Disposition]]=\"Lost\"),\"Find and Calibrate\",IF(Table18[[#This Row],[Disposition]]=\"Lost\",\"Find\",IF(OR(Table18[[#This Row],[Next Calibration]]<$E$1,Table18[[#This Row],[Next Calibration]]=\"NEVER CALIBRATED\"),\"Calibrate\",\"Nominal\"))))","v":""},{"$f":"IF(((Table18[[#This Row],[Next Calibration]]-TODAY())/30)>2,\"More Than 2\",IF(((Table18[[#This Row],[Next Calibration]]-TODAY())/30)>1,\"Between 2 and 1\",\"Less than 1\"))","v":{"$error":"#VALUE!"}},{"$f":"IF(Table18[[#This Row],[Issued]]=\"\",\"\",IF(Table18[[#This Row],[Lent]]=\"\",0,1))","v":""},{"$f":"IF(Table18[[#This Row],[Lent]]=\"\",\"\",IF(Table18[[#This Row],[Returned]]=\"\",0,1))","v":""}]
[{"$nulls":11},{"$f":"IF(IF(Table18[[#This Row],[Disposition]]=\"Retired\",\"N/A\",IF(Table18[[#This Row],[Disposition]]=0,\"\",K86+$F$2))=0+$F$2,\"NEVER CALIBRATED\",IF(Table18[[#This Row],[Disposition]]=\"Retired\",\"N/A\",IF(Table18[[#This Row],[Disposition]]=0,\"\",K86+$F$2)))","v":""},{"$f":"IF(Table18[[#This Row],[Disposition]]=\"\",\"\",IF(AND(Table18[[#This Row],[Next Calibration]]<$E$1,Table18[[#This Row],[Disposition]]=\"Lost\"),\"Find and Calibrate\",IF(Table18[[#This Row],[Disposition]]=\"Lost\",\"Find\",IF(OR(Table18[[#This Row],[Next Calibration]]<$E$1,Table18[[#This Row],[Next Calibration]]=\"NEVER CALIBRATED\"),\"Calibrate\",\"Nominal\"))))","v":""},{"$f":"IF(((Table18[[#This Row],[Next Calibration]]-TODAY())/30)>2,\"More Than 2\",IF(((Table18[[#This Row],[Next Calibration]]-TODAY())/30)>1,\"Between 2 and 1\",\"Less than 1\"))","v":{"$error":"#VALUE!"}},{"$f":"IF(Table18[[#This Row],[Issued]]=\"\",\"\",IF(Table18[[#This Row],[Lent]]=\"\",0,1))","v":""},{"$f":"IF(Table18[[#This Row],[Lent]]=\"\",\"\",IF(Table18[[#This Row],[Returned]]=\"\",0,1))","v":""}]
[{"$nulls":11},{"$f":"IF(IF(Table18[[#This Row],[Disposition]]=\"Retired\",\"N/A\",IF(Table18[[#This Row],[Disposition]]=0,\"\",K87+$F$2))=0+$F$2,\"NEVER CALIBRATED\",IF(Table18[[#This Row],[Disposition]]=\"Retired\",\"N/A\",IF(Table18[[#This Row],[Disposition]]=0,\"\",K87+$F$2)))","v":""},{"$f":"IF(Table18[[#This Row],[Disposition]]=\"\",\"\",IF(AND(Table18[[#This Row],[Next Calibration]]<$E$1,Table18[[#This Row],[Disposition]]=\"Lost\"),\"Find and Calibrate\",IF(Table18[[#This Row],[Disposition]]=\"Lost\",\"Find\",IF(OR(Table18[[#This Row],[Next Calibration]]<$E$1,Table18[[#This Row],[Next Calibration]]=\"NEVER CALIBRATED\"),\"Calibrate\",\"Nominal\"))))","v":""},{"$f":"IF(((Table18[[#This Row],[Next Calibration]]-TODAY())/30)>2,\"More Than 2\",IF(((Table18[[#This Row],[Next Calibration]]-TODAY())/30)>1,\"Between 2 and 1\",\"Less than 1\"))","v":{"$error":"#VALUE!"}},{"$f":"IF(Table18[[#This Row],[Issued]]=\"\",\"\",IF(Table18[[#This Row],[Lent]]=\"\",0,1))","v":""},{"$f":"IF(Table18[[#This Row],[Lent]]=\"\",\"\",IF(Table18[[#This Row],[Returned]]=\"\",0,1))","v":""}]
[{"$nulls":11},{"$f":"IF(IF(Table18[[#This Row],[Disposition]]=\"Retired\",\"N/A\",IF(Table18[[#This Row],[Disposition]]=0,\"\",K88+$F$2))=0+$F$2,\"NEVER CALIBRATED\",IF(Table18[[#This Row],[Disposition]]=\"Retired\",\"N/A\",IF(Table18[[#This Row],[Disposition]]=0,\"\",K88+$F$2)))","v":""},{"$f":"IF(Table18[[#This Row],[Disposition]]=\"\",\"\",IF(AND(Table18[[#This Row],[Next Calibration]]<$E$1,Table18[[#This Row],[Disposition]]=\"Lost\"),\"Find and Calibrate\",IF(Table18[[#This Row],[Disposition]]=\"Lost\",\"Find\",IF(OR(Table18[[#This Row],[Next Calibration]]<$E$1,Table18[[#This Row],[Next Calibration]]=\"NEVER CALIBRATED\"),\"Calibrate\",\"Nominal\"))))","v":""},{"$f":"IF(((Table18[[#This Row],[Next Calibration]]-TODAY())/30)>2,\"More Than 2\",IF(((Table18[[#This Row],[Next Calibration]]-TODAY())/30)>1,\"Between 2 and 1\",\"Less than 1\"))","v":{"$error":"#VALUE!"}},{"$f":"IF(Table18[[#This Row],[Issued]]=\"\",\"\",IF(Table18[[#This Row],[Lent]]=\"\",0,1))","v":""},{"$f":"IF(Table18[[#This Row],[Lent]]=\"\",\"\",IF(Table18[[#This Row],[Returned]]=\"\",0,1))","v":""}]
[{"$nulls":11},{"$f":"IF(IF(Table18[[#This Row],[Disposition]]=\"Retired\",\"N/A\",IF(Table18[[#This Row],[Disposition]]=0,\"\",K89+$F$2))=0+$F$2,\"NEVER CALIBRATED\",IF(Table18[[#This Row],[Disposition]]=\"Retired\",\"N/A\",IF(Table18[[#This Row],[Disposition]]=0,\"\",K89+$F$2)))","v":""},{"$f":"IF(Table18[[#This Row],[Disposition]]=\"\",\"\",IF(AND(Table18[[#This Row],[Next Calibration]]<$E$1,Table18[[#This Row],[Disposition]]=\"Lost\"),\"Find and Calibrate\",IF(Table18[[#This Row],[Disposition]]=\"Lost\",\"Find\",IF(OR(Table18[[#This Row],[Next Calibration]]<$E$1,Table18[[#This Row],[Next Calibration]]=\"NEVER CALIBRATED\"),\"Calibrate\",\"Nominal\"))))","v":""},{"$f":"IF(((Table18[[#This Row],[Next Calibration]]-TODAY())/30)>2,\"More Than 2\",IF(((Table18[[#This Row],[Next Calibration]]-TODAY())/30)>1,\"Between 2 and 1\",\"Less than 1\"))","v":{"$error":"#VALUE!"}},{"$f":"IF(Table18[[#This Row],[Issued]]=\"\",\"\",IF(Table18[[#This Row],[Lent]]=\"\",0,1))","v":""},{"$f":"IF(Table18[[#This Row],[Lent]]=\"\",\"\",IF(Table18[[#This Row],[Returned]]=\"\",0,1))","v":""}]
[{"$nulls":11},{"$f":"IF(IF(Table18[[#This Row],[Disposition]]=\"Retired\",\"N/A\",IF(Table18[[#This Row],[Disposition]]=0,\"\",K90+$F$2))=0+$F$2,\"NEVER CALIBRATED\",IF(Table18[[#This Row],[Disposition]]=\"Retired\",\"N/A\",IF(Table18[[#This Row],[Disposition]]=0,\"\",K90+$F$2)))","v":""},{"$f":"IF(Table18[[#This Row],[Disposition]]=\"\",\"\",IF(AND(Table18[[#This Row],[Next Calibration]]<$E$1,Table18[[#This Row],[Disposition]]=\"Lost\"),\"Find and Calibrate\",IF(Table18[[#This Row],[Disposition]]=\"Lost\",\"Find\",IF(OR(Table18[[#This Row],[Next Calibration]]<$E$1,Table18[[#This Row],[Next Calibration]]=\"NEVER CALIBRATED\"),\"Calibrate\",\"Nominal\"))))","v":""},{"$f":"IF(((Table18[[#This Row],[Next Calibration]]-TODAY())/30)>2,\"More Than 2\",IF(((Table18[[#This Row],[Next Calibration]]-TODAY())/30)>1,\"Between 2 and 1\",\"Less than 1\"))","v":{"$error":"#VALUE!"}},{"$f":"IF(Table18[[#This Row],[Issued]]=\"\",\"\",IF(Table18[[#This Row],[Lent]]=\"\",0,1))","v":""},{"$f":"IF(Table18[[#This Row],[Lent]]=\"\",\"\",IF(Table18[[#This Row],[Returned]]=\"\",0,1))","v":""}]
[{"$nulls":11},{"$f":"IF(IF(Table18[[#This Row],[Disposition]]=\"Retired\",\"N/A\",IF(Table18[[#This Row],[Disposition]]=0,\"\",K91+$F$2))=0+$F$2,\"NEVER CALIBRATED\",IF(Table18[[#This Row],[Disposition]]=\"Retired\",\"N/A\",IF(Table18[[#This Row],[Disposition]]=0,\"\",K91+$F$2)))","v":""},{"$f":"IF(Table18[[#This Row],[Disposition]]=\"\",\"\",IF(AND(Table18[[#This Row],[Next Calibration]]<$E$1,Table18[[#This Row],[Disposition]]=\"Lost\"),\"Find and Calibrate\",IF(Table18[[#This Row],[Disposition]]=\"Lost\",\"Find\",IF(OR(Table18[[#This Row],[Next Calibration]]<$E$1,Table18[[#This Row],[Next Calibration]]=\"NEVER CALIBRATED\"),\"Calibrate\",\"Nominal\"))))","v":""},{"$f":"IF(((Table18[[#This Row],[Next Calibration]]-TODAY())/30)>2,\"More Than 2\",IF(((Table18[[#This Row],[Next Calibration]]-TODAY())/30)>1,\"Between 2 and 1\",\"Less than 1\"))","v":{"$error":"#VALUE!"}},{"$f":"IF(Table18[[#This Row],[Issued]]=\"\",\"\",IF(Table18[[#This Row],[Lent]]=\"\",0,1))","v":""},{"$f":"IF(Table18[[#This Row],[Lent]]=\"\",\"\",IF(Table18[[#This Row],[Returned]]=\"\",0,1))","v":""}]
[{"$nulls":11},{"$f":"IF(IF(Table18[[#This Row],[Disposition]]=\"Retired\",\"N/A\",IF(Table18[[#This Row],[Disposition]]=0,\"\",K92+$F$2))=0+$F$2,\"NEVER CALIBRATED\",IF(Table18[[#This Row],[Disposition]]=\"Retired\",\"N/A\",IF(Table18[[#This Row],[Disposition]]=0,\"\",K92+$F$2)))","v":""},{"$f":"IF(Table18[[#This Row],[Disposition]]=\"\",\"\",IF(AND(Table18[[#This Row],[Next Calibration]]<$E$1,Table18[[#This Row],[Disposition]]=\"Lost\"),\"Find and Calibrate\",IF(Table18[[#This Row],[Disposition]]=\"Lost\",\"Find\",IF(OR(Table18[[#This Row],[Next Calibration]]<$E$1,Table18[[#This Row],[Next Calibration]]=\"NEVER CALIBRATED\"),\"Calibrate\",\"Nominal\"))))","v":""},{"$f":"IF(((Table18[[#This Row],[Next Calibration]]-TODAY())/30)>2,\"More Than 2\",IF(((Table18[[#This Row],[Next Calibration]]-TODAY())/30)>1,\"Between 2 and 1\",\"Less than 1\"))","v":{"$error":"#VALUE!"}},{"$f":"IF(Table18[[#This Row],[Issued]]=\"\",\"\",IF(Table18[[#This Row],[Lent]]=\"\",0,1))","v":""},{"$f":"IF(Table18[[#This Row],[Lent]]=\"\",\"\",IF(Table18[[#This Row],[Returned]]=\"\",0,1))","v":""}]
[{"$nulls":11},{"$f":"IF(IF(Table18[[#This Row],[Disposition]]=\"Retired\",\"N/A\",IF(Table18[[#This Row],[Disposition]]=0,\"\",K93+$F$2))=0+$F$2,\"NEVER CALIBRATED\",IF(Table18[[#This Row],[Disposition]]=\"Retired\",\"N/A\",IF(Table18[[#This Row],[Disposition]]=0,\"\",K93+$F$2)))","v":""},{"$f":"IF(Table18[[#This Row],[Disposition]]=\"\",\"\",IF(AND(Table18[[#This Row],[Next Calibration]]<$E$1,Table18[[#This Row],[Disposition]]=\"Lost\"),\"Find and Calibrate\",IF(Table18[[#This Row],[Disposition]]=\"Lost\",\"Find\",IF(OR(Table18[[#This Row],[Next Calibration]]<$E$1,Table18[[#This Row],[Next Calibration]]=\"NEVER CALIBRATED\"),\"Calibrate\",\"Nominal\"))))","v":""},{"$f":"IF(((Table18[[#This Row],[Next Calibration]]-TODAY())/30)>2,\"More Than 2\",IF(((Table18[[#This Row],[Next Calibration]]-TODAY())/30)>1,\"Between 2 and 1\",\"Less than 1\"))","v":{"$error":"#VALUE!"}},{"$f":"IF(Table18[[#This Row],[Issued]]=\"\",\"\",IF(Table18[[#This Row],[Lent]]=\"\",0,1))","v":""},{"$f":"IF(Table18[[#This Row],[Lent]]=\"\",\"\",IF(Table18[[#This Row],[Returned]]=\"\",0,1))","v":""}]
[{"$nulls":11},{"$f":"IF(IF(Table18[[#This Row],[Disposition]]=\"Retired\",\"N/A\",IF(Table18[[#This Row],[Disposition]]=0,\"\",K94+$F$2))=0+$F$2,\"NEVER CALIBRATED\",IF(Table18[[#This Row],[Disposition]]=\"Retired\",\"N/A\",IF(Table18[[#This Row],[Disposition]]=0,\"\",K94+$F$2)))","v":""},{"$f":"IF(Table18[[#This Row],[Disposition]]=\"\",\"\",IF(AND(Table18[[#This Row],[Next Calibration]]<$E$1,Table18[[#This Row],[Disposition]]=\"Lost\"),\"Find and Calibrate\",IF(Table18[[#This Row],[Disposition]]=\"Lost\",\"Find\",IF(OR(Table18[[#This Row],[Next Calibration]]<$E$1,Table18[[#This Row],[Next Calibration]]=\"NEVER CALIBRATED\"),\"Calibrate\",\"Nominal\"))))","v":""},{"$f":"IF(((Table18[[#This Row],[Next Calibration]]-TODAY())/30)>2,\"More Than 2\",IF(((Table18[[#This Row],[Next Calibration]]-TODAY())/30)>1,\"Between 2 and 1\",\"Less than 1\"))","v":{"$error":"#VALUE!"}},{"$f":"IF(Table18[[#This Row],[Issued]]=\"\",\"\",IF(Table18[[#This Row],[Lent]]=\"\",0,1))","v":""},{"$f":"IF(Table18[[#This Row],[Lent]]=\"\",\"\",IF(Table18[[#This Row],[Returned]]=\"\",0,1))","v":""}]
[{"$nulls":11},{"$f":"IF(IF(Table18[[#This Row],[Disposition]]=\"Retired\",\"N/A\",IF(Table18[[#This Row],[Disposition]]=0,\"\",K95+$F$2))=0+$F$2,\"NEVER CALIBRATED\",IF(Table18[[#This Row],[Disposition]]=\"Retired\",\"N/A\",IF(Table18[[#This Row],[Disposition]]=0,\"\",K95+$F$2)))","v":""},{"$f":"IF(Table18[[#This Row],[Disposition]]=\"\",\"\",IF(AND(Table18[[#This Row],[Next Calibration]]<$E$1,Table18[[#This Row],[Disposition]]=\"Lost\"),\"Find and Calibrate\",IF(Table18[[#This Row],[Disposition]]=\"Lost\",\"Find\",IF(OR(Table18[[#This Row],[Next Calibration]]<$E$1,Table18[[#This Row],[Next Calibration]]=\"NEVER CALIBRATED\"),\"Calibrate\",\"Nominal\"))))","v":""},{"$f":"IF(((Table18[[#This Row],[Next Calibration]]-TODAY())/30)>2,\"More Than 2\",IF(((Table18[[#This Row],[Next Calibration]]-TODAY())/30)>1,\"Between 2 and 1\",\"Less than 1\"))","v":{"$error":"#VALUE!"}},{"$f":"IF(Table18[[#This Row],[Issued]]=\"\",\"\",IF(Table18[[#This Row],[Lent]]=\"\",0,1))","v":""},{"$f":"IF(Table18[[#This Row],[Lent]]=\"\",\"\",IF(Table18[[#This Row],[Returned]]=\"\",0,1))","v":""}]
[{"$nulls":11},{"$f":"IF(IF(Table18[[#This Row],[Disposition]]=\"Retired\",\"N/A\",IF(Table18[[#This Row],[Disposition]]=0,\"\",K96+$F$2))=0+$F$2,\"NEVER CALIBRATED\",IF(Table18[[#This Row],[Disposition]]=\"Retired\",\"N/A\",IF(Table18[[#This Row],[Disposition]]=0,\"\",K96+$F$2)))","v":""},{"$f":"IF(Table18[[#This Row],[Disposition]]=\"\",\"\",IF(AND(Table18[[#This Row],[Next Calibration]]<$E$1,Table18[[#This Row],[Disposition]]=\"Lost\"),\"Find and Calibrate\",IF(Table18[[#This Row],[Disposition]]=\"Lost\",\"Find\",IF(OR(Table18[[#This Row],[Next Calibration]]<$E$1,Table18[[#This Row],[Next Calibration]]=\"NEVER CALIBRATED\"),\"Calibrate\",\"Nominal\"))))","v":""},{"$f":"IF(((Table18[[#This Row],[Next Calibration]]-TODAY())/30)>2,\"More Than 2\",IF(((Table18[[#This Row],[Next Calibration]]-TODAY())/30)>1,\"Between 2 and 1\",\"Less than 1\"))","v":{"$error":"#VALUE!"}},{"$f":"IF(Table18[[#This Row],[Issued]]=\"\",\"\",IF(Table18[[#This Row],[Lent]]=\"\",0,1))","v":""},{"$f":"IF(Table18[[#This Row],[Lent]]=\"\",\"\",IF(Table18[[#This Row],[Returned]]=\"\",0,1))","v":""}]
[{"$nulls":11},{"$f":"IF(IF(Table18[[#This Row],[Disposition]]=\"Retired\",\"N/A\",IF(Table18[[#This Row],[Disposition]]=0,\"\",K97+$F$2))=0+$F$2,\"NEVER CALIBRATED\",IF(Table18[[#This Row],[Disposition]]=\"Retired\",\"N/A\",IF(Table18[[#This Row],[Disposition]]=0,\"\",K97+$F$2)))","v":""},{"$f":"IF(Table18[[#This Row],[Disposition]]=\"\",\"\",IF(AND(Table18[[#This Row],[Next Calibration]]<$E$1,Table18[[#This Row],[Disposition]]=\"Lost\"),\"Find and Calibrate\",IF(Table18[[#This Row],[Disposition]]=\"Lost\",\"Find\",IF(OR(Table18[[#This Row],[Next Calibration]]<$E$1,Table18[[#This Row],[Next Calibration]]=\"NEVER CALIBRATED\"),\"Calibrate\",\"Nominal\"))))","v":""},{"$f":"IF(((Table18[[#This Row],[Next Calibration]]-TODAY())/30)>2,\"More Than 2\",IF(((Table18[[#This Row],[Next Calibration]]-TODAY())/30)>1,\"Between 2 and 1\",\"Less than 1\"))","v":{"$error":"#VALUE!"}},{"$f":"IF(Table18[[#This Row],[Issued]]=\"\",\"\",IF(Table18[[#This Row],[Lent]]=\"\",0,1))","v":""},{"$f":"IF(Table18[[#This Row],[Lent]]=\"\",\"\",IF(Table18[[#This Row],[Returned]]=\"\",0,1))","v":""}]
[{"$nulls":11},{"$f":"IF(IF(Table18[[#This Row],[Disposition]]=\"Retired\",\"N/A\",IF(Table18[[#This Row],[Disposition]]=0,\"\",K98+$F$2))=0+$F$2,\"NEVER CALIBRATED\",IF(Table18[[#This Row],[Disposition]]=\"Retired\",\"N/A\",IF(Table18[[#This Row],[Disposition]]=0,\"\",K98+$F$2)))","v":""},{"$f":"IF(Table18[[#This Row],[Disposition]]=\"\",\"\",IF(AND(Table18[[#This Row],[Next Calibration]]<$E$1,Table18[[#This Row],[Disposition]]=\"Lost\"),\"Find and Calibrate\",IF(Table18[[#This Row],[Disposition]]=\"Lost\",\"Find\",IF(OR(Table18[[#This Row],[Next Calibration]]<$E$1,Table18[[#This Row],[Next Calibration]]=\"NEVER CALIBRATED\"),\"Calibrate\",\"Nominal\"))))","v":""},{"$f":"IF(((Table18[[#This Row],[Next Calibration]]-TODAY())/30)>2,\"More Than 2\",IF(((Table18[[#This Row],[Next Calibration]]-TODAY())/30)>1,\"Between 2 and 1\",\"Less than 1\"))","v":{"$error":"#VALUE!"}},{"$f":"IF(Table18[[#This Row],[Issued]]=\"\",\"\",IF(Table18[[#This Row],[Lent]]=\"\",0,1))","v":""},{"$f":"IF(Table18[[#This Row],[Lent]]=\"\",\"\",IF(Table18[[#This Row],[Returned]]=\"\",0,1))","v":""}]
[{"$nulls":11},{"$f":"IF(IF(Table18[[#This Row],[Disposition]]=\"Retired\",\"N/A\",IF(Table18[[#This Row],[Disposition]]=0,\"\",K99+$F$2))=0+$F$2,\"NEVER CALIBRATED\",IF(Table18[[#This Row],[Disposition]]=\"Retired\",\"N/A\",IF(Table18[[#This Row],[Disposition]]=0,\"\",K99+$F$2)))","v":""},{"$f":"IF(Table18[[#This Row],[Disposition]]=\"\",\"\",IF(AND(Table18[[#This Row],[Next Calibration]]<$E$1,Table18[[#This Row],[Disposition]]=\"Lost\"),\"Find and Calibrate\",IF(Table18[[#This Row],[Disposition]]=\"Lost\",\"Find\",IF(OR(Table18[[#This Row],[Next Calibration]]<$E$1,Table18[[#This Row],[Next Calibration]]=\"NEVER CALIBRATED\"),\"Calibrate\",\"Nominal\"))))","v":""},{"$f":"IF(((Table18[[#This Row],[Next Calibration]]-TODAY())/30)>2,\"More Than 2\",IF(((Table18[[#This Row],[Next Calibration]]-TODAY())/30)>1,\"Between 2 and 1\",\"Less than 1\"))","v":{"$error":"#VALUE!"}},{"$f":"IF(Table18[[#This Row],[Issued]]=\"\",\"\",IF(Table18[[#This Row],[Lent]]=\"\",0,1))","v":""},{"$f":"IF(Table18[[#This Row],[Lent]]=\"\",\"\",IF(Table18[[#This Row],[Returned]]=\"\",0,1))","v":""}]
[{"$nulls":11},{"$f":"IF(IF(Table18[[#This Row],[Disposition]]=\"Retired\",\"N/A\",IF(Table18[[#This Row],[Disposition]]=0,\"\",K100+$F$2))=0+$F$2,\"NEVER CALIBRATED\",IF(Table18[[#This Row],[Disposition]]=\"Retired\",\"N/A\",IF(Table18[[#This Row],[Disposition]]=0,\"\",K100+$F$2)))","v":""},{"$f":"IF(Table18[[#This Row],[Disposition]]=\"\",\"\",IF(AND(Table18[[#This Row],[Next Calibration]]<$E$1,Table18[[#This Row],[Disposition]]=\"Lost\"),\"Find and Calibrate\",IF(Table18[[#This Row],[Disposition]]=\"Lost\",\"Find\",IF(OR(Table18[[#This Row],[Next Calibration]]<$E$1,Table18[[#This Row],[Next Calibration]]=\"NEVER CALIBRATED\"),\"Calibrate\",\"Nominal\"))))","v":""},{"$f":"IF(((Table18[[#This Row],[Next Calibration]]-TODAY())/30)>2,\"More Than 2\",IF(((Table18[[#This Row],[Next Calibration]]-TODAY())/30)>1,\"Between 2 and 1\",\"Less than 1\"))","v":{"$error":"#VALUE!"}},{"$f":"IF(Table18[[#This Row],[Issued]]=\"\",\"\",IF(Table18[[#This Row],[Lent]]=\"\",0,1))","v":""},{"$f":"IF(Table18[[#This Row],[Lent]]=\"\",\"\",IF(Table18[[#This Row],[Returned]]=\"\",0,1))","v":""}]
[{"$nulls":11},{"$f":"IF(IF(Table18[[#This Row],[Disposition]]=\"Retired\",\"N/A\",IF(Table18[[#This Row],[Disposition]]=0,\"\",K101+$F$2))=0+$F$2,\"NEVER CALIBRATED\",IF(Table18[[#This Row],[Disposition]]=\"Retired\",\"N/A\",IF(Table18[[#This Row],[Disposition]]=0,\"\",K101+$F$2)))","v":""},{"$f":"IF(Table18[[#This Row],[Disposition]]=\"\",\"\",IF(AND(Table18[[#This Row],[Next Calibration]]<$E$1,Table18[[#This Row],[Disposition]]=\"Lost\"),\"Find and Calibrate\",IF(Table18[[#This Row],[Disposition]]=\"Lost\",\"Find\",IF(OR(Table18[[#This Row],[Next Calibration]]<$E$1,Table18[[#This Row],[Next Calibration]]=\"NEVER CALIBRATED\"),\"Calibrate\",\"Nominal\"))))","v":""},{"$f":"IF(((Table18[[#This Row],[Next Calibration]]-TODAY())/30)>2,\"More Than 2\",IF(((Table18[[#This Row],[Next Calibration]]-TODAY())/30)>1,\"Between 2 and 1\",\"Less than 1\"))","v":{"$error":"#VALUE!"}},{"$f":"IF(Table18[[#This Row],[Issued]]=\"\",\"\",IF(Table18[[#This Row],[Lent]]=\"\",0,1))","v":""},{"$f":"IF(Table18[[#This Row],[Lent]]=\"\",\"\",IF(Table18[[#This Row],[Returned]]=\"\",0,1))","v":""}]
[{"$nulls":11},{"$f":"IF(IF(Table18[[#This Row],[Disposition]]=\"Retired\",\"N/A\",IF(Table18[[#This Row],[Disposition]]=0,\"\",K102+$F$2))=0+$F$2,\"NEVER CALIBRATED\",IF(Table18[[#This Row],[Disposition]]=\"Retired\",\"N/A\",IF(Table18[[#This Row],[Disposition]]=0,\"\",K102+$F$2)))","v":""},{"$f":"IF(Table18[[#This Row],[Disposition]]=\"\",\"\",IF(AND(Table18[[#This Row],[Next Calibration]]<$E$1,Table18[[#This Row],[Disposition]]=\"Lost\"),\"Find and Calibrate\",IF(Table18[[#This Row],[Disposition]]=\"Lost\",\"Find\",IF(OR(Table18[[#This Row],[Next Calibration]]<$E$1,Table18[[#This Row],[Next Calibration]]=\"NEVER CALIBRATED\"),\"Calibrate\",\"Nominal\"))))","v":""},{"$f":"IF(((Table18[[#This Row],[Next Calibration]]-TODAY())/30)>2,\"More Than 2\",IF(((Table18[[#This Row],[Next Calibration]]-TODAY())/30)>1,\"Between 2 and 1\",\"Less than 1\"))","v":{"$error":"#VALUE!"}},{"$f":"IF(Table18[[#This Row],[Issued]]=\"\",\"\",IF(Table18[[#This Row],[Lent]]=\"\",0,1))","v":""},{"$f":"IF(Table18[[#This Row],[Lent]]=\"\",\"\",IF(Table18[[#This Row],[Returned]]=\"\",0,1))","v":""}]
[{"$nulls":11},{"$f":"IF(IF(Table18[[#This Row],[Disposition]]=\"Retired\",\"N/A\",IF(Table18[[#This Row],[Disposition]]=0,\"\",K103+$F$2))=0+$F$2,\"NEVER CALIBRATED\",IF(Table18[[#This Row],[Disposition]]=\"Retired\",\"N/A\",IF(Table18[[#This Row],[Disposition]]=0,\"\",K103+$F$2)))","v":""},{"$f":"IF(Table18[[#This Row],[Disposition]]=\"\",\"\",IF(AND(Table18[[#This Row],[Next Calibration]]<$E$1,Table18[[#This Row],[Disposition]]=\"Lost\"),\"Find and Calibrate\",IF(Table18[[#This Row],[Disposition]]=\"Lost\",\"Find\",IF(OR(Table18[[#This Row],[Next Calibration]]<$E$1,Table18[[#This Row],[Next Calibration]]=\"NEVER CALIBRATED\"),\"Calibrate\",\"Nominal\"))))","v":""},{"$f":"IF(((Table18[[#This Row],[Next Calibration]]-TODAY())/30)>2,\"More Than 2\",IF(((Table18[[#This Row],[Next Calibration]]-TODAY())/30)>1,\"Between 2 and 1\",\"Less than 1\"))","v":{"$error":"#VALUE!"}},{"$f":"IF(Table18[[#This Row],[Issued]]=\"\",\"\",IF(Table18[[#This Row],[Lent]]=\"\",0,1))","v":""},{"$f":"IF(Table18[[#This Row],[Lent]]=\"\",\"\",IF(Table18[[#This Row],[Returned]]=\"\",0,1))","v":""}]
[{"$nulls":11},{"$f":"IF(IF(Table18[[#This Row],[Disposition]]=\"Retired\",\"N/A\",IF(Table18[[#This Row],[Disposition]]=0,\"\",K104+$F$2))=0+$F$2,\"NEVER CALIBRATED\",IF(Table18[[#This Row],[Disposition]]=\"Retired\",\"N/A\",IF(Table18[[#This Row],[Disposition]]=0,\"\",K104+$F$2)))","v":""},{"$f":"IF(Table18[[#This Row],[Disposition]]=\"\",\"\",IF(AND(Table18[[#This Row],[Next Calibration]]<$E$1,Table18[[#This Row],[Disposition]]=\"Lost\"),\"Find and Calibrate\",IF(Table18[[#This Row],[Disposition]]=\"Lost\",\"Find\",IF(OR(Table18[[#This Row],[Next Calibration]]<$E$1,Table18[[#This Row],[Next Calibration]]=\"NEVER CALIBRATED\"),\"Calibrate\",\"Nominal\"))))","v":""},{"$f":"IF(((Table18[[#This Row],[Next Calibration]]-TODAY())/30)>2,\"More Than 2\",IF(((Table18[[#This Row],[Next Calibration]]-TODAY())/30)>1,\"Between 2 and 1\",\"Less than 1\"))","v":{"$error":"#VALUE!"}},{"$f":"IF(Table18[[#This Row],[Issued]]=\"\",\"\",IF(Table18[[#This Row],[Lent]]=\"\",0,1))","v":""},{"$f":"IF(Table18[[#This Row],[Lent]]=\"\",\"\",IF(Table18[[#This Row],[Returned]]=\"\",0,1))","v":""}]
[{"$nulls":11},{"$f":"IF(IF(Table18[[#This Row],[Disposition]]=\"Retired\",\"N/A\",IF(Table18[[#This Row],[Disposition]]=0,\"\",K105+$F$2))=0+$F$2,\"NEVER CALIBRATED\",IF(Table18[[#This Row],[Disposition]]=\"Retired\",\"N/A\",IF(Table18[[#This Row],[Disposition]]=0,\"\",K105+$F$2)))","v":""},{"$f":"IF(Table18[[#This Row],[Disposition]]=\"\",\"\",IF(AND(Table18[[#This Row],[Next Calibration]]<$E$1,Table18[[#This Row],[Disposition]]=\"Lost\"),\"Find and Calibrate\",IF(Table18[[#This Row],[Disposition]]=\"Lost\",\"Find\",IF(OR(Table18[[#This Row],[Next Calibration]]<$E$1,Table18[[#This Row],[Next Calibration]]=\"NEVER CALIBRATED\"),\"Calibrate\",\"Nominal\"))))","v":""},{"$f":"IF(((Table18[[#This Row],[Next Calibration]]-TODAY())/30)>2,\"More Than 2\",IF(((Table18[[#This Row],[Next Calibration]]-TODAY())/30)>1,\"Between 2 and 1\",\"Less than 1\"))","v":{"$error":"#VALUE!"}},{"$f":"IF(Table18[[#This Row],[Issued]]=\"\",\"\",IF(Table18[[#This Row],[Lent]]=\"\",0,1))","v":""},{"$f":"IF(Table18[[#This Row],[Lent]]=\"\",\"\",IF(Table18[[#This Row],[Returned]]=\"\",0,1))","v":""}]
[{"$nulls":11},{"$f":"IF(IF(Table18[[#This Row],[Disposition]]=\"Retired\",\"N/A\",IF(Table18[[#This Row],[Disposition]]=0,\"\",K106+$F$2))=0+$F$2,\"NEVER CALIBRATED\",IF(Table18[[#This Row],[Disposition]]=\"Retired\",\"N/A\",IF(Table18[[#This Row],[Disposition]]=0,\"\",K106+$F$2)))","v":""},{"$f":"IF(Table18[[#This Row],[Disposition]]=\"\",\"\",IF(AND(Table18[[#This Row],[Next Calibration]]<$E$1,Table18[[#This Row],[Disposition]]=\"Lost\"),\"Find and Calibrate\",IF(Table18[[#This Row],[Disposition]]=\"Lost\",\"Find\",IF(OR(Table18[[#This Row],[Next Calibration]]<$E$1,Table18[[#This Row],[Next Calibration]]=\"NEVER CALIBRATED\"),\"Calibrate\",\"Nominal\"))))","v":""},{"$f":"IF(((Table18[[#This Row],[Next Calibration]]-TODAY())/30)>2,\"More Than 2\",IF(((Table18[[#This Row],[Next Calibration]]-TODAY())/30)>1,\"Between 2 and 1\",\"Less than 1\"))","v":{"$error":"#VALUE!"}},{"$f":"IF(Table18[[#This Row],[Issued]]=\"\",\"\",IF(Table18[[#This Row],[Lent]]=\"\",0,1))","v":""},{"$f":"IF(Table18[[#This Row],[Lent]]=\"\",\"\",IF(Table18[[#This Row],[Returned]]=\"\",0,1))","v":""}]
[{"$nulls":11},{"$f":"IF(IF(Table18[[#This Row],[Disposition]]=\"Retired\",\"N/A\",IF(Table18[[#This Row],[Disposition]]=0,\"\",K107+$F$2))=0+$F$2,\"NEVER CALIBRATED\",IF(Table18[[#This Row],[Disposition]]=\"Retired\",\"N/A\",IF(Table18[[#This Row],[Disposition]]=0,\"\",K107+$F$2)))","v":""},{"$f":"IF(Table18[[#This Row],[Disposition]]=\"\",\"\",IF(AND(Table18[[#This Row],[Next Calibration]]<$E$1,Table18[[#This Row],[Disposition]]=\"Lost\"),\"Find and Calibrate\",IF(Table18[[#This Row],[Disposition]]=\"Lost\",\"Find\",IF(OR(Table18[[#This Row],[Next Calibration]]<$E$1,Table18[[#This Row],[Next Calibration]]=\"NEVER CALIBRATED\"),\"Calibrate\",\"Nominal\"))))","v":""},{"$f":"IF(((Table18[[#This Row],[Next Calibration]]-TODAY())/30)>2,\"More Than 2\",IF(((Table18[[#This Row],[Next Calibration]]-TODAY())/30)>1,\"Between 2 and 1\",\"Less than 1\"))","v":{"$error":"#VALUE!"}},{"$f":"IF(Table18[[#This Row],[Issued]]=\"\",\"\",IF(Table18[[#This Row],[Lent]]=\"\",0,1))","v":""},{"$f":"IF(Table18[[#This Row],[Lent]]=\"\",\"\",IF(Table18[[#This Row],[Returned]]=\"\",0,1))","v":""}]
[{"$nulls":11},{"$f":"IF(IF(Table18[[#This Row],[Disposition]]=\"Retired\",\"N/A\",IF(Table18[[#This Row],[Disposition]]=0,\"\",K108+$F$2))=0+$F$2,\"NEVER CALIBRATED\",IF(Table18[[#This Row],[Disposition]]=\"Retired\",\"N/A\",IF(Table18[[#This Row],[Disposition]]=0,\"\",K108+$F$2)))","v":""},{"$f":"IF(Table18[[#This Row],[Disposition]]=\"\",\"\",IF(AND(Table18[[#This Row],[Next Calibration]]<$E$1,Table18[[#This Row],[Disposition]]=\"Lost\"),\"Find and Calibrate\",IF(Table18[[#This Row],[Disposition]]=\"Lost\",\"Find\",IF(OR(Table18[[#This Row],[Next Calibration]]<$E$1,Table18[[#This Row],[Next Calibration]]=\"NEVER CALIBRATED\"),\"Calibrate\",\"Nominal\"))))","v":""},{"$f":"IF(((Table18[[#This Row],[Next Calibration]]-TODAY())/30)>2,\"More Than 2\",IF(((Table18[[#This Row],[Next Calibration]]-TODAY())/30)>1,\"Between 2 and 1\",\"Less than 1\"))","v":{"$error":"#VALUE!"}},{"$f":"IF(Table18[[#This Row],[Issued]]=\"\",\"\",IF(Table18[[#This Row],[Lent]]=\"\",0,1))","v":""},{"$f":"IF(Table18[[#This Row],[Lent]]=\"\",\"\",IF(Table18[[#This Row],[Returned]]=\"\",0,1))","v":""}]
[{"$nulls":11},{"$f":"IF(IF(Table18[[#This Row],[Disposition]]=\"Retired\",\"N/A\",IF(Table18[[#This Row],[Disposition]]=0,\"\",K109+$F$2))=0+$F$2,\"NEVER CALIBRATED\",IF(Table18[[#This Row],[Disposition]]=\"Retired\",\"N/A\",IF(Table18[[#This Row],[Disposition]]=0,\"\",K109+$F$2)))","v":""},{"$f":"IF(Table18[[#This Row],[Disposition]]=\"\",\"\",IF(AND(Table18[[#This Row],[Next Calibration]]<$E$1,Table18[[#This Row],[Disposition]]=\"Lost\"),\"Find and Calibrate\",IF(Table18[[#This Row],[Disposition]]=\"Lost\",\"Find\",IF(OR(Table18[[#This Row],[Next Calibration]]<$E$1,Table18[[#This Row],[Next Calibration]]=\"NEVER CALIBRATED\"),\"Calibrate\",\"Nominal\"))))","v":""},{"$f":"IF(((Table18[[#This Row],[Next Calibration]]-TODAY())/30)>2,\"More Than 2\",IF(((Table18[[#This Row],[Next Calibration]]-TODAY())/30)>1,\"Between 2 and 1\",\"Less than 1\"))","v":{"$error":"#VALUE!"}},{"$f":"IF(Table18[[#This Row],[Issued]]=\"\",\"\",IF(Table18[[#This Row],[Lent]]=\"\",0,1))","v":""},{"$f":"IF(Table18[[#This Row],[Lent]]=\"\",\"\",IF(Table18[[#This Row],[Returned]]=\"\",0,1))","v":""}]
[{"$nulls":11},{"$f":"IF(IF(Table18[[#This Row],[Disposition]]=\"Retired\",\"N/A\",IF(Table18[[#This Row],[Disposition]]=0,\"\",K110+$F$2))=0+$F$2,\"NEVER CALIBRATED\",IF(Table18[[#This Row],[Disposition]]=\"Retired\",\"N/A\",IF(Table18[[#This Row],[Disposition]]=0,\"\",K110+$F$2)))","v":""},{"$f":"IF(Table18[[#This Row],[Disposition]]=\"\",\"\",IF(AND(Table18[[#This Row],[Next Calibration]]<$E$1,Table18[[#This Row],[Disposition]]=\"Lost\"),\"Find and Calibrate\",IF(Table18[[#This Row],[Disposition]]=\"Lost\",\"Find\",IF(OR(Table18[[#This Row],[Next Calibration]]<$E$1,Table18[[#This Row],[Next Calibration]]=\"NEVER CALIBRATED\"),\"Calibrate\",\"Nominal\"))))","v":""},{"$f":"IF(((Table18[[#This Row],[Next Calibration]]-TODAY())/30)>2,\"More Than 2\",IF(((Table18[[#This Row],[Next Calibration]]-TODAY())/30)>1,\"Between 2 and 1\",\"Less than 1\"))","v":{"$error":"#VALUE!"}},{"$f":"IF(Table18[[#This Row],[Issued]]=\"\",\"\",IF(Table18[[#This Row],[Lent]]=\"\",0,1))","v":""},{"$f":"IF(Table18[[#This Row],[Lent]]=\"\",\"\",IF(Table18[[#This Row],[Returned]]=\"\",0,1))","v":""}]
[{"$nulls":11},{"$f":"IF(IF(Table18[[#This Row],[Disposition]]=\"Retired\",\"N/A\",IF(Table18[[#This Row],[Disposition]]=0,\"\",K111+$F$2))=0+$F$2,\"NEVER CALIBRATED\",IF(Table18[[#This Row],[Disposition]]=\"Retired\",\"N/A\",IF(Table18[[#This Row],[Disposition]]=0,\"\",K111+$F$2)))","v":""},{"$f":"IF(Table18[[#This Row],[Disposition]]=\"\",\"\",IF(AND(Table18[[#This Row],[Next Calibration]]<$E$1,Table18[[#This Row],[Disposition]]=\"Lost\"),\"Find and Calibrate\",IF(Table18[[#This Row],[Disposition]]=\"Lost\",\"Find\",IF(OR(Table18[[#This Row],[Next Calibration]]<$E$1,Table18[[#This Row],[Next Calibration]]=\"NEVER CALIBRATED\"),\"Calibrate\",\"Nominal\"))))","v":""},{"$f":"IF(((Table18[[#This Row],[Next Calibration]]-TODAY())/30)>2,\"More Than 2\",IF(((Table18[[#This Row],[Next Calibration]]-TODAY())/30)>1,\"Between 2 and 1\",\"Less than 1\"))","v":{"$error":"#VALUE!"}},{"$f":"IF(Table18[[#This Row],[Issued]]=\"\",\"\",IF(Table18[[#This Row],[Lent]]=\"\",0,1))","v":""},{"$f":"IF(Table18[[#This Row],[Lent]]=\"\",\"\",IF(Table18[[#This Row],[Returned]]=\"\",0,1))","v":""}]
[{"$nulls":11},{"$f":"IF(IF(Table18[[#This Row],[Disposition]]=\"Retired\",\"N/A\",IF(Table18[[#This Row],[Disposition]]=0,\"\",K112+$F$2))=0+$F$2,\"NEVER CALIBRATED\",IF(Table18[[#This Row],[Disposition]]=\"Retired\",\"N/A\",IF(Table18[[#This Row],[Disposition]]=0,\"\",K112+$F$2)))","v":""},{"$f":"IF(Table18[[#This Row],[Disposition]]=\"\",\"\",IF(AND(Table18[[#This Row],[Next Calibration]]<$E$1,Table18[[#This Row],[Disposition]]=\"Lost\"),\"Find and Calibrate\",IF(Table18[[#This Row],[Disposition]]=\"Lost\",\"Find\",IF(OR(Table18[[#This Row],[Next Calibration]]<$E$1,Table18[[#This Row],[Next Calibration]]=\"NEVER CALIBRATED\"),\"Calibrate\",\"Nominal\"))))","v":""},{"$f":"IF(((Table18[[#This Row],[Next Calibration]]-TODAY())/30)>2,\"More Than 2\",IF(((Table18[[#This Row],[Next Calibration]]-TODAY())/30)>1,\"Between 2 and 1\",\"Less than 1\"))","v":{"$error":"#VALUE!"}},{"$f":"IF(Table18[[#This Row],[Issued]]=\"\",\"\",IF(Table18[[#This Row],[Lent]]=\"\",0,1))","v":""},{"$f":"IF(Table18[[#This Row],[Lent]]=\"\",\"\",IF(Table18[[#This Row],[Returned]]=\"\",0,1))","v":""}]
[{"$nulls":11},{"$f":"IF(IF(Table18[[#This Row],[Disposition]]=\"Retired\",\"N/A\",IF(Table18[[#This Row],[Disposition]]=0,\"\",K113+$F$2))=0+$F$2,\"NEVER CALIBRATED\",IF(Table18[[#This Row],[Disposition]]=\"Retired\",\"N/A\",IF(Table18[[#This Row],[Disposition]]=0,\"\",K113+$F$2)))","v":""},{"$f":"IF(Table18[[#This Row],[Disposition]]=\"\",\"\",IF(AND(Table18[[#This Row],[Next Calibration]]<$E$1,Table18[[#This Row],[Disposition]]=\"Lost\"),\"Find and Calibrate\",IF(Table18[[#This Row],[Disposition]]=\"Lost\",\"Find\",IF(OR(Table18[[#This Row],[Next Calibration]]<$E$1,Table18[[#This Row],[Next Calibration]]=\"NEVER CALIBRATED\"),\"Calibrate\",\"Nominal\"))))","v":""},{"$f":"IF(((Table18[[#This Row],[Next Calibration]]-TODAY())/30)>2,\"More Than 2\",IF(((Table18[[#This Row],[Next Calibration]]-TODAY())/30)>1,\"Between 2 and 1\",\"Less than 1\"))","v":{"$error":"#VALUE!"}},{"$f":"IF(Table18[[#This Row],[Issued]]=\"\",\"\",IF(Table18[[#This Row],[Lent]]=\"\",0,1))","v":""},{"$f":"IF(Table18[[#This Row],[Lent]]=\"\",\"\",IF(Table18[[#This Row],[Returned]]=\"\",0,1))","v":""}]
[{"$nulls":11},{"$f":"IF(IF(Table18[[#This Row],[Disposition]]=\"Retired\",\"N/A\",IF(Table18[[#This Row],[Disposition]]=0,\"\",K114+$F$2))=0+$F$2,\"NEVER CALIBRATED\",IF(Table18[[#This Row],[Disposition]]=\"Retired\",\"N/A\",IF(Table18[[#This Row],[Disposition]]=0,\"\",K114+$F$2)))","v":""},{"$f":"IF(Table18[[#This Row],[Disposition]]=\"\",\"\",IF(AND(Table18[[#This Row],[Next Calibration]]<$E$1,Table18[[#This Row],[Disposition]]=\"Lost\"),\"Find and Calibrate\",IF(Table18[[#This Row],[Disposition]]=\"Lost\",\"Find\",IF(OR(Table18[[#This Row],[Next Calibration]]<$E$1,Table18[[#This Row],[Next Calibration]]=\"NEVER CALIBRATED\"),\"Calibrate\",\"Nominal\"))))","v":""},{"$f":"IF(((Table18[[#This Row],[Next Calibration]]-TODAY())/30)>2,\"More Than 2\",IF(((Table18[[#This Row],[Next Calibration]]-TODAY())/30)>1,\"Between 2 and 1\",\"Less than 1\"))","v":{"$error":"#VALUE!"}},{"$f":"IF(Table18[[#This Row],[Issued]]=\"\",\"\",IF(Table18[[#This Row],[Lent]]=\"\",0,1))","v":""},{"$f":"IF(Table18[[#This Row],[Lent]]=\"\",\"\",IF(Table18[[#This Row],[Returned]]=\"\",0,1))","v":""}]
[{"$nulls":11},{"$f":"IF(IF(Table18[[#This Row],[Disposition]]=\"Retired\",\"N/A\",IF(Table18[[#This Row],[Disposition]]=0,\"\",K115+$F$2))=0+$F$2,\"NEVER CALIBRATED\",IF(Table18[[#This Row],[Disposition]]=\"Retired\",\"N/A\",IF(Table18[[#This Row],[Disposition]]=0,\"\",K115+$F$2)))","v":""},{"$f":"IF(Table18[[#This Row],[Disposition]]=\"\",\"\",IF(AND(Table18[[#This Row],[Next Calibration]]<$E$1,Table18[[#This Row],[Disposition]]=\"Lost\"),\"Find and Calibrate\",IF(Table18[[#This Row],[Disposition]]=\"Lost\",\"Find\",IF(OR(Table18[[#This Row],[Next Calibration]]<$E$1,Table18[[#This Row],[Next Calibration]]=\"NEVER CALIBRATED\"),\"Calibrate\",\"Nominal\"))))","v":""},{"$f":"IF(((Table18[[#This Row],[Next Calibration]]-TODAY())/30)>2,\"More Than 2\",IF(((Table18[[#This Row],[Next Calibration]]-TODAY())/30)>1,\"Between 2 and 1\",\"Less than 1\"))","v":{"$error":"#VALUE!"}},{"$f":"IF(Table18[[#This Row],[Issued]]=\"\",\"\",IF(Table18[[#This Row],[Lent]]=\"\",0,1))","v":""},{"$f":"IF(Table18[[#This Row],[Lent]]=\"\",\"\",IF(Table18[[#This Row],[Returned]]=\"\",0,1))","v":""}]
[{"$nulls":11},{"$f":"IF(IF(Table18[[#This Row],[Disposition]]=\"Retired\",\"N/A\",IF(Table18[[#This Row],[Disposition]]=0,\"\",K116+$F$2))=0+$F$2,\"NEVER CALIBRATED\",IF(Table18[[#This Row],[Disposition]]=\"Retired\",\"N/A\",IF(Table18[[#This Row],[Disposition]]=0,\"\",K116+$F$2)))","v":""},{"$f":"IF(Table18[[#This Row],[Disposition]]=\"\",\"\",IF(AND(Table18[[#This Row],[Next Calibration]]<$E$1,Table18[[#This Row],[Disposition]]=\"Lost\"),\"Find and Calibrate\",IF(Table18[[#This Row],[Disposition]]=\"Lost\",\"Find\",IF(OR(Table18[[#This Row],[Next Calibration]]<$E$1,Table18[[#This Row],[Next Calibration]]=\"NEVER CALIBRATED\"),\"Calibrate\",\"Nominal\"))))","v":""},{"$f":"IF(((Table18[[#This Row],[Next Calibration]]-TODAY())/30)>2,\"More Than 2\",IF(((Table18[[#This Row],[Next Calibration]]-TODAY())/30)>1,\"Between 2 and 1\",\"Less than 1\"))","v":{"$error":"#VALUE!"}},{"$f":"IF(Table18[[#This Row],[Issued]]=\"\",\"\",IF(Table18[[#This Row],[Lent]]=\"\",0,1))","v":""},{"$f":"IF(Table18[[#This Row],[Lent]]=\"\",\"\",IF(Table18[[#This Row],[Returned]]=\"\",0,1))","v":""}]
[{"$nulls":11},{"$f":"IF(IF(Table18[[#This Row],[Disposition]]=\"Retired\",\"N/A\",IF(Table18[[#This Row],[Disposition]]=0,\"\",K117+$F$2))=0+$F$2,\"NEVER CALIBRATED\",IF(Table18[[#This Row],[Disposition]]=\"Retired\",\"N/A\",IF(Table18[[#This Row],[Disposition]]=0,\"\",K117+$F$2)))","v":""},{"$f":"IF(Table18[[#This Row],[Disposition]]=\"\",\"\",IF(AND(Table18[[#This Row],[Next Calibration]]<$E$1,Table18[[#This Row],[Disposition]]=\"Lost\"),\"Find and Calibrate\",IF(Table18[[#This Row],[Disposition]]=\"Lost\",\"Find\",IF(OR(Table18[[#This Row],[Next Calibration]]<$E$1,Table18[[#This Row],[Next Calibration]]=\"NEVER CALIBRATED\"),\"Calibrate\",\"Nominal\"))))","v":""},{"$f":"IF(((Table18[[#This Row],[Next Calibration]]-TODAY())/30)>2,\"More Than 2\",IF(((Table18[[#This Row],[Next Calibration]]-TODAY())/30)>1,\"Between 2 and 1\",\"Less than 1\"))","v":{"$error":"#VALUE!"}},{"$f":"IF(Table18[[#This Row],[Issued]]=\"\",\"\",IF(Table18[[#This Row],[Lent]]=\"\",0,1))","v":""},{"$f":"IF(Table18[[#This Row],[Lent]]=\"\",\"\",IF(Table18[[#This Row],[Returned]]=\"\",0,1))","v":""}]
[{"$nulls":11},{"$f":"IF(IF(Table18[[#This Row],[Disposition]]=\"Retired\",\"N/A\",IF(Table18[[#This Row],[Disposition]]=0,\"\",K118+$F$2))=0+$F$2,\"NEVER CALIBRATED\",IF(Table18[[#This Row],[Disposition]]=\"Retired\",\"N/A\",IF(Table18[[#This Row],[Disposition]]=0,\"\",K118+$F$2)))","v":""},{"$f":"IF(Table18[[#This Row],[Disposition]]=\"\",\"\",IF(AND(Table18[[#This Row],[Next Calibration]]<$E$1,Table18[[#This Row],[Disposition]]=\"Lost\"),\"Find and Calibrate\",IF(Table18[[#This Row],[Disposition]]=\"Lost\",\"Find\",IF(OR(Table18[[#This Row],[Next Calibration]]<$E$1,Table18[[#This Row],[Next Calibration]]=\"NEVER CALIBRATED\"),\"Calibrate\",\"Nominal\"))))","v":""},{"$f":"IF(((Table18[[#This Row],[Next Calibration]]-TODAY())/30)>2,\"More Than 2\",IF(((Table18[[#This Row],[Next Calibration]]-TODAY())/30)>1,\"Between 2 and 1\",\"Less than 1\"))","v":{"$error":"#VALUE!"}},{"$f":"IF(Table18[[#This Row],[Issued]]=\"\",\"\",IF(Table18[[#This Row],[Lent]]=\"\",0,1))","v":""},{"$f":"IF(Table18[[#This Row],[Lent]]=\"\",\"\",IF(Table18[[#This Row],[Returned]]=\"\",0,1))","v":""}]
[{"$nulls":11},{"$f":"IF(IF(Table18[[#This Row],[Disposition]]=\"Retired\",\"N/A\",IF(Table18[[#This Row],[Disposition]]=0,\"\",K119+$F$2))=0+$F$2,\"NEVER CALIBRATED\",IF(Table18[[#This Row],[Disposition]]=\"Retired\",\"N/A\",IF(Table18[[#This Row],[Disposition]]=0,\"\",K119+$F$2)))","v":""},{"$f":"IF(Table18[[#This Row],[Disposition]]=\"\",\"\",IF(AND(Table18[[#This Row],[Next Calibration]]<$E$1,Table18[[#This Row],[Disposition]]=\"Lost\"),\"Find and Calibrate\",IF(Table18[[#This Row],[Disposition]]=\"Lost\",\"Find\",IF(OR(Table18[[#This Row],[Next Calibration]]<$E$1,Table18[[#This Row],[Next Calibration]]=\"NEVER CALIBRATED\"),\"Calibrate\",\"Nominal\"))))","v":""},{"$f":"IF(((Table18[[#This Row],[Next Calibration]]-TODAY())/30)>2,\"More Than 2\",IF(((Table18[[#This Row],[Next Calibration]]-TODAY())/30)>1,\"Between 2 and 1\",\"Less than 1\"))","v":{"$error":"#VALUE!"}},{"$f":"IF(Table18[[#This Row],[Issued]]=\"\",\"\",IF(Table18[[#This Row],[Lent]]=\"\",0,1))","v":""},{"$f":"IF(Table18[[#This Row],[Lent]]=\"\",\"\",IF(Table18[[#This Row],[Returned]]=\"\",0,1))","v":""}]
[{"$nulls":11},{"$f":"IF(IF(Table18[[#This Row],[Disposition]]=\"Retired\",\"N/A\",IF(Table18[[#This Row],[Disposition]]=0,\"\",K120+$F$2))=0+$F$2,\"NEVER CALIBRATED\",IF(Table18[[#This Row],[Disposition]]=\"Retired\",\"N/A\",IF(Table18[[#This Row],[Disposition]]=0,\"\",K120+$F$2)))","v":""},{"$f":"IF(Table18[[#This Row],[Disposition]]=\"\",\"\",IF(AND(Table18[[#This Row],[Next Calibration]]<$E$1,Table18[[#This Row],[Disposition]]=\"Lost\"),\"Find and Calibrate\",IF(Table18[[#This Row],[Disposition]]=\"Lost\",\"Find\",IF(OR(Table18[[#This Row],[Next Calibration]]<$E$1,Table18[[#This Row],[Next Calibration]]=\"NEVER CALIBRATED\"),\"Calibrate\",\"Nominal\"))))","v":""},{"$f":"IF(((Table18[[#This Row],[Next Calibration]]-TODAY())/30)>2,\"More Than 2\",IF(((Table18[[#This Row],[Next Calibration]]-TODAY())/30)>1,\"Between 2 and 1\",\"Less than 1\"))","v":{"$error":"#VALUE!"}},{"$f":"IF(Table18[[#This Row],[Issued]]=\"\",\"\",IF(Table18[[#This Row],[Lent]]=\"\",0,1))","v":""},{"$f":"IF(Table18[[#This Row],[Lent]]=\"\",\"\",IF(Table18[[#This Row],[Returned]]=\"\",0,1))","v":""}]
[{"$nulls":11},{"$f":"IF(IF(Table18[[#This Row],[Disposition]]=\"Retired\",\"N/A\",IF(Table18[[#This Row],[Disposition]]=0,\"\",K121+$F$2))=0+$F$2,\"NEVER CALIBRATED\",IF(Table18[[#This Row],[Disposition]]=\"Retired\",\"N/A\",IF(Table18[[#This Row],[Disposition]]=0,\"\",K121+$F$2)))","v":""},{"$f":"IF(Table18[[#This Row],[Disposition]]=\"\",\"\",IF(AND(Table18[[#This Row],[Next Calibration]]<$E$1,Table18[[#This Row],[Disposition]]=\"Lost\"),\"Find and Calibrate\",IF(Table18[[#This Row],[Disposition]]=\"Lost\",\"Find\",IF(OR(Table18[[#This Row],[Next Calibration]]<$E$1,Table18[[#This Row],[Next Calibration]]=\"NEVER CALIBRATED\"),\"Calibrate\",\"Nominal\"))))","v":""},{"$f":"IF(((Table18[[#This Row],[Next Calibration]]-TODAY())/30)>2,\"More Than 2\",IF(((Table18[[#This Row],[Next Calibration]]-TODAY())/30)>1,\"Between 2 and 1\",\"Less than 1\"))","v":{"$error":"#VALUE!"}},{"$f":"IF(Table18[[#This Row],[Issued]]=\"\",\"\",IF(Table18[[#This Row],[Lent]]=\"\",0,1))","v":""},{"$f":"IF(Table18[[#This Row],[Lent]]=\"\",\"\",IF(Table18[[#This Row],[Returned]]=\"\",0,1))","v":""}]
[{"$nulls":11},{"$f":"IF(IF(Table18[[#This Row],[Disposition]]=\"Retired\",\"N/A\",IF(Table18[[#This Row],[Disposition]]=0,\"\",K122+$F$2))=0+$F$2,\"NEVER CALIBRATED\",IF(Table18[[#This Row],[Disposition]]=\"Retired\",\"N/A\",IF(Table18[[#This Row],[Disposition]]=0,\"\",K122+$F$2)))","v":""},{"$f":"IF(Table18[[#This Row],[Disposition]]=\"\",\"\",IF(AND(Table18[[#This Row],[Next Calibration]]<$E$1,Table18[[#This Row],[Disposition]]=\"Lost\"),\"Find and Calibrate\",IF(Table18[[#This Row],[Disposition]]=\"Lost\",\"Find\",IF(OR(Table18[[#This Row],[Next Calibration]]<$E$1,Table18[[#This Row],[Next Calibration]]=\"NEVER CALIBRATED\"),\"Calibrate\",\"Nominal\"))))","v":""},{"$f":"IF(((Table18[[#This Row],[Next Calibration]]-TODAY())/30)>2,\"More Than 2\",IF(((Table18[[#This Row],[Next Calibration]]-TODAY())/30)>1,\"Between 2 and 1\",\"Less than 1\"))","v":{"$error":"#VALUE!"}},{"$f":"IF(Table18[[#This Row],[Issued]]=\"\",\"\",IF(Table18[[#This Row],[Lent]]=\"\",0,1))","v":""},{"$f":"IF(Table18[[#This Row],[Lent]]=\"\",\"\",IF(Table18[[#This Row],[Returned]]=\"\",0,1))","v":""}]
[{"$nulls":11},{"$f":"IF(IF(Table18[[#This Row],[Disposition]]=\"Retired\",\"N/A\",IF(Table18[[#This Row],[Disposition]]=0,\"\",K123+$F$2))=0+$F$2,\"NEVER CALIBRATED\",IF(Table18[[#This Row],[Disposition]]=\"Retired\",\"N/A\",IF(Table18[[#This Row],[Disposition]]=0,\"\",K123+$F$2)))","v":""},{"$f":"IF(Table18[[#This Row],[Disposition]]=\"\",\"\",IF(AND(Table18[[#This Row],[Next Calibration]]<$E$1,Table18[[#This Row],[Disposition]]=\"Lost\"),\"Find and Calibrate\",IF(Table18[[#This Row],[Disposition]]=\"Lost\",\"Find\",IF(OR(Table18[[#This Row],[Next Calibration]]<$E$1,Table18[[#This Row],[Next Calibration]]=\"NEVER CALIBRATED\"),\"Calibrate\",\"Nominal\"))))","v":""},{"$f":"IF(((Table18[[#This Row],[Next Calibration]]-TODAY())/30)>2,\"More Than 2\",IF(((Table18[[#This Row],[Next Calibration]]-TODAY())/30)>1,\"Between 2 and 1\",\"Less than 1\"))","v":{"$error":"#VALUE!"}},{"$f":"IF(Table18[[#This Row],[Issued]]=\"\",\"\",IF(Table18[[#This Row],[Lent]]=\"\",0,1))","v":""},{"$f":"IF(Table18[[#This Row],[Lent]]=\"\",\"\",IF(Table18[[#This Row],[Returned]]=\"\",0,1))","v":""}]
[{"$nulls":11},{"$f":"IF(IF(Table18[[#This Row],[Disposition]]=\"Retired\",\"N/A\",IF(Table18[[#This Row],[Disposition]]=0,\"\",K124+$F$2))=0+$F$2,\"NEVER CALIBRATED\",IF(Table18[[#This Row],[Disposition]]=\"Retired\",\"N/A\",IF(Table18[[#This Row],[Disposition]]=0,\"\",K124+$F$2)))","v":""},{"$f":"IF(Table18[[#This Row],[Disposition]]=\"\",\"\",IF(AND(Table18[[#This Row],[Next Calibration]]<$E$1,Table18[[#This Row],[Disposition]]=\"Lost\"),\"Find and Calibrate\",IF(Table18[[#This Row],[Disposition]]=\"Lost\",\"Find\",IF(OR(Table18[[#This Row],[Next Calibration]]<$E$1,Table18[[#This Row],[Next Calibration]]=\"NEVER CALIBRATED\"),\"Calibrate\",\"Nominal\"))))","v":""},{"$f":"IF(((Table18[[#This Row],[Next Calibration]]-TODAY())/30)>2,\"More Than 2\",IF(((Table18[[#This Row],[Next Calibration]]-TODAY())/30)>1,\"Between 2 and 1\",\"Less than 1\"))","v":{"$error":"#VALUE!"}},{"$f":"IF(Table18[[#This Row],[Issued]]=\"\",\"\",IF(Table18[[#This Row],[Lent]]=\"\",0,1))","v":""},{"$f":"IF(Table18[[#This Row],[Lent]]=\"\",\"\",IF(Table18[[#This Row],[Returned]]=\"\",0,1))","v":""}]
[{"$nulls":11},{"$f":"IF(IF(Table18[[#This Row],[Disposition]]=\"Retired\",\"N/A\",IF(Table18[[#This Row],[Disposition]]=0,\"\",K125+$F$2))=0+$F$2,\"NEVER CALIBRATED\",IF(Table18[[#This Row],[Disposition]]=\"Retired\",\"N/A\",IF(Table18[[#This Row],[Disposition]]=0,\"\",K125+$F$2)))","v":""},{"$f":"IF(Table18[[#This Row],[Disposition]]=\"\",\"\",IF(AND(Table18[[#This Row],[Next Calibration]]<$E$1,Table18[[#This Row],[Disposition]]=\"Lost\"),\"Find and Calibrate\",IF(Table18[[#This Row],[Disposition]]=\"Lost\",\"Find\",IF(OR(Table18[[#This Row],[Next Calibration]]<$E$1,Table18[[#This Row],[Next Calibration]]=\"NEVER CALIBRATED\"),\"Calibrate\",\"Nominal\"))))","v":""},{"$f":"IF(((Table18[[#This Row],[Next Calibration]]-TODAY())/30)>2,\"More Than 2\",IF(((Table18[[#This Row],[Next Calibration]]-TODAY())/30)>1,\"Between 2 and 1\",\"Less than 1\"))","v":{"$error":"#VALUE!"}},{"$f":"IF(Table18[[#This Row],[Issued]]=\"\",\"\",IF(Table18[[#This Row],[Lent]]=\"\",0,1))","v":""},{"$f":"IF(Table18[[#This Row],[Lent]]=\"\",\"\",IF(Table18[[#This Row],[Returned]]=\"\",0,1))","v":""}]
[{"$nulls":11},{"$f":"IF(IF(Table18[[#This Row],[Disposition]]=\"Retired\",\"N/A\",IF(Table18[[#This Row],[Disposition]]=0,\"\",K126+$F$2))=0+$F$2,\"NEVER CALIBRATED\",IF(Table18[[#This Row],[Disposition]]=\"Retired\",\"N/A\",IF(Table18[[#This Row],[Disposition]]=0,\"\",K126+$F$2)))","v":""},{"$f":"IF(Table18[[#This Row],[Disposition]]=\"\",\"\",IF(AND(Table18[[#This Row],[Next Calibration]]<$E$1,Table18[[#This Row],[Disposition]]=\"Lost\"),\"Find and Calibrate\",IF(Table18[[#This Row],[Disposition]]=\"Lost\",\"Find\",IF(OR(Table18[[#This Row],[Next Calibration]]<$E$1,Table18[[#This Row],[Next Calibration]]=\"NEVER CALIBRATED\"),\"Calibrate\",\"Nominal\"))))","v":""},{"$f":"IF(((Table18[[#This Row],[Next Calibration]]-TODAY())/30)>2,\"More Than 2\",IF(((Table18[[#This Row],[Next Calibration]]-TODAY())/30)>1,\"Between 2 and 1\",\"Less than 1\"))","v":{"$error":"#VALUE!"}},{"$f":"IF(Table18[[#This Row],[Issued]]=\"\",\"\",IF(Table18[[#This Row],[Lent]]=\"\",0,1))","v":""},{"$f":"IF(Table18[[#This Row],[Lent]]=\"\",\"\",IF(Table18[[#This Row],[Returned]]=\"\",0,1))","v":""}]
[{"$nulls":11},{"$f":"IF(IF(Table18[[#This Row],[Disposition]]=\"Retired\",\"N/A\",IF(Table18[[#This Row],[Disposition]]=0,\"\",K127+$F$2))=0+$F$2,\"NEVER CALIBRATED\",IF(Table18[[#This Row],[Disposition]]=\"Retired\",\"N/A\",IF(Table18[[#This Row],[Disposition]]=0,\"\",K127+$F$2)))","v":""},{"$f":"IF(Table18[[#This Row],[Disposition]]=\"\",\"\",IF(AND(Table18[[#This Row],[Next Calibration]]<$E$1,Table18[[#This Row],[Disposition]]=\"Lost\"),\"Find and Calibrate\",IF(Table18[[#This Row],[Disposition]]=\"Lost\",\"Find\",IF(OR(Table18[[#This Row],[Next Calibration]]<$E$1,Table18[[#This Row],[Next Calibration]]=\"NEVER CALIBRATED\"),\"Calibrate\",\"Nominal\"))))","v":""},{"$f":"IF(((Table18[[#This Row],[Next Calibration]]-TODAY())/30)>2,\"More Than 2\",IF(((Table18[[#This Row],[Next Calibration]]-TODAY())/30)>1,\"Between 2 and 1\",\"Less than 1\"))","v":{"$error":"#VALUE!"}},{"$f":"IF(Table18[[#This Row],[Issued]]=\"\",\"\",IF(Table18[[#This Row],[Lent]]=\"\",0,1))","v":""},{"$f":"IF(Table18[[#This Row],[Lent]]=\"\",\"\",IF(Table18[[#This Row],[Returned]]=\"\",0,1))","v":""}]
[{"$nulls":11},{"$f":"IF(IF(Table18[[#This Row],[Disposition]]=\"Retired\",\"N/A\",IF(Table18[[#This Row],[Disposition]]=0,\"\",K128+$F$2))=0+$F$2,\"NEVER CALIBRATED\",IF(Table18[[#This Row],[Disposition]]=\"Retired\",\"N/A\",IF(Table18[[#This Row],[Disposition]]=0,\"\",K128+$F$2)))","v":""},{"$f":"IF(Table18[[#This Row],[Disposition]]=\"\",\"\",IF(AND(Table18[[#This Row],[Next Calibration]]<$E$1,Table18[[#This Row],[Disposition]]=\"Lost\"),\"Find and Calibrate\",IF(Table18[[#This Row],[Disposition]]=\"Lost\",\"Find\",IF(OR(Table18[[#This Row],[Next Calibration]]<$E$1,Table18[[#This Row],[Next Calibration]]=\"NEVER CALIBRATED\"),\"Calibrate\",\"Nominal\"))))","v":""},{"$f":"IF(((Table18[[#This Row],[Next Calibration]]-TODAY())/30)>2,\"More Than 2\",IF(((Table18[[#This Row],[Next Calibration]]-TODAY())/30)>1,\"Between 2 and 1\",\"Less than 1\"))","v":{"$error":"#VALUE!"}},{"$f":"IF(Table18[[#This Row],[Issued]]=\"\",\"\",IF(Table18[[#This Row],[Lent]]=\"\",0,1))","v":""},{"$f":"IF(Table18[[#This Row],[Lent]]=\"\",\"\",IF(Table18[[#This Row],[Returned]]=\"\",0,1))","v":""}]
[{"$nulls":11},{"$f":"IF(IF(Table18[[#This Row],[Disposition]]=\"Retired\",\"N/A\",IF(Table18[[#This Row],[Disposition]]=0,\"\",K129+$F$2))=0+$F$2,\"NEVER CALIBRATED\",IF(Table18[[#This Row],[Disposition]]=\"Retired\",\"N/A\",IF(Table18[[#This Row],[Disposition]]=0,\"\",K129+$F$2)))","v":""},{"$f":"IF(Table18[[#This Row],[Disposition]]=\"\",\"\",IF(AND(Table18[[#This Row],[Next Calibration]]<$E$1,Table18[[#This Row],[Disposition]]=\"Lost\"),\"Find and Calibrate\",IF(Table18[[#This Row],[Disposition]]=\"Lost\",\"Find\",IF(OR(Table18[[#This Row],[Next Calibration]]<$E$1,Table18[[#This Row],[Next Calibration]]=\"NEVER CALIBRATED\"),\"Calibrate\",\"Nominal\"))))","v":""},{"$f":"IF(((Table18[[#This Row],[Next Calibration]]-TODAY())/30)>2,\"More Than 2\",IF(((Table18[[#This Row],[Next Calibration]]-TODAY())/30)>1,\"Between 2 and 1\",\"Less than 1\"))","v":{"$error":"#VALUE!"}},{"$f":"IF(Table18[[#This Row],[Issued]]=\"\",\"\",IF(Table18[[#This Row],[Lent]]=\"\",0,1))","v":""},{"$f":"IF(Table18[[#This Row],[Lent]]=\"\",\"\",IF(Table18[[#This Row],[Returned]]=\"\",0,1))","v":""}]
[{"$nulls":11},{"$f":"IF(IF(Table18[[#This Row],[Disposition]]=\"Retired\",\"N/A\",IF(Table18[[#This Row],[Disposition]]=0,\"\",K130+$F$2))=0+$F$2,\"NEVER CALIBRATED\",IF(Table18[[#This Row],[Disposition]]=\"Retired\",\"N/A\",IF(Table18[[#This Row],[Disposition]]=0,\"\",K130+$F$2)))","v":""},{"$f":"IF(Table18[[#This Row],[Disposition]]=\"\",\"\",IF(AND(Table18[[#This Row],[Next Calibration]]<$E$1,Table18[[#This Row],[Disposition]]=\"Lost\"),\"Find and Calibrate\",IF(Table18[[#This Row],[Disposition]]=\"Lost\",\"Find\",IF(OR(Table18[[#This Row],[Next Calibration]]<$E$1,Table18[[#This Row],[Next Calibration]]=\"NEVER CALIBRATED\"),\"Calibrate\",\"Nominal\"))))","v":""},{"$f":"IF(((Table18[[#This Row],[Next Calibration]]-TODAY())/30)>2,\"More Than 2\",IF(((Table18[[#This Row],[Next Calibration]]-TODAY())/30)>1,\"Between 2 and 1\",\"Less than 1\"))","v":{"$error":"#VALUE!"}},{"$f":"IF(Table18[[#This Row],[Issued]]=\"\",\"\",IF(Table18[[#This Row],[Lent]]=\"\",0,1))","v":""},{"$f":"IF(Table18[[#This Row],[Lent]]=\"\",\"\",IF(Table18[[#This Row],[Returned]]=\"\",0,1))","v":""}]
[{"$nulls":11},{"$f":"IF(IF(Table18[[#This Row],[Disposition]]=\"Retired\",\"N/A\",IF(Table18[[#This Row],[Disposition]]=0,\"\",K131+$F$2))=0+$F$2,\"NEVER CALIBRATED\",IF(Table18[[#This Row],[Disposition]]=\"Retired\",\"N/A\",IF(Table18[[#This Row],[Disposition]]=0,\"\",K131+$F$2)))","v":""},{"$f":"IF(Table18[[#This Row],[Disposition]]=\"\",\"\",IF(AND(Table18[[#This Row],[Next Calibration]]<$E$1,Table18[[#This Row],[Disposition]]=\"Lost\"),\"Find and Calibrate\",IF(Table18[[#This Row],[Disposition]]=\"Lost\",\"Find\",IF(OR(Table18[[#This Row],[Next Calibration]]<$E$1,Table18[[#This Row],[Next Calibration]]=\"NEVER CALIBRATED\"),\"Calibrate\",\"Nominal\"))))","v":""},{"$f":"IF(((Table18[[#This Row],[Next Calibration]]-TODAY())/30)>2,\"More Than 2\",IF(((Table18[[#This Row],[Next Calibration]]-TODAY())/30)>1,\"Between 2 and 1\",\"Less than 1\"))","v":{"$error":"#VALUE!"}},{"$f":"IF(Table18[[#This Row],[Issued]]=\"\",\"\",IF(Table18[[#This Row],[Lent]]=\"\",0,1))","v":""},{"$f":"IF(Table18[[#This Row],[Lent]]=\"\",\"\",IF(Table18[[#This Row],[Returned]]=\"\",0,1))","v":""}]
[{"$nulls":11},{"$f":"IF(IF(Table18[[#This Row],[Disposition]]=\"Retired\",\"N/A\",IF(Table18[[#This Row],[Disposition]]=0,\"\",K132+$F$2))=0+$F$2,\"NEVER CALIBRATED\",IF(Table18[[#This Row],[Disposition]]=\"Retired\",\"N/A\",IF(Table18[[#This Row],[Disposition]]=0,\"\",K132+$F$2)))","v":""},{"$f":"IF(Table18[[#This Row],[Disposition]]=\"\",\"\",IF(AND(Table18[[#This Row],[Next Calibration]]<$E$1,Table18[[#This Row],[Disposition]]=\"Lost\"),\"Find and Calibrate\",IF(Table18[[#This Row],[Disposition]]=\"Lost\",\"Find\",IF(OR(Table18[[#This Row],[Next Calibration]]<$E$1,Table18[[#This Row],[Next Calibration]]=\"NEVER CALIBRATED\"),\"Calibrate\",\"Nominal\"))))","v":""},{"$f":"IF(((Table18[[#This Row],[Next Calibration]]-TODAY())/30)>2,\"More Than 2\",IF(((Table18[[#This Row],[Next Calibration]]-TODAY())/30)>1,\"Between 2 and 1\",\"Less than 1\"))","v":{"$error":"#VALUE!"}},{"$f":"IF(Table18[[#This Row],[Issued]]=\"\",\"\",IF(Table18[[#This Row],[Lent]]=\"\",0,1))","v":""},{"$f":"IF(Table18[[#This Row],[Lent]]=\"\",\"\",IF(Table18[[#This Row],[Returned]]=\"\",0,1))","v":""}]
[{"$nulls":11},{"$f":"IF(IF(Table18[[#This Row],[Disposition]]=\"Retired\",\"N/A\",IF(Table18[[#This Row],[Disposition]]=0,\"\",K133+$F$2))=0+$F$2,\"NEVER CALIBRATED\",IF(Table18[[#This Row],[Disposition]]=\"Retired\",\"N/A\",IF(Table18[[#This Row],[Disposition]]=0,\"\",K133+$F$2)))","v":""},{"$f":"IF(Table18[[#This Row],[Disposition]]=\"\",\"\",IF(AND(Table18[[#This Row],[Next Calibration]]<$E$1,Table18[[#This Row],[Disposition]]=\"Lost\"),\"Find and Calibrate\",IF(Table18[[#This Row],[Disposition]]=\"Lost\",\"Find\",IF(OR(Table18[[#This Row],[Next Calibration]]<$E$1,Table18[[#This Row],[Next Calibration]]=\"NEVER CALIBRATED\"),\"Calibrate\",\"Nominal\"))))","v":""},{"$f":"IF(((Table18[[#This Row],[Next Calibration]]-TODAY())/30)>2,\"More Than 2\",IF(((Table18[[#This Row],[Next Calibration]]-TODAY())/30)>1,\"Between 2 and 1\",\"Less than 1\"))","v":{"$error":"#VALUE!"}},{"$f":"IF(Table18[[#This Row],[Issued]]=\"\",\"\",IF(Table18[[#This Row],[Lent]]=\"\",0,1))","v":""},{"$f":"IF(Table18[[#This Row],[Lent]]=\"\",\"\",IF(Table18[[#This Row],[Returned]]=\"\",0,1))","v":""}]
[{"$nulls":11},{"$f":"IF(IF(Table18[[#This Row],[Disposition]]=\"Retired\",\"N/A\",IF(Table18[[#This Row],[Disposition]]=0,\"\",K134+$F$2))=0+$F$2,\"NEVER CALIBRATED\",IF(Table18[[#This Row],[Disposition]]=\"Retired\",\"N/A\",IF(Table18[[#This Row],[Disposition]]=0,\"\",K134+$F$2)))","v":""},{"$f":"IF(Table18[[#This Row],[Disposition]]=\"\",\"\",IF(AND(Table18[[#This Row],[Next Calibration]]<$E$1,Table18[[#This Row],[Disposition]]=\"Lost\"),\"Find and Calibrate\",IF(Table18[[#This Row],[Disposition]]=\"Lost\",\"Find\",IF(OR(Table18[[#This Row],[Next Calibration]]<$E$1,Table18[[#This Row],[Next Calibration]]=\"NEVER CALIBRATED\"),\"Calibrate\",\"Nominal\"))))","v":""},{"$f":"IF(((Table18[[#This Row],[Next Calibration]]-TODAY())/30)>2,\"More Than 2\",IF(((Table18[[#This Row],[Next Calibration]]-TODAY())/30)>1,\"Between 2 and 1\",\"Less than 1\"))","v":{"$error":"#VALUE!"}},{"$f":"IF(Table18[[#This Row],[Issued]]=\"\",\"\",IF(Table18[[#This Row],[Lent]]=\"\",0,1))","v":""},{"$f":"IF(Table18[[#This Row],[Lent]]=\"\",\"\",IF(Table18[[#This Row],[Returned]]=\"\",0,1))","v":""}]
[{"$nulls":11},{"$f":"IF(IF(Table18[[#This Row],[Disposition]]=\"Retired\",\"N/A\",IF(Table18[[#This Row],[Disposition]]=0,\"\",K135+$F$2))=0+$F$2,\"NEVER CALIBRATED\",IF(Table18[[#This Row],[Disposition]]=\"Retired\",\"N/A\",IF(Table18[[#This Row],[Disposition]]=0,\"\",K135+$F$2)))","v":""},{"$f":"IF(Table18[[#This Row],[Disposition]]=\"\",\"\",IF(AND(Table18[[#This Row],[Next Calibration]]<$E$1,Table18[[#This Row],[Disposition]]=\"Lost\"),\"Find and Calibrate\",IF(Table18[[#This Row],[Disposition]]=\"Lost\",\"Find\",IF(OR(Table18[[#This Row],[Next Calibration]]<$E$1,Table18[[#This Row],[Next Calibration]]=\"NEVER CALIBRATED\"),\"Calibrate\",\"Nominal\"))))","v":""},{"$f":"IF(((Table18[[#This Row],[Next Calibration]]-TODAY())/30)>2,\"More Than 2\",IF(((Table18[[#This Row],[Next Calibration]]-TODAY())/30)>1,\"Between 2 and 1\",\"Less than 1\"))","v":{"$error":"#VALUE!"}},{"$f":"IF(Table18[[#This Row],[Issued]]=\"\",\"\",IF(Table18[[#This Row],[Lent]]=\"\",0,1))","v":""},{"$f":"IF(Table18[[#This Row],[Lent]]=\"\",\"\",IF(Table18[[#This Row],[Returned]]=\"\",0,1))","v":""}]
[{"$nulls":11},{"$f":"IF(IF(Table18[[#This Row],[Disposition]]=\"Retired\",\"N/A\",IF(Table18[[#This Row],[Disposition]]=0,\"\",K136+$F$2))=0+$F$2,\"NEVER CALIBRATED\",IF(Table18[[#This Row],[Disposition]]=\"Retired\",\"N/A\",IF(Table18[[#This Row],[Disposition]]=0,\"\",K136+$F$2)))","v":""},{"$f":"IF(Table18[[#This Row],[Disposition]]=\"\",\"\",IF(AND(Table18[[#This Row],[Next Calibration]]<$E$1,Table18[[#This Row],[Disposition]]=\"Lost\"),\"Find and Calibrate\",IF(Table18[[#This Row],[Disposition]]=\"Lost\",\"Find\",IF(OR(Table18[[#This Row],[Next Calibration]]<$E$1,Table18[[#This Row],[Next Calibration]]=\"NEVER CALIBRATED\"),\"Calibrate\",\"Nominal\"))))","v":""},{"$f":"IF(((Table18[[#This Row],[Next Calibration]]-TODAY())/30)>2,\"More Than 2\",IF(((Table18[[#This Row],[Next Calibration]]-TODAY())/30)>1,\"Between 2 and 1\",\"Less than 1\"))","v":{"$error":"#VALUE!"}},{"$f":"IF(Table18[[#This Row],[Issued]]=\"\",\"\",IF(Table18[[#This Row],[Lent]]=\"\",0,1))","v":""},{"$f":"IF(Table18[[#This Row],[Lent]]=\"\",\"\",IF(Table18[[#This Row],[Returned]]=\"\",0,1))","v":""}]
[{"$nulls":11},{"$f":"IF(IF(Table18[[#This Row],[Disposition]]=\"Retired\",\"N/A\",IF(Table18[[#This Row],[Disposition]]=0,\"\",K137+$F$2))=0+$F$2,\"NEVER CALIBRATED\",IF(Table18[[#This Row],[Disposition]]=\"Retired\",\"N/A\",IF(Table18[[#This Row],[Disposition]]=0,\"\",K137+$F$2)))","v":""},{"$f":"IF(Table18[[#This Row],[Disposition]]=\"\",\"\",IF(AND(Table18[[#This Row],[Next Calibration]]<$E$1,Table18[[#This Row],[Disposition]]=\"Lost\"),\"Find and Calibrate\",IF(Table18[[#This Row],[Disposition]]=\"Lost\",\"Find\",IF(OR(Table18[[#This Row],[Next Calibration]]<$E$1,Table18[[#This Row],[Next Calibration]]=\"NEVER CALIBRATED\"),\"Calibrate\",\"Nominal\"))))","v":""},{"$f":"IF(((Table18[[#This Row],[Next Calibration]]-TODAY())/30)>2,\"More Than 2\",IF(((Table18[[#This Row],[Next Calibration]]-TODAY())/30)>1,\"Between 2 and 1\",\"Less than 1\"))","v":{"$error":"#VALUE!"}},{"$f":"IF(Table18[[#This Row],[Issued]]=\"\",\"\",IF(Table18[[#This Row],[Lent]]=\"\",0,1))","v":""},{"$f":"IF(Table18[[#This Row],[Lent]]=\"\",\"\",IF(Table18[[#This Row],[Returned]]=\"\",0,1))","v":""}]
[{"$nulls":11},{"$f":"IF(IF(Table18[[#This Row],[Disposition]]=\"Retired\",\"N/A\",IF(Table18[[#This Row],[Disposition]]=0,\"\",K138+$F$2))=0+$F$2,\"NEVER CALIBRATED\",IF(Table18[[#This Row],[Disposition]]=\"Retired\",\"N/A\",IF(Table18[[#This Row],[Disposition]]=0,\"\",K138+$F$2)))","v":""},{"$f":"IF(Table18[[#This Row],[Disposition]]=\"\",\"\",IF(AND(Table18[[#This Row],[Next Calibration]]<$E$1,Table18[[#This Row],[Disposition]]=\"Lost\"),\"Find and Calibrate\",IF(Table18[[#This Row],[Disposition]]=\"Lost\",\"Find\",IF(OR(Table18[[#This Row],[Next Calibration]]<$E$1,Table18[[#This Row],[Next Calibration]]=\"NEVER CALIBRATED\"),\"Calibrate\",\"Nominal\"))))","v":""},{"$f":"IF(((Table18[[#This Row],[Next Calibration]]-TODAY())/30)>2,\"More Than 2\",IF(((Table18[[#This Row],[Next Calibration]]-TODAY())/30)>1,\"Between 2 and 1\",\"Less than 1\"))","v":{"$error":"#VALUE!"}},{"$f":"IF(Table18[[#This Row],[Issued]]=\"\",\"\",IF(Table18[[#This Row],[Lent]]=\"\",0,1))","v":""},{"$f":"IF(Table18[[#This Row],[Lent]]=\"\",\"\",IF(Table18[[#This Row],[Returned]]=\"\",0,1))","v":""}]
[{"$nulls":11},{"$f":"IF(IF(Table18[[#This Row],[Disposition]]=\"Retired\",\"N/A\",IF(Table18[[#This Row],[Disposition]]=0,\"\",K139+$F$2))=0+$F$2,\"NEVER CALIBRATED\",IF(Table18[[#This Row],[Disposition]]=\"Retired\",\"N/A\",IF(Table18[[#This Row],[Disposition]]=0,\"\",K139+$F$2)))","v":""},{"$f":"IF(Table18[[#This Row],[Disposition]]=\"\",\"\",IF(AND(Table18[[#This Row],[Next Calibration]]<$E$1,Table18[[#This Row],[Disposition]]=\"Lost\"),\"Find and Calibrate\",IF(Table18[[#This Row],[Disposition]]=\"Lost\",\"Find\",IF(OR(Table18[[#This Row],[Next Calibration]]<$E$1,Table18[[#This Row],[Next Calibration]]=\"NEVER CALIBRATED\"),\"Calibrate\",\"Nominal\"))))","v":""},{"$f":"IF(((Table18[[#This Row],[Next Calibration]]-TODAY())/30)>2,\"More Than 2\",IF(((Table18[[#This Row],[Next Calibration]]-TODAY())/30)>1,\"Between 2 and 1\",\"Less than 1\"))","v":{"$error":"#VALUE!"}},{"$f":"IF(Table18[[#This Row],[Issued]]=\"\",\"\",IF(Table18[[#This Row],[Lent]]=\"\",0,1))","v":""},{"$f":"IF(Table18[[#This Row],[Lent]]=\"\",\"\",IF(Table18[[#This Row],[Returned]]=\"\",0,1))","v":""}]
[{"$nulls":11},{"$f":"IF(IF(Table18[[#This Row],[Disposition]]=\"Retired\",\"N/A\",IF(Table18[[#This Row],[Disposition]]=0,\"\",K140+$F$2))=0+$F$2,\"NEVER CALIBRATED\",IF(Table18[[#This Row],[Disposition]]=\"Retired\",\"N/A\",IF(Table18[[#This Row],[Disposition]]=0,\"\",K140+$F$2)))","v":""},{"$f":"IF(Table18[[#This Row],[Disposition]]=\"\",\"\",IF(AND(Table18[[#This Row],[Next Calibration]]<$E$1,Table18[[#This Row],[Disposition]]=\"Lost\"),\"Find and Calibrate\",IF(Table18[[#This Row],[Disposition]]=\"Lost\",\"Find\",IF(OR(Table18[[#This Row],[Next Calibration]]<$E$1,Table18[[#This Row],[Next Calibration]]=\"NEVER CALIBRATED\"),\"Calibrate\",\"Nominal\"))))","v":""},{"$f":"IF(((Table18[[#This Row],[Next Calibration]]-TODAY())/30)>2,\"More Than 2\",IF(((Table18[[#This Row],[Next Calibration]]-TODAY())/30)>1,\"Between 2 and 1\",\"Less than 1\"))","v":{"$error":"#VALUE!"}},{"$f":"IF(Table18[[#This Row],[Issued]]=\"\",\"\",IF(Table18[[#This Row],[Lent]]=\"\",0,1))","v":""},{"$f":"IF(Table18[[#This Row],[Lent]]=\"\",\"\",IF(Table18[[#This Row],[Returned]]=\"\",0,1))","v":""}]
[{"$nulls":11},{"$f":"IF(IF(Table18[[#This Row],[Disposition]]=\"Retired\",\"N/A\",IF(Table18[[#This Row],[Disposition]]=0,\"\",K141+$F$2))=0+$F$2,\"NEVER CALIBRATED\",IF(Table18[[#This Row],[Disposition]]=\"Retired\",\"N/A\",IF(Table18[[#This Row],[Disposition]]=0,\"\",K141+$F$2)))","v":""},{"$f":"IF(Table18[[#This Row],[Disposition]]=\"\",\"\",IF(AND(Table18[[#This Row],[Next Calibration]]<$E$1,Table18[[#This Row],[Disposition]]=\"Lost\"),\"Find and Calibrate\",IF(Table18[[#This Row],[Disposition]]=\"Lost\",\"Find\",IF(OR(Table18[[#This Row],[Next Calibration]]<$E$1,Table18[[#This Row],[Next Calibration]]=\"NEVER CALIBRATED\"),\"Calibrate\",\"Nominal\"))))","v":""},{"$f":"IF(((Table18[[#This Row],[Next Calibration]]-TODAY())/30)>2,\"More Than 2\",IF(((Table18[[#This Row],[Next Calibration]]-TODAY())/30)>1,\"Between 2 and 1\",\"Less than 1\"))","v":{"$error":"#VALUE!"}},{"$f":"IF(Table18[[#This Row],[Issued]]=\"\",\"\",IF(Table18[[#This Row],[Lent]]=\"\",0,1))","v":""},{"$f":"IF(Table18[[#This Row],[Lent]]=\"\",\"\",IF(Table18[[#This Row],[Returned]]=\"\",0,1))","v":""}]
[{"$nulls":11},{"$f":"IF(IF(Table18[[#This Row],[Disposition]]=\"Retired\",\"N/A\",IF(Table18[[#This Row],[Disposition]]=0,\"\",K142+$F$2))=0+$F$2,\"NEVER CALIBRATED\",IF(Table18[[#This Row],[Disposition]]=\"Retired\",\"N/A\",IF(Table18[[#This Row],[Disposition]]=0,\"\",K142+$F$2)))","v":""},{"$f":"IF(Table18[[#This Row],[Disposition]]=\"\",\"\",IF(AND(Table18[[#This Row],[Next Calibration]]<$E$1,Table18[[#This Row],[Disposition]]=\"Lost\"),\"Find and Calibrate\",IF(Table18[[#This Row],[Disposition]]=\"Lost\",\"Find\",IF(OR(Table18[[#This Row],[Next Calibration]]<$E$1,Table18[[#This Row],[Next Calibration]]=\"NEVER CALIBRATED\"),\"Calibrate\",\"Nominal\"))))","v":""},{"$f":"IF(((Table18[[#This Row],[Next Calibration]]-TODAY())/30)>2,\"More Than 2\",IF(((Table18[[#This Row],[Next Calibration]]-TODAY())/30)>1,\"Between 2 and 1\",\"Less than 1\"))","v":{"$error":"#VALUE!"}},{"$f":"IF(Table18[[#This Row],[Issued]]=\"\",\"\",IF(Table18[[#This Row],[Lent]]=\"\",0,1))","v":""},{"$f":"IF(Table18[[#This Row],[Lent]]=\"\",\"\",IF(Table18[[#This Row],[Returned]]=\"\",0,1))","v":""}]
[{"$nulls":11},{"$f":"IF(IF(Table18[[#This Row],[Disposition]]=\"Retired\",\"N/A\",IF(Table18[[#This Row],[Disposition]]=0,\"\",K143+$F$2))=0+$F$2,\"NEVER CALIBRATED\",IF(Table18[[#This Row],[Disposition]]=\"Retired\",\"N/A\",IF(Table18[[#This Row],[Disposition]]=0,\"\",K143+$F$2)))","v":""},{"$f":"IF(Table18[[#This Row],[Disposition]]=\"\",\"\",IF(AND(Table18[[#This Row],[Next Calibration]]<$E$1,Table18[[#This Row],[Disposition]]=\"Lost\"),\"Find and Calibrate\",IF(Table18[[#This Row],[Disposition]]=\"Lost\",\"Find\",IF(OR(Table18[[#This Row],[Next Calibration]]<$E$1,Table18[[#This Row],[Next Calibration]]=\"NEVER CALIBRATED\"),\"Calibrate\",\"Nominal\"))))","v":""},{"$f":"IF(((Table18[[#This Row],[Next Calibration]]-TODAY())/30)>2,\"More Than 2\",IF(((Table18[[#This Row],[Next Calibration]]-TODAY())/30)>1,\"Between 2 and 1\",\"Less than 1\"))","v":{"$error":"#VALUE!"}},{"$f":"IF(Table18[[#This Row],[Issued]]=\"\",\"\",IF(Table18[[#This Row],[Lent]]=\"\",0,1))","v":""},{"$f":"IF(Table18[[#This Row],[Lent]]=\"\",\"\",IF(Table18[[#This Row],[Returned]]=\"\",0,1))","v":""}]
[{"$nulls":11},{"$f":"IF(IF(Table18[[#This Row],[Disposition]]=\"Retired\",\"N/A\",IF(Table18[[#This Row],[Disposition]]=0,\"\",K144+$F$2))=0+$F$2,\"NEVER CALIBRATED\",IF(Table18[[#This Row],[Disposition]]=\"Retired\",\"N/A\",IF(Table18[[#This Row],[Disposition]]=0,\"\",K144+$F$2)))","v":""},{"$f":"IF(Table18[[#This Row],[Disposition]]=\"\",\"\",IF(AND(Table18[[#This Row],[Next Calibration]]<$E$1,Table18[[#This Row],[Disposition]]=\"Lost\"),\"Find and Calibrate\",IF(Table18[[#This Row],[Disposition]]=\"Lost\",\"Find\",IF(OR(Table18[[#This Row],[Next Calibration]]<$E$1,Table18[[#This Row],[Next Calibration]]=\"NEVER CALIBRATED\"),\"Calibrate\",\"Nominal\"))))","v":""},{"$f":"IF(((Table18[[#This Row],[Next Calibration]]-TODAY())/30)>2,\"More Than 2\",IF(((Table18[[#This Row],[Next Calibration]]-TODAY())/30)>1,\"Between 2 and 1\",\"Less than 1\"))","v":{"$error":"#VALUE!"}},{"$f":"IF(Table18[[#This Row],[Issued]]=\"\",\"\",IF(Table18[[#This Row],[Lent]]=\"\",0,1))","v":""},{"$f":"IF(Table18[[#This Row],[Lent]]=\"\",\"\",IF(Table18[[#This Row],[Returned]]=\"\",0,1))","v":""}]
[{"$nulls":11},{"$f":"IF(IF(Table18[[#This Row],[Disposition]]=\"Retired\",\"N/A\",IF(Table18[[#This Row],[Disposition]]=0,\"\",K145+$F$2))=0+$F$2,\"NEVER CALIBRATED\",IF(Table18[[#This Row],[Disposition]]=\"Retired\",\"N/A\",IF(Table18[[#This Row],[Disposition]]=0,\"\",K145+$F$2)))","v":""},{"$f":"IF(Table18[[#This Row],[Disposition]]=\"\",\"\",IF(AND(Table18[[#This Row],[Next Calibration]]<$E$1,Table18[[#This Row],[Disposition]]=\"Lost\"),\"Find and Calibrate\",IF(Table18[[#This Row],[Disposition]]=\"Lost\",\"Find\",IF(OR(Table18[[#This Row],[Next Calibration]]<$E$1,Table18[[#This Row],[Next Calibration]]=\"NEVER CALIBRATED\"),\"Calibrate\",\"Nominal\"))))","v":""},{"$f":"IF(((Table18[[#This Row],[Next Calibration]]-TODAY())/30)>2,\"More Than 2\",IF(((Table18[[#This Row],[Next Calibration]]-TODAY())/30)>1,\"Between 2 and 1\",\"Less than 1\"))","v":{"$error":"#VALUE!"}},{"$f":"IF(Table18[[#This Row],[Issued]]=\"\",\"\",IF(Table18[[#This Row],[Lent]]=\"\",0,1))","v":""},{"$f":"IF(Table18[[#This Row],[Lent]]=\"\",\"\",IF(Table18[[#This Row],[Returned]]=\"\",0,1))","v":""}]
[{"$nulls":11},{"$f":"IF(IF(Table18[[#This Row],[Disposition]]=\"Retired\",\"N/A\",IF(Table18[[#This Row],[Disposition]]=0,\"\",K146+$F$2))=0+$F$2,\"NEVER CALIBRATED\",IF(Table18[[#This Row],[Disposition]]=\"Retired\",\"N/A\",IF(Table18[[#This Row],[Disposition]]=0,\"\",K146+$F$2)))","v":""},{"$f":"IF(Table18[[#This Row],[Disposition]]=\"\",\"\",IF(AND(Table18[[#This Row],[Next Calibration]]<$E$1,Table18[[#This Row],[Disposition]]=\"Lost\"),\"Find and Calibrate\",IF(Table18[[#This Row],[Disposition]]=\"Lost\",\"Find\",IF(OR(Table18[[#This Row],[Next Calibration]]<$E$1,Table18[[#This Row],[Next Calibration]]=\"NEVER CALIBRATED\"),\"Calibrate\",\"Nominal\"))))","v":""},{"$f":"IF(((Table18[[#This Row],[Next Calibration]]-TODAY())/30)>2,\"More Than 2\",IF(((Table18[[#This Row],[Next Calibration]]-TODAY())/30)>1,\"Between 2 and 1\",\"Less than 1\"))","v":{"$error":"#VALUE!"}},{"$f":"IF(Table18[[#This Row],[Issued]]=\"\",\"\",IF(Table18[[#This Row],[Lent]]=\"\",0,1))","v":""},{"$f":"IF(Table18[[#This Row],[Lent]]=\"\",\"\",IF(Table18[[#This Row],[Returned]]=\"\",0,1))","v":""}]
[{"$nulls":11},{"$f":"IF(IF(Table18[[#This Row],[Disposition]]=\"Retired\",\"N/A\",IF(Table18[[#This Row],[Disposition]]=0,\"\",K147+$F$2))=0+$F$2,\"NEVER CALIBRATED\",IF(Table18[[#This Row],[Disposition]]=\"Retired\",\"N/A\",IF(Table18[[#This Row],[Disposition]]=0,\"\",K147+$F$2)))","v":""},{"$f":"IF(Table18[[#This Row],[Disposition]]=\"\",\"\",IF(AND(Table18[[#This Row],[Next Calibration]]<$E$1,Table18[[#This Row],[Disposition]]=\"Lost\"),\"Find and Calibrate\",IF(Table18[[#This Row],[Disposition]]=\"Lost\",\"Find\",IF(OR(Table18[[#This Row],[Next Calibration]]<$E$1,Table18[[#This Row],[Next Calibration]]=\"NEVER CALIBRATED\"),\"Calibrate\",\"Nominal\"))))","v":""},{"$f":"IF(((Table18[[#This Row],[Next Calibration]]-TODAY())/30)>2,\"More Than 2\",IF(((Table18[[#This Row],[Next Calibration]]-TODAY())/30)>1,\"Between 2 and 1\",\"Less than 1\"))","v":{"$error":"#VALUE!"}},{"$f":"IF(Table18[[#This Row],[Issued]]=\"\",\"\",IF(Table18[[#This Row],[Lent]]=\"\",0,1))","v":""},{"$f":"IF(Table18[[#This Row],[Lent]]=\"\",\"\",IF(Table18[[#This Row],[Returned]]=\"\",0,1))","v":""}]
[{"$nulls":11},{"$f":"IF(IF(Table18[[#This Row],[Disposition]]=\"Retired\",\"N/A\",IF(Table18[[#This Row],[Disposition]]=0,\"\",K148+$F$2))=0+$F$2,\"NEVER CALIBRATED\",IF(Table18[[#This Row],[Disposition]]=\"Retired\",\"N/A\",IF(Table18[[#This Row],[Disposition]]=0,\"\",K148+$F$2)))","v":""},{"$f":"IF(Table18[[#This Row],[Disposition]]=\"\",\"\",IF(AND(Table18[[#This Row],[Next Calibration]]<$E$1,Table18[[#This Row],[Disposition]]=\"Lost\"),\"Find and Calibrate\",IF(Table18[[#This Row],[Disposition]]=\"Lost\",\"Find\",IF(OR(Table18[[#This Row],[Next Calibration]]<$E$1,Table18[[#This Row],[Next Calibration]]=\"NEVER CALIBRATED\"),\"Calibrate\",\"Nominal\"))))","v":""},{"$f":"IF(((Table18[[#This Row],[Next Calibration]]-TODAY())/30)>2,\"More Than 2\",IF(((Table18[[#This Row],[Next Calibration]]-TODAY())/30)>1,\"Between 2 and 1\",\"Less than 1\"))","v":{"$error":"#VALUE!"}},{"$f":"IF(Table18[[#This Row],[Issued]]=\"\",\"\",IF(Table18[[#This Row],[Lent]]=\"\",0,1))","v":""},{"$f":"IF(Table18[[#This Row],[Lent]]=\"\",\"\",IF(Table18[[#This Row],[Returned]]=\"\",0,1))","v":""}]
[{"$nulls":11},{"$f":"IF(IF(Table18[[#This Row],[Disposition]]=\"Retired\",\"N/A\",IF(Table18[[#This Row],[Disposition]]=0,\"\",K149+$F$2))=0+$F$2,\"NEVER CALIBRATED\",IF(Table18[[#This Row],[Disposition]]=\"Retired\",\"N/A\",IF(Table18[[#This Row],[Disposition]]=0,\"\",K149+$F$2)))","v":""},{"$f":"IF(Table18[[#This Row],[Disposition]]=\"\",\"\",IF(AND(Table18[[#This Row],[Next Calibration]]<$E$1,Table18[[#This Row],[Disposition]]=\"Lost\"),\"Find and Calibrate\",IF(Table18[[#This Row],[Disposition]]=\"Lost\",\"Find\",IF(OR(Table18[[#This Row],[Next Calibration]]<$E$1,Table18[[#This Row],[Next Calibration]]=\"NEVER CALIBRATED\"),\"Calibrate\",\"Nominal\"))))","v":""},{"$f":"IF(((Table18[[#This Row],[Next Calibration]]-TODAY())/30)>2,\"More Than 2\",IF(((Table18[[#This Row],[Next Calibration]]-TODAY())/30)>1,\"Between 2 and 1\",\"Less than 1\"))","v":{"$error":"#VALUE!"}},{"$f":"IF(Table18[[#This Row],[Issued]]=\"\",\"\",IF(Table18[[#This Row],[Lent]]=\"\",0,1))","v":""},{"$f":"IF(Table18[[#This Row],[Lent]]=\"\",\"\",IF(Table18[[#This Row],[Returned]]=\"\",0,1))","v":""}]
[{"$nulls":11},{"$f":"IF(IF(Table18[[#This Row],[Disposition]]=\"Retired\",\"N/A\",IF(Table18[[#This Row],[Disposition]]=0,\"\",K150+$F$2))=0+$F$2,\"NEVER CALIBRATED\",IF(Table18[[#This Row],[Disposition]]=\"Retired\",\"N/A\",IF(Table18[[#This Row],[Disposition]]=0,\"\",K150+$F$2)))","v":""},{"$f":"IF(Table18[[#This Row],[Disposition]]=\"\",\"\",IF(AND(Table18[[#This Row],[Next Calibration]]<$E$1,Table18[[#This Row],[Disposition]]=\"Lost\"),\"Find and Calibrate\",IF(Table18[[#This Row],[Disposition]]=\"Lost\",\"Find\",IF(OR(Table18[[#This Row],[Next Calibration]]<$E$1,Table18[[#This Row],[Next Calibration]]=\"NEVER CALIBRATED\"),\"Calibrate\",\"Nominal\"))))","v":""},{"$f":"IF(((Table18[[#This Row],[Next Calibration]]-TODAY())/30)>2,\"More Than 2\",IF(((Table18[[#This Row],[Next Calibration]]-TODAY())/30)>1,\"Between 2 and 1\",\"Less than 1\"))","v":{"$error":"#VALUE!"}},{"$f":"IF(Table18[[#This Row],[Issued]]=\"\",\"\",IF(Table18[[#This Row],[Lent]]=\"\",0,1))","v":""},{"$f":"IF(Table18[[#This Row],[Lent]]=\"\",\"\",IF(Table18[[#This Row],[Returned]]=\"\",0,1))","v":""}]
[{"$nulls":11},{"$f":"IF(IF(Table18[[#This Row],[Disposition]]=\"Retired\",\"N/A\",IF(Table18[[#This Row],[Disposition]]=0,\"\",K151+$F$2))=0+$F$2,\"NEVER CALIBRATED\",IF(Table18[[#This Row],[Disposition]]=\"Retired\",\"N/A\",IF(Table18[[#This Row],[Disposition]]=0,\"\",K151+$F$2)))","v":""},{"$f":"IF(Table18[[#This Row],[Disposition]]=\"\",\"\",IF(AND(Table18[[#This Row],[Next Calibration]]<$E$1,Table18[[#This Row],[Disposition]]=\"Lost\"),\"Find and Calibrate\",IF(Table18[[#This Row],[Disposition]]=\"Lost\",\"Find\",IF(OR(Table18[[#This Row],[Next Calibration]]<$E$1,Table18[[#This Row],[Next Calibration]]=\"NEVER CALIBRATED\"),\"Calibrate\",\"Nominal\"))))","v":""},{"$f":"IF(((Table18[[#This Row],[Next Calibration]]-TODAY())/30)>2,\"More Than 2\",IF(((Table18[[#This Row],[Next Calibration]]-TODAY())/30)>1,\"Between 2 and 1\",\"Less than 1\"))","v":{"$error":"#VALUE!"}},{"$f":"IF(Table18[[#This Row],[Issued]]=\"\",\"\",IF(Table18[[#This Row],[Lent]]=\"\",0,1))","v":""},{"$f":"IF(Table18[[#This Row],[Lent]]=\"\",\"\",IF(Table18[[#This Row],[Returned]]=\"\",0,1))","v":""}]
[{"$nulls":11},{"$f":"IF(IF(Table18[[#This Row],[Disposition]]=\"Retired\",\"N/A\",IF(Table18[[#This Row],[Disposition]]=0,\"\",K152+$F$2))=0+$F$2,\"NEVER CALIBRATED\",IF(Table18[[#This Row],[Disposition]]=\"Retired\",\"N/A\",IF(Table18[[#This Row],[Disposition]]=0,\"\",K152+$F$2)))","v":""},{"$f":"IF(Table18[[#This Row],[Disposition]]=\"\",\"\",IF(AND(Table18[[#This Row],[Next Calibration]]<$E$1,Table18[[#This Row],[Disposition]]=\"Lost\"),\"Find and Calibrate\",IF(Table18[[#This Row],[Disposition]]=\"Lost\",\"Find\",IF(OR(Table18[[#This Row],[Next Calibration]]<$E$1,Table18[[#This Row],[Next Calibration]]=\"NEVER CALIBRATED\"),\"Calibrate\",\"Nominal\"))))","v":""},{"$f":"IF(((Table18[[#This Row],[Next Calibration]]-TODAY())/30)>2,\"More Than 2\",IF(((Table18[[#This Row],[Next Calibration]]-TODAY())/30)>1,\"Between 2 and 1\",\"Less than 1\"))","v":{"$error":"#VALUE!"}},{"$f":"IF(Table18[[#This Row],[Issued]]=\"\",\"\",IF(Table18[[#This Row],[Lent]]=\"\",0,1))","v":""},{"$f":"IF(Table18[[#This Row],[Lent]]=\"\",\"\",IF(Table18[[#This Row],[Returned]]=\"\",0,1))","v":""}]
[{"$nulls":11},{"$f":"IF(IF(Table18[[#This Row],[Disposition]]=\"Retired\",\"N/A\",IF(Table18[[#This Row],[Disposition]]=0,\"\",K153+$F$2))=0+$F$2,\"NEVER CALIBRATED\",IF(Table18[[#This Row],[Disposition]]=\"Retired\",\"N/A\",IF(Table18[[#This Row],[Disposition]]=0,\"\",K153+$F$2)))","v":""},{"$f":"IF(Table18[[#This Row],[Disposition]]=\"\",\"\",IF(AND(Table18[[#This Row],[Next Calibration]]<$E$1,Table18[[#This Row],[Disposition]]=\"Lost\"),\"Find and Calibrate\",IF(Table18[[#This Row],[Disposition]]=\"Lost\",\"Find\",IF(OR(Table18[[#This Row],[Next Calibration]]<$E$1,Table18[[#This Row],[Next Calibration]]=\"NEVER CALIBRATED\"),\"Calibrate\",\"Nominal\"))))","v":""},{"$f":"IF(((Table18[[#This Row],[Next Calibration]]-TODAY())/30)>2,\"More Than 2\",IF(((Table18[[#This Row],[Next Calibration]]-TODAY())/30)>1,\"Between 2 and 1\",\"Less than 1\"))","v":{"$error":"#VALUE!"}},{"$f":"IF(Table18[[#This Row],[Issued]]=\"\",\"\",IF(Table18[[#This Row],[Lent]]=\"\",0,1))","v":""},{"$f":"IF(Table18[[#This Row],[Lent]]=\"\",\"\",IF(Table18[[#This Row],[Returned]]=\"\",0,1))","v":""}]
[{"$nulls":11},{"$f":"IF(IF(Table18[[#This Row],[Disposition]]=\"Retired\",\"N/A\",IF(Table18[[#This Row],[Disposition]]=0,\"\",K154+$F$2))=0+$F$2,\"NEVER CALIBRATED\",IF(Table18[[#This Row],[Disposition]]=\"Retired\",\"N/A\",IF(Table18[[#This Row],[Disposition]]=0,\"\",K154+$F$2)))","v":""},{"$f":"IF(Table18[[#This Row],[Disposition]]=\"\",\"\",IF(AND(Table18[[#This Row],[Next Calibration]]<$E$1,Table18[[#This Row],[Disposition]]=\"Lost\"),\"Find and Calibrate\",IF(Table18[[#This Row],[Disposition]]=\"Lost\",\"Find\",IF(OR(Table18[[#This Row],[Next Calibration]]<$E$1,Table18[[#This Row],[Next Calibration]]=\"NEVER CALIBRATED\"),\"Calibrate\",\"Nominal\"))))","v":""},{"$f":"IF(((Table18[[#This Row],[Next Calibration]]-TODAY())/30)>2,\"More Than 2\",IF(((Table18[[#This Row],[Next Calibration]]-TODAY())/30)>1,\"Between 2 and 1\",\"Less than 1\"))","v":{"$error":"#VALUE!"}},{"$f":"IF(Table18[[#This Row],[Issued]]=\"\",\"\",IF(Table18[[#This Row],[Lent]]=\"\",0,1))","v":""},{"$f":"IF(Table18[[#This Row],[Lent]]=\"\",\"\",IF(Table18[[#This Row],[Returned]]=\"\",0,1))","v":""}]
[{"$nulls":11},{"$f":"IF(IF(Table18[[#This Row],[Disposition]]=\"Retired\",\"N/A\",IF(Table18[[#This Row],[Disposition]]=0,\"\",K155+$F$2))=0+$F$2,\"NEVER CALIBRATED\",IF(Table18[[#This Row],[Disposition]]=\"Retired\",\"N/A\",IF(Table18[[#This Row],[Disposition]]=0,\"\",K155+$F$2)))","v":""},{"$f":"IF(Table18[[#This Row],[Disposition]]=\"\",\"\",IF(AND(Table18[[#This Row],[Next Calibration]]<$E$1,Table18[[#This Row],[Disposition]]=\"Lost\"),\"Find and Calibrate\",IF(Table18[[#This Row],[Disposition]]=\"Lost\",\"Find\",IF(OR(Table18[[#This Row],[Next Calibration]]<$E$1,Table18[[#This Row],[Next Calibration]]=\"NEVER CALIBRATED\"),\"Calibrate\",\"Nominal\"))))","v":""},{"$f":"IF(((Table18[[#This Row],[Next Calibration]]-TODAY())/30)>2,\"More Than 2\",IF(((Table18[[#This Row],[Next Calibration]]-TODAY())/30)>1,\"Between 2 and 1\",\"Less than 1\"))","v":{"$error":"#VALUE!"}},{"$f":"IF(Table18[[#This Row],[Issued]]=\"\",\"\",IF(Table18[[#This Row],[Lent]]=\"\",0,1))","v":""},{"$f":"IF(Table18[[#This Row],[Lent]]=\"\",\"\",IF(Table18[[#This Row],[Returned]]=\"\",0,1))","v":""}]
[{"$nulls":11},{"$f":"IF(IF(Table18[[#This Row],[Disposition]]=\"Retired\",\"N/A\",IF(Table18[[#This Row],[Disposition]]=0,\"\",K156+$F$2))=0+$F$2,\"NEVER CALIBRATED\",IF(Table18[[#This Row],[Disposition]]=\"Retired\",\"N/A\",IF(Table18[[#This Row],[Disposition]]=0,\"\",K156+$F$2)))","v":""},{"$f":"IF(Table18[[#This Row],[Disposition]]=\"\",\"\",IF(AND(Table18[[#This Row],[Next Calibration]]<$E$1,Table18[[#This Row],[Disposition]]=\"Lost\"),\"Find and Calibrate\",IF(Table18[[#This Row],[Disposition]]=\"Lost\",\"Find\",IF(OR(Table18[[#This Row],[Next Calibration]]<$E$1,Table18[[#This Row],[Next Calibration]]=\"NEVER CALIBRATED\"),\"Calibrate\",\"Nominal\"))))","v":""},{"$f":"IF(((Table18[[#This Row],[Next Calibration]]-TODAY())/30)>2,\"More Than 2\",IF(((Table18[[#This Row],[Next Calibration]]-TODAY())/30)>1,\"Between 2 and 1\",\"Less than 1\"))","v":{"$error":"#VALUE!"}},{"$f":"IF(Table18[[#This Row],[Issued]]=\"\",\"\",IF(Table18[[#This Row],[Lent]]=\"\",0,1))","v":""},{"$f":"IF(Table18[[#This Row],[Lent]]=\"\",\"\",IF(Table18[[#This Row],[Returned]]=\"\",0,1))","v":""}]
[{"$nulls":11},{"$f":"IF(IF(Table18[[#This Row],[Disposition]]=\"Retired\",\"N/A\",IF(Table18[[#This Row],[Disposition]]=0,\"\",K157+$F$2))=0+$F$2,\"NEVER CALIBRATED\",IF(Table18[[#This Row],[Disposition]]=\"Retired\",\"N/A\",IF(Table18[[#This Row],[Disposition]]=0,\"\",K157+$F$2)))","v":""},{"$f":"IF(Table18[[#This Row],[Disposition]]=\"\",\"\",IF(AND(Table18[[#This Row],[Next Calibration]]<$E$1,Table18[[#This Row],[Disposition]]=\"Lost\"),\"Find and Calibrate\",IF(Table18[[#This Row],[Disposition]]=\"Lost\",\"Find\",IF(OR(Table18[[#This Row],[Next Calibration]]<$E$1,Table18[[#This Row],[Next Calibration]]=\"NEVER CALIBRATED\"),\"Calibrate\",\"Nominal\"))))","v":""},{"$f":"IF(((Table18[[#This Row],[Next Calibration]]-TODAY())/30)>2,\"More Than 2\",IF(((Table18[[#This Row],[Next Calibration]]-TODAY())/30)>1,\"Between 2 and 1\",\"Less than 1\"))","v":{"$error":"#VALUE!"}},{"$f":"IF(Table18[[#This Row],[Issued]]=\"\",\"\",IF(Table18[[#This Row],[Lent]]=\"\",0,1))","v":""},{"$f":"IF(Table18[[#This Row],[Lent]]=\"\",\"\",IF(Table18[[#This Row],[Returned]]=\"\",0,1))","v":""}]
[{"$nulls":11},{"$f":"IF(IF(Table18[[#This Row],[Disposition]]=\"Retired\",\"N/A\",IF(Table18[[#This Row],[Disposition]]=0,\"\",K158+$F$2))=0+$F$2,\"NEVER CALIBRATED\",IF(Table18[[#This Row],[Disposition]]=\"Retired\",\"N/A\",IF(Table18[[#This Row],[Disposition]]=0,\"\",K158+$F$2)))","v":""},{"$f":"IF(Table18[[#This Row],[Disposition]]=\"\",\"\",IF(AND(Table18[[#This Row],[Next Calibration]]<$E$1,Table18[[#This Row],[Disposition]]=\"Lost\"),\"Find and Calibrate\",IF(Table18[[#This Row],[Disposition]]=\"Lost\",\"Find\",IF(OR(Table18[[#This Row],[Next Calibration]]<$E$1,Table18[[#This Row],[Next Calibration]]=\"NEVER CALIBRATED\"),\"Calibrate\",\"Nominal\"))))","v":""},{"$f":"IF(((Table18[[#This Row],[Next Calibration]]-TODAY())/30)>2,\"More Than 2\",IF(((Table18[[#This Row],[Next Calibration]]-TODAY())/30)>1,\"Between 2 and 1\",\"Less than 1\"))","v":{"$error":"#VALUE!"}},{"$f":"IF(Table18[[#This Row],[Issued]]=\"\",\"\",IF(Table18[[#This Row],[Lent]]=\"\",0,1))","v":""},{"$f":"IF(Table18[[#This Row],[Lent]]=\"\",\"\",IF(Table18[[#This Row],[Returned]]=\"\",0,1))","v":""}]
[{"$nulls":11},{"$f":"IF(IF(Table18[[#This Row],[Disposition]]=\"Retired\",\"N/A\",IF(Table18[[#This Row],[Disposition]]=0,\"\",K159+$F$2))=0+$F$2,\"NEVER CALIBRATED\",IF(Table18[[#This Row],[Disposition]]=\"Retired\",\"N/A\",IF(Table18[[#This Row],[Disposition]]=0,\"\",K159+$F$2)))","v":""},{"$f":"IF(Table18[[#This Row],[Disposition]]=\"\",\"\",IF(AND(Table18[[#This Row],[Next Calibration]]<$E$1,Table18[[#This Row],[Disposition]]=\"Lost\"),\"Find and Calibrate\",IF(Table18[[#This Row],[Disposition]]=\"Lost\",\"Find\",IF(OR(Table18[[#This Row],[Next Calibration]]<$E$1,Table18[[#This Row],[Next Calibration]]=\"NEVER CALIBRATED\"),\"Calibrate\",\"Nominal\"))))","v":""},{"$f":"IF(((Table18[[#This Row],[Next Calibration]]-TODAY())/30)>2,\"More Than 2\",IF(((Table18[[#This Row],[Next Calibration]]-TODAY())/30)>1,\"Between 2 and 1\",\"Less than 1\"))","v":{"$error":"#VALUE!"}},{"$f":"IF(Table18[[#This Row],[Issued]]=\"\",\"\",IF(Table18[[#This Row],[Lent]]=\"\",0,1))","v":""},{"$f":"IF(Table18[[#This Row],[Lent]]=\"\",\"\",IF(Table18[[#This Row],[Returned]]=\"\",0,1))","v":""}]
[{"$nulls":11},{"$f":"IF(IF(Table18[[#This Row],[Disposition]]=\"Retired\",\"N/A\",IF(Table18[[#This Row],[Disposition]]=0,\"\",K160+$F$2))=0+$F$2,\"NEVER CALIBRATED\",IF(Table18[[#This Row],[Disposition]]=\"Retired\",\"N/A\",IF(Table18[[#This Row],[Disposition]]=0,\"\",K160+$F$2)))","v":""},{"$f":"IF(Table18[[#This Row],[Disposition]]=\"\",\"\",IF(AND(Table18[[#This Row],[Next Calibration]]<$E$1,Table18[[#This Row],[Disposition]]=\"Lost\"),\"Find and Calibrate\",IF(Table18[[#This Row],[Disposition]]=\"Lost\",\"Find\",IF(OR(Table18[[#This Row],[Next Calibration]]<$E$1,Table18[[#This Row],[Next Calibration]]=\"NEVER CALIBRATED\"),\"Calibrate\",\"Nominal\"))))","v":""},{"$f":"IF(((Table18[[#This Row],[Next Calibration]]-TODAY())/30)>2,\"More Than 2\",IF(((Table18[[#This Row],[Next Calibration]]-TODAY())/30)>1,\"Between 2 and 1\",\"Less than 1\"))","v":{"$error":"#VALUE!"}},{"$f":"IF(Table18[[#This Row],[Issued]]=\"\",\"\",IF(Table18[[#This Row],[Lent]]=\"\",0,1))","v":""},{"$f":"IF(Table18[[#This Row],[Lent]]=\"\",\"\",IF(Table18[[#This Row],[Returned]]=\"\",0,1))","v":""}]
[{"$nulls":11},{"$f":"IF(IF(Table18[[#This Row],[Disposition]]=\"Retired\",\"N/A\",IF(Table18[[#This Row],[Disposition]]=0,\"\",K161+$F$2))=0+$F$2,\"NEVER CALIBRATED\",IF(Table18[[#This Row],[Disposition]]=\"Retired\",\"N/A\",IF(Table18[[#This Row],[Disposition]]=0,\"\",K161+$F$2)))","v":""},{"$f":"IF(Table18[[#This Row],[Disposition]]=\"\",\"\",IF(AND(Table18[[#This Row],[Next Calibration]]<$E$1,Table18[[#This Row],[Disposition]]=\"Lost\"),\"Find and Calibrate\",IF(Table18[[#This Row],[Disposition]]=\"Lost\",\"Find\",IF(OR(Table18[[#This Row],[Next Calibration]]<$E$1,Table18[[#This Row],[Next Calibration]]=\"NEVER CALIBRATED\"),\"Calibrate\",\"Nominal\"))))","v":""},{"$f":"IF(((Table18[[#This Row],[Next Calibration]]-TODAY())/30)>2,\"More Than 2\",IF(((Table18[[#This Row],[Next Calibration]]-TODAY())/30)>1,\"Between 2 and 1\",\"Less than 1\"))","v":{"$error":"#VALUE!"}},{"$f":"IF(Table18[[#This Row],[Issued]]=\"\",\"\",IF(Table18[[#This Row],[Lent]]=\"\",0,1))","v":""},{"$f":"IF(Table18[[#This Row],[Lent]]=\"\",\"\",IF(Table18[[#This Row],[Returned]]=\"\",0,1))","v":""}]
[{"$nulls":11},{"$f":"IF(IF(Table18[[#This Row],[Disposition]]=\"Retired\",\"N/A\",IF(Table18[[#This Row],[Disposition]]=0,\"\",K162+$F$2))=0+$F$2,\"NEVER CALIBRATED\",IF(Table18[[#This Row],[Disposition]]=\"Retired\",\"N/A\",IF(Table18[[#This Row],[Disposition]]=0,\"\",K162+$F$2)))","v":""},{"$f":"IF(Table18[[#This Row],[Disposition]]=\"\",\"\",IF(AND(Table18[[#This Row],[Next Calibration]]<$E$1,Table18[[#This Row],[Disposition]]=\"Lost\"),\"Find and Calibrate\",IF(Table18[[#This Row],[Disposition]]=\"Lost\",\"Find\",IF(OR(Table18[[#This Row],[Next Calibration]]<$E$1,Table18[[#This Row],[Next Calibration]]=\"NEVER CALIBRATED\"),\"Calibrate\",\"Nominal\"))))","v":""},{"$f":"IF(((Table18[[#This Row],[Next Calibration]]-TODAY())/30)>2,\"More Than 2\",IF(((Table18[[#This Row],[Next Calibration]]-TODAY())/30)>1,\"Between 2 and 1\",\"Less than 1\"))","v":{"$error":"#VALUE!"}},{"$f":"IF(Table18[[#This Row],[Issued]]=\"\",\"\",IF(Table18[[#This Row],[Lent]]=\"\",0,1))","v":""},{"$f":"IF(Table18[[#This Row],[Lent]]=\"\",\"\",IF(Table18[[#This Row],[Returned]]=\"\",0,1))","v":""}]
[{"$nulls":11},{"$f":"IF(IF(Table18[[#This Row],[Disposition]]=\"Retired\",\"N/A\",IF(Table18[[#This Row],[Disposition]]=0,\"\",K163+$F$2))=0+$F$2,\"NEVER CALIBRATED\",IF(Table18[[#This Row],[Disposition]]=\"Retired\",\"N/A\",IF(Table18[[#This Row],[Disposition]]=0,\"\",K163+$F$2)))","v":""},{"$f":"IF(Table18[[#This Row],[Disposition]]=\"\",\"\",IF(AND(Table18[[#This Row],[Next Calibration]]<$E$1,Table18[[#This Row],[Disposition]]=\"Lost\"),\"Find and Calibrate\",IF(Table18[[#This Row],[Disposition]]=\"Lost\",\"Find\",IF(OR(Table18[[#This Row],[Next Calibration]]<$E$1,Table18[[#This Row],[Next Calibration]]=\"NEVER CALIBRATED\"),\"Calibrate\",\"Nominal\"))))","v":""},{"$f":"IF(((Table18[[#This Row],[Next Calibration]]-TODAY())/30)>2,\"More Than 2\",IF(((Table18[[#This Row],[Next Calibration]]-TODAY())/30)>1,\"Between 2 and 1\",\"Less than 1\"))","v":{"$error":"#VALUE!"}},{"$f":"IF(Table18[[#This Row],[Issued]]=\"\",\"\",IF(Table18[[#This Row],[Lent]]=\"\",0,1))","v":""},{"$f":"IF(Table18[[#This Row],[Lent]]=\"\",\"\",IF(Table18[[#This Row],[Returned]]=\"\",0,1))","v":""}]
[{"$nulls":11},{"$f":"IF(IF(Table18[[#This Row],[Disposition]]=\"Retired\",\"N/A\",IF(Table18[[#This Row],[Disposition]]=0,\"\",K164+$F$2))=0+$F$2,\"NEVER CALIBRATED\",IF(Table18[[#This Row],[Disposition]]=\"Retired\",\"N/A\",IF(Table18[[#This Row],[Disposition]]=0,\"\",K164+$F$2)))","v":""},{"$f":"IF(Table18[[#This Row],[Disposition]]=\"\",\"\",IF(AND(Table18[[#This Row],[Next Calibration]]<$E$1,Table18[[#This Row],[Disposition]]=\"Lost\"),\"Find and Calibrate\",IF(Table18[[#This Row],[Disposition]]=\"Lost\",\"Find\",IF(OR(Table18[[#This Row],[Next Calibration]]<$E$1,Table18[[#This Row],[Next Calibration]]=\"NEVER CALIBRATED\"),\"Calibrate\",\"Nominal\"))))","v":""},{"$f":"IF(((Table18[[#This Row],[Next Calibration]]-TODAY())/30)>2,\"More Than 2\",IF(((Table18[[#This Row],[Next Calibration]]-TODAY())/30)>1,\"Between 2 and 1\",\"Less than 1\"))","v":{"$error":"#VALUE!"}},{"$f":"IF(Table18[[#This Row],[Issued]]=\"\",\"\",IF(Table18[[#This Row],[Lent]]=\"\",0,1))","v":""},{"$f":"IF(Table18[[#This Row],[Lent]]=\"\",\"\",IF(Table18[[#This Row],[Returned]]=\"\",0,1))","v":""}]
[{"$nulls":11},{"$f":"IF(IF(Table18[[#This Row],[Disposition]]=\"Retired\",\"N/A\",IF(Table18[[#This Row],[Disposition]]=0,\"\",K165+$F$2))=0+$F$2,\"NEVER CALIBRATED\",IF(Table18[[#This Row],[Disposition]]=\"Retired\",\"N/A\",IF(Table18[[#This Row],[Disposition]]=0,\"\",K165+$F$2)))","v":""},{"$f":"IF(Table18[[#This Row],[Disposition]]=\"\",\"\",IF(AND(Table18[[#This Row],[Next Calibration]]<$E$1,Table18[[#This Row],[Disposition]]=\"Lost\"),\"Find and Calibrate\",IF(Table18[[#This Row],[Disposition]]=\"Lost\",\"Find\",IF(OR(Table18[[#This Row],[Next Calibration]]<$E$1,Table18[[#This Row],[Next Calibration]]=\"NEVER CALIBRATED\"),\"Calibrate\",\"Nominal\"))))","v":""},{"$f":"IF(((Table18[[#This Row],[Next Calibration]]-TODAY())/30)>2,\"More Than 2\",IF(((Table18[[#This Row],[Next Calibration]]-TODAY())/30)>1,\"Between 2 and 1\",\"Less than 1\"))","v":{"$error":"#VALUE!"}},{"$f":"IF(Table18[[#This Row],[Issued]]=\"\",\"\",IF(Table18[[#This Row],[Lent]]=\"\",0,1))","v":""},{"$f":"IF(Table18[[#This Row],[Lent]]=\"\",\"\",IF(Table18[[#This Row],[Returned]]=\"\",0,1))","v":""}]
[{"$nulls":11},{"$f":"IF(IF(Table18[[#This Row],[Disposition]]=\"Retired\",\"N/A\",IF(Table18[[#This Row],[Disposition]]=0,\"\",K166+$F$2))=0+$F$2,\"NEVER CALIBRATED\",IF(Table18[[#This Row],[Disposition]]=\"Retired\",\"N/A\",IF(Table18[[#This Row],[Disposition]]=0,\"\",K166+$F$2)))","v":""},{"$f":"IF(Table18[[#This Row],[Disposition]]=\"\",\"\",IF(AND(Table18[[#This Row],[Next Calibration]]<$E$1,Table18[[#This Row],[Disposition]]=\"Lost\"),\"Find and Calibrate\",IF(Table18[[#This Row],[Disposition]]=\"Lost\",\"Find\",IF(OR(Table18[[#This Row],[Next Calibration]]<$E$1,Table18[[#This Row],[Next Calibration]]=\"NEVER CALIBRATED\"),\"Calibrate\",\"Nominal\"))))","v":""},{"$f":"IF(((Table18[[#This Row],[Next Calibration]]-TODAY())/30)>2,\"More Than 2\",IF(((Table18[[#This Row],[Next Calibration]]-TODAY())/30)>1,\"Between 2 and 1\",\"Less than 1\"))","v":{"$error":"#VALUE!"}},{"$f":"IF(Table18[[#This Row],[Issued]]=\"\",\"\",IF(Table18[[#This Row],[Lent]]=\"\",0,1))","v":""},{"$f":"IF(Table18[[#This Row],[Lent]]=\"\",\"\",IF(Table18[[#This Row],[Returned]]=\"\",0,1))","v":""}]
[{"$nulls":11},{"$f":"IF(IF(Table18[[#This Row],[Disposition]]=\"Retired\",\"N/A\",IF(Table18[[#This Row],[Disposition]]=0,\"\",K167+$F$2))=0+$F$2,\"NEVER CALIBRATED\",IF(Table18[[#This Row],[Disposition]]=\"Retired\",\"N/A\",IF(Table18[[#This Row],[Disposition]]=0,\"\",K167+$F$2)))","v":""},{"$f":"IF(Table18[[#This Row],[Disposition]]=\"\",\"\",IF(AND(Table18[[#This Row],[Next Calibration]]<$E$1,Table18[[#This Row],[Disposition]]=\"Lost\"),\"Find and Calibrate\",IF(Table18[[#This Row],[Disposition]]=\"Lost\",\"Find\",IF(OR(Table18[[#This Row],[Next Calibration]]<$E$1,Table18[[#This Row],[Next Calibration]]=\"NEVER CALIBRATED\"),\"Calibrate\",\"Nominal\"))))","v":""},{"$f":"IF(((Table18[[#This Row],[Next Calibration]]-TODAY())/30)>2,\"More Than 2\",IF(((Table18[[#This Row],[Next Calibration]]-TODAY())/30)>1,\"Between 2 and 1\",\"Less than 1\"))","v":{"$error":"#VALUE!"}},{"$f":"IF(Table18[[#This Row],[Issued]]=\"\",\"\",IF(Table18[[#This Row],[Lent]]=\"\",0,1))","v":""},{"$f":"IF(Table18[[#This Row],[Lent]]=\"\",\"\",IF(Table18[[#This Row],[Returned]]=\"\",0,1))","v":""}]
[{"$nulls":11},{"$f":"IF(IF(Table18[[#This Row],[Disposition]]=\"Retired\",\"N/A\",IF(Table18[[#This Row],[Disposition]]=0,\"\",K168+$F$2))=0+$F$2,\"NEVER CALIBRATED\",IF(Table18[[#This Row],[Disposition]]=\"Retired\",\"N/A\",IF(Table18[[#This Row],[Disposition]]=0,\"\",K168+$F$2)))","v":""},{"$f":"IF(Table18[[#This Row],[Disposition]]=\"\",\"\",IF(AND(Table18[[#This Row],[Next Calibration]]<$E$1,Table18[[#This Row],[Disposition]]=\"Lost\"),\"Find and Calibrate\",IF(Table18[[#This Row],[Disposition]]=\"Lost\",\"Find\",IF(OR(Table18[[#This Row],[Next Calibration]]<$E$1,Table18[[#This Row],[Next Calibration]]=\"NEVER CALIBRATED\"),\"Calibrate\",\"Nominal\"))))","v":""},{"$f":"IF(((Table18[[#This Row],[Next Calibration]]-TODAY())/30)>2,\"More Than 2\",IF(((Table18[[#This Row],[Next Calibration]]-TODAY())/30)>1,\"Between 2 and 1\",\"Less than 1\"))","v":{"$error":"#VALUE!"}},{"$f":"IF(Table18[[#This Row],[Issued]]=\"\",\"\",IF(Table18[[#This Row],[Lent]]=\"\",0,1))","v":""},{"$f":"IF(Table18[[#This Row],[Lent]]=\"\",\"\",IF(Table18[[#This Row],[Returned]]=\"\",0,1))","v":""}]
[{"$nulls":11},{"$f":"IF(IF(Table18[[#This Row],[Disposition]]=\"Retired\",\"N/A\",IF(Table18[[#This Row],[Disposition]]=0,\"\",K169+$F$2))=0+$F$2,\"NEVER CALIBRATED\",IF(Table18[[#This Row],[Disposition]]=\"Retired\",\"N/A\",IF(Table18[[#This Row],[Disposition]]=0,\"\",K169+$F$2)))","v":""},{"$f":"IF(Table18[[#This Row],[Disposition]]=\"\",\"\",IF(AND(Table18[[#This Row],[Next Calibration]]<$E$1,Table18[[#This Row],[Disposition]]=\"Lost\"),\"Find and Calibrate\",IF(Table18[[#This Row],[Disposition]]=\"Lost\",\"Find\",IF(OR(Table18[[#This Row],[Next Calibration]]<$E$1,Table18[[#This Row],[Next Calibration]]=\"NEVER CALIBRATED\"),\"Calibrate\",\"Nominal\"))))","v":""},{"$f":"IF(((Table18[[#This Row],[Next Calibration]]-TODAY())/30)>2,\"More Than 2\",IF(((Table18[[#This Row],[Next Calibration]]-TODAY())/30)>1,\"Between 2 and 1\",\"Less than 1\"))","v":{"$error":"#VALUE!"}},{"$f":"IF(Table18[[#This Row],[Issued]]=\"\",\"\",IF(Table18[[#This Row],[Lent]]=\"\",0,1))","v":""},{"$f":"IF(Table18[[#This Row],[Lent]]=\"\",\"\",IF(Table18[[#This Row],[Returned]]=\"\",0,1))","v":""}]
[{"$nulls":11},{"$f":"IF(IF(Table18[[#This Row],[Disposition]]=\"Retired\",\"N/A\",IF(Table18[[#This Row],[Disposition]]=0,\"\",K170+$F$2))=0+$F$2,\"NEVER CALIBRATED\",IF(Table18[[#This Row],[Disposition]]=\"Retired\",\"N/A\",IF(Table18[[#This Row],[Disposition]]=0,\"\",K170+$F$2)))","v":""},{"$f":"IF(Table18[[#This Row],[Disposition]]=\"\",\"\",IF(AND(Table18[[#This Row],[Next Calibration]]<$E$1,Table18[[#This Row],[Disposition]]=\"Lost\"),\"Find and Calibrate\",IF(Table18[[#This Row],[Disposition]]=\"Lost\",\"Find\",IF(OR(Table18[[#This Row],[Next Calibration]]<$E$1,Table18[[#This Row],[Next Calibration]]=\"NEVER CALIBRATED\"),\"Calibrate\",\"Nominal\"))))","v":""},{"$f":"IF(((Table18[[#This Row],[Next Calibration]]-TODAY())/30)>2,\"More Than 2\",IF(((Table18[[#This Row],[Next Calibration]]-TODAY())/30)>1,\"Between 2 and 1\",\"Less than 1\"))","v":{"$error":"#VALUE!"}},{"$f":"IF(Table18[[#This Row],[Issued]]=\"\",\"\",IF(Table18[[#This Row],[Lent]]=\"\",0,1))","v":""},{"$f":"IF(Table18[[#This Row],[Lent]]=\"\",\"\",IF(Table18[[#This Row],[Returned]]=\"\",0,1))","v":""}]
[{"$nulls":11},{"$f":"IF(IF(Table18[[#This Row],[Disposition]]=\"Retired\",\"N/A\",IF(Table18[[#This Row],[Disposition]]=0,\"\",K171+$F$2))=0+$F$2,\"NEVER CALIBRATED\",IF(Table18[[#This Row],[Disposition]]=\"Retired\",\"N/A\",IF(Table18[[#This Row],[Disposition]]=0,\"\",K171+$F$2)))","v":""},{"$f":"IF(Table18[[#This Row],[Disposition]]=\"\",\"\",IF(AND(Table18[[#This Row],[Next Calibration]]<$E$1,Table18[[#This Row],[Disposition]]=\"Lost\"),\"Find and Calibrate\",IF(Table18[[#This Row],[Disposition]]=\"Lost\",\"Find\",IF(OR(Table18[[#This Row],[Next Calibration]]<$E$1,Table18[[#This Row],[Next Calibration]]=\"NEVER CALIBRATED\"),\"Calibrate\",\"Nominal\"))))","v":""},{"$f":"IF(((Table18[[#This Row],[Next Calibration]]-TODAY())/30)>2,\"More Than 2\",IF(((Table18[[#This Row],[Next Calibration]]-TODAY())/30)>1,\"Between 2 and 1\",\"Less than 1\"))","v":{"$error":"#VALUE!"}},{"$f":"IF(Table18[[#This Row],[Issued]]=\"\",\"\",IF(Table18[[#This Row],[Lent]]=\"\",0,1))","v":""},{"$f":"IF(Table18[[#This Row],[Lent]]=\"\",\"\",IF(Table18[[#This Row],[Returned]]=\"\",0,1))","v":""}]
[{"$nulls":11},{"$f":"IF(IF(Table18[[#This Row],[Disposition]]=\"Retired\",\"N/A\",IF(Table18[[#This Row],[Disposition]]=0,\"\",K172+$F$2))=0+$F$2,\"NEVER CALIBRATED\",IF(Table18[[#This Row],[Disposition]]=\"Retired\",\"N/A\",IF(Table18[[#This Row],[Disposition]]=0,\"\",K172+$F$2)))","v":""},{"$f":"IF(Table18[[#This Row],[Disposition]]=\"\",\"\",IF(AND(Table18[[#This Row],[Next Calibration]]<$E$1,Table18[[#This Row],[Disposition]]=\"Lost\"),\"Find and Calibrate\",IF(Table18[[#This Row],[Disposition]]=\"Lost\",\"Find\",IF(OR(Table18[[#This Row],[Next Calibration]]<$E$1,Table18[[#This Row],[Next Calibration]]=\"NEVER CALIBRATED\"),\"Calibrate\",\"Nominal\"))))","v":""},{"$f":"IF(((Table18[[#This Row],[Next Calibration]]-TODAY())/30)>2,\"More Than 2\",IF(((Table18[[#This Row],[Next Calibration]]-TODAY())/30)>1,\"Between 2 and 1\",\"Less than 1\"))","v":{"$error":"#VALUE!"}},{"$f":"IF(Table18[[#This Row],[Issued]]=\"\",\"\",IF(Table18[[#This Row],[Lent]]=\"\",0,1))","v":""},{"$f":"IF(Table18[[#This Row],[Lent]]=\"\",\"\",IF(Table18[[#This Row],[Returned]]=\"\",0,1))","v":""}]
[{"$nulls":11},{"$f":"IF(IF(Table18[[#This Row],[Disposition]]=\"Retired\",\"N/A\",IF(Table18[[#This Row],[Disposition]]=0,\"\",K173+$F$2))=0+$F$2,\"NEVER CALIBRATED\",IF(Table18[[#This Row],[Disposition]]=\"Retired\",\"N/A\",IF(Table18[[#This Row],[Disposition]]=0,\"\",K173+$F$2)))","v":""},{"$f":"IF(Table18[[#This Row],[Disposition]]=\"\",\"\",IF(AND(Table18[[#This Row],[Next Calibration]]<$E$1,Table18[[#This Row],[Disposition]]=\"Lost\"),\"Find and Calibrate\",IF(Table18[[#This Row],[Disposition]]=\"Lost\",\"Find\",IF(OR(Table18[[#This Row],[Next Calibration]]<$E$1,Table18[[#This Row],[Next Calibration]]=\"NEVER CALIBRATED\"),\"Calibrate\",\"Nominal\"))))","v":""},{"$f":"IF(((Table18[[#This Row],[Next Calibration]]-TODAY())/30)>2,\"More Than 2\",IF(((Table18[[#This Row],[Next Calibration]]-TODAY())/30)>1,\"Between 2 and 1\",\"Less than 1\"))","v":{"$error":"#VALUE!"}},{"$f":"IF(Table18[[#This Row],[Issued]]=\"\",\"\",IF(Table18[[#This Row],[Lent]]=\"\",0,1))","v":""},{"$f":"IF(Table18[[#This Row],[Lent]]=\"\",\"\",IF(Table18[[#This Row],[Returned]]=\"\",0,1))","v":""}]
[{"$nulls":11},{"$f":"IF(IF(Table18[[#This Row],[Disposition]]=\"Retired\",\"N/A\",IF(Table18[[#This Row],[Disposition]]=0,\"\",K174+$F$2))=0+$F$2,\"NEVER CALIBRATED\",IF(Table18[[#This Row],[Disposition]]=\"Retired\",\"N/A\",IF(Table18[[#This Row],[Disposition]]=0,\"\",K174+$F$2)))","v":""},{"$f":"IF(Table18[[#This Row],[Disposition]]=\"\",\"\",IF(AND(Table18[[#This Row],[Next Calibration]]<$E$1,Table18[[#This Row],[Disposition]]=\"Lost\"),\"Find and Calibrate\",IF(Table18[[#This Row],[Disposition]]=\"Lost\",\"Find\",IF(OR(Table18[[#This Row],[Next Calibration]]<$E$1,Table18[[#This Row],[Next Calibration]]=\"NEVER CALIBRATED\"),\"Calibrate\",\"Nominal\"))))","v":""},{"$f":"IF(((Table18[[#This Row],[Next Calibration]]-TODAY())/30)>2,\"More Than 2\",IF(((Table18[[#This Row],[Next Calibration]]-TODAY())/30)>1,\"Between 2 and 1\",\"Less than 1\"))","v":{"$error":"#VALUE!"}},{"$f":"IF(Table18[[#This Row],[Issued]]=\"\",\"\",IF(Table18[[#This Row],[Lent]]=\"\",0,1))","v":""},{"$f":"IF(Table18[[#This Row],[Lent]]=\"\",\"\",IF(Table18[[#This Row],[Returned]]=\"\",0,1))","v":""}]
[{"$nulls":11},{"$f":"IF(IF(Table18[[#This Row],[Disposition]]=\"Retired\",\"N/A\",IF(Table18[[#This Row],[Disposition]]=0,\"\",K175+$F$2))=0+$F$2,\"NEVER CALIBRATED\",IF(Table18[[#This Row],[Disposition]]=\"Retired\",\"N/A\",IF(Table18[[#This Row],[Disposition]]=0,\"\",K175+$F$2)))","v":""},{"$f":"IF(Table18[[#This Row],[Disposition]]=\"\",\"\",IF(AND(Table18[[#This Row],[Next Calibration]]<$E$1,Table18[[#This Row],[Disposition]]=\"Lost\"),\"Find and Calibrate\",IF(Table18[[#This Row],[Disposition]]=\"Lost\",\"Find\",IF(OR(Table18[[#This Row],[Next Calibration]]<$E$1,Table18[[#This Row],[Next Calibration]]=\"NEVER CALIBRATED\"),\"Calibrate\",\"Nominal\"))))","v":""},{"$f":"IF(((Table18[[#This Row],[Next Calibration]]-TODAY())/30)>2,\"More Than 2\",IF(((Table18[[#This Row],[Next Calibration]]-TODAY())/30)>1,\"Between 2 and 1\",\"Less than 1\"))","v":{"$error":"#VALUE!"}},{"$f":"IF(Table18[[#This Row],[Issued]]=\"\",\"\",IF(Table18[[#This Row],[Lent]]=\"\",0,1))","v":""},{"$f":"IF(Table18[[#This Row],[Lent]]=\"\",\"\",IF(Table18[[#This Row],[Returned]]=\"\",0,1))","v":""}]
[{"$nulls":11},{"$f":"IF(IF(Table18[[#This Row],[Disposition]]=\"Retired\",\"N/A\",IF(Table18[[#This Row],[Disposition]]=0,\"\",K176+$F$2))=0+$F$2,\"NEVER CALIBRATED\",IF(Table18[[#This Row],[Disposition]]=\"Retired\",\"N/A\",IF(Table18[[#This Row],[Disposition]]=0,\"\",K176+$F$2)))","v":""},{"$f":"IF(Table18[[#This Row],[Disposition]]=\"\",\"\",IF(AND(Table18[[#This Row],[Next Calibration]]<$E$1,Table18[[#This Row],[Disposition]]=\"Lost\"),\"Find and Calibrate\",IF(Table18[[#This Row],[Disposition]]=\"Lost\",\"Find\",IF(OR(Table18[[#This Row],[Next Calibration]]<$E$1,Table18[[#This Row],[Next Calibration]]=\"NEVER CALIBRATED\"),\"Calibrate\",\"Nominal\"))))","v":""},{"$f":"IF(((Table18[[#This Row],[Next Calibration]]-TODAY())/30)>2,\"More Than 2\",IF(((Table18[[#This Row],[Next Calibration]]-TODAY())/30)>1,\"Between 2 and 1\",\"Less than 1\"))","v":{"$error":"#VALUE!"}},{"$f":"IF(Table18[[#This Row],[Issued]]=\"\",\"\",IF(Table18[[#This Row],[Lent]]=\"\",0,1))","v":""},{"$f":"IF(Table18[[#This Row],[Lent]]=\"\",\"\",IF(Table18[[#This Row],[Returned]]=\"\",0,1))","v":""}]
[{"$nulls":11},{"$f":"IF(IF(Table18[[#This Row],[Disposition]]=\"Retired\",\"N/A\",IF(Table18[[#This Row],[Disposition]]=0,\"\",K177+$F$2))=0+$F$2,\"NEVER CALIBRATED\",IF(Table18[[#This Row],[Disposition]]=\"Retired\",\"N/A\",IF(Table18[[#This Row],[Disposition]]=0,\"\",K177+$F$2)))","v":""},{"$f":"IF(Table18[[#This Row],[Disposition]]=\"\",\"\",IF(AND(Table18[[#This Row],[Next Calibration]]<$E$1,Table18[[#This Row],[Disposition]]=\"Lost\"),\"Find and Calibrate\",IF(Table18[[#This Row],[Disposition]]=\"Lost\",\"Find\",IF(OR(Table18[[#This Row],[Next Calibration]]<$E$1,Table18[[#This Row],[Next Calibration]]=\"NEVER CALIBRATED\"),\"Calibrate\",\"Nominal\"))))","v":""},{"$f":"IF(((Table18[[#This Row],[Next Calibration]]-TODAY())/30)>2,\"More Than 2\",IF(((Table18[[#This Row],[Next Calibration]]-TODAY())/30)>1,\"Between 2 and 1\",\"Less than 1\"))","v":{"$error":"#VALUE!"}},{"$f":"IF(Table18[[#This Row],[Issued]]=\"\",\"\",IF(Table18[[#This Row],[Lent]]=\"\",0,1))","v":""},{"$f":"IF(Table18[[#This Row],[Lent]]=\"\",\"\",IF(Table18[[#This Row],[Returned]]=\"\",0,1))","v":""}]
[{"$nulls":11},{"$f":"IF(IF(Table18[[#This Row],[Disposition]]=\"Retired\",\"N/A\",IF(Table18[[#This Row],[Disposition]]=0,\"\",K178+$F$2))=0+$F$2,\"NEVER CALIBRATED\",IF(Table18[[#This Row],[Disposition]]=\"Retired\",\"N/A\",IF(Table18[[#This Row],[Disposition]]=0,\"\",K178+$F$2)))","v":""},{"$f":"IF(Table18[[#This Row],[Disposition]]=\"\",\"\",IF(AND(Table18[[#This Row],[Next Calibration]]<$E$1,Table18[[#This Row],[Disposition]]=\"Lost\"),\"Find and Calibrate\",IF(Table18[[#This Row],[Disposition]]=\"Lost\",\"Find\",IF(OR(Table18[[#This Row],[Next Calibration]]<$E$1,Table18[[#This Row],[Next Calibration]]=\"NEVER CALIBRATED\"),\"Calibrate\",\"Nominal\"))))","v":""},{"$f":"IF(((Table18[[#This Row],[Next Calibration]]-TODAY())/30)>2,\"More Than 2\",IF(((Table18[[#This Row],[Next Calibration]]-TODAY())/30)>1,\"Between 2 and 1\",\"Less than 1\"))","v":{"$error":"#VALUE!"}},{"$f":"IF(Table18[[#This Row],[Issued]]=\"\",\"\",IF(Table18[[#This Row],[Lent]]=\"\",0,1))","v":""},{"$f":"IF(Table18[[#This Row],[Lent]]=\"\",\"\",IF(Table18[[#This Row],[Returned]]=\"\",0,1))","v":""}]
[{"$nulls":11},{"$f":"IF(IF(Table18[[#This Row],[Disposition]]=\"Retired\",\"N/A\",IF(Table18[[#This Row],[Disposition]]=0,\"\",K179+$F$2))=0+$F$2,\"NEVER CALIBRATED\",IF(Table18[[#This Row],[Disposition]]=\"Retired\",\"N/A\",IF(Table18[[#This Row],[Disposition]]=0,\"\",K179+$F$2)))","v":""},{"$f":"IF(Table18[[#This Row],[Disposition]]=\"\",\"\",IF(AND(Table18[[#This Row],[Next Calibration]]<$E$1,Table18[[#This Row],[Disposition]]=\"Lost\"),\"Find and Calibrate\",IF(Table18[[#This Row],[Disposition]]=\"Lost\",\"Find\",IF(OR(Table18[[#This Row],[Next Calibration]]<$E$1,Table18[[#This Row],[Next Calibration]]=\"NEVER CALIBRATED\"),\"Calibrate\",\"Nominal\"))))","v":""},{"$f":"IF(((Table18[[#This Row],[Next Calibration]]-TODAY())/30)>2,\"More Than 2\",IF(((Table18[[#This Row],[Next Calibration]]-TODAY())/30)>1,\"Between 2 and 1\",\"Less than 1\"))","v":{"$error":"#VALUE!"}},{"$f":"IF(Table18[[#This Row],[Issued]]=\"\",\"\",IF(Table18[[#This Row],[Lent]]=\"\",0,1))","v":""},{"$f":"IF(Table18[[#This Row],[Lent]]=\"\",\"\",IF(Table18[[#This Row],[Returned]]=\"\",0,1))","v":""}]
[{"$nulls":11},{"$f":"IF(IF(Table18[[#This Row],[Disposition]]=\"Retired\",\"N/A\",IF(Table18[[#This Row],[Disposition]]=0,\"\",K180+$F$2))=0+$F$2,\"NEVER CALIBRATED\",IF(Table18[[#This Row],[Disposition]]=\"Retired\",\"N/A\",IF(Table18[[#This Row],[Disposition]]=0,\"\",K180+$F$2)))","v":""},{"$f":"IF(Table18[[#This Row],[Disposition]]=\"\",\"\",IF(AND(Table18[[#This Row],[Next Calibration]]<$E$1,Table18[[#This Row],[Disposition]]=\"Lost\"),\"Find and Calibrate\",IF(Table18[[#This Row],[Disposition]]=\"Lost\",\"Find\",IF(OR(Table18[[#This Row],[Next Calibration]]<$E$1,Table18[[#This Row],[Next Calibration]]=\"NEVER CALIBRATED\"),\"Calibrate\",\"Nominal\"))))","v":""},{"$f":"IF(((Table18[[#This Row],[Next Calibration]]-TODAY())/30)>2,\"More Than 2\",IF(((Table18[[#This Row],[Next Calibration]]-TODAY())/30)>1,\"Between 2 and 1\",\"Less than 1\"))","v":{"$error":"#VALUE!"}},{"$f":"IF(Table18[[#This Row],[Issued]]=\"\",\"\",IF(Table18[[#This Row],[Lent]]=\"\",0,1))","v":""},{"$f":"IF(Table18[[#This Row],[Lent]]=\"\",\"\",IF(Table18[[#This Row],[Returned]]=\"\",0,1))","v":""}]
[{"$nulls":11},{"$f":"IF(IF(Table18[[#This Row],[Disposition]]=\"Retired\",\"N/A\",IF(Table18[[#This Row],[Disposition]]=0,\"\",K181+$F$2))=0+$F$2,\"NEVER CALIBRATED\",IF(Table18[[#This Row],[Disposition]]=\"Retired\",\"N/A\",IF(Table18[[#This Row],[Disposition]]=0,\"\",K181+$F$2)))","v":""},{"$f":"IF(Table18[[#This Row],[Disposition]]=\"\",\"\",IF(AND(Table18[[#This Row],[Next Calibration]]<$E$1,Table18[[#This Row],[Disposition]]=\"Lost\"),\"Find and Calibrate\",IF(Table18[[#This Row],[Disposition]]=\"Lost\",\"Find\",IF(OR(Table18[[#This Row],[Next Calibration]]<$E$1,Table18[[#This Row],[Next Calibration]]=\"NEVER CALIBRATED\"),\"Calibrate\",\"Nominal\"))))","v":""},{"$f":"IF(((Table18[[#This Row],[Next Calibration]]-TODAY())/30)>2,\"More Than 2\",IF(((Table18[[#This Row],[Next Calibration]]-TODAY())/30)>1,\"Between 2 and 1\",\"Less than 1\"))","v":{"$error":"#VALUE!"}},{"$f":"IF(Table18[[#This Row],[Issued]]=\"\",\"\",IF(Table18[[#This Row],[Lent]]=\"\",0,1))","v":""},{"$f":"IF(Table18[[#This Row],[Lent]]=\"\",\"\",IF(Table18[[#This Row],[Returned]]=\"\",0,1))","v":""}]
[{"$nulls":11},{"$f":"IF(IF(Table18[[#This Row],[Disposition]]=\"Retired\",\"N/A\",IF(Table18[[#This Row],[Disposition]]=0,\"\",K182+$F$2))=0+$F$2,\"NEVER CALIBRATED\",IF(Table18[[#This Row],[Disposition]]=\"Retired\",\"N/A\",IF(Table18[[#This Row],[Disposition]]=0,\"\",K182+$F$2)))","v":""},{"$f":"IF(Table18[[#This Row],[Disposition]]=\"\",\"\",IF(AND(Table18[[#This Row],[Next Calibration]]<$E$1,Table18[[#This Row],[Disposition]]=\"Lost\"),\"Find and Calibrate\",IF(Table18[[#This Row],[Disposition]]=\"Lost\",\"Find\",IF(OR(Table18[[#This Row],[Next Calibration]]<$E$1,Table18[[#This Row],[Next Calibration]]=\"NEVER CALIBRATED\"),\"Calibrate\",\"Nominal\"))))","v":""},{"$f":"IF(((Table18[[#This Row],[Next Calibration]]-TODAY())/30)>2,\"More Than 2\",IF(((Table18[[#This Row],[Next Calibration]]-TODAY())/30)>1,\"Between 2 and 1\",\"Less than 1\"))","v":{"$error":"#VALUE!"}},{"$f":"IF(Table18[[#This Row],[Issued]]=\"\",\"\",IF(Table18[[#This Row],[Lent]]=\"\",0,1))","v":""},{"$f":"IF(Table18[[#This Row],[Lent]]=\"\",\"\",IF(Table18[[#This Row],[Returned]]=\"\",0,1))","v":""}]
[{"$nulls":11},{"$f":"IF(IF(Table18[[#This Row],[Disposition]]=\"Retired\",\"N/A\",IF(Table18[[#This Row],[Disposition]]=0,\"\",K183+$F$2))=0+$F$2,\"NEVER CALIBRATED\",IF(Table18[[#This Row],[Disposition]]=\"Retired\",\"N/A\",IF(Table18[[#This Row],[Disposition]]=0,\"\",K183+$F$2)))","v":""},{"$f":"IF(Table18[[#This Row],[Disposition]]=\"\",\"\",IF(AND(Table18[[#This Row],[Next Calibration]]<$E$1,Table18[[#This Row],[Disposition]]=\"Lost\"),\"Find and Calibrate\",IF(Table18[[#This Row],[Disposition]]=\"Lost\",\"Find\",IF(OR(Table18[[#This Row],[Next Calibration]]<$E$1,Table18[[#This Row],[Next Calibration]]=\"NEVER CALIBRATED\"),\"Calibrate\",\"Nominal\"))))","v":""},{"$f":"IF(((Table18[[#This Row],[Next Calibration]]-TODAY())/30)>2,\"More Than 2\",IF(((Table18[[#This Row],[Next Calibration]]-TODAY())/30)>1,\"Between 2 and 1\",\"Less than 1\"))","v":{"$error":"#VALUE!"}},{"$f":"IF(Table18[[#This Row],[Issued]]=\"\",\"\",IF(Table18[[#This Row],[Lent]]=\"\",0,1))","v":""},{"$f":"IF(Table18[[#This Row],[Lent]]=\"\",\"\",IF(Table18[[#This Row],[Returned]]=\"\",0,1))","v":""}]
[{"$nulls":11},{"$f":"IF(IF(Table18[[#This Row],[Disposition]]=\"Retired\",\"N/A\",IF(Table18[[#This Row],[Disposition]]=0,\"\",K184+$F$2))=0+$F$2,\"NEVER CALIBRATED\",IF(Table18[[#This Row],[Disposition]]=\"Retired\",\"N/A\",IF(Table18[[#This Row],[Disposition]]=0,\"\",K184+$F$2)))","v":""},{"$f":"IF(Table18[[#This Row],[Disposition]]=\"\",\"\",IF(AND(Table18[[#This Row],[Next Calibration]]<$E$1,Table18[[#This Row],[Disposition]]=\"Lost\"),\"Find and Calibrate\",IF(Table18[[#This Row],[Disposition]]=\"Lost\",\"Find\",IF(OR(Table18[[#This Row],[Next Calibration]]<$E$1,Table18[[#This Row],[Next Calibration]]=\"NEVER CALIBRATED\"),\"Calibrate\",\"Nominal\"))))","v":""},{"$f":"IF(((Table18[[#This Row],[Next Calibration]]-TODAY())/30)>2,\"More Than 2\",IF(((Table18[[#This Row],[Next Calibration]]-TODAY())/30)>1,\"Between 2 and 1\",\"Less than 1\"))","v":{"$error":"#VALUE!"}},{"$f":"IF(Table18[[#This Row],[Issued]]=\"\",\"\",IF(Table18[[#This Row],[Lent]]=\"\",0,1))","v":""},{"$f":"IF(Table18[[#This Row],[Lent]]=\"\",\"\",IF(Table18[[#This Row],[Returned]]=\"\",0,1))","v":""}]
[{"$nulls":11},{"$f":"IF(IF(Table18[[#This Row],[Disposition]]=\"Retired\",\"N/A\",IF(Table18[[#This Row],[Disposition]]=0,\"\",K185+$F$2))=0+$F$2,\"NEVER CALIBRATED\",IF(Table18[[#This Row],[Disposition]]=\"Retired\",\"N/A\",IF(Table18[[#This Row],[Disposition]]=0,\"\",K185+$F$2)))","v":""},{"$f":"IF(Table18[[#This Row],[Disposition]]=\"\",\"\",IF(AND(Table18[[#This Row],[Next Calibration]]<$E$1,Table18[[#This Row],[Disposition]]=\"Lost\"),\"Find and Calibrate\",IF(Table18[[#This Row],[Disposition]]=\"Lost\",\"Find\",IF(OR(Table18[[#This Row],[Next Calibration]]<$E$1,Table18[[#This Row],[Next Calibration]]=\"NEVER CALIBRATED\"),\"Calibrate\",\"Nominal\"))))","v":""},{"$f":"IF(((Table18[[#This Row],[Next Calibration]]-TODAY())/30)>2,\"More Than 2\",IF(((Table18[[#This Row],[Next Calibration]]-TODAY())/30)>1,\"Between 2 and 1\",\"Less than 1\"))","v":{"$error":"#VALUE!"}},{"$f":"IF(Table18[[#This Row],[Issued]]=\"\",\"\",IF(Table18[[#This Row],[Lent]]=\"\",0,1))","v":""},{"$f":"IF(Table18[[#This Row],[Lent]]=\"\",\"\",IF(Table18[[#This Row],[Returned]]=\"\",0,1))","v":""}]
[{"$nulls":11},{"$f":"IF(IF(Table18[[#This Row],[Disposition]]=\"Retired\",\"N/A\",IF(Table18[[#This Row],[Disposition]]=0,\"\",K186+$F$2))=0+$F$2,\"NEVER CALIBRATED\",IF(Table18[[#This Row],[Disposition]]=\"Retired\",\"N/A\",IF(Table18[[#This Row],[Disposition]]=0,\"\",K186+$F$2)))","v":""},{"$f":"IF(Table18[[#This Row],[Disposition]]=\"\",\"\",IF(AND(Table18[[#This Row],[Next Calibration]]<$E$1,Table18[[#This Row],[Disposition]]=\"Lost\"),\"Find and Calibrate\",IF(Table18[[#This Row],[Disposition]]=\"Lost\",\"Find\",IF(OR(Table18[[#This Row],[Next Calibration]]<$E$1,Table18[[#This Row],[Next Calibration]]=\"NEVER CALIBRATED\"),\"Calibrate\",\"Nominal\"))))","v":""},{"$f":"IF(((Table18[[#This Row],[Next Calibration]]-TODAY())/30)>2,\"More Than 2\",IF(((Table18[[#This Row],[Next Calibration]]-TODAY())/30)>1,\"Between 2 and 1\",\"Less than 1\"))","v":{"$error":"#VALUE!"}},{"$f":"IF(Table18[[#This Row],[Issued]]=\"\",\"\",IF(Table18[[#This Row],[Lent]]=\"\",0,1))","v":""},{"$f":"IF(Table18[[#This Row],[Lent]]=\"\",\"\",IF(Table18[[#This Row],[Returned]]=\"\",0,1))","v":""}]
[{"$nulls":11},{"$f":"IF(IF(Table18[[#This Row],[Disposition]]=\"Retired\",\"N/A\",IF(Table18[[#This Row],[Disposition]]=0,\"\",K187+$F$2))=0+$F$2,\"NEVER CALIBRATED\",IF(Table18[[#This Row],[Disposition]]=\"Retired\",\"N/A\",IF(Table18[[#This Row],[Disposition]]=0,\"\",K187+$F$2)))","v":""},{"$f":"IF(Table18[[#This Row],[Disposition]]=\"\",\"\",IF(AND(Table18[[#This Row],[Next Calibration]]<$E$1,Table18[[#This Row],[Disposition]]=\"Lost\"),\"Find and Calibrate\",IF(Table18[[#This Row],[Disposition]]=\"Lost\",\"Find\",IF(OR(Table18[[#This Row],[Next Calibration]]<$E$1,Table18[[#This Row],[Next Calibration]]=\"NEVER CALIBRATED\"),\"Calibrate\",\"Nominal\"))))","v":""},{"$f":"IF(((Table18[[#This Row],[Next Calibration]]-TODAY())/30)>2,\"More Than 2\",IF(((Table18[[#This Row],[Next Calibration]]-TODAY())/30)>1,\"Between 2 and 1\",\"Less than 1\"))","v":{"$error":"#VALUE!"}},{"$f":"IF(Table18[[#This Row],[Issued]]=\"\",\"\",IF(Table18[[#This Row],[Lent]]=\"\",0,1))","v":""},{"$f":"IF(Table18[[#This Row],[Lent]]=\"\",\"\",IF(Table18[[#This Row],[Returned]]=\"\",0,1))","v":""}]
[{"$nulls":11},{"$f":"IF(IF(Table18[[#This Row],[Disposition]]=\"Retired\",\"N/A\",IF(Table18[[#This Row],[Disposition]]=0,\"\",K188+$F$2))=0+$F$2,\"NEVER CALIBRATED\",IF(Table18[[#This Row],[Disposition]]=\"Retired\",\"N/A\",IF(Table18[[#This Row],[Disposition]]=0,\"\",K188+$F$2)))","v":""},{"$f":"IF(Table18[[#This Row],[Disposition]]=\"\",\"\",IF(AND(Table18[[#This Row],[Next Calibration]]<$E$1,Table18[[#This Row],[Disposition]]=\"Lost\"),\"Find and Calibrate\",IF(Table18[[#This Row],[Disposition]]=\"Lost\",\"Find\",IF(OR(Table18[[#This Row],[Next Calibration]]<$E$1,Table18[[#This Row],[Next Calibration]]=\"NEVER CALIBRATED\"),\"Calibrate\",\"Nominal\"))))","v":""},{"$f":"IF(((Table18[[#This Row],[Next Calibration]]-TODAY())/30)>2,\"More Than 2\",IF(((Table18[[#This Row],[Next Calibration]]-TODAY())/30)>1,\"Between 2 and 1\",\"Less than 1\"))","v":{"$error":"#VALUE!"}},{"$f":"IF(Table18[[#This Row],[Issued]]=\"\",\"\",IF(Table18[[#This Row],[Lent]]=\"\",0,1))","v":""},{"$f":"IF(Table18[[#This Row],[Lent]]=\"\",\"\",IF(Table18[[#This Row],[Returned]]=\"\",0,1))","v":""}]
[{"$nulls":11},{"$f":"IF(IF(Table18[[#This Row],[Disposition]]=\"Retired\",\"N/A\",IF(Table18[[#This Row],[Disposition]]=0,\"\",K189+$F$2))=0+$F$2,\"NEVER CALIBRATED\",IF(Table18[[#This Row],[Disposition]]=\"Retired\",\"N/A\",IF(Table18[[#This Row],[Disposition]]=0,\"\",K189+$F$2)))","v":""},{"$f":"IF(Table18[[#This Row],[Disposition]]=\"\",\"\",IF(AND(Table18[[#This Row],[Next Calibration]]<$E$1,Table18[[#This Row],[Disposition]]=\"Lost\"),\"Find and Calibrate\",IF(Table18[[#This Row],[Disposition]]=\"Lost\",\"Find\",IF(OR(Table18[[#This Row],[Next Calibration]]<$E$1,Table18[[#This Row],[Next Calibration]]=\"NEVER CALIBRATED\"),\"Calibrate\",\"Nominal\"))))","v":""},{"$f":"IF(((Table18[[#This Row],[Next Calibration]]-TODAY())/30)>2,\"More Than 2\",IF(((Table18[[#This Row],[Next Calibration]]-TODAY())/30)>1,\"Between 2 and 1\",\"Less than 1\"))","v":{"$error":"#VALUE!"}},{"$f":"IF(Table18[[#This Row],[Issued]]=\"\",\"\",IF(Table18[[#This Row],[Lent]]=\"\",0,1))","v":""},{"$f":"IF(Table18[[#This Row],[Lent]]=\"\",\"\",IF(Table18[[#This Row],[Returned]]=\"\",0,1))","v":""}]
[{"$nulls":11},{"$f":"IF(IF(Table18[[#This Row],[Disposition]]=\"Retired\",\"N/A\",IF(Table18[[#This Row],[Disposition]]=0,\"\",K190+$F$2))=0+$F$2,\"NEVER CALIBRATED\",IF(Table18[[#This Row],[Disposition]]=\"Retired\",\"N/A\",IF(Table18[[#This Row],[Disposition]]=0,\"\",K190+$F$2)))","v":""},{"$f":"IF(Table18[[#This Row],[Disposition]]=\"\",\"\",IF(AND(Table18[[#This Row],[Next Calibration]]<$E$1,Table18[[#This Row],[Disposition]]=\"Lost\"),\"Find and Calibrate\",IF(Table18[[#This Row],[Disposition]]=\"Lost\",\"Find\",IF(OR(Table18[[#This Row],[Next Calibration]]<$E$1,Table18[[#This Row],[Next Calibration]]=\"NEVER CALIBRATED\"),\"Calibrate\",\"Nominal\"))))","v":""},{"$f":"IF(((Table18[[#This Row],[Next Calibration]]-TODAY())/30)>2,\"More Than 2\",IF(((Table18[[#This Row],[Next Calibration]]-TODAY())/30)>1,\"Between 2 and 1\",\"Less than 1\"))","v":{"$error":"#VALUE!"}},{"$f":"IF(Table18[[#This Row],[Issued]]=\"\",\"\",IF(Table18[[#This Row],[Lent]]=\"\",0,1))","v":""},{"$f":"IF(Table18[[#This Row],[Lent]]=\"\",\"\",IF(Table18[[#This Row],[Returned]]=\"\",0,1))","v":""}]
[{"$nulls":11},{"$f":"IF(IF(Table18[[#This Row],[Disposition]]=\"Retired\",\"N/A\",IF(Table18[[#This Row],[Disposition]]=0,\"\",K191+$F$2))=0+$F$2,\"NEVER CALIBRATED\",IF(Table18[[#This Row],[Disposition]]=\"Retired\",\"N/A\",IF(Table18[[#This Row],[Disposition]]=0,\"\",K191+$F$2)))","v":""},{"$f":"IF(Table18[[#This Row],[Disposition]]=\"\",\"\",IF(AND(Table18[[#This Row],[Next Calibration]]<$E$1,Table18[[#This Row],[Disposition]]=\"Lost\"),\"Find and Calibrate\",IF(Table18[[#This Row],[Disposition]]=\"Lost\",\"Find\",IF(OR(Table18[[#This Row],[Next Calibration]]<$E$1,Table18[[#This Row],[Next Calibration]]=\"NEVER CALIBRATED\"),\"Calibrate\",\"Nominal\"))))","v":""},{"$f":"IF(((Table18[[#This Row],[Next Calibration]]-TODAY())/30)>2,\"More Than 2\",IF(((Table18[[#This Row],[Next Calibration]]-TODAY())/30)>1,\"Between 2 and 1\",\"Less than 1\"))","v":{"$error":"#VALUE!"}},{"$f":"IF(Table18[[#This Row],[Issued]]=\"\",\"\",IF(Table18[[#This Row],[Lent]]=\"\",0,1))","v":""},{"$f":"IF(Table18[[#This Row],[Lent]]=\"\",\"\",IF(Table18[[#This Row],[Returned]]=\"\",0,1))","v":""}]
[{"$nulls":11},{"$f":"IF(IF(Table18[[#This Row],[Disposition]]=\"Retired\",\"N/A\",IF(Table18[[#This Row],[Disposition]]=0,\"\",K192+$F$2))=0+$F$2,\"NEVER CALIBRATED\",IF(Table18[[#This Row],[Disposition]]=\"Retired\",\"N/A\",IF(Table18[[#This Row],[Disposition]]=0,\"\",K192+$F$2)))","v":""},{"$f":"IF(Table18[[#This Row],[Disposition]]=\"\",\"\",IF(AND(Table18[[#This Row],[Next Calibration]]<$E$1,Table18[[#This Row],[Disposition]]=\"Lost\"),\"Find and Calibrate\",IF(Table18[[#This Row],[Disposition]]=\"Lost\",\"Find\",IF(OR(Table18[[#This Row],[Next Calibration]]<$E$1,Table18[[#This Row],[Next Calibration]]=\"NEVER CALIBRATED\"),\"Calibrate\",\"Nominal\"))))","v":""},{"$f":"IF(((Table18[[#This Row],[Next Calibration]]-TODAY())/30)>2,\"More Than 2\",IF(((Table18[[#This Row],[Next Calibration]]-TODAY())/30)>1,\"Between 2 and 1\",\"Less than 1\"))","v":{"$error":"#VALUE!"}},{"$f":"IF(Table18[[#This Row],[Issued]]=\"\",\"\",IF(Table18[[#This Row],[Lent]]=\"\",0,1))","v":""},{"$f":"IF(Table18[[#This Row],[Lent]]=\"\",\"\",IF(Table18[[#This Row],[Returned]]=\"\",0,1))","v":""}]
[{"$nulls":11},{"$f":"IF(IF(Table18[[#This Row],[Disposition]]=\"Retired\",\"N/A\",IF(Table18[[#This Row],[Disposition]]=0,\"\",K193+$F$2))=0+$F$2,\"NEVER CALIBRATED\",IF(Table18[[#This Row],[Disposition]]=\"Retired\",\"N/A\",IF(Table18[[#This Row],[Disposition]]=0,\"\",K193+$F$2)))","v":""},{"$f":"IF(Table18[[#This Row],[Disposition]]=\"\",\"\",IF(AND(Table18[[#This Row],[Next Calibration]]<$E$1,Table18[[#This Row],[Disposition]]=\"Lost\"),\"Find and Calibrate\",IF(Table18[[#This Row],[Disposition]]=\"Lost\",\"Find\",IF(OR(Table18[[#This Row],[Next Calibration]]<$E$1,Table18[[#This Row],[Next Calibration]]=\"NEVER CALIBRATED\"),\"Calibrate\",\"Nominal\"))))","v":""},{"$f":"IF(((Table18[[#This Row],[Next Calibration]]-TODAY())/30)>2,\"More Than 2\",IF(((Table18[[#This Row],[Next Calibration]]-TODAY())/30)>1,\"Between 2 and 1\",\"Less than 1\"))","v":{"$error":"#VALUE!"}},{"$f":"IF(Table18[[#This Row],[Issued]]=\"\",\"\",IF(Table18[[#This Row],[Lent]]=\"\",0,1))","v":""},{"$f":"IF(Table18[[#This Row],[Lent]]=\"\",\"\",IF(Table18[[#This Row],[Returned]]=\"\",0,1))","v":""}]
[{"$nulls":11},{"$f":"IF(IF(Table18[[#This Row],[Disposition]]=\"Retired\",\"N/A\",IF(Table18[[#This Row],[Disposition]]=0,\"\",K194+$F$2))=0+$F$2,\"NEVER CALIBRATED\",IF(Table18[[#This Row],[Disposition]]=\"Retired\",\"N/A\",IF(Table18[[#This Row],[Disposition]]=0,\"\",K194+$F$2)))","v":""},{"$f":"IF(Table18[[#This Row],[Disposition]]=\"\",\"\",IF(AND(Table18[[#This Row],[Next Calibration]]<$E$1,Table18[[#This Row],[Disposition]]=\"Lost\"),\"Find and Calibrate\",IF(Table18[[#This Row],[Disposition]]=\"Lost\",\"Find\",IF(OR(Table18[[#This Row],[Next Calibration]]<$E$1,Table18[[#This Row],[Next Calibration]]=\"NEVER CALIBRATED\"),\"Calibrate\",\"Nominal\"))))","v":""},{"$f":"IF(((Table18[[#This Row],[Next Calibration]]-TODAY())/30)>2,\"More Than 2\",IF(((Table18[[#This Row],[Next Calibration]]-TODAY())/30)>1,\"Between 2 and 1\",\"Less than 1\"))","v":{"$error":"#VALUE!"}},{"$f":"IF(Table18[[#This Row],[Issued]]=\"\",\"\",IF(Table18[[#This Row],[Lent]]=\"\",0,1))","v":""},{"$f":"IF(Table18[[#This Row],[Lent]]=\"\",\"\",IF(Table18[[#This Row],[Returned]]=\"\",0,1))","v":""}]
[{"$nulls":11},{"$f":"IF(IF(Table18[[#This Row],[Disposition]]=\"Retired\",\"N/A\",IF(Table18[[#This Row],[Disposition]]=0,\"\",K195+$F$2))=0+$F$2,\"NEVER CALIBRATED\",IF(Table18[[#This Row],[Disposition]]=\"Retired\",\"N/A\",IF(Table18[[#This Row],[Disposition]]=0,\"\",K195+$F$2)))","v":""},{"$f":"IF(Table18[[#This Row],[Disposition]]=\"\",\"\",IF(AND(Table18[[#This Row],[Next Calibration]]<$E$1,Table18[[#This Row],[Disposition]]=\"Lost\"),\"Find and Calibrate\",IF(Table18[[#This Row],[Disposition]]=\"Lost\",\"Find\",IF(OR(Table18[[#This Row],[Next Calibration]]<$E$1,Table18[[#This Row],[Next Calibration]]=\"NEVER CALIBRATED\"),\"Calibrate\",\"Nominal\"))))","v":""},{"$f":"IF(((Table18[[#This Row],[Next Calibration]]-TODAY())/30)>2,\"More Than 2\",IF(((Table18[[#This Row],[Next Calibration]]-TODAY())/30)>1,\"Between 2 and 1\",\"Less than 1\"))","v":{"$error":"#VALUE!"}},{"$f":"IF(Table18[[#This Row],[Issued]]=\"\",\"\",IF(Table18[[#This Row],[Lent]]=\"\",0,1))","v":""},{"$f":"IF(Table18[[#This Row],[Lent]]=\"\",\"\",IF(Table18[[#This Row],[Returned]]=\"\",0,1))","v":""}]
[{"$nulls":11},{"$f":"IF(IF(Table18[[#This Row],[Disposition]]=\"Retired\",\"N/A\",IF(Table18[[#This Row],[Disposition]]=0,\"\",K196+$F$2))=0+$F$2,\"NEVER CALIBRATED\",IF(Table18[[#This Row],[Disposition]]=\"Retired\",\"N/A\",IF(Table18[[#This Row],[Disposition]]=0,\"\",K196+$F$2)))","v":""},{"$f":"IF(Table18[[#This Row],[Disposition]]=\"\",\"\",IF(AND(Table18[[#This Row],[Next Calibration]]<$E$1,Table18[[#This Row],[Disposition]]=\"Lost\"),\"Find and Calibrate\",IF(Table18[[#This Row],[Disposition]]=\"Lost\",\"Find\",IF(OR(Table18[[#This Row],[Next Calibration]]<$E$1,Table18[[#This Row],[Next Calibration]]=\"NEVER CALIBRATED\"),\"Calibrate\",\"Nominal\"))))","v":""},{"$f":"IF(((Table18[[#This Row],[Next Calibration]]-TODAY())/30)>2,\"More Than 2\",IF(((Table18[[#This Row],[Next Calibration]]-TODAY())/30)>1,\"Between 2 and 1\",\"Less than 1\"))","v":{"$error":"#VALUE!"}},{"$f":"IF(Table18[[#This Row],[Issued]]=\"\",\"\",IF(Table18[[#This Row],[Lent]]=\"\",0,1))","v":""},{"$f":"IF(Table18[[#This Row],[Lent]]=\"\",\"\",IF(Table18[[#This Row],[Returned]]=\"\",0,1))","v":""}]
[{"$nulls":11},{"$f":"IF(IF(Table18[[#This Row],[Disposition]]=\"Retired\",\"N/A\",IF(Table18[[#This Row],[Disposition]]=0,\"\",K197+$F$2))=0+$F$2,\"NEVER CALIBRATED\",IF(Table18[[#This Row],[Disposition]]=\"Retired\",\"N/A\",IF(Table18[[#This Row],[Disposition]]=0,\"\",K197+$F$2)))","v":""},{"$f":"IF(Table18[[#This Row],[Disposition]]=\"\",\"\",IF(AND(Table18[[#This Row],[Next Calibration]]<$E$1,Table18[[#This Row],[Disposition]]=\"Lost\"),\"Find and Calibrate\",IF(Table18[[#This Row],[Disposition]]=\"Lost\",\"Find\",IF(OR(Table18[[#This Row],[Next Calibration]]<$E$1,Table18[[#This Row],[Next Calibration]]=\"NEVER CALIBRATED\"),\"Calibrate\",\"Nominal\"))))","v":""},{"$f":"IF(((Table18[[#This Row],[Next Calibration]]-TODAY())/30)>2,\"More Than 2\",IF(((Table18[[#This Row],[Next Calibration]]-TODAY())/30)>1,\"Between 2 and 1\",\"Less than 1\"))","v":{"$error":"#VALUE!"}},{"$f":"IF(Table18[[#This Row],[Issued]]=\"\",\"\",IF(Table18[[#This Row],[Lent]]=\"\",0,1))","v":""},{"$f":"IF(Table18[[#This Row],[Lent]]=\"\",\"\",IF(Table18[[#This Row],[Returned]]=\"\",0,1))","v":""}]
[{"$nulls":11},{"$f":"IF(IF(Table18[[#This Row],[Disposition]]=\"Retired\",\"N/A\",IF(Table18[[#This Row],[Disposition]]=0,\"\",K198+$F$2))=0+$F$2,\"NEVER CALIBRATED\",IF(Table18[[#This Row],[Disposition]]=\"Retired\",\"N/A\",IF(Table18[[#This Row],[Disposition]]=0,\"\",K198+$F$2)))","v":""},{"$f":"IF(Table18[[#This Row],[Disposition]]=\"\",\"\",IF(AND(Table18[[#This Row],[Next Calibration]]<$E$1,Table18[[#This Row],[Disposition]]=\"Lost\"),\"Find and Calibrate\",IF(Table18[[#This Row],[Disposition]]=\"Lost\",\"Find\",IF(OR(Table18[[#This Row],[Next Calibration]]<$E$1,Table18[[#This Row],[Next Calibration]]=\"NEVER CALIBRATED\"),\"Calibrate\",\"Nominal\"))))","v":""},{"$f":"IF(((Table18[[#This Row],[Next Calibration]]-TODAY())/30)>2,\"More Than 2\",IF(((Table18[[#This Row],[Next Calibration]]-TODAY())/30)>1,\"Between 2 and 1\",\"Less than 1\"))","v":{"$error":"#VALUE!"}},{"$f":"IF(Table18[[#This Row],[Issued]]=\"\",\"\",IF(Table18[[#This Row],[Lent]]=\"\",0,1))","v":""},{"$f":"IF(Table18[[#This Row],[Lent]]=\"\",\"\",IF(Table18[[#This Row],[Returned]]=\"\",0,1))","v":""}]
[{"$nulls":11},{"$f":"IF(IF(Table18[[#This Row],[Disposition]]=\"Retired\",\"N/A\",IF(Table18[[#This Row],[Disposition]]=0,\"\",K199+$F$2))=0+$F$2,\"NEVER CALIBRATED\",IF(Table18[[#This Row],[Disposition]]=\"Retired\",\"N/A\",IF(Table18[[#This Row],[Disposition]]=0,\"\",K199+$F$2)))","v":""},{"$f":"IF(Table18[[#This Row],[Disposition]]=\"\",\"\",IF(AND(Table18[[#This Row],[Next Calibration]]<$E$1,Table18[[#This Row],[Disposition]]=\"Lost\"),\"Find and Calibrate\",IF(Table18[[#This Row],[Disposition]]=\"Lost\",\"Find\",IF(OR(Table18[[#This Row],[Next Calibration]]<$E$1,Table18[[#This Row],[Next Calibration]]=\"NEVER CALIBRATED\"),\"Calibrate\",\"Nominal\"))))","v":""},{"$f":"IF(((Table18[[#This Row],[Next Calibration]]-TODAY())/30)>2,\"More Than 2\",IF(((Table18[[#This Row],[Next Calibration]]-TODAY())/30)>1,\"Between 2 and 1\",\"Less than 1\"))","v":{"$error":"#VALUE!"}},{"$f":"IF(Table18[[#This Row],[Issued]]=\"\",\"\",IF(Table18[[#This Row],[Lent]]=\"\",0,1))","v":""},{"$f":"IF(Table18[[#This Row],[Lent]]=\"\",\"\",IF(Table18[[#This Row],[Returned]]=\"\",0,1))","v":""}]
[{"$nulls":11},{"$f":"IF(IF(Table18[[#This Row],[Disposition]]=\"Retired\",\"N/A\",IF(Table18[[#This Row],[Disposition]]=0,\"\",K200+$F$2))=0+$F$2,\"NEVER CALIBRATED\",IF(Table18[[#This Row],[Disposition]]=\"Retired\",\"N/A\",IF(Table18[[#This Row],[Disposition]]=0,\"\",K200+$F$2)))","v":""},{"$f":"IF(Table18[[#This Row],[Disposition]]=\"\",\"\",IF(AND(Table18[[#This Row],[Next Calibration]]<$E$1,Table18[[#This Row],[Disposition]]=\"Lost\"),\"Find and Calibrate\",IF(Table18[[#This Row],[Disposition]]=\"Lost\",\"Find\",IF(OR(Table18[[#This Row],[Next Calibration]]<$E$1,Table18[[#This Row],[Next Calibration]]=\"NEVER CALIBRATED\"),\"Calibrate\",\"Nominal\"))))","v":""},{"$f":"IF(((Table18[[#This Row],[Next Calibration]]-TODAY())/30)>2,\"More Than 2\",IF(((Table18[[#This Row],[Next Calibration]]-TODAY())/30)>1,\"Between 2 and 1\",\"Less than 1\"))","v":{"$error":"#VALUE!"}},{"$f":"IF(Table18[[#This Row],[Issued]]=\"\",\"\",IF(Table18[[#This Row],[Lent]]=\"\",0,1))","v":""},{"$f":"IF(Table18[[#This Row],[Lent]]=\"\",\"\",IF(Table18[[#This Row],[Returned]]=\"\",0,1))","v":""}]
[{"$nulls":11},{"$f":"IF(IF(Table18[[#This Row],[Disposition]]=\"Retired\",\"N/A\",IF(Table18[[#This Row],[Disposition]]=0,\"\",K201+$F$2))=0+$F$2,\"NEVER CALIBRATED\",IF(Table18[[#This Row],[Disposition]]=\"Retired\",\"N/A\",IF(Table18[[#This Row],[Disposition]]=0,\"\",K201+$F$2)))","v":""},{"$f":"IF(Table18[[#This Row],[Disposition]]=\"\",\"\",IF(AND(Table18[[#This Row],[Next Calibration]]<$E$1,Table18[[#This Row],[Disposition]]=\"Lost\"),\"Find and Calibrate\",IF(Table18[[#This Row],[Disposition]]=\"Lost\",\"Find\",IF(OR(Table18[[#This Row],[Next Calibration]]<$E$1,Table18[[#This Row],[Next Calibration]]=\"NEVER CALIBRATED\"),\"Calibrate\",\"Nominal\"))))","v":""},{"$f":"IF(((Table18[[#This Row],[Next Calibration]]-TODAY())/30)>2,\"More Than 2\",IF(((Table18[[#This Row],[Next Calibration]]-TODAY())/30)>1,\"Between 2 and 1\",\"Less than 1\"))","v":{"$error":"#VALUE!"}},{"$f":"IF(Table18[[#This Row],[Issued]]=\"\",\"\",IF(Table18[[#This Row],[Lent]]=\"\",0,1))","v":""},{"$f":"IF(Table18[[#This Row],[Lent]]=\"\",\"\",IF(Table18[[#This Row],[Returned]]=\"\",0,1))","v":""}]
[{"$nulls":11},{"$f":"IF(IF(Table18[[#This Row],[Disposition]]=\"Retired\",\"N/A\",IF(Table18[[#This Row],[Disposition]]=0,\"\",K202+$F$2))=0+$F$2,\"NEVER CALIBRATED\",IF(Table18[[#This Row],[Disposition]]=\"Retired\",\"N/A\",IF(Table18[[#This Row],[Disposition]]=0,\"\",K202+$F$2)))","v":""},{"$f":"IF(Table18[[#This Row],[Disposition]]=\"\",\"\",IF(AND(Table18[[#This Row],[Next Calibration]]<$E$1,Table18[[#This Row],[Disposition]]=\"Lost\"),\"Find and Calibrate\",IF(Table18[[#This Row],[Disposition]]=\"Lost\",\"Find\",IF(OR(Table18[[#This Row],[Next Calibration]]<$E$1,Table18[[#This Row],[Next Calibration]]=\"NEVER CALIBRATED\"),\"Calibrate\",\"Nominal\"))))","v":""},{"$f":"IF(((Table18[[#This Row],[Next Calibration]]-TODAY())/30)>2,\"More Than 2\",IF(((Table18[[#This Row],[Next Calibration]]-TODAY())/30)>1,\"Between 2 and 1\",\"Less than 1\"))","v":{"$error":"#VALUE!"}},{"$f":"IF(Table18[[#This Row],[Issued]]=\"\",\"\",IF(Table18[[#This Row],[Lent]]=\"\",0,1))","v":""},{"$f":"IF(Table18[[#This Row],[Lent]]=\"\",\"\",IF(Table18[[#This Row],[Returned]]=\"\",0,1))","v":""}]
[{"$nulls":11},{"$f":"IF(IF(Table18[[#This Row],[Disposition]]=\"Retired\",\"N/A\",IF(Table18[[#This Row],[Disposition]]=0,\"\",K203+$F$2))=0+$F$2,\"NEVER CALIBRATED\",IF(Table18[[#This Row],[Disposition]]=\"Retired\",\"N/A\",IF(Table18[[#This Row],[Disposition]]=0,\"\",K203+$F$2)))","v":""},{"$f":"IF(Table18[[#This Row],[Disposition]]=\"\",\"\",IF(AND(Table18[[#This Row],[Next Calibration]]<$E$1,Table18[[#This Row],[Disposition]]=\"Lost\"),\"Find and Calibrate\",IF(Table18[[#This Row],[Disposition]]=\"Lost\",\"Find\",IF(OR(Table18[[#This Row],[Next Calibration]]<$E$1,Table18[[#This Row],[Next Calibration]]=\"NEVER CALIBRATED\"),\"Calibrate\",\"Nominal\"))))","v":""},{"$f":"IF(((Table18[[#This Row],[Next Calibration]]-TODAY())/30)>2,\"More Than 2\",IF(((Table18[[#This Row],[Next Calibration]]-TODAY())/30)>1,\"Between 2 and 1\",\"Less than 1\"))","v":{"$error":"#VALUE!"}},{"$f":"IF(Table18[[#This Row],[Issued]]=\"\",\"\",IF(Table18[[#This Row],[Lent]]=\"\",0,1))","v":""},{"$f":"IF(Table18[[#This Row],[Lent]]=\"\",\"\",IF(Table18[[#This Row],[Returned]]=\"\",0,1))","v":""}]

{"sheet":"Chamfer Gauges","index":6,"n_rows":203,"n_cols":16,"rows_kept":203,"merged":[[0,0,1,2],[0,9,1,9],[0,10,0,11],[1,10,1,11],[3,0,4,0]]}
["Chamfer Gauges",null,null,"Date",{"$f":"TODAY()","v":"2021-04-27"},"Calibration Frequency (days)",{"$nulls":3},"Key","Personal Tool",null,"Adjustabe"]
[{"$nulls":3},"Time",{"$f":"NOW()","v":44313.375952546296},365,{"$nulls":4},"Attention",null,"DO NOT EDIT"]
[]
["Tool Modification"]
[]
[]
["Gauge #","Lent To","Shift","Work Area","Brand","Disposition","Personal (1/0)","Issued","Lent","Returned","Calibrated","Next Calibration","Action Required","count down","Lent (1/0)","Returned (1/0)"]
["M2016",{"$nulls":3},"SPI 0-90 deg 1\" Dia","Accounted For",null,"2021-03-08",{"$nulls":3},{"$f":"IF(IF(Table19[[#This Row],[Disposition]]=\"Retired\",\"N/A\",IF(Table19[[#This Row],[Disposition]]=0,\"\",K8+$F$2))=0+$F$2,\"NEVER CALIBRATED\",IF(Table19[[#This Row],[Disposition]]=\"Retired\",\"N/A\",IF(Table19[[#This Row],[Disposition]]=0,\"\",K8+$F$2)))","v":"NEVER CALIBRATED"},{"$f":"IF(Table19[[#This Row],[Disposition]]=\"\",\"\",IF(AND(Table19[[#This Row],[Next Calibration]]<$E$1,Table19[[#This Row],[Disposition]]=\"Lost\"),\"Find and Calibrate\",IF(Table19[[#This Row],[Disposition]]=\"Lost\",\"Find\",IF(OR(Table19[[#This Row],[Next Calibration]]<$E$1,Table19[[#This Row],[Next Calibration]]=\"NEVER CALIBRATED\"),\"Calibrate\",\"Nominal\"))))","v":"Calibrate"},{"$f":"IF(((Table19[[#This Row],[Next Calibration]]-TODAY())/30)>2,\"More Than 2\",IF(((Table19[[#This Row],[Next Calibration]]-TODAY())/30)>1,\"Between 2 and 1\",\"Less than 1\"))","v":{"$error":"#VALUE!"}},{"$f":"IF(Table19[[#This Row],[Issued]]=\"\",\"\",IF(Table19[[#This Row],[Lent]]=\"\",0,1))","v":{"v":0,"d":"0.00"}},{"$f":"IF(Table19[[#This Row],[Lent]]=\"\",\"\",IF(Table19[[#This Row],[Returned]]=\"\",0,1))","v":""}]
["M2034",{"$nulls":3},"Starrett 0-90 deg 1\" Dia","Accounted For",null,"2021-03-08",{"$nulls":3},{"$f":"IF(IF(Table19[[#This Row],[Disposition]]=\"Retired\",\"N/A\",IF(Table19[[#This Row],[Disposition]]=0,\"\",K9+$F$2))=0+$F$2,\"NEVER CALIBRATED\",IF(Table19[[#This Row],[Disposition]]=\"Retired\",\"N/A\",IF(Table19[[#This Row],[Disposition]]=0,\"\",K9+$F$2)))","v":"NEVER CALIBRATED"},{"$f":"IF(Table19[[#This Row],[Disposition]]=\"\",\"\",IF(AND(Table19[[#This Row],[Next Calibration]]<$E$1,Table19[[#This Row],[Disposition]]=\"Lost\"),\"Find and Calibrate\",IF(Table19[[#This Row],[Disposition]]=\"Lost\",\"Find\",IF(OR(Table19[[#This Row],[Next Calibration]]<$E$1,Table19[[#This Row],[Next Calibration]]=\"NEVER CALIBRATED\"),\"Calibrate\",\"Nominal\"))))","v":"Calibrate"},{"$f":"IF(((Table19[[#This Row],[Next Calibration]]-TODAY())/30)>2,\"More Than 2\",IF(((Table19[[#This Row],[Next Calibration]]-TODAY())/30)>1,\"Between 2 and 1\",\"Less than 1\"))","v":{"$error":"#VALUE!"}},{"$f":"IF(Table19[[#This Row],[Issued]]=\"\",\"\",IF(Table19[[#This Row],[Lent]]=\"\",0,1))","v":{"v":0,"d":"0.00"}},{"$f":"IF(Table19[[#This Row],[Lent]]=\"\",\"\",IF(Table19[[#This Row],[Returned]]=\"\",0,1))","v":""}]
["J0012","NO MACHINE SPECIFIED",null,"Presses (Secondary)","Barcore 0-1\" 120Deg Chamfer","Accounted For",null,"2021-03-18","2021-03-18",null,"2021-03-18",{"$f":"IF(IF(Table19[[#This Row],[Disposition]]=\"Retired\",\"N/A\",IF(Table19[[#This Row],[Disposition]]=0,\"\",K10+$F$2))=0+$F$2,\"NEVER CALIBRATED\",IF(Table19[[#This Row],[Disposition]]=\"Retired\",\"N/A\",IF(Table19[[#This Row],[Disposition]]=0,\"\",K10+$F$2)))","v":"2022-03-18"},{"$f":"IF(Table19[[#This Row],[Disposition]]=\"\",\"\",IF(AND(Table19[[#This Row],[Next Calibration]]<$E$1,Table19[[#This Row],[Disposition]]=\"Lost\"),\"Find and Calibrate\",IF(Table19[[#This Row],[Disposition]]=\"Lost\",\"Find\",IF(OR(Table19[[#This Row],[Next Calibration]]<$E$1,Table19[[#This Row],[Next Calibration]]=\"NEVER CALIBRATED\"),\"Calibrate\",\"Nominal\"))))","v":"Nominal"},{"$f":"IF(((Table19[[#This Row],[Next Calibration]]-TODAY())/30)>2,\"More Than 2\",IF(((Table19[[#This Row],[Next Calibration]]-TODAY())/30)>1,\"Between 2 and 1\",\"Less than 1\"))","v":"More Than 2"},{"$f":"IF(Table19[[#This Row],[Issued]]=\"\",\"\",IF(Table19[[#This Row],[Lent]]=\"\",0,1))","v":{"v":1,"d":"1.00"}},{"$f":"IF(Table19[[#This Row],[Lent]]=\"\",\"\",IF(Table19[[#This Row],[Returned]]=\"\",0,1))","v":{"v":0,"d":"0.00"}}]
["J0013","NO MACHINE SPECIFIED",null,"Presses (Secondary)","SPI 0-90 deg 1\" Dia","Accounted For",null,"2021-03-18","2021-03-18",null,"2021-03-18",{"$f":"IF(IF(Table19[[#This Row],[Disposition]]=\"Retired\",\"N/A\",IF(Table19[[#This Row],[Disposition]]=0,\"\",K11+$F$2))=0+$F$2,\"NEVER CALIBRATED\",IF(Table19[[#This Row],[Disposition]]=\"Retired\",\"N/A\",IF(Table19[[#This Row],[Disposition]]=0,\"\",K11+$F$2)))","v":"2022-03-18"},{"$f":"IF(Table19[[#This Row],[Disposition]]=\"\",\"\",IF(AND(Table19[[#This Row],[Next Calibration]]<$E$1,Table19[[#This Row],[Disposition]]=\"Lost\"),\"Find and Calibrate\",IF(Table19[[#This Row],[Disposition]]=\"Lost\",\"Find\",IF(OR(Table19[[#This Row],[Next Calibration]]<$E$1,Table19[[#This Row],[Next Calibration]]=\"NEVER CALIBRATED\"),\"Calibrate\",\"Nominal\"))))","v":"Nominal"},{"$f":"IF(((Table19[[#This Row],[Next Calibration]]-TODAY())/30)>2,\"More Than 2\",IF(((Table19[[#This Row],[Next Calibration]]-TODAY())/30)>1,\"Between 2 and 1\",\"Less than 1\"))","v":"More Than 2"},{"$f":"IF(Table19[[#This Row],[Issued]]=\"\",\"\",IF(Table19[[#This Row],[Lent]]=\"\",0,1))","v":{"v":1,"d":"1.00"}},{"$f":"IF(Table19[[#This Row],[Lent]]=\"\",\"\",IF(Table19[[#This Row],[Returned]]=\"\",0,1))","v":{"v":0,"d":"0.00"}}]
[{"$nulls":11},{"$f":"IF(IF(Table19[[#This Row],[Disposition]]=\"Retired\",\"N/A\",IF(Table19[[#This Row],[Disposition]]=0,\"\",K12+$F$2))=0+$F$2,\"NEVER CALIBRATED\",IF(Table19[[#This Row],[Disposition]]=\"Retired\",\"N/A\",IF(Table19[[#This Row],[Disposition]]=0,\"\",K12+$F$2)))","v":""},{"$f":"IF(Table19[[#This Row],[Disposition]]=\"\",\"\",IF(AND(Table19[[#This Row],[Next Calibration]]<$E$1,Table19[[#This Row],[Disposition]]=\"Lost\"),\"Find and Calibrate\",IF(Table19[[#This Row],[Disposition]]=\"Lost\",\"Find\",IF(OR(Table19[[#This Row],[Next Calibration]]<$E$1,Table19[[#This Row],[Next Calibration]]=\"NEVER CALIBRATED\"),\"Calibrate\",\"Nominal\"))))","v":""},{"$f":"IF(((Table19[[#This Row],[Next Calibration]]-TODAY())/30)>2,\"More Than 2\",IF(((Table19[[#This Row],[Next Calibration]]-TODAY())/30)>1,\"Between 2 and 1\",\"Less than 1\"))","v":{"$error":"#VALUE!"}},{"$f":"IF(Table19[[#This Row],[Issued]]=\"\",\"\",IF(Table19[[#This Row],[Lent]]=\"\",0,1))","v":""},{"$f":"IF(Table19[[#This Row],[Lent]]=\"\",\"\",IF(Table19[[#This Row],[Returned]]=\"\",0,1))","v":""}]
[{"$nulls":11},{"$f":"IF(IF(Table19[[#This Row],[Disposition]]=\"Retired\",\"N/A\",IF(Table19[[#This Row],[Disposition]]=0,\"\",K13+$F$2))=0+$F$2,\"NEVER CALIBRATED\",IF(Table19[[#This Row],[Disposition]]=\"Retired\",\"N/A\",IF(Table19[[#This Row],[Disposition]]=0,\"\",K13+$F$2)))","v":""},{"$f":"IF(Table19[[#This Row],[Disposition]]=\"\",\"\",IF(AND(Table19[[#This Row],[Next Calibration]]<$E$1,Table19[[#This Row],[Disposition]]=\"Lost\"),\"Find and Calibrate\",IF(Table19[[#This Row],[Disposition]]=\"Lost\",\"Find\",IF(OR(Table19[[#This Row],[Next Calibration]]<$E$1,Table19[[#This Row],[Next Calibration]]=\"NEVER CALIBRATED\"),\"Calibrate\",\"Nominal\"))))","v":""},{"$f":"IF(((Table19[[#This Row],[Next Calibration]]-TODAY())/30)>2,\"More Than 2\",IF(((Table19[[#This Row],[Next Calibration]]-TODAY())/30)>1,\"Between 2 and 1\",\"Less than 1\"))","v":{"$error":"#VALUE!"}},{"$f":"IF(Table19[[#This Row],[Issued]]=\"\",\"\",IF(Table19[[#This Row],[Lent]]=\"\",0,1))","v":""},{"$f":"IF(Table19[[#This Row],[Lent]]=\"\",\"\",IF(Table19[[#This Row],[Returned]]=\"\",0,1))","v":""}]
[{"$nulls":11},{"$f":"IF(IF(Table19[[#This Row],[Disposition]]=\"Retired\",\"N/A\",IF(Table19[[#This Row],[Disposition]]=0,\"\",K14+$F$2))=0+$F$2,\"NEVER CALIBRATED\",IF(Table19[[#This Row],[Disposition]]=\"Retired\",\"N/A\",IF(Table19[[#This Row],[Disposition]]=0,\"\",K14+$F$2)))","v":""},{"$f":"IF(Table19[[#This Row],[Disposition]]=\"\",\"\",IF(AND(Table19[[#This Row],[Next Calibration]]<$E$1,Table19[[#This Row],[Disposition]]=\"Lost\"),\"Find and Calibrate\",IF(Table19[[#This Row],[Disposition]]=\"Lost\",\"Find\",IF(OR(Table19[[#This Row],[Next Calibration]]<$E$1,Table19[[#This Row],[Next Calibration]]=\"NEVER CALIBRATED\"),\"Calibrate\",\"Nominal\"))))","v":""},{"$f":"IF(((Table19[[#This Row],[Next Calibration]]-TODAY())/30)>2,\"More Than 2\",IF(((Table19[[#This Row],[Next Calibration]]-TODAY())/30)>1,\"Between 2 and 1\",\"Less than 1\"))","v":{"$error":"#VALUE!"}},{"$f":"IF(Table19[[#This Row],[Issued]]=\"\",\"\",IF(Table19[[#This Row],[Lent]]=\"\",0,1))","v":""},{"$f":"IF(Table19[[#This Row],[Lent]]=\"\",\"\",IF(Table19[[#This Row],[Returned]]=\"\",0,1))","v":""}]
[{"$nulls":11},{"$f":"IF(IF(Table19[[#This Row],[Disposition]]=\"Retired\",\"N/A\",IF(Table19[[#This Row],[Disposition]]=0,\"\",K15+$F$2))=0+$F$2,\"NEVER CALIBRATED\",IF(Table19[[#This Row],[Disposition]]=\"Retired\",\"N/A\",IF(Table19[[#This Row],[Disposition]]=0,\"\",K15+$F$2)))","v":""},{"$f":"IF(Table19[[#This Row],[Disposition]]=\"\",\"\",IF(AND(Table19[[#This Row],[Next Calibration]]<$E$1,Table19[[#This Row],[Disposition]]=\"Lost\"),\"Find and Calibrate\",IF(Table19[[#This Row],[Disposition]]=\"Lost\",\"Find\",IF(OR(Table19[[#This Row],[Next Calibration]]<$E$1,Table19[[#This Row],[Next Calibration]]=\"NEVER CALIBRATED\"),\"Calibrate\",\"Nominal\"))))","v":""},{"$f":"IF(((Table19[[#This Row],[Next Calibration]]-TODAY())/30)>2,\"More Than 2\",IF(((Table19[[#This Row],[Next Calibration]]-TODAY())/30)>1,\"Between 2 and 1\",\"Less than 1\"))","v":{"$error":"#VALUE!"}},{"$f":"IF(Table19[[#This Row],[Issued]]=\"\",\"\",IF(Table19[[#This Row],[Lent]]=\"\",0,1))","v":""},{"$f":"IF(Table19[[#This Row],[Lent]]=\"\",\"\",IF(Table19[[#This Row],[Returned]]=\"\",0,1))","v":""}]
[{"$nulls":11},{"$f":"IF(IF(Table19[[#This Row],[Disposition]]=\"Retired\",\"N/A\",IF(Table19[[#This Row],[Disposition]]=0,\"\",K16+$F$2))=0+$F$2,\"NEVER CALIBRATED\",IF(Table19[[#This Row],[Disposition]]=\"Retired\",\"N/A\",IF(Table19[[#This Row],[Disposition]]=0,\"\",K16+$F$2)))","v":""},{"$f":"IF(Table19[[#This Row],[Disposition]]=\"\",\"\",IF(AND(Table19[[#This Row],[Next Calibration]]<$E$1,Table19[[#This Row],[Disposition]]=\"Lost\"),\"Find and Calibrate\",IF(Table19[[#This Row],[Disposition]]=\"Lost\",\"Find\",IF(OR(Table19[[#This Row],[Next Calibration]]<$E$1,Table19[[#This Row],[Next Calibration]]=\"NEVER CALIBRATED\"),\"Calibrate\",\"Nominal\"))))","v":""},{"$f":"IF(((Table19[[#This Row],[Next Calibration]]-TODAY())/30)>2,\"More Than 2\",IF(((Table19[[#This Row],[Next Calibration]]-TODAY())/30)>1,\"Between 2 and 1\",\"Less than 1\"))","v":{"$error":"#VALUE!"}},{"$f":"IF(Table19[[#This Row],[Issued]]=\"\",\"\",IF(Table19[[#This Row],[Lent]]=\"\",0,1))","v":""},{"$f":"IF(Table19[[#This Row],[Lent]]=\"\",\"\",IF(Table19[[#This Row],[Returned]]=\"\",0,1))","v":""}]
[{"$nulls":11},{"$f":"IF(IF(Table19[[#This Row],[Disposition]]=\"Retired\",\"N/A\",IF(Table19[[#This Row],[Disposition]]=0,\"\",K17+$F$2))=0+$F$2,\"NEVER CALIBRATED\",IF(Table19[[#This Row],[Disposition]]=\"Retired\",\"N/A\",IF(Table19[[#This Row],[Disposition]]=0,\"\",K17+$F$2)))","v":""},{"$f":"IF(Table19[[#This Row],[Disposition]]=\"\",\"\",IF(AND(Table19[[#This Row],[Next Calibration]]<$E$1,Table19[[#This Row],[Disposition]]=\"Lost\"),\"Find and Calibrate\",IF(Table19[[#This Row],[Disposition]]=\"Lost\",\"Find\",IF(OR(Table19[[#This Row],[Next Calibration]]<$E$1,Table19[[#This Row],[Next Calibration]]=\"NEVER CALIBRATED\"),\"Calibrate\",\"Nominal\"))))","v":""},{"$f":"IF(((Table19[[#This Row],[Next Calibration]]-TODAY())/30)>2,\"More Than 2\",IF(((Table19[[#This Row],[Next Calibration]]-TODAY())/30)>1,\"Between 2 and 1\",\"Less than 1\"))","v":{"$error":"#VALUE!"}},{"$f":"IF(Table19[[#This Row],[Issued]]=\"\",\"\",IF(Table19[[#This Row],[Lent]]=\"\",0,1))","v":""},{"$f":"IF(Table19[[#This Row],[Lent]]=\"\",\"\",IF(Table19[[#This Row],[Returned]]=\"\",0,1))","v":""}]
[{"$nulls":11},{"$f":"IF(IF(Table19[[#This Row],[Disposition]]=\"Retired\",\"N/A\",IF(Table19[[#This Row],[Disposition]]=0,\"\",K18+$F$2))=0+$F$2,\"NEVER CALIBRATED\",IF(Table19[[#This Row],[Disposition]]=\"Retired\",\"N/A\",IF(Table19[[#This Row],[Disposition]]=0,\"\",K18+$F$2)))","v":""},{"$f":"IF(Table19[[#This Row],[Disposition]]=\"\",\"\",IF(AND(Table19[[#This Row],[Next Calibration]]<$E$1,Table19[[#This Row],[Disposition]]=\"Lost\"),\"Find and Calibrate\",IF(Table19[[#This Row],[Disposition]]=\"Lost\",\"Find\",IF(OR(Table19[[#This Row],[Next Calibration]]<$E$1,Table19[[#This Row],[Next Calibration]]=\"NEVER CALIBRATED\"),\"Calibrate\",\"Nominal\"))))","v":""},{"$f":"IF(((Table19[[#This Row],[Next Calibration]]-TODAY())/30)>2,\"More Than 2\",IF(((Table19[[#This Row],[Next Calibration]]-TODAY())/30)>1,\"Between 2 and 1\",\"Less than 1\"))","v":{"$error":"#VALUE!"}},{"$f":"IF(Table19[[#This Row],[Issued]]=\"\",\"\",IF(Table19[[#This Row],[Lent]]=\"\",0,1))","v":""},{"$f":"IF(Table19[[#This Row],[Lent]]=\"\",\"\",IF(Table19[[#This Row],[Returned]]=\"\",0,1))","v":""}]
[{"$nulls":11},{"$f":"IF(IF(Table19[[#This Row],[Disposition]]=\"Retired\",\"N/A\",IF(Table19[[#This Row],[Disposition]]=0,\"\",K19+$F$2))=0+$F$2,\"NEVER CALIBRATED\",IF(Table19[[#This Row],[Disposition]]=\"Retired\",\"N/A\",IF(Table19[[#This Row],[Disposition]]=0,\"\",K19+$F$2)))","v":""},{"$f":"IF(Table19[[#This Row],[Disposition]]=\"\",\"\",IF(AND(Table19[[#This Row],[Next Calibration]]<$E$1,Table19[[#This Row],[Disposition]]=\"Lost\"),\"Find and Calibrate\",IF(Table19[[#This Row],[Disposition]]=\"Lost\",\"Find\",IF(OR(Table19[[#This Row],[Next Calibration]]<$E$1,Table19[[#This Row],[Next Calibration]]=\"NEVER CALIBRATED\"),\"Calibrate\",\"Nominal\"))))","v":""},{"$f":"IF(((Table19[[#This Row],[Next Calibration]]-TODAY())/30)>2,\"More Than 2\",IF(((Table19[[#This Row],[Next Calibration]]-TODAY())/30)>1,\"Between 2 and 1\",\"Less than 1\"))","v":{"$error":"#VALUE!"}},{"$f":"IF(Table19[[#This Row],[Issued]]=\"\",\"\",IF(Table19[[#This Row],[Lent]]=\"\",0,1))","v":""},{"$f":"IF(Table19[[#This Row],[Lent]]=\"\",\"\",IF(Table19[[#This Row],[Returned]]=\"\",0,1))","v":""}]
[{"$nulls":11},{"$f":"IF(IF(Table19[[#This Row],[Disposition]]=\"Retired\",\"N/A\",IF(Table19[[#This Row],[Disposition]]=0,\"\",K20+$F$2))=0+$F$2,\"NEVER CALIBRATED\",IF(Table19[[#This Row],[Disposition]]=\"Retired\",\"N/A\",IF(Table19[[#This Row],[Disposition]]=0,\"\",K20+$F$2)))","v":""},{"$f":"IF(Table19[[#This Row],[Disposition]]=\"\",\"\",IF(AND(Table19[[#This Row],[Next Calibration]]<$E$1,Table19[[#This Row],[Disposition]]=\"Lost\"),\"Find and Calibrate\",IF(Table19[[#This Row],[Disposition]]=\"Lost\",\"Find\",IF(OR(Table19[[#This Row],[Next Calibration]]<$E$1,Table19[[#This Row],[Next Calibration]]=\"NEVER CALIBRATED\"),\"Calibrate\",\"Nominal\"))))","v":""},{"$f":"IF(((Table19[[#This Row],[Next Calibration]]-TODAY())/30)>2,\"More Than 2\",IF(((Table19[[#This Row],[Next Calibration]]-TODAY())/30)>1,\"Between 2 and 1\",\"Less than 1\"))","v":{"$error":"#VALUE!"}},{"$f":"IF(Table19[[#This Row],[Issued]]=\"\",\"\",IF(Table19[[#This Row],[Lent]]=\"\",0,1))","v":""},{"$f":"IF(Table19[[#This Row],[Lent]]=\"\",\"\",IF(Table19[[#This Row],[Returned]]=\"\",0,1))","v":""}]
[{"$nulls":11},{"$f":"IF(IF(Table19[[#This Row],[Disposition]]=\"Retired\",\"N/A\",IF(Table19[[#This Row],[Disposition]]=0,\"\",K21+$F$2))=0+$F$2,\"NEVER CALIBRATED\",IF(Table19[[#This Row],[Disposition]]=\"Retired\",\"N/A\",IF(Table19[[#This Row],[Disposition]]=0,\"\",K21+$F$2)))","v":""},{"$f":"IF(Table19[[#This Row],[Disposition]]=\"\",\"\",IF(AND(Table19[[#This Row],[Next Calibration]]<$E$1,Table19[[#This Row],[Disposition]]=\"Lost\"),\"Find and Calibrate\",IF(Table19[[#This Row],[Disposition]]=\"Lost\",\"Find\",IF(OR(Table19[[#This Row],[Next Calibration]]<$E$1,Table19[[#This Row],[Next Calibration]]=\"NEVER CALIBRATED\"),\"Calibrate\",\"Nominal\"))))","v":""},{"$f":"IF(((Table19[[#This Row],[Next Calibration]]-TODAY())/30)>2,\"More Than 2\",IF(((Table19[[#This Row],[Next Calibration]]-TODAY())/30)>1,\"Between 2 and 1\",\"Less than 1\"))","v":{"$error":"#VALUE!"}},{"$f":"IF(Table19[[#This Row],[Issued]]=\"\",\"\",IF(Table19[[#This Row],[Lent]]=\"\",0,1))","v":""},{"$f":"IF(Table19[[#This Row],[Lent]]=\"\",\"\",IF(Table19[[#This Row],[Returned]]=\"\",0,1))","v":""}]
[{"$nulls":11},{"$f":"IF(IF(Table19[[#This Row],[Disposition]]=\"Retired\",\"N/A\",IF(Table19[[#This Row],[Disposition]]=0,\"\",K22+$F$2))=0+$F$2,\"NEVER CALIBRATED\",IF(Table19[[#This Row],[Disposition]]=\"Retired\",\"N/A\",IF(Table19[[#This Row],[Disposition]]=0,\"\",K22+$F$2)))","v":""},{"$f":"IF(Table19[[#This Row],[Disposition]]=\"\",\"\",IF(AND(Table19[[#This Row],[Next Calibration]]<$E$1,Table19[[#This Row],[Disposition]]=\"Lost\"),\"Find and Calibrate\",IF(Table19[[#This Row],[Disposition]]=\"Lost\",\"Find\",IF(OR(Table19[[#This Row],[Next Calibration]]<$E$1,Table19[[#This Row],[Next Calibration]]=\"NEVER CALIBRATED\"),\"Calibrate\",\"Nominal\"))))","v":""},{"$f":"IF(((Table19[[#This Row],[Next Calibration]]-TODAY())/30)>2,\"More Than 2\",IF(((Table19[[#This Row],[Next Calibration]]-TODAY())/30)>1,\"Between 2 and 1\",\"Less than 1\"))","v":{"$error":"#VALUE!"}},{"$f":"IF(Table19[[#This Row],[Issued]]=\"\",\"\",IF(Table19[[#This Row],[Lent]]=\"\",0,1))","v":""},{"$f":"IF(Table19[[#This Row],[Lent]]=\"\",\"\",IF(Table19[[#This Row],[Returned]]=\"\",0,1))","v":""}]
[{"$nulls":11},{"$f":"IF(IF(Table19[[#This Row],[Disposition]]=\"Retired\",\"N/A\",IF(Table19[[#This Row],[Disposition]]=0,\"\",K23+$F$2))=0+$F$2,\"NEVER CALIBRATED\",IF(Table19[[#This Row],[Disposition]]=\"Retired\",\"N/A\",IF(Table19[[#This Row],[Disposition]]=0,\"\",K23+$F$2)))","v":""},{"$f":"IF(Table19[[#This Row],[Disposition]]=\"\",\"\",IF(AND(Table19[[#This Row],[Next Calibration]]<$E$1,Table19[[#This Row],[Disposition]]=\"Lost\"),\"Find and Calibrate\",IF(Table19[[#This Row],[Disposition]]=\"Lost\",\"Find\",IF(OR(Table19[[#This Row],[Next Calibration]]<$E$1,Table19[[#This Row],[Next Calibration]]=\"NEVER CALIBRATED\"),\"Calibrate\",\"Nominal\"))))","v":""},{"$f":"IF(((Table19[[#This Row],[Next Calibration]]-TODAY())/30)>2,\"More Than 2\",IF(((Table19[[#This Row],[Next Calibration]]-TODAY())/30)>1,\"Between 2 and 1\",\"Less than 1\"))","v":{"$error":"#VALUE!"}},{"$f":"IF(Table19[[#This Row],[Issued]]=\"\",\"\",IF(Table19[[#This Row],[Lent]]=\"\",0,1))","v":""},{"$f":"IF(Table19[[#This Row],[Lent]]=\"\",\"\",IF(Table19[[#This Row],[Returned]]=\"\",0,1))","v":""}]
[{"$nulls":11},{"$f":"IF(IF(Table19[[#This Row],[Disposition]]=\"Retired\",\"N/A\",IF(Table19[[#This Row],[Disposition]]=0,\"\",K24+$F$2))=0+$F$2,\"NEVER CALIBRATED\",IF(Table19[[#This Row],[Disposition]]=\"Retired\",\"N/A\",IF(Table19[[#This Row],[Disposition]]=0,\"\",K24+$F$2)))","v":""},{"$f":"IF(Table19[[#This Row],[Disposition]]=\"\",\"\",IF(AND(Table19[[#This Row],[Next Calibration]]<$E$1,Table19[[#This Row],[Disposition]]=\"Lost\"),\"Find and Calibrate\",IF(Table19[[#This Row],[Disposition]]=\"Lost\",\"Find\",IF(OR(Table19[[#This Row],[Next Calibration]]<$E$1,Table19[[#This Row],[Next Calibration]]=\"NEVER CALIBRATED\"),\"Calibrate\",\"Nominal\"))))","v":""},{"$f":"IF(((Table19[[#This Row],[Next Calibration]]-TODAY())/30)>2,\"More Than 2\",IF(((Table19[[#This Row],[Next Calibration]]-TODAY())/30)>1,\"Between 2 and 1\",\"Less than 1\"))","v":{"$error":"#VALUE!"}},{"$f":"IF(Table19[[#This Row],[Issued]]=\"\",\"\",IF(Table19[[#This Row],[Lent]]=\"\",0,1))","v":""},{"$f":"IF(Table19[[#This Row],[Lent]]=\"\",\"\",IF(Table19[[#This Row],[Returned]]=\"\",0,1))","v":""}]
[{"$nulls":11},{"$f":"IF(IF(Table19[[#This Row],[Disposition]]=\"Retired\",\"N/A\",IF(Table19[[#This Row],[Disposition]]=0,\"\",K25+$F$2))=0+$F$2,\"NEVER CALIBRATED\",IF(Table19[[#This Row],[Disposition]]=\"Retired\",\"N/A\",IF(Table19[[#This Row],[Disposition]]=0,\"\",K25+$F$2)))","v":""},{"$f":"IF(Table19[[#This Row],[Disposition]]=\"\",\"\",IF(AND(Table19[[#This Row],[Next Calibration]]<$E$1,Table19[[#This Row],[Disposition]]=\"Lost\"),\"Find and Calibrate\",IF(Table19[[#This Row],[Disposition]]=\"Lost\",\"Find\",IF(OR(Table19[[#This Row],[Next Calibration]]<$E$1,Table19[[#This Row],[Next Calibration]]=\"NEVER CALIBRATED\"),\"Calibrate\",\"Nominal\"))))","v":""},{"$f":"IF(((Table19[[#This Row],[Next Calibration]]-TODAY())/30)>2,\"More Than 2\",IF(((Table19[[#This Row],[Next Calibration]]-TODAY())/30)>1,\"Between 2 and 1\",\"Less than 1\"))","v":{"$error":"#VALUE!"}},{"$f":"IF(Table19[[#This Row],[Issued]]=\"\",\"\",IF(Table19[[#This Row],[Lent]]=\"\",0,1))","v":""},{"$f":"IF(Table19[[#This Row],[Lent]]=\"\",\"\",IF(Table19[[#This Row],[Returned]]=\"\",0,1))","v":""}]
[{"$nulls":11},{"$f":"IF(IF(Table19[[#This Row],[Disposition]]=\"Retired\",\"N/A\",IF(Table19[[#This Row],[Disposition]]=0,\"\",K26+$F$2))=0+$F$2,\"NEVER CALIBRATED\",IF(Table19[[#This Row],[Disposition]]=\"Retired\",\"N/A\",IF(Table19[[#This Row],[Disposition]]=0,\"\",K26+$F$2)))","v":""},{"$f":"IF(Table19[[#This Row],[Disposition]]=\"\",\"\",IF(AND(Table19[[#This Row],[Next Calibration]]<$E$1,Table19[[#This Row],[Disposition]]=\"Lost\"),\"Find and Calibrate\",IF(Table19[[#This Row],[Disposition]]=\"Lost\",\"Find\",IF(OR(Table19[[#This Row],[Next Calibration]]<$E$1,Table19[[#This Row],[Next Calibration]]=\"NEVER CALIBRATED\"),\"Calibrate\",\"Nominal\"))))","v":""},{"$f":"IF(((Table19[[#This Row],[Next Calibration]]-TODAY())/30)>2,\"More Than 2\",IF(((Table19[[#This Row],[Next Calibration]]-TODAY())/30)>1,\"Between 2 and 1\",\"Less than 1\"))","v":{"$error":"#VALUE!"}},{"$f":"IF(Table19[[#This Row],[Issued]]=\"\",\"\",IF(Table19[[#This Row],[Lent]]=\"\",0,1))","v":""},{"$f":"IF(Table19[[#This Row],[Lent]]=\"\",\"\",IF(Table19[[#This Row],[Returned]]=\"\",0,1))","v":""}]
[{"$nulls":11},{"$f":"IF(IF(Table19[[#This Row],[Disposition]]=\"Retired\",\"N/A\",IF(Table19[[#This Row],[Disposition]]=0,\"\",K27+$F$2))=0+$F$2,\"NEVER CALIBRATED\",IF(Table19[[#This Row],[Disposition]]=\"Retired\",\"N/A\",IF(Table19[[#This Row],[Disposition]]=0,\"\",K27+$F$2)))","v":""},{"$f":"IF(Table19[[#This Row],[Disposition]]=\"\",\"\",IF(AND(Table19[[#This Row],[Next Calibration]]<$E$1,Table19[[#This Row],[Disposition]]=\"Lost\"),\"Find and Calibrate\",IF(Table19[[#This Row],[Disposition]]=\"Lost\",\"Find\",IF(OR(Table19[[#This Row],[Next Calibration]]<$E$1,Table19[[#This Row],[Next Calibration]]=\"NEVER CALIBRATED\"),\"Calibrate\",\"Nominal\"))))","v":""},{"$f":"IF(((Table19[[#This Row],[Next Calibration]]-TODAY())/30)>2,\"More Than 2\",IF(((Table19[[#This Row],[Next Calibration]]-TODAY())/30)>1,\"Between 2 and 1\",\"Less than 1\"))","v":{"$error":"#VALUE!"}},{"$f":"IF(Table19[[#This Row],[Issued]]=\"\",\"\",IF(Table19[[#This Row],[Lent]]=\"\",0,1))","v":""},{"$f":"IF(Table19[[#This Row],[Lent]]=\"\",\"\",IF(Table19[[#This Row],[Returned]]=\"\",0,1))","v":""}]
[{"$nulls":11},{"$f":"IF(IF(Table19[[#This Row],[Disposition]]=\"Retired\",\"N/A\",IF(Table19[[#This Row],[Disposition]]=0,\"\",K28+$F$2))=0+$F$2,\"NEVER CALIBRATED\",IF(Table19[[#This Row],[Disposition]]=\"Retired\",\"N/A\",IF(Table19[[#This Row],[Disposition]]=0,\"\",K28+$F$2)))","v":""},{"$f":"IF(Table19[[#This Row],[Disposition]]=\"\",\"\",IF(AND(Table19[[#This Row],[Next Calibration]]<$E$1,Table19[[#This Row],[Disposition]]=\"Lost\"),\"Find and Calibrate\",IF(Table19[[#This Row],[Disposition]]=\"Lost\",\"Find\",IF(OR(Table19[[#This Row],[Next Calibration]]<$E$1,Table19[[#This Row],[Next Calibration]]=\"NEVER CALIBRATED\"),\"Calibrate\",\"Nominal\"))))","v":""},{"$f":"IF(((Table19[[#This Row],[Next Calibration]]-TODAY())/30)>2,\"More Than 2\",IF(((Table19[[#This Row],[Next Calibration]]-TODAY())/30)>1,\"Between 2 and 1\",\"Less than 1\"))","v":{"$error":"#VALUE!"}},{"$f":"IF(Table19[[#This Row],[Issued]]=\"\",\"\",IF(Table19[[#This Row],[Lent]]=\"\",0,1))","v":""},{"$f":"IF(Table19[[#This Row],[Lent]]=\"\",\"\",IF(Table19[[#This Row],[Returned]]=\"\",0,1))","v":""}]
[{"$nulls":11},{"$f":"IF(IF(Table19[[#This Row],[Disposition]]=\"Retired\",\"N/A\",IF(Table19[[#This Row],[Disposition]]=0,\"\",K29+$F$2))=0+$F$2,\"NEVER CALIBRATED\",IF(Table19[[#This Row],[Disposition]]=\"Retired\",\"N/A\",IF(Table19[[#This Row],[Disposition]]=0,\"\",K29+$F$2)))","v":""},{"$f":"IF(Table19[[#This Row],[Disposition]]=\"\",\"\",IF(AND(Table19[[#This Row],[Next Calibration]]<$E$1,Table19[[#This Row],[Disposition]]=\"Lost\"),\"Find and Calibrate\",IF(Table19[[#This Row],[Disposition]]=\"Lost\",\"Find\",IF(OR(Table19[[#This Row],[Next Calibration]]<$E$1,Table19[[#This Row],[Next Calibration]]=\"NEVER CALIBRATED\"),\"Calibrate\",\"Nominal\"))))","v":""},{"$f":"IF(((Table19[[#This Row],[Next Calibration]]-TODAY())/30)>2,\"More Than 2\",IF(((Table19[[#This Row],[Next Calibration]]-TODAY())/30)>1,\"Between 2 and 1\",\"Less than 1\"))","v":{"$error":"#VALUE!"}},{"$f":"IF(Table19[[#This Row],[Issued]]=\"\",\"\",IF(Table19[[#This Row],[Lent]]=\"\",0,1))","v":""},{"$f":"IF(Table19[[#This Row],[Lent]]=\"\",\"\",IF(Table19[[#This Row],[Returned]]=\"\",0,1))","v":""}]
[{"$nulls":11},{"$f":"IF(IF(Table19[[#This Row],[Disposition]]=\"Retired\",\"N/A\",IF(Table19[[#This Row],[Disposition]]=0,\"\",K30+$F$2))=0+$F$2,\"NEVER CALIBRATED\",IF(Table19[[#This Row],[Disposition]]=\"Retired\",\"N/A\",IF(Table19[[#This Row],[Disposition]]=0,\"\",K30+$F$2)))","v":""},{"$f":"IF(Table19[[#This Row],[Disposition]]=\"\",\"\",IF(AND(Table19[[#This Row],[Next Calibration]]<$E$1,Table19[[#This Row],[Disposition]]=\"Lost\"),\"Find and Calibrate\",IF(Table19[[#This Row],[Disposition]]=\"Lost\",\"Find\",IF(OR(Table19[[#This Row],[Next Calibration]]<$E$1,Table19[[#This Row],[Next Calibration]]=\"NEVER CALIBRATED\"),\"Calibrate\",\"Nominal\"))))","v":""},{"$f":"IF(((Table19[[#This Row],[Next Calibration]]-TODAY())/30)>2,\"More Than 2\",IF(((Table19[[#This Row],[Next Calibration]]-TODAY())/30)>1,\"Between 2 and 1\",\"Less than 1\"))","v":{"$error":"#VALUE!"}},{"$f":"IF(Table19[[#This Row],[Issued]]=\"\",\"\",IF(Table19[[#This Row],[Lent]]=\"\",0,1))","v":""},{"$f":"IF(Table19[[#This Row],[Lent]]=\"\",\"\",IF(Table19[[#This Row],[Returned]]=\"\",0,1))","v":""}]
[{"$nulls":11},{"$f":"IF(IF(Table19[[#This Row],[Disposition]]=\"Retired\",\"N/A\",IF(Table19[[#This Row],[Disposition]]=0,\"\",K31+$F$2))=0+$F$2,\"NEVER CALIBRATED\",IF(Table19[[#This Row],[Disposition]]=\"Retired\",\"N/A\",IF(Table19[[#This Row],[Disposition]]=0,\"\",K31+$F$2)))","v":""},{"$f":"IF(Table19[[#This Row],[Disposition]]=\"\",\"\",IF(AND(Table19[[#This Row],[Next Calibration]]<$E$1,Table19[[#This Row],[Disposition]]=\"Lost\"),\"Find and Calibrate\",IF(Table19[[#This Row],[Disposition]]=\"Lost\",\"Find\",IF(OR(Table19[[#This Row],[Next Calibration]]<$E$1,Table19[[#This Row],[Next Calibration]]=\"NEVER CALIBRATED\"),\"Calibrate\",\"Nominal\"))))","v":""},{"$f":"IF(((Table19[[#This Row],[Next Calibration]]-TODAY())/30)>2,\"More Than 2\",IF(((Table19[[#This Row],[Next Calibration]]-TODAY())/30)>1,\"Between 2 and 1\",\"Less than 1\"))","v":{"$error":"#VALUE!"}},{"$f":"IF(Table19[[#This Row],[Issued]]=\"\",\"\",IF(Table19[[#This Row],[Lent]]=\"\",0,1))","v":""},{"$f":"IF(Table19[[#This Row],[Lent]]=\"\",\"\",IF(Table19[[#This Row],[Returned]]=\"\",0,1))","v":""}]
[{"$nulls":11},{"$f":"IF(IF(Table19[[#This Row],[Disposition]]=\"Retired\",\"N/A\",IF(Table19[[#This Row],[Disposition]]=0,\"\",K32+$F$2))=0+$F$2,\"NEVER CALIBRATED\",IF(Table19[[#This Row],[Disposition]]=\"Retired\",\"N/A\",IF(Table19[[#This Row],[Disposition]]=0,\"\",K32+$F$2)))","v":""},{"$f":"IF(Table19[[#This Row],[Disposition]]=\"\",\"\",IF(AND(Table19[[#This Row],[Next Calibration]]<$E$1,Table19[[#This Row],[Disposition]]=\"Lost\"),\"Find and Calibrate\",IF(Table19[[#This Row],[Disposition]]=\"Lost\",\"Find\",IF(OR(Table19[[#This Row],[Next Calibration]]<$E$1,Table19[[#This Row],[Next Calibration]]=\"NEVER CALIBRATED\"),\"Calibrate\",\"Nominal\"))))","v":""},{"$f":"IF(((Table19[[#This Row],[Next Calibration]]-TODAY())/30)>2,\"More Than 2\",IF(((Table19[[#This Row],[Next Calibration]]-TODAY())/30)>1,\"Between 2 and 1\",\"Less than 1\"))","v":{"$error":"#VALUE!"}},{"$f":"IF(Table19[[#This Row],[Issued]]=\"\",\"\",IF(Table19[[#This Row],[Lent]]=\"\",0,1))","v":""},{"$f":"IF(Table19[[#This Row],[Lent]]=\"\",\"\",IF(Table19[[#This Row],[Returned]]=\"\",0,1))","v":""}]
[{"$nulls":11},{"$f":"IF(IF(Table19[[#This Row],[Disposition]]=\"Retired\",\"N/A\",IF(Table19[[#This Row],[Disposition]]=0,\"\",K33+$F$2))=0+$F$2,\"NEVER CALIBRATED\",IF(Table19[[#This Row],[Disposition]]=\"Retired\",\"N/A\",IF(Table19[[#This Row],[Disposition]]=0,\"\",K33+$F$2)))","v":""},{"$f":"IF(Table19[[#This Row],[Disposition]]=\"\",\"\",IF(AND(Table19[[#This Row],[Next Calibration]]<$E$1,Table19[[#This Row],[Disposition]]=\"Lost\"),\"Find and Calibrate\",IF(Table19[[#This Row],[Disposition]]=\"Lost\",\"Find\",IF(OR(Table19[[#This Row],[Next Calibration]]<$E$1,Table19[[#This Row],[Next Calibration]]=\"NEVER CALIBRATED\"),\"Calibrate\",\"Nominal\"))))","v":""},{"$f":"IF(((Table19[[#This Row],[Next Calibration]]-TODAY())/30)>2,\"More Than 2\",IF(((Table19[[#This Row],[Next Calibration]]-TODAY())/30)>1,\"Between 2 and 1\",\"Less than 1\"))","v":{"$error":"#VALUE!"}},{"$f":"IF(Table19[[#This Row],[Issued]]=\"\",\"\",IF(Table19[[#This Row],[Lent]]=\"\",0,1))","v":""},{"$f":"IF(Table19[[#This Row],[Lent]]=\"\",\"\",IF(Table19[[#This Row],[Returned]]=\"\",0,1))","v":""}]
[{"$nulls":11},{"$f":"IF(IF(Table19[[#This Row],[Disposition]]=\"Retired\",\"N/A\",IF(Table19[[#This Row],[Disposition]]=0,\"\",K34+$F$2))=0+$F$2,\"NEVER CALIBRATED\",IF(Table19[[#This Row],[Disposition]]=\"Retired\",\"N/A\",IF(Table19[[#This Row],[Disposition]]=0,\"\",K34+$F$2)))","v":""},{"$f":"IF(Table19[[#This Row],[Disposition]]=\"\",\"\",IF(AND(Table19[[#This Row],[Next Calibration]]<$E$1,Table19[[#This Row],[Disposition]]=\"Lost\"),\"Find and Calibrate\",IF(Table19[[#This Row],[Disposition]]=\"Lost\",\"Find\",IF(OR(Table19[[#This Row],[Next Calibration]]<$E$1,Table19[[#This Row],[Next Calibration]]=\"NEVER CALIBRATED\"),\"Calibrate\",\"Nominal\"))))","v":""},{"$f":"IF(((Table19[[#This Row],[Next Calibration]]-TODAY())/30)>2,\"More Than 2\",IF(((Table19[[#This Row],[Next Calibration]]-TODAY())/30)>1,\"Between 2 and 1\",\"Less than 1\"))","v":{"$error":"#VALUE!"}},{"$f":"IF(Table19[[#This Row],[Issued]]=\"\",\"\",IF(Table19[[#This Row],[Lent]]=\"\",0,1))","v":""},{"$f":"IF(Table19[[#This Row],[Lent]]=\"\",\"\",IF(Table19[[#This Row],[Returned]]=\"\",0,1))","v":""}]
[{"$nulls":11},{"$f":"IF(IF(Table19[[#This Row],[Disposition]]=\"Retired\",\"N/A\",IF(Table19[[#This Row],[Disposition]]=0,\"\",K35+$F$2))=0+$F$2,\"NEVER CALIBRATED\",IF(Table19[[#This Row],[Disposition]]=\"Retired\",\"N/A\",IF(Table19[[#This Row],[Disposition]]=0,\"\",K35+$F$2)))","v":""},{"$f":"IF(Table19[[#This Row],[Disposition]]=\"\",\"\",IF(AND(Table19[[#This Row],[Next Calibration]]<$E$1,Table19[[#This Row],[Disposition]]=\"Lost\"),\"Find and Calibrate\",IF(Table19[[#This Row],[Disposition]]=\"Lost\",\"Find\",IF(OR(Table19[[#This Row],[Next Calibration]]<$E$1,Table19[[#This Row],[Next Calibration]]=\"NEVER CALIBRATED\"),\"Calibrate\",\"Nominal\"))))","v":""},{"$f":"IF(((Table19[[#This Row],[Next Calibration]]-TODAY())/30)>2,\"More Than 2\",IF(((Table19[[#This Row],[Next Calibration]]-TODAY())/30)>1,\"Between 2 and 1\",\"Less than 1\"))","v":{"$error":"#VALUE!"}},{"$f":"IF(Table19[[#This Row],[Issued]]=\"\",\"\",IF(Table19[[#This Row],[Lent]]=\"\",0,1))","v":""},{"$f":"IF(Table19[[#This Row],[Lent]]=\"\",\"\",IF(Table19[[#This Row],[Returned]]=\"\",0,1))","v":""}]
[{"$nulls":11},{"$f":"IF(IF(Table19[[#This Row],[Disposition]]=\"Retired\",\"N/A\",IF(Table19[[#This Row],[Disposition]]=0,\"\",K36+$F$2))=0+$F$2,\"NEVER CALIBRATED\",IF(Table19[[#This Row],[Disposition]]=\"Retired\",\"N/A\",IF(Table19[[#This Row],[Disposition]]=0,\"\",K36+$F$2)))","v":""},{"$f":"IF(Table19[[#This Row],[Disposition]]=\"\",\"\",IF(AND(Table19[[#This Row],[Next Calibration]]<$E$1,Table19[[#This Row],[Disposition]]=\"Lost\"),\"Find and Calibrate\",IF(Table19[[#This Row],[Disposition]]=\"Lost\",\"Find\",IF(OR(Table19[[#This Row],[Next Calibration]]<$E$1,Table19[[#This Row],[Next Calibration]]=\"NEVER CALIBRATED\"),\"Calibrate\",\"Nominal\"))))","v":""},{"$f":"IF(((Table19[[#This Row],[Next Calibration]]-TODAY())/30)>2,\"More Than 2\",IF(((Table19[[#This Row],[Next Calibration]]-TODAY())/30)>1,\"Between 2 and 1\",\"Less than 1\"))","v":{"$error":"#VALUE!"}},{"$f":"IF(Table19[[#This Row],[Issued]]=\"\",\"\",IF(Table19[[#This Row],[Lent]]=\"\",0,1))","v":""},{"$f":"IF(Table19[[#This Row],[Lent]]=\"\",\"\",IF(Table19[[#This Row],[Returned]]=\"\",0,1))","v":""}]
[{"$nulls":11},{"$f":"IF(IF(Table19[[#This Row],[Disposition]]=\"Retired\",\"N/A\",IF(Table19[[#This Row],[Disposition]]=0,\"\",K37+$F$2))=0+$F$2,\"NEVER CALIBRATED\",IF(Table19[[#This Row],[Disposition]]=\"Retired\",\"N/A\",IF(Table19[[#This Row],[Disposition]]=0,\"\",K37+$F$2)))","v":""},{"$f":"IF(Table19[[#This Row],[Disposition]]=\"\",\"\",IF(AND(Table19[[#This Row],[Next Calibration]]<$E$1,Table19[[#This Row],[Disposition]]=\"Lost\"),\"Find and Calibrate\",IF(Table19[[#This Row],[Disposition]]=\"Lost\",\"Find\",IF(OR(Table19[[#This Row],[Next Calibration]]<$E$1,Table19[[#This Row],[Next Calibration]]=\"NEVER CALIBRATED\"),\"Calibrate\",\"Nominal\"))))","v":""},{"$f":"IF(((Table19[[#This Row],[Next Calibration]]-TODAY())/30)>2,\"More Than 2\",IF(((Table19[[#This Row],[Next Calibration]]-TODAY())/30)>1,\"Between 2 and 1\",\"Less than 1\"))","v":{"$error":"#VALUE!"}},{"$f":"IF(Table19[[#This Row],[Issued]]=\"\",\"\",IF(Table19[[#This Row],[Lent]]=\"\",0,1))","v":""},{"$f":"IF(Table19[[#This Row],[Lent]]=\"\",\"\",IF(Table19[[#This Row],[Returned]]=\"\",0,1))","v":""}]
[{"$nulls":11},{"$f":"IF(IF(Table19[[#This Row],[Disposition]]=\"Retired\",\"N/A\",IF(Table19[[#This Row],[Disposition]]=0,\"\",K38+$F$2))=0+$F$2,\"NEVER CALIBRATED\",IF(Table19[[#This Row],[Disposition]]=\"Retired\",\"N/A\",IF(Table19[[#This Row],[Disposition]]=0,\"\",K38+$F$2)))","v":""},{"$f":"IF(Table19[[#This Row],[Disposition]]=\"\",\"\",IF(AND(Table19[[#This Row],[Next Calibration]]<$E$1,Table19[[#This Row],[Disposition]]=\"Lost\"),\"Find and Calibrate\",IF(Table19[[#This Row],[Disposition]]=\"Lost\",\"Find\",IF(OR(Table19[[#This Row],[Next Calibration]]<$E$1,Table19[[#This Row],[Next Calibration]]=\"NEVER CALIBRATED\"),\"Calibrate\",\"Nominal\"))))","v":""},{"$f":"IF(((Table19[[#This Row],[Next Calibration]]-TODAY())/30)>2,\"More Than 2\",IF(((Table19[[#This Row],[Next Calibration]]-TODAY())/30)>1,\"Between 2 and 1\",\"Less than 1\"))","v":{"$error":"#VALUE!"}},{"$f":"IF(Table19[[#This Row],[Issued]]=\"\",\"\",IF(Table19[[#This Row],[Lent]]=\"\",0,1))","v":""},{"$f":"IF(Table19[[#This Row],[Lent]]=\"\",\"\",IF(Table19[[#This Row],[Returned]]=\"\",0,1))","v":""}]
[{"$nulls":11},{"$f":"IF(IF(Table19[[#This Row],[Disposition]]=\"Retired\",\"N/A\",IF(Table19[[#This Row],[Disposition]]=0,\"\",K39+$F$2))=0+$F$2,\"NEVER CALIBRATED\",IF(Table19[[#This Row],[Disposition]]=\"Retired\",\"N/A\",IF(Table19[[#This Row],[Disposition]]=0,\"\",K39+$F$2)))","v":""},{"$f":"IF(Table19[[#This Row],[Disposition]]=\"\",\"\",IF(AND(Table19[[#This Row],[Next Calibration]]<$E$1,Table19[[#This Row],[Disposition]]=\"Lost\"),\"Find and Calibrate\",IF(Table19[[#This Row],[Disposition]]=\"Lost\",\"Find\",IF(OR(Table19[[#This Row],[Next Calibration]]<$E$1,Table19[[#This Row],[Next Calibration]]=\"NEVER CALIBRATED\"),\"Calibrate\",\"Nominal\"))))","v":""},{"$f":"IF(((Table19[[#This Row],[Next Calibration]]-TODAY())/30)>2,\"More Than 2\",IF(((Table19[[#This Row],[Next Calibration]]-TODAY())/30)>1,\"Between 2 and 1\",\"Less than 1\"))","v":{"$error":"#VALUE!"}},{"$f":"IF(Table19[[#This Row],[Issued]]=\"\",\"\",IF(Table19[[#This Row],[Lent]]=\"\",0,1))","v":""},{"$f":"IF(Table19[[#This Row],[Lent]]=\"\",\"\",IF(Table19[[#This Row],[Returned]]=\"\",0,1))","v":""}]
[{"$nulls":11},{"$f":"IF(IF(Table19[[#This Row],[Disposition]]=\"Retired\",\"N/A\",IF(Table19[[#This Row],[Disposition]]=0,\"\",K40+$F$2))=0+$F$2,\"NEVER CALIBRATED\",IF(Table19[[#This Row],[Disposition]]=\"Retired\",\"N/A\",IF(Table19[[#This Row],[Disposition]]=0,\"\",K40+$F$2)))","v":""},{"$f":"IF(Table19[[#This Row],[Disposition]]=\"\",\"\",IF(AND(Table19[[#This Row],[Next Calibration]]<$E$1,Table19[[#This Row],[Disposition]]=\"Lost\"),\"Find and Calibrate\",IF(Table19[[#This Row],[Disposition]]=\"Lost\",\"Find\",IF(OR(Table19[[#This Row],[Next Calibration]]<$E$1,Table19[[#This Row],[Next Calibration]]=\"NEVER CALIBRATED\"),\"Calibrate\",\"Nominal\"))))","v":""},{"$f":"IF(((Table19[[#This Row],[Next Calibration]]-TODAY())/30)>2,\"More Than 2\",IF(((Table19[[#This Row],[Next Calibration]]-TODAY())/30)>1,\"Between 2 and 1\",\"Less than 1\"))","v":{"$error":"#VALUE!"}},{"$f":"IF(Table19[[#This Row],[Issued]]=\"\",\"\",IF(Table19[[#This Row],[Lent]]=\"\",0,1))","v":""},{"$f":"IF(Table19[[#This Row],[Lent]]=\"\",\"\",IF(Table19[[#This Row],[Returned]]=\"\",0,1))","v":""}]
[{"$nulls":11},{"$f":"IF(IF(Table19[[#This Row],[Disposition]]=\"Retired\",\"N/A\",IF(Table19[[#This Row],[Disposition]]=0,\"\",K41+$F$2))=0+$F$2,\"NEVER CALIBRATED\",IF(Table19[[#This Row],[Disposition]]=\"Retired\",\"N/A\",IF(Table19[[#This Row],[Disposition]]=0,\"\",K41+$F$2)))","v":""},{"$f":"IF(Table19[[#This Row],[Disposition]]=\"\",\"\",IF(AND(Table19[[#This Row],[Next Calibration]]<$E$1,Table19[[#This Row],[Disposition]]=\"Lost\"),\"Find and Calibrate\",IF(Table19[[#This Row],[Disposition]]=\"Lost\",\"Find\",IF(OR(Table19[[#This Row],[Next Calibration]]<$E$1,Table19[[#This Row],[Next Calibration]]=\"NEVER CALIBRATED\"),\"Calibrate\",\"Nominal\"))))","v":""},{"$f":"IF(((Table19[[#This Row],[Next Calibration]]-TODAY())/30)>2,\"More Than 2\",IF(((Table19[[#This Row],[Next Calibration]]-TODAY())/30)>1,\"Between 2 and 1\",\"Less than 1\"))","v":{"$error":"#VALUE!"}},{"$f":"IF(Table19[[#This Row],[Issued]]=\"\",\"\",IF(Table19[[#This Row],[Lent]]=\"\",0,1))","v":""},{"$f":"IF(Table19[[#This Row],[Lent]]=\"\",\"\",IF(Table19[[#This Row],[Returned]]=\"\",0,1))","v":""}]
[{"$nulls":11},{"$f":"IF(IF(Table19[[#This Row],[Disposition]]=\"Retired\",\"N/A\",IF(Table19[[#This Row],[Disposition]]=0,\"\",K42+$F$2))=0+$F$2,\"NEVER CALIBRATED\",IF(Table19[[#This Row],[Disposition]]=\"Retired\",\"N/A\",IF(Table19[[#This Row],[Disposition]]=0,\"\",K42+$F$2)))","v":""},{"$f":"IF(Table19[[#This Row],[Disposition]]=\"\",\"\",IF(AND(Table19[[#This Row],[Next Calibration]]<$E$1,Table19[[#This Row],[Disposition]]=\"Lost\"),\"Find and Calibrate\",IF(Table19[[#This Row],[Disposition]]=\"Lost\",\"Find\",IF(OR(Table19[[#This Row],[Next Calibration]]<$E$1,Table19[[#This Row],[Next Calibration]]=\"NEVER CALIBRATED\"),\"Calibrate\",\"Nominal\"))))","v":""},{"$f":"IF(((Table19[[#This Row],[Next Calibration]]-TODAY())/30)>2,\"More Than 2\",IF(((Table19[[#This Row],[Next Calibration]]-TODAY())/30)>1,\"Between 2 and 1\",\"Less than 1\"))","v":{"$error":"#VALUE!"}},{"$f":"IF(Table19[[#This Row],[Issued]]=\"\",\"\",IF(Table19[[#This Row],[Lent]]=\"\",0,1))","v":""},{"$f":"IF(Table19[[#This Row],[Lent]]=\"\",\"\",IF(Table19[[#This Row],[Returned]]=\"\",0,1))","v":""}]
[{"$nulls":11},{"$f":"IF(IF(Table19[[#This Row],[Disposition]]=\"Retired\",\"N/A\",IF(Table19[[#This Row],[Disposition]]=0,\"\",K43+$F$2))=0+$F$2,\"NEVER CALIBRATED\",IF(Table19[[#This Row],[Disposition]]=\"Retired\",\"N/A\",IF(Table19[[#This Row],[Disposition]]=0,\"\",K43+$F$2)))","v":""},{"$f":"IF(Table19[[#This Row],[Disposition]]=\"\",\"\",IF(AND(Table19[[#This Row],[Next Calibration]]<$E$1,Table19[[#This Row],[Disposition]]=\"Lost\"),\"Find and Calibrate\",IF(Table19[[#This Row],[Disposition]]=\"Lost\",\"Find\",IF(OR(Table19[[#This Row],[Next Calibration]]<$E$1,Table19[[#This Row],[Next Calibration]]=\"NEVER CALIBRATED\"),\"Calibrate\",\"Nominal\"))))","v":""},{"$f":"IF(((Table19[[#This Row],[Next Calibration]]-TODAY())/30)>2,\"More Than 2\",IF(((Table19[[#This Row],[Next Calibration]]-TODAY())/30)>1,\"Between 2 and 1\",\"Less than 1\"))","v":{"$error":"#VALUE!"}},{"$f":"IF(Table19[[#This Row],[Issued]]=\"\",\"\",IF(Table19[[#This Row],[Lent]]=\"\",0,1))","v":""},{"$f":"IF(Table19[[#This Row],[Lent]]=\"\",\"\",IF(Table19[[#This Row],[Returned]]=\"\",0,1))","v":""}]
[{"$nulls":11},{"$f":"IF(IF(Table19[[#This Row],[Disposition]]=\"Retired\",\"N/A\",IF(Table19[[#This Row],[Disposition]]=0,\"\",K44+$F$2))=0+$F$2,\"NEVER CALIBRATED\",IF(Table19[[#This Row],[Disposition]]=\"Retired\",\"N/A\",IF(Table19[[#This Row],[Disposition]]=0,\"\",K44+$F$2)))","v":""},{"$f":"IF(Table19[[#This Row],[Disposition]]=\"\",\"\",IF(AND(Table19[[#This Row],[Next Calibration]]<$E$1,Table19[[#This Row],[Disposition]]=\"Lost\"),\"Find and Calibrate\",IF(Table19[[#This Row],[Disposition]]=\"Lost\",\"Find\",IF(OR(Table19[[#This Row],[Next Calibration]]<$E$1,Table19[[#This Row],[Next Calibration]]=\"NEVER CALIBRATED\"),\"Calibrate\",\"Nominal\"))))","v":""},{"$f":"IF(((Table19[[#This Row],[Next Calibration]]-TODAY())/30)>2,\"More Than 2\",IF(((Table19[[#This Row],[Next Calibration]]-TODAY())/30)>1,\"Between 2 and 1\",\"Less than 1\"))","v":{"$error":"#VALUE!"}},{"$f":"IF(Table19[[#This Row],[Issued]]=\"\",\"\",IF(Table19[[#This Row],[Lent]]=\"\",0,1))","v":""},{"$f":"IF(Table19[[#This Row],[Lent]]=\"\",\"\",IF(Table19[[#This Row],[Returned]]=\"\",0,1))","v":""}]
[{"$nulls":11},{"$f":"IF(IF(Table19[[#This Row],[Disposition]]=\"Retired\",\"N/A\",IF(Table19[[#This Row],[Disposition]]=0,\"\",K45+$F$2))=0+$F$2,\"NEVER CALIBRATED\",IF(Table19[[#This Row],[Disposition]]=\"Retired\",\"N/A\",IF(Table19[[#This Row],[Disposition]]=0,\"\",K45+$F$2)))","v":""},{"$f":"IF(Table19[[#This Row],[Disposition]]=\"\",\"\",IF(AND(Table19[[#This Row],[Next Calibration]]<$E$1,Table19[[#This Row],[Disposition]]=\"Lost\"),\"Find and Calibrate\",IF(Table19[[#This Row],[Disposition]]=\"Lost\",\"Find\",IF(OR(Table19[[#This Row],[Next Calibration]]<$E$1,Table19[[#This Row],[Next Calibration]]=\"NEVER CALIBRATED\"),\"Calibrate\",\"Nominal\"))))","v":""},{"$f":"IF(((Table19[[#This Row],[Next Calibration]]-TODAY())/30)>2,\"More Than 2\",IF(((Table19[[#This Row],[Next Calibration]]-TODAY())/30)>1,\"Between 2 and 1\",\"Less than 1\"))","v":{"$error":"#VALUE!"}},{"$f":"IF(Table19[[#This Row],[Issued]]=\"\",\"\",IF(Table19[[#This Row],[Lent]]=\"\",0,1))","v":""},{"$f":"IF(Table19[[#This Row],[Lent]]=\"\",\"\",IF(Table19[[#This Row],[Returned]]=\"\",0,1))","v":""}]
[{"$nulls":11},{"$f":"IF(IF(Table19[[#This Row],[Disposition]]=\"Retired\",\"N/A\",IF(Table19[[#This Row],[Disposition]]=0,\"\",K46+$F$2))=0+$F$2,\"NEVER CALIBRATED\",IF(Table19[[#This Row],[Disposition]]=\"Retired\",\"N/A\",IF(Table19[[#This Row],[Disposition]]=0,\"\",K46+$F$2)))","v":""},{"$f":"IF(Table19[[#This Row],[Disposition]]=\"\",\"\",IF(AND(Table19[[#This Row],[Next Calibration]]<$E$1,Table19[[#This Row],[Disposition]]=\"Lost\"),\"Find and Calibrate\",IF(Table19[[#This Row],[Disposition]]=\"Lost\",\"Find\",IF(OR(Table19[[#This Row],[Next Calibration]]<$E$1,Table19[[#This Row],[Next Calibration]]=\"NEVER CALIBRATED\"),\"Calibrate\",\"Nominal\"))))","v":""},{"$f":"IF(((Table19[[#This Row],[Next Calibration]]-TODAY())/30)>2,\"More Than 2\",IF(((Table19[[#This Row],[Next Calibration]]-TODAY())/30)>1,\"Between 2 and 1\",\"Less than 1\"))","v":{"$error":"#VALUE!"}},{"$f":"IF(Table19[[#This Row],[Issued]]=\"\",\"\",IF(Table19[[#This Row],[Lent]]=\"\",0,1))","v":""},{"$f":"IF(Table19[[#This Row],[Lent]]=\"\",\"\",IF(Table19[[#This Row],[Returned]]=\"\",0,1))","v":""}]
[{"$nulls":11},{"$f":"IF(IF(Table19[[#This Row],[Disposition]]=\"Retired\",\"N/A\",IF(Table19[[#This Row],[Disposition]]=0,\"\",K47+$F$2))=0+$F$2,\"NEVER CALIBRATED\",IF(Table19[[#This Row],[Disposition]]=\"Retired\",\"N/A\",IF(Table19[[#This Row],[Disposition]]=0,\"\",K47+$F$2)))","v":""},{"$f":"IF(Table19[[#This Row],[Disposition]]=\"\",\"\",IF(AND(Table19[[#This Row],[Next Calibration]]<$E$1,Table19[[#This Row],[Disposition]]=\"Lost\"),\"Find and Calibrate\",IF(Table19[[#This Row],[Disposition]]=\"Lost\",\"Find\",IF(OR(Table19[[#This Row],[Next Calibration]]<$E$1,Table19[[#This Row],[Next Calibration]]=\"NEVER CALIBRATED\"),\"Calibrate\",\"Nominal\"))))","v":""},{"$f":"IF(((Table19[[#This Row],[Next Calibration]]-TODAY())/30)>2,\"More Than 2\",IF(((Table19[[#This Row],[Next Calibration]]-TODAY())/30)>1,\"Between 2 and 1\",\"Less than 1\"))","v":{"$error":"#VALUE!"}},{"$f":"IF(Table19[[#This Row],[Issued]]=\"\",\"\",IF(Table19[[#This Row],[Lent]]=\"\",0,1))","v":""},{"$f":"IF(Table19[[#This Row],[Lent]]=\"\",\"\",IF(Table19[[#This Row],[Returned]]=\"\",0,1))","v":""}]
[{"$nulls":11},{"$f":"IF(IF(Table19[[#This Row],[Disposition]]=\"Retired\",\"N/A\",IF(Table19[[#This Row],[Disposition]]=0,\"\",K48+$F$2))=0+$F$2,\"NEVER CALIBRATED\",IF(Table19[[#This Row],[Disposition]]=\"Retired\",\"N/A\",IF(Table19[[#This Row],[Disposition]]=0,\"\",K48+$F$2)))","v":""},{"$f":"IF(Table19[[#This Row],[Disposition]]=\"\",\"\",IF(AND(Table19[[#This Row],[Next Calibration]]<$E$1,Table19[[#This Row],[Disposition]]=\"Lost\"),\"Find and Calibrate\",IF(Table19[[#This Row],[Disposition]]=\"Lost\",\"Find\",IF(OR(Table19[[#This Row],[Next Calibration]]<$E$1,Table19[[#This Row],[Next Calibration]]=\"NEVER CALIBRATED\"),\"Calibrate\",\"Nominal\"))))","v":""},{"$f":"IF(((Table19[[#This Row],[Next Calibration]]-TODAY())/30)>2,\"More Than 2\",IF(((Table19[[#This Row],[Next Calibration]]-TODAY())/30)>1,\"Between 2 and 1\",\"Less than 1\"))","v":{"$error":"#VALUE!"}},{"$f":"IF(Table19[[#This Row],[Issued]]=\"\",\"\",IF(Table19[[#This Row],[Lent]]=\"\",0,1))","v":""},{"$f":"IF(Table19[[#This Row],[Lent]]=\"\",\"\",IF(Table19[[#This Row],[Returned]]=\"\",0,1))","v":""}]
[{"$nulls":11},{"$f":"IF(IF(Table19[[#This Row],[Disposition]]=\"Retired\",\"N/A\",IF(Table19[[#This Row],[Disposition]]=0,\"\",K49+$F$2))=0+$F$2,\"NEVER CALIBRATED\",IF(Table19[[#This Row],[Disposition]]=\"Retired\",\"N/A\",IF(Table19[[#This Row],[Disposition]]=0,\"\",K49+$F$2)))","v":""},{"$f":"IF(Table19[[#This Row],[Disposition]]=\"\",\"\",IF(AND(Table19[[#This Row],[Next Calibration]]<$E$1,Table19[[#This Row],[Disposition]]=\"Lost\"),\"Find and Calibrate\",IF(Table19[[#This Row],[Disposition]]=\"Lost\",\"Find\",IF(OR(Table19[[#This Row],[Next Calibration]]<$E$1,Table19[[#This Row],[Next Calibration]]=\"NEVER CALIBRATED\"),\"Calibrate\",\"Nominal\"))))","v":""},{"$f":"IF(((Table19[[#This Row],[Next Calibration]]-TODAY())/30)>2,\"More Than 2\",IF(((Table19[[#This Row],[Next Calibration]]-TODAY())/30)>1,\"Between 2 and 1\",\"Less than 1\"))","v":{"$error":"#VALUE!"}},{"$f":"IF(Table19[[#This Row],[Issued]]=\"\",\"\",IF(Table19[[#This Row],[Lent]]=\"\",0,1))","v":""},{"$f":"IF(Table19[[#This Row],[Lent]]=\"\",\"\",IF(Table19[[#This Row],[Returned]]=\"\",0,1))","v":""}]
[{"$nulls":11},{"$f":"IF(IF(Table19[[#This Row],[Disposition]]=\"Retired\",\"N/A\",IF(Table19[[#This Row],[Disposition]]=0,\"\",K50+$F$2))=0+$F$2,\"NEVER CALIBRATED\",IF(Table19[[#This Row],[Disposition]]=\"Retired\",\"N/A\",IF(Table19[[#This Row],[Disposition]]=0,\"\",K50+$F$2)))","v":""},{"$f":"IF(Table19[[#This Row],[Disposition]]=\"\",\"\",IF(AND(Table19[[#This Row],[Next Calibration]]<$E$1,Table19[[#This Row],[Disposition]]=\"Lost\"),\"Find and Calibrate\",IF(Table19[[#This Row],[Disposition]]=\"Lost\",\"Find\",IF(OR(Table19[[#This Row],[Next Calibration]]<$E$1,Table19[[#This Row],[Next Calibration]]=\"NEVER CALIBRATED\"),\"Calibrate\",\"Nominal\"))))","v":""},{"$f":"IF(((Table19[[#This Row],[Next Calibration]]-TODAY())/30)>2,\"More Than 2\",IF(((Table19[[#This Row],[Next Calibration]]-TODAY())/30)>1,\"Between 2 and 1\",\"Less than 1\"))","v":{"$error":"#VALUE!"}},{"$f":"IF(Table19[[#This Row],[Issued]]=\"\",\"\",IF(Table19[[#This Row],[Lent]]=\"\",0,1))","v":""},{"$f":"IF(Table19[[#This Row],[Lent]]=\"\",\"\",IF(Table19[[#This Row],[Returned]]=\"\",0,1))","v":""}]
[{"$nulls":11},{"$f":"IF(IF(Table19[[#This Row],[Disposition]]=\"Retired\",\"N/A\",IF(Table19[[#This Row],[Disposition]]=0,\"\",K51+$F$2))=0+$F$2,\"NEVER CALIBRATED\",IF(Table19[[#This Row],[Disposition]]=\"Retired\",\"N/A\",IF(Table19[[#This Row],[Disposition]]=0,\"\",K51+$F$2)))","v":""},{"$f":"IF(Table19[[#This Row],[Disposition]]=\"\",\"\",IF(AND(Table19[[#This Row],[Next Calibration]]<$E$1,Table19[[#This Row],[Disposition]]=\"Lost\"),\"Find and Calibrate\",IF(Table19[[#This Row],[Disposition]]=\"Lost\",\"Find\",IF(OR(Table19[[#This Row],[Next Calibration]]<$E$1,Table19[[#This Row],[Next Calibration]]=\"NEVER CALIBRATED\"),\"Calibrate\",\"Nominal\"))))","v":""},{"$f":"IF(((Table19[[#This Row],[Next Calibration]]-TODAY())/30)>2,\"More Than 2\",IF(((Table19[[#This Row],[Next Calibration]]-TODAY())/30)>1,\"Between 2 and 1\",\"Less than 1\"))","v":{"$error":"#VALUE!"}},{"$f":"IF(Table19[[#This Row],[Issued]]=\"\",\"\",IF(Table19[[#This Row],[Lent]]=\"\",0,1))","v":""},{"$f":"IF(Table19[[#This Row],[Lent]]=\"\",\"\",IF(Table19[[#This Row],[Returned]]=\"\",0,1))","v":""}]
[{"$nulls":11},{"$f":"IF(IF(Table19[[#This Row],[Disposition]]=\"Retired\",\"N/A\",IF(Table19[[#This Row],[Disposition]]=0,\"\",K52+$F$2))=0+$F$2,\"NEVER CALIBRATED\",IF(Table19[[#This Row],[Disposition]]=\"Retired\",\"N/A\",IF(Table19[[#This Row],[Disposition]]=0,\"\",K52+$F$2)))","v":""},{"$f":"IF(Table19[[#This Row],[Disposition]]=\"\",\"\",IF(AND(Table19[[#This Row],[Next Calibration]]<$E$1,Table19[[#This Row],[Disposition]]=\"Lost\"),\"Find and Calibrate\",IF(Table19[[#This Row],[Disposition]]=\"Lost\",\"Find\",IF(OR(Table19[[#This Row],[Next Calibration]]<$E$1,Table19[[#This Row],[Next Calibration]]=\"NEVER CALIBRATED\"),\"Calibrate\",\"Nominal\"))))","v":""},{"$f":"IF(((Table19[[#This Row],[Next Calibration]]-TODAY())/30)>2,\"More Than 2\",IF(((Table19[[#This Row],[Next Calibration]]-TODAY())/30)>1,\"Between 2 and 1\",\"Less than 1\"))","v":{"$error":"#VALUE!"}},{"$f":"IF(Table19[[#This Row],[Issued]]=\"\",\"\",IF(Table19[[#This Row],[Lent]]=\"\",0,1))","v":""},{"$f":"IF(Table19[[#This Row],[Lent]]=\"\",\"\",IF(Table19[[#This Row],[Returned]]=\"\",0,1))","v":""}]
[{"$nulls":11},{"$f":"IF(IF(Table19[[#This Row],[Disposition]]=\"Retired\",\"N/A\",IF(Table19[[#This Row],[Disposition]]=0,\"\",K53+$F$2))=0+$F$2,\"NEVER CALIBRATED\",IF(Table19[[#This Row],[Disposition]]=\"Retired\",\"N/A\",IF(Table19[[#This Row],[Disposition]]=0,\"\",K53+$F$2)))","v":""},{"$f":"IF(Table19[[#This Row],[Disposition]]=\"\",\"\",IF(AND(Table19[[#This Row],[Next Calibration]]<$E$1,Table19[[#This Row],[Disposition]]=\"Lost\"),\"Find and Calibrate\",IF(Table19[[#This Row],[Disposition]]=\"Lost\",\"Find\",IF(OR(Table19[[#This Row],[Next Calibration]]<$E$1,Table19[[#This Row],[Next Calibration]]=\"NEVER CALIBRATED\"),\"Calibrate\",\"Nominal\"))))","v":""},{"$f":"IF(((Table19[[#This Row],[Next Calibration]]-TODAY())/30)>2,\"More Than 2\",IF(((Table19[[#This Row],[Next Calibration]]-TODAY())/30)>1,\"Between 2 and 1\",\"Less than 1\"))","v":{"$error":"#VALUE!"}},{"$f":"IF(Table19[[#This Row],[Issued]]=\"\",\"\",IF(Table19[[#This Row],[Lent]]=\"\",0,1))","v":""},{"$f":"IF(Table19[[#This Row],[Lent]]=\"\",\"\",IF(Table19[[#This Row],[Returned]]=\"\",0,1))","v":""}]
[{"$nulls":11},{"$f":"IF(IF(Table19[[#This Row],[Disposition]]=\"Retired\",\"N/A\",IF(Table19[[#This Row],[Disposition]]=0,\"\",K54+$F$2))=0+$F$2,\"NEVER CALIBRATED\",IF(Table19[[#This Row],[Disposition]]=\"Retired\",\"N/A\",IF(Table19[[#This Row],[Disposition]]=0,\"\",K54+$F$2)))","v":""},{"$f":"IF(Table19[[#This Row],[Disposition]]=\"\",\"\",IF(AND(Table19[[#This Row],[Next Calibration]]<$E$1,Table19[[#This Row],[Disposition]]=\"Lost\"),\"Find and Calibrate\",IF(Table19[[#This Row],[Disposition]]=\"Lost\",\"Find\",IF(OR(Table19[[#This Row],[Next Calibration]]<$E$1,Table19[[#This Row],[Next Calibration]]=\"NEVER CALIBRATED\"),\"Calibrate\",\"Nominal\"))))","v":""},{"$f":"IF(((Table19[[#This Row],[Next Calibration]]-TODAY())/30)>2,\"More Than 2\",IF(((Table19[[#This Row],[Next Calibration]]-TODAY())/30)>1,\"Between 2 and 1\",\"Less than 1\"))","v":{"$error":"#VALUE!"}},{"$f":"IF(Table19[[#This Row],[Issued]]=\"\",\"\",IF(Table19[[#This Row],[Lent]]=\"\",0,1))","v":""},{"$f":"IF(Table19[[#This Row],[Lent]]=\"\",\"\",IF(Table19[[#This Row],[Returned]]=\"\",0,1))","v":""}]
[{"$nulls":11},{"$f":"IF(IF(Table19[[#This Row],[Disposition]]=\"Retired\",\"N/A\",IF(Table19[[#This Row],[Disposition]]=0,\"\",K55+$F$2))=0+$F$2,\"NEVER CALIBRATED\",IF(Table19[[#This Row],[Disposition]]=\"Retired\",\"N/A\",IF(Table19[[#This Row],[Disposition]]=0,\"\",K55+$F$2)))","v":""},{"$f":"IF(Table19[[#This Row],[Disposition]]=\"\",\"\",IF(AND(Table19[[#This Row],[Next Calibration]]<$E$1,Table19[[#This Row],[Disposition]]=\"Lost\"),\"Find and Calibrate\",IF(Table19[[#This Row],[Disposition]]=\"Lost\",\"Find\",IF(OR(Table19[[#This Row],[Next Calibration]]<$E$1,Table19[[#This Row],[Next Calibration]]=\"NEVER CALIBRATED\"),\"Calibrate\",\"Nominal\"))))","v":""},{"$f":"IF(((Table19[[#This Row],[Next Calibration]]-TODAY())/30)>2,\"More Than 2\",IF(((Table19[[#This Row],[Next Calibration]]-TODAY())/30)>1,\"Between 2 and 1\",\"Less than 1\"))","v":{"$error":"#VALUE!"}},{"$f":"IF(Table19[[#This Row],[Issued]]=\"\",\"\",IF(Table19[[#This Row],[Lent]]=\"\",0,1))","v":""},{"$f":"IF(Table19[[#This Row],[Lent]]=\"\",\"\",IF(Table19[[#This Row],[Returned]]=\"\",0,1))","v":""}]
[{"$nulls":11},{"$f":"IF(IF(Table19[[#This Row],[Disposition]]=\"Retired\",\"N/A\",IF(Table19[[#This Row],[Disposition]]=0,\"\",K56+$F$2))=0+$F$2,\"NEVER CALIBRATED\",IF(Table19[[#This Row],[Disposition]]=\"Retired\",\"N/A\",IF(Table19[[#This Row],[Disposition]]=0,\"\",K56+$F$2)))","v":""},{"$f":"IF(Table19[[#This Row],[Disposition]]=\"\",\"\",IF(AND(Table19[[#This Row],[Next Calibration]]<$E$1,Table19[[#This Row],[Disposition]]=\"Lost\"),\"Find and Calibrate\",IF(Table19[[#This Row],[Disposition]]=\"Lost\",\"Find\",IF(OR(Table19[[#This Row],[Next Calibration]]<$E$1,Table19[[#This Row],[Next Calibration]]=\"NEVER CALIBRATED\"),\"Calibrate\",\"Nominal\"))))","v":""},{"$f":"IF(((Table19[[#This Row],[Next Calibration]]-TODAY())/30)>2,\"More Than 2\",IF(((Table19[[#This Row],[Next Calibration]]-TODAY())/30)>1,\"Between 2 and 1\",\"Less than 1\"))","v":{"$error":"#VALUE!"}},{"$f":"IF(Table19[[#This Row],[Issued]]=\"\",\"\",IF(Table19[[#This Row],[Lent]]=\"\",0,1))","v":""},{"$f":"IF(Table19[[#This Row],[Lent]]=\"\",\"\",IF(Table19[[#This Row],[Returned]]=\"\",0,1))","v":""}]
[{"$nulls":11},{"$f":"IF(IF(Table19[[#This Row],[Disposition]]=\"Retired\",\"N/A\",IF(Table19[[#This Row],[Disposition]]=0,\"\",K57+$F$2))=0+$F$2,\"NEVER CALIBRATED\",IF(Table19[[#This Row],[Disposition]]=\"Retired\",\"N/A\",IF(Table19[[#This Row],[Disposition]]=0,\"\",K57+$F$2)))","v":""},{"$f":"IF(Table19[[#This Row],[Disposition]]=\"\",\"\",IF(AND(Table19[[#This Row],[Next Calibration]]<$E$1,Table19[[#This Row],[Disposition]]=\"Lost\"),\"Find and Calibrate\",IF(Table19[[#This Row],[Disposition]]=\"Lost\",\"Find\",IF(OR(Table19[[#This Row],[Next Calibration]]<$E$1,Table19[[#This Row],[Next Calibration]]=\"NEVER CALIBRATED\"),\"Calibrate\",\"Nominal\"))))","v":""},{"$f":"IF(((Table19[[#This Row],[Next Calibration]]-TODAY())/30)>2,\"More Than 2\",IF(((Table19[[#This Row],[Next Calibration]]-TODAY())/30)>1,\"Between 2 and 1\",\"Less than 1\"))","v":{"$error":"#VALUE!"}},{"$f":"IF(Table19[[#This Row],[Issued]]=\"\",\"\",IF(Table19[[#This Row],[Lent]]=\"\",0,1))","v":""},{"$f":"IF(Table19[[#This Row],[Lent]]=\"\",\"\",IF(Table19[[#This Row],[Returned]]=\"\",0,1))","v":""}]
[{"$nulls":11},{"$f":"IF(IF(Table19[[#This Row],[Disposition]]=\"Retired\",\"N/A\",IF(Table19[[#This Row],[Disposition]]=0,\"\",K58+$F$2))=0+$F$2,\"NEVER CALIBRATED\",IF(Table19[[#This Row],[Disposition]]=\"Retired\",\"N/A\",IF(Table19[[#This Row],[Disposition]]=0,\"\",K58+$F$2)))","v":""},{"$f":"IF(Table19[[#This Row],[Disposition]]=\"\",\"\",IF(AND(Table19[[#This Row],[Next Calibration]]<$E$1,Table19[[#This Row],[Disposition]]=\"Lost\"),\"Find and Calibrate\",IF(Table19[[#This Row],[Disposition]]=\"Lost\",\"Find\",IF(OR(Table19[[#This Row],[Next Calibration]]<$E$1,Table19[[#This Row],[Next Calibration]]=\"NEVER CALIBRATED\"),\"Calibrate\",\"Nominal\"))))","v":""},{"$f":"IF(((Table19[[#This Row],[Next Calibration]]-TODAY())/30)>2,\"More Than 2\",IF(((Table19[[#This Row],[Next Calibration]]-TODAY())/30)>1,\"Between 2 and 1\",\"Less than 1\"))","v":{"$error":"#VALUE!"}},{"$f":"IF(Table19[[#This Row],[Issued]]=\"\",\"\",IF(Table19[[#This Row],[Lent]]=\"\",0,1))","v":""},{"$f":"IF(Table19[[#This Row],[Lent]]=\"\",\"\",IF(Table19[[#This Row],[Returned]]=\"\",0,1))","v":""}]
[{"$nulls":11},{"$f":"IF(IF(Table19[[#This Row],[Disposition]]=\"Retired\",\"N/A\",IF(Table19[[#This Row],[Disposition]]=0,\"\",K59+$F$2))=0+$F$2,\"NEVER CALIBRATED\",IF(Table19[[#This Row],[Disposition]]=\"Retired\",\"N/A\",IF(Table19[[#This Row],[Disposition]]=0,\"\",K59+$F$2)))","v":""},{"$f":"IF(Table19[[#This Row],[Disposition]]=\"\",\"\",IF(AND(Table19[[#This Row],[Next Calibration]]<$E$1,Table19[[#This Row],[Disposition]]=\"Lost\"),\"Find and Calibrate\",IF(Table19[[#This Row],[Disposition]]=\"Lost\",\"Find\",IF(OR(Table19[[#This Row],[Next Calibration]]<$E$1,Table19[[#This Row],[Next Calibration]]=\"NEVER CALIBRATED\"),\"Calibrate\",\"Nominal\"))))","v":""},{"$f":"IF(((Table19[[#This Row],[Next Calibration]]-TODAY())/30)>2,\"More Than 2\",IF(((Table19[[#This Row],[Next Calibration]]-TODAY())/30)>1,\"Between 2 and 1\",\"Less than 1\"))","v":{"$error":"#VALUE!"}},{"$f":"IF(Table19[[#This Row],[Issued]]=\"\",\"\",IF(Table19[[#This Row],[Lent]]=\"\",0,1))","v":""},{"$f":"IF(Table19[[#This Row],[Lent]]=\"\",\"\",IF(Table19[[#This Row],[Returned]]=\"\",0,1))","v":""}]
[{"$nulls":11},{"$f":"IF(IF(Table19[[#This Row],[Disposition]]=\"Retired\",\"N/A\",IF(Table19[[#This Row],[Disposition]]=0,\"\",K60+$F$2))=0+$F$2,\"NEVER CALIBRATED\",IF(Table19[[#This Row],[Disposition]]=\"Retired\",\"N/A\",IF(Table19[[#This Row],[Disposition]]=0,\"\",K60+$F$2)))","v":""},{"$f":"IF(Table19[[#This Row],[Disposition]]=\"\",\"\",IF(AND(Table19[[#This Row],[Next Calibration]]<$E$1,Table19[[#This Row],[Disposition]]=\"Lost\"),\"Find and Calibrate\",IF(Table19[[#This Row],[Disposition]]=\"Lost\",\"Find\",IF(OR(Table19[[#This Row],[Next Calibration]]<$E$1,Table19[[#This Row],[Next Calibration]]=\"NEVER CALIBRATED\"),\"Calibrate\",\"Nominal\"))))","v":""},{"$f":"IF(((Table19[[#This Row],[Next Calibration]]-TODAY())/30)>2,\"More Than 2\",IF(((Table19[[#This Row],[Next Calibration]]-TODAY())/30)>1,\"Between 2 and 1\",\"Less than 1\"))","v":{"$error":"#VALUE!"}},{"$f":"IF(Table19[[#This Row],[Issued]]=\"\",\"\",IF(Table19[[#This Row],[Lent]]=\"\",0,1))","v":""},{"$f":"IF(Table19[[#This Row],[Lent]]=\"\",\"\",IF(Table19[[#This Row],[Returned]]=\"\",0,1))","v":""}]
[{"$nulls":11},{"$f":"IF(IF(Table19[[#This Row],[Disposition]]=\"Retired\",\"N/A\",IF(Table19[[#This Row],[Disposition]]=0,\"\",K61+$F$2))=0+$F$2,\"NEVER CALIBRATED\",IF(Table19[[#This Row],[Disposition]]=\"Retired\",\"N/A\",IF(Table19[[#This Row],[Disposition]]=0,\"\",K61+$F$2)))","v":""},{"$f":"IF(Table19[[#This Row],[Disposition]]=\"\",\"\",IF(AND(Table19[[#This Row],[Next Calibration]]<$E$1,Table19[[#This Row],[Disposition]]=\"Lost\"),\"Find and Calibrate\",IF(Table19[[#This Row],[Disposition]]=\"Lost\",\"Find\",IF(OR(Table19[[#This Row],[Next Calibration]]<$E$1,Table19[[#This Row],[Next Calibration]]=\"NEVER CALIBRATED\"),\"Calibrate\",\"Nominal\"))))","v":""},{"$f":"IF(((Table19[[#This Row],[Next Calibration]]-TODAY())/30)>2,\"More Than 2\",IF(((Table19[[#This Row],[Next Calibration]]-TODAY())/30)>1,\"Between 2 and 1\",\"Less than 1\"))","v":{"$error":"#VALUE!"}},{"$f":"IF(Table19[[#This Row],[Issued]]=\"\",\"\",IF(Table19[[#This Row],[Lent]]=\"\",0,1))","v":""},{"$f":"IF(Table19[[#This Row],[Lent]]=\"\",\"\",IF(Table19[[#This Row],[Returned]]=\"\",0,1))","v":""}]
[{"$nulls":11},{"$f":"IF(IF(Table19[[#This Row],[Disposition]]=\"Retired\",\"N/A\",IF(Table19[[#This Row],[Disposition]]=0,\"\",K62+$F$2))=0+$F$2,\"NEVER CALIBRATED\",IF(Table19[[#This Row],[Disposition]]=\"Retired\",\"N/A\",IF(Table19[[#This Row],[Disposition]]=0,\"\",K62+$F$2)))","v":""},{"$f":"IF(Table19[[#This Row],[Disposition]]=\"\",\"\",IF(AND(Table19[[#This Row],[Next Calibration]]<$E$1,Table19[[#This Row],[Disposition]]=\"Lost\"),\"Find and Calibrate\",IF(Table19[[#This Row],[Disposition]]=\"Lost\",\"Find\",IF(OR(Table19[[#This Row],[Next Calibration]]<$E$1,Table19[[#This Row],[Next Calibration]]=\"NEVER CALIBRATED\"),\"Calibrate\",\"Nominal\"))))","v":""},{"$f":"IF(((Table19[[#This Row],[Next Calibration]]-TODAY())/30)>2,\"More Than 2\",IF(((Table19[[#This Row],[Next Calibration]]-TODAY())/30)>1,\"Between 2 and 1\",\"Less than 1\"))","v":{"$error":"#VALUE!"}},{"$f":"IF(Table19[[#This Row],[Issued]]=\"\",\"\",IF(Table19[[#This Row],[Lent]]=\"\",0,1))","v":""},{"$f":"IF(Table19[[#This Row],[Lent]]=\"\",\"\",IF(Table19[[#This Row],[Returned]]=\"\",0,1))","v":""}]
[{"$nulls":11},{"$f":"IF(IF(Table19[[#This Row],[Disposition]]=\"Retired\",\"N/A\",IF(Table19[[#This Row],[Disposition]]=0,\"\",K63+$F$2))=0+$F$2,\"NEVER CALIBRATED\",IF(Table19[[#This Row],[Disposition]]=\"Retired\",\"N/A\",IF(Table19[[#This Row],[Disposition]]=0,\"\",K63+$F$2)))","v":""},{"$f":"IF(Table19[[#This Row],[Disposition]]=\"\",\"\",IF(AND(Table19[[#This Row],[Next Calibration]]<$E$1,Table19[[#This Row],[Disposition]]=\"Lost\"),\"Find and Calibrate\",IF(Table19[[#This Row],[Disposition]]=\"Lost\",\"Find\",IF(OR(Table19[[#This Row],[Next Calibration]]<$E$1,Table19[[#This Row],[Next Calibration]]=\"NEVER CALIBRATED\"),\"Calibrate\",\"Nominal\"))))","v":""},{"$f":"IF(((Table19[[#This Row],[Next Calibration]]-TODAY())/30)>2,\"More Than 2\",IF(((Table19[[#This Row],[Next Calibration]]-TODAY())/30)>1,\"Between 2 and 1\",\"Less than 1\"))","v":{"$error":"#VALUE!"}},{"$f":"IF(Table19[[#This Row],[Issued]]=\"\",\"\",IF(Table19[[#This Row],[Lent]]=\"\",0,1))","v":""},{"$f":"IF(Table19[[#This Row],[Lent]]=\"\",\"\",IF(Table19[[#This Row],[Returned]]=\"\",0,1))","v":""}]
[{"$nulls":11},{"$f":"IF(IF(Table19[[#This Row],[Disposition]]=\"Retired\",\"N/A\",IF(Table19[[#This Row],[Disposition]]=0,\"\",K64+$F$2))=0+$F$2,\"NEVER CALIBRATED\",IF(Table19[[#This Row],[Disposition]]=\"Retired\",\"N/A\",IF(Table19[[#This Row],[Disposition]]=0,\"\",K64+$F$2)))","v":""},{"$f":"IF(Table19[[#This Row],[Disposition]]=\"\",\"\",IF(AND(Table19[[#This Row],[Next Calibration]]<$E$1,Table19[[#This Row],[Disposition]]=\"Lost\"),\"Find and Calibrate\",IF(Table19[[#This Row],[Disposition]]=\"Lost\",\"Find\",IF(OR(Table19[[#This Row],[Next Calibration]]<$E$1,Table19[[#This Row],[Next Calibration]]=\"NEVER CALIBRATED\"),\"Calibrate\",\"Nominal\"))))","v":""},{"$f":"IF(((Table19[[#This Row],[Next Calibration]]-TODAY())/30)>2,\"More Than 2\",IF(((Table19[[#This Row],[Next Calibration]]-TODAY())/30)>1,\"Between 2 and 1\",\"Less than 1\"))","v":{"$error":"#VALUE!"}},{"$f":"IF(Table19[[#This Row],[Issued]]=\"\",\"\",IF(Table19[[#This Row],[Lent]]=\"\",0,1))","v":""},{"$f":"IF(Table19[[#This Row],[Lent]]=\"\",\"\",IF(Table19[[#This Row],[Returned]]=\"\",0,1))","v":""}]
[{"$nulls":11},{"$f":"IF(IF(Table19[[#This Row],[Disposition]]=\"Retired\",\"N/A\",IF(Table19[[#This Row],[Disposition]]=0,\"\",K65+$F$2))=0+$F$2,\"NEVER CALIBRATED\",IF(Table19[[#This Row],[Disposition]]=\"Retired\",\"N/A\",IF(Table19[[#This Row],[Disposition]]=0,\"\",K65+$F$2)))","v":""},{"$f":"IF(Table19[[#This Row],[Disposition]]=\"\",\"\",IF(AND(Table19[[#This Row],[Next Calibration]]<$E$1,Table19[[#This Row],[Disposition]]=\"Lost\"),\"Find and Calibrate\",IF(Table19[[#This Row],[Disposition]]=\"Lost\",\"Find\",IF(OR(Table19[[#This Row],[Next Calibration]]<$E$1,Table19[[#This Row],[Next Calibration]]=\"NEVER CALIBRATED\"),\"Calibrate\",\"Nominal\"))))","v":""},{"$f":"IF(((Table19[[#This Row],[Next Calibration]]-TODAY())/30)>2,\"More Than 2\",IF(((Table19[[#This Row],[Next Calibration]]-TODAY())/30)>1,\"Between 2 and 1\",\"Less than 1\"))","v":{"$error":"#VALUE!"}},{"$f":"IF(Table19[[#This Row],[Issued]]=\"\",\"\",IF(Table19[[#This Row],[Lent]]=\"\",0,1))","v":""},{"$f":"IF(Table19[[#This Row],[Lent]]=\"\",\"\",IF(Table19[[#This Row],[Returned]]=\"\",0,1))","v":""}]
[{"$nulls":11},{"$f":"IF(IF(Table19[[#This Row],[Disposition]]=\"Retired\",\"N/A\",IF(Table19[[#This Row],[Disposition]]=0,\"\",K66+$F$2))=0+$F$2,\"NEVER CALIBRATED\",IF(Table19[[#This Row],[Disposition]]=\"Retired\",\"N/A\",IF(Table19[[#This Row],[Disposition]]=0,\"\",K66+$F$2)))","v":""},{"$f":"IF(Table19[[#This Row],[Disposition]]=\"\",\"\",IF(AND(Table19[[#This Row],[Next Calibration]]<$E$1,Table19[[#This Row],[Disposition]]=\"Lost\"),\"Find and Calibrate\",IF(Table19[[#This Row],[Disposition]]=\"Lost\",\"Find\",IF(OR(Table19[[#This Row],[Next Calibration]]<$E$1,Table19[[#This Row],[Next Calibration]]=\"NEVER CALIBRATED\"),\"Calibrate\",\"Nominal\"))))","v":""},{"$f":"IF(((Table19[[#This Row],[Next Calibration]]-TODAY())/30)>2,\"More Than 2\",IF(((Table19[[#This Row],[Next Calibration]]-TODAY())/30)>1,\"Between 2 and 1\",\"Less than 1\"))","v":{"$error":"#VALUE!"}},{"$f":"IF(Table19[[#This Row],[Issued]]=\"\",\"\",IF(Table19[[#This Row],[Lent]]=\"\",0,1))","v":""},{"$f":"IF(Table19[[#This Row],[Lent]]=\"\",\"\",IF(Table19[[#This Row],[Returned]]=\"\",0,1))","v":""}]
[{"$nulls":11},{"$f":"IF(IF(Table19[[#This Row],[Disposition]]=\"Retired\",\"N/A\",IF(Table19[[#This Row],[Disposition]]=0,\"\",K67+$F$2))=0+$F$2,\"NEVER CALIBRATED\",IF(Table19[[#This Row],[Disposition]]=\"Retired\",\"N/A\",IF(Table19[[#This Row],[Disposition]]=0,\"\",K67+$F$2)))","v":""},{"$f":"IF(Table19[[#This Row],[Disposition]]=\"\",\"\",IF(AND(Table19[[#This Row],[Next Calibration]]<$E$1,Table19[[#This Row],[Disposition]]=\"Lost\"),\"Find and Calibrate\",IF(Table19[[#This Row],[Disposition]]=\"Lost\",\"Find\",IF(OR(Table19[[#This Row],[Next Calibration]]<$E$1,Table19[[#This Row],[Next Calibration]]=\"NEVER CALIBRATED\"),\"Calibrate\",\"Nominal\"))))","v":""},{"$f":"IF(((Table19[[#This Row],[Next Calibration]]-TODAY())/30)>2,\"More Than 2\",IF(((Table19[[#This Row],[Next Calibration]]-TODAY())/30)>1,\"Between 2 and 1\",\"Less than 1\"))","v":{"$error":"#VALUE!"}},{"$f":"IF(Table19[[#This Row],[Issued]]=\"\",\"\",IF(Table19[[#This Row],[Lent]]=\"\",0,1))","v":""},{"$f":"IF(Table19[[#This Row],[Lent]]=\"\",\"\",IF(Table19[[#This Row],[Returned]]=\"\",0,1))","v":""}]
[{"$nulls":11},{"$f":"IF(IF(Table19[[#This Row],[Disposition]]=\"Retired\",\"N/A\",IF(Table19[[#This Row],[Disposition]]=0,\"\",K68+$F$2))=0+$F$2,\"NEVER CALIBRATED\",IF(Table19[[#This Row],[Disposition]]=\"Retired\",\"N/A\",IF(Table19[[#This Row],[Disposition]]=0,\"\",K68+$F$2)))","v":""},{"$f":"IF(Table19[[#This Row],[Disposition]]=\"\",\"\",IF(AND(Table19[[#This Row],[Next Calibration]]<$E$1,Table19[[#This Row],[Disposition]]=\"Lost\"),\"Find and Calibrate\",IF(Table19[[#This Row],[Disposition]]=\"Lost\",\"Find\",IF(OR(Table19[[#This Row],[Next Calibration]]<$E$1,Table19[[#This Row],[Next Calibration]]=\"NEVER CALIBRATED\"),\"Calibrate\",\"Nominal\"))))","v":""},{"$f":"IF(((Table19[[#This Row],[Next Calibration]]-TODAY())/30)>2,\"More Than 2\",IF(((Table19[[#This Row],[Next Calibration]]-TODAY())/30)>1,\"Between 2 and 1\",\"Less than 1\"))","v":{"$error":"#VALUE!"}},{"$f":"IF(Table19[[#This Row],[Issued]]=\"\",\"\",IF(Table19[[#This Row],[Lent]]=\"\",0,1))","v":""},{"$f":"IF(Table19[[#This Row],[Lent]]=\"\",\"\",IF(Table19[[#This Row],[Returned]]=\"\",0,1))","v":""}]
[{"$nulls":11},{"$f":"IF(IF(Table19[[#This Row],[Disposition]]=\"Retired\",\"N/A\",IF(Table19[[#This Row],[Disposition]]=0,\"\",K69+$F$2))=0+$F$2,\"NEVER CALIBRATED\",IF(Table19[[#This Row],[Disposition]]=\"Retired\",\"N/A\",IF(Table19[[#This Row],[Disposition]]=0,\"\",K69+$F$2)))","v":""},{"$f":"IF(Table19[[#This Row],[Disposition]]=\"\",\"\",IF(AND(Table19[[#This Row],[Next Calibration]]<$E$1,Table19[[#This Row],[Disposition]]=\"Lost\"),\"Find and Calibrate\",IF(Table19[[#This Row],[Disposition]]=\"Lost\",\"Find\",IF(OR(Table19[[#This Row],[Next Calibration]]<$E$1,Table19[[#This Row],[Next Calibration]]=\"NEVER CALIBRATED\"),\"Calibrate\",\"Nominal\"))))","v":""},{"$f":"IF(((Table19[[#This Row],[Next Calibration]]-TODAY())/30)>2,\"More Than 2\",IF(((Table19[[#This Row],[Next Calibration]]-TODAY())/30)>1,\"Between 2 and 1\",\"Less than 1\"))","v":{"$error":"#VALUE!"}},{"$f":"IF(Table19[[#This Row],[Issued]]=\"\",\"\",IF(Table19[[#This Row],[Lent]]=\"\",0,1))","v":""},{"$f":"IF(Table19[[#This Row],[Lent]]=\"\",\"\",IF(Table19[[#This Row],[Returned]]=\"\",0,1))","v":""}]
[{"$nulls":11},{"$f":"IF(IF(Table19[[#This Row],[Disposition]]=\"Retired\",\"N/A\",IF(Table19[[#This Row],[Disposition]]=0,\"\",K70+$F$2))=0+$F$2,\"NEVER CALIBRATED\",IF(Table19[[#This Row],[Disposition]]=\"Retired\",\"N/A\",IF(Table19[[#This Row],[Disposition]]=0,\"\",K70+$F$2)))","v":""},{"$f":"IF(Table19[[#This Row],[Disposition]]=\"\",\"\",IF(AND(Table19[[#This Row],[Next Calibration]]<$E$1,Table19[[#This Row],[Disposition]]=\"Lost\"),\"Find and Calibrate\",IF(Table19[[#This Row],[Disposition]]=\"Lost\",\"Find\",IF(OR(Table19[[#This Row],[Next Calibration]]<$E$1,Table19[[#This Row],[Next Calibration]]=\"NEVER CALIBRATED\"),\"Calibrate\",\"Nominal\"))))","v":""},{"$f":"IF(((Table19[[#This Row],[Next Calibration]]-TODAY())/30)>2,\"More Than 2\",IF(((Table19[[#This Row],[Next Calibration]]-TODAY())/30)>1,\"Between 2 and 1\",\"Less than 1\"))","v":{"$error":"#VALUE!"}},{"$f":"IF(Table19[[#This Row],[Issued]]=\"\",\"\",IF(Table19[[#This Row],[Lent]]=\"\",0,1))","v":""},{"$f":"IF(Table19[[#This Row],[Lent]]=\"\",\"\",IF(Table19[[#This Row],[Returned]]=\"\",0,1))","v":""}]
[{"$nulls":11},{"$f":"IF(IF(Table19[[#This Row],[Disposition]]=\"Retired\",\"N/A\",IF(Table19[[#This Row],[Disposition]]=0,\"\",K71+$F$2))=0+$F$2,\"NEVER CALIBRATED\",IF(Table19[[#This Row],[Disposition]]=\"Retired\",\"N/A\",IF(Table19[[#This Row],[Disposition]]=0,\"\",K71+$F$2)))","v":""},{"$f":"IF(Table19[[#This Row],[Disposition]]=\"\",\"\",IF(AND(Table19[[#This Row],[Next Calibration]]<$E$1,Table19[[#This Row],[Disposition]]=\"Lost\"),\"Find and Calibrate\",IF(Table19[[#This Row],[Disposition]]=\"Lost\",\"Find\",IF(OR(Table19[[#This Row],[Next Calibration]]<$E$1,Table19[[#This Row],[Next Calibration]]=\"NEVER CALIBRATED\"),\"Calibrate\",\"Nominal\"))))","v":""},{"$f":"IF(((Table19[[#This Row],[Next Calibration]]-TODAY())/30)>2,\"More Than 2\",IF(((Table19[[#This Row],[Next Calibration]]-TODAY())/30)>1,\"Between 2 and 1\",\"Less than 1\"))","v":{"$error":"#VALUE!"}},{"$f":"IF(Table19[[#This Row],[Issued]]=\"\",\"\",IF(Table19[[#This Row],[Lent]]=\"\",0,1))","v":""},{"$f":"IF(Table19[[#This Row],[Lent]]=\"\",\"\",IF(Table19[[#This Row],[Returned]]=\"\",0,1))","v":""}]
[{"$nulls":11},{"$f":"IF(IF(Table19[[#This Row],[Disposition]]=\"Retired\",\"N/A\",IF(Table19[[#This Row],[Disposition]]=0,\"\",K72+$F$2))=0+$F$2,\"NEVER CALIBRATED\",IF(Table19[[#This Row],[Disposition]]=\"Retired\",\"N/A\",IF(Table19[[#This Row],[Disposition]]=0,\"\",K72+$F$2)))","v":""},{"$f":"IF(Table19[[#This Row],[Disposition]]=\"\",\"\",IF(AND(Table19[[#This Row],[Next Calibration]]<$E$1,Table19[[#This Row],[Disposition]]=\"Lost\"),\"Find and Calibrate\",IF(Table19[[#This Row],[Disposition]]=\"Lost\",\"Find\",IF(OR(Table19[[#This Row],[Next Calibration]]<$E$1,Table19[[#This Row],[Next Calibration]]=\"NEVER CALIBRATED\"),\"Calibrate\",\"Nominal\"))))","v":""},{"$f":"IF(((Table19[[#This Row],[Next Calibration]]-TODAY())/30)>2,\"More Than 2\",IF(((Table19[[#This Row],[Next Calibration]]-TODAY())/30)>1,\"Between 2 and 1\",\"Less than 1\"))","v":{"$error":"#VALUE!"}},{"$f":"IF(Table19[[#This Row],[Issued]]=\"\",\"\",IF(Table19[[#This Row],[Lent]]=\"\",0,1))","v":""},{"$f":"IF(Table19[[#This Row],[Lent]]=\"\",\"\",IF(Table19[[#This Row],[Returned]]=\"\",0,1))","v":""}]
[{"$nulls":11},{"$f":"IF(IF(Table19[[#This Row],[Disposition]]=\"Retired\",\"N/A\",IF(Table19[[#This Row],[Disposition]]=0,\"\",K73+$F$2))=0+$F$2,\"NEVER CALIBRATED\",IF(Table19[[#This Row],[Disposition]]=\"Retired\",\"N/A\",IF(Table19[[#This Row],[Disposition]]=0,\"\",K73+$F$2)))","v":""},{"$f":"IF(Table19[[#This Row],[Disposition]]=\"\",\"\",IF(AND(Table19[[#This Row],[Next Calibration]]<$E$1,Table19[[#This Row],[Disposition]]=\"Lost\"),\"Find and Calibrate\",IF(Table19[[#This Row],[Disposition]]=\"Lost\",\"Find\",IF(OR(Table19[[#This Row],[Next Calibration]]<$E$1,Table19[[#This Row],[Next Calibration]]=\"NEVER CALIBRATED\"),\"Calibrate\",\"Nominal\"))))","v":""},{"$f":"IF(((Table19[[#This Row],[Next Calibration]]-TODAY())/30)>2,\"More Than 2\",IF(((Table19[[#This Row],[Next Calibration]]-TODAY())/30)>1,\"Between 2 and 1\",\"Less than 1\"))","v":{"$error":"#VALUE!"}},{"$f":"IF(Table19[[#This Row],[Issued]]=\"\",\"\",IF(Table19[[#This Row],[Lent]]=\"\",0,1))","v":""},{"$f":"IF(Table19[[#This Row],[Lent]]=\"\",\"\",IF(Table19[[#This Row],[Returned]]=\"\",0,1))","v":""}]
[{"$nulls":11},{"$f":"IF(IF(Table19[[#This Row],[Disposition]]=\"Retired\",\"N/A\",IF(Table19[[#This Row],[Disposition]]=0,\"\",K74+$F$2))=0+$F$2,\"NEVER CALIBRATED\",IF(Table19[[#This Row],[Disposition]]=\"Retired\",\"N/A\",IF(Table19[[#This Row],[Disposition]]=0,\"\",K74+$F$2)))","v":""},{"$f":"IF(Table19[[#This Row],[Disposition]]=\"\",\"\",IF(AND(Table19[[#This Row],[Next Calibration]]<$E$1,Table19[[#This Row],[Disposition]]=\"Lost\"),\"Find and Calibrate\",IF(Table19[[#This Row],[Disposition]]=\"Lost\",\"Find\",IF(OR(Table19[[#This Row],[Next Calibration]]<$E$1,Table19[[#This Row],[Next Calibration]]=\"NEVER CALIBRATED\"),\"Calibrate\",\"Nominal\"))))","v":""},{"$f":"IF(((Table19[[#This Row],[Next Calibration]]-TODAY())/30)>2,\"More Than 2\",IF(((Table19[[#This Row],[Next Calibration]]-TODAY())/30)>1,\"Between 2 and 1\",\"Less than 1\"))","v":{"$error":"#VALUE!"}},{"$f":"IF(Table19[[#This Row],[Issued]]=\"\",\"\",IF(Table19[[#This Row],[Lent]]=\"\",0,1))","v":""},{"$f":"IF(Table19[[#This Row],[Lent]]=\"\",\"\",IF(Table19[[#This Row],[Returned]]=\"\",0,1))","v":""}]
[{"$nulls":11},{"$f":"IF(IF(Table19[[#This Row],[Disposition]]=\"Retired\",\"N/A\",IF(Table19[[#This Row],[Disposition]]=0,\"\",K75+$F$2))=0+$F$2,\"NEVER CALIBRATED\",IF(Table19[[#This Row],[Disposition]]=\"Retired\",\"N/A\",IF(Table19[[#This Row],[Disposition]]=0,\"\",K75+$F$2)))","v":""},{"$f":"IF(Table19[[#This Row],[Disposition]]=\"\",\"\",IF(AND(Table19[[#This Row],[Next Calibration]]<$E$1,Table19[[#This Row],[Disposition]]=\"Lost\"),\"Find and Calibrate\",IF(Table19[[#This Row],[Disposition]]=\"Lost\",\"Find\",IF(OR(Table19[[#This Row],[Next Calibration]]<$E$1,Table19[[#This Row],[Next Calibration]]=\"NEVER CALIBRATED\"),\"Calibrate\",\"Nominal\"))))","v":""},{"$f":"IF(((Table19[[#This Row],[Next Calibration]]-TODAY())/30)>2,\"More Than 2\",IF(((Table19[[#This Row],[Next Calibration]]-TODAY())/30)>1,\"Between 2 and 1\",\"Less than 1\"))","v":{"$error":"#VALUE!"}},{"$f":"IF(Table19[[#This Row],[Issued]]=\"\",\"\",IF(Table19[[#This Row],[Lent]]=\"\",0,1))","v":""},{"$f":"IF(Table19[[#This Row],[Lent]]=\"\",\"\",IF(Table19[[#This Row],[Returned]]=\"\",0,1))","v":""}]
[{"$nulls":11},{"$f":"IF(IF(Table19[[#This Row],[Disposition]]=\"Retired\",\"N/A\",IF(Table19[[#This Row],[Disposition]]=0,\"\",K76+$F$2))=0+$F$2,\"NEVER CALIBRATED\",IF(Table19[[#This Row],[Disposition]]=\"Retired\",\"N/A\",IF(Table19[[#This Row],[Disposition]]=0,\"\",K76+$F$2)))","v":""},{"$f":"IF(Table19[[#This Row],[Disposition]]=\"\",\"\",IF(AND(Table19[[#This Row],[Next Calibration]]<$E$1,Table19[[#This Row],[Disposition]]=\"Lost\"),\"Find and Calibrate\",IF(Table19[[#This Row],[Disposition]]=\"Lost\",\"Find\",IF(OR(Table19[[#This Row],[Next Calibration]]<$E$1,Table19[[#This Row],[Next Calibration]]=\"NEVER CALIBRATED\"),\"Calibrate\",\"Nominal\"))))","v":""},{"$f":"IF(((Table19[[#This Row],[Next Calibration]]-TODAY())/30)>2,\"More Than 2\",IF(((Table19[[#This Row],[Next Calibration]]-TODAY())/30)>1,\"Between 2 and 1\",\"Less than 1\"))","v":{"$error":"#VALUE!"}},{"$f":"IF(Table19[[#This Row],[Issued]]=\"\",\"\",IF(Table19[[#This Row],[Lent]]=\"\",0,1))","v":""},{"$f":"IF(Table19[[#This Row],[Lent]]=\"\",\"\",IF(Table19[[#This Row],[Returned]]=\"\",0,1))","v":""}]
[{"$nulls":11},{"$f":"IF(IF(Table19[[#This Row],[Disposition]]=\"Retired\",\"N/A\",IF(Table19[[#This Row],[Disposition]]=0,\"\",K77+$F$2))=0+$F$2,\"NEVER CALIBRATED\",IF(Table19[[#This Row],[Disposition]]=\"Retired\",\"N/A\",IF(Table19[[#This Row],[Disposition]]=0,\"\",K77+$F$2)))","v":""},{"$f":"IF(Table19[[#This Row],[Disposition]]=\"\",\"\",IF(AND(Table19[[#This Row],[Next Calibration]]<$E$1,Table19[[#This Row],[Disposition]]=\"Lost\"),\"Find and Calibrate\",IF(Table19[[#This Row],[Disposition]]=\"Lost\",\"Find\",IF(OR(Table19[[#This Row],[Next Calibration]]<$E$1,Table19[[#This Row],[Next Calibration]]=\"NEVER CALIBRATED\"),\"Calibrate\",\"Nominal\"))))","v":""},{"$f":"IF(((Table19[[#This Row],[Next Calibration]]-TODAY())/30)>2,\"More Than 2\",IF(((Table19[[#This Row],[Next Calibration]]-TODAY())/30)>1,\"Between 2 and 1\",\"Less than 1\"))","v":{"$error":"#VALUE!"}},{"$f":"IF(Table19[[#This Row],[Issued]]=\"\",\"\",IF(Table19[[#This Row],[Lent]]=\"\",0,1))","v":""},{"$f":"IF(Table19[[#This Row],[Lent]]=\"\",\"\",IF(Table19[[#This Row],[Returned]]=\"\",0,1))","v":""}]
[{"$nulls":11},{"$f":"IF(IF(Table19[[#This Row],[Disposition]]=\"Retired\",\"N/A\",IF(Table19[[#This Row],[Disposition]]=0,\"\",K78+$F$2))=0+$F$2,\"NEVER CALIBRATED\",IF(Table19[[#This Row],[Disposition]]=\"Retired\",\"N/A\",IF(Table19[[#This Row],[Disposition]]=0,\"\",K78+$F$2)))","v":""},{"$f":"IF(Table19[[#This Row],[Disposition]]=\"\",\"\",IF(AND(Table19[[#This Row],[Next Calibration]]<$E$1,Table19[[#This Row],[Disposition]]=\"Lost\"),\"Find and Calibrate\",IF(Table19[[#This Row],[Disposition]]=\"Lost\",\"Find\",IF(OR(Table19[[#This Row],[Next Calibration]]<$E$1,Table19[[#This Row],[Next Calibration]]=\"NEVER CALIBRATED\"),\"Calibrate\",\"Nominal\"))))","v":""},{"$f":"IF(((Table19[[#This Row],[Next Calibration]]-TODAY())/30)>2,\"More Than 2\",IF(((Table19[[#This Row],[Next Calibration]]-TODAY())/30)>1,\"Between 2 and 1\",\"Less than 1\"))","v":{"$error":"#VALUE!"}},{"$f":"IF(Table19[[#This Row],[Issued]]=\"\",\"\",IF(Table19[[#This Row],[Lent]]=\"\",0,1))","v":""},{"$f":"IF(Table19[[#This Row],[Lent]]=\"\",\"\",IF(Table19[[#This Row],[Returned]]=\"\",0,1))","v":""}]
[{"$nulls":11},{"$f":"IF(IF(Table19[[#This Row],[Disposition]]=\"Retired\",\"N/A\",IF(Table19[[#This Row],[Disposition]]=0,\"\",K79+$F$2))=0+$F$2,\"NEVER CALIBRATED\",IF(Table19[[#This Row],[Disposition]]=\"Retired\",\"N/A\",IF(Table19[[#This Row],[Disposition]]=0,\"\",K79+$F$2)))","v":""},{"$f":"IF(Table19[[#This Row],[Disposition]]=\"\",\"\",IF(AND(Table19[[#This Row],[Next Calibration]]<$E$1,Table19[[#This Row],[Disposition]]=\"Lost\"),\"Find and Calibrate\",IF(Table19[[#This Row],[Disposition]]=\"Lost\",\"Find\",IF(OR(Table19[[#This Row],[Next Calibration]]<$E$1,Table19[[#This Row],[Next Calibration]]=\"NEVER CALIBRATED\"),\"Calibrate\",\"Nominal\"))))","v":""},{"$f":"IF(((Table19[[#This Row],[Next Calibration]]-TODAY())/30)>2,\"More Than 2\",IF(((Table19[[#This Row],[Next Calibration]]-TODAY())/30)>1,\"Between 2 and 1\",\"Less than 1\"))","v":{"$error":"#VALUE!"}},{"$f":"IF(Table19[[#This Row],[Issued]]=\"\",\"\",IF(Table19[[#This Row],[Lent]]=\"\",0,1))","v":""},{"$f":"IF(Table19[[#This Row],[Lent]]=\"\",\"\",IF(Table19[[#This Row],[Returned]]=\"\",0,1))","v":""}]
[{"$nulls":11},{"$f":"IF(IF(Table19[[#This Row],[Disposition]]=\"Retired\",\"N/A\",IF(Table19[[#This Row],[Disposition]]=0,\"\",K80+$F$2))=0+$F$2,\"NEVER CALIBRATED\",IF(Table19[[#This Row],[Disposition]]=\"Retired\",\"N/A\",IF(Table19[[#This Row],[Disposition]]=0,\"\",K80+$F$2)))","v":""},{"$f":"IF(Table19[[#This Row],[Disposition]]=\"\",\"\",IF(AND(Table19[[#This Row],[Next Calibration]]<$E$1,Table19[[#This Row],[Disposition]]=\"Lost\"),\"Find and Calibrate\",IF(Table19[[#This Row],[Disposition]]=\"Lost\",\"Find\",IF(OR(Table19[[#This Row],[Next Calibration]]<$E$1,Table19[[#This Row],[Next Calibration]]=\"NEVER CALIBRATED\"),\"Calibrate\",\"Nominal\"))))","v":""},{"$f":"IF(((Table19[[#This Row],[Next Calibration]]-TODAY())/30)>2,\"More Than 2\",IF(((Table19[[#This Row],[Next Calibration]]-TODAY())/30)>1,\"Between 2 and 1\",\"Less than 1\"))","v":{"$error":"#VALUE!"}},{"$f":"IF(Table19[[#This Row],[Issued]]=\"\",\"\",IF(Table19[[#This Row],[Lent]]=\"\",0,1))","v":""},{"$f":"IF(Table19[[#This Row],[Lent]]=\"\",\"\",IF(Table19[[#This Row],[Returned]]=\"\",0,1))","v":""}]
[{"$nulls":11},{"$f":"IF(IF(Table19[[#This Row],[Disposition]]=\"Retired\",\"N/A\",IF(Table19[[#This Row],[Disposition]]=0,\"\",K81+$F$2))=0+$F$2,\"NEVER CALIBRATED\",IF(Table19[[#This Row],[Disposition]]=\"Retired\",\"N/A\",IF(Table19[[#This Row],[Disposition]]=0,\"\",K81+$F$2)))","v":""},{"$f":"IF(Table19[[#This Row],[Disposition]]=\"\",\"\",IF(AND(Table19[[#This Row],[Next Calibration]]<$E$1,Table19[[#This Row],[Disposition]]=\"Lost\"),\"Find and Calibrate\",IF(Table19[[#This Row],[Disposition]]=\"Lost\",\"Find\",IF(OR(Table19[[#This Row],[Next Calibration]]<$E$1,Table19[[#This Row],[Next Calibration]]=\"NEVER CALIBRATED\"),\"Calibrate\",\"Nominal\"))))","v":""},{"$f":"IF(((Table19[[#This Row],[Next Calibration]]-TODAY())/30)>2,\"More Than 2\",IF(((Table19[[#This Row],[Next Calibration]]-TODAY())/30)>1,\"Between 2 and 1\",\"Less than 1\"))","v":{"$error":"#VALUE!"}},{"$f":"IF(Table19[[#This Row],[Issued]]=\"\",\"\",IF(Table19[[#This Row],[Lent]]=\"\",0,1))","v":""},{"$f":"IF(Table19[[#This Row],[Lent]]=\"\",\"\",IF(Table19[[#This Row],[Returned]]=\"\",0,1))","v":""}]
[{"$nulls":11},{"$f":"IF(IF(Table19[[#This Row],[Disposition]]=\"Retired\",\"N/A\",IF(Table19[[#This Row],[Disposition]]=0,\"\",K82+$F$2))=0+$F$2,\"NEVER CALIBRATED\",IF(Table19[[#This Row],[Disposition]]=\"Retired\",\"N/A\",IF(Table19[[#This Row],[Disposition]]=0,\"\",K82+$F$2)))","v":""},{"$f":"IF(Table19[[#This Row],[Disposition]]=\"\",\"\",IF(AND(Table19[[#This Row],[Next Calibration]]<$E$1,Table19[[#This Row],[Disposition]]=\"Lost\"),\"Find and Calibrate\",IF(Table19[[#This Row],[Disposition]]=\"Lost\",\"Find\",IF(OR(Table19[[#This Row],[Next Calibration]]<$E$1,Table19[[#This Row],[Next Calibration]]=\"NEVER CALIBRATED\"),\"Calibrate\",\"Nominal\"))))","v":""},{"$f":"IF(((Table19[[#This Row],[Next Calibration]]-TODAY())/30)>2,\"More Than 2\",IF(((Table19[[#This Row],[Next Calibration]]-TODAY())/30)>1,\"Between 2 and 1\",\"Less than 1\"))","v":{"$error":"#VALUE!"}},{"$f":"IF(Table19[[#This Row],[Issued]]=\"\",\"\",IF(Table19[[#This Row],[Lent]]=\"\",0,1))","v":""},{"$f":"IF(Table19[[#This Row],[Lent]]=\"\",\"\",IF(Table19[[#This Row],[Returned]]=\"\",0,1))","v":""}]
[{"$nulls":11},{"$f":"IF(IF(Table19[[#This Row],[Disposition]]=\"Retired\",\"N/A\",IF(Table19[[#This Row],[Disposition]]=0,\"\",K83+$F$2))=0+$F$2,\"NEVER CALIBRATED\",IF(Table19[[#This Row],[Disposition]]=\"Retired\",\"N/A\",IF(Table19[[#This Row],[Disposition]]=0,\"\",K83+$F$2)))","v":""},{"$f":"IF(Table19[[#This Row],[Disposition]]=\"\",\"\",IF(AND(Table19[[#This Row],[Next Calibration]]<$E$1,Table19[[#This Row],[Disposition]]=\"Lost\"),\"Find and Calibrate\",IF(Table19[[#This Row],[Disposition]]=\"Lost\",\"Find\",IF(OR(Table19[[#This Row],[Next Calibration]]<$E$1,Table19[[#This Row],[Next Calibration]]=\"NEVER CALIBRATED\"),\"Calibrate\",\"Nominal\"))))","v":""},{"$f":"IF(((Table19[[#This Row],[Next Calibration]]-TODAY())/30)>2,\"More Than 2\",IF(((Table19[[#This Row],[Next Calibration]]-TODAY())/30)>1,\"Between 2 and 1\",\"Less than 1\"))","v":{"$error":"#VALUE!"}},{"$f":"IF(Table19[[#This Row],[Issued]]=\"\",\"\",IF(Table19[[#This Row],[Lent]]=\"\",0,1))","v":""},{"$f":"IF(Table19[[#This Row],[Lent]]=\"\",\"\",IF(Table19[[#This Row],[Returned]]=\"\",0,1))","v":""}]
[{"$nulls":11},{"$f":"IF(IF(Table19[[#This Row],[Disposition]]=\"Retired\",\"N/A\",IF(Table19[[#This Row],[Disposition]]=0,\"\",K84+$F$2))=0+$F$2,\"NEVER CALIBRATED\",IF(Table19[[#This Row],[Disposition]]=\"Retired\",\"N/A\",IF(Table19[[#This Row],[Disposition]]=0,\"\",K84+$F$2)))","v":""},{"$f":"IF(Table19[[#This Row],[Disposition]]=\"\",\"\",IF(AND(Table19[[#This Row],[Next Calibration]]<$E$1,Table19[[#This Row],[Disposition]]=\"Lost\"),\"Find and Calibrate\",IF(Table19[[#This Row],[Disposition]]=\"Lost\",\"Find\",IF(OR(Table19[[#This Row],[Next Calibration]]<$E$1,Table19[[#This Row],[Next Calibration]]=\"NEVER CALIBRATED\"),\"Calibrate\",\"Nominal\"))))","v":""},{"$f":"IF(((Table19[[#This Row],[Next Calibration]]-TODAY())/30)>2,\"More Than 2\",IF(((Table19[[#This Row],[Next Calibration]]-TODAY())/30)>1,\"Between 2 and 1\",\"Less than 1\"))","v":{"$error":"#VALUE!"}},{"$f":"IF(Table19[[#This Row],[Issued]]=\"\",\"\",IF(Table19[[#This Row],[Lent]]=\"\",0,1))","v":""},{"$f":"IF(Table19[[#This Row],[Lent]]=\"\",\"\",IF(Table19[[#This Row],[Returned]]=\"\",0,1))","v":""}]
[{"$nulls":11},{"$f":"IF(IF(Table19[[#This Row],[Disposition]]=\"Retired\",\"N/A\",IF(Table19[[#This Row],[Disposition]]=0,\"\",K85+$F$2))=0+$F$2,\"NEVER CALIBRATED\",IF(Table19[[#This Row],[Disposition]]=\"Retired\",\"N/A\",IF(Table19[[#This Row],[Disposition]]=0,\"\",K85+$F$2)))","v":""},{"$f":"IF(Table19[[#This Row],[Disposition]]=\"\",\"\",IF(AND(Table19[[#This Row],[Next Calibration]]<$E$1,Table19[[#This Row],[Disposition]]=\"Lost\"),\"Find and Calibrate\",IF(Table19[[#This Row],[Disposition]]=\"Lost\",\"Find\",IF(OR(Table19[[#This Row],[Next Calibration]]<$E$1,Table19[[#This Row],[Next Calibration]]=\"NEVER CALIBRATED\"),\"Calibrate\",\"Nominal\"))))","v":""},{"$f":"IF(((Table19[[#This Row],[Next Calibration]]-TODAY())/30)>2,\"More Than 2\",IF(((Table19[[#This Row],[Next Calibration]]-TODAY())/30)>1,\"Between 2 and 1\",\"Less than 1\"))","v":{"$error":"#VALUE!"}},{"$f":"IF(Table19[[#This Row],[Issued]]=\"\",\"\",IF(Table19[[#This Row],[Lent]]=\"\",0,1))","v":""},{"$f":"IF(Table19[[#This Row],[Lent]]=\"\",\"\",IF(Table19[[#This Row],[Returned]]=\"\",0,1))","v":""}]
[{"$nulls":11},{"$f":"IF(IF(Table19[[#This Row],[Disposition]]=\"Retired\",\"N/A\",IF(Table19[[#This Row],[Disposition]]=0,\"\",K86+$F$2))=0+$F$2,\"NEVER CALIBRATED\",IF(Table19[[#This Row],[Disposition]]=\"Retired\",\"N/A\",IF(Table19[[#This Row],[Disposition]]=0,\"\",K86+$F$2)))","v":""},{"$f":"IF(Table19[[#This Row],[Disposition]]=\"\",\"\",IF(AND(Table19[[#This Row],[Next Calibration]]<$E$1,Table19[[#This Row],[Disposition]]=\"Lost\"),\"Find and Calibrate\",IF(Table19[[#This Row],[Disposition]]=\"Lost\",\"Find\",IF(OR(Table19[[#This Row],[Next Calibration]]<$E$1,Table19[[#This Row],[Next Calibration]]=\"NEVER CALIBRATED\"),\"Calibrate\",\"Nominal\"))))","v":""},{"$f":"IF(((Table19[[#This Row],[Next Calibration]]-TODAY())/30)>2,\"More Than 2\",IF(((Table19[[#This Row],[Next Calibration]]-TODAY())/30)>1,\"Between 2 and 1\",\"Less than 1\"))","v":{"$error":"#VALUE!"}},{"$f":"IF(Table19[[#This Row],[Issued]]=\"\",\"\",IF(Table19[[#This Row],[Lent]]=\"\",0,1))","v":""},{"$f":"IF(Table19[[#This Row],[Lent]]=\"\",\"\",IF(Table19[[#This Row],[Returned]]=\"\",0,1))","v":""}]
[{"$nulls":11},{"$f":"IF(IF(Table19[[#This Row],[Disposition]]=\"Retired\",\"N/A\",IF(Table19[[#This Row],[Disposition]]=0,\"\",K87+$F$2))=0+$F$2,\"NEVER CALIBRATED\",IF(Table19[[#This Row],[Disposition]]=\"Retired\",\"N/A\",IF(Table19[[#This Row],[Disposition]]=0,\"\",K87+$F$2)))","v":""},{"$f":"IF(Table19[[#This Row],[Disposition]]=\"\",\"\",IF(AND(Table19[[#This Row],[Next Calibration]]<$E$1,Table19[[#This Row],[Disposition]]=\"Lost\"),\"Find and Calibrate\",IF(Table19[[#This Row],[Disposition]]=\"Lost\",\"Find\",IF(OR(Table19[[#This Row],[Next Calibration]]<$E$1,Table19[[#This Row],[Next Calibration]]=\"NEVER CALIBRATED\"),\"Calibrate\",\"Nominal\"))))","v":""},{"$f":"IF(((Table19[[#This Row],[Next Calibration]]-TODAY())/30)>2,\"More Than 2\",IF(((Table19[[#This Row],[Next Calibration]]-TODAY())/30)>1,\"Between 2 and 1\",\"Less than 1\"))","v":{"$error":"#VALUE!"}},{"$f":"IF(Table19[[#This Row],[Issued]]=\"\",\"\",IF(Table19[[#This Row],[Lent]]=\"\",0,1))","v":""},{"$f":"IF(Table19[[#This Row],[Lent]]=\"\",\"\",IF(Table19[[#This Row],[Returned]]=\"\",0,1))","v":""}]
[{"$nulls":11},{"$f":"IF(IF(Table19[[#This Row],[Disposition]]=\"Retired\",\"N/A\",IF(Table19[[#This Row],[Disposition]]=0,\"\",K88+$F$2))=0+$F$2,\"NEVER CALIBRATED\",IF(Table19[[#This Row],[Disposition]]=\"Retired\",\"N/A\",IF(Table19[[#This Row],[Disposition]]=0,\"\",K88+$F$2)))","v":""},{"$f":"IF(Table19[[#This Row],[Disposition]]=\"\",\"\",IF(AND(Table19[[#This Row],[Next Calibration]]<$E$1,Table19[[#This Row],[Disposition]]=\"Lost\"),\"Find and Calibrate\",IF(Table19[[#This Row],[Disposition]]=\"Lost\",\"Find\",IF(OR(Table19[[#This Row],[Next Calibration]]<$E$1,Table19[[#This Row],[Next Calibration]]=\"NEVER CALIBRATED\"),\"Calibrate\",\"Nominal\"))))","v":""},{"$f":"IF(((Table19[[#This Row],[Next Calibration]]-TODAY())/30)>2,\"More Than 2\",IF(((Table19[[#This Row],[Next Calibration]]-TODAY())/30)>1,\"Between 2 and 1\",\"Less than 1\"))","v":{"$error":"#VALUE!"}},{"$f":"IF(Table19[[#This Row],[Issued]]=\"\",\"\",IF(Table19[[#This Row],[Lent]]=\"\",0,1))","v":""},{"$f":"IF(Table19[[#This Row],[Lent]]=\"\",\"\",IF(Table19[[#This Row],[Returned]]=\"\",0,1))","v":""}]
[{"$nulls":11},{"$f":"IF(IF(Table19[[#This Row],[Disposition]]=\"Retired\",\"N/A\",IF(Table19[[#This Row],[Disposition]]=0,\"\",K89+$F$2))=0+$F$2,\"NEVER CALIBRATED\",IF(Table19[[#This Row],[Disposition]]=\"Retired\",\"N/A\",IF(Table19[[#This Row],[Disposition]]=0,\"\",K89+$F$2)))","v":""},{"$f":"IF(Table19[[#This Row],[Disposition]]=\"\",\"\",IF(AND(Table19[[#This Row],[Next Calibration]]<$E$1,Table19[[#This Row],[Disposition]]=\"Lost\"),\"Find and Calibrate\",IF(Table19[[#This Row],[Disposition]]=\"Lost\",\"Find\",IF(OR(Table19[[#This Row],[Next Calibration]]<$E$1,Table19[[#This Row],[Next Calibration]]=\"NEVER CALIBRATED\"),\"Calibrate\",\"Nominal\"))))","v":""},{"$f":"IF(((Table19[[#This Row],[Next Calibration]]-TODAY())/30)>2,\"More Than 2\",IF(((Table19[[#This Row],[Next Calibration]]-TODAY())/30)>1,\"Between 2 and 1\",\"Less than 1\"))","v":{"$error":"#VALUE!"}},{"$f":"IF(Table19[[#This Row],[Issued]]=\"\",\"\",IF(Table19[[#This Row],[Lent]]=\"\",0,1))","v":""},{"$f":"IF(Table19[[#This Row],[Lent]]=\"\",\"\",IF(Table19[[#This Row],[Returned]]=\"\",0,1))","v":""}]
[{"$nulls":11},{"$f":"IF(IF(Table19[[#This Row],[Disposition]]=\"Retired\",\"N/A\",IF(Table19[[#This Row],[Disposition]]=0,\"\",K90+$F$2))=0+$F$2,\"NEVER CALIBRATED\",IF(Table19[[#This Row],[Disposition]]=\"Retired\",\"N/A\",IF(Table19[[#This Row],[Disposition]]=0,\"\",K90+$F$2)))","v":""},{"$f":"IF(Table19[[#This Row],[Disposition]]=\"\",\"\",IF(AND(Table19[[#This Row],[Next Calibration]]<$E$1,Table19[[#This Row],[Disposition]]=\"Lost\"),\"Find and Calibrate\",IF(Table19[[#This Row],[Disposition]]=\"Lost\",\"Find\",IF(OR(Table19[[#This Row],[Next Calibration]]<$E$1,Table19[[#This Row],[Next Calibration]]=\"NEVER CALIBRATED\"),\"Calibrate\",\"Nominal\"))))","v":""},{"$f":"IF(((Table19[[#This Row],[Next Calibration]]-TODAY())/30)>2,\"More Than 2\",IF(((Table19[[#This Row],[Next Calibration]]-TODAY())/30)>1,\"Between 2 and 1\",\"Less than 1\"))","v":{"$error":"#VALUE!"}},{"$f":"IF(Table19[[#This Row],[Issued]]=\"\",\"\",IF(Table19[[#This Row],[Lent]]=\"\",0,1))","v":""},{"$f":"IF(Table19[[#This Row],[Lent]]=\"\",\"\",IF(Table19[[#This Row],[Returned]]=\"\",0,1))","v":""}]
[{"$nulls":11},{"$f":"IF(IF(Table19[[#This Row],[Disposition]]=\"Retired\",\"N/A\",IF(Table19[[#This Row],[Disposition]]=0,\"\",K91+$F$2))=0+$F$2,\"NEVER CALIBRATED\",IF(Table19[[#This Row],[Disposition]]=\"Retired\",\"N/A\",IF(Table19[[#This Row],[Disposition]]=0,\"\",K91+$F$2)))","v":""},{"$f":"IF(Table19[[#This Row],[Disposition]]=\"\",\"\",IF(AND(Table19[[#This Row],[Next Calibration]]<$E$1,Table19[[#This Row],[Disposition]]=\"Lost\"),\"Find and Calibrate\",IF(Table19[[#This Row],[Disposition]]=\"Lost\",\"Find\",IF(OR(Table19[[#This Row],[Next Calibration]]<$E$1,Table19[[#This Row],[Next Calibration]]=\"NEVER CALIBRATED\"),\"Calibrate\",\"Nominal\"))))","v":""},{"$f":"IF(((Table19[[#This Row],[Next Calibration]]-TODAY())/30)>2,\"More Than 2\",IF(((Table19[[#This Row],[Next Calibration]]-TODAY())/30)>1,\"Between 2 and 1\",\"Less than 1\"))","v":{"$error":"#VALUE!"}},{"$f":"IF(Table19[[#This Row],[Issued]]=\"\",\"\",IF(Table19[[#This Row],[Lent]]=\"\",0,1))","v":""},{"$f":"IF(Table19[[#This Row],[Lent]]=\"\",\"\",IF(Table19[[#This Row],[Returned]]=\"\",0,1))","v":""}]
[{"$nulls":11},{"$f":"IF(IF(Table19[[#This Row],[Disposition]]=\"Retired\",\"N/A\",IF(Table19[[#This Row],[Disposition]]=0,\"\",K92+$F$2))=0+$F$2,\"NEVER CALIBRATED\",IF(Table19[[#This Row],[Disposition]]=\"Retired\",\"N/A\",IF(Table19[[#This Row],[Disposition]]=0,\"\",K92+$F$2)))","v":""},{"$f":"IF(Table19[[#This Row],[Disposition]]=\"\",\"\",IF(AND(Table19[[#This Row],[Next Calibration]]<$E$1,Table19[[#This Row],[Disposition]]=\"Lost\"),\"Find and Calibrate\",IF(Table19[[#This Row],[Disposition]]=\"Lost\",\"Find\",IF(OR(Table19[[#This Row],[Next Calibration]]<$E$1,Table19[[#This Row],[Next Calibration]]=\"NEVER CALIBRATED\"),\"Calibrate\",\"Nominal\"))))","v":""},{"$f":"IF(((Table19[[#This Row],[Next Calibration]]-TODAY())/30)>2,\"More Than 2\",IF(((Table19[[#This Row],[Next Calibration]]-TODAY())/30)>1,\"Between 2 and 1\",\"Less than 1\"))","v":{"$error":"#VALUE!"}},{"$f":"IF(Table19[[#This Row],[Issued]]=\"\",\"\",IF(Table19[[#This Row],[Lent]]=\"\",0,1))","v":""},{"$f":"IF(Table19[[#This Row],[Lent]]=\"\",\"\",IF(Table19[[#This Row],[Returned]]=\"\",0,1))","v":""}]
[{"$nulls":11},{"$f":"IF(IF(Table19[[#This Row],[Disposition]]=\"Retired\",\"N/A\",IF(Table19[[#This Row],[Disposition]]=0,\"\",K93+$F$2))=0+$F$2,\"NEVER CALIBRATED\",IF(Table19[[#This Row],[Disposition]]=\"Retired\",\"N/A\",IF(Table19[[#This Row],[Disposition]]=0,\"\",K93+$F$2)))","v":""},{"$f":"IF(Table19[[#This Row],[Disposition]]=\"\",\"\",IF(AND(Table19[[#This Row],[Next Calibration]]<$E$1,Table19[[#This Row],[Disposition]]=\"Lost\"),\"Find and Calibrate\",IF(Table19[[#This Row],[Disposition]]=\"Lost\",\"Find\",IF(OR(Table19[[#This Row],[Next Calibration]]<$E$1,Table19[[#This Row],[Next Calibration]]=\"NEVER CALIBRATED\"),\"Calibrate\",\"Nominal\"))))","v":""},{"$f":"IF(((Table19[[#This Row],[Next Calibration]]-TODAY())/30)>2,\"More Than 2\",IF(((Table19[[#This Row],[Next Calibration]]-TODAY())/30)>1,\"Between 2 and 1\",\"Less than 1\"))","v":{"$error":"#VALUE!"}},{"$f":"IF(Table19[[#This Row],[Issued]]=\"\",\"\",IF(Table19[[#This Row],[Lent]]=\"\",0,1))","v":""},{"$f":"IF(Table19[[#This Row],[Lent]]=\"\",\"\",IF(Table19[[#This Row],[Returned]]=\"\",0,1))","v":""}]
[{"$nulls":11},{"$f":"IF(IF(Table19[[#This Row],[Disposition]]=\"Retired\",\"N/A\",IF(Table19[[#This Row],[Disposition]]=0,\"\",K94+$F$2))=0+$F$2,\"NEVER CALIBRATED\",IF(Table19[[#This Row],[Disposition]]=\"Retired\",\"N/A\",IF(Table19[[#This Row],[Disposition]]=0,\"\",K94+$F$2)))","v":""},{"$f":"IF(Table19[[#This Row],[Disposition]]=\"\",\"\",IF(AND(Table19[[#This Row],[Next Calibration]]<$E$1,Table19[[#This Row],[Disposition]]=\"Lost\"),\"Find and Calibrate\",IF(Table19[[#This Row],[Disposition]]=\"Lost\",\"Find\",IF(OR(Table19[[#This Row],[Next Calibration]]<$E$1,Table19[[#This Row],[Next Calibration]]=\"NEVER CALIBRATED\"),\"Calibrate\",\"Nominal\"))))","v":""},{"$f":"IF(((Table19[[#This Row],[Next Calibration]]-TODAY())/30)>2,\"More Than 2\",IF(((Table19[[#This Row],[Next Calibration]]-TODAY())/30)>1,\"Between 2 and 1\",\"Less than 1\"))","v":{"$error":"#VALUE!"}},{"$f":"IF(Table19[[#This Row],[Issued]]=\"\",\"\",IF(Table19[[#This Row],[Lent]]=\"\",0,1))","v":""},{"$f":"IF(Table19[[#This Row],[Lent]]=\"\",\"\",IF(Table19[[#This Row],[Returned]]=\"\",0,1))","v":""}]
[{"$nulls":11},{"$f":"IF(IF(Table19[[#This Row],[Disposition]]=\"Retired\",\"N/A\",IF(Table19[[#This Row],[Disposition]]=0,\"\",K95+$F$2))=0+$F$2,\"NEVER CALIBRATED\",IF(Table19[[#This Row],[Disposition]]=\"Retired\",\"N/A\",IF(Table19[[#This Row],[Disposition]]=0,\"\",K95+$F$2)))","v":""},{"$f":"IF(Table19[[#This Row],[Disposition]]=\"\",\"\",IF(AND(Table19[[#This Row],[Next Calibration]]<$E$1,Table19[[#This Row],[Disposition]]=\"Lost\"),\"Find and Calibrate\",IF(Table19[[#This Row],[Disposition]]=\"Lost\",\"Find\",IF(OR(Table19[[#This Row],[Next Calibration]]<$E$1,Table19[[#This Row],[Next Calibration]]=\"NEVER CALIBRATED\"),\"Calibrate\",\"Nominal\"))))","v":""},{"$f":"IF(((Table19[[#This Row],[Next Calibration]]-TODAY())/30)>2,\"More Than 2\",IF(((Table19[[#This Row],[Next Calibration]]-TODAY())/30)>1,\"Between 2 and 1\",\"Less than 1\"))","v":{"$error":"#VALUE!"}},{"$f":"IF(Table19[[#This Row],[Issued]]=\"\",\"\",IF(Table19[[#This Row],[Lent]]=\"\",0,1))","v":""},{"$f":"IF(Table19[[#This Row],[Lent]]=\"\",\"\",IF(Table19[[#This Row],[Returned]]=\"\",0,1))","v":""}]
[{"$nulls":11},{"$f":"IF(IF(Table19[[#This Row],[Disposition]]=\"Retired\",\"N/A\",IF(Table19[[#This Row],[Disposition]]=0,\"\",K96+$F$2))=0+$F$2,\"NEVER CALIBRATED\",IF(Table19[[#This Row],[Disposition]]=\"Retired\",\"N/A\",IF(Table19[[#This Row],[Disposition]]=0,\"\",K96+$F$2)))","v":""},{"$f":"IF(Table19[[#This Row],[Disposition]]=\"\",\"\",IF(AND(Table19[[#This Row],[Next Calibration]]<$E$1,Table19[[#This Row],[Disposition]]=\"Lost\"),\"Find and Calibrate\",IF(Table19[[#This Row],[Disposition]]=\"Lost\",\"Find\",IF(OR(Table19[[#This Row],[Next Calibration]]<$E$1,Table19[[#This Row],[Next Calibration]]=\"NEVER CALIBRATED\"),\"Calibrate\",\"Nominal\"))))","v":""},{"$f":"IF(((Table19[[#This Row],[Next Calibration]]-TODAY())/30)>2,\"More Than 2\",IF(((Table19[[#This Row],[Next Calibration]]-TODAY())/30)>1,\"Between 2 and 1\",\"Less than 1\"))","v":{"$error":"#VALUE!"}},{"$f":"IF(Table19[[#This Row],[Issued]]=\"\",\"\",IF(Table19[[#This Row],[Lent]]=\"\",0,1))","v":""},{"$f":"IF(Table19[[#This Row],[Lent]]=\"\",\"\",IF(Table19[[#This Row],[Returned]]=\"\",0,1))","v":""}]
[{"$nulls":11},{"$f":"IF(IF(Table19[[#This Row],[Disposition]]=\"Retired\",\"N/A\",IF(Table19[[#This Row],[Disposition]]=0,\"\",K97+$F$2))=0+$F$2,\"NEVER CALIBRATED\",IF(Table19[[#This Row],[Disposition]]=\"Retired\",\"N/A\",IF(Table19[[#This Row],[Disposition]]=0,\"\",K97+$F$2)))","v":""},{"$f":"IF(Table19[[#This Row],[Disposition]]=\"\",\"\",IF(AND(Table19[[#This Row],[Next Calibration]]<$E$1,Table19[[#This Row],[Disposition]]=\"Lost\"),\"Find and Calibrate\",IF(Table19[[#This Row],[Disposition]]=\"Lost\",\"Find\",IF(OR(Table19[[#This Row],[Next Calibration]]<$E$1,Table19[[#This Row],[Next Calibration]]=\"NEVER CALIBRATED\"),\"Calibrate\",\"Nominal\"))))","v":""},{"$f":"IF(((Table19[[#This Row],[Next Calibration]]-TODAY())/30)>2,\"More Than 2\",IF(((Table19[[#This Row],[Next Calibration]]-TODAY())/30)>1,\"Between 2 and 1\",\"Less than 1\"))","v":{"$error":"#VALUE!"}},{"$f":"IF(Table19[[#This Row],[Issued]]=\"\",\"\",IF(Table19[[#This Row],[Lent]]=\"\",0,1))","v":""},{"$f":"IF(Table19[[#This Row],[Lent]]=\"\",\"\",IF(Table19[[#This Row],[Returned]]=\"\",0,1))","v":""}]
[{"$nulls":11},{"$f":"IF(IF(Table19[[#This Row],[Disposition]]=\"Retired\",\"N/A\",IF(Table19[[#This Row],[Disposition]]=0,\"\",K98+$F$2))=0+$F$2,\"NEVER CALIBRATED\",IF(Table19[[#This Row],[Disposition]]=\"Retired\",\"N/A\",IF(Table19[[#This Row],[Disposition]]=0,\"\",K98+$F$2)))","v":""},{"$f":"IF(Table19[[#This Row],[Disposition]]=\"\",\"\",IF(AND(Table19[[#This Row],[Next Calibration]]<$E$1,Table19[[#This Row],[Disposition]]=\"Lost\"),\"Find and Calibrate\",IF(Table19[[#This Row],[Disposition]]=\"Lost\",\"Find\",IF(OR(Table19[[#This Row],[Next Calibration]]<$E$1,Table19[[#This Row],[Next Calibration]]=\"NEVER CALIBRATED\"),\"Calibrate\",\"Nominal\"))))","v":""},{"$f":"IF(((Table19[[#This Row],[Next Calibration]]-TODAY())/30)>2,\"More Than 2\",IF(((Table19[[#This Row],[Next Calibration]]-TODAY())/30)>1,\"Between 2 and 1\",\"Less than 1\"))","v":{"$error":"#VALUE!"}},{"$f":"IF(Table19[[#This Row],[Issued]]=\"\",\"\",IF(Table19[[#This Row],[Lent]]=\"\",0,1))","v":""},{"$f":"IF(Table19[[#This Row],[Lent]]=\"\",\"\",IF(Table19[[#This Row],[Returned]]=\"\",0,1))","v":""}]
[{"$nulls":11},{"$f":"IF(IF(Table19[[#This Row],[Disposition]]=\"Retired\",\"N/A\",IF(Table19[[#This Row],[Disposition]]=0,\"\",K99+$F$2))=0+$F$2,\"NEVER CALIBRATED\",IF(Table19[[#This Row],[Disposition]]=\"Retired\",\"N/A\",IF(Table19[[#This Row],[Disposition]]=0,\"\",K99+$F$2)))","v":""},{"$f":"IF(Table19[[#This Row],[Disposition]]=\"\",\"\",IF(AND(Table19[[#This Row],[Next Calibration]]<$E$1,Table19[[#This Row],[Disposition]]=\"Lost\"),\"Find and Calibrate\",IF(Table19[[#This Row],[Disposition]]=\"Lost\",\"Find\",IF(OR(Table19[[#This Row],[Next Calibration]]<$E$1,Table19[[#This Row],[Next Calibration]]=\"NEVER CALIBRATED\"),\"Calibrate\",\"Nominal\"))))","v":""},{"$f":"IF(((Table19[[#This Row],[Next Calibration]]-TODAY())/30)>2,\"More Than 2\",IF(((Table19[[#This Row],[Next Calibration]]-TODAY())/30)>1,\"Between 2 and 1\",\"Less than 1\"))","v":{"$error":"#VALUE!"}},{"$f":"IF(Table19[[#This Row],[Issued]]=\"\",\"\",IF(Table19[[#This Row],[Lent]]=\"\",0,1))","v":""},{"$f":"IF(Table19[[#This Row],[Lent]]=\"\",\"\",IF(Table19[[#This Row],[Returned]]=\"\",0,1))","v":""}]
[{"$nulls":11},{"$f":"IF(IF(Table19[[#This Row],[Disposition]]=\"Retired\",\"N/A\",IF(Table19[[#This Row],[Disposition]]=0,\"\",K100+$F$2))=0+$F$2,\"NEVER CALIBRATED\",IF(Table19[[#This Row],[Disposition]]=\"Retired\",\"N/A\",IF(Table19[[#This Row],[Disposition]]=0,\"\",K100+$F$2)))","v":""},{"$f":"IF(Table19[[#This Row],[Disposition]]=\"\",\"\",IF(AND(Table19[[#This Row],[Next Calibration]]<$E$1,Table19[[#This Row],[Disposition]]=\"Lost\"),\"Find and Calibrate\",IF(Table19[[#This Row],[Disposition]]=\"Lost\",\"Find\",IF(OR(Table19[[#This Row],[Next Calibration]]<$E$1,Table19[[#This Row],[Next Calibration]]=\"NEVER CALIBRATED\"),\"Calibrate\",\"Nominal\"))))","v":""},{"$f":"IF(((Table19[[#This Row],[Next Calibration]]-TODAY())/30)>2,\"More Than 2\",IF(((Table19[[#This Row],[Next Calibration]]-TODAY())/30)>1,\"Between 2 and 1\",\"Less than 1\"))","v":{"$error":"#VALUE!"}},{"$f":"IF(Table19[[#This Row],[Issued]]=\"\",\"\",IF(Table19[[#This Row],[Lent]]=\"\",0,1))","v":""},{"$f":"IF(Table19[[#This Row],[Lent]]=\"\",\"\",IF(Table19[[#This Row],[Returned]]=\"\",0,1))","v":""}]
[{"$nulls":11},{"$f":"IF(IF(Table19[[#This Row],[Disposition]]=\"Retired\",\"N/A\",IF(Table19[[#This Row],[Disposition]]=0,\"\",K101+$F$2))=0+$F$2,\"NEVER CALIBRATED\",IF(Table19[[#This Row],[Disposition]]=\"Retired\",\"N/A\",IF(Table19[[#This Row],[Disposition]]=0,\"\",K101+$F$2)))","v":""},{"$f":"IF(Table19[[#This Row],[Disposition]]=\"\",\"\",IF(AND(Table19[[#This Row],[Next Calibration]]<$E$1,Table19[[#This Row],[Disposition]]=\"Lost\"),\"Find and Calibrate\",IF(Table19[[#This Row],[Disposition]]=\"Lost\",\"Find\",IF(OR(Table19[[#This Row],[Next Calibration]]<$E$1,Table19[[#This Row],[Next Calibration]]=\"NEVER CALIBRATED\"),\"Calibrate\",\"Nominal\"))))","v":""},{"$f":"IF(((Table19[[#This Row],[Next Calibration]]-TODAY())/30)>2,\"More Than 2\",IF(((Table19[[#This Row],[Next Calibration]]-TODAY())/30)>1,\"Between 2 and 1\",\"Less than 1\"))","v":{"$error":"#VALUE!"}},{"$f":"IF(Table19[[#This Row],[Issued]]=\"\",\"\",IF(Table19[[#This Row],[Lent]]=\"\",0,1))","v":""},{"$f":"IF(Table19[[#This Row],[Lent]]=\"\",\"\",IF(Table19[[#This Row],[Returned]]=\"\",0,1))","v":""}]
[{"$nulls":11},{"$f":"IF(IF(Table19[[#This Row],[Disposition]]=\"Retired\",\"N/A\",IF(Table19[[#This Row],[Disposition]]=0,\"\",K102+$F$2))=0+$F$2,\"NEVER CALIBRATED\",IF(Table19[[#This Row],[Disposition]]=\"Retired\",\"N/A\",IF(Table19[[#This Row],[Disposition]]=0,\"\",K102+$F$2)))","v":""},{"$f":"IF(Table19[[#This Row],[Disposition]]=\"\",\"\",IF(AND(Table19[[#This Row],[Next Calibration]]<$E$1,Table19[[#This Row],[Disposition]]=\"Lost\"),\"Find and Calibrate\",IF(Table19[[#This Row],[Disposition]]=\"Lost\",\"Find\",IF(OR(Table19[[#This Row],[Next Calibration]]<$E$1,Table19[[#This Row],[Next Calibration]]=\"NEVER CALIBRATED\"),\"Calibrate\",\"Nominal\"))))","v":""},{"$f":"IF(((Table19[[#This Row],[Next Calibration]]-TODAY())/30)>2,\"More Than 2\",IF(((Table19[[#This Row],[Next Calibration]]-TODAY())/30)>1,\"Between 2 and 1\",\"Less than 1\"))","v":{"$error":"#VALUE!"}},{"$f":"IF(Table19[[#This Row],[Issued]]=\"\",\"\",IF(Table19[[#This Row],[Lent]]=\"\",0,1))","v":""},{"$f":"IF(Table19[[#This Row],[Lent]]=\"\",\"\",IF(Table19[[#This Row],[Returned]]=\"\",0,1))","v":""}]
[{"$nulls":11},{"$f":"IF(IF(Table19[[#This Row],[Disposition]]=\"Retired\",\"N/A\",IF(Table19[[#This Row],[Disposition]]=0,\"\",K103+$F$2))=0+$F$2,\"NEVER CALIBRATED\",IF(Table19[[#This Row],[Disposition]]=\"Retired\",\"N/A\",IF(Table19[[#This Row],[Disposition]]=0,\"\",K103+$F$2)))","v":""},{"$f":"IF(Table19[[#This Row],[Disposition]]=\"\",\"\",IF(AND(Table19[[#This Row],[Next Calibration]]<$E$1,Table19[[#This Row],[Disposition]]=\"Lost\"),\"Find and Calibrate\",IF(Table19[[#This Row],[Disposition]]=\"Lost\",\"Find\",IF(OR(Table19[[#This Row],[Next Calibration]]<$E$1,Table19[[#This Row],[Next Calibration]]=\"NEVER CALIBRATED\"),\"Calibrate\",\"Nominal\"))))","v":""},{"$f":"IF(((Table19[[#This Row],[Next Calibration]]-TODAY())/30)>2,\"More Than 2\",IF(((Table19[[#This Row],[Next Calibration]]-TODAY())/30)>1,\"Between 2 and 1\",\"Less than 1\"))","v":{"$error":"#VALUE!"}},{"$f":"IF(Table19[[#This Row],[Issued]]=\"\",\"\",IF(Table19[[#This Row],[Lent]]=\"\",0,1))","v":""},{"$f":"IF(Table19[[#This Row],[Lent]]=\"\",\"\",IF(Table19[[#This Row],[Returned]]=\"\",0,1))","v":""}]
[{"$nulls":11},{"$f":"IF(IF(Table19[[#This Row],[Disposition]]=\"Retired\",\"N/A\",IF(Table19[[#This Row],[Disposition]]=0,\"\",K104+$F$2))=0+$F$2,\"NEVER CALIBRATED\",IF(Table19[[#This Row],[Disposition]]=\"Retired\",\"N/A\",IF(Table19[[#This Row],[Disposition]]=0,\"\",K104+$F$2)))","v":""},{"$f":"IF(Table19[[#This Row],[Disposition]]=\"\",\"\",IF(AND(Table19[[#This Row],[Next Calibration]]<$E$1,Table19[[#This Row],[Disposition]]=\"Lost\"),\"Find and Calibrate\",IF(Table19[[#This Row],[Disposition]]=\"Lost\",\"Find\",IF(OR(Table19[[#This Row],[Next Calibration]]<$E$1,Table19[[#This Row],[Next Calibration]]=\"NEVER CALIBRATED\"),\"Calibrate\",\"Nominal\"))))","v":""},{"$f":"IF(((Table19[[#This Row],[Next Calibration]]-TODAY())/30)>2,\"More Than 2\",IF(((Table19[[#This Row],[Next Calibration]]-TODAY())/30)>1,\"Between 2 and 1\",\"Less than 1\"))","v":{"$error":"#VALUE!"}},{"$f":"IF(Table19[[#This Row],[Issued]]=\"\",\"\",IF(Table19[[#This Row],[Lent]]=\"\",0,1))","v":""},{"$f":"IF(Table19[[#This Row],[Lent]]=\"\",\"\",IF(Table19[[#This Row],[Returned]]=\"\",0,1))","v":""}]
[{"$nulls":11},{"$f":"IF(IF(Table19[[#This Row],[Disposition]]=\"Retired\",\"N/A\",IF(Table19[[#This Row],[Disposition]]=0,\"\",K105+$F$2))=0+$F$2,\"NEVER CALIBRATED\",IF(Table19[[#This Row],[Disposition]]=\"Retired\",\"N/A\",IF(Table19[[#This Row],[Disposition]]=0,\"\",K105+$F$2)))","v":""},{"$f":"IF(Table19[[#This Row],[Disposition]]=\"\",\"\",IF(AND(Table19[[#This Row],[Next Calibration]]<$E$1,Table19[[#This Row],[Disposition]]=\"Lost\"),\"Find and Calibrate\",IF(Table19[[#This Row],[Disposition]]=\"Lost\",\"Find\",IF(OR(Table19[[#This Row],[Next Calibration]]<$E$1,Table19[[#This Row],[Next Calibration]]=\"NEVER CALIBRATED\"),\"Calibrate\",\"Nominal\"))))","v":""},{"$f":"IF(((Table19[[#This Row],[Next Calibration]]-TODAY())/30)>2,\"More Than 2\",IF(((Table19[[#This Row],[Next Calibration]]-TODAY())/30)>1,\"Between 2 and 1\",\"Less than 1\"))","v":{"$error":"#VALUE!"}},{"$f":"IF(Table19[[#This Row],[Issued]]=\"\",\"\",IF(Table19[[#This Row],[Lent]]=\"\",0,1))","v":""},{"$f":"IF(Table19[[#This Row],[Lent]]=\"\",\"\",IF(Table19[[#This Row],[Returned]]=\"\",0,1))","v":""}]
[{"$nulls":11},{"$f":"IF(IF(Table19[[#This Row],[Disposition]]=\"Retired\",\"N/A\",IF(Table19[[#This Row],[Disposition]]=0,\"\",K106+$F$2))=0+$F$2,\"NEVER CALIBRATED\",IF(Table19[[#This Row],[Disposition]]=\"Retired\",\"N/A\",IF(Table19[[#This Row],[Disposition]]=0,\"\",K106+$F$2)))","v":""},{"$f":"IF(Table19[[#This Row],[Disposition]]=\"\",\"\",IF(AND(Table19[[#This Row],[Next Calibration]]<$E$1,Table19[[#This Row],[Disposition]]=\"Lost\"),\"Find and Calibrate\",IF(Table19[[#This Row],[Disposition]]=\"Lost\",\"Find\",IF(OR(Table19[[#This Row],[Next Calibration]]<$E$1,Table19[[#This Row],[Next Calibration]]=\"NEVER CALIBRATED\"),\"Calibrate\",\"Nominal\"))))","v":""},{"$f":"IF(((Table19[[#This Row],[Next Calibration]]-TODAY())/30)>2,\"More Than 2\",IF(((Table19[[#This Row],[Next Calibration]]-TODAY())/30)>1,\"Between 2 and 1\",\"Less than 1\"))","v":{"$error":"#VALUE!"}},{"$f":"IF(Table19[[#This Row],[Issued]]=\"\",\"\",IF(Table19[[#This Row],[Lent]]=\"\",0,1))","v":""},{"$f":"IF(Table19[[#This Row],[Lent]]=\"\",\"\",IF(Table19[[#This Row],[Returned]]=\"\",0,1))","v":""}]
[{"$nulls":11},{"$f":"IF(IF(Table19[[#This Row],[Disposition]]=\"Retired\",\"N/A\",IF(Table19[[#This Row],[Disposition]]=0,\"\",K107+$F$2))=0+$F$2,\"NEVER CALIBRATED\",IF(Table19[[#This Row],[Disposition]]=\"Retired\",\"N/A\",IF(Table19[[#This Row],[Disposition]]=0,\"\",K107+$F$2)))","v":""},{"$f":"IF(Table19[[#This Row],[Disposition]]=\"\",\"\",IF(AND(Table19[[#This Row],[Next Calibration]]<$E$1,Table19[[#This Row],[Disposition]]=\"Lost\"),\"Find and Calibrate\",IF(Table19[[#This Row],[Disposition]]=\"Lost\",\"Find\",IF(OR(Table19[[#This Row],[Next Calibration]]<$E$1,Table19[[#This Row],[Next Calibration]]=\"NEVER CALIBRATED\"),\"Calibrate\",\"Nominal\"))))","v":""},{"$f":"IF(((Table19[[#This Row],[Next Calibration]]-TODAY())/30)>2,\"More Than 2\",IF(((Table19[[#This Row],[Next Calibration]]-TODAY())/30)>1,\"Between 2 and 1\",\"Less than 1\"))","v":{"$error":"#VALUE!"}},{"$f":"IF(Table19[[#This Row],[Issued]]=\"\",\"\",IF(Table19[[#This Row],[Lent]]=\"\",0,1))","v":""},{"$f":"IF(Table19[[#This Row],[Lent]]=\"\",\"\",IF(Table19[[#This Row],[Returned]]=\"\",0,1))","v":""}]
[{"$nulls":11},{"$f":"IF(IF(Table19[[#This Row],[Disposition]]=\"Retired\",\"N/A\",IF(Table19[[#This Row],[Disposition]]=0,\"\",K108+$F$2))=0+$F$2,\"NEVER CALIBRATED\",IF(Table19[[#This Row],[Disposition]]=\"Retired\",\"N/A\",IF(Table19[[#This Row],[Disposition]]=0,\"\",K108+$F$2)))","v":""},{"$f":"IF(Table19[[#This Row],[Disposition]]=\"\",\"\",IF(AND(Table19[[#This Row],[Next Calibration]]<$E$1,Table19[[#This Row],[Disposition]]=\"Lost\"),\"Find and Calibrate\",IF(Table19[[#This Row],[Disposition]]=\"Lost\",\"Find\",IF(OR(Table19[[#This Row],[Next Calibration]]<$E$1,Table19[[#This Row],[Next Calibration]]=\"NEVER CALIBRATED\"),\"Calibrate\",\"Nominal\"))))","v":""},{"$f":"IF(((Table19[[#This Row],[Next Calibration]]-TODAY())/30)>2,\"More Than 2\",IF(((Table19[[#This Row],[Next Calibration]]-TODAY())/30)>1,\"Between 2 and 1\",\"Less than 1\"))","v":{"$error":"#VALUE!"}},{"$f":"IF(Table19[[#This Row],[Issued]]=\"\",\"\",IF(Table19[[#This Row],[Lent]]=\"\",0,1))","v":""},{"$f":"IF(Table19[[#This Row],[Lent]]=\"\",\"\",IF(Table19[[#This Row],[Returned]]=\"\",0,1))","v":""}]
[{"$nulls":11},{"$f":"IF(IF(Table19[[#This Row],[Disposition]]=\"Retired\",\"N/A\",IF(Table19[[#This Row],[Disposition]]=0,\"\",K109+$F$2))=0+$F$2,\"NEVER CALIBRATED\",IF(Table19[[#This Row],[Disposition]]=\"Retired\",\"N/A\",IF(Table19[[#This Row],[Disposition]]=0,\"\",K109+$F$2)))","v":""},{"$f":"IF(Table19[[#This Row],[Disposition]]=\"\",\"\",IF(AND(Table19[[#This Row],[Next Calibration]]<$E$1,Table19[[#This Row],[Disposition]]=\"Lost\"),\"Find and Calibrate\",IF(Table19[[#This Row],[Disposition]]=\"Lost\",\"Find\",IF(OR(Table19[[#This Row],[Next Calibration]]<$E$1,Table19[[#This Row],[Next Calibration]]=\"NEVER CALIBRATED\"),\"Calibrate\",\"Nominal\"))))","v":""},{"$f":"IF(((Table19[[#This Row],[Next Calibration]]-TODAY())/30)>2,\"More Than 2\",IF(((Table19[[#This Row],[Next Calibration]]-TODAY())/30)>1,\"Between 2 and 1\",\"Less than 1\"))","v":{"$error":"#VALUE!"}},{"$f":"IF(Table19[[#This Row],[Issued]]=\"\",\"\",IF(Table19[[#This Row],[Lent]]=\"\",0,1))","v":""},{"$f":"IF(Table19[[#This Row],[Lent]]=\"\",\"\",IF(Table19[[#This Row],[Returned]]=\"\",0,1))","v":""}]
[{"$nulls":11},{"$f":"IF(IF(Table19[[#This Row],[Disposition]]=\"Retired\",\"N/A\",IF(Table19[[#This Row],[Disposition]]=0,\"\",K110+$F$2))=0+$F$2,\"NEVER CALIBRATED\",IF(Table19[[#This Row],[Disposition]]=\"Retired\",\"N/A\",IF(Table19[[#This Row],[Disposition]]=0,\"\",K110+$F$2)))","v":""},{"$f":"IF(Table19[[#This Row],[Disposition]]=\"\",\"\",IF(AND(Table19[[#This Row],[Next Calibration]]<$E$1,Table19[[#This Row],[Disposition]]=\"Lost\"),\"Find and Calibrate\",IF(Table19[[#This Row],[Disposition]]=\"Lost\",\"Find\",IF(OR(Table19[[#This Row],[Next Calibration]]<$E$1,Table19[[#This Row],[Next Calibration]]=\"NEVER CALIBRATED\"),\"Calibrate\",\"Nominal\"))))","v":""},{"$f":"IF(((Table19[[#This Row],[Next Calibration]]-TODAY())/30)>2,\"More Than 2\",IF(((Table19[[#This Row],[Next Calibration]]-TODAY())/30)>1,\"Between 2 and 1\",\"Less than 1\"))","v":{"$error":"#VALUE!"}},{"$f":"IF(Table19[[#This Row],[Issued]]=\"\",\"\",IF(Table19[[#This Row],[Lent]]=\"\",0,1))","v":""},{"$f":"IF(Table19[[#This Row],[Lent]]=\"\",\"\",IF(Table19[[#This Row],[Returned]]=\"\",0,1))","v":""}]
[{"$nulls":11},{"$f":"IF(IF(Table19[[#This Row],[Disposition]]=\"Retired\",\"N/A\",IF(Table19[[#This Row],[Disposition]]=0,\"\",K111+$F$2))=0+$F$2,\"NEVER CALIBRATED\",IF(Table19[[#This Row],[Disposition]]=\"Retired\",\"N/A\",IF(Table19[[#This Row],[Disposition]]=0,\"\",K111+$F$2)))","v":""},{"$f":"IF(Table19[[#This Row],[Disposition]]=\"\",\"\",IF(AND(Table19[[#This Row],[Next Calibration]]<$E$1,Table19[[#This Row],[Disposition]]=\"Lost\"),\"Find and Calibrate\",IF(Table19[[#This Row],[Disposition]]=\"Lost\",\"Find\",IF(OR(Table19[[#This Row],[Next Calibration]]<$E$1,Table19[[#This Row],[Next Calibration]]=\"NEVER CALIBRATED\"),\"Calibrate\",\"Nominal\"))))","v":""},{"$f":"IF(((Table19[[#This Row],[Next Calibration]]-TODAY())/30)>2,\"More Than 2\",IF(((Table19[[#This Row],[Next Calibration]]-TODAY())/30)>1,\"Between 2 and 1\",\"Less than 1\"))","v":{"$error":"#VALUE!"}},{"$f":"IF(Table19[[#This Row],[Issued]]=\"\",\"\",IF(Table19[[#This Row],[Lent]]=\"\",0,1))","v":""},{"$f":"IF(Table19[[#This Row],[Lent]]=\"\",\"\",IF(Table19[[#This Row],[Returned]]=\"\",0,1))","v":""}]
[{"$nulls":11},{"$f":"IF(IF(Table19[[#This Row],[Disposition]]=\"Retired\",\"N/A\",IF(Table19[[#This Row],[Disposition]]=0,\"\",K112+$F$2))=0+$F$2,\"NEVER CALIBRATED\",IF(Table19[[#This Row],[Disposition]]=\"Retired\",\"N/A\",IF(Table19[[#This Row],[Disposition]]=0,\"\",K112+$F$2)))","v":""},{"$f":"IF(Table19[[#This Row],[Disposition]]=\"\",\"\",IF(AND(Table19[[#This Row],[Next Calibration]]<$E$1,Table19[[#This Row],[Disposition]]=\"Lost\"),\"Find and Calibrate\",IF(Table19[[#This Row],[Disposition]]=\"Lost\",\"Find\",IF(OR(Table19[[#This Row],[Next Calibration]]<$E$1,Table19[[#This Row],[Next Calibration]]=\"NEVER CALIBRATED\"),\"Calibrate\",\"Nominal\"))))","v":""},{"$f":"IF(((Table19[[#This Row],[Next Calibration]]-TODAY())/30)>2,\"More Than 2\",IF(((Table19[[#This Row],[Next Calibration]]-TODAY())/30)>1,\"Between 2 and 1\",\"Less than 1\"))","v":{"$error":"#VALUE!"}},{"$f":"IF(Table19[[#This Row],[Issued]]=\"\",\"\",IF(Table19[[#This Row],[Lent]]=\"\",0,1))","v":""},{"$f":"IF(Table19[[#This Row],[Lent]]=\"\",\"\",IF(Table19[[#This Row],[Returned]]=\"\",0,1))","v":""}]
[{"$nulls":11},{"$f":"IF(IF(Table19[[#This Row],[Disposition]]=\"Retired\",\"N/A\",IF(Table19[[#This Row],[Disposition]]=0,\"\",K113+$F$2))=0+$F$2,\"NEVER CALIBRATED\",IF(Table19[[#This Row],[Disposition]]=\"Retired\",\"N/A\",IF(Table19[[#This Row],[Disposition]]=0,\"\",K113+$F$2)))","v":""},{"$f":"IF(Table19[[#This Row],[Disposition]]=\"\",\"\",IF(AND(Table19[[#This Row],[Next Calibration]]<$E$1,Table19[[#This Row],[Disposition]]=\"Lost\"),\"Find and Calibrate\",IF(Table19[[#This Row],[Disposition]]=\"Lost\",\"Find\",IF(OR(Table19[[#This Row],[Next Calibration]]<$E$1,Table19[[#This Row],[Next Calibration]]=\"NEVER CALIBRATED\"),\"Calibrate\",\"Nominal\"))))","v":""},{"$f":"IF(((Table19[[#This Row],[Next Calibration]]-TODAY())/30)>2,\"More Than 2\",IF(((Table19[[#This Row],[Next Calibration]]-TODAY())/30)>1,\"Between 2 and 1\",\"Less than 1\"))","v":{"$error":"#VALUE!"}},{"$f":"IF(Table19[[#This Row],[Issued]]=\"\",\"\",IF(Table19[[#This Row],[Lent]]=\"\",0,1))","v":""},{"$f":"IF(Table19[[#This Row],[Lent]]=\"\",\"\",IF(Table19[[#This Row],[Returned]]=\"\",0,1))","v":""}]
[{"$nulls":11},{"$f":"IF(IF(Table19[[#This Row],[Disposition]]=\"Retired\",\"N/A\",IF(Table19[[#This Row],[Disposition]]=0,\"\",K114+$F$2))=0+$F$2,\"NEVER CALIBRATED\",IF(Table19[[#This Row],[Disposition]]=\"Retired\",\"N/A\",IF(Table19[[#This Row],[Disposition]]=0,\"\",K114+$F$2)))","v":""},{"$f":"IF(Table19[[#This Row],[Disposition]]=\"\",\"\",IF(AND(Table19[[#This Row],[Next Calibration]]<$E$1,Table19[[#This Row],[Disposition]]=\"Lost\"),\"Find and Calibrate\",IF(Table19[[#This Row],[Disposition]]=\"Lost\",\"Find\",IF(OR(Table19[[#This Row],[Next Calibration]]<$E$1,Table19[[#This Row],[Next Calibration]]=\"NEVER CALIBRATED\"),\"Calibrate\",\"Nominal\"))))","v":""},{"$f":"IF(((Table19[[#This Row],[Next Calibration]]-TODAY())/30)>2,\"More Than 2\",IF(((Table19[[#This Row],[Next Calibration]]-TODAY())/30)>1,\"Between 2 and 1\",\"Less than 1\"))","v":{"$error":"#VALUE!"}},{"$f":"IF(Table19[[#This Row],[Issued]]=\"\",\"\",IF(Table19[[#This Row],[Lent]]=\"\",0,1))","v":""},{"$f":"IF(Table19[[#This Row],[Lent]]=\"\",\"\",IF(Table19[[#This Row],[Returned]]=\"\",0,1))","v":""}]
[{"$nulls":11},{"$f":"IF(IF(Table19[[#This Row],[Disposition]]=\"Retired\",\"N/A\",IF(Table19[[#This Row],[Disposition]]=0,\"\",K115+$F$2))=0+$F$2,\"NEVER CALIBRATED\",IF(Table19[[#This Row],[Disposition]]=\"Retired\",\"N/A\",IF(Table19[[#This Row],[Disposition]]=0,\"\",K115+$F$2)))","v":""},{"$f":"IF(Table19[[#This Row],[Disposition]]=\"\",\"\",IF(AND(Table19[[#This Row],[Next Calibration]]<$E$1,Table19[[#This Row],[Disposition]]=\"Lost\"),\"Find and Calibrate\",IF(Table19[[#This Row],[Disposition]]=\"Lost\",\"Find\",IF(OR(Table19[[#This Row],[Next Calibration]]<$E$1,Table19[[#This Row],[Next Calibration]]=\"NEVER CALIBRATED\"),\"Calibrate\",\"Nominal\"))))","v":""},{"$f":"IF(((Table19[[#This Row],[Next Calibration]]-TODAY())/30)>2,\"More Than 2\",IF(((Table19[[#This Row],[Next Calibration]]-TODAY())/30)>1,\"Between 2 and 1\",\"Less than 1\"))","v":{"$error":"#VALUE!"}},{"$f":"IF(Table19[[#This Row],[Issued]]=\"\",\"\",IF(Table19[[#This Row],[Lent]]=\"\",0,1))","v":""},{"$f":"IF(Table19[[#This Row],[Lent]]=\"\",\"\",IF(Table19[[#This Row],[Returned]]=\"\",0,1))","v":""}]
[{"$nulls":11},{"$f":"IF(IF(Table19[[#This Row],[Disposition]]=\"Retired\",\"N/A\",IF(Table19[[#This Row],[Disposition]]=0,\"\",K116+$F$2))=0+$F$2,\"NEVER CALIBRATED\",IF(Table19[[#This Row],[Disposition]]=\"Retired\",\"N/A\",IF(Table19[[#This Row],[Disposition]]=0,\"\",K116+$F$2)))","v":""},{"$f":"IF(Table19[[#This Row],[Disposition]]=\"\",\"\",IF(AND(Table19[[#This Row],[Next Calibration]]<$E$1,Table19[[#This Row],[Disposition]]=\"Lost\"),\"Find and Calibrate\",IF(Table19[[#This Row],[Disposition]]=\"Lost\",\"Find\",IF(OR(Table19[[#This Row],[Next Calibration]]<$E$1,Table19[[#This Row],[Next Calibration]]=\"NEVER CALIBRATED\"),\"Calibrate\",\"Nominal\"))))","v":""},{"$f":"IF(((Table19[[#This Row],[Next Calibration]]-TODAY())/30)>2,\"More Than 2\",IF(((Table19[[#This Row],[Next Calibration]]-TODAY())/30)>1,\"Between 2 and 1\",\"Less than 1\"))","v":{"$error":"#VALUE!"}},{"$f":"IF(Table19[[#This Row],[Issued]]=\"\",\"\",IF(Table19[[#This Row],[Lent]]=\"\",0,1))","v":""},{"$f":"IF(Table19[[#This Row],[Lent]]=\"\",\"\",IF(Table19[[#This Row],[Returned]]=\"\",0,1))","v":""}]
[{"$nulls":11},{"$f":"IF(IF(Table19[[#This Row],[Disposition]]=\"Retired\",\"N/A\",IF(Table19[[#This Row],[Disposition]]=0,\"\",K117+$F$2))=0+$F$2,\"NEVER CALIBRATED\",IF(Table19[[#This Row],[Disposition]]=\"Retired\",\"N/A\",IF(Table19[[#This Row],[Disposition]]=0,\"\",K117+$F$2)))","v":""},{"$f":"IF(Table19[[#This Row],[Disposition]]=\"\",\"\",IF(AND(Table19[[#This Row],[Next Calibration]]<$E$1,Table19[[#This Row],[Disposition]]=\"Lost\"),\"Find and Calibrate\",IF(Table19[[#This Row],[Disposition]]=\"Lost\",\"Find\",IF(OR(Table19[[#This Row],[Next Calibration]]<$E$1,Table19[[#This Row],[Next Calibration]]=\"NEVER CALIBRATED\"),\"Calibrate\",\"Nominal\"))))","v":""},{"$f":"IF(((Table19[[#This Row],[Next Calibration]]-TODAY())/30)>2,\"More Than 2\",IF(((Table19[[#This Row],[Next Calibration]]-TODAY())/30)>1,\"Between 2 and 1\",\"Less than 1\"))","v":{"$error":"#VALUE!"}},{"$f":"IF(Table19[[#This Row],[Issued]]=\"\",\"\",IF(Table19[[#This Row],[Lent]]=\"\",0,1))","v":""},{"$f":"IF(Table19[[#This Row],[Lent]]=\"\",\"\",IF(Table19[[#This Row],[Returned]]=\"\",0,1))","v":""}]
[{"$nulls":11},{"$f":"IF(IF(Table19[[#This Row],[Disposition]]=\"Retired\",\"N/A\",IF(Table19[[#This Row],[Disposition]]=0,\"\",K118+$F$2))=0+$F$2,\"NEVER CALIBRATED\",IF(Table19[[#This Row],[Disposition]]=\"Retired\",\"N/A\",IF(Table19[[#This Row],[Disposition]]=0,\"\",K118+$F$2)))","v":""},{"$f":"IF(Table19[[#This Row],[Disposition]]=\"\",\"\",IF(AND(Table19[[#This Row],[Next Calibration]]<$E$1,Table19[[#This Row],[Disposition]]=\"Lost\"),\"Find and Calibrate\",IF(Table19[[#This Row],[Disposition]]=\"Lost\",\"Find\",IF(OR(Table19[[#This Row],[Next Calibration]]<$E$1,Table19[[#This Row],[Next Calibration]]=\"NEVER CALIBRATED\"),\"Calibrate\",\"Nominal\"))))","v":""},{"$f":"IF(((Table19[[#This Row],[Next Calibration]]-TODAY())/30)>2,\"More Than 2\",IF(((Table19[[#This Row],[Next Calibration]]-TODAY())/30)>1,\"Between 2 and 1\",\"Less than 1\"))","v":{"$error":"#VALUE!"}},{"$f":"IF(Table19[[#This Row],[Issued]]=\"\",\"\",IF(Table19[[#This Row],[Lent]]=\"\",0,1))","v":""},{"$f":"IF(Table19[[#This Row],[Lent]]=\"\",\"\",IF(Table19[[#This Row],[Returned]]=\"\",0,1))","v":""}]
[{"$nulls":11},{"$f":"IF(IF(Table19[[#This Row],[Disposition]]=\"Retired\",\"N/A\",IF(Table19[[#This Row],[Disposition]]=0,\"\",K119+$F$2))=0+$F$2,\"NEVER CALIBRATED\",IF(Table19[[#This Row],[Disposition]]=\"Retired\",\"N/A\",IF(Table19[[#This Row],[Disposition]]=0,\"\",K119+$F$2)))","v":""},{"$f":"IF(Table19[[#This Row],[Disposition]]=\"\",\"\",IF(AND(Table19[[#This Row],[Next Calibration]]<$E$1,Table19[[#This Row],[Disposition]]=\"Lost\"),\"Find and Calibrate\",IF(Table19[[#This Row],[Disposition]]=\"Lost\",\"Find\",IF(OR(Table19[[#This Row],[Next Calibration]]<$E$1,Table19[[#This Row],[Next Calibration]]=\"NEVER CALIBRATED\"),\"Calibrate\",\"Nominal\"))))","v":""},{"$f":"IF(((Table19[[#This Row],[Next Calibration]]-TODAY())/30)>2,\"More Than 2\",IF(((Table19[[#This Row],[Next Calibration]]-TODAY())/30)>1,\"Between 2 and 1\",\"Less than 1\"))","v":{"$error":"#VALUE!"}},{"$f":"IF(Table19[[#This Row],[Issued]]=\"\",\"\",IF(Table19[[#This Row],[Lent]]=\"\",0,1))","v":""},{"$f":"IF(Table19[[#This Row],[Lent]]=\"\",\"\",IF(Table19[[#This Row],[Returned]]=\"\",0,1))","v":""}]
[{"$nulls":11},{"$f":"IF(IF(Table19[[#This Row],[Disposition]]=\"Retired\",\"N/A\",IF(Table19[[#This Row],[Disposition]]=0,\"\",K120+$F$2))=0+$F$2,\"NEVER CALIBRATED\",IF(Table19[[#This Row],[Disposition]]=\"Retired\",\"N/A\",IF(Table19[[#This Row],[Disposition]]=0,\"\",K120+$F$2)))","v":""},{"$f":"IF(Table19[[#This Row],[Disposition]]=\"\",\"\",IF(AND(Table19[[#This Row],[Next Calibration]]<$E$1,Table19[[#This Row],[Disposition]]=\"Lost\"),\"Find and Calibrate\",IF(Table19[[#This Row],[Disposition]]=\"Lost\",\"Find\",IF(OR(Table19[[#This Row],[Next Calibration]]<$E$1,Table19[[#This Row],[Next Calibration]]=\"NEVER CALIBRATED\"),\"Calibrate\",\"Nominal\"))))","v":""},{"$f":"IF(((Table19[[#This Row],[Next Calibration]]-TODAY())/30)>2,\"More Than 2\",IF(((Table19[[#This Row],[Next Calibration]]-TODAY())/30)>1,\"Between 2 and 1\",\"Less than 1\"))","v":{"$error":"#VALUE!"}},{"$f":"IF(Table19[[#This Row],[Issued]]=\"\",\"\",IF(Table19[[#This Row],[Lent]]=\"\",0,1))","v":""},{"$f":"IF(Table19[[#This Row],[Lent]]=\"\",\"\",IF(Table19[[#This Row],[Returned]]=\"\",0,1))","v":""}]
[{"$nulls":11},{"$f":"IF(IF(Table19[[#This Row],[Disposition]]=\"Retired\",\"N/A\",IF(Table19[[#This Row],[Disposition]]=0,\"\",K121+$F$2))=0+$F$2,\"NEVER CALIBRATED\",IF(Table19[[#This Row],[Disposition]]=\"Retired\",\"N/A\",IF(Table19[[#This Row],[Disposition]]=0,\"\",K121+$F$2)))","v":""},{"$f":"IF(Table19[[#This Row],[Disposition]]=\"\",\"\",IF(AND(Table19[[#This Row],[Next Calibration]]<$E$1,Table19[[#This Row],[Disposition]]=\"Lost\"),\"Find and Calibrate\",IF(Table19[[#This Row],[Disposition]]=\"Lost\",\"Find\",IF(OR(Table19[[#This Row],[Next Calibration]]<$E$1,Table19[[#This Row],[Next Calibration]]=\"NEVER CALIBRATED\"),\"Calibrate\",\"Nominal\"))))","v":""},{"$f":"IF(((Table19[[#This Row],[Next Calibration]]-TODAY())/30)>2,\"More Than 2\",IF(((Table19[[#This Row],[Next Calibration]]-TODAY())/30)>1,\"Between 2 and 1\",\"Less than 1\"))","v":{"$error":"#VALUE!"}},{"$f":"IF(Table19[[#This Row],[Issued]]=\"\",\"\",IF(Table19[[#This Row],[Lent]]=\"\",0,1))","v":""},{"$f":"IF(Table19[[#This Row],[Lent]]=\"\",\"\",IF(Table19[[#This Row],[Returned]]=\"\",0,1))","v":""}]
[{"$nulls":11},{"$f":"IF(IF(Table19[[#This Row],[Disposition]]=\"Retired\",\"N/A\",IF(Table19[[#This Row],[Disposition]]=0,\"\",K122+$F$2))=0+$F$2,\"NEVER CALIBRATED\",IF(Table19[[#This Row],[Disposition]]=\"Retired\",\"N/A\",IF(Table19[[#This Row],[Disposition]]=0,\"\",K122+$F$2)))","v":""},{"$f":"IF(Table19[[#This Row],[Disposition]]=\"\",\"\",IF(AND(Table19[[#This Row],[Next Calibration]]<$E$1,Table19[[#This Row],[Disposition]]=\"Lost\"),\"Find and Calibrate\",IF(Table19[[#This Row],[Disposition]]=\"Lost\",\"Find\",IF(OR(Table19[[#This Row],[Next Calibration]]<$E$1,Table19[[#This Row],[Next Calibration]]=\"NEVER CALIBRATED\"),\"Calibrate\",\"Nominal\"))))","v":""},{"$f":"IF(((Table19[[#This Row],[Next Calibration]]-TODAY())/30)>2,\"More Than 2\",IF(((Table19[[#This Row],[Next Calibration]]-TODAY())/30)>1,\"Between 2 and 1\",\"Less than 1\"))","v":{"$error":"#VALUE!"}},{"$f":"IF(Table19[[#This Row],[Issued]]=\"\",\"\",IF(Table19[[#This Row],[Lent]]=\"\",0,1))","v":""},{"$f":"IF(Table19[[#This Row],[Lent]]=\"\",\"\",IF(Table19[[#This Row],[Returned]]=\"\",0,1))","v":""}]
[{"$nulls":11},{"$f":"IF(IF(Table19[[#This Row],[Disposition]]=\"Retired\",\"N/A\",IF(Table19[[#This Row],[Disposition]]=0,\"\",K123+$F$2))=0+$F$2,\"NEVER CALIBRATED\",IF(Table19[[#This Row],[Disposition]]=\"Retired\",\"N/A\",IF(Table19[[#This Row],[Disposition]]=0,\"\",K123+$F$2)))","v":""},{"$f":"IF(Table19[[#This Row],[Disposition]]=\"\",\"\",IF(AND(Table19[[#This Row],[Next Calibration]]<$E$1,Table19[[#This Row],[Disposition]]=\"Lost\"),\"Find and Calibrate\",IF(Table19[[#This Row],[Disposition]]=\"Lost\",\"Find\",IF(OR(Table19[[#This Row],[Next Calibration]]<$E$1,Table19[[#This Row],[Next Calibration]]=\"NEVER CALIBRATED\"),\"Calibrate\",\"Nominal\"))))","v":""},{"$f":"IF(((Table19[[#This Row],[Next Calibration]]-TODAY())/30)>2,\"More Than 2\",IF(((Table19[[#This Row],[Next Calibration]]-TODAY())/30)>1,\"Between 2 and 1\",\"Less than 1\"))","v":{"$error":"#VALUE!"}},{"$f":"IF(Table19[[#This Row],[Issued]]=\"\",\"\",IF(Table19[[#This Row],[Lent]]=\"\",0,1))","v":""},{"$f":"IF(Table19[[#This Row],[Lent]]=\"\",\"\",IF(Table19[[#This Row],[Returned]]=\"\",0,1))","v":""}]
[{"$nulls":11},{"$f":"IF(IF(Table19[[#This Row],[Disposition]]=\"Retired\",\"N/A\",IF(Table19[[#This Row],[Disposition]]=0,\"\",K124+$F$2))=0+$F$2,\"NEVER CALIBRATED\",IF(Table19[[#This Row],[Disposition]]=\"Retired\",\"N/A\",IF(Table19[[#This Row],[Disposition]]=0,\"\",K124+$F$2)))","v":""},{"$f":"IF(Table19[[#This Row],[Disposition]]=\"\",\"\",IF(AND(Table19[[#This Row],[Next Calibration]]<$E$1,Table19[[#This Row],[Disposition]]=\"Lost\"),\"Find and Calibrate\",IF(Table19[[#This Row],[Disposition]]=\"Lost\",\"Find\",IF(OR(Table19[[#This Row],[Next Calibration]]<$E$1,Table19[[#This Row],[Next Calibration]]=\"NEVER CALIBRATED\"),\"Calibrate\",\"Nominal\"))))","v":""},{"$f":"IF(((Table19[[#This Row],[Next Calibration]]-TODAY())/30)>2,\"More Than 2\",IF(((Table19[[#This Row],[Next Calibration]]-TODAY())/30)>1,\"Between 2 and 1\",\"Less than 1\"))","v":{"$error":"#VALUE!"}},{"$f":"IF(Table19[[#This Row],[Issued]]=\"\",\"\",IF(Table19[[#This Row],[Lent]]=\"\",0,1))","v":""},{"$f":"IF(Table19[[#This Row],[Lent]]=\"\",\"\",IF(Table19[[#This Row],[Returned]]=\"\",0,1))","v":""}]
[{"$nulls":11},{"$f":"IF(IF(Table19[[#This Row],[Disposition]]=\"Retired\",\"N/A\",IF(Table19[[#This Row],[Disposition]]=0,\"\",K125+$F$2))=0+$F$2,\"NEVER CALIBRATED\",IF(Table19[[#This Row],[Disposition]]=\"Retired\",\"N/A\",IF(Table19[[#This Row],[Disposition]]=0,\"\",K125+$F$2)))","v":""},{"$f":"IF(Table19[[#This Row],[Disposition]]=\"\",\"\",IF(AND(Table19[[#This Row],[Next Calibration]]<$E$1,Table19[[#This Row],[Disposition]]=\"Lost\"),\"Find and Calibrate\",IF(Table19[[#This Row],[Disposition]]=\"Lost\",\"Find\",IF(OR(Table19[[#This Row],[Next Calibration]]<$E$1,Table19[[#This Row],[Next Calibration]]=\"NEVER CALIBRATED\"),\"Calibrate\",\"Nominal\"))))","v":""},{"$f":"IF(((Table19[[#This Row],[Next Calibration]]-TODAY())/30)>2,\"More Than 2\",IF(((Table19[[#This Row],[Next Calibration]]-TODAY())/30)>1,\"Between 2 and 1\",\"Less than 1\"))","v":{"$error":"#VALUE!"}},{"$f":"IF(Table19[[#This Row],[Issued]]=\"\",\"\",IF(Table19[[#This Row],[Lent]]=\"\",0,1))","v":""},{"$f":"IF(Table19[[#This Row],[Lent]]=\"\",\"\",IF(Table19[[#This Row],[Returned]]=\"\",0,1))","v":""}]
[{"$nulls":11},{"$f":"IF(IF(Table19[[#This Row],[Disposition]]=\"Retired\",\"N/A\",IF(Table19[[#This Row],[Disposition]]=0,\"\",K126+$F$2))=0+$F$2,\"NEVER CALIBRATED\",IF(Table19[[#This Row],[Disposition]]=\"Retired\",\"N/A\",IF(Table19[[#This Row],[Disposition]]=0,\"\",K126+$F$2)))","v":""},{"$f":"IF(Table19[[#This Row],[Disposition]]=\"\",\"\",IF(AND(Table19[[#This Row],[Next Calibration]]<$E$1,Table19[[#This Row],[Disposition]]=\"Lost\"),\"Find and Calibrate\",IF(Table19[[#This Row],[Disposition]]=\"Lost\",\"Find\",IF(OR(Table19[[#This Row],[Next Calibration]]<$E$1,Table19[[#This Row],[Next Calibration]]=\"NEVER CALIBRATED\"),\"Calibrate\",\"Nominal\"))))","v":""},{"$f":"IF(((Table19[[#This Row],[Next Calibration]]-TODAY())/30)>2,\"More Than 2\",IF(((Table19[[#This Row],[Next Calibration]]-TODAY())/30)>1,\"Between 2 and 1\",\"Less than 1\"))","v":{"$error":"#VALUE!"}},{"$f":"IF(Table19[[#This Row],[Issued]]=\"\",\"\",IF(Table19[[#This Row],[Lent]]=\"\",0,1))","v":""},{"$f":"IF(Table19[[#This Row],[Lent]]=\"\",\"\",IF(Table19[[#This Row],[Returned]]=\"\",0,1))","v":""}]
[{"$nulls":11},{"$f":"IF(IF(Table19[[#This Row],[Disposition]]=\"Retired\",\"N/A\",IF(Table19[[#This Row],[Disposition]]=0,\"\",K127+$F$2))=0+$F$2,\"NEVER CALIBRATED\",IF(Table19[[#This Row],[Disposition]]=\"Retired\",\"N/A\",IF(Table19[[#This Row],[Disposition]]=0,\"\",K127+$F$2)))","v":""},{"$f":"IF(Table19[[#This Row],[Disposition]]=\"\",\"\",IF(AND(Table19[[#This Row],[Next Calibration]]<$E$1,Table19[[#This Row],[Disposition]]=\"Lost\"),\"Find and Calibrate\",IF(Table19[[#This Row],[Disposition]]=\"Lost\",\"Find\",IF(OR(Table19[[#This Row],[Next Calibration]]<$E$1,Table19[[#This Row],[Next Calibration]]=\"NEVER CALIBRATED\"),\"Calibrate\",\"Nominal\"))))","v":""},{"$f":"IF(((Table19[[#This Row],[Next Calibration]]-TODAY())/30)>2,\"More Than 2\",IF(((Table19[[#This Row],[Next Calibration]]-TODAY())/30)>1,\"Between 2 and 1\",\"Less than 1\"))","v":{"$error":"#VALUE!"}},{"$f":"IF(Table19[[#This Row],[Issued]]=\"\",\"\",IF(Table19[[#This Row],[Lent]]=\"\",0,1))","v":""},{"$f":"IF(Table19[[#This Row],[Lent]]=\"\",\"\",IF(Table19[[#This Row],[Returned]]=\"\",0,1))","v":""}]
[{"$nulls":11},{"$f":"IF(IF(Table19[[#This Row],[Disposition]]=\"Retired\",\"N/A\",IF(Table19[[#This Row],[Disposition]]=0,\"\",K128+$F$2))=0+$F$2,\"NEVER CALIBRATED\",IF(Table19[[#This Row],[Disposition]]=\"Retired\",\"N/A\",IF(Table19[[#This Row],[Disposition]]=0,\"\",K128+$F$2)))","v":""},{"$f":"IF(Table19[[#This Row],[Disposition]]=\"\",\"\",IF(AND(Table19[[#This Row],[Next Calibration]]<$E$1,Table19[[#This Row],[Disposition]]=\"Lost\"),\"Find and Calibrate\",IF(Table19[[#This Row],[Disposition]]=\"Lost\",\"Find\",IF(OR(Table19[[#This Row],[Next Calibration]]<$E$1,Table19[[#This Row],[Next Calibration]]=\"NEVER CALIBRATED\"),\"Calibrate\",\"Nominal\"))))","v":""},{"$f":"IF(((Table19[[#This Row],[Next Calibration]]-TODAY())/30)>2,\"More Than 2\",IF(((Table19[[#This Row],[Next Calibration]]-TODAY())/30)>1,\"Between 2 and 1\",\"Less than 1\"))","v":{"$error":"#VALUE!"}},{"$f":"IF(Table19[[#This Row],[Issued]]=\"\",\"\",IF(Table19[[#This Row],[Lent]]=\"\",0,1))","v":""},{"$f":"IF(Table19[[#This Row],[Lent]]=\"\",\"\",IF(Table19[[#This Row],[Returned]]=\"\",0,1))","v":""}]
[{"$nulls":11},{"$f":"IF(IF(Table19[[#This Row],[Disposition]]=\"Retired\",\"N/A\",IF(Table19[[#This Row],[Disposition]]=0,\"\",K129+$F$2))=0+$F$2,\"NEVER CALIBRATED\",IF(Table19[[#This Row],[Disposition]]=\"Retired\",\"N/A\",IF(Table19[[#This Row],[Disposition]]=0,\"\",K129+$F$2)))","v":""},{"$f":"IF(Table19[[#This Row],[Disposition]]=\"\",\"\",IF(AND(Table19[[#This Row],[Next Calibration]]<$E$1,Table19[[#This Row],[Disposition]]=\"Lost\"),\"Find and Calibrate\",IF(Table19[[#This Row],[Disposition]]=\"Lost\",\"Find\",IF(OR(Table19[[#This Row],[Next Calibration]]<$E$1,Table19[[#This Row],[Next Calibration]]=\"NEVER CALIBRATED\"),\"Calibrate\",\"Nominal\"))))","v":""},{"$f":"IF(((Table19[[#This Row],[Next Calibration]]-TODAY())/30)>2,\"More Than 2\",IF(((Table19[[#This Row],[Next Calibration]]-TODAY())/30)>1,\"Between 2 and 1\",\"Less than 1\"))","v":{"$error":"#VALUE!"}},{"$f":"IF(Table19[[#This Row],[Issued]]=\"\",\"\",IF(Table19[[#This Row],[Lent]]=\"\",0,1))","v":""},{"$f":"IF(Table19[[#This Row],[Lent]]=\"\",\"\",IF(Table19[[#This Row],[Returned]]=\"\",0,1))","v":""}]
[{"$nulls":11},{"$f":"IF(IF(Table19[[#This Row],[Disposition]]=\"Retired\",\"N/A\",IF(Table19[[#This Row],[Disposition]]=0,\"\",K130+$F$2))=0+$F$2,\"NEVER CALIBRATED\",IF(Table19[[#This Row],[Disposition]]=\"Retired\",\"N/A\",IF(Table19[[#This Row],[Disposition]]=0,\"\",K130+$F$2)))","v":""},{"$f":"IF(Table19[[#This Row],[Disposition]]=\"\",\"\",IF(AND(Table19[[#This Row],[Next Calibration]]<$E$1,Table19[[#This Row],[Disposition]]=\"Lost\"),\"Find and Calibrate\",IF(Table19[[#This Row],[Disposition]]=\"Lost\",\"Find\",IF(OR(Table19[[#This Row],[Next Calibration]]<$E$1,Table19[[#This Row],[Next Calibration]]=\"NEVER CALIBRATED\"),\"Calibrate\",\"Nominal\"))))","v":""},{"$f":"IF(((Table19[[#This Row],[Next Calibration]]-TODAY())/30)>2,\"More Than 2\",IF(((Table19[[#This Row],[Next Calibration]]-TODAY())/30)>1,\"Between 2 and 1\",\"Less than 1\"))","v":{"$error":"#VALUE!"}},{"$f":"IF(Table19[[#This Row],[Issued]]=\"\",\"\",IF(Table19[[#This Row],[Lent]]=\"\",0,1))","v":""},{"$f":"IF(Table19[[#This Row],[Lent]]=\"\",\"\",IF(Table19[[#This Row],[Returned]]=\"\",0,1))","v":""}]
[{"$nulls":11},{"$f":"IF(IF(Table19[[#This Row],[Disposition]]=\"Retired\",\"N/A\",IF(Table19[[#This Row],[Disposition]]=0,\"\",K131+$F$2))=0+$F$2,\"NEVER CALIBRATED\",IF(Table19[[#This Row],[Disposition]]=\"Retired\",\"N/A\",IF(Table19[[#This Row],[Disposition]]=0,\"\",K131+$F$2)))","v":""},{"$f":"IF(Table19[[#This Row],[Disposition]]=\"\",\"\",IF(AND(Table19[[#This Row],[Next Calibration]]<$E$1,Table19[[#This Row],[Disposition]]=\"Lost\"),\"Find and Calibrate\",IF(Table19[[#This Row],[Disposition]]=\"Lost\",\"Find\",IF(OR(Table19[[#This Row],[Next Calibration]]<$E$1,Table19[[#This Row],[Next Calibration]]=\"NEVER CALIBRATED\"),\"Calibrate\",\"Nominal\"))))","v":""},{"$f":"IF(((Table19[[#This Row],[Next Calibration]]-TODAY())/30)>2,\"More Than 2\",IF(((Table19[[#This Row],[Next Calibration]]-TODAY())/30)>1,\"Between 2 and 1\",\"Less than 1\"))","v":{"$error":"#VALUE!"}},{"$f":"IF(Table19[[#This Row],[Issued]]=\"\",\"\",IF(Table19[[#This Row],[Lent]]=\"\",0,1))","v":""},{"$f":"IF(Table19[[#This Row],[Lent]]=\"\",\"\",IF(Table19[[#This Row],[Returned]]=\"\",0,1))","v":""}]
[{"$nulls":11},{"$f":"IF(IF(Table19[[#This Row],[Disposition]]=\"Retired\",\"N/A\",IF(Table19[[#This Row],[Disposition]]=0,\"\",K132+$F$2))=0+$F$2,\"NEVER CALIBRATED\",IF(Table19[[#This Row],[Disposition]]=\"Retired\",\"N/A\",IF(Table19[[#This Row],[Disposition]]=0,\"\",K132+$F$2)))","v":""},{"$f":"IF(Table19[[#This Row],[Disposition]]=\"\",\"\",IF(AND(Table19[[#This Row],[Next Calibration]]<$E$1,Table19[[#This Row],[Disposition]]=\"Lost\"),\"Find and Calibrate\",IF(Table19[[#This Row],[Disposition]]=\"Lost\",\"Find\",IF(OR(Table19[[#This Row],[Next Calibration]]<$E$1,Table19[[#This Row],[Next Calibration]]=\"NEVER CALIBRATED\"),\"Calibrate\",\"Nominal\"))))","v":""},{"$f":"IF(((Table19[[#This Row],[Next Calibration]]-TODAY())/30)>2,\"More Than 2\",IF(((Table19[[#This Row],[Next Calibration]]-TODAY())/30)>1,\"Between 2 and 1\",\"Less than 1\"))","v":{"$error":"#VALUE!"}},{"$f":"IF(Table19[[#This Row],[Issued]]=\"\",\"\",IF(Table19[[#This Row],[Lent]]=\"\",0,1))","v":""},{"$f":"IF(Table19[[#This Row],[Lent]]=\"\",\"\",IF(Table19[[#This Row],[Returned]]=\"\",0,1))","v":""}]
[{"$nulls":11},{"$f":"IF(IF(Table19[[#This Row],[Disposition]]=\"Retired\",\"N/A\",IF(Table19[[#This Row],[Disposition]]=0,\"\",K133+$F$2))=0+$F$2,\"NEVER CALIBRATED\",IF(Table19[[#This Row],[Disposition]]=\"Retired\",\"N/A\",IF(Table19[[#This Row],[Disposition]]=0,\"\",K133+$F$2)))","v":""},{"$f":"IF(Table19[[#This Row],[Disposition]]=\"\",\"\",IF(AND(Table19[[#This Row],[Next Calibration]]<$E$1,Table19[[#This Row],[Disposition]]=\"Lost\"),\"Find and Calibrate\",IF(Table19[[#This Row],[Disposition]]=\"Lost\",\"Find\",IF(OR(Table19[[#This Row],[Next Calibration]]<$E$1,Table19[[#This Row],[Next Calibration]]=\"NEVER CALIBRATED\"),\"Calibrate\",\"Nominal\"))))","v":""},{"$f":"IF(((Table19[[#This Row],[Next Calibration]]-TODAY())/30)>2,\"More Than 2\",IF(((Table19[[#This Row],[Next Calibration]]-TODAY())/30)>1,\"Between 2 and 1\",\"Less than 1\"))","v":{"$error":"#VALUE!"}},{"$f":"IF(Table19[[#This Row],[Issued]]=\"\",\"\",IF(Table19[[#This Row],[Lent]]=\"\",0,1))","v":""},{"$f":"IF(Table19[[#This Row],[Lent]]=\"\",\"\",IF(Table19[[#This Row],[Returned]]=\"\",0,1))","v":""}]
[{"$nulls":11},{"$f":"IF(IF(Table19[[#This Row],[Disposition]]=\"Retired\",\"N/A\",IF(Table19[[#This Row],[Disposition]]=0,\"\",K134+$F$2))=0+$F$2,\"NEVER CALIBRATED\",IF(Table19[[#This Row],[Disposition]]=\"Retired\",\"N/A\",IF(Table19[[#This Row],[Disposition]]=0,\"\",K134+$F$2)))","v":""},{"$f":"IF(Table19[[#This Row],[Disposition]]=\"\",\"\",IF(AND(Table19[[#This Row],[Next Calibration]]<$E$1,Table19[[#This Row],[Disposition]]=\"Lost\"),\"Find and Calibrate\",IF(Table19[[#This Row],[Disposition]]=\"Lost\",\"Find\",IF(OR(Table19[[#This Row],[Next Calibration]]<$E$1,Table19[[#This Row],[Next Calibration]]=\"NEVER CALIBRATED\"),\"Calibrate\",\"Nominal\"))))","v":""},{"$f":"IF(((Table19[[#This Row],[Next Calibration]]-TODAY())/30)>2,\"More Than 2\",IF(((Table19[[#This Row],[Next Calibration]]-TODAY())/30)>1,\"Between 2 and 1\",\"Less than 1\"))","v":{"$error":"#VALUE!"}},{"$f":"IF(Table19[[#This Row],[Issued]]=\"\",\"\",IF(Table19[[#This Row],[Lent]]=\"\",0,1))","v":""},{"$f":"IF(Table19[[#This Row],[Lent]]=\"\",\"\",IF(Table19[[#This Row],[Returned]]=\"\",0,1))","v":""}]
[{"$nulls":11},{"$f":"IF(IF(Table19[[#This Row],[Disposition]]=\"Retired\",\"N/A\",IF(Table19[[#This Row],[Disposition]]=0,\"\",K135+$F$2))=0+$F$2,\"NEVER CALIBRATED\",IF(Table19[[#This Row],[Disposition]]=\"Retired\",\"N/A\",IF(Table19[[#This Row],[Disposition]]=0,\"\",K135+$F$2)))","v":""},{"$f":"IF(Table19[[#This Row],[Disposition]]=\"\",\"\",IF(AND(Table19[[#This Row],[Next Calibration]]<$E$1,Table19[[#This Row],[Disposition]]=\"Lost\"),\"Find and Calibrate\",IF(Table19[[#This Row],[Disposition]]=\"Lost\",\"Find\",IF(OR(Table19[[#This Row],[Next Calibration]]<$E$1,Table19[[#This Row],[Next Calibration]]=\"NEVER CALIBRATED\"),\"Calibrate\",\"Nominal\"))))","v":""},{"$f":"IF(((Table19[[#This Row],[Next Calibration]]-TODAY())/30)>2,\"More Than 2\",IF(((Table19[[#This Row],[Next Calibration]]-TODAY())/30)>1,\"Between 2 and 1\",\"Less than 1\"))","v":{"$error":"#VALUE!"}},{"$f":"IF(Table19[[#This Row],[Issued]]=\"\",\"\",IF(Table19[[#This Row],[Lent]]=\"\",0,1))","v":""},{"$f":"IF(Table19[[#This Row],[Lent]]=\"\",\"\",IF(Table19[[#This Row],[Returned]]=\"\",0,1))","v":""}]
[{"$nulls":11},{"$f":"IF(IF(Table19[[#This Row],[Disposition]]=\"Retired\",\"N/A\",IF(Table19[[#This Row],[Disposition]]=0,\"\",K136+$F$2))=0+$F$2,\"NEVER CALIBRATED\",IF(Table19[[#This Row],[Disposition]]=\"Retired\",\"N/A\",IF(Table19[[#This Row],[Disposition]]=0,\"\",K136+$F$2)))","v":""},{"$f":"IF(Table19[[#This Row],[Disposition]]=\"\",\"\",IF(AND(Table19[[#This Row],[Next Calibration]]<$E$1,Table19[[#This Row],[Disposition]]=\"Lost\"),\"Find and Calibrate\",IF(Table19[[#This Row],[Disposition]]=\"Lost\",\"Find\",IF(OR(Table19[[#This Row],[Next Calibration]]<$E$1,Table19[[#This Row],[Next Calibration]]=\"NEVER CALIBRATED\"),\"Calibrate\",\"Nominal\"))))","v":""},{"$f":"IF(((Table19[[#This Row],[Next Calibration]]-TODAY())/30)>2,\"More Than 2\",IF(((Table19[[#This Row],[Next Calibration]]-TODAY())/30)>1,\"Between 2 and 1\",\"Less than 1\"))","v":{"$error":"#VALUE!"}},{"$f":"IF(Table19[[#This Row],[Issued]]=\"\",\"\",IF(Table19[[#This Row],[Lent]]=\"\",0,1))","v":""},{"$f":"IF(Table19[[#This Row],[Lent]]=\"\",\"\",IF(Table19[[#This Row],[Returned]]=\"\",0,1))","v":""}]
[{"$nulls":11},{"$f":"IF(IF(Table19[[#This Row],[Disposition]]=\"Retired\",\"N/A\",IF(Table19[[#This Row],[Disposition]]=0,\"\",K137+$F$2))=0+$F$2,\"NEVER CALIBRATED\",IF(Table19[[#This Row],[Disposition]]=\"Retired\",\"N/A\",IF(Table19[[#This Row],[Disposition]]=0,\"\",K137+$F$2)))","v":""},{"$f":"IF(Table19[[#This Row],[Disposition]]=\"\",\"\",IF(AND(Table19[[#This Row],[Next Calibration]]<$E$1,Table19[[#This Row],[Disposition]]=\"Lost\"),\"Find and Calibrate\",IF(Table19[[#This Row],[Disposition]]=\"Lost\",\"Find\",IF(OR(Table19[[#This Row],[Next Calibration]]<$E$1,Table19[[#This Row],[Next Calibration]]=\"NEVER CALIBRATED\"),\"Calibrate\",\"Nominal\"))))","v":""},{"$f":"IF(((Table19[[#This Row],[Next Calibration]]-TODAY())/30)>2,\"More Than 2\",IF(((Table19[[#This Row],[Next Calibration]]-TODAY())/30)>1,\"Between 2 and 1\",\"Less than 1\"))","v":{"$error":"#VALUE!"}},{"$f":"IF(Table19[[#This Row],[Issued]]=\"\",\"\",IF(Table19[[#This Row],[Lent]]=\"\",0,1))","v":""},{"$f":"IF(Table19[[#This Row],[Lent]]=\"\",\"\",IF(Table19[[#This Row],[Returned]]=\"\",0,1))","v":""}]
[{"$nulls":11},{"$f":"IF(IF(Table19[[#This Row],[Disposition]]=\"Retired\",\"N/A\",IF(Table19[[#This Row],[Disposition]]=0,\"\",K138+$F$2))=0+$F$2,\"NEVER CALIBRATED\",IF(Table19[[#This Row],[Disposition]]=\"Retired\",\"N/A\",IF(Table19[[#This Row],[Disposition]]=0,\"\",K138+$F$2)))","v":""},{"$f":"IF(Table19[[#This Row],[Disposition]]=\"\",\"\",IF(AND(Table19[[#This Row],[Next Calibration]]<$E$1,Table19[[#This Row],[Disposition]]=\"Lost\"),\"Find and Calibrate\",IF(Table19[[#This Row],[Disposition]]=\"Lost\",\"Find\",IF(OR(Table19[[#This Row],[Next Calibration]]<$E$1,Table19[[#This Row],[Next Calibration]]=\"NEVER CALIBRATED\"),\"Calibrate\",\"Nominal\"))))","v":""},{"$f":"IF(((Table19[[#This Row],[Next Calibration]]-TODAY())/30)>2,\"More Than 2\",IF(((Table19[[#This Row],[Next Calibration]]-TODAY())/30)>1,\"Between 2 and 1\",\"Less than 1\"))","v":{"$error":"#VALUE!"}},{"$f":"IF(Table19[[#This Row],[Issued]]=\"\",\"\",IF(Table19[[#This Row],[Lent]]=\"\",0,1))","v":""},{"$f":"IF(Table19[[#This Row],[Lent]]=\"\",\"\",IF(Table19[[#This Row],[Returned]]=\"\",0,1))","v":""}]
[{"$nulls":11},{"$f":"IF(IF(Table19[[#This Row],[Disposition]]=\"Retired\",\"N/A\",IF(Table19[[#This Row],[Disposition]]=0,\"\",K139+$F$2))=0+$F$2,\"NEVER CALIBRATED\",IF(Table19[[#This Row],[Disposition]]=\"Retired\",\"N/A\",IF(Table19[[#This Row],[Disposition]]=0,\"\",K139+$F$2)))","v":""},{"$f":"IF(Table19[[#This Row],[Disposition]]=\"\",\"\",IF(AND(Table19[[#This Row],[Next Calibration]]<$E$1,Table19[[#This Row],[Disposition]]=\"Lost\"),\"Find and Calibrate\",IF(Table19[[#This Row],[Disposition]]=\"Lost\",\"Find\",IF(OR(Table19[[#This Row],[Next Calibration]]<$E$1,Table19[[#This Row],[Next Calibration]]=\"NEVER CALIBRATED\"),\"Calibrate\",\"Nominal\"))))","v":""},{"$f":"IF(((Table19[[#This Row],[Next Calibration]]-TODAY())/30)>2,\"More Than 2\",IF(((Table19[[#This Row],[Next Calibration]]-TODAY())/30)>1,\"Between 2 and 1\",\"Less than 1\"))","v":{"$error":"#VALUE!"}},{"$f":"IF(Table19[[#This Row],[Issued]]=\"\",\"\",IF(Table19[[#This Row],[Lent]]=\"\",0,1))","v":""},{"$f":"IF(Table19[[#This Row],[Lent]]=\"\",\"\",IF(Table19[[#This Row],[Returned]]=\"\",0,1))","v":""}]
[{"$nulls":11},{"$f":"IF(IF(Table19[[#This Row],[Disposition]]=\"Retired\",\"N/A\",IF(Table19[[#This Row],[Disposition]]=0,\"\",K140+$F$2))=0+$F$2,\"NEVER CALIBRATED\",IF(Table19[[#This Row],[Disposition]]=\"Retired\",\"N/A\",IF(Table19[[#This Row],[Disposition]]=0,\"\",K140+$F$2)))","v":""},{"$f":"IF(Table19[[#This Row],[Disposition]]=\"\",\"\",IF(AND(Table19[[#This Row],[Next Calibration]]<$E$1,Table19[[#This Row],[Disposition]]=\"Lost\"),\"Find and Calibrate\",IF(Table19[[#This Row],[Disposition]]=\"Lost\",\"Find\",IF(OR(Table19[[#This Row],[Next Calibration]]<$E$1,Table19[[#This Row],[Next Calibration]]=\"NEVER CALIBRATED\"),\"Calibrate\",\"Nominal\"))))","v":""},{"$f":"IF(((Table19[[#This Row],[Next Calibration]]-TODAY())/30)>2,\"More Than 2\",IF(((Table19[[#This Row],[Next Calibration]]-TODAY())/30)>1,\"Between 2 and 1\",\"Less than 1\"))","v":{"$error":"#VALUE!"}},{"$f":"IF(Table19[[#This Row],[Issued]]=\"\",\"\",IF(Table19[[#This Row],[Lent]]=\"\",0,1))","v":""},{"$f":"IF(Table19[[#This Row],[Lent]]=\"\",\"\",IF(Table19[[#This Row],[Returned]]=\"\",0,1))","v":""}]
[{"$nulls":11},{"$f":"IF(IF(Table19[[#This Row],[Disposition]]=\"Retired\",\"N/A\",IF(Table19[[#This Row],[Disposition]]=0,\"\",K141+$F$2))=0+$F$2,\"NEVER CALIBRATED\",IF(Table19[[#This Row],[Disposition]]=\"Retired\",\"N/A\",IF(Table19[[#This Row],[Disposition]]=0,\"\",K141+$F$2)))","v":""},{"$f":"IF(Table19[[#This Row],[Disposition]]=\"\",\"\",IF(AND(Table19[[#This Row],[Next Calibration]]<$E$1,Table19[[#This Row],[Disposition]]=\"Lost\"),\"Find and Calibrate\",IF(Table19[[#This Row],[Disposition]]=\"Lost\",\"Find\",IF(OR(Table19[[#This Row],[Next Calibration]]<$E$1,Table19[[#This Row],[Next Calibration]]=\"NEVER CALIBRATED\"),\"Calibrate\",\"Nominal\"))))","v":""},{"$f":"IF(((Table19[[#This Row],[Next Calibration]]-TODAY())/30)>2,\"More Than 2\",IF(((Table19[[#This Row],[Next Calibration]]-TODAY())/30)>1,\"Between 2 and 1\",\"Less than 1\"))","v":{"$error":"#VALUE!"}},{"$f":"IF(Table19[[#This Row],[Issued]]=\"\",\"\",IF(Table19[[#This Row],[Lent]]=\"\",0,1))","v":""},{"$f":"IF(Table19[[#This Row],[Lent]]=\"\",\"\",IF(Table19[[#This Row],[Returned]]=\"\",0,1))","v":""}]
[{"$nulls":11},{"$f":"IF(IF(Table19[[#This Row],[Disposition]]=\"Retired\",\"N/A\",IF(Table19[[#This Row],[Disposition]]=0,\"\",K142+$F$2))=0+$F$2,\"NEVER CALIBRATED\",IF(Table19[[#This Row],[Disposition]]=\"Retired\",\"N/A\",IF(Table19[[#This Row],[Disposition]]=0,\"\",K142+$F$2)))","v":""},{"$f":"IF(Table19[[#This Row],[Disposition]]=\"\",\"\",IF(AND(Table19[[#This Row],[Next Calibration]]<$E$1,Table19[[#This Row],[Disposition]]=\"Lost\"),\"Find and Calibrate\",IF(Table19[[#This Row],[Disposition]]=\"Lost\",\"Find\",IF(OR(Table19[[#This Row],[Next Calibration]]<$E$1,Table19[[#This Row],[Next Calibration]]=\"NEVER CALIBRATED\"),\"Calibrate\",\"Nominal\"))))","v":""},{"$f":"IF(((Table19[[#This Row],[Next Calibration]]-TODAY())/30)>2,\"More Than 2\",IF(((Table19[[#This Row],[Next Calibration]]-TODAY())/30)>1,\"Between 2 and 1\",\"Less than 1\"))","v":{"$error":"#VALUE!"}},{"$f":"IF(Table19[[#This Row],[Issued]]=\"\",\"\",IF(Table19[[#This Row],[Lent]]=\"\",0,1))","v":""},{"$f":"IF(Table19[[#This Row],[Lent]]=\"\",\"\",IF(Table19[[#This Row],[Returned]]=\"\",0,1))","v":""}]
[{"$nulls":11},{"$f":"IF(IF(Table19[[#This Row],[Disposition]]=\"Retired\",\"N/A\",IF(Table19[[#This Row],[Disposition]]=0,\"\",K143+$F$2))=0+$F$2,\"NEVER CALIBRATED\",IF(Table19[[#This Row],[Disposition]]=\"Retired\",\"N/A\",IF(Table19[[#This Row],[Disposition]]=0,\"\",K143+$F$2)))","v":""},{"$f":"IF(Table19[[#This Row],[Disposition]]=\"\",\"\",IF(AND(Table19[[#This Row],[Next Calibration]]<$E$1,Table19[[#This Row],[Disposition]]=\"Lost\"),\"Find and Calibrate\",IF(Table19[[#This Row],[Disposition]]=\"Lost\",\"Find\",IF(OR(Table19[[#This Row],[Next Calibration]]<$E$1,Table19[[#This Row],[Next Calibration]]=\"NEVER CALIBRATED\"),\"Calibrate\",\"Nominal\"))))","v":""},{"$f":"IF(((Table19[[#This Row],[Next Calibration]]-TODAY())/30)>2,\"More Than 2\",IF(((Table19[[#This Row],[Next Calibration]]-TODAY())/30)>1,\"Between 2 and 1\",\"Less than 1\"))","v":{"$error":"#VALUE!"}},{"$f":"IF(Table19[[#This Row],[Issued]]=\"\",\"\",IF(Table19[[#This Row],[Lent]]=\"\",0,1))","v":""},{"$f":"IF(Table19[[#This Row],[Lent]]=\"\",\"\",IF(Table19[[#This Row],[Returned]]=\"\",0,1))","v":""}]
[{"$nulls":11},{"$f":"IF(IF(Table19[[#This Row],[Disposition]]=\"Retired\",\"N/A\",IF(Table19[[#This Row],[Disposition]]=0,\"\",K144+$F$2))=0+$F$2,\"NEVER CALIBRATED\",IF(Table19[[#This Row],[Disposition]]=\"Retired\",\"N/A\",IF(Table19[[#This Row],[Disposition]]=0,\"\",K144+$F$2)))","v":""},{"$f":"IF(Table19[[#This Row],[Disposition]]=\"\",\"\",IF(AND(Table19[[#This Row],[Next Calibration]]<$E$1,Table19[[#This Row],[Disposition]]=\"Lost\"),\"Find and Calibrate\",IF(Table19[[#This Row],[Disposition]]=\"Lost\",\"Find\",IF(OR(Table19[[#This Row],[Next Calibration]]<$E$1,Table19[[#This Row],[Next Calibration]]=\"NEVER CALIBRATED\"),\"Calibrate\",\"Nominal\"))))","v":""},{"$f":"IF(((Table19[[#This Row],[Next Calibration]]-TODAY())/30)>2,\"More Than 2\",IF(((Table19[[#This Row],[Next Calibration]]-TODAY())/30)>1,\"Between 2 and 1\",\"Less than 1\"))","v":{"$error":"#VALUE!"}},{"$f":"IF(Table19[[#This Row],[Issued]]=\"\",\"\",IF(Table19[[#This Row],[Lent]]=\"\",0,1))","v":""},{"$f":"IF(Table19[[#This Row],[Lent]]=\"\",\"\",IF(Table19[[#This Row],[Returned]]=\"\",0,1))","v":""}]
[{"$nulls":11},{"$f":"IF(IF(Table19[[#This Row],[Disposition]]=\"Retired\",\"N/A\",IF(Table19[[#This Row],[Disposition]]=0,\"\",K145+$F$2))=0+$F$2,\"NEVER CALIBRATED\",IF(Table19[[#This Row],[Disposition]]=\"Retired\",\"N/A\",IF(Table19[[#This Row],[Disposition]]=0,\"\",K145+$F$2)))","v":""},{"$f":"IF(Table19[[#This Row],[Disposition]]=\"\",\"\",IF(AND(Table19[[#This Row],[Next Calibration]]<$E$1,Table19[[#This Row],[Disposition]]=\"Lost\"),\"Find and Calibrate\",IF(Table19[[#This Row],[Disposition]]=\"Lost\",\"Find\",IF(OR(Table19[[#This Row],[Next Calibration]]<$E$1,Table19[[#This Row],[Next Calibration]]=\"NEVER CALIBRATED\"),\"Calibrate\",\"Nominal\"))))","v":""},{"$f":"IF(((Table19[[#This Row],[Next Calibration]]-TODAY())/30)>2,\"More Than 2\",IF(((Table19[[#This Row],[Next Calibration]]-TODAY())/30)>1,\"Between 2 and 1\",\"Less than 1\"))","v":{"$error":"#VALUE!"}},{"$f":"IF(Table19[[#This Row],[Issued]]=\"\",\"\",IF(Table19[[#This Row],[Lent]]=\"\",0,1))","v":""},{"$f":"IF(Table19[[#This Row],[Lent]]=\"\",\"\",IF(Table19[[#This Row],[Returned]]=\"\",0,1))","v":""}]
[{"$nulls":11},{"$f":"IF(IF(Table19[[#This Row],[Disposition]]=\"Retired\",\"N/A\",IF(Table19[[#This Row],[Disposition]]=0,\"\",K146+$F$2))=0+$F$2,\"NEVER CALIBRATED\",IF(Table19[[#This Row],[Disposition]]=\"Retired\",\"N/A\",IF(Table19[[#This Row],[Disposition]]=0,\"\",K146+$F$2)))","v":""},{"$f":"IF(Table19[[#This Row],[Disposition]]=\"\",\"\",IF(AND(Table19[[#This Row],[Next Calibration]]<$E$1,Table19[[#This Row],[Disposition]]=\"Lost\"),\"Find and Calibrate\",IF(Table19[[#This Row],[Disposition]]=\"Lost\",\"Find\",IF(OR(Table19[[#This Row],[Next Calibration]]<$E$1,Table19[[#This Row],[Next Calibration]]=\"NEVER CALIBRATED\"),\"Calibrate\",\"Nominal\"))))","v":""},{"$f":"IF(((Table19[[#This Row],[Next Calibration]]-TODAY())/30)>2,\"More Than 2\",IF(((Table19[[#This Row],[Next Calibration]]-TODAY())/30)>1,\"Between 2 and 1\",\"Less than 1\"))","v":{"$error":"#VALUE!"}},{"$f":"IF(Table19[[#This Row],[Issued]]=\"\",\"\",IF(Table19[[#This Row],[Lent]]=\"\",0,1))","v":""},{"$f":"IF(Table19[[#This Row],[Lent]]=\"\",\"\",IF(Table19[[#This Row],[Returned]]=\"\",0,1))","v":""}]
[{"$nulls":11},{"$f":"IF(IF(Table19[[#This Row],[Disposition]]=\"Retired\",\"N/A\",IF(Table19[[#This Row],[Disposition]]=0,\"\",K147+$F$2))=0+$F$2,\"NEVER CALIBRATED\",IF(Table19[[#This Row],[Disposition]]=\"Retired\",\"N/A\",IF(Table19[[#This Row],[Disposition]]=0,\"\",K147+$F$2)))","v":""},{"$f":"IF(Table19[[#This Row],[Disposition]]=\"\",\"\",IF(AND(Table19[[#This Row],[Next Calibration]]<$E$1,Table19[[#This Row],[Disposition]]=\"Lost\"),\"Find and Calibrate\",IF(Table19[[#This Row],[Disposition]]=\"Lost\",\"Find\",IF(OR(Table19[[#This Row],[Next Calibration]]<$E$1,Table19[[#This Row],[Next Calibration]]=\"NEVER CALIBRATED\"),\"Calibrate\",\"Nominal\"))))","v":""},{"$f":"IF(((Table19[[#This Row],[Next Calibration]]-TODAY())/30)>2,\"More Than 2\",IF(((Table19[[#This Row],[Next Calibration]]-TODAY())/30)>1,\"Between 2 and 1\",\"Less than 1\"))","v":{"$error":"#VALUE!"}},{"$f":"IF(Table19[[#This Row],[Issued]]=\"\",\"\",IF(Table19[[#This Row],[Lent]]=\"\",0,1))","v":""},{"$f":"IF(Table19[[#This Row],[Lent]]=\"\",\"\",IF(Table19[[#This Row],[Returned]]=\"\",0,1))","v":""}]
[{"$nulls":11},{"$f":"IF(IF(Table19[[#This Row],[Disposition]]=\"Retired\",\"N/A\",IF(Table19[[#This Row],[Disposition]]=0,\"\",K148+$F$2))=0+$F$2,\"NEVER CALIBRATED\",IF(Table19[[#This Row],[Disposition]]=\"Retired\",\"N/A\",IF(Table19[[#This Row],[Disposition]]=0,\"\",K148+$F$2)))","v":""},{"$f":"IF(Table19[[#This Row],[Disposition]]=\"\",\"\",IF(AND(Table19[[#This Row],[Next Calibration]]<$E$1,Table19[[#This Row],[Disposition]]=\"Lost\"),\"Find and Calibrate\",IF(Table19[[#This Row],[Disposition]]=\"Lost\",\"Find\",IF(OR(Table19[[#This Row],[Next Calibration]]<$E$1,Table19[[#This Row],[Next Calibration]]=\"NEVER CALIBRATED\"),\"Calibrate\",\"Nominal\"))))","v":""},{"$f":"IF(((Table19[[#This Row],[Next Calibration]]-TODAY())/30)>2,\"More Than 2\",IF(((Table19[[#This Row],[Next Calibration]]-TODAY())/30)>1,\"Between 2 and 1\",\"Less than 1\"))","v":{"$error":"#VALUE!"}},{"$f":"IF(Table19[[#This Row],[Issued]]=\"\",\"\",IF(Table19[[#This Row],[Lent]]=\"\",0,1))","v":""},{"$f":"IF(Table19[[#This Row],[Lent]]=\"\",\"\",IF(Table19[[#This Row],[Returned]]=\"\",0,1))","v":""}]
[{"$nulls":11},{"$f":"IF(IF(Table19[[#This Row],[Disposition]]=\"Retired\",\"N/A\",IF(Table19[[#This Row],[Disposition]]=0,\"\",K149+$F$2))=0+$F$2,\"NEVER CALIBRATED\",IF(Table19[[#This Row],[Disposition]]=\"Retired\",\"N/A\",IF(Table19[[#This Row],[Disposition]]=0,\"\",K149+$F$2)))","v":""},{"$f":"IF(Table19[[#This Row],[Disposition]]=\"\",\"\",IF(AND(Table19[[#This Row],[Next Calibration]]<$E$1,Table19[[#This Row],[Disposition]]=\"Lost\"),\"Find and Calibrate\",IF(Table19[[#This Row],[Disposition]]=\"Lost\",\"Find\",IF(OR(Table19[[#This Row],[Next Calibration]]<$E$1,Table19[[#This Row],[Next Calibration]]=\"NEVER CALIBRATED\"),\"Calibrate\",\"Nominal\"))))","v":""},{"$f":"IF(((Table19[[#This Row],[Next Calibration]]-TODAY())/30)>2,\"More Than 2\",IF(((Table19[[#This Row],[Next Calibration]]-TODAY())/30)>1,\"Between 2 and 1\",\"Less than 1\"))","v":{"$error":"#VALUE!"}},{"$f":"IF(Table19[[#This Row],[Issued]]=\"\",\"\",IF(Table19[[#This Row],[Lent]]=\"\",0,1))","v":""},{"$f":"IF(Table19[[#This Row],[Lent]]=\"\",\"\",IF(Table19[[#This Row],[Returned]]=\"\",0,1))","v":""}]
[{"$nulls":11},{"$f":"IF(IF(Table19[[#This Row],[Disposition]]=\"Retired\",\"N/A\",IF(Table19[[#This Row],[Disposition]]=0,\"\",K150+$F$2))=0+$F$2,\"NEVER CALIBRATED\",IF(Table19[[#This Row],[Disposition]]=\"Retired\",\"N/A\",IF(Table19[[#This Row],[Disposition]]=0,\"\",K150+$F$2)))","v":""},{"$f":"IF(Table19[[#This Row],[Disposition]]=\"\",\"\",IF(AND(Table19[[#This Row],[Next Calibration]]<$E$1,Table19[[#This Row],[Disposition]]=\"Lost\"),\"Find and Calibrate\",IF(Table19[[#This Row],[Disposition]]=\"Lost\",\"Find\",IF(OR(Table19[[#This Row],[Next Calibration]]<$E$1,Table19[[#This Row],[Next Calibration]]=\"NEVER CALIBRATED\"),\"Calibrate\",\"Nominal\"))))","v":""},{"$f":"IF(((Table19[[#This Row],[Next Calibration]]-TODAY())/30)>2,\"More Than 2\",IF(((Table19[[#This Row],[Next Calibration]]-TODAY())/30)>1,\"Between 2 and 1\",\"Less than 1\"))","v":{"$error":"#VALUE!"}},{"$f":"IF(Table19[[#This Row],[Issued]]=\"\",\"\",IF(Table19[[#This Row],[Lent]]=\"\",0,1))","v":""},{"$f":"IF(Table19[[#This Row],[Lent]]=\"\",\"\",IF(Table19[[#This Row],[Returned]]=\"\",0,1))","v":""}]
[{"$nulls":11},{"$f":"IF(IF(Table19[[#This Row],[Disposition]]=\"Retired\",\"N/A\",IF(Table19[[#This Row],[Disposition]]=0,\"\",K151+$F$2))=0+$F$2,\"NEVER CALIBRATED\",IF(Table19[[#This Row],[Disposition]]=\"Retired\",\"N/A\",IF(Table19[[#This Row],[Disposition]]=0,\"\",K151+$F$2)))","v":""},{"$f":"IF(Table19[[#This Row],[Disposition]]=\"\",\"\",IF(AND(Table19[[#This Row],[Next Calibration]]<$E$1,Table19[[#This Row],[Disposition]]=\"Lost\"),\"Find and Calibrate\",IF(Table19[[#This Row],[Disposition]]=\"Lost\",\"Find\",IF(OR(Table19[[#This Row],[Next Calibration]]<$E$1,Table19[[#This Row],[Next Calibration]]=\"NEVER CALIBRATED\"),\"Calibrate\",\"Nominal\"))))","v":""},{"$f":"IF(((Table19[[#This Row],[Next Calibration]]-TODAY())/30)>2,\"More Than 2\",IF(((Table19[[#This Row],[Next Calibration]]-TODAY())/30)>1,\"Between 2 and 1\",\"Less than 1\"))","v":{"$error":"#VALUE!"}},{"$f":"IF(Table19[[#This Row],[Issued]]=\"\",\"\",IF(Table19[[#This Row],[Lent]]=\"\",0,1))","v":""},{"$f":"IF(Table19[[#This Row],[Lent]]=\"\",\"\",IF(Table19[[#This Row],[Returned]]=\"\",0,1))","v":""}]
[{"$nulls":11},{"$f":"IF(IF(Table19[[#This Row],[Disposition]]=\"Retired\",\"N/A\",IF(Table19[[#This Row],[Disposition]]=0,\"\",K152+$F$2))=0+$F$2,\"NEVER CALIBRATED\",IF(Table19[[#This Row],[Disposition]]=\"Retired\",\"N/A\",IF(Table19[[#This Row],[Disposition]]=0,\"\",K152+$F$2)))","v":""},{"$f":"IF(Table19[[#This Row],[Disposition]]=\"\",\"\",IF(AND(Table19[[#This Row],[Next Calibration]]<$E$1,Table19[[#This Row],[Disposition]]=\"Lost\"),\"Find and Calibrate\",IF(Table19[[#This Row],[Disposition]]=\"Lost\",\"Find\",IF(OR(Table19[[#This Row],[Next Calibration]]<$E$1,Table19[[#This Row],[Next Calibration]]=\"NEVER CALIBRATED\"),\"Calibrate\",\"Nominal\"))))","v":""},{"$f":"IF(((Table19[[#This Row],[Next Calibration]]-TODAY())/30)>2,\"More Than 2\",IF(((Table19[[#This Row],[Next Calibration]]-TODAY())/30)>1,\"Between 2 and 1\",\"Less than 1\"))","v":{"$error":"#VALUE!"}},{"$f":"IF(Table19[[#This Row],[Issued]]=\"\",\"\",IF(Table19[[#This Row],[Lent]]=\"\",0,1))","v":""},{"$f":"IF(Table19[[#This Row],[Lent]]=\"\",\"\",IF(Table19[[#This Row],[Returned]]=\"\",0,1))","v":""}]
[{"$nulls":11},{"$f":"IF(IF(Table19[[#This Row],[Disposition]]=\"Retired\",\"N/A\",IF(Table19[[#This Row],[Disposition]]=0,\"\",K153+$F$2))=0+$F$2,\"NEVER CALIBRATED\",IF(Table19[[#This Row],[Disposition]]=\"Retired\",\"N/A\",IF(Table19[[#This Row],[Disposition]]=0,\"\",K153+$F$2)))","v":""},{"$f":"IF(Table19[[#This Row],[Disposition]]=\"\",\"\",IF(AND(Table19[[#This Row],[Next Calibration]]<$E$1,Table19[[#This Row],[Disposition]]=\"Lost\"),\"Find and Calibrate\",IF(Table19[[#This Row],[Disposition]]=\"Lost\",\"Find\",IF(OR(Table19[[#This Row],[Next Calibration]]<$E$1,Table19[[#This Row],[Next Calibration]]=\"NEVER CALIBRATED\"),\"Calibrate\",\"Nominal\"))))","v":""},{"$f":"IF(((Table19[[#This Row],[Next Calibration]]-TODAY())/30)>2,\"More Than 2\",IF(((Table19[[#This Row],[Next Calibration]]-TODAY())/30)>1,\"Between 2 and 1\",\"Less than 1\"))","v":{"$error":"#VALUE!"}},{"$f":"IF(Table19[[#This Row],[Issued]]=\"\",\"\",IF(Table19[[#This Row],[Lent]]=\"\",0,1))","v":""},{"$f":"IF(Table19[[#This Row],[Lent]]=\"\",\"\",IF(Table19[[#This Row],[Returned]]=\"\",0,1))","v":""}]
[{"$nulls":11},{"$f":"IF(IF(Table19[[#This Row],[Disposition]]=\"Retired\",\"N/A\",IF(Table19[[#This Row],[Disposition]]=0,\"\",K154+$F$2))=0+$F$2,\"NEVER CALIBRATED\",IF(Table19[[#This Row],[Disposition]]=\"Retired\",\"N/A\",IF(Table19[[#This Row],[Disposition]]=0,\"\",K154+$F$2)))","v":""},{"$f":"IF(Table19[[#This Row],[Disposition]]=\"\",\"\",IF(AND(Table19[[#This Row],[Next Calibration]]<$E$1,Table19[[#This Row],[Disposition]]=\"Lost\"),\"Find and Calibrate\",IF(Table19[[#This Row],[Disposition]]=\"Lost\",\"Find\",IF(OR(Table19[[#This Row],[Next Calibration]]<$E$1,Table19[[#This Row],[Next Calibration]]=\"NEVER CALIBRATED\"),\"Calibrate\",\"Nominal\"))))","v":""},{"$f":"IF(((Table19[[#This Row],[Next Calibration]]-TODAY())/30)>2,\"More Than 2\",IF(((Table19[[#This Row],[Next Calibration]]-TODAY())/30)>1,\"Between 2 and 1\",\"Less than 1\"))","v":{"$error":"#VALUE!"}},{"$f":"IF(Table19[[#This Row],[Issued]]=\"\",\"\",IF(Table19[[#This Row],[Lent]]=\"\",0,1))","v":""},{"$f":"IF(Table19[[#This Row],[Lent]]=\"\",\"\",IF(Table19[[#This Row],[Returned]]=\"\",0,1))","v":""}]
[{"$nulls":11},{"$f":"IF(IF(Table19[[#This Row],[Disposition]]=\"Retired\",\"N/A\",IF(Table19[[#This Row],[Disposition]]=0,\"\",K155+$F$2))=0+$F$2,\"NEVER CALIBRATED\",IF(Table19[[#This Row],[Disposition]]=\"Retired\",\"N/A\",IF(Table19[[#This Row],[Disposition]]=0,\"\",K155+$F$2)))","v":""},{"$f":"IF(Table19[[#This Row],[Disposition]]=\"\",\"\",IF(AND(Table19[[#This Row],[Next Calibration]]<$E$1,Table19[[#This Row],[Disposition]]=\"Lost\"),\"Find and Calibrate\",IF(Table19[[#This Row],[Disposition]]=\"Lost\",\"Find\",IF(OR(Table19[[#This Row],[Next Calibration]]<$E$1,Table19[[#This Row],[Next Calibration]]=\"NEVER CALIBRATED\"),\"Calibrate\",\"Nominal\"))))","v":""},{"$f":"IF(((Table19[[#This Row],[Next Calibration]]-TODAY())/30)>2,\"More Than 2\",IF(((Table19[[#This Row],[Next Calibration]]-TODAY())/30)>1,\"Between 2 and 1\",\"Less than 1\"))","v":{"$error":"#VALUE!"}},{"$f":"IF(Table19[[#This Row],[Issued]]=\"\",\"\",IF(Table19[[#This Row],[Lent]]=\"\",0,1))","v":""},{"$f":"IF(Table19[[#This Row],[Lent]]=\"\",\"\",IF(Table19[[#This Row],[Returned]]=\"\",0,1))","v":""}]
[{"$nulls":11},{"$f":"IF(IF(Table19[[#This Row],[Disposition]]=\"Retired\",\"N/A\",IF(Table19[[#This Row],[Disposition]]=0,\"\",K156+$F$2))=0+$F$2,\"NEVER CALIBRATED\",IF(Table19[[#This Row],[Disposition]]=\"Retired\",\"N/A\",IF(Table19[[#This Row],[Disposition]]=0,\"\",K156+$F$2)))","v":""},{"$f":"IF(Table19[[#This Row],[Disposition]]=\"\",\"\",IF(AND(Table19[[#This Row],[Next Calibration]]<$E$1,Table19[[#This Row],[Disposition]]=\"Lost\"),\"Find and Calibrate\",IF(Table19[[#This Row],[Disposition]]=\"Lost\",\"Find\",IF(OR(Table19[[#This Row],[Next Calibration]]<$E$1,Table19[[#This Row],[Next Calibration]]=\"NEVER CALIBRATED\"),\"Calibrate\",\"Nominal\"))))","v":""},{"$f":"IF(((Table19[[#This Row],[Next Calibration]]-TODAY())/30)>2,\"More Than 2\",IF(((Table19[[#This Row],[Next Calibration]]-TODAY())/30)>1,\"Between 2 and 1\",\"Less than 1\"))","v":{"$error":"#VALUE!"}},{"$f":"IF(Table19[[#This Row],[Issued]]=\"\",\"\",IF(Table19[[#This Row],[Lent]]=\"\",0,1))","v":""},{"$f":"IF(Table19[[#This Row],[Lent]]=\"\",\"\",IF(Table19[[#This Row],[Returned]]=\"\",0,1))","v":""}]
[{"$nulls":11},{"$f":"IF(IF(Table19[[#This Row],[Disposition]]=\"Retired\",\"N/A\",IF(Table19[[#This Row],[Disposition]]=0,\"\",K157+$F$2))=0+$F$2,\"NEVER CALIBRATED\",IF(Table19[[#This Row],[Disposition]]=\"Retired\",\"N/A\",IF(Table19[[#This Row],[Disposition]]=0,\"\",K157+$F$2)))","v":""},{"$f":"IF(Table19[[#This Row],[Disposition]]=\"\",\"\",IF(AND(Table19[[#This Row],[Next Calibration]]<$E$1,Table19[[#This Row],[Disposition]]=\"Lost\"),\"Find and Calibrate\",IF(Table19[[#This Row],[Disposition]]=\"Lost\",\"Find\",IF(OR(Table19[[#This Row],[Next Calibration]]<$E$1,Table19[[#This Row],[Next Calibration]]=\"NEVER CALIBRATED\"),\"Calibrate\",\"Nominal\"))))","v":""},{"$f":"IF(((Table19[[#This Row],[Next Calibration]]-TODAY())/30)>2,\"More Than 2\",IF(((Table19[[#This Row],[Next Calibration]]-TODAY())/30)>1,\"Between 2 and 1\",\"Less than 1\"))","v":{"$error":"#VALUE!"}},{"$f":"IF(Table19[[#This Row],[Issued]]=\"\",\"\",IF(Table19[[#This Row],[Lent]]=\"\",0,1))","v":""},{"$f":"IF(Table19[[#This Row],[Lent]]=\"\",\"\",IF(Table19[[#This Row],[Returned]]=\"\",0,1))","v":""}]
[{"$nulls":11},{"$f":"IF(IF(Table19[[#This Row],[Disposition]]=\"Retired\",\"N/A\",IF(Table19[[#This Row],[Disposition]]=0,\"\",K158+$F$2))=0+$F$2,\"NEVER CALIBRATED\",IF(Table19[[#This Row],[Disposition]]=\"Retired\",\"N/A\",IF(Table19[[#This Row],[Disposition]]=0,\"\",K158+$F$2)))","v":""},{"$f":"IF(Table19[[#This Row],[Disposition]]=\"\",\"\",IF(AND(Table19[[#This Row],[Next Calibration]]<$E$1,Table19[[#This Row],[Disposition]]=\"Lost\"),\"Find and Calibrate\",IF(Table19[[#This Row],[Disposition]]=\"Lost\",\"Find\",IF(OR(Table19[[#This Row],[Next Calibration]]<$E$1,Table19[[#This Row],[Next Calibration]]=\"NEVER CALIBRATED\"),\"Calibrate\",\"Nominal\"))))","v":""},{"$f":"IF(((Table19[[#This Row],[Next Calibration]]-TODAY())/30)>2,\"More Than 2\",IF(((Table19[[#This Row],[Next Calibration]]-TODAY())/30)>1,\"Between 2 and 1\",\"Less than 1\"))","v":{"$error":"#VALUE!"}},{"$f":"IF(Table19[[#This Row],[Issued]]=\"\",\"\",IF(Table19[[#This Row],[Lent]]=\"\",0,1))","v":""},{"$f":"IF(Table19[[#This Row],[Lent]]=\"\",\"\",IF(Table19[[#This Row],[Returned]]=\"\",0,1))","v":""}]
[{"$nulls":11},{"$f":"IF(IF(Table19[[#This Row],[Disposition]]=\"Retired\",\"N/A\",IF(Table19[[#This Row],[Disposition]]=0,\"\",K159+$F$2))=0+$F$2,\"NEVER CALIBRATED\",IF(Table19[[#This Row],[Disposition]]=\"Retired\",\"N/A\",IF(Table19[[#This Row],[Disposition]]=0,\"\",K159+$F$2)))","v":""},{"$f":"IF(Table19[[#This Row],[Disposition]]=\"\",\"\",IF(AND(Table19[[#This Row],[Next Calibration]]<$E$1,Table19[[#This Row],[Disposition]]=\"Lost\"),\"Find and Calibrate\",IF(Table19[[#This Row],[Disposition]]=\"Lost\",\"Find\",IF(OR(Table19[[#This Row],[Next Calibration]]<$E$1,Table19[[#This Row],[Next Calibration]]=\"NEVER CALIBRATED\"),\"Calibrate\",\"Nominal\"))))","v":""},{"$f":"IF(((Table19[[#This Row],[Next Calibration]]-TODAY())/30)>2,\"More Than 2\",IF(((Table19[[#This Row],[Next Calibration]]-TODAY())/30)>1,\"Between 2 and 1\",\"Less than 1\"))","v":{"$error":"#VALUE!"}},{"$f":"IF(Table19[[#This Row],[Issued]]=\"\",\"\",IF(Table19[[#This Row],[Lent]]=\"\",0,1))","v":""},{"$f":"IF(Table19[[#This Row],[Lent]]=\"\",\"\",IF(Table19[[#This Row],[Returned]]=\"\",0,1))","v":""}]
[{"$nulls":11},{"$f":"IF(IF(Table19[[#This Row],[Disposition]]=\"Retired\",\"N/A\",IF(Table19[[#This Row],[Disposition]]=0,\"\",K160+$F$2))=0+$F$2,\"NEVER CALIBRATED\",IF(Table19[[#This Row],[Disposition]]=\"Retired\",\"N/A\",IF(Table19[[#This Row],[Disposition]]=0,\"\",K160+$F$2)))","v":""},{"$f":"IF(Table19[[#This Row],[Disposition]]=\"\",\"\",IF(AND(Table19[[#This Row],[Next Calibration]]<$E$1,Table19[[#This Row],[Disposition]]=\"Lost\"),\"Find and Calibrate\",IF(Table19[[#This Row],[Disposition]]=\"Lost\",\"Find\",IF(OR(Table19[[#This Row],[Next Calibration]]<$E$1,Table19[[#This Row],[Next Calibration]]=\"NEVER CALIBRATED\"),\"Calibrate\",\"Nominal\"))))","v":""},{"$f":"IF(((Table19[[#This Row],[Next Calibration]]-TODAY())/30)>2,\"More Than 2\",IF(((Table19[[#This Row],[Next Calibration]]-TODAY())/30)>1,\"Between 2 and 1\",\"Less than 1\"))","v":{"$error":"#VALUE!"}},{"$f":"IF(Table19[[#This Row],[Issued]]=\"\",\"\",IF(Table19[[#This Row],[Lent]]=\"\",0,1))","v":""},{"$f":"IF(Table19[[#This Row],[Lent]]=\"\",\"\",IF(Table19[[#This Row],[Returned]]=\"\",0,1))","v":""}]
[{"$nulls":11},{"$f":"IF(IF(Table19[[#This Row],[Disposition]]=\"Retired\",\"N/A\",IF(Table19[[#This Row],[Disposition]]=0,\"\",K161+$F$2))=0+$F$2,\"NEVER CALIBRATED\",IF(Table19[[#This Row],[Disposition]]=\"Retired\",\"N/A\",IF(Table19[[#This Row],[Disposition]]=0,\"\",K161+$F$2)))","v":""},{"$f":"IF(Table19[[#This Row],[Disposition]]=\"\",\"\",IF(AND(Table19[[#This Row],[Next Calibration]]<$E$1,Table19[[#This Row],[Disposition]]=\"Lost\"),\"Find and Calibrate\",IF(Table19[[#This Row],[Disposition]]=\"Lost\",\"Find\",IF(OR(Table19[[#This Row],[Next Calibration]]<$E$1,Table19[[#This Row],[Next Calibration]]=\"NEVER CALIBRATED\"),\"Calibrate\",\"Nominal\"))))","v":""},{"$f":"IF(((Table19[[#This Row],[Next Calibration]]-TODAY())/30)>2,\"More Than 2\",IF(((Table19[[#This Row],[Next Calibration]]-TODAY())/30)>1,\"Between 2 and 1\",\"Less than 1\"))","v":{"$error":"#VALUE!"}},{"$f":"IF(Table19[[#This Row],[Issued]]=\"\",\"\",IF(Table19[[#This Row],[Lent]]=\"\",0,1))","v":""},{"$f":"IF(Table19[[#This Row],[Lent]]=\"\",\"\",IF(Table19[[#This Row],[Returned]]=\"\",0,1))","v":""}]
[{"$nulls":11},{"$f":"IF(IF(Table19[[#This Row],[Disposition]]=\"Retired\",\"N/A\",IF(Table19[[#This Row],[Disposition]]=0,\"\",K162+$F$2))=0+$F$2,\"NEVER CALIBRATED\",IF(Table19[[#This Row],[Disposition]]=\"Retired\",\"N/A\",IF(Table19[[#This Row],[Disposition]]=0,\"\",K162+$F$2)))","v":""},{"$f":"IF(Table19[[#This Row],[Disposition]]=\"\",\"\",IF(AND(Table19[[#This Row],[Next Calibration]]<$E$1,Table19[[#This Row],[Disposition]]=\"Lost\"),\"Find and Calibrate\",IF(Table19[[#This Row],[Disposition]]=\"Lost\",\"Find\",IF(OR(Table19[[#This Row],[Next Calibration]]<$E$1,Table19[[#This Row],[Next Calibration]]=\"NEVER CALIBRATED\"),\"Calibrate\",\"Nominal\"))))","v":""},{"$f":"IF(((Table19[[#This Row],[Next Calibration]]-TODAY())/30)>2,\"More Than 2\",IF(((Table19[[#This Row],[Next Calibration]]-TODAY())/30)>1,\"Between 2 and 1\",\"Less than 1\"))","v":{"$error":"#VALUE!"}},{"$f":"IF(Table19[[#This Row],[Issued]]=\"\",\"\",IF(Table19[[#This Row],[Lent]]=\"\",0,1))","v":""},{"$f":"IF(Table19[[#This Row],[Lent]]=\"\",\"\",IF(Table19[[#This Row],[Returned]]=\"\",0,1))","v":""}]
[{"$nulls":11},{"$f":"IF(IF(Table19[[#This Row],[Disposition]]=\"Retired\",\"N/A\",IF(Table19[[#This Row],[Disposition]]=0,\"\",K163+$F$2))=0+$F$2,\"NEVER CALIBRATED\",IF(Table19[[#This Row],[Disposition]]=\"Retired\",\"N/A\",IF(Table19[[#This Row],[Disposition]]=0,\"\",K163+$F$2)))","v":""},{"$f":"IF(Table19[[#This Row],[Disposition]]=\"\",\"\",IF(AND(Table19[[#This Row],[Next Calibration]]<$E$1,Table19[[#This Row],[Disposition]]=\"Lost\"),\"Find and Calibrate\",IF(Table19[[#This Row],[Disposition]]=\"Lost\",\"Find\",IF(OR(Table19[[#This Row],[Next Calibration]]<$E$1,Table19[[#This Row],[Next Calibration]]=\"NEVER CALIBRATED\"),\"Calibrate\",\"Nominal\"))))","v":""},{"$f":"IF(((Table19[[#This Row],[Next Calibration]]-TODAY())/30)>2,\"More Than 2\",IF(((Table19[[#This Row],[Next Calibration]]-TODAY())/30)>1,\"Between 2 and 1\",\"Less than 1\"))","v":{"$error":"#VALUE!"}},{"$f":"IF(Table19[[#This Row],[Issued]]=\"\",\"\",IF(Table19[[#This Row],[Lent]]=\"\",0,1))","v":""},{"$f":"IF(Table19[[#This Row],[Lent]]=\"\",\"\",IF(Table19[[#This Row],[Returned]]=\"\",0,1))","v":""}]
[{"$nulls":11},{"$f":"IF(IF(Table19[[#This Row],[Disposition]]=\"Retired\",\"N/A\",IF(Table19[[#This Row],[Disposition]]=0,\"\",K164+$F$2))=0+$F$2,\"NEVER CALIBRATED\",IF(Table19[[#This Row],[Disposition]]=\"Retired\",\"N/A\",IF(Table19[[#This Row],[Disposition]]=0,\"\",K164+$F$2)))","v":""},{"$f":"IF(Table19[[#This Row],[Disposition]]=\"\",\"\",IF(AND(Table19[[#This Row],[Next Calibration]]<$E$1,Table19[[#This Row],[Disposition]]=\"Lost\"),\"Find and Calibrate\",IF(Table19[[#This Row],[Disposition]]=\"Lost\",\"Find\",IF(OR(Table19[[#This Row],[Next Calibration]]<$E$1,Table19[[#This Row],[Next Calibration]]=\"NEVER CALIBRATED\"),\"Calibrate\",\"Nominal\"))))","v":""},{"$f":"IF(((Table19[[#This Row],[Next Calibration]]-TODAY())/30)>2,\"More Than 2\",IF(((Table19[[#This Row],[Next Calibration]]-TODAY())/30)>1,\"Between 2 and 1\",\"Less than 1\"))","v":{"$error":"#VALUE!"}},{"$f":"IF(Table19[[#This Row],[Issued]]=\"\",\"\",IF(Table19[[#This Row],[Lent]]=\"\",0,1))","v":""},{"$f":"IF(Table19[[#This Row],[Lent]]=\"\",\"\",IF(Table19[[#This Row],[Returned]]=\"\",0,1))","v":""}]
[{"$nulls":11},{"$f":"IF(IF(Table19[[#This Row],[Disposition]]=\"Retired\",\"N/A\",IF(Table19[[#This Row],[Disposition]]=0,\"\",K165+$F$2))=0+$F$2,\"NEVER CALIBRATED\",IF(Table19[[#This Row],[Disposition]]=\"Retired\",\"N/A\",IF(Table19[[#This Row],[Disposition]]=0,\"\",K165+$F$2)))","v":""},{"$f":"IF(Table19[[#This Row],[Disposition]]=\"\",\"\",IF(AND(Table19[[#This Row],[Next Calibration]]<$E$1,Table19[[#This Row],[Disposition]]=\"Lost\"),\"Find and Calibrate\",IF(Table19[[#This Row],[Disposition]]=\"Lost\",\"Find\",IF(OR(Table19[[#This Row],[Next Calibration]]<$E$1,Table19[[#This Row],[Next Calibration]]=\"NEVER CALIBRATED\"),\"Calibrate\",\"Nominal\"))))","v":""},{"$f":"IF(((Table19[[#This Row],[Next Calibration]]-TODAY())/30)>2,\"More Than 2\",IF(((Table19[[#This Row],[Next Calibration]]-TODAY())/30)>1,\"Between 2 and 1\",\"Less than 1\"))","v":{"$error":"#VALUE!"}},{"$f":"IF(Table19[[#This Row],[Issued]]=\"\",\"\",IF(Table19[[#This Row],[Lent]]=\"\",0,1))","v":""},{"$f":"IF(Table19[[#This Row],[Lent]]=\"\",\"\",IF(Table19[[#This Row],[Returned]]=\"\",0,1))","v":""}]
[{"$nulls":11},{"$f":"IF(IF(Table19[[#This Row],[Disposition]]=\"Retired\",\"N/A\",IF(Table19[[#This Row],[Disposition]]=0,\"\",K166+$F$2))=0+$F$2,\"NEVER CALIBRATED\",IF(Table19[[#This Row],[Disposition]]=\"Retired\",\"N/A\",IF(Table19[[#This Row],[Disposition]]=0,\"\",K166+$F$2)))","v":""},{"$f":"IF(Table19[[#This Row],[Disposition]]=\"\",\"\",IF(AND(Table19[[#This Row],[Next Calibration]]<$E$1,Table19[[#This Row],[Disposition]]=\"Lost\"),\"Find and Calibrate\",IF(Table19[[#This Row],[Disposition]]=\"Lost\",\"Find\",IF(OR(Table19[[#This Row],[Next Calibration]]<$E$1,Table19[[#This Row],[Next Calibration]]=\"NEVER CALIBRATED\"),\"Calibrate\",\"Nominal\"))))","v":""},{"$f":"IF(((Table19[[#This Row],[Next Calibration]]-TODAY())/30)>2,\"More Than 2\",IF(((Table19[[#This Row],[Next Calibration]]-TODAY())/30)>1,\"Between 2 and 1\",\"Less than 1\"))","v":{"$error":"#VALUE!"}},{"$f":"IF(Table19[[#This Row],[Issued]]=\"\",\"\",IF(Table19[[#This Row],[Lent]]=\"\",0,1))","v":""},{"$f":"IF(Table19[[#This Row],[Lent]]=\"\",\"\",IF(Table19[[#This Row],[Returned]]=\"\",0,1))","v":""}]
[{"$nulls":11},{"$f":"IF(IF(Table19[[#This Row],[Disposition]]=\"Retired\",\"N/A\",IF(Table19[[#This Row],[Disposition]]=0,\"\",K167+$F$2))=0+$F$2,\"NEVER CALIBRATED\",IF(Table19[[#This Row],[Disposition]]=\"Retired\",\"N/A\",IF(Table19[[#This Row],[Disposition]]=0,\"\",K167+$F$2)))","v":""},{"$f":"IF(Table19[[#This Row],[Disposition]]=\"\",\"\",IF(AND(Table19[[#This Row],[Next Calibration]]<$E$1,Table19[[#This Row],[Disposition]]=\"Lost\"),\"Find and Calibrate\",IF(Table19[[#This Row],[Disposition]]=\"Lost\",\"Find\",IF(OR(Table19[[#This Row],[Next Calibration]]<$E$1,Table19[[#This Row],[Next Calibration]]=\"NEVER CALIBRATED\"),\"Calibrate\",\"Nominal\"))))","v":""},{"$f":"IF(((Table19[[#This Row],[Next Calibration]]-TODAY())/30)>2,\"More Than 2\",IF(((Table19[[#This Row],[Next Calibration]]-TODAY())/30)>1,\"Between 2 and 1\",\"Less than 1\"))","v":{"$error":"#VALUE!"}},{"$f":"IF(Table19[[#This Row],[Issued]]=\"\",\"\",IF(Table19[[#This Row],[Lent]]=\"\",0,1))","v":""},{"$f":"IF(Table19[[#This Row],[Lent]]=\"\",\"\",IF(Table19[[#This Row],[Returned]]=\"\",0,1))","v":""}]
[{"$nulls":11},{"$f":"IF(IF(Table19[[#This Row],[Disposition]]=\"Retired\",\"N/A\",IF(Table19[[#This Row],[Disposition]]=0,\"\",K168+$F$2))=0+$F$2,\"NEVER CALIBRATED\",IF(Table19[[#This Row],[Disposition]]=\"Retired\",\"N/A\",IF(Table19[[#This Row],[Disposition]]=0,\"\",K168+$F$2)))","v":""},{"$f":"IF(Table19[[#This Row],[Disposition]]=\"\",\"\",IF(AND(Table19[[#This Row],[Next Calibration]]<$E$1,Table19[[#This Row],[Disposition]]=\"Lost\"),\"Find and Calibrate\",IF(Table19[[#This Row],[Disposition]]=\"Lost\",\"Find\",IF(OR(Table19[[#This Row],[Next Calibration]]<$E$1,Table19[[#This Row],[Next Calibration]]=\"NEVER CALIBRATED\"),\"Calibrate\",\"Nominal\"))))","v":""},{"$f":"IF(((Table19[[#This Row],[Next Calibration]]-TODAY())/30)>2,\"More Than 2\",IF(((Table19[[#This Row],[Next Calibration]]-TODAY())/30)>1,\"Between 2 and 1\",\"Less than 1\"))","v":{"$error":"#VALUE!"}},{"$f":"IF(Table19[[#This Row],[Issued]]=\"\",\"\",IF(Table19[[#This Row],[Lent]]=\"\",0,1))","v":""},{"$f":"IF(Table19[[#This Row],[Lent]]=\"\",\"\",IF(Table19[[#This Row],[Returned]]=\"\",0,1))","v":""}]
[{"$nulls":11},{"$f":"IF(IF(Table19[[#This Row],[Disposition]]=\"Retired\",\"N/A\",IF(Table19[[#This Row],[Disposition]]=0,\"\",K169+$F$2))=0+$F$2,\"NEVER CALIBRATED\",IF(Table19[[#This Row],[Disposition]]=\"Retired\",\"N/A\",IF(Table19[[#This Row],[Disposition]]=0,\"\",K169+$F$2)))","v":""},{"$f":"IF(Table19[[#This Row],[Disposition]]=\"\",\"\",IF(AND(Table19[[#This Row],[Next Calibration]]<$E$1,Table19[[#This Row],[Disposition]]=\"Lost\"),\"Find and Calibrate\",IF(Table19[[#This Row],[Disposition]]=\"Lost\",\"Find\",IF(OR(Table19[[#This Row],[Next Calibration]]<$E$1,Table19[[#This Row],[Next Calibration]]=\"NEVER CALIBRATED\"),\"Calibrate\",\"Nominal\"))))","v":""},{"$f":"IF(((Table19[[#This Row],[Next Calibration]]-TODAY())/30)>2,\"More Than 2\",IF(((Table19[[#This Row],[Next Calibration]]-TODAY())/30)>1,\"Between 2 and 1\",\"Less than 1\"))","v":{"$error":"#VALUE!"}},{"$f":"IF(Table19[[#This Row],[Issued]]=\"\",\"\",IF(Table19[[#This Row],[Lent]]=\"\",0,1))","v":""},{"$f":"IF(Table19[[#This Row],[Lent]]=\"\",\"\",IF(Table19[[#This Row],[Returned]]=\"\",0,1))","v":""}]
[{"$nulls":11},{"$f":"IF(IF(Table19[[#This Row],[Disposition]]=\"Retired\",\"N/A\",IF(Table19[[#This Row],[Disposition]]=0,\"\",K170+$F$2))=0+$F$2,\"NEVER CALIBRATED\",IF(Table19[[#This Row],[Disposition]]=\"Retired\",\"N/A\",IF(Table19[[#This Row],[Disposition]]=0,\"\",K170+$F$2)))","v":""},{"$f":"IF(Table19[[#This Row],[Disposition]]=\"\",\"\",IF(AND(Table19[[#This Row],[Next Calibration]]<$E$1,Table19[[#This Row],[Disposition]]=\"Lost\"),\"Find and Calibrate\",IF(Table19[[#This Row],[Disposition]]=\"Lost\",\"Find\",IF(OR(Table19[[#This Row],[Next Calibration]]<$E$1,Table19[[#This Row],[Next Calibration]]=\"NEVER CALIBRATED\"),\"Calibrate\",\"Nominal\"))))","v":""},{"$f":"IF(((Table19[[#This Row],[Next Calibration]]-TODAY())/30)>2,\"More Than 2\",IF(((Table19[[#This Row],[Next Calibration]]-TODAY())/30)>1,\"Between 2 and 1\",\"Less than 1\"))","v":{"$error":"#VALUE!"}},{"$f":"IF(Table19[[#This Row],[Issued]]=\"\",\"\",IF(Table19[[#This Row],[Lent]]=\"\",0,1))","v":""},{"$f":"IF(Table19[[#This Row],[Lent]]=\"\",\"\",IF(Table19[[#This Row],[Returned]]=\"\",0,1))","v":""}]
[{"$nulls":11},{"$f":"IF(IF(Table19[[#This Row],[Disposition]]=\"Retired\",\"N/A\",IF(Table19[[#This Row],[Disposition]]=0,\"\",K171+$F$2))=0+$F$2,\"NEVER CALIBRATED\",IF(Table19[[#This Row],[Disposition]]=\"Retired\",\"N/A\",IF(Table19[[#This Row],[Disposition]]=0,\"\",K171+$F$2)))","v":""},{"$f":"IF(Table19[[#This Row],[Disposition]]=\"\",\"\",IF(AND(Table19[[#This Row],[Next Calibration]]<$E$1,Table19[[#This Row],[Disposition]]=\"Lost\"),\"Find and Calibrate\",IF(Table19[[#This Row],[Disposition]]=\"Lost\",\"Find\",IF(OR(Table19[[#This Row],[Next Calibration]]<$E$1,Table19[[#This Row],[Next Calibration]]=\"NEVER CALIBRATED\"),\"Calibrate\",\"Nominal\"))))","v":""},{"$f":"IF(((Table19[[#This Row],[Next Calibration]]-TODAY())/30)>2,\"More Than 2\",IF(((Table19[[#This Row],[Next Calibration]]-TODAY())/30)>1,\"Between 2 and 1\",\"Less than 1\"))","v":{"$error":"#VALUE!"}},{"$f":"IF(Table19[[#This Row],[Issued]]=\"\",\"\",IF(Table19[[#This Row],[Lent]]=\"\",0,1))","v":""},{"$f":"IF(Table19[[#This Row],[Lent]]=\"\",\"\",IF(Table19[[#This Row],[Returned]]=\"\",0,1))","v":""}]
[{"$nulls":11},{"$f":"IF(IF(Table19[[#This Row],[Disposition]]=\"Retired\",\"N/A\",IF(Table19[[#This Row],[Disposition]]=0,\"\",K172+$F$2))=0+$F$2,\"NEVER CALIBRATED\",IF(Table19[[#This Row],[Disposition]]=\"Retired\",\"N/A\",IF(Table19[[#This Row],[Disposition]]=0,\"\",K172+$F$2)))","v":""},{"$f":"IF(Table19[[#This Row],[Disposition]]=\"\",\"\",IF(AND(Table19[[#This Row],[Next Calibration]]<$E$1,Table19[[#This Row],[Disposition]]=\"Lost\"),\"Find and Calibrate\",IF(Table19[[#This Row],[Disposition]]=\"Lost\",\"Find\",IF(OR(Table19[[#This Row],[Next Calibration]]<$E$1,Table19[[#This Row],[Next Calibration]]=\"NEVER CALIBRATED\"),\"Calibrate\",\"Nominal\"))))","v":""},{"$f":"IF(((Table19[[#This Row],[Next Calibration]]-TODAY())/30)>2,\"More Than 2\",IF(((Table19[[#This Row],[Next Calibration]]-TODAY())/30)>1,\"Between 2 and 1\",\"Less than 1\"))","v":{"$error":"#VALUE!"}},{"$f":"IF(Table19[[#This Row],[Issued]]=\"\",\"\",IF(Table19[[#This Row],[Lent]]=\"\",0,1))","v":""},{"$f":"IF(Table19[[#This Row],[Lent]]=\"\",\"\",IF(Table19[[#This Row],[Returned]]=\"\",0,1))","v":""}]
[{"$nulls":11},{"$f":"IF(IF(Table19[[#This Row],[Disposition]]=\"Retired\",\"N/A\",IF(Table19[[#This Row],[Disposition]]=0,\"\",K173+$F$2))=0+$F$2,\"NEVER CALIBRATED\",IF(Table19[[#This Row],[Disposition]]=\"Retired\",\"N/A\",IF(Table19[[#This Row],[Disposition]]=0,\"\",K173+$F$2)))","v":""},{"$f":"IF(Table19[[#This Row],[Disposition]]=\"\",\"\",IF(AND(Table19[[#This Row],[Next Calibration]]<$E$1,Table19[[#This Row],[Disposition]]=\"Lost\"),\"Find and Calibrate\",IF(Table19[[#This Row],[Disposition]]=\"Lost\",\"Find\",IF(OR(Table19[[#This Row],[Next Calibration]]<$E$1,Table19[[#This Row],[Next Calibration]]=\"NEVER CALIBRATED\"),\"Calibrate\",\"Nominal\"))))","v":""},{"$f":"IF(((Table19[[#This Row],[Next Calibration]]-TODAY())/30)>2,\"More Than 2\",IF(((Table19[[#This Row],[Next Calibration]]-TODAY())/30)>1,\"Between 2 and 1\",\"Less than 1\"))","v":{"$error":"#VALUE!"}},{"$f":"IF(Table19[[#This Row],[Issued]]=\"\",\"\",IF(Table19[[#This Row],[Lent]]=\"\",0,1))","v":""},{"$f":"IF(Table19[[#This Row],[Lent]]=\"\",\"\",IF(Table19[[#This Row],[Returned]]=\"\",0,1))","v":""}]
[{"$nulls":11},{"$f":"IF(IF(Table19[[#This Row],[Disposition]]=\"Retired\",\"N/A\",IF(Table19[[#This Row],[Disposition]]=0,\"\",K174+$F$2))=0+$F$2,\"NEVER CALIBRATED\",IF(Table19[[#This Row],[Disposition]]=\"Retired\",\"N/A\",IF(Table19[[#This Row],[Disposition]]=0,\"\",K174+$F$2)))","v":""},{"$f":"IF(Table19[[#This Row],[Disposition]]=\"\",\"\",IF(AND(Table19[[#This Row],[Next Calibration]]<$E$1,Table19[[#This Row],[Disposition]]=\"Lost\"),\"Find and Calibrate\",IF(Table19[[#This Row],[Disposition]]=\"Lost\",\"Find\",IF(OR(Table19[[#This Row],[Next Calibration]]<$E$1,Table19[[#This Row],[Next Calibration]]=\"NEVER CALIBRATED\"),\"Calibrate\",\"Nominal\"))))","v":""},{"$f":"IF(((Table19[[#This Row],[Next Calibration]]-TODAY())/30)>2,\"More Than 2\",IF(((Table19[[#This Row],[Next Calibration]]-TODAY())/30)>1,\"Between 2 and 1\",\"Less than 1\"))","v":{"$error":"#VALUE!"}},{"$f":"IF(Table19[[#This Row],[Issued]]=\"\",\"\",IF(Table19[[#This Row],[Lent]]=\"\",0,1))","v":""},{"$f":"IF(Table19[[#This Row],[Lent]]=\"\",\"\",IF(Table19[[#This Row],[Returned]]=\"\",0,1))","v":""}]
[{"$nulls":11},{"$f":"IF(IF(Table19[[#This Row],[Disposition]]=\"Retired\",\"N/A\",IF(Table19[[#This Row],[Disposition]]=0,\"\",K175+$F$2))=0+$F$2,\"NEVER CALIBRATED\",IF(Table19[[#This Row],[Disposition]]=\"Retired\",\"N/A\",IF(Table19[[#This Row],[Disposition]]=0,\"\",K175+$F$2)))","v":""},{"$f":"IF(Table19[[#This Row],[Disposition]]=\"\",\"\",IF(AND(Table19[[#This Row],[Next Calibration]]<$E$1,Table19[[#This Row],[Disposition]]=\"Lost\"),\"Find and Calibrate\",IF(Table19[[#This Row],[Disposition]]=\"Lost\",\"Find\",IF(OR(Table19[[#This Row],[Next Calibration]]<$E$1,Table19[[#This Row],[Next Calibration]]=\"NEVER CALIBRATED\"),\"Calibrate\",\"Nominal\"))))","v":""},{"$f":"IF(((Table19[[#This Row],[Next Calibration]]-TODAY())/30)>2,\"More Than 2\",IF(((Table19[[#This Row],[Next Calibration]]-TODAY())/30)>1,\"Between 2 and 1\",\"Less than 1\"))","v":{"$error":"#VALUE!"}},{"$f":"IF(Table19[[#This Row],[Issued]]=\"\",\"\",IF(Table19[[#This Row],[Lent]]=\"\",0,1))","v":""},{"$f":"IF(Table19[[#This Row],[Lent]]=\"\",\"\",IF(Table19[[#This Row],[Returned]]=\"\",0,1))","v":""}]
[{"$nulls":11},{"$f":"IF(IF(Table19[[#This Row],[Disposition]]=\"Retired\",\"N/A\",IF(Table19[[#This Row],[Disposition]]=0,\"\",K176+$F$2))=0+$F$2,\"NEVER CALIBRATED\",IF(Table19[[#This Row],[Disposition]]=\"Retired\",\"N/A\",IF(Table19[[#This Row],[Disposition]]=0,\"\",K176+$F$2)))","v":""},{"$f":"IF(Table19[[#This Row],[Disposition]]=\"\",\"\",IF(AND(Table19[[#This Row],[Next Calibration]]<$E$1,Table19[[#This Row],[Disposition]]=\"Lost\"),\"Find and Calibrate\",IF(Table19[[#This Row],[Disposition]]=\"Lost\",\"Find\",IF(OR(Table19[[#This Row],[Next Calibration]]<$E$1,Table19[[#This Row],[Next Calibration]]=\"NEVER CALIBRATED\"),\"Calibrate\",\"Nominal\"))))","v":""},{"$f":"IF(((Table19[[#This Row],[Next Calibration]]-TODAY())/30)>2,\"More Than 2\",IF(((Table19[[#This Row],[Next Calibration]]-TODAY())/30)>1,\"Between 2 and 1\",\"Less than 1\"))","v":{"$error":"#VALUE!"}},{"$f":"IF(Table19[[#This Row],[Issued]]=\"\",\"\",IF(Table19[[#This Row],[Lent]]=\"\",0,1))","v":""},{"$f":"IF(Table19[[#This Row],[Lent]]=\"\",\"\",IF(Table19[[#This Row],[Returned]]=\"\",0,1))","v":""}]
[{"$nulls":11},{"$f":"IF(IF(Table19[[#This Row],[Disposition]]=\"Retired\",\"N/A\",IF(Table19[[#This Row],[Disposition]]=0,\"\",K177+$F$2))=0+$F$2,\"NEVER CALIBRATED\",IF(Table19[[#This Row],[Disposition]]=\"Retired\",\"N/A\",IF(Table19[[#This Row],[Disposition]]=0,\"\",K177+$F$2)))","v":""},{"$f":"IF(Table19[[#This Row],[Disposition]]=\"\",\"\",IF(AND(Table19[[#This Row],[Next Calibration]]<$E$1,Table19[[#This Row],[Disposition]]=\"Lost\"),\"Find and Calibrate\",IF(Table19[[#This Row],[Disposition]]=\"Lost\",\"Find\",IF(OR(Table19[[#This Row],[Next Calibration]]<$E$1,Table19[[#This Row],[Next Calibration]]=\"NEVER CALIBRATED\"),\"Calibrate\",\"Nominal\"))))","v":""},{"$f":"IF(((Table19[[#This Row],[Next Calibration]]-TODAY())/30)>2,\"More Than 2\",IF(((Table19[[#This Row],[Next Calibration]]-TODAY())/30)>1,\"Between 2 and 1\",\"Less than 1\"))","v":{"$error":"#VALUE!"}},{"$f":"IF(Table19[[#This Row],[Issued]]=\"\",\"\",IF(Table19[[#This Row],[Lent]]=\"\",0,1))","v":""},{"$f":"IF(Table19[[#This Row],[Lent]]=\"\",\"\",IF(Table19[[#This Row],[Returned]]=\"\",0,1))","v":""}]
[{"$nulls":11},{"$f":"IF(IF(Table19[[#This Row],[Disposition]]=\"Retired\",\"N/A\",IF(Table19[[#This Row],[Disposition]]=0,\"\",K178+$F$2))=0+$F$2,\"NEVER CALIBRATED\",IF(Table19[[#This Row],[Disposition]]=\"Retired\",\"N/A\",IF(Table19[[#This Row],[Disposition]]=0,\"\",K178+$F$2)))","v":""},{"$f":"IF(Table19[[#This Row],[Disposition]]=\"\",\"\",IF(AND(Table19[[#This Row],[Next Calibration]]<$E$1,Table19[[#This Row],[Disposition]]=\"Lost\"),\"Find and Calibrate\",IF(Table19[[#This Row],[Disposition]]=\"Lost\",\"Find\",IF(OR(Table19[[#This Row],[Next Calibration]]<$E$1,Table19[[#This Row],[Next Calibration]]=\"NEVER CALIBRATED\"),\"Calibrate\",\"Nominal\"))))","v":""},{"$f":"IF(((Table19[[#This Row],[Next Calibration]]-TODAY())/30)>2,\"More Than 2\",IF(((Table19[[#This Row],[Next Calibration]]-TODAY())/30)>1,\"Between 2 and 1\",\"Less than 1\"))","v":{"$error":"#VALUE!"}},{"$f":"IF(Table19[[#This Row],[Issued]]=\"\",\"\",IF(Table19[[#This Row],[Lent]]=\"\",0,1))","v":""},{"$f":"IF(Table19[[#This Row],[Lent]]=\"\",\"\",IF(Table19[[#This Row],[Returned]]=\"\",0,1))","v":""}]
[{"$nulls":11},{"$f":"IF(IF(Table19[[#This Row],[Disposition]]=\"Retired\",\"N/A\",IF(Table19[[#This Row],[Disposition]]=0,\"\",K179+$F$2))=0+$F$2,\"NEVER CALIBRATED\",IF(Table19[[#This Row],[Disposition]]=\"Retired\",\"N/A\",IF(Table19[[#This Row],[Disposition]]=0,\"\",K179+$F$2)))","v":""},{"$f":"IF(Table19[[#This Row],[Disposition]]=\"\",\"\",IF(AND(Table19[[#This Row],[Next Calibration]]<$E$1,Table19[[#This Row],[Disposition]]=\"Lost\"),\"Find and Calibrate\",IF(Table19[[#This Row],[Disposition]]=\"Lost\",\"Find\",IF(OR(Table19[[#This Row],[Next Calibration]]<$E$1,Table19[[#This Row],[Next Calibration]]=\"NEVER CALIBRATED\"),\"Calibrate\",\"Nominal\"))))","v":""},{"$f":"IF(((Table19[[#This Row],[Next Calibration]]-TODAY())/30)>2,\"More Than 2\",IF(((Table19[[#This Row],[Next Calibration]]-TODAY())/30)>1,\"Between 2 and 1\",\"Less than 1\"))","v":{"$error":"#VALUE!"}},{"$f":"IF(Table19[[#This Row],[Issued]]=\"\",\"\",IF(Table19[[#This Row],[Lent]]=\"\",0,1))","v":""},{"$f":"IF(Table19[[#This Row],[Lent]]=\"\",\"\",IF(Table19[[#This Row],[Returned]]=\"\",0,1))","v":""}]
[{"$nulls":11},{"$f":"IF(IF(Table19[[#This Row],[Disposition]]=\"Retired\",\"N/A\",IF(Table19[[#This Row],[Disposition]]=0,\"\",K180+$F$2))=0+$F$2,\"NEVER CALIBRATED\",IF(Table19[[#This Row],[Disposition]]=\"Retired\",\"N/A\",IF(Table19[[#This Row],[Disposition]]=0,\"\",K180+$F$2)))","v":""},{"$f":"IF(Table19[[#This Row],[Disposition]]=\"\",\"\",IF(AND(Table19[[#This Row],[Next Calibration]]<$E$1,Table19[[#This Row],[Disposition]]=\"Lost\"),\"Find and Calibrate\",IF(Table19[[#This Row],[Disposition]]=\"Lost\",\"Find\",IF(OR(Table19[[#This Row],[Next Calibration]]<$E$1,Table19[[#This Row],[Next Calibration]]=\"NEVER CALIBRATED\"),\"Calibrate\",\"Nominal\"))))","v":""},{"$f":"IF(((Table19[[#This Row],[Next Calibration]]-TODAY())/30)>2,\"More Than 2\",IF(((Table19[[#This Row],[Next Calibration]]-TODAY())/30)>1,\"Between 2 and 1\",\"Less than 1\"))","v":{"$error":"#VALUE!"}},{"$f":"IF(Table19[[#This Row],[Issued]]=\"\",\"\",IF(Table19[[#This Row],[Lent]]=\"\",0,1))","v":""},{"$f":"IF(Table19[[#This Row],[Lent]]=\"\",\"\",IF(Table19[[#This Row],[Returned]]=\"\",0,1))","v":""}]
[{"$nulls":11},{"$f":"IF(IF(Table19[[#This Row],[Disposition]]=\"Retired\",\"N/A\",IF(Table19[[#This Row],[Disposition]]=0,\"\",K181+$F$2))=0+$F$2,\"NEVER CALIBRATED\",IF(Table19[[#This Row],[Disposition]]=\"Retired\",\"N/A\",IF(Table19[[#This Row],[Disposition]]=0,\"\",K181+$F$2)))","v":""},{"$f":"IF(Table19[[#This Row],[Disposition]]=\"\",\"\",IF(AND(Table19[[#This Row],[Next Calibration]]<$E$1,Table19[[#This Row],[Disposition]]=\"Lost\"),\"Find and Calibrate\",IF(Table19[[#This Row],[Disposition]]=\"Lost\",\"Find\",IF(OR(Table19[[#This Row],[Next Calibration]]<$E$1,Table19[[#This Row],[Next Calibration]]=\"NEVER CALIBRATED\"),\"Calibrate\",\"Nominal\"))))","v":""},{"$f":"IF(((Table19[[#This Row],[Next Calibration]]-TODAY())/30)>2,\"More Than 2\",IF(((Table19[[#This Row],[Next Calibration]]-TODAY())/30)>1,\"Between 2 and 1\",\"Less than 1\"))","v":{"$error":"#VALUE!"}},{"$f":"IF(Table19[[#This Row],[Issued]]=\"\",\"\",IF(Table19[[#This Row],[Lent]]=\"\",0,1))","v":""},{"$f":"IF(Table19[[#This Row],[Lent]]=\"\",\"\",IF(Table19[[#This Row],[Returned]]=\"\",0,1))","v":""}]
[{"$nulls":11},{"$f":"IF(IF(Table19[[#This Row],[Disposition]]=\"Retired\",\"N/A\",IF(Table19[[#This Row],[Disposition]]=0,\"\",K182+$F$2))=0+$F$2,\"NEVER CALIBRATED\",IF(Table19[[#This Row],[Disposition]]=\"Retired\",\"N/A\",IF(Table19[[#This Row],[Disposition]]=0,\"\",K182+$F$2)))","v":""},{"$f":"IF(Table19[[#This Row],[Disposition]]=\"\",\"\",IF(AND(Table19[[#This Row],[Next Calibration]]<$E$1,Table19[[#This Row],[Disposition]]=\"Lost\"),\"Find and Calibrate\",IF(Table19[[#This Row],[Disposition]]=\"Lost\",\"Find\",IF(OR(Table19[[#This Row],[Next Calibration]]<$E$1,Table19[[#This Row],[Next Calibration]]=\"NEVER CALIBRATED\"),\"Calibrate\",\"Nominal\"))))","v":""},{"$f":"IF(((Table19[[#This Row],[Next Calibration]]-TODAY())/30)>2,\"More Than 2\",IF(((Table19[[#This Row],[Next Calibration]]-TODAY())/30)>1,\"Between 2 and 1\",\"Less than 1\"))","v":{"$error":"#VALUE!"}},{"$f":"IF(Table19[[#This Row],[Issued]]=\"\",\"\",IF(Table19[[#This Row],[Lent]]=\"\",0,1))","v":""},{"$f":"IF(Table19[[#This Row],[Lent]]=\"\",\"\",IF(Table19[[#This Row],[Returned]]=\"\",0,1))","v":""}]
[{"$nulls":11},{"$f":"IF(IF(Table19[[#This Row],[Disposition]]=\"Retired\",\"N/A\",IF(Table19[[#This Row],[Disposition]]=0,\"\",K183+$F$2))=0+$F$2,\"NEVER CALIBRATED\",IF(Table19[[#This Row],[Disposition]]=\"Retired\",\"N/A\",IF(Table19[[#This Row],[Disposition]]=0,\"\",K183+$F$2)))","v":""},{"$f":"IF(Table19[[#This Row],[Disposition]]=\"\",\"\",IF(AND(Table19[[#This Row],[Next Calibration]]<$E$1,Table19[[#This Row],[Disposition]]=\"Lost\"),\"Find and Calibrate\",IF(Table19[[#This Row],[Disposition]]=\"Lost\",\"Find\",IF(OR(Table19[[#This Row],[Next Calibration]]<$E$1,Table19[[#This Row],[Next Calibration]]=\"NEVER CALIBRATED\"),\"Calibrate\",\"Nominal\"))))","v":""},{"$f":"IF(((Table19[[#This Row],[Next Calibration]]-TODAY())/30)>2,\"More Than 2\",IF(((Table19[[#This Row],[Next Calibration]]-TODAY())/30)>1,\"Between 2 and 1\",\"Less than 1\"))","v":{"$error":"#VALUE!"}},{"$f":"IF(Table19[[#This Row],[Issued]]=\"\",\"\",IF(Table19[[#This Row],[Lent]]=\"\",0,1))","v":""},{"$f":"IF(Table19[[#This Row],[Lent]]=\"\",\"\",IF(Table19[[#This Row],[Returned]]=\"\",0,1))","v":""}]
[{"$nulls":11},{"$f":"IF(IF(Table19[[#This Row],[Disposition]]=\"Retired\",\"N/A\",IF(Table19[[#This Row],[Disposition]]=0,\"\",K184+$F$2))=0+$F$2,\"NEVER CALIBRATED\",IF(Table19[[#This Row],[Disposition]]=\"Retired\",\"N/A\",IF(Table19[[#This Row],[Disposition]]=0,\"\",K184+$F$2)))","v":""},{"$f":"IF(Table19[[#This Row],[Disposition]]=\"\",\"\",IF(AND(Table19[[#This Row],[Next Calibration]]<$E$1,Table19[[#This Row],[Disposition]]=\"Lost\"),\"Find and Calibrate\",IF(Table19[[#This Row],[Disposition]]=\"Lost\",\"Find\",IF(OR(Table19[[#This Row],[Next Calibration]]<$E$1,Table19[[#This Row],[Next Calibration]]=\"NEVER CALIBRATED\"),\"Calibrate\",\"Nominal\"))))","v":""},{"$f":"IF(((Table19[[#This Row],[Next Calibration]]-TODAY())/30)>2,\"More Than 2\",IF(((Table19[[#This Row],[Next Calibration]]-TODAY())/30)>1,\"Between 2 and 1\",\"Less than 1\"))","v":{"$error":"#VALUE!"}},{"$f":"IF(Table19[[#This Row],[Issued]]=\"\",\"\",IF(Table19[[#This Row],[Lent]]=\"\",0,1))","v":""},{"$f":"IF(Table19[[#This Row],[Lent]]=\"\",\"\",IF(Table19[[#This Row],[Returned]]=\"\",0,1))","v":""}]
[{"$nulls":11},{"$f":"IF(IF(Table19[[#This Row],[Disposition]]=\"Retired\",\"N/A\",IF(Table19[[#This Row],[Disposition]]=0,\"\",K185+$F$2))=0+$F$2,\"NEVER CALIBRATED\",IF(Table19[[#This Row],[Disposition]]=\"Retired\",\"N/A\",IF(Table19[[#This Row],[Disposition]]=0,\"\",K185+$F$2)))","v":""},{"$f":"IF(Table19[[#This Row],[Disposition]]=\"\",\"\",IF(AND(Table19[[#This Row],[Next Calibration]]<$E$1,Table19[[#This Row],[Disposition]]=\"Lost\"),\"Find and Calibrate\",IF(Table19[[#This Row],[Disposition]]=\"Lost\",\"Find\",IF(OR(Table19[[#This Row],[Next Calibration]]<$E$1,Table19[[#This Row],[Next Calibration]]=\"NEVER CALIBRATED\"),\"Calibrate\",\"Nominal\"))))","v":""},{"$f":"IF(((Table19[[#This Row],[Next Calibration]]-TODAY())/30)>2,\"More Than 2\",IF(((Table19[[#This Row],[Next Calibration]]-TODAY())/30)>1,\"Between 2 and 1\",\"Less than 1\"))","v":{"$error":"#VALUE!"}},{"$f":"IF(Table19[[#This Row],[Issued]]=\"\",\"\",IF(Table19[[#This Row],[Lent]]=\"\",0,1))","v":""},{"$f":"IF(Table19[[#This Row],[Lent]]=\"\",\"\",IF(Table19[[#This Row],[Returned]]=\"\",0,1))","v":""}]
[{"$nulls":11},{"$f":"IF(IF(Table19[[#This Row],[Disposition]]=\"Retired\",\"N/A\",IF(Table19[[#This Row],[Disposition]]=0,\"\",K186+$F$2))=0+$F$2,\"NEVER CALIBRATED\",IF(Table19[[#This Row],[Disposition]]=\"Retired\",\"N/A\",IF(Table19[[#This Row],[Disposition]]=0,\"\",K186+$F$2)))","v":""},{"$f":"IF(Table19[[#This Row],[Disposition]]=\"\",\"\",IF(AND(Table19[[#This Row],[Next Calibration]]<$E$1,Table19[[#This Row],[Disposition]]=\"Lost\"),\"Find and Calibrate\",IF(Table19[[#This Row],[Disposition]]=\"Lost\",\"Find\",IF(OR(Table19[[#This Row],[Next Calibration]]<$E$1,Table19[[#This Row],[Next Calibration]]=\"NEVER CALIBRATED\"),\"Calibrate\",\"Nominal\"))))","v":""},{"$f":"IF(((Table19[[#This Row],[Next Calibration]]-TODAY())/30)>2,\"More Than 2\",IF(((Table19[[#This Row],[Next Calibration]]-TODAY())/30)>1,\"Between 2 and 1\",\"Less than 1\"))","v":{"$error":"#VALUE!"}},{"$f":"IF(Table19[[#This Row],[Issued]]=\"\",\"\",IF(Table19[[#This Row],[Lent]]=\"\",0,1))","v":""},{"$f":"IF(Table19[[#This Row],[Lent]]=\"\",\"\",IF(Table19[[#This Row],[Returned]]=\"\",0,1))","v":""}]
[{"$nulls":11},{"$f":"IF(IF(Table19[[#This Row],[Disposition]]=\"Retired\",\"N/A\",IF(Table19[[#This Row],[Disposition]]=0,\"\",K187+$F$2))=0+$F$2,\"NEVER CALIBRATED\",IF(Table19[[#This Row],[Disposition]]=\"Retired\",\"N/A\",IF(Table19[[#This Row],[Disposition]]=0,\"\",K187+$F$2)))","v":""},{"$f":"IF(Table19[[#This Row],[Disposition]]=\"\",\"\",IF(AND(Table19[[#This Row],[Next Calibration]]<$E$1,Table19[[#This Row],[Disposition]]=\"Lost\"),\"Find and Calibrate\",IF(Table19[[#This Row],[Disposition]]=\"Lost\",\"Find\",IF(OR(Table19[[#This Row],[Next Calibration]]<$E$1,Table19[[#This Row],[Next Calibration]]=\"NEVER CALIBRATED\"),\"Calibrate\",\"Nominal\"))))","v":""},{"$f":"IF(((Table19[[#This Row],[Next Calibration]]-TODAY())/30)>2,\"More Than 2\",IF(((Table19[[#This Row],[Next Calibration]]-TODAY())/30)>1,\"Between 2 and 1\",\"Less than 1\"))","v":{"$error":"#VALUE!"}},{"$f":"IF(Table19[[#This Row],[Issued]]=\"\",\"\",IF(Table19[[#This Row],[Lent]]=\"\",0,1))","v":""},{"$f":"IF(Table19[[#This Row],[Lent]]=\"\",\"\",IF(Table19[[#This Row],[Returned]]=\"\",0,1))","v":""}]
[{"$nulls":11},{"$f":"IF(IF(Table19[[#This Row],[Disposition]]=\"Retired\",\"N/A\",IF(Table19[[#This Row],[Disposition]]=0,\"\",K188+$F$2))=0+$F$2,\"NEVER CALIBRATED\",IF(Table19[[#This Row],[Disposition]]=\"Retired\",\"N/A\",IF(Table19[[#This Row],[Disposition]]=0,\"\",K188+$F$2)))","v":""},{"$f":"IF(Table19[[#This Row],[Disposition]]=\"\",\"\",IF(AND(Table19[[#This Row],[Next Calibration]]<$E$1,Table19[[#This Row],[Disposition]]=\"Lost\"),\"Find and Calibrate\",IF(Table19[[#This Row],[Disposition]]=\"Lost\",\"Find\",IF(OR(Table19[[#This Row],[Next Calibration]]<$E$1,Table19[[#This Row],[Next Calibration]]=\"NEVER CALIBRATED\"),\"Calibrate\",\"Nominal\"))))","v":""},{"$f":"IF(((Table19[[#This Row],[Next Calibration]]-TODAY())/30)>2,\"More Than 2\",IF(((Table19[[#This Row],[Next Calibration]]-TODAY())/30)>1,\"Between 2 and 1\",\"Less than 1\"))","v":{"$error":"#VALUE!"}},{"$f":"IF(Table19[[#This Row],[Issued]]=\"\",\"\",IF(Table19[[#This Row],[Lent]]=\"\",0,1))","v":""},{"$f":"IF(Table19[[#This Row],[Lent]]=\"\",\"\",IF(Table19[[#This Row],[Returned]]=\"\",0,1))","v":""}]
[{"$nulls":11},{"$f":"IF(IF(Table19[[#This Row],[Disposition]]=\"Retired\",\"N/A\",IF(Table19[[#This Row],[Disposition]]=0,\"\",K189+$F$2))=0+$F$2,\"NEVER CALIBRATED\",IF(Table19[[#This Row],[Disposition]]=\"Retired\",\"N/A\",IF(Table19[[#This Row],[Disposition]]=0,\"\",K189+$F$2)))","v":""},{"$f":"IF(Table19[[#This Row],[Disposition]]=\"\",\"\",IF(AND(Table19[[#This Row],[Next Calibration]]<$E$1,Table19[[#This Row],[Disposition]]=\"Lost\"),\"Find and Calibrate\",IF(Table19[[#This Row],[Disposition]]=\"Lost\",\"Find\",IF(OR(Table19[[#This Row],[Next Calibration]]<$E$1,Table19[[#This Row],[Next Calibration]]=\"NEVER CALIBRATED\"),\"Calibrate\",\"Nominal\"))))","v":""},{"$f":"IF(((Table19[[#This Row],[Next Calibration]]-TODAY())/30)>2,\"More Than 2\",IF(((Table19[[#This Row],[Next Calibration]]-TODAY())/30)>1,\"Between 2 and 1\",\"Less than 1\"))","v":{"$error":"#VALUE!"}},{"$f":"IF(Table19[[#This Row],[Issued]]=\"\",\"\",IF(Table19[[#This Row],[Lent]]=\"\",0,1))","v":""},{"$f":"IF(Table19[[#This Row],[Lent]]=\"\",\"\",IF(Table19[[#This Row],[Returned]]=\"\",0,1))","v":""}]
[{"$nulls":11},{"$f":"IF(IF(Table19[[#This Row],[Disposition]]=\"Retired\",\"N/A\",IF(Table19[[#This Row],[Disposition]]=0,\"\",K190+$F$2))=0+$F$2,\"NEVER CALIBRATED\",IF(Table19[[#This Row],[Disposition]]=\"Retired\",\"N/A\",IF(Table19[[#This Row],[Disposition]]=0,\"\",K190+$F$2)))","v":""},{"$f":"IF(Table19[[#This Row],[Disposition]]=\"\",\"\",IF(AND(Table19[[#This Row],[Next Calibration]]<$E$1,Table19[[#This Row],[Disposition]]=\"Lost\"),\"Find and Calibrate\",IF(Table19[[#This Row],[Disposition]]=\"Lost\",\"Find\",IF(OR(Table19[[#This Row],[Next Calibration]]<$E$1,Table19[[#This Row],[Next Calibration]]=\"NEVER CALIBRATED\"),\"Calibrate\",\"Nominal\"))))","v":""},{"$f":"IF(((Table19[[#This Row],[Next Calibration]]-TODAY())/30)>2,\"More Than 2\",IF(((Table19[[#This Row],[Next Calibration]]-TODAY())/30)>1,\"Between 2 and 1\",\"Less than 1\"))","v":{"$error":"#VALUE!"}},{"$f":"IF(Table19[[#This Row],[Issued]]=\"\",\"\",IF(Table19[[#This Row],[Lent]]=\"\",0,1))","v":""},{"$f":"IF(Table19[[#This Row],[Lent]]=\"\",\"\",IF(Table19[[#This Row],[Returned]]=\"\",0,1))","v":""}]
[{"$nulls":11},{"$f":"IF(IF(Table19[[#This Row],[Disposition]]=\"Retired\",\"N/A\",IF(Table19[[#This Row],[Disposition]]=0,\"\",K191+$F$2))=0+$F$2,\"NEVER CALIBRATED\",IF(Table19[[#This Row],[Disposition]]=\"Retired\",\"N/A\",IF(Table19[[#This Row],[Disposition]]=0,\"\",K191+$F$2)))","v":""},{"$f":"IF(Table19[[#This Row],[Disposition]]=\"\",\"\",IF(AND(Table19[[#This Row],[Next Calibration]]<$E$1,Table19[[#This Row],[Disposition]]=\"Lost\"),\"Find and Calibrate\",IF(Table19[[#This Row],[Disposition]]=\"Lost\",\"Find\",IF(OR(Table19[[#This Row],[Next Calibration]]<$E$1,Table19[[#This Row],[Next Calibration]]=\"NEVER CALIBRATED\"),\"Calibrate\",\"Nominal\"))))","v":""},{"$f":"IF(((Table19[[#This Row],[Next Calibration]]-TODAY())/30)>2,\"More Than 2\",IF(((Table19[[#This Row],[Next Calibration]]-TODAY())/30)>1,\"Between 2 and 1\",\"Less than 1\"))","v":{"$error":"#VALUE!"}},{"$f":"IF(Table19[[#This Row],[Issued]]=\"\",\"\",IF(Table19[[#This Row],[Lent]]=\"\",0,1))","v":""},{"$f":"IF(Table19[[#This Row],[Lent]]=\"\",\"\",IF(Table19[[#This Row],[Returned]]=\"\",0,1))","v":""}]
[{"$nulls":11},{"$f":"IF(IF(Table19[[#This Row],[Disposition]]=\"Retired\",\"N/A\",IF(Table19[[#This Row],[Disposition]]=0,\"\",K192+$F$2))=0+$F$2,\"NEVER CALIBRATED\",IF(Table19[[#This Row],[Disposition]]=\"Retired\",\"N/A\",IF(Table19[[#This Row],[Disposition]]=0,\"\",K192+$F$2)))","v":""},{"$f":"IF(Table19[[#This Row],[Disposition]]=\"\",\"\",IF(AND(Table19[[#This Row],[Next Calibration]]<$E$1,Table19[[#This Row],[Disposition]]=\"Lost\"),\"Find and Calibrate\",IF(Table19[[#This Row],[Disposition]]=\"Lost\",\"Find\",IF(OR(Table19[[#This Row],[Next Calibration]]<$E$1,Table19[[#This Row],[Next Calibration]]=\"NEVER CALIBRATED\"),\"Calibrate\",\"Nominal\"))))","v":""},{"$f":"IF(((Table19[[#This Row],[Next Calibration]]-TODAY())/30)>2,\"More Than 2\",IF(((Table19[[#This Row],[Next Calibration]]-TODAY())/30)>1,\"Between 2 and 1\",\"Less than 1\"))","v":{"$error":"#VALUE!"}},{"$f":"IF(Table19[[#This Row],[Issued]]=\"\",\"\",IF(Table19[[#This Row],[Lent]]=\"\",0,1))","v":""},{"$f":"IF(Table19[[#This Row],[Lent]]=\"\",\"\",IF(Table19[[#This Row],[Returned]]=\"\",0,1))","v":""}]
[{"$nulls":11},{"$f":"IF(IF(Table19[[#This Row],[Disposition]]=\"Retired\",\"N/A\",IF(Table19[[#This Row],[Disposition]]=0,\"\",K193+$F$2))=0+$F$2,\"NEVER CALIBRATED\",IF(Table19[[#This Row],[Disposition]]=\"Retired\",\"N/A\",IF(Table19[[#This Row],[Disposition]]=0,\"\",K193+$F$2)))","v":""},{"$f":"IF(Table19[[#This Row],[Disposition]]=\"\",\"\",IF(AND(Table19[[#This Row],[Next Calibration]]<$E$1,Table19[[#This Row],[Disposition]]=\"Lost\"),\"Find and Calibrate\",IF(Table19[[#This Row],[Disposition]]=\"Lost\",\"Find\",IF(OR(Table19[[#This Row],[Next Calibration]]<$E$1,Table19[[#This Row],[Next Calibration]]=\"NEVER CALIBRATED\"),\"Calibrate\",\"Nominal\"))))","v":""},{"$f":"IF(((Table19[[#This Row],[Next Calibration]]-TODAY())/30)>2,\"More Than 2\",IF(((Table19[[#This Row],[Next Calibration]]-TODAY())/30)>1,\"Between 2 and 1\",\"Less than 1\"))","v":{"$error":"#VALUE!"}},{"$f":"IF(Table19[[#This Row],[Issued]]=\"\",\"\",IF(Table19[[#This Row],[Lent]]=\"\",0,1))","v":""},{"$f":"IF(Table19[[#This Row],[Lent]]=\"\",\"\",IF(Table19[[#This Row],[Returned]]=\"\",0,1))","v":""}]
[{"$nulls":11},{"$f":"IF(IF(Table19[[#This Row],[Disposition]]=\"Retired\",\"N/A\",IF(Table19[[#This Row],[Disposition]]=0,\"\",K194+$F$2))=0+$F$2,\"NEVER CALIBRATED\",IF(Table19[[#This Row],[Disposition]]=\"Retired\",\"N/A\",IF(Table19[[#This Row],[Disposition]]=0,\"\",K194+$F$2)))","v":""},{"$f":"IF(Table19[[#This Row],[Disposition]]=\"\",\"\",IF(AND(Table19[[#This Row],[Next Calibration]]<$E$1,Table19[[#This Row],[Disposition]]=\"Lost\"),\"Find and Calibrate\",IF(Table19[[#This Row],[Disposition]]=\"Lost\",\"Find\",IF(OR(Table19[[#This Row],[Next Calibration]]<$E$1,Table19[[#This Row],[Next Calibration]]=\"NEVER CALIBRATED\"),\"Calibrate\",\"Nominal\"))))","v":""},{"$f":"IF(((Table19[[#This Row],[Next Calibration]]-TODAY())/30)>2,\"More Than 2\",IF(((Table19[[#This Row],[Next Calibration]]-TODAY())/30)>1,\"Between 2 and 1\",\"Less than 1\"))","v":{"$error":"#VALUE!"}},{"$f":"IF(Table19[[#This Row],[Issued]]=\"\",\"\",IF(Table19[[#This Row],[Lent]]=\"\",0,1))","v":""},{"$f":"IF(Table19[[#This Row],[Lent]]=\"\",\"\",IF(Table19[[#This Row],[Returned]]=\"\",0,1))","v":""}]
[{"$nulls":11},{"$f":"IF(IF(Table19[[#This Row],[Disposition]]=\"Retired\",\"N/A\",IF(Table19[[#This Row],[Disposition]]=0,\"\",K195+$F$2))=0+$F$2,\"NEVER CALIBRATED\",IF(Table19[[#This Row],[Disposition]]=\"Retired\",\"N/A\",IF(Table19[[#This Row],[Disposition]]=0,\"\",K195+$F$2)))","v":""},{"$f":"IF(Table19[[#This Row],[Disposition]]=\"\",\"\",IF(AND(Table19[[#This Row],[Next Calibration]]<$E$1,Table19[[#This Row],[Disposition]]=\"Lost\"),\"Find and Calibrate\",IF(Table19[[#This Row],[Disposition]]=\"Lost\",\"Find\",IF(OR(Table19[[#This Row],[Next Calibration]]<$E$1,Table19[[#This Row],[Next Calibration]]=\"NEVER CALIBRATED\"),\"Calibrate\",\"Nominal\"))))","v":""},{"$f":"IF(((Table19[[#This Row],[Next Calibration]]-TODAY())/30)>2,\"More Than 2\",IF(((Table19[[#This Row],[Next Calibration]]-TODAY())/30)>1,\"Between 2 and 1\",\"Less than 1\"))","v":{"$error":"#VALUE!"}},{"$f":"IF(Table19[[#This Row],[Issued]]=\"\",\"\",IF(Table19[[#This Row],[Lent]]=\"\",0,1))","v":""},{"$f":"IF(Table19[[#This Row],[Lent]]=\"\",\"\",IF(Table19[[#This Row],[Returned]]=\"\",0,1))","v":""}]
[{"$nulls":11},{"$f":"IF(IF(Table19[[#This Row],[Disposition]]=\"Retired\",\"N/A\",IF(Table19[[#This Row],[Disposition]]=0,\"\",K196+$F$2))=0+$F$2,\"NEVER CALIBRATED\",IF(Table19[[#This Row],[Disposition]]=\"Retired\",\"N/A\",IF(Table19[[#This Row],[Disposition]]=0,\"\",K196+$F$2)))","v":""},{"$f":"IF(Table19[[#This Row],[Disposition]]=\"\",\"\",IF(AND(Table19[[#This Row],[Next Calibration]]<$E$1,Table19[[#This Row],[Disposition]]=\"Lost\"),\"Find and Calibrate\",IF(Table19[[#This Row],[Disposition]]=\"Lost\",\"Find\",IF(OR(Table19[[#This Row],[Next Calibration]]<$E$1,Table19[[#This Row],[Next Calibration]]=\"NEVER CALIBRATED\"),\"Calibrate\",\"Nominal\"))))","v":""},{"$f":"IF(((Table19[[#This Row],[Next Calibration]]-TODAY())/30)>2,\"More Than 2\",IF(((Table19[[#This Row],[Next Calibration]]-TODAY())/30)>1,\"Between 2 and 1\",\"Less than 1\"))","v":{"$error":"#VALUE!"}},{"$f":"IF(Table19[[#This Row],[Issued]]=\"\",\"\",IF(Table19[[#This Row],[Lent]]=\"\",0,1))","v":""},{"$f":"IF(Table19[[#This Row],[Lent]]=\"\",\"\",IF(Table19[[#This Row],[Returned]]=\"\",0,1))","v":""}]
[{"$nulls":11},{"$f":"IF(IF(Table19[[#This Row],[Disposition]]=\"Retired\",\"N/A\",IF(Table19[[#This Row],[Disposition]]=0,\"\",K197+$F$2))=0+$F$2,\"NEVER CALIBRATED\",IF(Table19[[#This Row],[Disposition]]=\"Retired\",\"N/A\",IF(Table19[[#This Row],[Disposition]]=0,\"\",K197+$F$2)))","v":""},{"$f":"IF(Table19[[#This Row],[Disposition]]=\"\",\"\",IF(AND(Table19[[#This Row],[Next Calibration]]<$E$1,Table19[[#This Row],[Disposition]]=\"Lost\"),\"Find and Calibrate\",IF(Table19[[#This Row],[Disposition]]=\"Lost\",\"Find\",IF(OR(Table19[[#This Row],[Next Calibration]]<$E$1,Table19[[#This Row],[Next Calibration]]=\"NEVER CALIBRATED\"),\"Calibrate\",\"Nominal\"))))","v":""},{"$f":"IF(((Table19[[#This Row],[Next Calibration]]-TODAY())/30)>2,\"More Than 2\",IF(((Table19[[#This Row],[Next Calibration]]-TODAY())/30)>1,\"Between 2 and 1\",\"Less than 1\"))","v":{"$error":"#VALUE!"}},{"$f":"IF(Table19[[#This Row],[Issued]]=\"\",\"\",IF(Table19[[#This Row],[Lent]]=\"\",0,1))","v":""},{"$f":"IF(Table19[[#This Row],[Lent]]=\"\",\"\",IF(Table19[[#This Row],[Returned]]=\"\",0,1))","v":""}]
[{"$nulls":11},{"$f":"IF(IF(Table19[[#This Row],[Disposition]]=\"Retired\",\"N/A\",IF(Table19[[#This Row],[Disposition]]=0,\"\",K198+$F$2))=0+$F$2,\"NEVER CALIBRATED\",IF(Table19[[#This Row],[Disposition]]=\"Retired\",\"N/A\",IF(Table19[[#This Row],[Disposition]]=0,\"\",K198+$F$2)))","v":""},{"$f":"IF(Table19[[#This Row],[Disposition]]=\"\",\"\",IF(AND(Table19[[#This Row],[Next Calibration]]<$E$1,Table19[[#This Row],[Disposition]]=\"Lost\"),\"Find and Calibrate\",IF(Table19[[#This Row],[Disposition]]=\"Lost\",\"Find\",IF(OR(Table19[[#This Row],[Next Calibration]]<$E$1,Table19[[#This Row],[Next Calibration]]=\"NEVER CALIBRATED\"),\"Calibrate\",\"Nominal\"))))","v":""},{"$f":"IF(((Table19[[#This Row],[Next Calibration]]-TODAY())/30)>2,\"More Than 2\",IF(((Table19[[#This Row],[Next Calibration]]-TODAY())/30)>1,\"Between 2 and 1\",\"Less than 1\"))","v":{"$error":"#VALUE!"}},{"$f":"IF(Table19[[#This Row],[Issued]]=\"\",\"\",IF(Table19[[#This Row],[Lent]]=\"\",0,1))","v":""},{"$f":"IF(Table19[[#This Row],[Lent]]=\"\",\"\",IF(Table19[[#This Row],[Returned]]=\"\",0,1))","v":""}]
[{"$nulls":11},{"$f":"IF(IF(Table19[[#This Row],[Disposition]]=\"Retired\",\"N/A\",IF(Table19[[#This Row],[Disposition]]=0,\"\",K199+$F$2))=0+$F$2,\"NEVER CALIBRATED\",IF(Table19[[#This Row],[Disposition]]=\"Retired\",\"N/A\",IF(Table19[[#This Row],[Disposition]]=0,\"\",K199+$F$2)))","v":""},{"$f":"IF(Table19[[#This Row],[Disposition]]=\"\",\"\",IF(AND(Table19[[#This Row],[Next Calibration]]<$E$1,Table19[[#This Row],[Disposition]]=\"Lost\"),\"Find and Calibrate\",IF(Table19[[#This Row],[Disposition]]=\"Lost\",\"Find\",IF(OR(Table19[[#This Row],[Next Calibration]]<$E$1,Table19[[#This Row],[Next Calibration]]=\"NEVER CALIBRATED\"),\"Calibrate\",\"Nominal\"))))","v":""},{"$f":"IF(((Table19[[#This Row],[Next Calibration]]-TODAY())/30)>2,\"More Than 2\",IF(((Table19[[#This Row],[Next Calibration]]-TODAY())/30)>1,\"Between 2 and 1\",\"Less than 1\"))","v":{"$error":"#VALUE!"}},{"$f":"IF(Table19[[#This Row],[Issued]]=\"\",\"\",IF(Table19[[#This Row],[Lent]]=\"\",0,1))","v":""},{"$f":"IF(Table19[[#This Row],[Lent]]=\"\",\"\",IF(Table19[[#This Row],[Returned]]=\"\",0,1))","v":""}]
[{"$nulls":11},{"$f":"IF(IF(Table19[[#This Row],[Disposition]]=\"Retired\",\"N/A\",IF(Table19[[#This Row],[Disposition]]=0,\"\",K200+$F$2))=0+$F$2,\"NEVER CALIBRATED\",IF(Table19[[#This Row],[Disposition]]=\"Retired\",\"N/A\",IF(Table19[[#This Row],[Disposition]]=0,\"\",K200+$F$2)))","v":""},{"$f":"IF(Table19[[#This Row],[Disposition]]=\"\",\"\",IF(AND(Table19[[#This Row],[Next Calibration]]<$E$1,Table19[[#This Row],[Disposition]]=\"Lost\"),\"Find and Calibrate\",IF(Table19[[#This Row],[Disposition]]=\"Lost\",\"Find\",IF(OR(Table19[[#This Row],[Next Calibration]]<$E$1,Table19[[#This Row],[Next Calibration]]=\"NEVER CALIBRATED\"),\"Calibrate\",\"Nominal\"))))","v":""},{"$f":"IF(((Table19[[#This Row],[Next Calibration]]-TODAY())/30)>2,\"More Than 2\",IF(((Table19[[#This Row],[Next Calibration]]-TODAY())/30)>1,\"Between 2 and 1\",\"Less than 1\"))","v":{"$error":"#VALUE!"}},{"$f":"IF(Table19[[#This Row],[Issued]]=\"\",\"\",IF(Table19[[#This Row],[Lent]]=\"\",0,1))","v":""},{"$f":"IF(Table19[[#This Row],[Lent]]=\"\",\"\",IF(Table19[[#This Row],[Returned]]=\"\",0,1))","v":""}]
[{"$nulls":11},{"$f":"IF(IF(Table19[[#This Row],[Disposition]]=\"Retired\",\"N/A\",IF(Table19[[#This Row],[Disposition]]=0,\"\",K201+$F$2))=0+$F$2,\"NEVER CALIBRATED\",IF(Table19[[#This Row],[Disposition]]=\"Retired\",\"N/A\",IF(Table19[[#This Row],[Disposition]]=0,\"\",K201+$F$2)))","v":""},{"$f":"IF(Table19[[#This Row],[Disposition]]=\"\",\"\",IF(AND(Table19[[#This Row],[Next Calibration]]<$E$1,Table19[[#This Row],[Disposition]]=\"Lost\"),\"Find and Calibrate\",IF(Table19[[#This Row],[Disposition]]=\"Lost\",\"Find\",IF(OR(Table19[[#This Row],[Next Calibration]]<$E$1,Table19[[#This Row],[Next Calibration]]=\"NEVER CALIBRATED\"),\"Calibrate\",\"Nominal\"))))","v":""},{"$f":"IF(((Table19[[#This Row],[Next Calibration]]-TODAY())/30)>2,\"More Than 2\",IF(((Table19[[#This Row],[Next Calibration]]-TODAY())/30)>1,\"Between 2 and 1\",\"Less than 1\"))","v":{"$error":"#VALUE!"}},{"$f":"IF(Table19[[#This Row],[Issued]]=\"\",\"\",IF(Table19[[#This Row],[Lent]]=\"\",0,1))","v":""},{"$f":"IF(Table19[[#This Row],[Lent]]=\"\",\"\",IF(Table19[[#This Row],[Returned]]=\"\",0,1))","v":""}]
[{"$nulls":11},{"$f":"IF(IF(Table19[[#This Row],[Disposition]]=\"Retired\",\"N/A\",IF(Table19[[#This Row],[Disposition]]=0,\"\",K202+$F$2))=0+$F$2,\"NEVER CALIBRATED\",IF(Table19[[#This Row],[Disposition]]=\"Retired\",\"N/A\",IF(Table19[[#This Row],[Disposition]]=0,\"\",K202+$F$2)))","v":""},{"$f":"IF(Table19[[#This Row],[Disposition]]=\"\",\"\",IF(AND(Table19[[#This Row],[Next Calibration]]<$E$1,Table19[[#This Row],[Disposition]]=\"Lost\"),\"Find and Calibrate\",IF(Table19[[#This Row],[Disposition]]=\"Lost\",\"Find\",IF(OR(Table19[[#This Row],[Next Calibration]]<$E$1,Table19[[#This Row],[Next Calibration]]=\"NEVER CALIBRATED\"),\"Calibrate\",\"Nominal\"))))","v":""},{"$f":"IF(((Table19[[#This Row],[Next Calibration]]-TODAY())/30)>2,\"More Than 2\",IF(((Table19[[#This Row],[Next Calibration]]-TODAY())/30)>1,\"Between 2 and 1\",\"Less than 1\"))","v":{"$error":"#VALUE!"}},{"$f":"IF(Table19[[#This Row],[Issued]]=\"\",\"\",IF(Table19[[#This Row],[Lent]]=\"\",0,1))","v":""},{"$f":"IF(Table19[[#This Row],[Lent]]=\"\",\"\",IF(Table19[[#This Row],[Returned]]=\"\",0,1))","v":""}]
[{"$nulls":11},{"$f":"IF(IF(Table19[[#This Row],[Disposition]]=\"Retired\",\"N/A\",IF(Table19[[#This Row],[Disposition]]=0,\"\",K203+$F$2))=0+$F$2,\"NEVER CALIBRATED\",IF(Table19[[#This Row],[Disposition]]=\"Retired\",\"N/A\",IF(Table19[[#This Row],[Disposition]]=0,\"\",K203+$F$2)))","v":""},{"$f":"IF(Table19[[#This Row],[Disposition]]=\"\",\"\",IF(AND(Table19[[#This Row],[Next Calibration]]<$E$1,Table19[[#This Row],[Disposition]]=\"Lost\"),\"Find and Calibrate\",IF(Table19[[#This Row],[Disposition]]=\"Lost\",\"Find\",IF(OR(Table19[[#This Row],[Next Calibration]]<$E$1,Table19[[#This Row],[Next Calibration]]=\"NEVER CALIBRATED\"),\"Calibrate\",\"Nominal\"))))","v":""},{"$f":"IF(((Table19[[#This Row],[Next Calibration]]-TODAY())/30)>2,\"More Than 2\",IF(((Table19[[#This Row],[Next Calibration]]-TODAY())/30)>1,\"Between 2 and 1\",\"Less than 1\"))","v":{"$error":"#VALUE!"}},{"$f":"IF(Table19[[#This Row],[Issued]]=\"\",\"\",IF(Table19[[#This Row],[Lent]]=\"\",0,1))","v":""},{"$f":"IF(Table19[[#This Row],[Lent]]=\"\",\"\",IF(Table19[[#This Row],[Returned]]=\"\",0,1))","v":""}]

{"sheet":"Surface Gauge","index":7,"n_rows":203,"n_cols":16,"rows_kept":203,"merged":[[0,0,1,2],[0,9,1,9],[0,10,0,11],[1,10,1,11],[3,0,4,0]]}
["Surface Gauge",null,null,"Date",{"$f":"TODAY()","v":"2021-04-27"},"Calibration Frequency (days)",{"$nulls":3},"Key","Personal Tool",null,"Adjustabe"]
[{"$nulls":3},"Time",{"$f":"NOW()","v":44313.375952546296},365,{"$nulls":4},"Attention",null,"DO NOT EDIT"]
[]
["Tool Modification"]
[]
[]
["Gauge #","Lent To","Shift","Work Area","Brand","Disposition","Personal (1/0)","Issued","Lent","Returned","Calibrated","Next Calibration","Action Required","count down","Lent (1/0)","Returned (1/0)"]
[801772,{"$nulls":3},"Mitutoyo Surface Gauge","Accounted For",null,"2021-03-08",{"$nulls":3},{"$f":"IF(IF(Table110[[#This Row],[Disposition]]=\"Retired\",\"N/A\",IF(Table110[[#This Row],[Disposition]]=0,\"\",K8+$F$2))=0+$F$2,\"NEVER CALIBRATED\",IF(Table110[[#This Row],[Disposition]]=\"Retired\",\"N/A\",IF(Table110[[#This Row],[Disposition]]=0,\"\",K8+$F$2)))","v":"NEVER CALIBRATED"},{"$f":"IF(Table110[[#This Row],[Disposition]]=\"\",\"\",IF(AND(Table110[[#This Row],[Next Calibration]]<$E$1,Table110[[#This Row],[Disposition]]=\"Lost\"),\"Find and Calibrate\",IF(Table110[[#This Row],[Disposition]]=\"Lost\",\"Find\",IF(OR(Table110[[#This Row],[Next Calibration]]<$E$1,Table110[[#This Row],[Next Calibration]]=\"NEVER CALIBRATED\"),\"Calibrate\",\"Nominal\"))))","v":"Calibrate"},{"$f":"IF(((Table110[[#This Row],[Next Calibration]]-TODAY())/30)>2,\"More Than 2\",IF(((Table110[[#This Row],[Next Calibration]]-TODAY())/30)>1,\"Between 2 and 1\",\"Less than 1\"))","v":{"$error":"#VALUE!"}},{"$f":"IF(Table110[[#This Row],[Issued]]=\"\",\"\",IF(Table110[[#This Row],[Lent]]=\"\",0,1))","v":{"v":0,"d":"0.00"}},{"$f":"IF(Table110[[#This Row],[Lent]]=\"\",\"\",IF(Table110[[#This Row],[Returned]]=\"\",0,1))","v":""}]
[801908,{"$nulls":3},"Mitutoyo Surface Gauge","Accounted For",null,"2021-03-08",{"$nulls":3},{"$f":"IF(IF(Table110[[#This Row],[Disposition]]=\"Retired\",\"N/A\",IF(Table110[[#This Row],[Disposition]]=0,\"\",K9+$F$2))=0+$F$2,\"NEVER CALIBRATED\",IF(Table110[[#This Row],[Disposition]]=\"Retired\",\"N/A\",IF(Table110[[#This Row],[Disposition]]=0,\"\",K9+$F$2)))","v":"NEVER CALIBRATED"},{"$f":"IF(Table110[[#This Row],[Disposition]]=\"\",\"\",IF(AND(Table110[[#This Row],[Next Calibration]]<$E$1,Table110[[#This Row],[Disposition]]=\"Lost\"),\"Find and Calibrate\",IF(Table110[[#This Row],[Disposition]]=\"Lost\",\"Find\",IF(OR(Table110[[#This Row],[Next Calibration]]<$E$1,Table110[[#This Row],[Next Calibration]]=\"NEVER CALIBRATED\"),\"Calibrate\",\"Nominal\"))))","v":"Calibrate"},{"$f":"IF(((Table110[[#This Row],[Next Calibration]]-TODAY())/30)>2,\"More Than 2\",IF(((Table110[[#This Row],[Next Calibration]]-TODAY())/30)>1,\"Between 2 and 1\",\"Less than 1\"))","v":{"$error":"#VALUE!"}},{"$f":"IF(Table110[[#This Row],[Issued]]=\"\",\"\",IF(Table110[[#This Row],[Lent]]=\"\",0,1))","v":{"v":0,"d":"0.00"}},{"$f":"IF(Table110[[#This Row],[Lent]]=\"\",\"\",IF(Table110[[#This Row],[Returned]]=\"\",0,1))","v":""}]
[{"$nulls":11},{"$f":"IF(IF(Table110[[#This Row],[Disposition]]=\"Retired\",\"N/A\",IF(Table110[[#This Row],[Disposition]]=0,\"\",K10+$F$2))=0+$F$2,\"NEVER CALIBRATED\",IF(Table110[[#This Row],[Disposition]]=\"Retired\",\"N/A\",IF(Table110[[#This Row],[Disposition]]=0,\"\",K10+$F$2)))","v":""},{"$f":"IF(Table110[[#This Row],[Disposition]]=\"\",\"\",IF(AND(Table110[[#This Row],[Next Calibration]]<$E$1,Table110[[#This Row],[Disposition]]=\"Lost\"),\"Find and Calibrate\",IF(Table110[[#This Row],[Disposition]]=\"Lost\",\"Find\",IF(OR(Table110[[#This Row],[Next Calibration]]<$E$1,Table110[[#This Row],[Next Calibration]]=\"NEVER CALIBRATED\"),\"Calibrate\",\"Nominal\"))))","v":""},{"$f":"IF(((Table110[[#This Row],[Next Calibration]]-TODAY())/30)>2,\"More Than 2\",IF(((Table110[[#This Row],[Next Calibration]]-TODAY())/30)>1,\"Between 2 and 1\",\"Less than 1\"))","v":{"$error":"#VALUE!"}},{"$f":"IF(Table110[[#This Row],[Issued]]=\"\",\"\",IF(Table110[[#This Row],[Lent]]=\"\",0,1))","v":""},{"$f":"IF(Table110[[#This Row],[Lent]]=\"\",\"\",IF(Table110[[#This Row],[Returned]]=\"\",0,1))","v":""}]
[{"$nulls":11},{"$f":"IF(IF(Table110[[#This Row],[Disposition]]=\"Retired\",\"N/A\",IF(Table110[[#This Row],[Disposition]]=0,\"\",K11+$F$2))=0+$F$2,\"NEVER CALIBRATED\",IF(Table110[[#This Row],[Disposition]]=\"Retired\",\"N/A\",IF(Table110[[#This Row],[Disposition]]=0,\"\",K11+$F$2)))","v":""},{"$f":"IF(Table110[[#This Row],[Disposition]]=\"\",\"\",IF(AND(Table110[[#This Row],[Next Calibration]]<$E$1,Table110[[#This Row],[Disposition]]=\"Lost\"),\"Find and Calibrate\",IF(Table110[[#This Row],[Disposition]]=\"Lost\",\"Find\",IF(OR(Table110[[#This Row],[Next Calibration]]<$E$1,Table110[[#This Row],[Next Calibration]]=\"NEVER CALIBRATED\"),\"Calibrate\",\"Nominal\"))))","v":""},{"$f":"IF(((Table110[[#This Row],[Next Calibration]]-TODAY())/30)>2,\"More Than 2\",IF(((Table110[[#This Row],[Next Calibration]]-TODAY())/30)>1,\"Between 2 and 1\",\"Less than 1\"))","v":{"$error":"#VALUE!"}},{"$f":"IF(Table110[[#This Row],[Issued]]=\"\",\"\",IF(Table110[[#This Row],[Lent]]=\"\",0,1))","v":""},{"$f":"IF(Table110[[#This Row],[Lent]]=\"\",\"\",IF(Table110[[#This Row],[Returned]]=\"\",0,1))","v":""}]
[{"$nulls":11},{"$f":"IF(IF(Table110[[#This Row],[Disposition]]=\"Retired\",\"N/A\",IF(Table110[[#This Row],[Disposition]]=0,\"\",K12+$F$2))=0+$F$2,\"NEVER CALIBRATED\",IF(Table110[[#This Row],[Disposition]]=\"Retired\",\"N/A\",IF(Table110[[#This Row],[Disposition]]=0,\"\",K12+$F$2)))","v":""},{"$f":"IF(Table110[[#This Row],[Disposition]]=\"\",\"\",IF(AND(Table110[[#This Row],[Next Calibration]]<$E$1,Table110[[#This Row],[Disposition]]=\"Lost\"),\"Find and Calibrate\",IF(Table110[[#This Row],[Disposition]]=\"Lost\",\"Find\",IF(OR(Table110[[#This Row],[Next Calibration]]<$E$1,Table110[[#This Row],[Next Calibration]]=\"NEVER CALIBRATED\"),\"Calibrate\",\"Nominal\"))))","v":""},{"$f":"IF(((Table110[[#This Row],[Next Calibration]]-TODAY())/30)>2,\"More Than 2\",IF(((Table110[[#This Row],[Next Calibration]]-TODAY())/30)>1,\"Between 2 and 1\",\"Less than 1\"))","v":{"$error":"#VALUE!"}},{"$f":"IF(Table110[[#This Row],[Issued]]=\"\",\"\",IF(Table110[[#This Row],[Lent]]=\"\",0,1))","v":""},{"$f":"IF(Table110[[#This Row],[Lent]]=\"\",\"\",IF(Table110[[#This Row],[Returned]]=\"\",0,1))","v":""}]
[{"$nulls":11},{"$f":"IF(IF(Table110[[#This Row],[Disposition]]=\"Retired\",\"N/A\",IF(Table110[[#This Row],[Disposition]]=0,\"\",K13+$F$2))=0+$F$2,\"NEVER CALIBRATED\",IF(Table110[[#This Row],[Disposition]]=\"Retired\",\"N/A\",IF(Table110[[#This Row],[Disposition]]=0,\"\",K13+$F$2)))","v":""},{"$f":"IF(Table110[[#This Row],[Disposition]]=\"\",\"\",IF(AND(Table110[[#This Row],[Next Calibration]]<$E$1,Table110[[#This Row],[Disposition]]=\"Lost\"),\"Find and Calibrate\",IF(Table110[[#This Row],[Disposition]]=\"Lost\",\"Find\",IF(OR(Table110[[#This Row],[Next Calibration]]<$E$1,Table110[[#This Row],[Next Calibration]]=\"NEVER CALIBRATED\"),\"Calibrate\",\"Nominal\"))))","v":""},{"$f":"IF(((Table110[[#This Row],[Next Calibration]]-TODAY())/30)>2,\"More Than 2\",IF(((Table110[[#This Row],[Next Calibration]]-TODAY())/30)>1,\"Between 2 and 1\",\"Less than 1\"))","v":{"$error":"#VALUE!"}},{"$f":"IF(Table110[[#This Row],[Issued]]=\"\",\"\",IF(Table110[[#This Row],[Lent]]=\"\",0,1))","v":""},{"$f":"IF(Table110[[#This Row],[Lent]]=\"\",\"\",IF(Table110[[#This Row],[Returned]]=\"\",0,1))","v":""}]
[{"$nulls":11},{"$f":"IF(IF(Table110[[#This Row],[Disposition]]=\"Retired\",\"N/A\",IF(Table110[[#This Row],[Disposition]]=0,\"\",K14+$F$2))=0+$F$2,\"NEVER CALIBRATED\",IF(Table110[[#This Row],[Disposition]]=\"Retired\",\"N/A\",IF(Table110[[#This Row],[Disposition]]=0,\"\",K14+$F$2)))","v":""},{"$f":"IF(Table110[[#This Row],[Disposition]]=\"\",\"\",IF(AND(Table110[[#This Row],[Next Calibration]]<$E$1,Table110[[#This Row],[Disposition]]=\"Lost\"),\"Find and Calibrate\",IF(Table110[[#This Row],[Disposition]]=\"Lost\",\"Find\",IF(OR(Table110[[#This Row],[Next Calibration]]<$E$1,Table110[[#This Row],[Next Calibration]]=\"NEVER CALIBRATED\"),\"Calibrate\",\"Nominal\"))))","v":""},{"$f":"IF(((Table110[[#This Row],[Next Calibration]]-TODAY())/30)>2,\"More Than 2\",IF(((Table110[[#This Row],[Next Calibration]]-TODAY())/30)>1,\"Between 2 and 1\",\"Less than 1\"))","v":{"$error":"#VALUE!"}},{"$f":"IF(Table110[[#This Row],[Issued]]=\"\",\"\",IF(Table110[[#This Row],[Lent]]=\"\",0,1))","v":""},{"$f":"IF(Table110[[#This Row],[Lent]]=\"\",\"\",IF(Table110[[#This Row],[Returned]]=\"\",0,1))","v":""}]
[{"$nulls":11},{"$f":"IF(IF(Table110[[#This Row],[Disposition]]=\"Retired\",\"N/A\",IF(Table110[[#This Row],[Disposition]]=0,\"\",K15+$F$2))=0+$F$2,\"NEVER CALIBRATED\",IF(Table110[[#This Row],[Disposition]]=\"Retired\",\"N/A\",IF(Table110[[#This Row],[Disposition]]=0,\"\",K15+$F$2)))","v":""},{"$f":"IF(Table110[[#This Row],[Disposition]]=\"\",\"\",IF(AND(Table110[[#This Row],[Next Calibration]]<$E$1,Table110[[#This Row],[Disposition]]=\"Lost\"),\"Find and Calibrate\",IF(Table110[[#This Row],[Disposition]]=\"Lost\",\"Find\",IF(OR(Table110[[#This Row],[Next Calibration]]<$E$1,Table110[[#This Row],[Next Calibration]]=\"NEVER CALIBRATED\"),\"Calibrate\",\"Nominal\"))))","v":""},{"$f":"IF(((Table110[[#This Row],[Next Calibration]]-TODAY())/30)>2,\"More Than 2\",IF(((Table110[[#This Row],[Next Calibration]]-TODAY())/30)>1,\"Between 2 and 1\",\"Less than 1\"))","v":{"$error":"#VALUE!"}},{"$f":"IF(Table110[[#This Row],[Issued]]=\"\",\"\",IF(Table110[[#This Row],[Lent]]=\"\",0,1))","v":""},{"$f":"IF(Table110[[#This Row],[Lent]]=\"\",\"\",IF(Table110[[#This Row],[Returned]]=\"\",0,1))","v":""}]
[{"$nulls":11},{"$f":"IF(IF(Table110[[#This Row],[Disposition]]=\"Retired\",\"N/A\",IF(Table110[[#This Row],[Disposition]]=0,\"\",K16+$F$2))=0+$F$2,\"NEVER CALIBRATED\",IF(Table110[[#This Row],[Disposition]]=\"Retired\",\"N/A\",IF(Table110[[#This Row],[Disposition]]=0,\"\",K16+$F$2)))","v":""},{"$f":"IF(Table110[[#This Row],[Disposition]]=\"\",\"\",IF(AND(Table110[[#This Row],[Next Calibration]]<$E$1,Table110[[#This Row],[Disposition]]=\"Lost\"),\"Find and Calibrate\",IF(Table110[[#This Row],[Disposition]]=\"Lost\",\"Find\",IF(OR(Table110[[#This Row],[Next Calibration]]<$E$1,Table110[[#This Row],[Next Calibration]]=\"NEVER CALIBRATED\"),\"Calibrate\",\"Nominal\"))))","v":""},{"$f":"IF(((Table110[[#This Row],[Next Calibration]]-TODAY())/30)>2,\"More Than 2\",IF(((Table110[[#This Row],[Next Calibration]]-TODAY())/30)>1,\"Between 2 and 1\",\"Less than 1\"))","v":{"$error":"#VALUE!"}},{"$f":"IF(Table110[[#This Row],[Issued]]=\"\",\"\",IF(Table110[[#This Row],[Lent]]=\"\",0,1))","v":""},{"$f":"IF(Table110[[#This Row],[Lent]]=\"\",\"\",IF(Table110[[#This Row],[Returned]]=\"\",0,1))","v":""}]
[{"$nulls":11},{"$f":"IF(IF(Table110[[#This Row],[Disposition]]=\"Retired\",\"N/A\",IF(Table110[[#This Row],[Disposition]]=0,\"\",K17+$F$2))=0+$F$2,\"NEVER CALIBRATED\",IF(Table110[[#This Row],[Disposition]]=\"Retired\",\"N/A\",IF(Table110[[#This Row],[Disposition]]=0,\"\",K17+$F$2)))","v":""},{"$f":"IF(Table110[[#This Row],[Disposition]]=\"\",\"\",IF(AND(Table110[[#This Row],[Next Calibration]]<$E$1,Table110[[#This Row],[Disposition]]=\"Lost\"),\"Find and Calibrate\",IF(Table110[[#This Row],[Disposition]]=\"Lost\",\"Find\",IF(OR(Table110[[#This Row],[Next Calibration]]<$E$1,Table110[[#This Row],[Next Calibration]]=\"NEVER CALIBRATED\"),\"Calibrate\",\"Nominal\"))))","v":""},{"$f":"IF(((Table110[[#This Row],[Next Calibration]]-TODAY())/30)>2,\"More Than 2\",IF(((Table110[[#This Row],[Next Calibration]]-TODAY())/30)>1,\"Between 2 and 1\",\"Less than 1\"))","v":{"$error":"#VALUE!"}},{"$f":"IF(Table110[[#This Row],[Issued]]=\"\",\"\",IF(Table110[[#This Row],[Lent]]=\"\",0,1))","v":""},{"$f":"IF(Table110[[#This Row],[Lent]]=\"\",\"\",IF(Table110[[#This Row],[Returned]]=\"\",0,1))","v":""}]
[{"$nulls":11},{"$f":"IF(IF(Table110[[#This Row],[Disposition]]=\"Retired\",\"N/A\",IF(Table110[[#This Row],[Disposition]]=0,\"\",K18+$F$2))=0+$F$2,\"NEVER CALIBRATED\",IF(Table110[[#This Row],[Disposition]]=\"Retired\",\"N/A\",IF(Table110[[#This Row],[Disposition]]=0,\"\",K18+$F$2)))","v":""},{"$f":"IF(Table110[[#This Row],[Disposition]]=\"\",\"\",IF(AND(Table110[[#This Row],[Next Calibration]]<$E$1,Table110[[#This Row],[Disposition]]=\"Lost\"),\"Find and Calibrate\",IF(Table110[[#This Row],[Disposition]]=\"Lost\",\"Find\",IF(OR(Table110[[#This Row],[Next Calibration]]<$E$1,Table110[[#This Row],[Next Calibration]]=\"NEVER CALIBRATED\"),\"Calibrate\",\"Nominal\"))))","v":""},{"$f":"IF(((Table110[[#This Row],[Next Calibration]]-TODAY())/30)>2,\"More Than 2\",IF(((Table110[[#This Row],[Next Calibration]]-TODAY())/30)>1,\"Between 2 and 1\",\"Less than 1\"))","v":{"$error":"#VALUE!"}},{"$f":"IF(Table110[[#This Row],[Issued]]=\"\",\"\",IF(Table110[[#This Row],[Lent]]=\"\",0,1))","v":""},{"$f":"IF(Table110[[#This Row],[Lent]]=\"\",\"\",IF(Table110[[#This Row],[Returned]]=\"\",0,1))","v":""}]
[{"$nulls":11},{"$f":"IF(IF(Table110[[#This Row],[Disposition]]=\"Retired\",\"N/A\",IF(Table110[[#This Row],[Disposition]]=0,\"\",K19+$F$2))=0+$F$2,\"NEVER CALIBRATED\",IF(Table110[[#This Row],[Disposition]]=\"Retired\",\"N/A\",IF(Table110[[#This Row],[Disposition]]=0,\"\",K19+$F$2)))","v":""},{"$f":"IF(Table110[[#This Row],[Disposition]]=\"\",\"\",IF(AND(Table110[[#This Row],[Next Calibration]]<$E$1,Table110[[#This Row],[Disposition]]=\"Lost\"),\"Find and Calibrate\",IF(Table110[[#This Row],[Disposition]]=\"Lost\",\"Find\",IF(OR(Table110[[#This Row],[Next Calibration]]<$E$1,Table110[[#This Row],[Next Calibration]]=\"NEVER CALIBRATED\"),\"Calibrate\",\"Nominal\"))))","v":""},{"$f":"IF(((Table110[[#This Row],[Next Calibration]]-TODAY())/30)>2,\"More Than 2\",IF(((Table110[[#This Row],[Next Calibration]]-TODAY())/30)>1,\"Between 2 and 1\",\"Less than 1\"))","v":{"$error":"#VALUE!"}},{"$f":"IF(Table110[[#This Row],[Issued]]=\"\",\"\",IF(Table110[[#This Row],[Lent]]=\"\",0,1))","v":""},{"$f":"IF(Table110[[#This Row],[Lent]]=\"\",\"\",IF(Table110[[#This Row],[Returned]]=\"\",0,1))","v":""}]
[{"$nulls":11},{"$f":"IF(IF(Table110[[#This Row],[Disposition]]=\"Retired\",\"N/A\",IF(Table110[[#This Row],[Disposition]]=0,\"\",K20+$F$2))=0+$F$2,\"NEVER CALIBRATED\",IF(Table110[[#This Row],[Disposition]]=\"Retired\",\"N/A\",IF(Table110[[#This Row],[Disposition]]=0,\"\",K20+$F$2)))","v":""},{"$f":"IF(Table110[[#This Row],[Disposition]]=\"\",\"\",IF(AND(Table110[[#This Row],[Next Calibration]]<$E$1,Table110[[#This Row],[Disposition]]=\"Lost\"),\"Find and Calibrate\",IF(Table110[[#This Row],[Disposition]]=\"Lost\",\"Find\",IF(OR(Table110[[#This Row],[Next Calibration]]<$E$1,Table110[[#This Row],[Next Calibration]]=\"NEVER CALIBRATED\"),\"Calibrate\",\"Nominal\"))))","v":""},{"$f":"IF(((Table110[[#This Row],[Next Calibration]]-TODAY())/30)>2,\"More Than 2\",IF(((Table110[[#This Row],[Next Calibration]]-TODAY())/30)>1,\"Between 2 and 1\",\"Less than 1\"))","v":{"$error":"#VALUE!"}},{"$f":"IF(Table110[[#This Row],[Issued]]=\"\",\"\",IF(Table110[[#This Row],[Lent]]=\"\",0,1))","v":""},{"$f":"IF(Table110[[#This Row],[Lent]]=\"\",\"\",IF(Table110[[#This Row],[Returned]]=\"\",0,1))","v":""}]
[{"$nulls":11},{"$f":"IF(IF(Table110[[#This Row],[Disposition]]=\"Retired\",\"N/A\",IF(Table110[[#This Row],[Disposition]]=0,\"\",K21+$F$2))=0+$F$2,\"NEVER CALIBRATED\",IF(Table110[[#This Row],[Disposition]]=\"Retired\",\"N/A\",IF(Table110[[#This Row],[Disposition]]=0,\"\",K21+$F$2)))","v":""},{"$f":"IF(Table110[[#This Row],[Disposition]]=\"\",\"\",IF(AND(Table110[[#This Row],[Next Calibration]]<$E$1,Table110[[#This Row],[Disposition]]=\"Lost\"),\"Find and Calibrate\",IF(Table110[[#This Row],[Disposition]]=\"Lost\",\"Find\",IF(OR(Table110[[#This Row],[Next Calibration]]<$E$1,Table110[[#This Row],[Next Calibration]]=\"NEVER CALIBRATED\"),\"Calibrate\",\"Nominal\"))))","v":""},{"$f":"IF(((Table110[[#This Row],[Next Calibration]]-TODAY())/30)>2,\"More Than 2\",IF(((Table110[[#This Row],[Next Calibration]]-TODAY())/30)>1,\"Between 2 and 1\",\"Less than 1\"))","v":{"$error":"#VALUE!"}},{"$f":"IF(Table110[[#This Row],[Issued]]=\"\",\"\",IF(Table110[[#This Row],[Lent]]=\"\",0,1))","v":""},{"$f":"IF(Table110[[#This Row],[Lent]]=\"\",\"\",IF(Table110[[#This Row],[Returned]]=\"\",0,1))","v":""}]
[{"$nulls":11},{"$f":"IF(IF(Table110[[#This Row],[Disposition]]=\"Retired\",\"N/A\",IF(Table110[[#This Row],[Disposition]]=0,\"\",K22+$F$2))=0+$F$2,\"NEVER CALIBRATED\",IF(Table110[[#This Row],[Disposition]]=\"Retired\",\"N/A\",IF(Table110[[#This Row],[Disposition]]=0,\"\",K22+$F$2)))","v":""},{"$f":"IF(Table110[[#This Row],[Disposition]]=\"\",\"\",IF(AND(Table110[[#This Row],[Next Calibration]]<$E$1,Table110[[#This Row],[Disposition]]=\"Lost\"),\"Find and Calibrate\",IF(Table110[[#This Row],[Disposition]]=\"Lost\",\"Find\",IF(OR(Table110[[#This Row],[Next Calibration]]<$E$1,Table110[[#This Row],[Next Calibration]]=\"NEVER CALIBRATED\"),\"Calibrate\",\"Nominal\"))))","v":""},{"$f":"IF(((Table110[[#This Row],[Next Calibration]]-TODAY())/30)>2,\"More Than 2\",IF(((Table110[[#This Row],[Next Calibration]]-TODAY())/30)>1,\"Between 2 and 1\",\"Less than 1\"))","v":{"$error":"#VALUE!"}},{"$f":"IF(Table110[[#This Row],[Issued]]=\"\",\"\",IF(Table110[[#This Row],[Lent]]=\"\",0,1))","v":""},{"$f":"IF(Table110[[#This Row],[Lent]]=\"\",\"\",IF(Table110[[#This Row],[Returned]]=\"\",0,1))","v":""}]
[{"$nulls":11},{"$f":"IF(IF(Table110[[#This Row],[Disposition]]=\"Retired\",\"N/A\",IF(Table110[[#This Row],[Disposition]]=0,\"\",K23+$F$2))=0+$F$2,\"NEVER CALIBRATED\",IF(Table110[[#This Row],[Disposition]]=\"Retired\",\"N/A\",IF(Table110[[#This Row],[Disposition]]=0,\"\",K23+$F$2)))","v":""},{"$f":"IF(Table110[[#This Row],[Disposition]]=\"\",\"\",IF(AND(Table110[[#This Row],[Next Calibration]]<$E$1,Table110[[#This Row],[Disposition]]=\"Lost\"),\"Find and Calibrate\",IF(Table110[[#This Row],[Disposition]]=\"Lost\",\"Find\",IF(OR(Table110[[#This Row],[Next Calibration]]<$E$1,Table110[[#This Row],[Next Calibration]]=\"NEVER CALIBRATED\"),\"Calibrate\",\"Nominal\"))))","v":""},{"$f":"IF(((Table110[[#This Row],[Next Calibration]]-TODAY())/30)>2,\"More Than 2\",IF(((Table110[[#This Row],[Next Calibration]]-TODAY())/30)>1,\"Between 2 and 1\",\"Less than 1\"))","v":{"$error":"#VALUE!"}},{"$f":"IF(Table110[[#This Row],[Issued]]=\"\",\"\",IF(Table110[[#This Row],[Lent]]=\"\",0,1))","v":""},{"$f":"IF(Table110[[#This Row],[Lent]]=\"\",\"\",IF(Table110[[#This Row],[Returned]]=\"\",0,1))","v":""}]
[{"$nulls":11},{"$f":"IF(IF(Table110[[#This Row],[Disposition]]=\"Retired\",\"N/A\",IF(Table110[[#This Row],[Disposition]]=0,\"\",K24+$F$2))=0+$F$2,\"NEVER CALIBRATED\",IF(Table110[[#This Row],[Disposition]]=\"Retired\",\"N/A\",IF(Table110[[#This Row],[Disposition]]=0,\"\",K24+$F$2)))","v":""},{"$f":"IF(Table110[[#This Row],[Disposition]]=\"\",\"\",IF(AND(Table110[[#This Row],[Next Calibration]]<$E$1,Table110[[#This Row],[Disposition]]=\"Lost\"),\"Find and Calibrate\",IF(Table110[[#This Row],[Disposition]]=\"Lost\",\"Find\",IF(OR(Table110[[#This Row],[Next Calibration]]<$E$1,Table110[[#This Row],[Next Calibration]]=\"NEVER CALIBRATED\"),\"Calibrate\",\"Nominal\"))))","v":""},{"$f":"IF(((Table110[[#This Row],[Next Calibration]]-TODAY())/30)>2,\"More Than 2\",IF(((Table110[[#This Row],[Next Calibration]]-TODAY())/30)>1,\"Between 2 and 1\",\"Less than 1\"))","v":{"$error":"#VALUE!"}},{"$f":"IF(Table110[[#This Row],[Issued]]=\"\",\"\",IF(Table110[[#This Row],[Lent]]=\"\",0,1))","v":""},{"$f":"IF(Table110[[#This Row],[Lent]]=\"\",\"\",IF(Table110[[#This Row],[Returned]]=\"\",0,1))","v":""}]
[{"$nulls":11},{"$f":"IF(IF(Table110[[#This Row],[Disposition]]=\"Retired\",\"N/A\",IF(Table110[[#This Row],[Disposition]]=0,\"\",K25+$F$2))=0+$F$2,\"NEVER CALIBRATED\",IF(Table110[[#This Row],[Disposition]]=\"Retired\",\"N/A\",IF(Table110[[#This Row],[Disposition]]=0,\"\",K25+$F$2)))","v":""},{"$f":"IF(Table110[[#This Row],[Disposition]]=\"\",\"\",IF(AND(Table110[[#This Row],[Next Calibration]]<$E$1,Table110[[#This Row],[Disposition]]=\"Lost\"),\"Find and Calibrate\",IF(Table110[[#This Row],[Disposition]]=\"Lost\",\"Find\",IF(OR(Table110[[#This Row],[Next Calibration]]<$E$1,Table110[[#This Row],[Next Calibration]]=\"NEVER CALIBRATED\"),\"Calibrate\",\"Nominal\"))))","v":""},{"$f":"IF(((Table110[[#This Row],[Next Calibration]]-TODAY())/30)>2,\"More Than 2\",IF(((Table110[[#This Row],[Next Calibration]]-TODAY())/30)>1,\"Between 2 and 1\",\"Less than 1\"))","v":{"$error":"#VALUE!"}},{"$f":"IF(Table110[[#This Row],[Issued]]=\"\",\"\",IF(Table110[[#This Row],[Lent]]=\"\",0,1))","v":""},{"$f":"IF(Table110[[#This Row],[Lent]]=\"\",\"\",IF(Table110[[#This Row],[Returned]]=\"\",0,1))","v":""}]
[{"$nulls":11},{"$f":"IF(IF(Table110[[#This Row],[Disposition]]=\"Retired\",\"N/A\",IF(Table110[[#This Row],[Disposition]]=0,\"\",K26+$F$2))=0+$F$2,\"NEVER CALIBRATED\",IF(Table110[[#This Row],[Disposition]]=\"Retired\",\"N/A\",IF(Table110[[#This Row],[Disposition]]=0,\"\",K26+$F$2)))","v":""},{"$f":"IF(Table110[[#This Row],[Disposition]]=\"\",\"\",IF(AND(Table110[[#This Row],[Next Calibration]]<$E$1,Table110[[#This Row],[Disposition]]=\"Lost\"),\"Find and Calibrate\",IF(Table110[[#This Row],[Disposition]]=\"Lost\",\"Find\",IF(OR(Table110[[#This Row],[Next Calibration]]<$E$1,Table110[[#This Row],[Next Calibration]]=\"NEVER CALIBRATED\"),\"Calibrate\",\"Nominal\"))))","v":""},{"$f":"IF(((Table110[[#This Row],[Next Calibration]]-TODAY())/30)>2,\"More Than 2\",IF(((Table110[[#This Row],[Next Calibration]]-TODAY())/30)>1,\"Between 2 and 1\",\"Less than 1\"))","v":{"$error":"#VALUE!"}},{"$f":"IF(Table110[[#This Row],[Issued]]=\"\",\"\",IF(Table110[[#This Row],[Lent]]=\"\",0,1))","v":""},{"$f":"IF(Table110[[#This Row],[Lent]]=\"\",\"\",IF(Table110[[#This Row],[Returned]]=\"\",0,1))","v":""}]
[{"$nulls":11},{"$f":"IF(IF(Table110[[#This Row],[Disposition]]=\"Retired\",\"N/A\",IF(Table110[[#This Row],[Disposition]]=0,\"\",K27+$F$2))=0+$F$2,\"NEVER CALIBRATED\",IF(Table110[[#This Row],[Disposition]]=\"Retired\",\"N/A\",IF(Table110[[#This Row],[Disposition]]=0,\"\",K27+$F$2)))","v":""},{"$f":"IF(Table110[[#This Row],[Disposition]]=\"\",\"\",IF(AND(Table110[[#This Row],[Next Calibration]]<$E$1,Table110[[#This Row],[Disposition]]=\"Lost\"),\"Find and Calibrate\",IF(Table110[[#This Row],[Disposition]]=\"Lost\",\"Find\",IF(OR(Table110[[#This Row],[Next Calibration]]<$E$1,Table110[[#This Row],[Next Calibration]]=\"NEVER CALIBRATED\"),\"Calibrate\",\"Nominal\"))))","v":""},{"$f":"IF(((Table110[[#This Row],[Next Calibration]]-TODAY())/30)>2,\"More Than 2\",IF(((Table110[[#This Row],[Next Calibration]]-TODAY())/30)>1,\"Between 2 and 1\",\"Less than 1\"))","v":{"$error":"#VALUE!"}},{"$f":"IF(Table110[[#This Row],[Issued]]=\"\",\"\",IF(Table110[[#This Row],[Lent]]=\"\",0,1))","v":""},{"$f":"IF(Table110[[#This Row],[Lent]]=\"\",\"\",IF(Table110[[#This Row],[Returned]]=\"\",0,1))","v":""}]
[{"$nulls":11},{"$f":"IF(IF(Table110[[#This Row],[Disposition]]=\"Retired\",\"N/A\",IF(Table110[[#This Row],[Disposition]]=0,\"\",K28+$F$2))=0+$F$2,\"NEVER CALIBRATED\",IF(Table110[[#This Row],[Disposition]]=\"Retired\",\"N/A\",IF(Table110[[#This Row],[Disposition]]=0,\"\",K28+$F$2)))","v":""},{"$f":"IF(Table110[[#This Row],[Disposition]]=\"\",\"\",IF(AND(Table110[[#This Row],[Next Calibration]]<$E$1,Table110[[#This Row],[Disposition]]=\"Lost\"),\"Find and Calibrate\",IF(Table110[[#This Row],[Disposition]]=\"Lost\",\"Find\",IF(OR(Table110[[#This Row],[Next Calibration]]<$E$1,Table110[[#This Row],[Next Calibration]]=\"NEVER CALIBRATED\"),\"Calibrate\",\"Nominal\"))))","v":""},{"$f":"IF(((Table110[[#This Row],[Next Calibration]]-TODAY())/30)>2,\"More Than 2\",IF(((Table110[[#This Row],[Next Calibration]]-TODAY())/30)>1,\"Between 2 and 1\",\"Less than 1\"))","v":{"$error":"#VALUE!"}},{"$f":"IF(Table110[[#This Row],[Issued]]=\"\",\"\",IF(Table110[[#This Row],[Lent]]=\"\",0,1))","v":""},{"$f":"IF(Table110[[#This Row],[Lent]]=\"\",\"\",IF(Table110[[#This Row],[Returned]]=\"\",0,1))","v":""}]
[{"$nulls":11},{"$f":"IF(IF(Table110[[#This Row],[Disposition]]=\"Retired\",\"N/A\",IF(Table110[[#This Row],[Disposition]]=0,\"\",K29+$F$2))=0+$F$2,\"NEVER CALIBRATED\",IF(Table110[[#This Row],[Disposition]]=\"Retired\",\"N/A\",IF(Table110[[#This Row],[Disposition]]=0,\"\",K29+$F$2)))","v":""},{"$f":"IF(Table110[[#This Row],[Disposition]]=\"\",\"\",IF(AND(Table110[[#This Row],[Next Calibration]]<$E$1,Table110[[#This Row],[Disposition]]=\"Lost\"),\"Find and Calibrate\",IF(Table110[[#This Row],[Disposition]]=\"Lost\",\"Find\",IF(OR(Table110[[#This Row],[Next Calibration]]<$E$1,Table110[[#This Row],[Next Calibration]]=\"NEVER CALIBRATED\"),\"Calibrate\",\"Nominal\"))))","v":""},{"$f":"IF(((Table110[[#This Row],[Next Calibration]]-TODAY())/30)>2,\"More Than 2\",IF(((Table110[[#This Row],[Next Calibration]]-TODAY())/30)>1,\"Between 2 and 1\",\"Less than 1\"))","v":{"$error":"#VALUE!"}},{"$f":"IF(Table110[[#This Row],[Issued]]=\"\",\"\",IF(Table110[[#This Row],[Lent]]=\"\",0,1))","v":""},{"$f":"IF(Table110[[#This Row],[Lent]]=\"\",\"\",IF(Table110[[#This Row],[Returned]]=\"\",0,1))","v":""}]
[{"$nulls":11},{"$f":"IF(IF(Table110[[#This Row],[Disposition]]=\"Retired\",\"N/A\",IF(Table110[[#This Row],[Disposition]]=0,\"\",K30+$F$2))=0+$F$2,\"NEVER CALIBRATED\",IF(Table110[[#This Row],[Disposition]]=\"Retired\",\"N/A\",IF(Table110[[#This Row],[Disposition]]=0,\"\",K30+$F$2)))","v":""},{"$f":"IF(Table110[[#This Row],[Disposition]]=\"\",\"\",IF(AND(Table110[[#This Row],[Next Calibration]]<$E$1,Table110[[#This Row],[Disposition]]=\"Lost\"),\"Find and Calibrate\",IF(Table110[[#This Row],[Disposition]]=\"Lost\",\"Find\",IF(OR(Table110[[#This Row],[Next Calibration]]<$E$1,Table110[[#This Row],[Next Calibration]]=\"NEVER CALIBRATED\"),\"Calibrate\",\"Nominal\"))))","v":""},{"$f":"IF(((Table110[[#This Row],[Next Calibration]]-TODAY())/30)>2,\"More Than 2\",IF(((Table110[[#This Row],[Next Calibration]]-TODAY())/30)>1,\"Between 2 and 1\",\"Less than 1\"))","v":{"$error":"#VALUE!"}},{"$f":"IF(Table110[[#This Row],[Issued]]=\"\",\"\",IF(Table110[[#This Row],[Lent]]=\"\",0,1))","v":""},{"$f":"IF(Table110[[#This Row],[Lent]]=\"\",\"\",IF(Table110[[#This Row],[Returned]]=\"\",0,1))","v":""}]
[{"$nulls":11},{"$f":"IF(IF(Table110[[#This Row],[Disposition]]=\"Retired\",\"N/A\",IF(Table110[[#This Row],[Disposition]]=0,\"\",K31+$F$2))=0+$F$2,\"NEVER CALIBRATED\",IF(Table110[[#This Row],[Disposition]]=\"Retired\",\"N/A\",IF(Table110[[#This Row],[Disposition]]=0,\"\",K31+$F$2)))","v":""},{"$f":"IF(Table110[[#This Row],[Disposition]]=\"\",\"\",IF(AND(Table110[[#This Row],[Next Calibration]]<$E$1,Table110[[#This Row],[Disposition]]=\"Lost\"),\"Find and Calibrate\",IF(Table110[[#This Row],[Disposition]]=\"Lost\",\"Find\",IF(OR(Table110[[#This Row],[Next Calibration]]<$E$1,Table110[[#This Row],[Next Calibration]]=\"NEVER CALIBRATED\"),\"Calibrate\",\"Nominal\"))))","v":""},{"$f":"IF(((Table110[[#This Row],[Next Calibration]]-TODAY())/30)>2,\"More Than 2\",IF(((Table110[[#This Row],[Next Calibration]]-TODAY())/30)>1,\"Between 2 and 1\",\"Less than 1\"))","v":{"$error":"#VALUE!"}},{"$f":"IF(Table110[[#This Row],[Issued]]=\"\",\"\",IF(Table110[[#This Row],[Lent]]=\"\",0,1))","v":""},{"$f":"IF(Table110[[#This Row],[Lent]]=\"\",\"\",IF(Table110[[#This Row],[Returned]]=\"\",0,1))","v":""}]
[{"$nulls":11},{"$f":"IF(IF(Table110[[#This Row],[Disposition]]=\"Retired\",\"N/A\",IF(Table110[[#This Row],[Disposition]]=0,\"\",K32+$F$2))=0+$F$2,\"NEVER CALIBRATED\",IF(Table110[[#This Row],[Disposition]]=\"Retired\",\"N/A\",IF(Table110[[#This Row],[Disposition]]=0,\"\",K32+$F$2)))","v":""},{"$f":"IF(Table110[[#This Row],[Disposition]]=\"\",\"\",IF(AND(Table110[[#This Row],[Next Calibration]]<$E$1,Table110[[#This Row],[Disposition]]=\"Lost\"),\"Find and Calibrate\",IF(Table110[[#This Row],[Disposition]]=\"Lost\",\"Find\",IF(OR(Table110[[#This Row],[Next Calibration]]<$E$1,Table110[[#This Row],[Next Calibration]]=\"NEVER CALIBRATED\"),\"Calibrate\",\"Nominal\"))))","v":""},{"$f":"IF(((Table110[[#This Row],[Next Calibration]]-TODAY())/30)>2,\"More Than 2\",IF(((Table110[[#This Row],[Next Calibration]]-TODAY())/30)>1,\"Between 2 and 1\",\"Less than 1\"))","v":{"$error":"#VALUE!"}},{"$f":"IF(Table110[[#This Row],[Issued]]=\"\",\"\",IF(Table110[[#This Row],[Lent]]=\"\",0,1))","v":""},{"$f":"IF(Table110[[#This Row],[Lent]]=\"\",\"\",IF(Table110[[#This Row],[Returned]]=\"\",0,1))","v":""}]
[{"$nulls":11},{"$f":"IF(IF(Table110[[#This Row],[Disposition]]=\"Retired\",\"N/A\",IF(Table110[[#This Row],[Disposition]]=0,\"\",K33+$F$2))=0+$F$2,\"NEVER CALIBRATED\",IF(Table110[[#This Row],[Disposition]]=\"Retired\",\"N/A\",IF(Table110[[#This Row],[Disposition]]=0,\"\",K33+$F$2)))","v":""},{"$f":"IF(Table110[[#This Row],[Disposition]]=\"\",\"\",IF(AND(Table110[[#This Row],[Next Calibration]]<$E$1,Table110[[#This Row],[Disposition]]=\"Lost\"),\"Find and Calibrate\",IF(Table110[[#This Row],[Disposition]]=\"Lost\",\"Find\",IF(OR(Table110[[#This Row],[Next Calibration]]<$E$1,Table110[[#This Row],[Next Calibration]]=\"NEVER CALIBRATED\"),\"Calibrate\",\"Nominal\"))))","v":""},{"$f":"IF(((Table110[[#This Row],[Next Calibration]]-TODAY())/30)>2,\"More Than 2\",IF(((Table110[[#This Row],[Next Calibration]]-TODAY())/30)>1,\"Between 2 and 1\",\"Less than 1\"))","v":{"$error":"#VALUE!"}},{"$f":"IF(Table110[[#This Row],[Issued]]=\"\",\"\",IF(Table110[[#This Row],[Lent]]=\"\",0,1))","v":""},{"$f":"IF(Table110[[#This Row],[Lent]]=\"\",\"\",IF(Table110[[#This Row],[Returned]]=\"\",0,1))","v":""}]
[{"$nulls":11},{"$f":"IF(IF(Table110[[#This Row],[Disposition]]=\"Retired\",\"N/A\",IF(Table110[[#This Row],[Disposition]]=0,\"\",K34+$F$2))=0+$F$2,\"NEVER CALIBRATED\",IF(Table110[[#This Row],[Disposition]]=\"Retired\",\"N/A\",IF(Table110[[#This Row],[Disposition]]=0,\"\",K34+$F$2)))","v":""},{"$f":"IF(Table110[[#This Row],[Disposition]]=\"\",\"\",IF(AND(Table110[[#This Row],[Next Calibration]]<$E$1,Table110[[#This Row],[Disposition]]=\"Lost\"),\"Find and Calibrate\",IF(Table110[[#This Row],[Disposition]]=\"Lost\",\"Find\",IF(OR(Table110[[#This Row],[Next Calibration]]<$E$1,Table110[[#This Row],[Next Calibration]]=\"NEVER CALIBRATED\"),\"Calibrate\",\"Nominal\"))))","v":""},{"$f":"IF(((Table110[[#This Row],[Next Calibration]]-TODAY())/30)>2,\"More Than 2\",IF(((Table110[[#This Row],[Next Calibration]]-TODAY())/30)>1,\"Between 2 and 1\",\"Less than 1\"))","v":{"$error":"#VALUE!"}},{"$f":"IF(Table110[[#This Row],[Issued]]=\"\",\"\",IF(Table110[[#This Row],[Lent]]=\"\",0,1))","v":""},{"$f":"IF(Table110[[#This Row],[Lent]]=\"\",\"\",IF(Table110[[#This Row],[Returned]]=\"\",0,1))","v":""}]
[{"$nulls":11},{"$f":"IF(IF(Table110[[#This Row],[Disposition]]=\"Retired\",\"N/A\",IF(Table110[[#This Row],[Disposition]]=0,\"\",K35+$F$2))=0+$F$2,\"NEVER CALIBRATED\",IF(Table110[[#This Row],[Disposition]]=\"Retired\",\"N/A\",IF(Table110[[#This Row],[Disposition]]=0,\"\",K35+$F$2)))","v":""},{"$f":"IF(Table110[[#This Row],[Disposition]]=\"\",\"\",IF(AND(Table110[[#This Row],[Next Calibration]]<$E$1,Table110[[#This Row],[Disposition]]=\"Lost\"),\"Find and Calibrate\",IF(Table110[[#This Row],[Disposition]]=\"Lost\",\"Find\",IF(OR(Table110[[#This Row],[Next Calibration]]<$E$1,Table110[[#This Row],[Next Calibration]]=\"NEVER CALIBRATED\"),\"Calibrate\",\"Nominal\"))))","v":""},{"$f":"IF(((Table110[[#This Row],[Next Calibration]]-TODAY())/30)>2,\"More Than 2\",IF(((Table110[[#This Row],[Next Calibration]]-TODAY())/30)>1,\"Between 2 and 1\",\"Less than 1\"))","v":{"$error":"#VALUE!"}},{"$f":"IF(Table110[[#This Row],[Issued]]=\"\",\"\",IF(Table110[[#This Row],[Lent]]=\"\",0,1))","v":""},{"$f":"IF(Table110[[#This Row],[Lent]]=\"\",\"\",IF(Table110[[#This Row],[Returned]]=\"\",0,1))","v":""}]
[{"$nulls":11},{"$f":"IF(IF(Table110[[#This Row],[Disposition]]=\"Retired\",\"N/A\",IF(Table110[[#This Row],[Disposition]]=0,\"\",K36+$F$2))=0+$F$2,\"NEVER CALIBRATED\",IF(Table110[[#This Row],[Disposition]]=\"Retired\",\"N/A\",IF(Table110[[#This Row],[Disposition]]=0,\"\",K36+$F$2)))","v":""},{"$f":"IF(Table110[[#This Row],[Disposition]]=\"\",\"\",IF(AND(Table110[[#This Row],[Next Calibration]]<$E$1,Table110[[#This Row],[Disposition]]=\"Lost\"),\"Find and Calibrate\",IF(Table110[[#This Row],[Disposition]]=\"Lost\",\"Find\",IF(OR(Table110[[#This Row],[Next Calibration]]<$E$1,Table110[[#This Row],[Next Calibration]]=\"NEVER CALIBRATED\"),\"Calibrate\",\"Nominal\"))))","v":""},{"$f":"IF(((Table110[[#This Row],[Next Calibration]]-TODAY())/30)>2,\"More Than 2\",IF(((Table110[[#This Row],[Next Calibration]]-TODAY())/30)>1,\"Between 2 and 1\",\"Less than 1\"))","v":{"$error":"#VALUE!"}},{"$f":"IF(Table110[[#This Row],[Issued]]=\"\",\"\",IF(Table110[[#This Row],[Lent]]=\"\",0,1))","v":""},{"$f":"IF(Table110[[#This Row],[Lent]]=\"\",\"\",IF(Table110[[#This Row],[Returned]]=\"\",0,1))","v":""}]
[{"$nulls":11},{"$f":"IF(IF(Table110[[#This Row],[Disposition]]=\"Retired\",\"N/A\",IF(Table110[[#This Row],[Disposition]]=0,\"\",K37+$F$2))=0+$F$2,\"NEVER CALIBRATED\",IF(Table110[[#This Row],[Disposition]]=\"Retired\",\"N/A\",IF(Table110[[#This Row],[Disposition]]=0,\"\",K37+$F$2)))","v":""},{"$f":"IF(Table110[[#This Row],[Disposition]]=\"\",\"\",IF(AND(Table110[[#This Row],[Next Calibration]]<$E$1,Table110[[#This Row],[Disposition]]=\"Lost\"),\"Find and Calibrate\",IF(Table110[[#This Row],[Disposition]]=\"Lost\",\"Find\",IF(OR(Table110[[#This Row],[Next Calibration]]<$E$1,Table110[[#This Row],[Next Calibration]]=\"NEVER CALIBRATED\"),\"Calibrate\",\"Nominal\"))))","v":""},{"$f":"IF(((Table110[[#This Row],[Next Calibration]]-TODAY())/30)>2,\"More Than 2\",IF(((Table110[[#This Row],[Next Calibration]]-TODAY())/30)>1,\"Between 2 and 1\",\"Less than 1\"))","v":{"$error":"#VALUE!"}},{"$f":"IF(Table110[[#This Row],[Issued]]=\"\",\"\",IF(Table110[[#This Row],[Lent]]=\"\",0,1))","v":""},{"$f":"IF(Table110[[#This Row],[Lent]]=\"\",\"\",IF(Table110[[#This Row],[Returned]]=\"\",0,1))","v":""}]
[{"$nulls":11},{"$f":"IF(IF(Table110[[#This Row],[Disposition]]=\"Retired\",\"N/A\",IF(Table110[[#This Row],[Disposition]]=0,\"\",K38+$F$2))=0+$F$2,\"NEVER CALIBRATED\",IF(Table110[[#This Row],[Disposition]]=\"Retired\",\"N/A\",IF(Table110[[#This Row],[Disposition]]=0,\"\",K38+$F$2)))","v":""},{"$f":"IF(Table110[[#This Row],[Disposition]]=\"\",\"\",IF(AND(Table110[[#This Row],[Next Calibration]]<$E$1,Table110[[#This Row],[Disposition]]=\"Lost\"),\"Find and Calibrate\",IF(Table110[[#This Row],[Disposition]]=\"Lost\",\"Find\",IF(OR(Table110[[#This Row],[Next Calibration]]<$E$1,Table110[[#This Row],[Next Calibration]]=\"NEVER CALIBRATED\"),\"Calibrate\",\"Nominal\"))))","v":""},{"$f":"IF(((Table110[[#This Row],[Next Calibration]]-TODAY())/30)>2,\"More Than 2\",IF(((Table110[[#This Row],[Next Calibration]]-TODAY())/30)>1,\"Between 2 and 1\",\"Less than 1\"))","v":{"$error":"#VALUE!"}},{"$f":"IF(Table110[[#This Row],[Issued]]=\"\",\"\",IF(Table110[[#This Row],[Lent]]=\"\",0,1))","v":""},{"$f":"IF(Table110[[#This Row],[Lent]]=\"\",\"\",IF(Table110[[#This Row],[Returned]]=\"\",0,1))","v":""}]
[{"$nulls":11},{"$f":"IF(IF(Table110[[#This Row],[Disposition]]=\"Retired\",\"N/A\",IF(Table110[[#This Row],[Disposition]]=0,\"\",K39+$F$2))=0+$F$2,\"NEVER CALIBRATED\",IF(Table110[[#This Row],[Disposition]]=\"Retired\",\"N/A\",IF(Table110[[#This Row],[Disposition]]=0,\"\",K39+$F$2)))","v":""},{"$f":"IF(Table110[[#This Row],[Disposition]]=\"\",\"\",IF(AND(Table110[[#This Row],[Next Calibration]]<$E$1,Table110[[#This Row],[Disposition]]=\"Lost\"),\"Find and Calibrate\",IF(Table110[[#This Row],[Disposition]]=\"Lost\",\"Find\",IF(OR(Table110[[#This Row],[Next Calibration]]<$E$1,Table110[[#This Row],[Next Calibration]]=\"NEVER CALIBRATED\"),\"Calibrate\",\"Nominal\"))))","v":""},{"$f":"IF(((Table110[[#This Row],[Next Calibration]]-TODAY())/30)>2,\"More Than 2\",IF(((Table110[[#This Row],[Next Calibration]]-TODAY())/30)>1,\"Between 2 and 1\",\"Less than 1\"))","v":{"$error":"#VALUE!"}},{"$f":"IF(Table110[[#This Row],[Issued]]=\"\",\"\",IF(Table110[[#This Row],[Lent]]=\"\",0,1))","v":""},{"$f":"IF(Table110[[#This Row],[Lent]]=\"\",\"\",IF(Table110[[#This Row],[Returned]]=\"\",0,1))","v":""}]
[{"$nulls":11},{"$f":"IF(IF(Table110[[#This Row],[Disposition]]=\"Retired\",\"N/A\",IF(Table110[[#This Row],[Disposition]]=0,\"\",K40+$F$2))=0+$F$2,\"NEVER CALIBRATED\",IF(Table110[[#This Row],[Disposition]]=\"Retired\",\"N/A\",IF(Table110[[#This Row],[Disposition]]=0,\"\",K40+$F$2)))","v":""},{"$f":"IF(Table110[[#This Row],[Disposition]]=\"\",\"\",IF(AND(Table110[[#This Row],[Next Calibration]]<$E$1,Table110[[#This Row],[Disposition]]=\"Lost\"),\"Find and Calibrate\",IF(Table110[[#This Row],[Disposition]]=\"Lost\",\"Find\",IF(OR(Table110[[#This Row],[Next Calibration]]<$E$1,Table110[[#This Row],[Next Calibration]]=\"NEVER CALIBRATED\"),\"Calibrate\",\"Nominal\"))))","v":""},{"$f":"IF(((Table110[[#This Row],[Next Calibration]]-TODAY())/30)>2,\"More Than 2\",IF(((Table110[[#This Row],[Next Calibration]]-TODAY())/30)>1,\"Between 2 and 1\",\"Less than 1\"))","v":{"$error":"#VALUE!"}},{"$f":"IF(Table110[[#This Row],[Issued]]=\"\",\"\",IF(Table110[[#This Row],[Lent]]=\"\",0,1))","v":""},{"$f":"IF(Table110[[#This Row],[Lent]]=\"\",\"\",IF(Table110[[#This Row],[Returned]]=\"\",0,1))","v":""}]
[{"$nulls":11},{"$f":"IF(IF(Table110[[#This Row],[Disposition]]=\"Retired\",\"N/A\",IF(Table110[[#This Row],[Disposition]]=0,\"\",K41+$F$2))=0+$F$2,\"NEVER CALIBRATED\",IF(Table110[[#This Row],[Disposition]]=\"Retired\",\"N/A\",IF(Table110[[#This Row],[Disposition]]=0,\"\",K41+$F$2)))","v":""},{"$f":"IF(Table110[[#This Row],[Disposition]]=\"\",\"\",IF(AND(Table110[[#This Row],[Next Calibration]]<$E$1,Table110[[#This Row],[Disposition]]=\"Lost\"),\"Find and Calibrate\",IF(Table110[[#This Row],[Disposition]]=\"Lost\",\"Find\",IF(OR(Table110[[#This Row],[Next Calibration]]<$E$1,Table110[[#This Row],[Next Calibration]]=\"NEVER CALIBRATED\"),\"Calibrate\",\"Nominal\"))))","v":""},{"$f":"IF(((Table110[[#This Row],[Next Calibration]]-TODAY())/30)>2,\"More Than 2\",IF(((Table110[[#This Row],[Next Calibration]]-TODAY())/30)>1,\"Between 2 and 1\",\"Less than 1\"))","v":{"$error":"#VALUE!"}},{"$f":"IF(Table110[[#This Row],[Issued]]=\"\",\"\",IF(Table110[[#This Row],[Lent]]=\"\",0,1))","v":""},{"$f":"IF(Table110[[#This Row],[Lent]]=\"\",\"\",IF(Table110[[#This Row],[Returned]]=\"\",0,1))","v":""}]
[{"$nulls":11},{"$f":"IF(IF(Table110[[#This Row],[Disposition]]=\"Retired\",\"N/A\",IF(Table110[[#This Row],[Disposition]]=0,\"\",K42+$F$2))=0+$F$2,\"NEVER CALIBRATED\",IF(Table110[[#This Row],[Disposition]]=\"Retired\",\"N/A\",IF(Table110[[#This Row],[Disposition]]=0,\"\",K42+$F$2)))","v":""},{"$f":"IF(Table110[[#This Row],[Disposition]]=\"\",\"\",IF(AND(Table110[[#This Row],[Next Calibration]]<$E$1,Table110[[#This Row],[Disposition]]=\"Lost\"),\"Find and Calibrate\",IF(Table110[[#This Row],[Disposition]]=\"Lost\",\"Find\",IF(OR(Table110[[#This Row],[Next Calibration]]<$E$1,Table110[[#This Row],[Next Calibration]]=\"NEVER CALIBRATED\"),\"Calibrate\",\"Nominal\"))))","v":""},{"$f":"IF(((Table110[[#This Row],[Next Calibration]]-TODAY())/30)>2,\"More Than 2\",IF(((Table110[[#This Row],[Next Calibration]]-TODAY())/30)>1,\"Between 2 and 1\",\"Less than 1\"))","v":{"$error":"#VALUE!"}},{"$f":"IF(Table110[[#This Row],[Issued]]=\"\",\"\",IF(Table110[[#This Row],[Lent]]=\"\",0,1))","v":""},{"$f":"IF(Table110[[#This Row],[Lent]]=\"\",\"\",IF(Table110[[#This Row],[Returned]]=\"\",0,1))","v":""}]
[{"$nulls":11},{"$f":"IF(IF(Table110[[#This Row],[Disposition]]=\"Retired\",\"N/A\",IF(Table110[[#This Row],[Disposition]]=0,\"\",K43+$F$2))=0+$F$2,\"NEVER CALIBRATED\",IF(Table110[[#This Row],[Disposition]]=\"Retired\",\"N/A\",IF(Table110[[#This Row],[Disposition]]=0,\"\",K43+$F$2)))","v":""},{"$f":"IF(Table110[[#This Row],[Disposition]]=\"\",\"\",IF(AND(Table110[[#This Row],[Next Calibration]]<$E$1,Table110[[#This Row],[Disposition]]=\"Lost\"),\"Find and Calibrate\",IF(Table110[[#This Row],[Disposition]]=\"Lost\",\"Find\",IF(OR(Table110[[#This Row],[Next Calibration]]<$E$1,Table110[[#This Row],[Next Calibration]]=\"NEVER CALIBRATED\"),\"Calibrate\",\"Nominal\"))))","v":""},{"$f":"IF(((Table110[[#This Row],[Next Calibration]]-TODAY())/30)>2,\"More Than 2\",IF(((Table110[[#This Row],[Next Calibration]]-TODAY())/30)>1,\"Between 2 and 1\",\"Less than 1\"))","v":{"$error":"#VALUE!"}},{"$f":"IF(Table110[[#This Row],[Issued]]=\"\",\"\",IF(Table110[[#This Row],[Lent]]=\"\",0,1))","v":""},{"$f":"IF(Table110[[#This Row],[Lent]]=\"\",\"\",IF(Table110[[#This Row],[Returned]]=\"\",0,1))","v":""}]
[{"$nulls":11},{"$f":"IF(IF(Table110[[#This Row],[Disposition]]=\"Retired\",\"N/A\",IF(Table110[[#This Row],[Disposition]]=0,\"\",K44+$F$2))=0+$F$2,\"NEVER CALIBRATED\",IF(Table110[[#This Row],[Disposition]]=\"Retired\",\"N/A\",IF(Table110[[#This Row],[Disposition]]=0,\"\",K44+$F$2)))","v":""},{"$f":"IF(Table110[[#This Row],[Disposition]]=\"\",\"\",IF(AND(Table110[[#This Row],[Next Calibration]]<$E$1,Table110[[#This Row],[Disposition]]=\"Lost\"),\"Find and Calibrate\",IF(Table110[[#This Row],[Disposition]]=\"Lost\",\"Find\",IF(OR(Table110[[#This Row],[Next Calibration]]<$E$1,Table110[[#This Row],[Next Calibration]]=\"NEVER CALIBRATED\"),\"Calibrate\",\"Nominal\"))))","v":""},{"$f":"IF(((Table110[[#This Row],[Next Calibration]]-TODAY())/30)>2,\"More Than 2\",IF(((Table110[[#This Row],[Next Calibration]]-TODAY())/30)>1,\"Between 2 and 1\",\"Less than 1\"))","v":{"$error":"#VALUE!"}},{"$f":"IF(Table110[[#This Row],[Issued]]=\"\",\"\",IF(Table110[[#This Row],[Lent]]=\"\",0,1))","v":""},{"$f":"IF(Table110[[#This Row],[Lent]]=\"\",\"\",IF(Table110[[#This Row],[Returned]]=\"\",0,1))","v":""}]
[{"$nulls":11},{"$f":"IF(IF(Table110[[#This Row],[Disposition]]=\"Retired\",\"N/A\",IF(Table110[[#This Row],[Disposition]]=0,\"\",K45+$F$2))=0+$F$2,\"NEVER CALIBRATED\",IF(Table110[[#This Row],[Disposition]]=\"Retired\",\"N/A\",IF(Table110[[#This Row],[Disposition]]=0,\"\",K45+$F$2)))","v":""},{"$f":"IF(Table110[[#This Row],[Disposition]]=\"\",\"\",IF(AND(Table110[[#This Row],[Next Calibration]]<$E$1,Table110[[#This Row],[Disposition]]=\"Lost\"),\"Find and Calibrate\",IF(Table110[[#This Row],[Disposition]]=\"Lost\",\"Find\",IF(OR(Table110[[#This Row],[Next Calibration]]<$E$1,Table110[[#This Row],[Next Calibration]]=\"NEVER CALIBRATED\"),\"Calibrate\",\"Nominal\"))))","v":""},{"$f":"IF(((Table110[[#This Row],[Next Calibration]]-TODAY())/30)>2,\"More Than 2\",IF(((Table110[[#This Row],[Next Calibration]]-TODAY())/30)>1,\"Between 2 and 1\",\"Less than 1\"))","v":{"$error":"#VALUE!"}},{"$f":"IF(Table110[[#This Row],[Issued]]=\"\",\"\",IF(Table110[[#This Row],[Lent]]=\"\",0,1))","v":""},{"$f":"IF(Table110[[#This Row],[Lent]]=\"\",\"\",IF(Table110[[#This Row],[Returned]]=\"\",0,1))","v":""}]
[{"$nulls":11},{"$f":"IF(IF(Table110[[#This Row],[Disposition]]=\"Retired\",\"N/A\",IF(Table110[[#This Row],[Disposition]]=0,\"\",K46+$F$2))=0+$F$2,\"NEVER CALIBRATED\",IF(Table110[[#This Row],[Disposition]]=\"Retired\",\"N/A\",IF(Table110[[#This Row],[Disposition]]=0,\"\",K46+$F$2)))","v":""},{"$f":"IF(Table110[[#This Row],[Disposition]]=\"\",\"\",IF(AND(Table110[[#This Row],[Next Calibration]]<$E$1,Table110[[#This Row],[Disposition]]=\"Lost\"),\"Find and Calibrate\",IF(Table110[[#This Row],[Disposition]]=\"Lost\",\"Find\",IF(OR(Table110[[#This Row],[Next Calibration]]<$E$1,Table110[[#This Row],[Next Calibration]]=\"NEVER CALIBRATED\"),\"Calibrate\",\"Nominal\"))))","v":""},{"$f":"IF(((Table110[[#This Row],[Next Calibration]]-TODAY())/30)>2,\"More Than 2\",IF(((Table110[[#This Row],[Next Calibration]]-TODAY())/30)>1,\"Between 2 and 1\",\"Less than 1\"))","v":{"$error":"#VALUE!"}},{"$f":"IF(Table110[[#This Row],[Issued]]=\"\",\"\",IF(Table110[[#This Row],[Lent]]=\"\",0,1))","v":""},{"$f":"IF(Table110[[#This Row],[Lent]]=\"\",\"\",IF(Table110[[#This Row],[Returned]]=\"\",0,1))","v":""}]
[{"$nulls":11},{"$f":"IF(IF(Table110[[#This Row],[Disposition]]=\"Retired\",\"N/A\",IF(Table110[[#This Row],[Disposition]]=0,\"\",K47+$F$2))=0+$F$2,\"NEVER CALIBRATED\",IF(Table110[[#This Row],[Disposition]]=\"Retired\",\"N/A\",IF(Table110[[#This Row],[Disposition]]=0,\"\",K47+$F$2)))","v":""},{"$f":"IF(Table110[[#This Row],[Disposition]]=\"\",\"\",IF(AND(Table110[[#This Row],[Next Calibration]]<$E$1,Table110[[#This Row],[Disposition]]=\"Lost\"),\"Find and Calibrate\",IF(Table110[[#This Row],[Disposition]]=\"Lost\",\"Find\",IF(OR(Table110[[#This Row],[Next Calibration]]<$E$1,Table110[[#This Row],[Next Calibration]]=\"NEVER CALIBRATED\"),\"Calibrate\",\"Nominal\"))))","v":""},{"$f":"IF(((Table110[[#This Row],[Next Calibration]]-TODAY())/30)>2,\"More Than 2\",IF(((Table110[[#This Row],[Next Calibration]]-TODAY())/30)>1,\"Between 2 and 1\",\"Less than 1\"))","v":{"$error":"#VALUE!"}},{"$f":"IF(Table110[[#This Row],[Issued]]=\"\",\"\",IF(Table110[[#This Row],[Lent]]=\"\",0,1))","v":""},{"$f":"IF(Table110[[#This Row],[Lent]]=\"\",\"\",IF(Table110[[#This Row],[Returned]]=\"\",0,1))","v":""}]
[{"$nulls":11},{"$f":"IF(IF(Table110[[#This Row],[Disposition]]=\"Retired\",\"N/A\",IF(Table110[[#This Row],[Disposition]]=0,\"\",K48+$F$2))=0+$F$2,\"NEVER CALIBRATED\",IF(Table110[[#This Row],[Disposition]]=\"Retired\",\"N/A\",IF(Table110[[#This Row],[Disposition]]=0,\"\",K48+$F$2)))","v":""},{"$f":"IF(Table110[[#This Row],[Disposition]]=\"\",\"\",IF(AND(Table110[[#This Row],[Next Calibration]]<$E$1,Table110[[#This Row],[Disposition]]=\"Lost\"),\"Find and Calibrate\",IF(Table110[[#This Row],[Disposition]]=\"Lost\",\"Find\",IF(OR(Table110[[#This Row],[Next Calibration]]<$E$1,Table110[[#This Row],[Next Calibration]]=\"NEVER CALIBRATED\"),\"Calibrate\",\"Nominal\"))))","v":""},{"$f":"IF(((Table110[[#This Row],[Next Calibration]]-TODAY())/30)>2,\"More Than 2\",IF(((Table110[[#This Row],[Next Calibration]]-TODAY())/30)>1,\"Between 2 and 1\",\"Less than 1\"))","v":{"$error":"#VALUE!"}},{"$f":"IF(Table110[[#This Row],[Issued]]=\"\",\"\",IF(Table110[[#This Row],[Lent]]=\"\",0,1))","v":""},{"$f":"IF(Table110[[#This Row],[Lent]]=\"\",\"\",IF(Table110[[#This Row],[Returned]]=\"\",0,1))","v":""}]
[{"$nulls":11},{"$f":"IF(IF(Table110[[#This Row],[Disposition]]=\"Retired\",\"N/A\",IF(Table110[[#This Row],[Disposition]]=0,\"\",K49+$F$2))=0+$F$2,\"NEVER CALIBRATED\",IF(Table110[[#This Row],[Disposition]]=\"Retired\",\"N/A\",IF(Table110[[#This Row],[Disposition]]=0,\"\",K49+$F$2)))","v":""},{"$f":"IF(Table110[[#This Row],[Disposition]]=\"\",\"\",IF(AND(Table110[[#This Row],[Next Calibration]]<$E$1,Table110[[#This Row],[Disposition]]=\"Lost\"),\"Find and Calibrate\",IF(Table110[[#This Row],[Disposition]]=\"Lost\",\"Find\",IF(OR(Table110[[#This Row],[Next Calibration]]<$E$1,Table110[[#This Row],[Next Calibration]]=\"NEVER CALIBRATED\"),\"Calibrate\",\"Nominal\"))))","v":""},{"$f":"IF(((Table110[[#This Row],[Next Calibration]]-TODAY())/30)>2,\"More Than 2\",IF(((Table110[[#This Row],[Next Calibration]]-TODAY())/30)>1,\"Between 2 and 1\",\"Less than 1\"))","v":{"$error":"#VALUE!"}},{"$f":"IF(Table110[[#This Row],[Issued]]=\"\",\"\",IF(Table110[[#This Row],[Lent]]=\"\",0,1))","v":""},{"$f":"IF(Table110[[#This Row],[Lent]]=\"\",\"\",IF(Table110[[#This Row],[Returned]]=\"\",0,1))","v":""}]
[{"$nulls":11},{"$f":"IF(IF(Table110[[#This Row],[Disposition]]=\"Retired\",\"N/A\",IF(Table110[[#This Row],[Disposition]]=0,\"\",K50+$F$2))=0+$F$2,\"NEVER CALIBRATED\",IF(Table110[[#This Row],[Disposition]]=\"Retired\",\"N/A\",IF(Table110[[#This Row],[Disposition]]=0,\"\",K50+$F$2)))","v":""},{"$f":"IF(Table110[[#This Row],[Disposition]]=\"\",\"\",IF(AND(Table110[[#This Row],[Next Calibration]]<$E$1,Table110[[#This Row],[Disposition]]=\"Lost\"),\"Find and Calibrate\",IF(Table110[[#This Row],[Disposition]]=\"Lost\",\"Find\",IF(OR(Table110[[#This Row],[Next Calibration]]<$E$1,Table110[[#This Row],[Next Calibration]]=\"NEVER CALIBRATED\"),\"Calibrate\",\"Nominal\"))))","v":""},{"$f":"IF(((Table110[[#This Row],[Next Calibration]]-TODAY())/30)>2,\"More Than 2\",IF(((Table110[[#This Row],[Next Calibration]]-TODAY())/30)>1,\"Between 2 and 1\",\"Less than 1\"))","v":{"$error":"#VALUE!"}},{"$f":"IF(Table110[[#This Row],[Issued]]=\"\",\"\",IF(Table110[[#This Row],[Lent]]=\"\",0,1))","v":""},{"$f":"IF(Table110[[#This Row],[Lent]]=\"\",\"\",IF(Table110[[#This Row],[Returned]]=\"\",0,1))","v":""}]
[{"$nulls":11},{"$f":"IF(IF(Table110[[#This Row],[Disposition]]=\"Retired\",\"N/A\",IF(Table110[[#This Row],[Disposition]]=0,\"\",K51+$F$2))=0+$F$2,\"NEVER CALIBRATED\",IF(Table110[[#This Row],[Disposition]]=\"Retired\",\"N/A\",IF(Table110[[#This Row],[Disposition]]=0,\"\",K51+$F$2)))","v":""},{"$f":"IF(Table110[[#This Row],[Disposition]]=\"\",\"\",IF(AND(Table110[[#This Row],[Next Calibration]]<$E$1,Table110[[#This Row],[Disposition]]=\"Lost\"),\"Find and Calibrate\",IF(Table110[[#This Row],[Disposition]]=\"Lost\",\"Find\",IF(OR(Table110[[#This Row],[Next Calibration]]<$E$1,Table110[[#This Row],[Next Calibration]]=\"NEVER CALIBRATED\"),\"Calibrate\",\"Nominal\"))))","v":""},{"$f":"IF(((Table110[[#This Row],[Next Calibration]]-TODAY())/30)>2,\"More Than 2\",IF(((Table110[[#This Row],[Next Calibration]]-TODAY())/30)>1,\"Between 2 and 1\",\"Less than 1\"))","v":{"$error":"#VALUE!"}},{"$f":"IF(Table110[[#This Row],[Issued]]=\"\",\"\",IF(Table110[[#This Row],[Lent]]=\"\",0,1))","v":""},{"$f":"IF(Table110[[#This Row],[Lent]]=\"\",\"\",IF(Table110[[#This Row],[Returned]]=\"\",0,1))","v":""}]
[{"$nulls":11},{"$f":"IF(IF(Table110[[#This Row],[Disposition]]=\"Retired\",\"N/A\",IF(Table110[[#This Row],[Disposition]]=0,\"\",K52+$F$2))=0+$F$2,\"NEVER CALIBRATED\",IF(Table110[[#This Row],[Disposition]]=\"Retired\",\"N/A\",IF(Table110[[#This Row],[Disposition]]=0,\"\",K52+$F$2)))","v":""},{"$f":"IF(Table110[[#This Row],[Disposition]]=\"\",\"\",IF(AND(Table110[[#This Row],[Next Calibration]]<$E$1,Table110[[#This Row],[Disposition]]=\"Lost\"),\"Find and Calibrate\",IF(Table110[[#This Row],[Disposition]]=\"Lost\",\"Find\",IF(OR(Table110[[#This Row],[Next Calibration]]<$E$1,Table110[[#This Row],[Next Calibration]]=\"NEVER CALIBRATED\"),\"Calibrate\",\"Nominal\"))))","v":""},{"$f":"IF(((Table110[[#This Row],[Next Calibration]]-TODAY())/30)>2,\"More Than 2\",IF(((Table110[[#This Row],[Next Calibration]]-TODAY())/30)>1,\"Between 2 and 1\",\"Less than 1\"))","v":{"$error":"#VALUE!"}},{"$f":"IF(Table110[[#This Row],[Issued]]=\"\",\"\",IF(Table110[[#This Row],[Lent]]=\"\",0,1))","v":""},{"$f":"IF(Table110[[#This Row],[Lent]]=\"\",\"\",IF(Table110[[#This Row],[Returned]]=\"\",0,1))","v":""}]
[{"$nulls":11},{"$f":"IF(IF(Table110[[#This Row],[Disposition]]=\"Retired\",\"N/A\",IF(Table110[[#This Row],[Disposition]]=0,\"\",K53+$F$2))=0+$F$2,\"NEVER CALIBRATED\",IF(Table110[[#This Row],[Disposition]]=\"Retired\",\"N/A\",IF(Table110[[#This Row],[Disposition]]=0,\"\",K53+$F$2)))","v":""},{"$f":"IF(Table110[[#This Row],[Disposition]]=\"\",\"\",IF(AND(Table110[[#This Row],[Next Calibration]]<$E$1,Table110[[#This Row],[Disposition]]=\"Lost\"),\"Find and Calibrate\",IF(Table110[[#This Row],[Disposition]]=\"Lost\",\"Find\",IF(OR(Table110[[#This Row],[Next Calibration]]<$E$1,Table110[[#This Row],[Next Calibration]]=\"NEVER CALIBRATED\"),\"Calibrate\",\"Nominal\"))))","v":""},{"$f":"IF(((Table110[[#This Row],[Next Calibration]]-TODAY())/30)>2,\"More Than 2\",IF(((Table110[[#This Row],[Next Calibration]]-TODAY())/30)>1,\"Between 2 and 1\",\"Less than 1\"))","v":{"$error":"#VALUE!"}},{"$f":"IF(Table110[[#This Row],[Issued]]=\"\",\"\",IF(Table110[[#This Row],[Lent]]=\"\",0,1))","v":""},{"$f":"IF(Table110[[#This Row],[Lent]]=\"\",\"\",IF(Table110[[#This Row],[Returned]]=\"\",0,1))","v":""}]
[{"$nulls":11},{"$f":"IF(IF(Table110[[#This Row],[Disposition]]=\"Retired\",\"N/A\",IF(Table110[[#This Row],[Disposition]]=0,\"\",K54+$F$2))=0+$F$2,\"NEVER CALIBRATED\",IF(Table110[[#This Row],[Disposition]]=\"Retired\",\"N/A\",IF(Table110[[#This Row],[Disposition]]=0,\"\",K54+$F$2)))","v":""},{"$f":"IF(Table110[[#This Row],[Disposition]]=\"\",\"\",IF(AND(Table110[[#This Row],[Next Calibration]]<$E$1,Table110[[#This Row],[Disposition]]=\"Lost\"),\"Find and Calibrate\",IF(Table110[[#This Row],[Disposition]]=\"Lost\",\"Find\",IF(OR(Table110[[#This Row],[Next Calibration]]<$E$1,Table110[[#This Row],[Next Calibration]]=\"NEVER CALIBRATED\"),\"Calibrate\",\"Nominal\"))))","v":""},{"$f":"IF(((Table110[[#This Row],[Next Calibration]]-TODAY())/30)>2,\"More Than 2\",IF(((Table110[[#This Row],[Next Calibration]]-TODAY())/30)>1,\"Between 2 and 1\",\"Less than 1\"))","v":{"$error":"#VALUE!"}},{"$f":"IF(Table110[[#This Row],[Issued]]=\"\",\"\",IF(Table110[[#This Row],[Lent]]=\"\",0,1))","v":""},{"$f":"IF(Table110[[#This Row],[Lent]]=\"\",\"\",IF(Table110[[#This Row],[Returned]]=\"\",0,1))","v":""}]
[{"$nulls":11},{"$f":"IF(IF(Table110[[#This Row],[Disposition]]=\"Retired\",\"N/A\",IF(Table110[[#This Row],[Disposition]]=0,\"\",K55+$F$2))=0+$F$2,\"NEVER CALIBRATED\",IF(Table110[[#This Row],[Disposition]]=\"Retired\",\"N/A\",IF(Table110[[#This Row],[Disposition]]=0,\"\",K55+$F$2)))","v":""},{"$f":"IF(Table110[[#This Row],[Disposition]]=\"\",\"\",IF(AND(Table110[[#This Row],[Next Calibration]]<$E$1,Table110[[#This Row],[Disposition]]=\"Lost\"),\"Find and Calibrate\",IF(Table110[[#This Row],[Disposition]]=\"Lost\",\"Find\",IF(OR(Table110[[#This Row],[Next Calibration]]<$E$1,Table110[[#This Row],[Next Calibration]]=\"NEVER CALIBRATED\"),\"Calibrate\",\"Nominal\"))))","v":""},{"$f":"IF(((Table110[[#This Row],[Next Calibration]]-TODAY())/30)>2,\"More Than 2\",IF(((Table110[[#This Row],[Next Calibration]]-TODAY())/30)>1,\"Between 2 and 1\",\"Less than 1\"))","v":{"$error":"#VALUE!"}},{"$f":"IF(Table110[[#This Row],[Issued]]=\"\",\"\",IF(Table110[[#This Row],[Lent]]=\"\",0,1))","v":""},{"$f":"IF(Table110[[#This Row],[Lent]]=\"\",\"\",IF(Table110[[#This Row],[Returned]]=\"\",0,1))","v":""}]
[{"$nulls":11},{"$f":"IF(IF(Table110[[#This Row],[Disposition]]=\"Retired\",\"N/A\",IF(Table110[[#This Row],[Disposition]]=0,\"\",K56+$F$2))=0+$F$2,\"NEVER CALIBRATED\",IF(Table110[[#This Row],[Disposition]]=\"Retired\",\"N/A\",IF(Table110[[#This Row],[Disposition]]=0,\"\",K56+$F$2)))","v":""},{"$f":"IF(Table110[[#This Row],[Disposition]]=\"\",\"\",IF(AND(Table110[[#This Row],[Next Calibration]]<$E$1,Table110[[#This Row],[Disposition]]=\"Lost\"),\"Find and Calibrate\",IF(Table110[[#This Row],[Disposition]]=\"Lost\",\"Find\",IF(OR(Table110[[#This Row],[Next Calibration]]<$E$1,Table110[[#This Row],[Next Calibration]]=\"NEVER CALIBRATED\"),\"Calibrate\",\"Nominal\"))))","v":""},{"$f":"IF(((Table110[[#This Row],[Next Calibration]]-TODAY())/30)>2,\"More Than 2\",IF(((Table110[[#This Row],[Next Calibration]]-TODAY())/30)>1,\"Between 2 and 1\",\"Less than 1\"))","v":{"$error":"#VALUE!"}},{"$f":"IF(Table110[[#This Row],[Issued]]=\"\",\"\",IF(Table110[[#This Row],[Lent]]=\"\",0,1))","v":""},{"$f":"IF(Table110[[#This Row],[Lent]]=\"\",\"\",IF(Table110[[#This Row],[Returned]]=\"\",0,1))","v":""}]
[{"$nulls":11},{"$f":"IF(IF(Table110[[#This Row],[Disposition]]=\"Retired\",\"N/A\",IF(Table110[[#This Row],[Disposition]]=0,\"\",K57+$F$2))=0+$F$2,\"NEVER CALIBRATED\",IF(Table110[[#This Row],[Disposition]]=\"Retired\",\"N/A\",IF(Table110[[#This Row],[Disposition]]=0,\"\",K57+$F$2)))","v":""},{"$f":"IF(Table110[[#This Row],[Disposition]]=\"\",\"\",IF(AND(Table110[[#This Row],[Next Calibration]]<$E$1,Table110[[#This Row],[Disposition]]=\"Lost\"),\"Find and Calibrate\",IF(Table110[[#This Row],[Disposition]]=\"Lost\",\"Find\",IF(OR(Table110[[#This Row],[Next Calibration]]<$E$1,Table110[[#This Row],[Next Calibration]]=\"NEVER CALIBRATED\"),\"Calibrate\",\"Nominal\"))))","v":""},{"$f":"IF(((Table110[[#This Row],[Next Calibration]]-TODAY())/30)>2,\"More Than 2\",IF(((Table110[[#This Row],[Next Calibration]]-TODAY())/30)>1,\"Between 2 and 1\",\"Less than 1\"))","v":{"$error":"#VALUE!"}},{"$f":"IF(Table110[[#This Row],[Issued]]=\"\",\"\",IF(Table110[[#This Row],[Lent]]=\"\",0,1))","v":""},{"$f":"IF(Table110[[#This Row],[Lent]]=\"\",\"\",IF(Table110[[#This Row],[Returned]]=\"\",0,1))","v":""}]
[{"$nulls":11},{"$f":"IF(IF(Table110[[#This Row],[Disposition]]=\"Retired\",\"N/A\",IF(Table110[[#This Row],[Disposition]]=0,\"\",K58+$F$2))=0+$F$2,\"NEVER CALIBRATED\",IF(Table110[[#This Row],[Disposition]]=\"Retired\",\"N/A\",IF(Table110[[#This Row],[Disposition]]=0,\"\",K58+$F$2)))","v":""},{"$f":"IF(Table110[[#This Row],[Disposition]]=\"\",\"\",IF(AND(Table110[[#This Row],[Next Calibration]]<$E$1,Table110[[#This Row],[Disposition]]=\"Lost\"),\"Find and Calibrate\",IF(Table110[[#This Row],[Disposition]]=\"Lost\",\"Find\",IF(OR(Table110[[#This Row],[Next Calibration]]<$E$1,Table110[[#This Row],[Next Calibration]]=\"NEVER CALIBRATED\"),\"Calibrate\",\"Nominal\"))))","v":""},{"$f":"IF(((Table110[[#This Row],[Next Calibration]]-TODAY())/30)>2,\"More Than 2\",IF(((Table110[[#This Row],[Next Calibration]]-TODAY())/30)>1,\"Between 2 and 1\",\"Less than 1\"))","v":{"$error":"#VALUE!"}},{"$f":"IF(Table110[[#This Row],[Issued]]=\"\",\"\",IF(Table110[[#This Row],[Lent]]=\"\",0,1))","v":""},{"$f":"IF(Table110[[#This Row],[Lent]]=\"\",\"\",IF(Table110[[#This Row],[Returned]]=\"\",0,1))","v":""}]
[{"$nulls":11},{"$f":"IF(IF(Table110[[#This Row],[Disposition]]=\"Retired\",\"N/A\",IF(Table110[[#This Row],[Disposition]]=0,\"\",K59+$F$2))=0+$F$2,\"NEVER CALIBRATED\",IF(Table110[[#This Row],[Disposition]]=\"Retired\",\"N/A\",IF(Table110[[#This Row],[Disposition]]=0,\"\",K59+$F$2)))","v":""},{"$f":"IF(Table110[[#This Row],[Disposition]]=\"\",\"\",IF(AND(Table110[[#This Row],[Next Calibration]]<$E$1,Table110[[#This Row],[Disposition]]=\"Lost\"),\"Find and Calibrate\",IF(Table110[[#This Row],[Disposition]]=\"Lost\",\"Find\",IF(OR(Table110[[#This Row],[Next Calibration]]<$E$1,Table110[[#This Row],[Next Calibration]]=\"NEVER CALIBRATED\"),\"Calibrate\",\"Nominal\"))))","v":""},{"$f":"IF(((Table110[[#This Row],[Next Calibration]]-TODAY())/30)>2,\"More Than 2\",IF(((Table110[[#This Row],[Next Calibration]]-TODAY())/30)>1,\"Between 2 and 1\",\"Less than 1\"))","v":{"$error":"#VALUE!"}},{"$f":"IF(Table110[[#This Row],[Issued]]=\"\",\"\",IF(Table110[[#This Row],[Lent]]=\"\",0,1))","v":""},{"$f":"IF(Table110[[#This Row],[Lent]]=\"\",\"\",IF(Table110[[#This Row],[Returned]]=\"\",0,1))","v":""}]
[{"$nulls":11},{"$f":"IF(IF(Table110[[#This Row],[Disposition]]=\"Retired\",\"N/A\",IF(Table110[[#This Row],[Disposition]]=0,\"\",K60+$F$2))=0+$F$2,\"NEVER CALIBRATED\",IF(Table110[[#This Row],[Disposition]]=\"Retired\",\"N/A\",IF(Table110[[#This Row],[Disposition]]=0,\"\",K60+$F$2)))","v":""},{"$f":"IF(Table110[[#This Row],[Disposition]]=\"\",\"\",IF(AND(Table110[[#This Row],[Next Calibration]]<$E$1,Table110[[#This Row],[Disposition]]=\"Lost\"),\"Find and Calibrate\",IF(Table110[[#This Row],[Disposition]]=\"Lost\",\"Find\",IF(OR(Table110[[#This Row],[Next Calibration]]<$E$1,Table110[[#This Row],[Next Calibration]]=\"NEVER CALIBRATED\"),\"Calibrate\",\"Nominal\"))))","v":""},{"$f":"IF(((Table110[[#This Row],[Next Calibration]]-TODAY())/30)>2,\"More Than 2\",IF(((Table110[[#This Row],[Next Calibration]]-TODAY())/30)>1,\"Between 2 and 1\",\"Less than 1\"))","v":{"$error":"#VALUE!"}},{"$f":"IF(Table110[[#This Row],[Issued]]=\"\",\"\",IF(Table110[[#This Row],[Lent]]=\"\",0,1))","v":""},{"$f":"IF(Table110[[#This Row],[Lent]]=\"\",\"\",IF(Table110[[#This Row],[Returned]]=\"\",0,1))","v":""}]
[{"$nulls":11},{"$f":"IF(IF(Table110[[#This Row],[Disposition]]=\"Retired\",\"N/A\",IF(Table110[[#This Row],[Disposition]]=0,\"\",K61+$F$2))=0+$F$2,\"NEVER CALIBRATED\",IF(Table110[[#This Row],[Disposition]]=\"Retired\",\"N/A\",IF(Table110[[#This Row],[Disposition]]=0,\"\",K61+$F$2)))","v":""},{"$f":"IF(Table110[[#This Row],[Disposition]]=\"\",\"\",IF(AND(Table110[[#This Row],[Next Calibration]]<$E$1,Table110[[#This Row],[Disposition]]=\"Lost\"),\"Find and Calibrate\",IF(Table110[[#This Row],[Disposition]]=\"Lost\",\"Find\",IF(OR(Table110[[#This Row],[Next Calibration]]<$E$1,Table110[[#This Row],[Next Calibration]]=\"NEVER CALIBRATED\"),\"Calibrate\",\"Nominal\"))))","v":""},{"$f":"IF(((Table110[[#This Row],[Next Calibration]]-TODAY())/30)>2,\"More Than 2\",IF(((Table110[[#This Row],[Next Calibration]]-TODAY())/30)>1,\"Between 2 and 1\",\"Less than 1\"))","v":{"$error":"#VALUE!"}},{"$f":"IF(Table110[[#This Row],[Issued]]=\"\",\"\",IF(Table110[[#This Row],[Lent]]=\"\",0,1))","v":""},{"$f":"IF(Table110[[#This Row],[Lent]]=\"\",\"\",IF(Table110[[#This Row],[Returned]]=\"\",0,1))","v":""}]
[{"$nulls":11},{"$f":"IF(IF(Table110[[#This Row],[Disposition]]=\"Retired\",\"N/A\",IF(Table110[[#This Row],[Disposition]]=0,\"\",K62+$F$2))=0+$F$2,\"NEVER CALIBRATED\",IF(Table110[[#This Row],[Disposition]]=\"Retired\",\"N/A\",IF(Table110[[#This Row],[Disposition]]=0,\"\",K62+$F$2)))","v":""},{"$f":"IF(Table110[[#This Row],[Disposition]]=\"\",\"\",IF(AND(Table110[[#This Row],[Next Calibration]]<$E$1,Table110[[#This Row],[Disposition]]=\"Lost\"),\"Find and Calibrate\",IF(Table110[[#This Row],[Disposition]]=\"Lost\",\"Find\",IF(OR(Table110[[#This Row],[Next Calibration]]<$E$1,Table110[[#This Row],[Next Calibration]]=\"NEVER CALIBRATED\"),\"Calibrate\",\"Nominal\"))))","v":""},{"$f":"IF(((Table110[[#This Row],[Next Calibration]]-TODAY())/30)>2,\"More Than 2\",IF(((Table110[[#This Row],[Next Calibration]]-TODAY())/30)>1,\"Between 2 and 1\",\"Less than 1\"))","v":{"$error":"#VALUE!"}},{"$f":"IF(Table110[[#This Row],[Issued]]=\"\",\"\",IF(Table110[[#This Row],[Lent]]=\"\",0,1))","v":""},{"$f":"IF(Table110[[#This Row],[Lent]]=\"\",\"\",IF(Table110[[#This Row],[Returned]]=\"\",0,1))","v":""}]
[{"$nulls":11},{"$f":"IF(IF(Table110[[#This Row],[Disposition]]=\"Retired\",\"N/A\",IF(Table110[[#This Row],[Disposition]]=0,\"\",K63+$F$2))=0+$F$2,\"NEVER CALIBRATED\",IF(Table110[[#This Row],[Disposition]]=\"Retired\",\"N/A\",IF(Table110[[#This Row],[Disposition]]=0,\"\",K63+$F$2)))","v":""},{"$f":"IF(Table110[[#This Row],[Disposition]]=\"\",\"\",IF(AND(Table110[[#This Row],[Next Calibration]]<$E$1,Table110[[#This Row],[Disposition]]=\"Lost\"),\"Find and Calibrate\",IF(Table110[[#This Row],[Disposition]]=\"Lost\",\"Find\",IF(OR(Table110[[#This Row],[Next Calibration]]<$E$1,Table110[[#This Row],[Next Calibration]]=\"NEVER CALIBRATED\"),\"Calibrate\",\"Nominal\"))))","v":""},{"$f":"IF(((Table110[[#This Row],[Next Calibration]]-TODAY())/30)>2,\"More Than 2\",IF(((Table110[[#This Row],[Next Calibration]]-TODAY())/30)>1,\"Between 2 and 1\",\"Less than 1\"))","v":{"$error":"#VALUE!"}},{"$f":"IF(Table110[[#This Row],[Issued]]=\"\",\"\",IF(Table110[[#This Row],[Lent]]=\"\",0,1))","v":""},{"$f":"IF(Table110[[#This Row],[Lent]]=\"\",\"\",IF(Table110[[#This Row],[Returned]]=\"\",0,1))","v":""}]
[{"$nulls":11},{"$f":"IF(IF(Table110[[#This Row],[Disposition]]=\"Retired\",\"N/A\",IF(Table110[[#This Row],[Disposition]]=0,\"\",K64+$F$2))=0+$F$2,\"NEVER CALIBRATED\",IF(Table110[[#This Row],[Disposition]]=\"Retired\",\"N/A\",IF(Table110[[#This Row],[Disposition]]=0,\"\",K64+$F$2)))","v":""},{"$f":"IF(Table110[[#This Row],[Disposition]]=\"\",\"\",IF(AND(Table110[[#This Row],[Next Calibration]]<$E$1,Table110[[#This Row],[Disposition]]=\"Lost\"),\"Find and Calibrate\",IF(Table110[[#This Row],[Disposition]]=\"Lost\",\"Find\",IF(OR(Table110[[#This Row],[Next Calibration]]<$E$1,Table110[[#This Row],[Next Calibration]]=\"NEVER CALIBRATED\"),\"Calibrate\",\"Nominal\"))))","v":""},{"$f":"IF(((Table110[[#This Row],[Next Calibration]]-TODAY())/30)>2,\"More Than 2\",IF(((Table110[[#This Row],[Next Calibration]]-TODAY())/30)>1,\"Between 2 and 1\",\"Less than 1\"))","v":{"$error":"#VALUE!"}},{"$f":"IF(Table110[[#This Row],[Issued]]=\"\",\"\",IF(Table110[[#This Row],[Lent]]=\"\",0,1))","v":""},{"$f":"IF(Table110[[#This Row],[Lent]]=\"\",\"\",IF(Table110[[#This Row],[Returned]]=\"\",0,1))","v":""}]
[{"$nulls":11},{"$f":"IF(IF(Table110[[#This Row],[Disposition]]=\"Retired\",\"N/A\",IF(Table110[[#This Row],[Disposition]]=0,\"\",K65+$F$2))=0+$F$2,\"NEVER CALIBRATED\",IF(Table110[[#This Row],[Disposition]]=\"Retired\",\"N/A\",IF(Table110[[#This Row],[Disposition]]=0,\"\",K65+$F$2)))","v":""},{"$f":"IF(Table110[[#This Row],[Disposition]]=\"\",\"\",IF(AND(Table110[[#This Row],[Next Calibration]]<$E$1,Table110[[#This Row],[Disposition]]=\"Lost\"),\"Find and Calibrate\",IF(Table110[[#This Row],[Disposition]]=\"Lost\",\"Find\",IF(OR(Table110[[#This Row],[Next Calibration]]<$E$1,Table110[[#This Row],[Next Calibration]]=\"NEVER CALIBRATED\"),\"Calibrate\",\"Nominal\"))))","v":""},{"$f":"IF(((Table110[[#This Row],[Next Calibration]]-TODAY())/30)>2,\"More Than 2\",IF(((Table110[[#This Row],[Next Calibration]]-TODAY())/30)>1,\"Between 2 and 1\",\"Less than 1\"))","v":{"$error":"#VALUE!"}},{"$f":"IF(Table110[[#This Row],[Issued]]=\"\",\"\",IF(Table110[[#This Row],[Lent]]=\"\",0,1))","v":""},{"$f":"IF(Table110[[#This Row],[Lent]]=\"\",\"\",IF(Table110[[#This Row],[Returned]]=\"\",0,1))","v":""}]
[{"$nulls":11},{"$f":"IF(IF(Table110[[#This Row],[Disposition]]=\"Retired\",\"N/A\",IF(Table110[[#This Row],[Disposition]]=0,\"\",K66+$F$2))=0+$F$2,\"NEVER CALIBRATED\",IF(Table110[[#This Row],[Disposition]]=\"Retired\",\"N/A\",IF(Table110[[#This Row],[Disposition]]=0,\"\",K66+$F$2)))","v":""},{"$f":"IF(Table110[[#This Row],[Disposition]]=\"\",\"\",IF(AND(Table110[[#This Row],[Next Calibration]]<$E$1,Table110[[#This Row],[Disposition]]=\"Lost\"),\"Find and Calibrate\",IF(Table110[[#This Row],[Disposition]]=\"Lost\",\"Find\",IF(OR(Table110[[#This Row],[Next Calibration]]<$E$1,Table110[[#This Row],[Next Calibration]]=\"NEVER CALIBRATED\"),\"Calibrate\",\"Nominal\"))))","v":""},{"$f":"IF(((Table110[[#This Row],[Next Calibration]]-TODAY())/30)>2,\"More Than 2\",IF(((Table110[[#This Row],[Next Calibration]]-TODAY())/30)>1,\"Between 2 and 1\",\"Less than 1\"))","v":{"$error":"#VALUE!"}},{"$f":"IF(Table110[[#This Row],[Issued]]=\"\",\"\",IF(Table110[[#This Row],[Lent]]=\"\",0,1))","v":""},{"$f":"IF(Table110[[#This Row],[Lent]]=\"\",\"\",IF(Table110[[#This Row],[Returned]]=\"\",0,1))","v":""}]
[{"$nulls":11},{"$f":"IF(IF(Table110[[#This Row],[Disposition]]=\"Retired\",\"N/A\",IF(Table110[[#This Row],[Disposition]]=0,\"\",K67+$F$2))=0+$F$2,\"NEVER CALIBRATED\",IF(Table110[[#This Row],[Disposition]]=\"Retired\",\"N/A\",IF(Table110[[#This Row],[Disposition]]=0,\"\",K67+$F$2)))","v":""},{"$f":"IF(Table110[[#This Row],[Disposition]]=\"\",\"\",IF(AND(Table110[[#This Row],[Next Calibration]]<$E$1,Table110[[#This Row],[Disposition]]=\"Lost\"),\"Find and Calibrate\",IF(Table110[[#This Row],[Disposition]]=\"Lost\",\"Find\",IF(OR(Table110[[#This Row],[Next Calibration]]<$E$1,Table110[[#This Row],[Next Calibration]]=\"NEVER CALIBRATED\"),\"Calibrate\",\"Nominal\"))))","v":""},{"$f":"IF(((Table110[[#This Row],[Next Calibration]]-TODAY())/30)>2,\"More Than 2\",IF(((Table110[[#This Row],[Next Calibration]]-TODAY())/30)>1,\"Between 2 and 1\",\"Less than 1\"))","v":{"$error":"#VALUE!"}},{"$f":"IF(Table110[[#This Row],[Issued]]=\"\",\"\",IF(Table110[[#This Row],[Lent]]=\"\",0,1))","v":""},{"$f":"IF(Table110[[#This Row],[Lent]]=\"\",\"\",IF(Table110[[#This Row],[Returned]]=\"\",0,1))","v":""}]
[{"$nulls":11},{"$f":"IF(IF(Table110[[#This Row],[Disposition]]=\"Retired\",\"N/A\",IF(Table110[[#This Row],[Disposition]]=0,\"\",K68+$F$2))=0+$F$2,\"NEVER CALIBRATED\",IF(Table110[[#This Row],[Disposition]]=\"Retired\",\"N/A\",IF(Table110[[#This Row],[Disposition]]=0,\"\",K68+$F$2)))","v":""},{"$f":"IF(Table110[[#This Row],[Disposition]]=\"\",\"\",IF(AND(Table110[[#This Row],[Next Calibration]]<$E$1,Table110[[#This Row],[Disposition]]=\"Lost\"),\"Find and Calibrate\",IF(Table110[[#This Row],[Disposition]]=\"Lost\",\"Find\",IF(OR(Table110[[#This Row],[Next Calibration]]<$E$1,Table110[[#This Row],[Next Calibration]]=\"NEVER CALIBRATED\"),\"Calibrate\",\"Nominal\"))))","v":""},{"$f":"IF(((Table110[[#This Row],[Next Calibration]]-TODAY())/30)>2,\"More Than 2\",IF(((Table110[[#This Row],[Next Calibration]]-TODAY())/30)>1,\"Between 2 and 1\",\"Less than 1\"))","v":{"$error":"#VALUE!"}},{"$f":"IF(Table110[[#This Row],[Issued]]=\"\",\"\",IF(Table110[[#This Row],[Lent]]=\"\",0,1))","v":""},{"$f":"IF(Table110[[#This Row],[Lent]]=\"\",\"\",IF(Table110[[#This Row],[Returned]]=\"\",0,1))","v":""}]
[{"$nulls":11},{"$f":"IF(IF(Table110[[#This Row],[Disposition]]=\"Retired\",\"N/A\",IF(Table110[[#This Row],[Disposition]]=0,\"\",K69+$F$2))=0+$F$2,\"NEVER CALIBRATED\",IF(Table110[[#This Row],[Disposition]]=\"Retired\",\"N/A\",IF(Table110[[#This Row],[Disposition]]=0,\"\",K69+$F$2)))","v":""},{"$f":"IF(Table110[[#This Row],[Disposition]]=\"\",\"\",IF(AND(Table110[[#This Row],[Next Calibration]]<$E$1,Table110[[#This Row],[Disposition]]=\"Lost\"),\"Find and Calibrate\",IF(Table110[[#This Row],[Disposition]]=\"Lost\",\"Find\",IF(OR(Table110[[#This Row],[Next Calibration]]<$E$1,Table110[[#This Row],[Next Calibration]]=\"NEVER CALIBRATED\"),\"Calibrate\",\"Nominal\"))))","v":""},{"$f":"IF(((Table110[[#This Row],[Next Calibration]]-TODAY())/30)>2,\"More Than 2\",IF(((Table110[[#This Row],[Next Calibration]]-TODAY())/30)>1,\"Between 2 and 1\",\"Less than 1\"))","v":{"$error":"#VALUE!"}},{"$f":"IF(Table110[[#This Row],[Issued]]=\"\",\"\",IF(Table110[[#This Row],[Lent]]=\"\",0,1))","v":""},{"$f":"IF(Table110[[#This Row],[Lent]]=\"\",\"\",IF(Table110[[#This Row],[Returned]]=\"\",0,1))","v":""}]
[{"$nulls":11},{"$f":"IF(IF(Table110[[#This Row],[Disposition]]=\"Retired\",\"N/A\",IF(Table110[[#This Row],[Disposition]]=0,\"\",K70+$F$2))=0+$F$2,\"NEVER CALIBRATED\",IF(Table110[[#This Row],[Disposition]]=\"Retired\",\"N/A\",IF(Table110[[#This Row],[Disposition]]=0,\"\",K70+$F$2)))","v":""},{"$f":"IF(Table110[[#This Row],[Disposition]]=\"\",\"\",IF(AND(Table110[[#This Row],[Next Calibration]]<$E$1,Table110[[#This Row],[Disposition]]=\"Lost\"),\"Find and Calibrate\",IF(Table110[[#This Row],[Disposition]]=\"Lost\",\"Find\",IF(OR(Table110[[#This Row],[Next Calibration]]<$E$1,Table110[[#This Row],[Next Calibration]]=\"NEVER CALIBRATED\"),\"Calibrate\",\"Nominal\"))))","v":""},{"$f":"IF(((Table110[[#This Row],[Next Calibration]]-TODAY())/30)>2,\"More Than 2\",IF(((Table110[[#This Row],[Next Calibration]]-TODAY())/30)>1,\"Between 2 and 1\",\"Less than 1\"))","v":{"$error":"#VALUE!"}},{"$f":"IF(Table110[[#This Row],[Issued]]=\"\",\"\",IF(Table110[[#This Row],[Lent]]=\"\",0,1))","v":""},{"$f":"IF(Table110[[#This Row],[Lent]]=\"\",\"\",IF(Table110[[#This Row],[Returned]]=\"\",0,1))","v":""}]
[{"$nulls":11},{"$f":"IF(IF(Table110[[#This Row],[Disposition]]=\"Retired\",\"N/A\",IF(Table110[[#This Row],[Disposition]]=0,\"\",K71+$F$2))=0+$F$2,\"NEVER CALIBRATED\",IF(Table110[[#This Row],[Disposition]]=\"Retired\",\"N/A\",IF(Table110[[#This Row],[Disposition]]=0,\"\",K71+$F$2)))","v":""},{"$f":"IF(Table110[[#This Row],[Disposition]]=\"\",\"\",IF(AND(Table110[[#This Row],[Next Calibration]]<$E$1,Table110[[#This Row],[Disposition]]=\"Lost\"),\"Find and Calibrate\",IF(Table110[[#This Row],[Disposition]]=\"Lost\",\"Find\",IF(OR(Table110[[#This Row],[Next Calibration]]<$E$1,Table110[[#This Row],[Next Calibration]]=\"NEVER CALIBRATED\"),\"Calibrate\",\"Nominal\"))))","v":""},{"$f":"IF(((Table110[[#This Row],[Next Calibration]]-TODAY())/30)>2,\"More Than 2\",IF(((Table110[[#This Row],[Next Calibration]]-TODAY())/30)>1,\"Between 2 and 1\",\"Less than 1\"))","v":{"$error":"#VALUE!"}},{"$f":"IF(Table110[[#This Row],[Issued]]=\"\",\"\",IF(Table110[[#This Row],[Lent]]=\"\",0,1))","v":""},{"$f":"IF(Table110[[#This Row],[Lent]]=\"\",\"\",IF(Table110[[#This Row],[Returned]]=\"\",0,1))","v":""}]
[{"$nulls":11},{"$f":"IF(IF(Table110[[#This Row],[Disposition]]=\"Retired\",\"N/A\",IF(Table110[[#This Row],[Disposition]]=0,\"\",K72+$F$2))=0+$F$2,\"NEVER CALIBRATED\",IF(Table110[[#This Row],[Disposition]]=\"Retired\",\"N/A\",IF(Table110[[#This Row],[Disposition]]=0,\"\",K72+$F$2)))","v":""},{"$f":"IF(Table110[[#This Row],[Disposition]]=\"\",\"\",IF(AND(Table110[[#This Row],[Next Calibration]]<$E$1,Table110[[#This Row],[Disposition]]=\"Lost\"),\"Find and Calibrate\",IF(Table110[[#This Row],[Disposition]]=\"Lost\",\"Find\",IF(OR(Table110[[#This Row],[Next Calibration]]<$E$1,Table110[[#This Row],[Next Calibration]]=\"NEVER CALIBRATED\"),\"Calibrate\",\"Nominal\"))))","v":""},{"$f":"IF(((Table110[[#This Row],[Next Calibration]]-TODAY())/30)>2,\"More Than 2\",IF(((Table110[[#This Row],[Next Calibration]]-TODAY())/30)>1,\"Between 2 and 1\",\"Less than 1\"))","v":{"$error":"#VALUE!"}},{"$f":"IF(Table110[[#This Row],[Issued]]=\"\",\"\",IF(Table110[[#This Row],[Lent]]=\"\",0,1))","v":""},{"$f":"IF(Table110[[#This Row],[Lent]]=\"\",\"\",IF(Table110[[#This Row],[Returned]]=\"\",0,1))","v":""}]
[{"$nulls":11},{"$f":"IF(IF(Table110[[#This Row],[Disposition]]=\"Retired\",\"N/A\",IF(Table110[[#This Row],[Disposition]]=0,\"\",K73+$F$2))=0+$F$2,\"NEVER CALIBRATED\",IF(Table110[[#This Row],[Disposition]]=\"Retired\",\"N/A\",IF(Table110[[#This Row],[Disposition]]=0,\"\",K73+$F$2)))","v":""},{"$f":"IF(Table110[[#This Row],[Disposition]]=\"\",\"\",IF(AND(Table110[[#This Row],[Next Calibration]]<$E$1,Table110[[#This Row],[Disposition]]=\"Lost\"),\"Find and Calibrate\",IF(Table110[[#This Row],[Disposition]]=\"Lost\",\"Find\",IF(OR(Table110[[#This Row],[Next Calibration]]<$E$1,Table110[[#This Row],[Next Calibration]]=\"NEVER CALIBRATED\"),\"Calibrate\",\"Nominal\"))))","v":""},{"$f":"IF(((Table110[[#This Row],[Next Calibration]]-TODAY())/30)>2,\"More Than 2\",IF(((Table110[[#This Row],[Next Calibration]]-TODAY())/30)>1,\"Between 2 and 1\",\"Less than 1\"))","v":{"$error":"#VALUE!"}},{"$f":"IF(Table110[[#This Row],[Issued]]=\"\",\"\",IF(Table110[[#This Row],[Lent]]=\"\",0,1))","v":""},{"$f":"IF(Table110[[#This Row],[Lent]]=\"\",\"\",IF(Table110[[#This Row],[Returned]]=\"\",0,1))","v":""}]
[{"$nulls":11},{"$f":"IF(IF(Table110[[#This Row],[Disposition]]=\"Retired\",\"N/A\",IF(Table110[[#This Row],[Disposition]]=0,\"\",K74+$F$2))=0+$F$2,\"NEVER CALIBRATED\",IF(Table110[[#This Row],[Disposition]]=\"Retired\",\"N/A\",IF(Table110[[#This Row],[Disposition]]=0,\"\",K74+$F$2)))","v":""},{"$f":"IF(Table110[[#This Row],[Disposition]]=\"\",\"\",IF(AND(Table110[[#This Row],[Next Calibration]]<$E$1,Table110[[#This Row],[Disposition]]=\"Lost\"),\"Find and Calibrate\",IF(Table110[[#This Row],[Disposition]]=\"Lost\",\"Find\",IF(OR(Table110[[#This Row],[Next Calibration]]<$E$1,Table110[[#This Row],[Next Calibration]]=\"NEVER CALIBRATED\"),\"Calibrate\",\"Nominal\"))))","v":""},{"$f":"IF(((Table110[[#This Row],[Next Calibration]]-TODAY())/30)>2,\"More Than 2\",IF(((Table110[[#This Row],[Next Calibration]]-TODAY())/30)>1,\"Between 2 and 1\",\"Less than 1\"))","v":{"$error":"#VALUE!"}},{"$f":"IF(Table110[[#This Row],[Issued]]=\"\",\"\",IF(Table110[[#This Row],[Lent]]=\"\",0,1))","v":""},{"$f":"IF(Table110[[#This Row],[Lent]]=\"\",\"\",IF(Table110[[#This Row],[Returned]]=\"\",0,1))","v":""}]
[{"$nulls":11},{"$f":"IF(IF(Table110[[#This Row],[Disposition]]=\"Retired\",\"N/A\",IF(Table110[[#This Row],[Disposition]]=0,\"\",K75+$F$2))=0+$F$2,\"NEVER CALIBRATED\",IF(Table110[[#This Row],[Disposition]]=\"Retired\",\"N/A\",IF(Table110[[#This Row],[Disposition]]=0,\"\",K75+$F$2)))","v":""},{"$f":"IF(Table110[[#This Row],[Disposition]]=\"\",\"\",IF(AND(Table110[[#This Row],[Next Calibration]]<$E$1,Table110[[#This Row],[Disposition]]=\"Lost\"),\"Find and Calibrate\",IF(Table110[[#This Row],[Disposition]]=\"Lost\",\"Find\",IF(OR(Table110[[#This Row],[Next Calibration]]<$E$1,Table110[[#This Row],[Next Calibration]]=\"NEVER CALIBRATED\"),\"Calibrate\",\"Nominal\"))))","v":""},{"$f":"IF(((Table110[[#This Row],[Next Calibration]]-TODAY())/30)>2,\"More Than 2\",IF(((Table110[[#This Row],[Next Calibration]]-TODAY())/30)>1,\"Between 2 and 1\",\"Less than 1\"))","v":{"$error":"#VALUE!"}},{"$f":"IF(Table110[[#This Row],[Issued]]=\"\",\"\",IF(Table110[[#This Row],[Lent]]=\"\",0,1))","v":""},{"$f":"IF(Table110[[#This Row],[Lent]]=\"\",\"\",IF(Table110[[#This Row],[Returned]]=\"\",0,1))","v":""}]
[{"$nulls":11},{"$f":"IF(IF(Table110[[#This Row],[Disposition]]=\"Retired\",\"N/A\",IF(Table110[[#This Row],[Disposition]]=0,\"\",K76+$F$2))=0+$F$2,\"NEVER CALIBRATED\",IF(Table110[[#This Row],[Disposition]]=\"Retired\",\"N/A\",IF(Table110[[#This Row],[Disposition]]=0,\"\",K76+$F$2)))","v":""},{"$f":"IF(Table110[[#This Row],[Disposition]]=\"\",\"\",IF(AND(Table110[[#This Row],[Next Calibration]]<$E$1,Table110[[#This Row],[Disposition]]=\"Lost\"),\"Find and Calibrate\",IF(Table110[[#This Row],[Disposition]]=\"Lost\",\"Find\",IF(OR(Table110[[#This Row],[Next Calibration]]<$E$1,Table110[[#This Row],[Next Calibration]]=\"NEVER CALIBRATED\"),\"Calibrate\",\"Nominal\"))))","v":""},{"$f":"IF(((Table110[[#This Row],[Next Calibration]]-TODAY())/30)>2,\"More Than 2\",IF(((Table110[[#This Row],[Next Calibration]]-TODAY())/30)>1,\"Between 2 and 1\",\"Less than 1\"))","v":{"$error":"#VALUE!"}},{"$f":"IF(Table110[[#This Row],[Issued]]=\"\",\"\",IF(Table110[[#This Row],[Lent]]=\"\",0,1))","v":""},{"$f":"IF(Table110[[#This Row],[Lent]]=\"\",\"\",IF(Table110[[#This Row],[Returned]]=\"\",0,1))","v":""}]
[{"$nulls":11},{"$f":"IF(IF(Table110[[#This Row],[Disposition]]=\"Retired\",\"N/A\",IF(Table110[[#This Row],[Disposition]]=0,\"\",K77+$F$2))=0+$F$2,\"NEVER CALIBRATED\",IF(Table110[[#This Row],[Disposition]]=\"Retired\",\"N/A\",IF(Table110[[#This Row],[Disposition]]=0,\"\",K77+$F$2)))","v":""},{"$f":"IF(Table110[[#This Row],[Disposition]]=\"\",\"\",IF(AND(Table110[[#This Row],[Next Calibration]]<$E$1,Table110[[#This Row],[Disposition]]=\"Lost\"),\"Find and Calibrate\",IF(Table110[[#This Row],[Disposition]]=\"Lost\",\"Find\",IF(OR(Table110[[#This Row],[Next Calibration]]<$E$1,Table110[[#This Row],[Next Calibration]]=\"NEVER CALIBRATED\"),\"Calibrate\",\"Nominal\"))))","v":""},{"$f":"IF(((Table110[[#This Row],[Next Calibration]]-TODAY())/30)>2,\"More Than 2\",IF(((Table110[[#This Row],[Next Calibration]]-TODAY())/30)>1,\"Between 2 and 1\",\"Less than 1\"))","v":{"$error":"#VALUE!"}},{"$f":"IF(Table110[[#This Row],[Issued]]=\"\",\"\",IF(Table110[[#This Row],[Lent]]=\"\",0,1))","v":""},{"$f":"IF(Table110[[#This Row],[Lent]]=\"\",\"\",IF(Table110[[#This Row],[Returned]]=\"\",0,1))","v":""}]
[{"$nulls":11},{"$f":"IF(IF(Table110[[#This Row],[Disposition]]=\"Retired\",\"N/A\",IF(Table110[[#This Row],[Disposition]]=0,\"\",K78+$F$2))=0+$F$2,\"NEVER CALIBRATED\",IF(Table110[[#This Row],[Disposition]]=\"Retired\",\"N/A\",IF(Table110[[#This Row],[Disposition]]=0,\"\",K78+$F$2)))","v":""},{"$f":"IF(Table110[[#This Row],[Disposition]]=\"\",\"\",IF(AND(Table110[[#This Row],[Next Calibration]]<$E$1,Table110[[#This Row],[Disposition]]=\"Lost\"),\"Find and Calibrate\",IF(Table110[[#This Row],[Disposition]]=\"Lost\",\"Find\",IF(OR(Table110[[#This Row],[Next Calibration]]<$E$1,Table110[[#This Row],[Next Calibration]]=\"NEVER CALIBRATED\"),\"Calibrate\",\"Nominal\"))))","v":""},{"$f":"IF(((Table110[[#This Row],[Next Calibration]]-TODAY())/30)>2,\"More Than 2\",IF(((Table110[[#This Row],[Next Calibration]]-TODAY())/30)>1,\"Between 2 and 1\",\"Less than 1\"))","v":{"$error":"#VALUE!"}},{"$f":"IF(Table110[[#This Row],[Issued]]=\"\",\"\",IF(Table110[[#This Row],[Lent]]=\"\",0,1))","v":""},{"$f":"IF(Table110[[#This Row],[Lent]]=\"\",\"\",IF(Table110[[#This Row],[Returned]]=\"\",0,1))","v":""}]
[{"$nulls":11},{"$f":"IF(IF(Table110[[#This Row],[Disposition]]=\"Retired\",\"N/A\",IF(Table110[[#This Row],[Disposition]]=0,\"\",K79+$F$2))=0+$F$2,\"NEVER CALIBRATED\",IF(Table110[[#This Row],[Disposition]]=\"Retired\",\"N/A\",IF(Table110[[#This Row],[Disposition]]=0,\"\",K79+$F$2)))","v":""},{"$f":"IF(Table110[[#This Row],[Disposition]]=\"\",\"\",IF(AND(Table110[[#This Row],[Next Calibration]]<$E$1,Table110[[#This Row],[Disposition]]=\"Lost\"),\"Find and Calibrate\",IF(Table110[[#This Row],[Disposition]]=\"Lost\",\"Find\",IF(OR(Table110[[#This Row],[Next Calibration]]<$E$1,Table110[[#This Row],[Next Calibration]]=\"NEVER CALIBRATED\"),\"Calibrate\",\"Nominal\"))))","v":""},{"$f":"IF(((Table110[[#This Row],[Next Calibration]]-TODAY())/30)>2,\"More Than 2\",IF(((Table110[[#This Row],[Next Calibration]]-TODAY())/30)>1,\"Between 2 and 1\",\"Less than 1\"))","v":{"$error":"#VALUE!"}},{"$f":"IF(Table110[[#This Row],[Issued]]=\"\",\"\",IF(Table110[[#This Row],[Lent]]=\"\",0,1))","v":""},{"$f":"IF(Table110[[#This Row],[Lent]]=\"\",\"\",IF(Table110[[#This Row],[Returned]]=\"\",0,1))","v":""}]
[{"$nulls":11},{"$f":"IF(IF(Table110[[#This Row],[Disposition]]=\"Retired\",\"N/A\",IF(Table110[[#This Row],[Disposition]]=0,\"\",K80+$F$2))=0+$F$2,\"NEVER CALIBRATED\",IF(Table110[[#This Row],[Disposition]]=\"Retired\",\"N/A\",IF(Table110[[#This Row],[Disposition]]=0,\"\",K80+$F$2)))","v":""},{"$f":"IF(Table110[[#This Row],[Disposition]]=\"\",\"\",IF(AND(Table110[[#This Row],[Next Calibration]]<$E$1,Table110[[#This Row],[Disposition]]=\"Lost\"),\"Find and Calibrate\",IF(Table110[[#This Row],[Disposition]]=\"Lost\",\"Find\",IF(OR(Table110[[#This Row],[Next Calibration]]<$E$1,Table110[[#This Row],[Next Calibration]]=\"NEVER CALIBRATED\"),\"Calibrate\",\"Nominal\"))))","v":""},{"$f":"IF(((Table110[[#This Row],[Next Calibration]]-TODAY())/30)>2,\"More Than 2\",IF(((Table110[[#This Row],[Next Calibration]]-TODAY())/30)>1,\"Between 2 and 1\",\"Less than 1\"))","v":{"$error":"#VALUE!"}},{"$f":"IF(Table110[[#This Row],[Issued]]=\"\",\"\",IF(Table110[[#This Row],[Lent]]=\"\",0,1))","v":""},{"$f":"IF(Table110[[#This Row],[Lent]]=\"\",\"\",IF(Table110[[#This Row],[Returned]]=\"\",0,1))","v":""}]
[{"$nulls":11},{"$f":"IF(IF(Table110[[#This Row],[Disposition]]=\"Retired\",\"N/A\",IF(Table110[[#This Row],[Disposition]]=0,\"\",K81+$F$2))=0+$F$2,\"NEVER CALIBRATED\",IF(Table110[[#This Row],[Disposition]]=\"Retired\",\"N/A\",IF(Table110[[#This Row],[Disposition]]=0,\"\",K81+$F$2)))","v":""},{"$f":"IF(Table110[[#This Row],[Disposition]]=\"\",\"\",IF(AND(Table110[[#This Row],[Next Calibration]]<$E$1,Table110[[#This Row],[Disposition]]=\"Lost\"),\"Find and Calibrate\",IF(Table110[[#This Row],[Disposition]]=\"Lost\",\"Find\",IF(OR(Table110[[#This Row],[Next Calibration]]<$E$1,Table110[[#This Row],[Next Calibration]]=\"NEVER CALIBRATED\"),\"Calibrate\",\"Nominal\"))))","v":""},{"$f":"IF(((Table110[[#This Row],[Next Calibration]]-TODAY())/30)>2,\"More Than 2\",IF(((Table110[[#This Row],[Next Calibration]]-TODAY())/30)>1,\"Between 2 and 1\",\"Less than 1\"))","v":{"$error":"#VALUE!"}},{"$f":"IF(Table110[[#This Row],[Issued]]=\"\",\"\",IF(Table110[[#This Row],[Lent]]=\"\",0,1))","v":""},{"$f":"IF(Table110[[#This Row],[Lent]]=\"\",\"\",IF(Table110[[#This Row],[Returned]]=\"\",0,1))","v":""}]
[{"$nulls":11},{"$f":"IF(IF(Table110[[#This Row],[Disposition]]=\"Retired\",\"N/A\",IF(Table110[[#This Row],[Disposition]]=0,\"\",K82+$F$2))=0+$F$2,\"NEVER CALIBRATED\",IF(Table110[[#This Row],[Disposition]]=\"Retired\",\"N/A\",IF(Table110[[#This Row],[Disposition]]=0,\"\",K82+$F$2)))","v":""},{"$f":"IF(Table110[[#This Row],[Disposition]]=\"\",\"\",IF(AND(Table110[[#This Row],[Next Calibration]]<$E$1,Table110[[#This Row],[Disposition]]=\"Lost\"),\"Find and Calibrate\",IF(Table110[[#This Row],[Disposition]]=\"Lost\",\"Find\",IF(OR(Table110[[#This Row],[Next Calibration]]<$E$1,Table110[[#This Row],[Next Calibration]]=\"NEVER CALIBRATED\"),\"Calibrate\",\"Nominal\"))))","v":""},{"$f":"IF(((Table110[[#This Row],[Next Calibration]]-TODAY())/30)>2,\"More Than 2\",IF(((Table110[[#This Row],[Next Calibration]]-TODAY())/30)>1,\"Between 2 and 1\",\"Less than 1\"))","v":{"$error":"#VALUE!"}},{"$f":"IF(Table110[[#This Row],[Issued]]=\"\",\"\",IF(Table110[[#This Row],[Lent]]=\"\",0,1))","v":""},{"$f":"IF(Table110[[#This Row],[Lent]]=\"\",\"\",IF(Table110[[#This Row],[Returned]]=\"\",0,1))","v":""}]
[{"$nulls":11},{"$f":"IF(IF(Table110[[#This Row],[Disposition]]=\"Retired\",\"N/A\",IF(Table110[[#This Row],[Disposition]]=0,\"\",K83+$F$2))=0+$F$2,\"NEVER CALIBRATED\",IF(Table110[[#This Row],[Disposition]]=\"Retired\",\"N/A\",IF(Table110[[#This Row],[Disposition]]=0,\"\",K83+$F$2)))","v":""},{"$f":"IF(Table110[[#This Row],[Disposition]]=\"\",\"\",IF(AND(Table110[[#This Row],[Next Calibration]]<$E$1,Table110[[#This Row],[Disposition]]=\"Lost\"),\"Find and Calibrate\",IF(Table110[[#This Row],[Disposition]]=\"Lost\",\"Find\",IF(OR(Table110[[#This Row],[Next Calibration]]<$E$1,Table110[[#This Row],[Next Calibration]]=\"NEVER CALIBRATED\"),\"Calibrate\",\"Nominal\"))))","v":""},{"$f":"IF(((Table110[[#This Row],[Next Calibration]]-TODAY())/30)>2,\"More Than 2\",IF(((Table110[[#This Row],[Next Calibration]]-TODAY())/30)>1,\"Between 2 and 1\",\"Less than 1\"))","v":{"$error":"#VALUE!"}},{"$f":"IF(Table110[[#This Row],[Issued]]=\"\",\"\",IF(Table110[[#This Row],[Lent]]=\"\",0,1))","v":""},{"$f":"IF(Table110[[#This Row],[Lent]]=\"\",\"\",IF(Table110[[#This Row],[Returned]]=\"\",0,1))","v":""}]
[{"$nulls":11},{"$f":"IF(IF(Table110[[#This Row],[Disposition]]=\"Retired\",\"N/A\",IF(Table110[[#This Row],[Disposition]]=0,\"\",K84+$F$2))=0+$F$2,\"NEVER CALIBRATED\",IF(Table110[[#This Row],[Disposition]]=\"Retired\",\"N/A\",IF(Table110[[#This Row],[Disposition]]=0,\"\",K84+$F$2)))","v":""},{"$f":"IF(Table110[[#This Row],[Disposition]]=\"\",\"\",IF(AND(Table110[[#This Row],[Next Calibration]]<$E$1,Table110[[#This Row],[Disposition]]=\"Lost\"),\"Find and Calibrate\",IF(Table110[[#This Row],[Disposition]]=\"Lost\",\"Find\",IF(OR(Table110[[#This Row],[Next Calibration]]<$E$1,Table110[[#This Row],[Next Calibration]]=\"NEVER CALIBRATED\"),\"Calibrate\",\"Nominal\"))))","v":""},{"$f":"IF(((Table110[[#This Row],[Next Calibration]]-TODAY())/30)>2,\"More Than 2\",IF(((Table110[[#This Row],[Next Calibration]]-TODAY())/30)>1,\"Between 2 and 1\",\"Less than 1\"))","v":{"$error":"#VALUE!"}},{"$f":"IF(Table110[[#This Row],[Issued]]=\"\",\"\",IF(Table110[[#This Row],[Lent]]=\"\",0,1))","v":""},{"$f":"IF(Table110[[#This Row],[Lent]]=\"\",\"\",IF(Table110[[#This Row],[Returned]]=\"\",0,1))","v":""}]
[{"$nulls":11},{"$f":"IF(IF(Table110[[#This Row],[Disposition]]=\"Retired\",\"N/A\",IF(Table110[[#This Row],[Disposition]]=0,\"\",K85+$F$2))=0+$F$2,\"NEVER CALIBRATED\",IF(Table110[[#This Row],[Disposition]]=\"Retired\",\"N/A\",IF(Table110[[#This Row],[Disposition]]=0,\"\",K85+$F$2)))","v":""},{"$f":"IF(Table110[[#This Row],[Disposition]]=\"\",\"\",IF(AND(Table110[[#This Row],[Next Calibration]]<$E$1,Table110[[#This Row],[Disposition]]=\"Lost\"),\"Find and Calibrate\",IF(Table110[[#This Row],[Disposition]]=\"Lost\",\"Find\",IF(OR(Table110[[#This Row],[Next Calibration]]<$E$1,Table110[[#This Row],[Next Calibration]]=\"NEVER CALIBRATED\"),\"Calibrate\",\"Nominal\"))))","v":""},{"$f":"IF(((Table110[[#This Row],[Next Calibration]]-TODAY())/30)>2,\"More Than 2\",IF(((Table110[[#This Row],[Next Calibration]]-TODAY())/30)>1,\"Between 2 and 1\",\"Less than 1\"))","v":{"$error":"#VALUE!"}},{"$f":"IF(Table110[[#This Row],[Issued]]=\"\",\"\",IF(Table110[[#This Row],[Lent]]=\"\",0,1))","v":""},{"$f":"IF(Table110[[#This Row],[Lent]]=\"\",\"\",IF(Table110[[#This Row],[Returned]]=\"\",0,1))","v":""}]
[{"$nulls":11},{"$f":"IF(IF(Table110[[#This Row],[Disposition]]=\"Retired\",\"N/A\",IF(Table110[[#This Row],[Disposition]]=0,\"\",K86+$F$2))=0+$F$2,\"NEVER CALIBRATED\",IF(Table110[[#This Row],[Disposition]]=\"Retired\",\"N/A\",IF(Table110[[#This Row],[Disposition]]=0,\"\",K86+$F$2)))","v":""},{"$f":"IF(Table110[[#This Row],[Disposition]]=\"\",\"\",IF(AND(Table110[[#This Row],[Next Calibration]]<$E$1,Table110[[#This Row],[Disposition]]=\"Lost\"),\"Find and Calibrate\",IF(Table110[[#This Row],[Disposition]]=\"Lost\",\"Find\",IF(OR(Table110[[#This Row],[Next Calibration]]<$E$1,Table110[[#This Row],[Next Calibration]]=\"NEVER CALIBRATED\"),\"Calibrate\",\"Nominal\"))))","v":""},{"$f":"IF(((Table110[[#This Row],[Next Calibration]]-TODAY())/30)>2,\"More Than 2\",IF(((Table110[[#This Row],[Next Calibration]]-TODAY())/30)>1,\"Between 2 and 1\",\"Less than 1\"))","v":{"$error":"#VALUE!"}},{"$f":"IF(Table110[[#This Row],[Issued]]=\"\",\"\",IF(Table110[[#This Row],[Lent]]=\"\",0,1))","v":""},{"$f":"IF(Table110[[#This Row],[Lent]]=\"\",\"\",IF(Table110[[#This Row],[Returned]]=\"\",0,1))","v":""}]
[{"$nulls":11},{"$f":"IF(IF(Table110[[#This Row],[Disposition]]=\"Retired\",\"N/A\",IF(Table110[[#This Row],[Disposition]]=0,\"\",K87+$F$2))=0+$F$2,\"NEVER CALIBRATED\",IF(Table110[[#This Row],[Disposition]]=\"Retired\",\"N/A\",IF(Table110[[#This Row],[Disposition]]=0,\"\",K87+$F$2)))","v":""},{"$f":"IF(Table110[[#This Row],[Disposition]]=\"\",\"\",IF(AND(Table110[[#This Row],[Next Calibration]]<$E$1,Table110[[#This Row],[Disposition]]=\"Lost\"),\"Find and Calibrate\",IF(Table110[[#This Row],[Disposition]]=\"Lost\",\"Find\",IF(OR(Table110[[#This Row],[Next Calibration]]<$E$1,Table110[[#This Row],[Next Calibration]]=\"NEVER CALIBRATED\"),\"Calibrate\",\"Nominal\"))))","v":""},{"$f":"IF(((Table110[[#This Row],[Next Calibration]]-TODAY())/30)>2,\"More Than 2\",IF(((Table110[[#This Row],[Next Calibration]]-TODAY())/30)>1,\"Between 2 and 1\",\"Less than 1\"))","v":{"$error":"#VALUE!"}},{"$f":"IF(Table110[[#This Row],[Issued]]=\"\",\"\",IF(Table110[[#This Row],[Lent]]=\"\",0,1))","v":""},{"$f":"IF(Table110[[#This Row],[Lent]]=\"\",\"\",IF(Table110[[#This Row],[Returned]]=\"\",0,1))","v":""}]
[{"$nulls":11},{"$f":"IF(IF(Table110[[#This Row],[Disposition]]=\"Retired\",\"N/A\",IF(Table110[[#This Row],[Disposition]]=0,\"\",K88+$F$2))=0+$F$2,\"NEVER CALIBRATED\",IF(Table110[[#This Row],[Disposition]]=\"Retired\",\"N/A\",IF(Table110[[#This Row],[Disposition]]=0,\"\",K88+$F$2)))","v":""},{"$f":"IF(Table110[[#This Row],[Disposition]]=\"\",\"\",IF(AND(Table110[[#This Row],[Next Calibration]]<$E$1,Table110[[#This Row],[Disposition]]=\"Lost\"),\"Find and Calibrate\",IF(Table110[[#This Row],[Disposition]]=\"Lost\",\"Find\",IF(OR(Table110[[#This Row],[Next Calibration]]<$E$1,Table110[[#This Row],[Next Calibration]]=\"NEVER CALIBRATED\"),\"Calibrate\",\"Nominal\"))))","v":""},{"$f":"IF(((Table110[[#This Row],[Next Calibration]]-TODAY())/30)>2,\"More Than 2\",IF(((Table110[[#This Row],[Next Calibration]]-TODAY())/30)>1,\"Between 2 and 1\",\"Less than 1\"))","v":{"$error":"#VALUE!"}},{"$f":"IF(Table110[[#This Row],[Issued]]=\"\",\"\",IF(Table110[[#This Row],[Lent]]=\"\",0,1))","v":""},{"$f":"IF(Table110[[#This Row],[Lent]]=\"\",\"\",IF(Table110[[#This Row],[Returned]]=\"\",0,1))","v":""}]
[{"$nulls":11},{"$f":"IF(IF(Table110[[#This Row],[Disposition]]=\"Retired\",\"N/A\",IF(Table110[[#This Row],[Disposition]]=0,\"\",K89+$F$2))=0+$F$2,\"NEVER CALIBRATED\",IF(Table110[[#This Row],[Disposition]]=\"Retired\",\"N/A\",IF(Table110[[#This Row],[Disposition]]=0,\"\",K89+$F$2)))","v":""},{"$f":"IF(Table110[[#This Row],[Disposition]]=\"\",\"\",IF(AND(Table110[[#This Row],[Next Calibration]]<$E$1,Table110[[#This Row],[Disposition]]=\"Lost\"),\"Find and Calibrate\",IF(Table110[[#This Row],[Disposition]]=\"Lost\",\"Find\",IF(OR(Table110[[#This Row],[Next Calibration]]<$E$1,Table110[[#This Row],[Next Calibration]]=\"NEVER CALIBRATED\"),\"Calibrate\",\"Nominal\"))))","v":""},{"$f":"IF(((Table110[[#This Row],[Next Calibration]]-TODAY())/30)>2,\"More Than 2\",IF(((Table110[[#This Row],[Next Calibration]]-TODAY())/30)>1,\"Between 2 and 1\",\"Less than 1\"))","v":{"$error":"#VALUE!"}},{"$f":"IF(Table110[[#This Row],[Issued]]=\"\",\"\",IF(Table110[[#This Row],[Lent]]=\"\",0,1))","v":""},{"$f":"IF(Table110[[#This Row],[Lent]]=\"\",\"\",IF(Table110[[#This Row],[Returned]]=\"\",0,1))","v":""}]
[{"$nulls":11},{"$f":"IF(IF(Table110[[#This Row],[Disposition]]=\"Retired\",\"N/A\",IF(Table110[[#This Row],[Disposition]]=0,\"\",K90+$F$2))=0+$F$2,\"NEVER CALIBRATED\",IF(Table110[[#This Row],[Disposition]]=\"Retired\",\"N/A\",IF(Table110[[#This Row],[Disposition]]=0,\"\",K90+$F$2)))","v":""},{"$f":"IF(Table110[[#This Row],[Disposition]]=\"\",\"\",IF(AND(Table110[[#This Row],[Next Calibration]]<$E$1,Table110[[#This Row],[Disposition]]=\"Lost\"),\"Find and Calibrate\",IF(Table110[[#This Row],[Disposition]]=\"Lost\",\"Find\",IF(OR(Table110[[#This Row],[Next Calibration]]<$E$1,Table110[[#This Row],[Next Calibration]]=\"NEVER CALIBRATED\"),\"Calibrate\",\"Nominal\"))))","v":""},{"$f":"IF(((Table110[[#This Row],[Next Calibration]]-TODAY())/30)>2,\"More Than 2\",IF(((Table110[[#This Row],[Next Calibration]]-TODAY())/30)>1,\"Between 2 and 1\",\"Less than 1\"))","v":{"$error":"#VALUE!"}},{"$f":"IF(Table110[[#This Row],[Issued]]=\"\",\"\",IF(Table110[[#This Row],[Lent]]=\"\",0,1))","v":""},{"$f":"IF(Table110[[#This Row],[Lent]]=\"\",\"\",IF(Table110[[#This Row],[Returned]]=\"\",0,1))","v":""}]
[{"$nulls":11},{"$f":"IF(IF(Table110[[#This Row],[Disposition]]=\"Retired\",\"N/A\",IF(Table110[[#This Row],[Disposition]]=0,\"\",K91+$F$2))=0+$F$2,\"NEVER CALIBRATED\",IF(Table110[[#This Row],[Disposition]]=\"Retired\",\"N/A\",IF(Table110[[#This Row],[Disposition]]=0,\"\",K91+$F$2)))","v":""},{"$f":"IF(Table110[[#This Row],[Disposition]]=\"\",\"\",IF(AND(Table110[[#This Row],[Next Calibration]]<$E$1,Table110[[#This Row],[Disposition]]=\"Lost\"),\"Find and Calibrate\",IF(Table110[[#This Row],[Disposition]]=\"Lost\",\"Find\",IF(OR(Table110[[#This Row],[Next Calibration]]<$E$1,Table110[[#This Row],[Next Calibration]]=\"NEVER CALIBRATED\"),\"Calibrate\",\"Nominal\"))))","v":""},{"$f":"IF(((Table110[[#This Row],[Next Calibration]]-TODAY())/30)>2,\"More Than 2\",IF(((Table110[[#This Row],[Next Calibration]]-TODAY())/30)>1,\"Between 2 and 1\",\"Less than 1\"))","v":{"$error":"#VALUE!"}},{"$f":"IF(Table110[[#This Row],[Issued]]=\"\",\"\",IF(Table110[[#This Row],[Lent]]=\"\",0,1))","v":""},{"$f":"IF(Table110[[#This Row],[Lent]]=\"\",\"\",IF(Table110[[#This Row],[Returned]]=\"\",0,1))","v":""}]
[{"$nulls":11},{"$f":"IF(IF(Table110[[#This Row],[Disposition]]=\"Retired\",\"N/A\",IF(Table110[[#This Row],[Disposition]]=0,\"\",K92+$F$2))=0+$F$2,\"NEVER CALIBRATED\",IF(Table110[[#This Row],[Disposition]]=\"Retired\",\"N/A\",IF(Table110[[#This Row],[Disposition]]=0,\"\",K92+$F$2)))","v":""},{"$f":"IF(Table110[[#This Row],[Disposition]]=\"\",\"\",IF(AND(Table110[[#This Row],[Next Calibration]]<$E$1,Table110[[#This Row],[Disposition]]=\"Lost\"),\"Find and Calibrate\",IF(Table110[[#This Row],[Disposition]]=\"Lost\",\"Find\",IF(OR(Table110[[#This Row],[Next Calibration]]<$E$1,Table110[[#This Row],[Next Calibration]]=\"NEVER CALIBRATED\"),\"Calibrate\",\"Nominal\"))))","v":""},{"$f":"IF(((Table110[[#This Row],[Next Calibration]]-TODAY())/30)>2,\"More Than 2\",IF(((Table110[[#This Row],[Next Calibration]]-TODAY())/30)>1,\"Between 2 and 1\",\"Less than 1\"))","v":{"$error":"#VALUE!"}},{"$f":"IF(Table110[[#This Row],[Issued]]=\"\",\"\",IF(Table110[[#This Row],[Lent]]=\"\",0,1))","v":""},{"$f":"IF(Table110[[#This Row],[Lent]]=\"\",\"\",IF(Table110[[#This Row],[Returned]]=\"\",0,1))","v":""}]
[{"$nulls":11},{"$f":"IF(IF(Table110[[#This Row],[Disposition]]=\"Retired\",\"N/A\",IF(Table110[[#This Row],[Disposition]]=0,\"\",K93+$F$2))=0+$F$2,\"NEVER CALIBRATED\",IF(Table110[[#This Row],[Disposition]]=\"Retired\",\"N/A\",IF(Table110[[#This Row],[Disposition]]=0,\"\",K93+$F$2)))","v":""},{"$f":"IF(Table110[[#This Row],[Disposition]]=\"\",\"\",IF(AND(Table110[[#This Row],[Next Calibration]]<$E$1,Table110[[#This Row],[Disposition]]=\"Lost\"),\"Find and Calibrate\",IF(Table110[[#This Row],[Disposition]]=\"Lost\",\"Find\",IF(OR(Table110[[#This Row],[Next Calibration]]<$E$1,Table110[[#This Row],[Next Calibration]]=\"NEVER CALIBRATED\"),\"Calibrate\",\"Nominal\"))))","v":""},{"$f":"IF(((Table110[[#This Row],[Next Calibration]]-TODAY())/30)>2,\"More Than 2\",IF(((Table110[[#This Row],[Next Calibration]]-TODAY())/30)>1,\"Between 2 and 1\",\"Less than 1\"))","v":{"$error":"#VALUE!"}},{"$f":"IF(Table110[[#This Row],[Issued]]=\"\",\"\",IF(Table110[[#This Row],[Lent]]=\"\",0,1))","v":""},{"$f":"IF(Table110[[#This Row],[Lent]]=\"\",\"\",IF(Table110[[#This Row],[Returned]]=\"\",0,1))","v":""}]
[{"$nulls":11},{"$f":"IF(IF(Table110[[#This Row],[Disposition]]=\"Retired\",\"N/A\",IF(Table110[[#This Row],[Disposition]]=0,\"\",K94+$F$2))=0+$F$2,\"NEVER CALIBRATED\",IF(Table110[[#This Row],[Disposition]]=\"Retired\",\"N/A\",IF(Table110[[#This Row],[Disposition]]=0,\"\",K94+$F$2)))","v":""},{"$f":"IF(Table110[[#This Row],[Disposition]]=\"\",\"\",IF(AND(Table110[[#This Row],[Next Calibration]]<$E$1,Table110[[#This Row],[Disposition]]=\"Lost\"),\"Find and Calibrate\",IF(Table110[[#This Row],[Disposition]]=\"Lost\",\"Find\",IF(OR(Table110[[#This Row],[Next Calibration]]<$E$1,Table110[[#This Row],[Next Calibration]]=\"NEVER CALIBRATED\"),\"Calibrate\",\"Nominal\"))))","v":""},{"$f":"IF(((Table110[[#This Row],[Next Calibration]]-TODAY())/30)>2,\"More Than 2\",IF(((Table110[[#This Row],[Next Calibration]]-TODAY())/30)>1,\"Between 2 and 1\",\"Less than 1\"))","v":{"$error":"#VALUE!"}},{"$f":"IF(Table110[[#This Row],[Issued]]=\"\",\"\",IF(Table110[[#This Row],[Lent]]=\"\",0,1))","v":""},{"$f":"IF(Table110[[#This Row],[Lent]]=\"\",\"\",IF(Table110[[#This Row],[Returned]]=\"\",0,1))","v":""}]
[{"$nulls":11},{"$f":"IF(IF(Table110[[#This Row],[Disposition]]=\"Retired\",\"N/A\",IF(Table110[[#This Row],[Disposition]]=0,\"\",K95+$F$2))=0+$F$2,\"NEVER CALIBRATED\",IF(Table110[[#This Row],[Disposition]]=\"Retired\",\"N/A\",IF(Table110[[#This Row],[Disposition]]=0,\"\",K95+$F$2)))","v":""},{"$f":"IF(Table110[[#This Row],[Disposition]]=\"\",\"\",IF(AND(Table110[[#This Row],[Next Calibration]]<$E$1,Table110[[#This Row],[Disposition]]=\"Lost\"),\"Find and Calibrate\",IF(Table110[[#This Row],[Disposition]]=\"Lost\",\"Find\",IF(OR(Table110[[#This Row],[Next Calibration]]<$E$1,Table110[[#This Row],[Next Calibration]]=\"NEVER CALIBRATED\"),\"Calibrate\",\"Nominal\"))))","v":""},{"$f":"IF(((Table110[[#This Row],[Next Calibration]]-TODAY())/30)>2,\"More Than 2\",IF(((Table110[[#This Row],[Next Calibration]]-TODAY())/30)>1,\"Between 2 and 1\",\"Less than 1\"))","v":{"$error":"#VALUE!"}},{"$f":"IF(Table110[[#This Row],[Issued]]=\"\",\"\",IF(Table110[[#This Row],[Lent]]=\"\",0,1))","v":""},{"$f":"IF(Table110[[#This Row],[Lent]]=\"\",\"\",IF(Table110[[#This Row],[Returned]]=\"\",0,1))","v":""}]
[{"$nulls":11},{"$f":"IF(IF(Table110[[#This Row],[Disposition]]=\"Retired\",\"N/A\",IF(Table110[[#This Row],[Disposition]]=0,\"\",K96+$F$2))=0+$F$2,\"NEVER CALIBRATED\",IF(Table110[[#This Row],[Disposition]]=\"Retired\",\"N/A\",IF(Table110[[#This Row],[Disposition]]=0,\"\",K96+$F$2)))","v":""},{"$f":"IF(Table110[[#This Row],[Disposition]]=\"\",\"\",IF(AND(Table110[[#This Row],[Next Calibration]]<$E$1,Table110[[#This Row],[Disposition]]=\"Lost\"),\"Find and Calibrate\",IF(Table110[[#This Row],[Disposition]]=\"Lost\",\"Find\",IF(OR(Table110[[#This Row],[Next Calibration]]<$E$1,Table110[[#This Row],[Next Calibration]]=\"NEVER CALIBRATED\"),\"Calibrate\",\"Nominal\"))))","v":""},{"$f":"IF(((Table110[[#This Row],[Next Calibration]]-TODAY())/30)>2,\"More Than 2\",IF(((Table110[[#This Row],[Next Calibration]]-TODAY())/30)>1,\"Between 2 and 1\",\"Less than 1\"))","v":{"$error":"#VALUE!"}},{"$f":"IF(Table110[[#This Row],[Issued]]=\"\",\"\",IF(Table110[[#This Row],[Lent]]=\"\",0,1))","v":""},{"$f":"IF(Table110[[#This Row],[Lent]]=\"\",\"\",IF(Table110[[#This Row],[Returned]]=\"\",0,1))","v":""}]
[{"$nulls":11},{"$f":"IF(IF(Table110[[#This Row],[Disposition]]=\"Retired\",\"N/A\",IF(Table110[[#This Row],[Disposition]]=0,\"\",K97+$F$2))=0+$F$2,\"NEVER CALIBRATED\",IF(Table110[[#This Row],[Disposition]]=\"Retired\",\"N/A\",IF(Table110[[#This Row],[Disposition]]=0,\"\",K97+$F$2)))","v":""},{"$f":"IF(Table110[[#This Row],[Disposition]]=\"\",\"\",IF(AND(Table110[[#This Row],[Next Calibration]]<$E$1,Table110[[#This Row],[Disposition]]=\"Lost\"),\"Find and Calibrate\",IF(Table110[[#This Row],[Disposition]]=\"Lost\",\"Find\",IF(OR(Table110[[#This Row],[Next Calibration]]<$E$1,Table110[[#This Row],[Next Calibration]]=\"NEVER CALIBRATED\"),\"Calibrate\",\"Nominal\"))))","v":""},{"$f":"IF(((Table110[[#This Row],[Next Calibration]]-TODAY())/30)>2,\"More Than 2\",IF(((Table110[[#This Row],[Next Calibration]]-TODAY())/30)>1,\"Between 2 and 1\",\"Less than 1\"))","v":{"$error":"#VALUE!"}},{"$f":"IF(Table110[[#This Row],[Issued]]=\"\",\"\",IF(Table110[[#This Row],[Lent]]=\"\",0,1))","v":""},{"$f":"IF(Table110[[#This Row],[Lent]]=\"\",\"\",IF(Table110[[#This Row],[Returned]]=\"\",0,1))","v":""}]
[{"$nulls":11},{"$f":"IF(IF(Table110[[#This Row],[Disposition]]=\"Retired\",\"N/A\",IF(Table110[[#This Row],[Disposition]]=0,\"\",K98+$F$2))=0+$F$2,\"NEVER CALIBRATED\",IF(Table110[[#This Row],[Disposition]]=\"Retired\",\"N/A\",IF(Table110[[#This Row],[Disposition]]=0,\"\",K98+$F$2)))","v":""},{"$f":"IF(Table110[[#This Row],[Disposition]]=\"\",\"\",IF(AND(Table110[[#This Row],[Next Calibration]]<$E$1,Table110[[#This Row],[Disposition]]=\"Lost\"),\"Find and Calibrate\",IF(Table110[[#This Row],[Disposition]]=\"Lost\",\"Find\",IF(OR(Table110[[#This Row],[Next Calibration]]<$E$1,Table110[[#This Row],[Next Calibration]]=\"NEVER CALIBRATED\"),\"Calibrate\",\"Nominal\"))))","v":""},{"$f":"IF(((Table110[[#This Row],[Next Calibration]]-TODAY())/30)>2,\"More Than 2\",IF(((Table110[[#This Row],[Next Calibration]]-TODAY())/30)>1,\"Between 2 and 1\",\"Less than 1\"))","v":{"$error":"#VALUE!"}},{"$f":"IF(Table110[[#This Row],[Issued]]=\"\",\"\",IF(Table110[[#This Row],[Lent]]=\"\",0,1))","v":""},{"$f":"IF(Table110[[#This Row],[Lent]]=\"\",\"\",IF(Table110[[#This Row],[Returned]]=\"\",0,1))","v":""}]
[{"$nulls":11},{"$f":"IF(IF(Table110[[#This Row],[Disposition]]=\"Retired\",\"N/A\",IF(Table110[[#This Row],[Disposition]]=0,\"\",K99+$F$2))=0+$F$2,\"NEVER CALIBRATED\",IF(Table110[[#This Row],[Disposition]]=\"Retired\",\"N/A\",IF(Table110[[#This Row],[Disposition]]=0,\"\",K99+$F$2)))","v":""},{"$f":"IF(Table110[[#This Row],[Disposition]]=\"\",\"\",IF(AND(Table110[[#This Row],[Next Calibration]]<$E$1,Table110[[#This Row],[Disposition]]=\"Lost\"),\"Find and Calibrate\",IF(Table110[[#This Row],[Disposition]]=\"Lost\",\"Find\",IF(OR(Table110[[#This Row],[Next Calibration]]<$E$1,Table110[[#This Row],[Next Calibration]]=\"NEVER CALIBRATED\"),\"Calibrate\",\"Nominal\"))))","v":""},{"$f":"IF(((Table110[[#This Row],[Next Calibration]]-TODAY())/30)>2,\"More Than 2\",IF(((Table110[[#This Row],[Next Calibration]]-TODAY())/30)>1,\"Between 2 and 1\",\"Less than 1\"))","v":{"$error":"#VALUE!"}},{"$f":"IF(Table110[[#This Row],[Issued]]=\"\",\"\",IF(Table110[[#This Row],[Lent]]=\"\",0,1))","v":""},{"$f":"IF(Table110[[#This Row],[Lent]]=\"\",\"\",IF(Table110[[#This Row],[Returned]]=\"\",0,1))","v":""}]
[{"$nulls":11},{"$f":"IF(IF(Table110[[#This Row],[Disposition]]=\"Retired\",\"N/A\",IF(Table110[[#This Row],[Disposition]]=0,\"\",K100+$F$2))=0+$F$2,\"NEVER CALIBRATED\",IF(Table110[[#This Row],[Disposition]]=\"Retired\",\"N/A\",IF(Table110[[#This Row],[Disposition]]=0,\"\",K100+$F$2)))","v":""},{"$f":"IF(Table110[[#This Row],[Disposition]]=\"\",\"\",IF(AND(Table110[[#This Row],[Next Calibration]]<$E$1,Table110[[#This Row],[Disposition]]=\"Lost\"),\"Find and Calibrate\",IF(Table110[[#This Row],[Disposition]]=\"Lost\",\"Find\",IF(OR(Table110[[#This Row],[Next Calibration]]<$E$1,Table110[[#This Row],[Next Calibration]]=\"NEVER CALIBRATED\"),\"Calibrate\",\"Nominal\"))))","v":""},{"$f":"IF(((Table110[[#This Row],[Next Calibration]]-TODAY())/30)>2,\"More Than 2\",IF(((Table110[[#This Row],[Next Calibration]]-TODAY())/30)>1,\"Between 2 and 1\",\"Less than 1\"))","v":{"$error":"#VALUE!"}},{"$f":"IF(Table110[[#This Row],[Issued]]=\"\",\"\",IF(Table110[[#This Row],[Lent]]=\"\",0,1))","v":""},{"$f":"IF(Table110[[#This Row],[Lent]]=\"\",\"\",IF(Table110[[#This Row],[Returned]]=\"\",0,1))","v":""}]
[{"$nulls":11},{"$f":"IF(IF(Table110[[#This Row],[Disposition]]=\"Retired\",\"N/A\",IF(Table110[[#This Row],[Disposition]]=0,\"\",K101+$F$2))=0+$F$2,\"NEVER CALIBRATED\",IF(Table110[[#This Row],[Disposition]]=\"Retired\",\"N/A\",IF(Table110[[#This Row],[Disposition]]=0,\"\",K101+$F$2)))","v":""},{"$f":"IF(Table110[[#This Row],[Disposition]]=\"\",\"\",IF(AND(Table110[[#This Row],[Next Calibration]]<$E$1,Table110[[#This Row],[Disposition]]=\"Lost\"),\"Find and Calibrate\",IF(Table110[[#This Row],[Disposition]]=\"Lost\",\"Find\",IF(OR(Table110[[#This Row],[Next Calibration]]<$E$1,Table110[[#This Row],[Next Calibration]]=\"NEVER CALIBRATED\"),\"Calibrate\",\"Nominal\"))))","v":""},{"$f":"IF(((Table110[[#This Row],[Next Calibration]]-TODAY())/30)>2,\"More Than 2\",IF(((Table110[[#This Row],[Next Calibration]]-TODAY())/30)>1,\"Between 2 and 1\",\"Less than 1\"))","v":{"$error":"#VALUE!"}},{"$f":"IF(Table110[[#This Row],[Issued]]=\"\",\"\",IF(Table110[[#This Row],[Lent]]=\"\",0,1))","v":""},{"$f":"IF(Table110[[#This Row],[Lent]]=\"\",\"\",IF(Table110[[#This Row],[Returned]]=\"\",0,1))","v":""}]
[{"$nulls":11},{"$f":"IF(IF(Table110[[#This Row],[Disposition]]=\"Retired\",\"N/A\",IF(Table110[[#This Row],[Disposition]]=0,\"\",K102+$F$2))=0+$F$2,\"NEVER CALIBRATED\",IF(Table110[[#This Row],[Disposition]]=\"Retired\",\"N/A\",IF(Table110[[#This Row],[Disposition]]=0,\"\",K102+$F$2)))","v":""},{"$f":"IF(Table110[[#This Row],[Disposition]]=\"\",\"\",IF(AND(Table110[[#This Row],[Next Calibration]]<$E$1,Table110[[#This Row],[Disposition]]=\"Lost\"),\"Find and Calibrate\",IF(Table110[[#This Row],[Disposition]]=\"Lost\",\"Find\",IF(OR(Table110[[#This Row],[Next Calibration]]<$E$1,Table110[[#This Row],[Next Calibration]]=\"NEVER CALIBRATED\"),\"Calibrate\",\"Nominal\"))))","v":""},{"$f":"IF(((Table110[[#This Row],[Next Calibration]]-TODAY())/30)>2,\"More Than 2\",IF(((Table110[[#This Row],[Next Calibration]]-TODAY())/30)>1,\"Between 2 and 1\",\"Less than 1\"))","v":{"$error":"#VALUE!"}},{"$f":"IF(Table110[[#This Row],[Issued]]=\"\",\"\",IF(Table110[[#This Row],[Lent]]=\"\",0,1))","v":""},{"$f":"IF(Table110[[#This Row],[Lent]]=\"\",\"\",IF(Table110[[#This Row],[Returned]]=\"\",0,1))","v":""}]
[{"$nulls":11},{"$f":"IF(IF(Table110[[#This Row],[Disposition]]=\"Retired\",\"N/A\",IF(Table110[[#This Row],[Disposition]]=0,\"\",K103+$F$2))=0+$F$2,\"NEVER CALIBRATED\",IF(Table110[[#This Row],[Disposition]]=\"Retired\",\"N/A\",IF(Table110[[#This Row],[Disposition]]=0,\"\",K103+$F$2)))","v":""},{"$f":"IF(Table110[[#This Row],[Disposition]]=\"\",\"\",IF(AND(Table110[[#This Row],[Next Calibration]]<$E$1,Table110[[#This Row],[Disposition]]=\"Lost\"),\"Find and Calibrate\",IF(Table110[[#This Row],[Disposition]]=\"Lost\",\"Find\",IF(OR(Table110[[#This Row],[Next Calibration]]<$E$1,Table110[[#This Row],[Next Calibration]]=\"NEVER CALIBRATED\"),\"Calibrate\",\"Nominal\"))))","v":""},{"$f":"IF(((Table110[[#This Row],[Next Calibration]]-TODAY())/30)>2,\"More Than 2\",IF(((Table110[[#This Row],[Next Calibration]]-TODAY())/30)>1,\"Between 2 and 1\",\"Less than 1\"))","v":{"$error":"#VALUE!"}},{"$f":"IF(Table110[[#This Row],[Issued]]=\"\",\"\",IF(Table110[[#This Row],[Lent]]=\"\",0,1))","v":""},{"$f":"IF(Table110[[#This Row],[Lent]]=\"\",\"\",IF(Table110[[#This Row],[Returned]]=\"\",0,1))","v":""}]
[{"$nulls":11},{"$f":"IF(IF(Table110[[#This Row],[Disposition]]=\"Retired\",\"N/A\",IF(Table110[[#This Row],[Disposition]]=0,\"\",K104+$F$2))=0+$F$2,\"NEVER CALIBRATED\",IF(Table110[[#This Row],[Disposition]]=\"Retired\",\"N/A\",IF(Table110[[#This Row],[Disposition]]=0,\"\",K104+$F$2)))","v":""},{"$f":"IF(Table110[[#This Row],[Disposition]]=\"\",\"\",IF(AND(Table110[[#This Row],[Next Calibration]]<$E$1,Table110[[#This Row],[Disposition]]=\"Lost\"),\"Find and Calibrate\",IF(Table110[[#This Row],[Disposition]]=\"Lost\",\"Find\",IF(OR(Table110[[#This Row],[Next Calibration]]<$E$1,Table110[[#This Row],[Next Calibration]]=\"NEVER CALIBRATED\"),\"Calibrate\",\"Nominal\"))))","v":""},{"$f":"IF(((Table110[[#This Row],[Next Calibration]]-TODAY())/30)>2,\"More Than 2\",IF(((Table110[[#This Row],[Next Calibration]]-TODAY())/30)>1,\"Between 2 and 1\",\"Less than 1\"))","v":{"$error":"#VALUE!"}},{"$f":"IF(Table110[[#This Row],[Issued]]=\"\",\"\",IF(Table110[[#This Row],[Lent]]=\"\",0,1))","v":""},{"$f":"IF(Table110[[#This Row],[Lent]]=\"\",\"\",IF(Table110[[#This Row],[Returned]]=\"\",0,1))","v":""}]
[{"$nulls":11},{"$f":"IF(IF(Table110[[#This Row],[Disposition]]=\"Retired\",\"N/A\",IF(Table110[[#This Row],[Disposition]]=0,\"\",K105+$F$2))=0+$F$2,\"NEVER CALIBRATED\",IF(Table110[[#This Row],[Disposition]]=\"Retired\",\"N/A\",IF(Table110[[#This Row],[Disposition]]=0,\"\",K105+$F$2)))","v":""},{"$f":"IF(Table110[[#This Row],[Disposition]]=\"\",\"\",IF(AND(Table110[[#This Row],[Next Calibration]]<$E$1,Table110[[#This Row],[Disposition]]=\"Lost\"),\"Find and Calibrate\",IF(Table110[[#This Row],[Disposition]]=\"Lost\",\"Find\",IF(OR(Table110[[#This Row],[Next Calibration]]<$E$1,Table110[[#This Row],[Next Calibration]]=\"NEVER CALIBRATED\"),\"Calibrate\",\"Nominal\"))))","v":""},{"$f":"IF(((Table110[[#This Row],[Next Calibration]]-TODAY())/30)>2,\"More Than 2\",IF(((Table110[[#This Row],[Next Calibration]]-TODAY())/30)>1,\"Between 2 and 1\",\"Less than 1\"))","v":{"$error":"#VALUE!"}},{"$f":"IF(Table110[[#This Row],[Issued]]=\"\",\"\",IF(Table110[[#This Row],[Lent]]=\"\",0,1))","v":""},{"$f":"IF(Table110[[#This Row],[Lent]]=\"\",\"\",IF(Table110[[#This Row],[Returned]]=\"\",0,1))","v":""}]
[{"$nulls":11},{"$f":"IF(IF(Table110[[#This Row],[Disposition]]=\"Retired\",\"N/A\",IF(Table110[[#This Row],[Disposition]]=0,\"\",K106+$F$2))=0+$F$2,\"NEVER CALIBRATED\",IF(Table110[[#This Row],[Disposition]]=\"Retired\",\"N/A\",IF(Table110[[#This Row],[Disposition]]=0,\"\",K106+$F$2)))","v":""},{"$f":"IF(Table110[[#This Row],[Disposition]]=\"\",\"\",IF(AND(Table110[[#This Row],[Next Calibration]]<$E$1,Table110[[#This Row],[Disposition]]=\"Lost\"),\"Find and Calibrate\",IF(Table110[[#This Row],[Disposition]]=\"Lost\",\"Find\",IF(OR(Table110[[#This Row],[Next Calibration]]<$E$1,Table110[[#This Row],[Next Calibration]]=\"NEVER CALIBRATED\"),\"Calibrate\",\"Nominal\"))))","v":""},{"$f":"IF(((Table110[[#This Row],[Next Calibration]]-TODAY())/30)>2,\"More Than 2\",IF(((Table110[[#This Row],[Next Calibration]]-TODAY())/30)>1,\"Between 2 and 1\",\"Less than 1\"))","v":{"$error":"#VALUE!"}},{"$f":"IF(Table110[[#This Row],[Issued]]=\"\",\"\",IF(Table110[[#This Row],[Lent]]=\"\",0,1))","v":""},{"$f":"IF(Table110[[#This Row],[Lent]]=\"\",\"\",IF(Table110[[#This Row],[Returned]]=\"\",0,1))","v":""}]
[{"$nulls":11},{"$f":"IF(IF(Table110[[#This Row],[Disposition]]=\"Retired\",\"N/A\",IF(Table110[[#This Row],[Disposition]]=0,\"\",K107+$F$2))=0+$F$2,\"NEVER CALIBRATED\",IF(Table110[[#This Row],[Disposition]]=\"Retired\",\"N/A\",IF(Table110[[#This Row],[Disposition]]=0,\"\",K107+$F$2)))","v":""},{"$f":"IF(Table110[[#This Row],[Disposition]]=\"\",\"\",IF(AND(Table110[[#This Row],[Next Calibration]]<$E$1,Table110[[#This Row],[Disposition]]=\"Lost\"),\"Find and Calibrate\",IF(Table110[[#This Row],[Disposition]]=\"Lost\",\"Find\",IF(OR(Table110[[#This Row],[Next Calibration]]<$E$1,Table110[[#This Row],[Next Calibration]]=\"NEVER CALIBRATED\"),\"Calibrate\",\"Nominal\"))))","v":""},{"$f":"IF(((Table110[[#This Row],[Next Calibration]]-TODAY())/30)>2,\"More Than 2\",IF(((Table110[[#This Row],[Next Calibration]]-TODAY())/30)>1,\"Between 2 and 1\",\"Less than 1\"))","v":{"$error":"#VALUE!"}},{"$f":"IF(Table110[[#This Row],[Issued]]=\"\",\"\",IF(Table110[[#This Row],[Lent]]=\"\",0,1))","v":""},{"$f":"IF(Table110[[#This Row],[Lent]]=\"\",\"\",IF(Table110[[#This Row],[Returned]]=\"\",0,1))","v":""}]
[{"$nulls":11},{"$f":"IF(IF(Table110[[#This Row],[Disposition]]=\"Retired\",\"N/A\",IF(Table110[[#This Row],[Disposition]]=0,\"\",K108+$F$2))=0+$F$2,\"NEVER CALIBRATED\",IF(Table110[[#This Row],[Disposition]]=\"Retired\",\"N/A\",IF(Table110[[#This Row],[Disposition]]=0,\"\",K108+$F$2)))","v":""},{"$f":"IF(Table110[[#This Row],[Disposition]]=\"\",\"\",IF(AND(Table110[[#This Row],[Next Calibration]]<$E$1,Table110[[#This Row],[Disposition]]=\"Lost\"),\"Find and Calibrate\",IF(Table110[[#This Row],[Disposition]]=\"Lost\",\"Find\",IF(OR(Table110[[#This Row],[Next Calibration]]<$E$1,Table110[[#This Row],[Next Calibration]]=\"NEVER CALIBRATED\"),\"Calibrate\",\"Nominal\"))))","v":""},{"$f":"IF(((Table110[[#This Row],[Next Calibration]]-TODAY())/30)>2,\"More Than 2\",IF(((Table110[[#This Row],[Next Calibration]]-TODAY())/30)>1,\"Between 2 and 1\",\"Less than 1\"))","v":{"$error":"#VALUE!"}},{"$f":"IF(Table110[[#This Row],[Issued]]=\"\",\"\",IF(Table110[[#This Row],[Lent]]=\"\",0,1))","v":""},{"$f":"IF(Table110[[#This Row],[Lent]]=\"\",\"\",IF(Table110[[#This Row],[Returned]]=\"\",0,1))","v":""}]
[{"$nulls":11},{"$f":"IF(IF(Table110[[#This Row],[Disposition]]=\"Retired\",\"N/A\",IF(Table110[[#This Row],[Disposition]]=0,\"\",K109+$F$2))=0+$F$2,\"NEVER CALIBRATED\",IF(Table110[[#This Row],[Disposition]]=\"Retired\",\"N/A\",IF(Table110[[#This Row],[Disposition]]=0,\"\",K109+$F$2)))","v":""},{"$f":"IF(Table110[[#This Row],[Disposition]]=\"\",\"\",IF(AND(Table110[[#This Row],[Next Calibration]]<$E$1,Table110[[#This Row],[Disposition]]=\"Lost\"),\"Find and Calibrate\",IF(Table110[[#This Row],[Disposition]]=\"Lost\",\"Find\",IF(OR(Table110[[#This Row],[Next Calibration]]<$E$1,Table110[[#This Row],[Next Calibration]]=\"NEVER CALIBRATED\"),\"Calibrate\",\"Nominal\"))))","v":""},{"$f":"IF(((Table110[[#This Row],[Next Calibration]]-TODAY())/30)>2,\"More Than 2\",IF(((Table110[[#This Row],[Next Calibration]]-TODAY())/30)>1,\"Between 2 and 1\",\"Less than 1\"))","v":{"$error":"#VALUE!"}},{"$f":"IF(Table110[[#This Row],[Issued]]=\"\",\"\",IF(Table110[[#This Row],[Lent]]=\"\",0,1))","v":""},{"$f":"IF(Table110[[#This Row],[Lent]]=\"\",\"\",IF(Table110[[#This Row],[Returned]]=\"\",0,1))","v":""}]
[{"$nulls":11},{"$f":"IF(IF(Table110[[#This Row],[Disposition]]=\"Retired\",\"N/A\",IF(Table110[[#This Row],[Disposition]]=0,\"\",K110+$F$2))=0+$F$2,\"NEVER CALIBRATED\",IF(Table110[[#This Row],[Disposition]]=\"Retired\",\"N/A\",IF(Table110[[#This Row],[Disposition]]=0,\"\",K110+$F$2)))","v":""},{"$f":"IF(Table110[[#This Row],[Disposition]]=\"\",\"\",IF(AND(Table110[[#This Row],[Next Calibration]]<$E$1,Table110[[#This Row],[Disposition]]=\"Lost\"),\"Find and Calibrate\",IF(Table110[[#This Row],[Disposition]]=\"Lost\",\"Find\",IF(OR(Table110[[#This Row],[Next Calibration]]<$E$1,Table110[[#This Row],[Next Calibration]]=\"NEVER CALIBRATED\"),\"Calibrate\",\"Nominal\"))))","v":""},{"$f":"IF(((Table110[[#This Row],[Next Calibration]]-TODAY())/30)>2,\"More Than 2\",IF(((Table110[[#This Row],[Next Calibration]]-TODAY())/30)>1,\"Between 2 and 1\",\"Less than 1\"))","v":{"$error":"#VALUE!"}},{"$f":"IF(Table110[[#This Row],[Issued]]=\"\",\"\",IF(Table110[[#This Row],[Lent]]=\"\",0,1))","v":""},{"$f":"IF(Table110[[#This Row],[Lent]]=\"\",\"\",IF(Table110[[#This Row],[Returned]]=\"\",0,1))","v":""}]
[{"$nulls":11},{"$f":"IF(IF(Table110[[#This Row],[Disposition]]=\"Retired\",\"N/A\",IF(Table110[[#This Row],[Disposition]]=0,\"\",K111+$F$2))=0+$F$2,\"NEVER CALIBRATED\",IF(Table110[[#This Row],[Disposition]]=\"Retired\",\"N/A\",IF(Table110[[#This Row],[Disposition]]=0,\"\",K111+$F$2)))","v":""},{"$f":"IF(Table110[[#This Row],[Disposition]]=\"\",\"\",IF(AND(Table110[[#This Row],[Next Calibration]]<$E$1,Table110[[#This Row],[Disposition]]=\"Lost\"),\"Find and Calibrate\",IF(Table110[[#This Row],[Disposition]]=\"Lost\",\"Find\",IF(OR(Table110[[#This Row],[Next Calibration]]<$E$1,Table110[[#This Row],[Next Calibration]]=\"NEVER CALIBRATED\"),\"Calibrate\",\"Nominal\"))))","v":""},{"$f":"IF(((Table110[[#This Row],[Next Calibration]]-TODAY())/30)>2,\"More Than 2\",IF(((Table110[[#This Row],[Next Calibration]]-TODAY())/30)>1,\"Between 2 and 1\",\"Less than 1\"))","v":{"$error":"#VALUE!"}},{"$f":"IF(Table110[[#This Row],[Issued]]=\"\",\"\",IF(Table110[[#This Row],[Lent]]=\"\",0,1))","v":""},{"$f":"IF(Table110[[#This Row],[Lent]]=\"\",\"\",IF(Table110[[#This Row],[Returned]]=\"\",0,1))","v":""}]
[{"$nulls":11},{"$f":"IF(IF(Table110[[#This Row],[Disposition]]=\"Retired\",\"N/A\",IF(Table110[[#This Row],[Disposition]]=0,\"\",K112+$F$2))=0+$F$2,\"NEVER CALIBRATED\",IF(Table110[[#This Row],[Disposition]]=\"Retired\",\"N/A\",IF(Table110[[#This Row],[Disposition]]=0,\"\",K112+$F$2)))","v":""},{"$f":"IF(Table110[[#This Row],[Disposition]]=\"\",\"\",IF(AND(Table110[[#This Row],[Next Calibration]]<$E$1,Table110[[#This Row],[Disposition]]=\"Lost\"),\"Find and Calibrate\",IF(Table110[[#This Row],[Disposition]]=\"Lost\",\"Find\",IF(OR(Table110[[#This Row],[Next Calibration]]<$E$1,Table110[[#This Row],[Next Calibration]]=\"NEVER CALIBRATED\"),\"Calibrate\",\"Nominal\"))))","v":""},{"$f":"IF(((Table110[[#This Row],[Next Calibration]]-TODAY())/30)>2,\"More Than 2\",IF(((Table110[[#This Row],[Next Calibration]]-TODAY())/30)>1,\"Between 2 and 1\",\"Less than 1\"))","v":{"$error":"#VALUE!"}},{"$f":"IF(Table110[[#This Row],[Issued]]=\"\",\"\",IF(Table110[[#This Row],[Lent]]=\"\",0,1))","v":""},{"$f":"IF(Table110[[#This Row],[Lent]]=\"\",\"\",IF(Table110[[#This Row],[Returned]]=\"\",0,1))","v":""}]
[{"$nulls":11},{"$f":"IF(IF(Table110[[#This Row],[Disposition]]=\"Retired\",\"N/A\",IF(Table110[[#This Row],[Disposition]]=0,\"\",K113+$F$2))=0+$F$2,\"NEVER CALIBRATED\",IF(Table110[[#This Row],[Disposition]]=\"Retired\",\"N/A\",IF(Table110[[#This Row],[Disposition]]=0,\"\",K113+$F$2)))","v":""},{"$f":"IF(Table110[[#This Row],[Disposition]]=\"\",\"\",IF(AND(Table110[[#This Row],[Next Calibration]]<$E$1,Table110[[#This Row],[Disposition]]=\"Lost\"),\"Find and Calibrate\",IF(Table110[[#This Row],[Disposition]]=\"Lost\",\"Find\",IF(OR(Table110[[#This Row],[Next Calibration]]<$E$1,Table110[[#This Row],[Next Calibration]]=\"NEVER CALIBRATED\"),\"Calibrate\",\"Nominal\"))))","v":""},{"$f":"IF(((Table110[[#This Row],[Next Calibration]]-TODAY())/30)>2,\"More Than 2\",IF(((Table110[[#This Row],[Next Calibration]]-TODAY())/30)>1,\"Between 2 and 1\",\"Less than 1\"))","v":{"$error":"#VALUE!"}},{"$f":"IF(Table110[[#This Row],[Issued]]=\"\",\"\",IF(Table110[[#This Row],[Lent]]=\"\",0,1))","v":""},{"$f":"IF(Table110[[#This Row],[Lent]]=\"\",\"\",IF(Table110[[#This Row],[Returned]]=\"\",0,1))","v":""}]
[{"$nulls":11},{"$f":"IF(IF(Table110[[#This Row],[Disposition]]=\"Retired\",\"N/A\",IF(Table110[[#This Row],[Disposition]]=0,\"\",K114+$F$2))=0+$F$2,\"NEVER CALIBRATED\",IF(Table110[[#This Row],[Disposition]]=\"Retired\",\"N/A\",IF(Table110[[#This Row],[Disposition]]=0,\"\",K114+$F$2)))","v":""},{"$f":"IF(Table110[[#This Row],[Disposition]]=\"\",\"\",IF(AND(Table110[[#This Row],[Next Calibration]]<$E$1,Table110[[#This Row],[Disposition]]=\"Lost\"),\"Find and Calibrate\",IF(Table110[[#This Row],[Disposition]]=\"Lost\",\"Find\",IF(OR(Table110[[#This Row],[Next Calibration]]<$E$1,Table110[[#This Row],[Next Calibration]]=\"NEVER CALIBRATED\"),\"Calibrate\",\"Nominal\"))))","v":""},{"$f":"IF(((Table110[[#This Row],[Next Calibration]]-TODAY())/30)>2,\"More Than 2\",IF(((Table110[[#This Row],[Next Calibration]]-TODAY())/30)>1,\"Between 2 and 1\",\"Less than 1\"))","v":{"$error":"#VALUE!"}},{"$f":"IF(Table110[[#This Row],[Issued]]=\"\",\"\",IF(Table110[[#This Row],[Lent]]=\"\",0,1))","v":""},{"$f":"IF(Table110[[#This Row],[Lent]]=\"\",\"\",IF(Table110[[#This Row],[Returned]]=\"\",0,1))","v":""}]
[{"$nulls":11},{"$f":"IF(IF(Table110[[#This Row],[Disposition]]=\"Retired\",\"N/A\",IF(Table110[[#This Row],[Disposition]]=0,\"\",K115+$F$2))=0+$F$2,\"NEVER CALIBRATED\",IF(Table110[[#This Row],[Disposition]]=\"Retired\",\"N/A\",IF(Table110[[#This Row],[Disposition]]=0,\"\",K115+$F$2)))","v":""},{"$f":"IF(Table110[[#This Row],[Disposition]]=\"\",\"\",IF(AND(Table110[[#This Row],[Next Calibration]]<$E$1,Table110[[#This Row],[Disposition]]=\"Lost\"),\"Find and Calibrate\",IF(Table110[[#This Row],[Disposition]]=\"Lost\",\"Find\",IF(OR(Table110[[#This Row],[Next Calibration]]<$E$1,Table110[[#This Row],[Next Calibration]]=\"NEVER CALIBRATED\"),\"Calibrate\",\"Nominal\"))))","v":""},{"$f":"IF(((Table110[[#This Row],[Next Calibration]]-TODAY())/30)>2,\"More Than 2\",IF(((Table110[[#This Row],[Next Calibration]]-TODAY())/30)>1,\"Between 2 and 1\",\"Less than 1\"))","v":{"$error":"#VALUE!"}},{"$f":"IF(Table110[[#This Row],[Issued]]=\"\",\"\",IF(Table110[[#This Row],[Lent]]=\"\",0,1))","v":""},{"$f":"IF(Table110[[#This Row],[Lent]]=\"\",\"\",IF(Table110[[#This Row],[Returned]]=\"\",0,1))","v":""}]
[{"$nulls":11},{"$f":"IF(IF(Table110[[#This Row],[Disposition]]=\"Retired\",\"N/A\",IF(Table110[[#This Row],[Disposition]]=0,\"\",K116+$F$2))=0+$F$2,\"NEVER CALIBRATED\",IF(Table110[[#This Row],[Disposition]]=\"Retired\",\"N/A\",IF(Table110[[#This Row],[Disposition]]=0,\"\",K116+$F$2)))","v":""},{"$f":"IF(Table110[[#This Row],[Disposition]]=\"\",\"\",IF(AND(Table110[[#This Row],[Next Calibration]]<$E$1,Table110[[#This Row],[Disposition]]=\"Lost\"),\"Find and Calibrate\",IF(Table110[[#This Row],[Disposition]]=\"Lost\",\"Find\",IF(OR(Table110[[#This Row],[Next Calibration]]<$E$1,Table110[[#This Row],[Next Calibration]]=\"NEVER CALIBRATED\"),\"Calibrate\",\"Nominal\"))))","v":""},{"$f":"IF(((Table110[[#This Row],[Next Calibration]]-TODAY())/30)>2,\"More Than 2\",IF(((Table110[[#This Row],[Next Calibration]]-TODAY())/30)>1,\"Between 2 and 1\",\"Less than 1\"))","v":{"$error":"#VALUE!"}},{"$f":"IF(Table110[[#This Row],[Issued]]=\"\",\"\",IF(Table110[[#This Row],[Lent]]=\"\",0,1))","v":""},{"$f":"IF(Table110[[#This Row],[Lent]]=\"\",\"\",IF(Table110[[#This Row],[Returned]]=\"\",0,1))","v":""}]
[{"$nulls":11},{"$f":"IF(IF(Table110[[#This Row],[Disposition]]=\"Retired\",\"N/A\",IF(Table110[[#This Row],[Disposition]]=0,\"\",K117+$F$2))=0+$F$2,\"NEVER CALIBRATED\",IF(Table110[[#This Row],[Disposition]]=\"Retired\",\"N/A\",IF(Table110[[#This Row],[Disposition]]=0,\"\",K117+$F$2)))","v":""},{"$f":"IF(Table110[[#This Row],[Disposition]]=\"\",\"\",IF(AND(Table110[[#This Row],[Next Calibration]]<$E$1,Table110[[#This Row],[Disposition]]=\"Lost\"),\"Find and Calibrate\",IF(Table110[[#This Row],[Disposition]]=\"Lost\",\"Find\",IF(OR(Table110[[#This Row],[Next Calibration]]<$E$1,Table110[[#This Row],[Next Calibration]]=\"NEVER CALIBRATED\"),\"Calibrate\",\"Nominal\"))))","v":""},{"$f":"IF(((Table110[[#This Row],[Next Calibration]]-TODAY())/30)>2,\"More Than 2\",IF(((Table110[[#This Row],[Next Calibration]]-TODAY())/30)>1,\"Between 2 and 1\",\"Less than 1\"))","v":{"$error":"#VALUE!"}},{"$f":"IF(Table110[[#This Row],[Issued]]=\"\",\"\",IF(Table110[[#This Row],[Lent]]=\"\",0,1))","v":""},{"$f":"IF(Table110[[#This Row],[Lent]]=\"\",\"\",IF(Table110[[#This Row],[Returned]]=\"\",0,1))","v":""}]
[{"$nulls":11},{"$f":"IF(IF(Table110[[#This Row],[Disposition]]=\"Retired\",\"N/A\",IF(Table110[[#This Row],[Disposition]]=0,\"\",K118+$F$2))=0+$F$2,\"NEVER CALIBRATED\",IF(Table110[[#This Row],[Disposition]]=\"Retired\",\"N/A\",IF(Table110[[#This Row],[Disposition]]=0,\"\",K118+$F$2)))","v":""},{"$f":"IF(Table110[[#This Row],[Disposition]]=\"\",\"\",IF(AND(Table110[[#This Row],[Next Calibration]]<$E$1,Table110[[#This Row],[Disposition]]=\"Lost\"),\"Find and Calibrate\",IF(Table110[[#This Row],[Disposition]]=\"Lost\",\"Find\",IF(OR(Table110[[#This Row],[Next Calibration]]<$E$1,Table110[[#This Row],[Next Calibration]]=\"NEVER CALIBRATED\"),\"Calibrate\",\"Nominal\"))))","v":""},{"$f":"IF(((Table110[[#This Row],[Next Calibration]]-TODAY())/30)>2,\"More Than 2\",IF(((Table110[[#This Row],[Next Calibration]]-TODAY())/30)>1,\"Between 2 and 1\",\"Less than 1\"))","v":{"$error":"#VALUE!"}},{"$f":"IF(Table110[[#This Row],[Issued]]=\"\",\"\",IF(Table110[[#This Row],[Lent]]=\"\",0,1))","v":""},{"$f":"IF(Table110[[#This Row],[Lent]]=\"\",\"\",IF(Table110[[#This Row],[Returned]]=\"\",0,1))","v":""}]
[{"$nulls":11},{"$f":"IF(IF(Table110[[#This Row],[Disposition]]=\"Retired\",\"N/A\",IF(Table110[[#This Row],[Disposition]]=0,\"\",K119+$F$2))=0+$F$2,\"NEVER CALIBRATED\",IF(Table110[[#This Row],[Disposition]]=\"Retired\",\"N/A\",IF(Table110[[#This Row],[Disposition]]=0,\"\",K119+$F$2)))","v":""},{"$f":"IF(Table110[[#This Row],[Disposition]]=\"\",\"\",IF(AND(Table110[[#This Row],[Next Calibration]]<$E$1,Table110[[#This Row],[Disposition]]=\"Lost\"),\"Find and Calibrate\",IF(Table110[[#This Row],[Disposition]]=\"Lost\",\"Find\",IF(OR(Table110[[#This Row],[Next Calibration]]<$E$1,Table110[[#This Row],[Next Calibration]]=\"NEVER CALIBRATED\"),\"Calibrate\",\"Nominal\"))))","v":""},{"$f":"IF(((Table110[[#This Row],[Next Calibration]]-TODAY())/30)>2,\"More Than 2\",IF(((Table110[[#This Row],[Next Calibration]]-TODAY())/30)>1,\"Between 2 and 1\",\"Less than 1\"))","v":{"$error":"#VALUE!"}},{"$f":"IF(Table110[[#This Row],[Issued]]=\"\",\"\",IF(Table110[[#This Row],[Lent]]=\"\",0,1))","v":""},{"$f":"IF(Table110[[#This Row],[Lent]]=\"\",\"\",IF(Table110[[#This Row],[Returned]]=\"\",0,1))","v":""}]
[{"$nulls":11},{"$f":"IF(IF(Table110[[#This Row],[Disposition]]=\"Retired\",\"N/A\",IF(Table110[[#This Row],[Disposition]]=0,\"\",K120+$F$2))=0+$F$2,\"NEVER CALIBRATED\",IF(Table110[[#This Row],[Disposition]]=\"Retired\",\"N/A\",IF(Table110[[#This Row],[Disposition]]=0,\"\",K120+$F$2)))","v":""},{"$f":"IF(Table110[[#This Row],[Disposition]]=\"\",\"\",IF(AND(Table110[[#This Row],[Next Calibration]]<$E$1,Table110[[#This Row],[Disposition]]=\"Lost\"),\"Find and Calibrate\",IF(Table110[[#This Row],[Disposition]]=\"Lost\",\"Find\",IF(OR(Table110[[#This Row],[Next Calibration]]<$E$1,Table110[[#This Row],[Next Calibration]]=\"NEVER CALIBRATED\"),\"Calibrate\",\"Nominal\"))))","v":""},{"$f":"IF(((Table110[[#This Row],[Next Calibration]]-TODAY())/30)>2,\"More Than 2\",IF(((Table110[[#This Row],[Next Calibration]]-TODAY())/30)>1,\"Between 2 and 1\",\"Less than 1\"))","v":{"$error":"#VALUE!"}},{"$f":"IF(Table110[[#This Row],[Issued]]=\"\",\"\",IF(Table110[[#This Row],[Lent]]=\"\",0,1))","v":""},{"$f":"IF(Table110[[#This Row],[Lent]]=\"\",\"\",IF(Table110[[#This Row],[Returned]]=\"\",0,1))","v":""}]
[{"$nulls":11},{"$f":"IF(IF(Table110[[#This Row],[Disposition]]=\"Retired\",\"N/A\",IF(Table110[[#This Row],[Disposition]]=0,\"\",K121+$F$2))=0+$F$2,\"NEVER CALIBRATED\",IF(Table110[[#This Row],[Disposition]]=\"Retired\",\"N/A\",IF(Table110[[#This Row],[Disposition]]=0,\"\",K121+$F$2)))","v":""},{"$f":"IF(Table110[[#This Row],[Disposition]]=\"\",\"\",IF(AND(Table110[[#This Row],[Next Calibration]]<$E$1,Table110[[#This Row],[Disposition]]=\"Lost\"),\"Find and Calibrate\",IF(Table110[[#This Row],[Disposition]]=\"Lost\",\"Find\",IF(OR(Table110[[#This Row],[Next Calibration]]<$E$1,Table110[[#This Row],[Next Calibration]]=\"NEVER CALIBRATED\"),\"Calibrate\",\"Nominal\"))))","v":""},{"$f":"IF(((Table110[[#This Row],[Next Calibration]]-TODAY())/30)>2,\"More Than 2\",IF(((Table110[[#This Row],[Next Calibration]]-TODAY())/30)>1,\"Between 2 and 1\",\"Less than 1\"))","v":{"$error":"#VALUE!"}},{"$f":"IF(Table110[[#This Row],[Issued]]=\"\",\"\",IF(Table110[[#This Row],[Lent]]=\"\",0,1))","v":""},{"$f":"IF(Table110[[#This Row],[Lent]]=\"\",\"\",IF(Table110[[#This Row],[Returned]]=\"\",0,1))","v":""}]
[{"$nulls":11},{"$f":"IF(IF(Table110[[#This Row],[Disposition]]=\"Retired\",\"N/A\",IF(Table110[[#This Row],[Disposition]]=0,\"\",K122+$F$2))=0+$F$2,\"NEVER CALIBRATED\",IF(Table110[[#This Row],[Disposition]]=\"Retired\",\"N/A\",IF(Table110[[#This Row],[Disposition]]=0,\"\",K122+$F$2)))","v":""},{"$f":"IF(Table110[[#This Row],[Disposition]]=\"\",\"\",IF(AND(Table110[[#This Row],[Next Calibration]]<$E$1,Table110[[#This Row],[Disposition]]=\"Lost\"),\"Find and Calibrate\",IF(Table110[[#This Row],[Disposition]]=\"Lost\",\"Find\",IF(OR(Table110[[#This Row],[Next Calibration]]<$E$1,Table110[[#This Row],[Next Calibration]]=\"NEVER CALIBRATED\"),\"Calibrate\",\"Nominal\"))))","v":""},{"$f":"IF(((Table110[[#This Row],[Next Calibration]]-TODAY())/30)>2,\"More Than 2\",IF(((Table110[[#This Row],[Next Calibration]]-TODAY())/30)>1,\"Between 2 and 1\",\"Less than 1\"))","v":{"$error":"#VALUE!"}},{"$f":"IF(Table110[[#This Row],[Issued]]=\"\",\"\",IF(Table110[[#This Row],[Lent]]=\"\",0,1))","v":""},{"$f":"IF(Table110[[#This Row],[Lent]]=\"\",\"\",IF(Table110[[#This Row],[Returned]]=\"\",0,1))","v":""}]
[{"$nulls":11},{"$f":"IF(IF(Table110[[#This Row],[Disposition]]=\"Retired\",\"N/A\",IF(Table110[[#This Row],[Disposition]]=0,\"\",K123+$F$2))=0+$F$2,\"NEVER CALIBRATED\",IF(Table110[[#This Row],[Disposition]]=\"Retired\",\"N/A\",IF(Table110[[#This Row],[Disposition]]=0,\"\",K123+$F$2)))","v":""},{"$f":"IF(Table110[[#This Row],[Disposition]]=\"\",\"\",IF(AND(Table110[[#This Row],[Next Calibration]]<$E$1,Table110[[#This Row],[Disposition]]=\"Lost\"),\"Find and Calibrate\",IF(Table110[[#This Row],[Disposition]]=\"Lost\",\"Find\",IF(OR(Table110[[#This Row],[Next Calibration]]<$E$1,Table110[[#This Row],[Next Calibration]]=\"NEVER CALIBRATED\"),\"Calibrate\",\"Nominal\"))))","v":""},{"$f":"IF(((Table110[[#This Row],[Next Calibration]]-TODAY())/30)>2,\"More Than 2\",IF(((Table110[[#This Row],[Next Calibration]]-TODAY())/30)>1,\"Between 2 and 1\",\"Less than 1\"))","v":{"$error":"#VALUE!"}},{"$f":"IF(Table110[[#This Row],[Issued]]=\"\",\"\",IF(Table110[[#This Row],[Lent]]=\"\",0,1))","v":""},{"$f":"IF(Table110[[#This Row],[Lent]]=\"\",\"\",IF(Table110[[#This Row],[Returned]]=\"\",0,1))","v":""}]
[{"$nulls":11},{"$f":"IF(IF(Table110[[#This Row],[Disposition]]=\"Retired\",\"N/A\",IF(Table110[[#This Row],[Disposition]]=0,\"\",K124+$F$2))=0+$F$2,\"NEVER CALIBRATED\",IF(Table110[[#This Row],[Disposition]]=\"Retired\",\"N/A\",IF(Table110[[#This Row],[Disposition]]=0,\"\",K124+$F$2)))","v":""},{"$f":"IF(Table110[[#This Row],[Disposition]]=\"\",\"\",IF(AND(Table110[[#This Row],[Next Calibration]]<$E$1,Table110[[#This Row],[Disposition]]=\"Lost\"),\"Find and Calibrate\",IF(Table110[[#This Row],[Disposition]]=\"Lost\",\"Find\",IF(OR(Table110[[#This Row],[Next Calibration]]<$E$1,Table110[[#This Row],[Next Calibration]]=\"NEVER CALIBRATED\"),\"Calibrate\",\"Nominal\"))))","v":""},{"$f":"IF(((Table110[[#This Row],[Next Calibration]]-TODAY())/30)>2,\"More Than 2\",IF(((Table110[[#This Row],[Next Calibration]]-TODAY())/30)>1,\"Between 2 and 1\",\"Less than 1\"))","v":{"$error":"#VALUE!"}},{"$f":"IF(Table110[[#This Row],[Issued]]=\"\",\"\",IF(Table110[[#This Row],[Lent]]=\"\",0,1))","v":""},{"$f":"IF(Table110[[#This Row],[Lent]]=\"\",\"\",IF(Table110[[#This Row],[Returned]]=\"\",0,1))","v":""}]
[{"$nulls":11},{"$f":"IF(IF(Table110[[#This Row],[Disposition]]=\"Retired\",\"N/A\",IF(Table110[[#This Row],[Disposition]]=0,\"\",K125+$F$2))=0+$F$2,\"NEVER CALIBRATED\",IF(Table110[[#This Row],[Disposition]]=\"Retired\",\"N/A\",IF(Table110[[#This Row],[Disposition]]=0,\"\",K125+$F$2)))","v":""},{"$f":"IF(Table110[[#This Row],[Disposition]]=\"\",\"\",IF(AND(Table110[[#This Row],[Next Calibration]]<$E$1,Table110[[#This Row],[Disposition]]=\"Lost\"),\"Find and Calibrate\",IF(Table110[[#This Row],[Disposition]]=\"Lost\",\"Find\",IF(OR(Table110[[#This Row],[Next Calibration]]<$E$1,Table110[[#This Row],[Next Calibration]]=\"NEVER CALIBRATED\"),\"Calibrate\",\"Nominal\"))))","v":""},{"$f":"IF(((Table110[[#This Row],[Next Calibration]]-TODAY())/30)>2,\"More Than 2\",IF(((Table110[[#This Row],[Next Calibration]]-TODAY())/30)>1,\"Between 2 and 1\",\"Less than 1\"))","v":{"$error":"#VALUE!"}},{"$f":"IF(Table110[[#This Row],[Issued]]=\"\",\"\",IF(Table110[[#This Row],[Lent]]=\"\",0,1))","v":""},{"$f":"IF(Table110[[#This Row],[Lent]]=\"\",\"\",IF(Table110[[#This Row],[Returned]]=\"\",0,1))","v":""}]
[{"$nulls":11},{"$f":"IF(IF(Table110[[#This Row],[Disposition]]=\"Retired\",\"N/A\",IF(Table110[[#This Row],[Disposition]]=0,\"\",K126+$F$2))=0+$F$2,\"NEVER CALIBRATED\",IF(Table110[[#This Row],[Disposition]]=\"Retired\",\"N/A\",IF(Table110[[#This Row],[Disposition]]=0,\"\",K126+$F$2)))","v":""},{"$f":"IF(Table110[[#This Row],[Disposition]]=\"\",\"\",IF(AND(Table110[[#This Row],[Next Calibration]]<$E$1,Table110[[#This Row],[Disposition]]=\"Lost\"),\"Find and Calibrate\",IF(Table110[[#This Row],[Disposition]]=\"Lost\",\"Find\",IF(OR(Table110[[#This Row],[Next Calibration]]<$E$1,Table110[[#This Row],[Next Calibration]]=\"NEVER CALIBRATED\"),\"Calibrate\",\"Nominal\"))))","v":""},{"$f":"IF(((Table110[[#This Row],[Next Calibration]]-TODAY())/30)>2,\"More Than 2\",IF(((Table110[[#This Row],[Next Calibration]]-TODAY())/30)>1,\"Between 2 and 1\",\"Less than 1\"))","v":{"$error":"#VALUE!"}},{"$f":"IF(Table110[[#This Row],[Issued]]=\"\",\"\",IF(Table110[[#This Row],[Lent]]=\"\",0,1))","v":""},{"$f":"IF(Table110[[#This Row],[Lent]]=\"\",\"\",IF(Table110[[#This Row],[Returned]]=\"\",0,1))","v":""}]
[{"$nulls":11},{"$f":"IF(IF(Table110[[#This Row],[Disposition]]=\"Retired\",\"N/A\",IF(Table110[[#This Row],[Disposition]]=0,\"\",K127+$F$2))=0+$F$2,\"NEVER CALIBRATED\",IF(Table110[[#This Row],[Disposition]]=\"Retired\",\"N/A\",IF(Table110[[#This Row],[Disposition]]=0,\"\",K127+$F$2)))","v":""},{"$f":"IF(Table110[[#This Row],[Disposition]]=\"\",\"\",IF(AND(Table110[[#This Row],[Next Calibration]]<$E$1,Table110[[#This Row],[Disposition]]=\"Lost\"),\"Find and Calibrate\",IF(Table110[[#This Row],[Disposition]]=\"Lost\",\"Find\",IF(OR(Table110[[#This Row],[Next Calibration]]<$E$1,Table110[[#This Row],[Next Calibration]]=\"NEVER CALIBRATED\"),\"Calibrate\",\"Nominal\"))))","v":""},{"$f":"IF(((Table110[[#This Row],[Next Calibration]]-TODAY())/30)>2,\"More Than 2\",IF(((Table110[[#This Row],[Next Calibration]]-TODAY())/30)>1,\"Between 2 and 1\",\"Less than 1\"))","v":{"$error":"#VALUE!"}},{"$f":"IF(Table110[[#This Row],[Issued]]=\"\",\"\",IF(Table110[[#This Row],[Lent]]=\"\",0,1))","v":""},{"$f":"IF(Table110[[#This Row],[Lent]]=\"\",\"\",IF(Table110[[#This Row],[Returned]]=\"\",0,1))","v":""}]
[{"$nulls":11},{"$f":"IF(IF(Table110[[#This Row],[Disposition]]=\"Retired\",\"N/A\",IF(Table110[[#This Row],[Disposition]]=0,\"\",K128+$F$2))=0+$F$2,\"NEVER CALIBRATED\",IF(Table110[[#This Row],[Disposition]]=\"Retired\",\"N/A\",IF(Table110[[#This Row],[Disposition]]=0,\"\",K128+$F$2)))","v":""},{"$f":"IF(Table110[[#This Row],[Disposition]]=\"\",\"\",IF(AND(Table110[[#This Row],[Next Calibration]]<$E$1,Table110[[#This Row],[Disposition]]=\"Lost\"),\"Find and Calibrate\",IF(Table110[[#This Row],[Disposition]]=\"Lost\",\"Find\",IF(OR(Table110[[#This Row],[Next Calibration]]<$E$1,Table110[[#This Row],[Next Calibration]]=\"NEVER CALIBRATED\"),\"Calibrate\",\"Nominal\"))))","v":""},{"$f":"IF(((Table110[[#This Row],[Next Calibration]]-TODAY())/30)>2,\"More Than 2\",IF(((Table110[[#This Row],[Next Calibration]]-TODAY())/30)>1,\"Between 2 and 1\",\"Less than 1\"))","v":{"$error":"#VALUE!"}},{"$f":"IF(Table110[[#This Row],[Issued]]=\"\",\"\",IF(Table110[[#This Row],[Lent]]=\"\",0,1))","v":""},{"$f":"IF(Table110[[#This Row],[Lent]]=\"\",\"\",IF(Table110[[#This Row],[Returned]]=\"\",0,1))","v":""}]
[{"$nulls":11},{"$f":"IF(IF(Table110[[#This Row],[Disposition]]=\"Retired\",\"N/A\",IF(Table110[[#This Row],[Disposition]]=0,\"\",K129+$F$2))=0+$F$2,\"NEVER CALIBRATED\",IF(Table110[[#This Row],[Disposition]]=\"Retired\",\"N/A\",IF(Table110[[#This Row],[Disposition]]=0,\"\",K129+$F$2)))","v":""},{"$f":"IF(Table110[[#This Row],[Disposition]]=\"\",\"\",IF(AND(Table110[[#This Row],[Next Calibration]]<$E$1,Table110[[#This Row],[Disposition]]=\"Lost\"),\"Find and Calibrate\",IF(Table110[[#This Row],[Disposition]]=\"Lost\",\"Find\",IF(OR(Table110[[#This Row],[Next Calibration]]<$E$1,Table110[[#This Row],[Next Calibration]]=\"NEVER CALIBRATED\"),\"Calibrate\",\"Nominal\"))))","v":""},{"$f":"IF(((Table110[[#This Row],[Next Calibration]]-TODAY())/30)>2,\"More Than 2\",IF(((Table110[[#This Row],[Next Calibration]]-TODAY())/30)>1,\"Between 2 and 1\",\"Less than 1\"))","v":{"$error":"#VALUE!"}},{"$f":"IF(Table110[[#This Row],[Issued]]=\"\",\"\",IF(Table110[[#This Row],[Lent]]=\"\",0,1))","v":""},{"$f":"IF(Table110[[#This Row],[Lent]]=\"\",\"\",IF(Table110[[#This Row],[Returned]]=\"\",0,1))","v":""}]
[{"$nulls":11},{"$f":"IF(IF(Table110[[#This Row],[Disposition]]=\"Retired\",\"N/A\",IF(Table110[[#This Row],[Disposition]]=0,\"\",K130+$F$2))=0+$F$2,\"NEVER CALIBRATED\",IF(Table110[[#This Row],[Disposition]]=\"Retired\",\"N/A\",IF(Table110[[#This Row],[Disposition]]=0,\"\",K130+$F$2)))","v":""},{"$f":"IF(Table110[[#This Row],[Disposition]]=\"\",\"\",IF(AND(Table110[[#This Row],[Next Calibration]]<$E$1,Table110[[#This Row],[Disposition]]=\"Lost\"),\"Find and Calibrate\",IF(Table110[[#This Row],[Disposition]]=\"Lost\",\"Find\",IF(OR(Table110[[#This Row],[Next Calibration]]<$E$1,Table110[[#This Row],[Next Calibration]]=\"NEVER CALIBRATED\"),\"Calibrate\",\"Nominal\"))))","v":""},{"$f":"IF(((Table110[[#This Row],[Next Calibration]]-TODAY())/30)>2,\"More Than 2\",IF(((Table110[[#This Row],[Next Calibration]]-TODAY())/30)>1,\"Between 2 and 1\",\"Less than 1\"))","v":{"$error":"#VALUE!"}},{"$f":"IF(Table110[[#This Row],[Issued]]=\"\",\"\",IF(Table110[[#This Row],[Lent]]=\"\",0,1))","v":""},{"$f":"IF(Table110[[#This Row],[Lent]]=\"\",\"\",IF(Table110[[#This Row],[Returned]]=\"\",0,1))","v":""}]
[{"$nulls":11},{"$f":"IF(IF(Table110[[#This Row],[Disposition]]=\"Retired\",\"N/A\",IF(Table110[[#This Row],[Disposition]]=0,\"\",K131+$F$2))=0+$F$2,\"NEVER CALIBRATED\",IF(Table110[[#This Row],[Disposition]]=\"Retired\",\"N/A\",IF(Table110[[#This Row],[Disposition]]=0,\"\",K131+$F$2)))","v":""},{"$f":"IF(Table110[[#This Row],[Disposition]]=\"\",\"\",IF(AND(Table110[[#This Row],[Next Calibration]]<$E$1,Table110[[#This Row],[Disposition]]=\"Lost\"),\"Find and Calibrate\",IF(Table110[[#This Row],[Disposition]]=\"Lost\",\"Find\",IF(OR(Table110[[#This Row],[Next Calibration]]<$E$1,Table110[[#This Row],[Next Calibration]]=\"NEVER CALIBRATED\"),\"Calibrate\",\"Nominal\"))))","v":""},{"$f":"IF(((Table110[[#This Row],[Next Calibration]]-TODAY())/30)>2,\"More Than 2\",IF(((Table110[[#This Row],[Next Calibration]]-TODAY())/30)>1,\"Between 2 and 1\",\"Less than 1\"))","v":{"$error":"#VALUE!"}},{"$f":"IF(Table110[[#This Row],[Issued]]=\"\",\"\",IF(Table110[[#This Row],[Lent]]=\"\",0,1))","v":""},{"$f":"IF(Table110[[#This Row],[Lent]]=\"\",\"\",IF(Table110[[#This Row],[Returned]]=\"\",0,1))","v":""}]
[{"$nulls":11},{"$f":"IF(IF(Table110[[#This Row],[Disposition]]=\"Retired\",\"N/A\",IF(Table110[[#This Row],[Disposition]]=0,\"\",K132+$F$2))=0+$F$2,\"NEVER CALIBRATED\",IF(Table110[[#This Row],[Disposition]]=\"Retired\",\"N/A\",IF(Table110[[#This Row],[Disposition]]=0,\"\",K132+$F$2)))","v":""},{"$f":"IF(Table110[[#This Row],[Disposition]]=\"\",\"\",IF(AND(Table110[[#This Row],[Next Calibration]]<$E$1,Table110[[#This Row],[Disposition]]=\"Lost\"),\"Find and Calibrate\",IF(Table110[[#This Row],[Disposition]]=\"Lost\",\"Find\",IF(OR(Table110[[#This Row],[Next Calibration]]<$E$1,Table110[[#This Row],[Next Calibration]]=\"NEVER CALIBRATED\"),\"Calibrate\",\"Nominal\"))))","v":""},{"$f":"IF(((Table110[[#This Row],[Next Calibration]]-TODAY())/30)>2,\"More Than 2\",IF(((Table110[[#This Row],[Next Calibration]]-TODAY())/30)>1,\"Between 2 and 1\",\"Less than 1\"))","v":{"$error":"#VALUE!"}},{"$f":"IF(Table110[[#This Row],[Issued]]=\"\",\"\",IF(Table110[[#This Row],[Lent]]=\"\",0,1))","v":""},{"$f":"IF(Table110[[#This Row],[Lent]]=\"\",\"\",IF(Table110[[#This Row],[Returned]]=\"\",0,1))","v":""}]
[{"$nulls":11},{"$f":"IF(IF(Table110[[#This Row],[Disposition]]=\"Retired\",\"N/A\",IF(Table110[[#This Row],[Disposition]]=0,\"\",K133+$F$2))=0+$F$2,\"NEVER CALIBRATED\",IF(Table110[[#This Row],[Disposition]]=\"Retired\",\"N/A\",IF(Table110[[#This Row],[Disposition]]=0,\"\",K133+$F$2)))","v":""},{"$f":"IF(Table110[[#This Row],[Disposition]]=\"\",\"\",IF(AND(Table110[[#This Row],[Next Calibration]]<$E$1,Table110[[#This Row],[Disposition]]=\"Lost\"),\"Find and Calibrate\",IF(Table110[[#This Row],[Disposition]]=\"Lost\",\"Find\",IF(OR(Table110[[#This Row],[Next Calibration]]<$E$1,Table110[[#This Row],[Next Calibration]]=\"NEVER CALIBRATED\"),\"Calibrate\",\"Nominal\"))))","v":""},{"$f":"IF(((Table110[[#This Row],[Next Calibration]]-TODAY())/30)>2,\"More Than 2\",IF(((Table110[[#This Row],[Next Calibration]]-TODAY())/30)>1,\"Between 2 and 1\",\"Less than 1\"))","v":{"$error":"#VALUE!"}},{"$f":"IF(Table110[[#This Row],[Issued]]=\"\",\"\",IF(Table110[[#This Row],[Lent]]=\"\",0,1))","v":""},{"$f":"IF(Table110[[#This Row],[Lent]]=\"\",\"\",IF(Table110[[#This Row],[Returned]]=\"\",0,1))","v":""}]
[{"$nulls":11},{"$f":"IF(IF(Table110[[#This Row],[Disposition]]=\"Retired\",\"N/A\",IF(Table110[[#This Row],[Disposition]]=0,\"\",K134+$F$2))=0+$F$2,\"NEVER CALIBRATED\",IF(Table110[[#This Row],[Disposition]]=\"Retired\",\"N/A\",IF(Table110[[#This Row],[Disposition]]=0,\"\",K134+$F$2)))","v":""},{"$f":"IF(Table110[[#This Row],[Disposition]]=\"\",\"\",IF(AND(Table110[[#This Row],[Next Calibration]]<$E$1,Table110[[#This Row],[Disposition]]=\"Lost\"),\"Find and Calibrate\",IF(Table110[[#This Row],[Disposition]]=\"Lost\",\"Find\",IF(OR(Table110[[#This Row],[Next Calibration]]<$E$1,Table110[[#This Row],[Next Calibration]]=\"NEVER CALIBRATED\"),\"Calibrate\",\"Nominal\"))))","v":""},{"$f":"IF(((Table110[[#This Row],[Next Calibration]]-TODAY())/30)>2,\"More Than 2\",IF(((Table110[[#This Row],[Next Calibration]]-TODAY())/30)>1,\"Between 2 and 1\",\"Less than 1\"))","v":{"$error":"#VALUE!"}},{"$f":"IF(Table110[[#This Row],[Issued]]=\"\",\"\",IF(Table110[[#This Row],[Lent]]=\"\",0,1))","v":""},{"$f":"IF(Table110[[#This Row],[Lent]]=\"\",\"\",IF(Table110[[#This Row],[Returned]]=\"\",0,1))","v":""}]
[{"$nulls":11},{"$f":"IF(IF(Table110[[#This Row],[Disposition]]=\"Retired\",\"N/A\",IF(Table110[[#This Row],[Disposition]]=0,\"\",K135+$F$2))=0+$F$2,\"NEVER CALIBRATED\",IF(Table110[[#This Row],[Disposition]]=\"Retired\",\"N/A\",IF(Table110[[#This Row],[Disposition]]=0,\"\",K135+$F$2)))","v":""},{"$f":"IF(Table110[[#This Row],[Disposition]]=\"\",\"\",IF(AND(Table110[[#This Row],[Next Calibration]]<$E$1,Table110[[#This Row],[Disposition]]=\"Lost\"),\"Find and Calibrate\",IF(Table110[[#This Row],[Disposition]]=\"Lost\",\"Find\",IF(OR(Table110[[#This Row],[Next Calibration]]<$E$1,Table110[[#This Row],[Next Calibration]]=\"NEVER CALIBRATED\"),\"Calibrate\",\"Nominal\"))))","v":""},{"$f":"IF(((Table110[[#This Row],[Next Calibration]]-TODAY())/30)>2,\"More Than 2\",IF(((Table110[[#This Row],[Next Calibration]]-TODAY())/30)>1,\"Between 2 and 1\",\"Less than 1\"))","v":{"$error":"#VALUE!"}},{"$f":"IF(Table110[[#This Row],[Issued]]=\"\",\"\",IF(Table110[[#This Row],[Lent]]=\"\",0,1))","v":""},{"$f":"IF(Table110[[#This Row],[Lent]]=\"\",\"\",IF(Table110[[#This Row],[Returned]]=\"\",0,1))","v":""}]
[{"$nulls":11},{"$f":"IF(IF(Table110[[#This Row],[Disposition]]=\"Retired\",\"N/A\",IF(Table110[[#This Row],[Disposition]]=0,\"\",K136+$F$2))=0+$F$2,\"NEVER CALIBRATED\",IF(Table110[[#This Row],[Disposition]]=\"Retired\",\"N/A\",IF(Table110[[#This Row],[Disposition]]=0,\"\",K136+$F$2)))","v":""},{"$f":"IF(Table110[[#This Row],[Disposition]]=\"\",\"\",IF(AND(Table110[[#This Row],[Next Calibration]]<$E$1,Table110[[#This Row],[Disposition]]=\"Lost\"),\"Find and Calibrate\",IF(Table110[[#This Row],[Disposition]]=\"Lost\",\"Find\",IF(OR(Table110[[#This Row],[Next Calibration]]<$E$1,Table110[[#This Row],[Next Calibration]]=\"NEVER CALIBRATED\"),\"Calibrate\",\"Nominal\"))))","v":""},{"$f":"IF(((Table110[[#This Row],[Next Calibration]]-TODAY())/30)>2,\"More Than 2\",IF(((Table110[[#This Row],[Next Calibration]]-TODAY())/30)>1,\"Between 2 and 1\",\"Less than 1\"))","v":{"$error":"#VALUE!"}},{"$f":"IF(Table110[[#This Row],[Issued]]=\"\",\"\",IF(Table110[[#This Row],[Lent]]=\"\",0,1))","v":""},{"$f":"IF(Table110[[#This Row],[Lent]]=\"\",\"\",IF(Table110[[#This Row],[Returned]]=\"\",0,1))","v":""}]
[{"$nulls":11},{"$f":"IF(IF(Table110[[#This Row],[Disposition]]=\"Retired\",\"N/A\",IF(Table110[[#This Row],[Disposition]]=0,\"\",K137+$F$2))=0+$F$2,\"NEVER CALIBRATED\",IF(Table110[[#This Row],[Disposition]]=\"Retired\",\"N/A\",IF(Table110[[#This Row],[Disposition]]=0,\"\",K137+$F$2)))","v":""},{"$f":"IF(Table110[[#This Row],[Disposition]]=\"\",\"\",IF(AND(Table110[[#This Row],[Next Calibration]]<$E$1,Table110[[#This Row],[Disposition]]=\"Lost\"),\"Find and Calibrate\",IF(Table110[[#This Row],[Disposition]]=\"Lost\",\"Find\",IF(OR(Table110[[#This Row],[Next Calibration]]<$E$1,Table110[[#This Row],[Next Calibration]]=\"NEVER CALIBRATED\"),\"Calibrate\",\"Nominal\"))))","v":""},{"$f":"IF(((Table110[[#This Row],[Next Calibration]]-TODAY())/30)>2,\"More Than 2\",IF(((Table110[[#This Row],[Next Calibration]]-TODAY())/30)>1,\"Between 2 and 1\",\"Less than 1\"))","v":{"$error":"#VALUE!"}},{"$f":"IF(Table110[[#This Row],[Issued]]=\"\",\"\",IF(Table110[[#This Row],[Lent]]=\"\",0,1))","v":""},{"$f":"IF(Table110[[#This Row],[Lent]]=\"\",\"\",IF(Table110[[#This Row],[Returned]]=\"\",0,1))","v":""}]
[{"$nulls":11},{"$f":"IF(IF(Table110[[#This Row],[Disposition]]=\"Retired\",\"N/A\",IF(Table110[[#This Row],[Disposition]]=0,\"\",K138+$F$2))=0+$F$2,\"NEVER CALIBRATED\",IF(Table110[[#This Row],[Disposition]]=\"Retired\",\"N/A\",IF(Table110[[#This Row],[Disposition]]=0,\"\",K138+$F$2)))","v":""},{"$f":"IF(Table110[[#This Row],[Disposition]]=\"\",\"\",IF(AND(Table110[[#This Row],[Next Calibration]]<$E$1,Table110[[#This Row],[Disposition]]=\"Lost\"),\"Find and Calibrate\",IF(Table110[[#This Row],[Disposition]]=\"Lost\",\"Find\",IF(OR(Table110[[#This Row],[Next Calibration]]<$E$1,Table110[[#This Row],[Next Calibration]]=\"NEVER CALIBRATED\"),\"Calibrate\",\"Nominal\"))))","v":""},{"$f":"IF(((Table110[[#This Row],[Next Calibration]]-TODAY())/30)>2,\"More Than 2\",IF(((Table110[[#This Row],[Next Calibration]]-TODAY())/30)>1,\"Between 2 and 1\",\"Less than 1\"))","v":{"$error":"#VALUE!"}},{"$f":"IF(Table110[[#This Row],[Issued]]=\"\",\"\",IF(Table110[[#This Row],[Lent]]=\"\",0,1))","v":""},{"$f":"IF(Table110[[#This Row],[Lent]]=\"\",\"\",IF(Table110[[#This Row],[Returned]]=\"\",0,1))","v":""}]
[{"$nulls":11},{"$f":"IF(IF(Table110[[#This Row],[Disposition]]=\"Retired\",\"N/A\",IF(Table110[[#This Row],[Disposition]]=0,\"\",K139+$F$2))=0+$F$2,\"NEVER CALIBRATED\",IF(Table110[[#This Row],[Disposition]]=\"Retired\",\"N/A\",IF(Table110[[#This Row],[Disposition]]=0,\"\",K139+$F$2)))","v":""},{"$f":"IF(Table110[[#This Row],[Disposition]]=\"\",\"\",IF(AND(Table110[[#This Row],[Next Calibration]]<$E$1,Table110[[#This Row],[Disposition]]=\"Lost\"),\"Find and Calibrate\",IF(Table110[[#This Row],[Disposition]]=\"Lost\",\"Find\",IF(OR(Table110[[#This Row],[Next Calibration]]<$E$1,Table110[[#This Row],[Next Calibration]]=\"NEVER CALIBRATED\"),\"Calibrate\",\"Nominal\"))))","v":""},{"$f":"IF(((Table110[[#This Row],[Next Calibration]]-TODAY())/30)>2,\"More Than 2\",IF(((Table110[[#This Row],[Next Calibration]]-TODAY())/30)>1,\"Between 2 and 1\",\"Less than 1\"))","v":{"$error":"#VALUE!"}},{"$f":"IF(Table110[[#This Row],[Issued]]=\"\",\"\",IF(Table110[[#This Row],[Lent]]=\"\",0,1))","v":""},{"$f":"IF(Table110[[#This Row],[Lent]]=\"\",\"\",IF(Table110[[#This Row],[Returned]]=\"\",0,1))","v":""}]
[{"$nulls":11},{"$f":"IF(IF(Table110[[#This Row],[Disposition]]=\"Retired\",\"N/A\",IF(Table110[[#This Row],[Disposition]]=0,\"\",K140+$F$2))=0+$F$2,\"NEVER CALIBRATED\",IF(Table110[[#This Row],[Disposition]]=\"Retired\",\"N/A\",IF(Table110[[#This Row],[Disposition]]=0,\"\",K140+$F$2)))","v":""},{"$f":"IF(Table110[[#This Row],[Disposition]]=\"\",\"\",IF(AND(Table110[[#This Row],[Next Calibration]]<$E$1,Table110[[#This Row],[Disposition]]=\"Lost\"),\"Find and Calibrate\",IF(Table110[[#This Row],[Disposition]]=\"Lost\",\"Find\",IF(OR(Table110[[#This Row],[Next Calibration]]<$E$1,Table110[[#This Row],[Next Calibration]]=\"NEVER CALIBRATED\"),\"Calibrate\",\"Nominal\"))))","v":""},{"$f":"IF(((Table110[[#This Row],[Next Calibration]]-TODAY())/30)>2,\"More Than 2\",IF(((Table110[[#This Row],[Next Calibration]]-TODAY())/30)>1,\"Between 2 and 1\",\"Less than 1\"))","v":{"$error":"#VALUE!"}},{"$f":"IF(Table110[[#This Row],[Issued]]=\"\",\"\",IF(Table110[[#This Row],[Lent]]=\"\",0,1))","v":""},{"$f":"IF(Table110[[#This Row],[Lent]]=\"\",\"\",IF(Table110[[#This Row],[Returned]]=\"\",0,1))","v":""}]
[{"$nulls":11},{"$f":"IF(IF(Table110[[#This Row],[Disposition]]=\"Retired\",\"N/A\",IF(Table110[[#This Row],[Disposition]]=0,\"\",K141+$F$2))=0+$F$2,\"NEVER CALIBRATED\",IF(Table110[[#This Row],[Disposition]]=\"Retired\",\"N/A\",IF(Table110[[#This Row],[Disposition]]=0,\"\",K141+$F$2)))","v":""},{"$f":"IF(Table110[[#This Row],[Disposition]]=\"\",\"\",IF(AND(Table110[[#This Row],[Next Calibration]]<$E$1,Table110[[#This Row],[Disposition]]=\"Lost\"),\"Find and Calibrate\",IF(Table110[[#This Row],[Disposition]]=\"Lost\",\"Find\",IF(OR(Table110[[#This Row],[Next Calibration]]<$E$1,Table110[[#This Row],[Next Calibration]]=\"NEVER CALIBRATED\"),\"Calibrate\",\"Nominal\"))))","v":""},{"$f":"IF(((Table110[[#This Row],[Next Calibration]]-TODAY())/30)>2,\"More Than 2\",IF(((Table110[[#This Row],[Next Calibration]]-TODAY())/30)>1,\"Between 2 and 1\",\"Less than 1\"))","v":{"$error":"#VALUE!"}},{"$f":"IF(Table110[[#This Row],[Issued]]=\"\",\"\",IF(Table110[[#This Row],[Lent]]=\"\",0,1))","v":""},{"$f":"IF(Table110[[#This Row],[Lent]]=\"\",\"\",IF(Table110[[#This Row],[Returned]]=\"\",0,1))","v":""}]
[{"$nulls":11},{"$f":"IF(IF(Table110[[#This Row],[Disposition]]=\"Retired\",\"N/A\",IF(Table110[[#This Row],[Disposition]]=0,\"\",K142+$F$2))=0+$F$2,\"NEVER CALIBRATED\",IF(Table110[[#This Row],[Disposition]]=\"Retired\",\"N/A\",IF(Table110[[#This Row],[Disposition]]=0,\"\",K142+$F$2)))","v":""},{"$f":"IF(Table110[[#This Row],[Disposition]]=\"\",\"\",IF(AND(Table110[[#This Row],[Next Calibration]]<$E$1,Table110[[#This Row],[Disposition]]=\"Lost\"),\"Find and Calibrate\",IF(Table110[[#This Row],[Disposition]]=\"Lost\",\"Find\",IF(OR(Table110[[#This Row],[Next Calibration]]<$E$1,Table110[[#This Row],[Next Calibration]]=\"NEVER CALIBRATED\"),\"Calibrate\",\"Nominal\"))))","v":""},{"$f":"IF(((Table110[[#This Row],[Next Calibration]]-TODAY())/30)>2,\"More Than 2\",IF(((Table110[[#This Row],[Next Calibration]]-TODAY())/30)>1,\"Between 2 and 1\",\"Less than 1\"))","v":{"$error":"#VALUE!"}},{"$f":"IF(Table110[[#This Row],[Issued]]=\"\",\"\",IF(Table110[[#This Row],[Lent]]=\"\",0,1))","v":""},{"$f":"IF(Table110[[#This Row],[Lent]]=\"\",\"\",IF(Table110[[#This Row],[Returned]]=\"\",0,1))","v":""}]
[{"$nulls":11},{"$f":"IF(IF(Table110[[#This Row],[Disposition]]=\"Retired\",\"N/A\",IF(Table110[[#This Row],[Disposition]]=0,\"\",K143+$F$2))=0+$F$2,\"NEVER CALIBRATED\",IF(Table110[[#This Row],[Disposition]]=\"Retired\",\"N/A\",IF(Table110[[#This Row],[Disposition]]=0,\"\",K143+$F$2)))","v":""},{"$f":"IF(Table110[[#This Row],[Disposition]]=\"\",\"\",IF(AND(Table110[[#This Row],[Next Calibration]]<$E$1,Table110[[#This Row],[Disposition]]=\"Lost\"),\"Find and Calibrate\",IF(Table110[[#This Row],[Disposition]]=\"Lost\",\"Find\",IF(OR(Table110[[#This Row],[Next Calibration]]<$E$1,Table110[[#This Row],[Next Calibration]]=\"NEVER CALIBRATED\"),\"Calibrate\",\"Nominal\"))))","v":""},{"$f":"IF(((Table110[[#This Row],[Next Calibration]]-TODAY())/30)>2,\"More Than 2\",IF(((Table110[[#This Row],[Next Calibration]]-TODAY())/30)>1,\"Between 2 and 1\",\"Less than 1\"))","v":{"$error":"#VALUE!"}},{"$f":"IF(Table110[[#This Row],[Issued]]=\"\",\"\",IF(Table110[[#This Row],[Lent]]=\"\",0,1))","v":""},{"$f":"IF(Table110[[#This Row],[Lent]]=\"\",\"\",IF(Table110[[#This Row],[Returned]]=\"\",0,1))","v":""}]
[{"$nulls":11},{"$f":"IF(IF(Table110[[#This Row],[Disposition]]=\"Retired\",\"N/A\",IF(Table110[[#This Row],[Disposition]]=0,\"\",K144+$F$2))=0+$F$2,\"NEVER CALIBRATED\",IF(Table110[[#This Row],[Disposition]]=\"Retired\",\"N/A\",IF(Table110[[#This Row],[Disposition]]=0,\"\",K144+$F$2)))","v":""},{"$f":"IF(Table110[[#This Row],[Disposition]]=\"\",\"\",IF(AND(Table110[[#This Row],[Next Calibration]]<$E$1,Table110[[#This Row],[Disposition]]=\"Lost\"),\"Find and Calibrate\",IF(Table110[[#This Row],[Disposition]]=\"Lost\",\"Find\",IF(OR(Table110[[#This Row],[Next Calibration]]<$E$1,Table110[[#This Row],[Next Calibration]]=\"NEVER CALIBRATED\"),\"Calibrate\",\"Nominal\"))))","v":""},{"$f":"IF(((Table110[[#This Row],[Next Calibration]]-TODAY())/30)>2,\"More Than 2\",IF(((Table110[[#This Row],[Next Calibration]]-TODAY())/30)>1,\"Between 2 and 1\",\"Less than 1\"))","v":{"$error":"#VALUE!"}},{"$f":"IF(Table110[[#This Row],[Issued]]=\"\",\"\",IF(Table110[[#This Row],[Lent]]=\"\",0,1))","v":""},{"$f":"IF(Table110[[#This Row],[Lent]]=\"\",\"\",IF(Table110[[#This Row],[Returned]]=\"\",0,1))","v":""}]
[{"$nulls":11},{"$f":"IF(IF(Table110[[#This Row],[Disposition]]=\"Retired\",\"N/A\",IF(Table110[[#This Row],[Disposition]]=0,\"\",K145+$F$2))=0+$F$2,\"NEVER CALIBRATED\",IF(Table110[[#This Row],[Disposition]]=\"Retired\",\"N/A\",IF(Table110[[#This Row],[Disposition]]=0,\"\",K145+$F$2)))","v":""},{"$f":"IF(Table110[[#This Row],[Disposition]]=\"\",\"\",IF(AND(Table110[[#This Row],[Next Calibration]]<$E$1,Table110[[#This Row],[Disposition]]=\"Lost\"),\"Find and Calibrate\",IF(Table110[[#This Row],[Disposition]]=\"Lost\",\"Find\",IF(OR(Table110[[#This Row],[Next Calibration]]<$E$1,Table110[[#This Row],[Next Calibration]]=\"NEVER CALIBRATED\"),\"Calibrate\",\"Nominal\"))))","v":""},{"$f":"IF(((Table110[[#This Row],[Next Calibration]]-TODAY())/30)>2,\"More Than 2\",IF(((Table110[[#This Row],[Next Calibration]]-TODAY())/30)>1,\"Between 2 and 1\",\"Less than 1\"))","v":{"$error":"#VALUE!"}},{"$f":"IF(Table110[[#This Row],[Issued]]=\"\",\"\",IF(Table110[[#This Row],[Lent]]=\"\",0,1))","v":""},{"$f":"IF(Table110[[#This Row],[Lent]]=\"\",\"\",IF(Table110[[#This Row],[Returned]]=\"\",0,1))","v":""}]
[{"$nulls":11},{"$f":"IF(IF(Table110[[#This Row],[Disposition]]=\"Retired\",\"N/A\",IF(Table110[[#This Row],[Disposition]]=0,\"\",K146+$F$2))=0+$F$2,\"NEVER CALIBRATED\",IF(Table110[[#This Row],[Disposition]]=\"Retired\",\"N/A\",IF(Table110[[#This Row],[Disposition]]=0,\"\",K146+$F$2)))","v":""},{"$f":"IF(Table110[[#This Row],[Disposition]]=\"\",\"\",IF(AND(Table110[[#This Row],[Next Calibration]]<$E$1,Table110[[#This Row],[Disposition]]=\"Lost\"),\"Find and Calibrate\",IF(Table110[[#This Row],[Disposition]]=\"Lost\",\"Find\",IF(OR(Table110[[#This Row],[Next Calibration]]<$E$1,Table110[[#This Row],[Next Calibration]]=\"NEVER CALIBRATED\"),\"Calibrate\",\"Nominal\"))))","v":""},{"$f":"IF(((Table110[[#This Row],[Next Calibration]]-TODAY())/30)>2,\"More Than 2\",IF(((Table110[[#This Row],[Next Calibration]]-TODAY())/30)>1,\"Between 2 and 1\",\"Less than 1\"))","v":{"$error":"#VALUE!"}},{"$f":"IF(Table110[[#This Row],[Issued]]=\"\",\"\",IF(Table110[[#This Row],[Lent]]=\"\",0,1))","v":""},{"$f":"IF(Table110[[#This Row],[Lent]]=\"\",\"\",IF(Table110[[#This Row],[Returned]]=\"\",0,1))","v":""}]
[{"$nulls":11},{"$f":"IF(IF(Table110[[#This Row],[Disposition]]=\"Retired\",\"N/A\",IF(Table110[[#This Row],[Disposition]]=0,\"\",K147+$F$2))=0+$F$2,\"NEVER CALIBRATED\",IF(Table110[[#This Row],[Disposition]]=\"Retired\",\"N/A\",IF(Table110[[#This Row],[Disposition]]=0,\"\",K147+$F$2)))","v":""},{"$f":"IF(Table110[[#This Row],[Disposition]]=\"\",\"\",IF(AND(Table110[[#This Row],[Next Calibration]]<$E$1,Table110[[#This Row],[Disposition]]=\"Lost\"),\"Find and Calibrate\",IF(Table110[[#This Row],[Disposition]]=\"Lost\",\"Find\",IF(OR(Table110[[#This Row],[Next Calibration]]<$E$1,Table110[[#This Row],[Next Calibration]]=\"NEVER CALIBRATED\"),\"Calibrate\",\"Nominal\"))))","v":""},{"$f":"IF(((Table110[[#This Row],[Next Calibration]]-TODAY())/30)>2,\"More Than 2\",IF(((Table110[[#This Row],[Next Calibration]]-TODAY())/30)>1,\"Between 2 and 1\",\"Less than 1\"))","v":{"$error":"#VALUE!"}},{"$f":"IF(Table110[[#This Row],[Issued]]=\"\",\"\",IF(Table110[[#This Row],[Lent]]=\"\",0,1))","v":""},{"$f":"IF(Table110[[#This Row],[Lent]]=\"\",\"\",IF(Table110[[#This Row],[Returned]]=\"\",0,1))","v":""}]
[{"$nulls":11},{"$f":"IF(IF(Table110[[#This Row],[Disposition]]=\"Retired\",\"N/A\",IF(Table110[[#This Row],[Disposition]]=0,\"\",K148+$F$2))=0+$F$2,\"NEVER CALIBRATED\",IF(Table110[[#This Row],[Disposition]]=\"Retired\",\"N/A\",IF(Table110[[#This Row],[Disposition]]=0,\"\",K148+$F$2)))","v":""},{"$f":"IF(Table110[[#This Row],[Disposition]]=\"\",\"\",IF(AND(Table110[[#This Row],[Next Calibration]]<$E$1,Table110[[#This Row],[Disposition]]=\"Lost\"),\"Find and Calibrate\",IF(Table110[[#This Row],[Disposition]]=\"Lost\",\"Find\",IF(OR(Table110[[#This Row],[Next Calibration]]<$E$1,Table110[[#This Row],[Next Calibration]]=\"NEVER CALIBRATED\"),\"Calibrate\",\"Nominal\"))))","v":""},{"$f":"IF(((Table110[[#This Row],[Next Calibration]]-TODAY())/30)>2,\"More Than 2\",IF(((Table110[[#This Row],[Next Calibration]]-TODAY())/30)>1,\"Between 2 and 1\",\"Less than 1\"))","v":{"$error":"#VALUE!"}},{"$f":"IF(Table110[[#This Row],[Issued]]=\"\",\"\",IF(Table110[[#This Row],[Lent]]=\"\",0,1))","v":""},{"$f":"IF(Table110[[#This Row],[Lent]]=\"\",\"\",IF(Table110[[#This Row],[Returned]]=\"\",0,1))","v":""}]
[{"$nulls":11},{"$f":"IF(IF(Table110[[#This Row],[Disposition]]=\"Retired\",\"N/A\",IF(Table110[[#This Row],[Disposition]]=0,\"\",K149+$F$2))=0+$F$2,\"NEVER CALIBRATED\",IF(Table110[[#This Row],[Disposition]]=\"Retired\",\"N/A\",IF(Table110[[#This Row],[Disposition]]=0,\"\",K149+$F$2)))","v":""},{"$f":"IF(Table110[[#This Row],[Disposition]]=\"\",\"\",IF(AND(Table110[[#This Row],[Next Calibration]]<$E$1,Table110[[#This Row],[Disposition]]=\"Lost\"),\"Find and Calibrate\",IF(Table110[[#This Row],[Disposition]]=\"Lost\",\"Find\",IF(OR(Table110[[#This Row],[Next Calibration]]<$E$1,Table110[[#This Row],[Next Calibration]]=\"NEVER CALIBRATED\"),\"Calibrate\",\"Nominal\"))))","v":""},{"$f":"IF(((Table110[[#This Row],[Next Calibration]]-TODAY())/30)>2,\"More Than 2\",IF(((Table110[[#This Row],[Next Calibration]]-TODAY())/30)>1,\"Between 2 and 1\",\"Less than 1\"))","v":{"$error":"#VALUE!"}},{"$f":"IF(Table110[[#This Row],[Issued]]=\"\",\"\",IF(Table110[[#This Row],[Lent]]=\"\",0,1))","v":""},{"$f":"IF(Table110[[#This Row],[Lent]]=\"\",\"\",IF(Table110[[#This Row],[Returned]]=\"\",0,1))","v":""}]
[{"$nulls":11},{"$f":"IF(IF(Table110[[#This Row],[Disposition]]=\"Retired\",\"N/A\",IF(Table110[[#This Row],[Disposition]]=0,\"\",K150+$F$2))=0+$F$2,\"NEVER CALIBRATED\",IF(Table110[[#This Row],[Disposition]]=\"Retired\",\"N/A\",IF(Table110[[#This Row],[Disposition]]=0,\"\",K150+$F$2)))","v":""},{"$f":"IF(Table110[[#This Row],[Disposition]]=\"\",\"\",IF(AND(Table110[[#This Row],[Next Calibration]]<$E$1,Table110[[#This Row],[Disposition]]=\"Lost\"),\"Find and Calibrate\",IF(Table110[[#This Row],[Disposition]]=\"Lost\",\"Find\",IF(OR(Table110[[#This Row],[Next Calibration]]<$E$1,Table110[[#This Row],[Next Calibration]]=\"NEVER CALIBRATED\"),\"Calibrate\",\"Nominal\"))))","v":""},{"$f":"IF(((Table110[[#This Row],[Next Calibration]]-TODAY())/30)>2,\"More Than 2\",IF(((Table110[[#This Row],[Next Calibration]]-TODAY())/30)>1,\"Between 2 and 1\",\"Less than 1\"))","v":{"$error":"#VALUE!"}},{"$f":"IF(Table110[[#This Row],[Issued]]=\"\",\"\",IF(Table110[[#This Row],[Lent]]=\"\",0,1))","v":""},{"$f":"IF(Table110[[#This Row],[Lent]]=\"\",\"\",IF(Table110[[#This Row],[Returned]]=\"\",0,1))","v":""}]
[{"$nulls":11},{"$f":"IF(IF(Table110[[#This Row],[Disposition]]=\"Retired\",\"N/A\",IF(Table110[[#This Row],[Disposition]]=0,\"\",K151+$F$2))=0+$F$2,\"NEVER CALIBRATED\",IF(Table110[[#This Row],[Disposition]]=\"Retired\",\"N/A\",IF(Table110[[#This Row],[Disposition]]=0,\"\",K151+$F$2)))","v":""},{"$f":"IF(Table110[[#This Row],[Disposition]]=\"\",\"\",IF(AND(Table110[[#This Row],[Next Calibration]]<$E$1,Table110[[#This Row],[Disposition]]=\"Lost\"),\"Find and Calibrate\",IF(Table110[[#This Row],[Disposition]]=\"Lost\",\"Find\",IF(OR(Table110[[#This Row],[Next Calibration]]<$E$1,Table110[[#This Row],[Next Calibration]]=\"NEVER CALIBRATED\"),\"Calibrate\",\"Nominal\"))))","v":""},{"$f":"IF(((Table110[[#This Row],[Next Calibration]]-TODAY())/30)>2,\"More Than 2\",IF(((Table110[[#This Row],[Next Calibration]]-TODAY())/30)>1,\"Between 2 and 1\",\"Less than 1\"))","v":{"$error":"#VALUE!"}},{"$f":"IF(Table110[[#This Row],[Issued]]=\"\",\"\",IF(Table110[[#This Row],[Lent]]=\"\",0,1))","v":""},{"$f":"IF(Table110[[#This Row],[Lent]]=\"\",\"\",IF(Table110[[#This Row],[Returned]]=\"\",0,1))","v":""}]
[{"$nulls":11},{"$f":"IF(IF(Table110[[#This Row],[Disposition]]=\"Retired\",\"N/A\",IF(Table110[[#This Row],[Disposition]]=0,\"\",K152+$F$2))=0+$F$2,\"NEVER CALIBRATED\",IF(Table110[[#This Row],[Disposition]]=\"Retired\",\"N/A\",IF(Table110[[#This Row],[Disposition]]=0,\"\",K152+$F$2)))","v":""},{"$f":"IF(Table110[[#This Row],[Disposition]]=\"\",\"\",IF(AND(Table110[[#This Row],[Next Calibration]]<$E$1,Table110[[#This Row],[Disposition]]=\"Lost\"),\"Find and Calibrate\",IF(Table110[[#This Row],[Disposition]]=\"Lost\",\"Find\",IF(OR(Table110[[#This Row],[Next Calibration]]<$E$1,Table110[[#This Row],[Next Calibration]]=\"NEVER CALIBRATED\"),\"Calibrate\",\"Nominal\"))))","v":""},{"$f":"IF(((Table110[[#This Row],[Next Calibration]]-TODAY())/30)>2,\"More Than 2\",IF(((Table110[[#This Row],[Next Calibration]]-TODAY())/30)>1,\"Between 2 and 1\",\"Less than 1\"))","v":{"$error":"#VALUE!"}},{"$f":"IF(Table110[[#This Row],[Issued]]=\"\",\"\",IF(Table110[[#This Row],[Lent]]=\"\",0,1))","v":""},{"$f":"IF(Table110[[#This Row],[Lent]]=\"\",\"\",IF(Table110[[#This Row],[Returned]]=\"\",0,1))","v":""}]
[{"$nulls":11},{"$f":"IF(IF(Table110[[#This Row],[Disposition]]=\"Retired\",\"N/A\",IF(Table110[[#This Row],[Disposition]]=0,\"\",K153+$F$2))=0+$F$2,\"NEVER CALIBRATED\",IF(Table110[[#This Row],[Disposition]]=\"Retired\",\"N/A\",IF(Table110[[#This Row],[Disposition]]=0,\"\",K153+$F$2)))","v":""},{"$f":"IF(Table110[[#This Row],[Disposition]]=\"\",\"\",IF(AND(Table110[[#This Row],[Next Calibration]]<$E$1,Table110[[#This Row],[Disposition]]=\"Lost\"),\"Find and Calibrate\",IF(Table110[[#This Row],[Disposition]]=\"Lost\",\"Find\",IF(OR(Table110[[#This Row],[Next Calibration]]<$E$1,Table110[[#This Row],[Next Calibration]]=\"NEVER CALIBRATED\"),\"Calibrate\",\"Nominal\"))))","v":""},{"$f":"IF(((Table110[[#This Row],[Next Calibration]]-TODAY())/30)>2,\"More Than 2\",IF(((Table110[[#This Row],[Next Calibration]]-TODAY())/30)>1,\"Between 2 and 1\",\"Less than 1\"))","v":{"$error":"#VALUE!"}},{"$f":"IF(Table110[[#This Row],[Issued]]=\"\",\"\",IF(Table110[[#This Row],[Lent]]=\"\",0,1))","v":""},{"$f":"IF(Table110[[#This Row],[Lent]]=\"\",\"\",IF(Table110[[#This Row],[Returned]]=\"\",0,1))","v":""}]
[{"$nulls":11},{"$f":"IF(IF(Table110[[#This Row],[Disposition]]=\"Retired\",\"N/A\",IF(Table110[[#This Row],[Disposition]]=0,\"\",K154+$F$2))=0+$F$2,\"NEVER CALIBRATED\",IF(Table110[[#This Row],[Disposition]]=\"Retired\",\"N/A\",IF(Table110[[#This Row],[Disposition]]=0,\"\",K154+$F$2)))","v":""},{"$f":"IF(Table110[[#This Row],[Disposition]]=\"\",\"\",IF(AND(Table110[[#This Row],[Next Calibration]]<$E$1,Table110[[#This Row],[Disposition]]=\"Lost\"),\"Find and Calibrate\",IF(Table110[[#This Row],[Disposition]]=\"Lost\",\"Find\",IF(OR(Table110[[#This Row],[Next Calibration]]<$E$1,Table110[[#This Row],[Next Calibration]]=\"NEVER CALIBRATED\"),\"Calibrate\",\"Nominal\"))))","v":""},{"$f":"IF(((Table110[[#This Row],[Next Calibration]]-TODAY())/30)>2,\"More Than 2\",IF(((Table110[[#This Row],[Next Calibration]]-TODAY())/30)>1,\"Between 2 and 1\",\"Less than 1\"))","v":{"$error":"#VALUE!"}},{"$f":"IF(Table110[[#This Row],[Issued]]=\"\",\"\",IF(Table110[[#This Row],[Lent]]=\"\",0,1))","v":""},{"$f":"IF(Table110[[#This Row],[Lent]]=\"\",\"\",IF(Table110[[#This Row],[Returned]]=\"\",0,1))","v":""}]
[{"$nulls":11},{"$f":"IF(IF(Table110[[#This Row],[Disposition]]=\"Retired\",\"N/A\",IF(Table110[[#This Row],[Disposition]]=0,\"\",K155+$F$2))=0+$F$2,\"NEVER CALIBRATED\",IF(Table110[[#This Row],[Disposition]]=\"Retired\",\"N/A\",IF(Table110[[#This Row],[Disposition]]=0,\"\",K155+$F$2)))","v":""},{"$f":"IF(Table110[[#This Row],[Disposition]]=\"\",\"\",IF(AND(Table110[[#This Row],[Next Calibration]]<$E$1,Table110[[#This Row],[Disposition]]=\"Lost\"),\"Find and Calibrate\",IF(Table110[[#This Row],[Disposition]]=\"Lost\",\"Find\",IF(OR(Table110[[#This Row],[Next Calibration]]<$E$1,Table110[[#This Row],[Next Calibration]]=\"NEVER CALIBRATED\"),\"Calibrate\",\"Nominal\"))))","v":""},{"$f":"IF(((Table110[[#This Row],[Next Calibration]]-TODAY())/30)>2,\"More Than 2\",IF(((Table110[[#This Row],[Next Calibration]]-TODAY())/30)>1,\"Between 2 and 1\",\"Less than 1\"))","v":{"$error":"#VALUE!"}},{"$f":"IF(Table110[[#This Row],[Issued]]=\"\",\"\",IF(Table110[[#This Row],[Lent]]=\"\",0,1))","v":""},{"$f":"IF(Table110[[#This Row],[Lent]]=\"\",\"\",IF(Table110[[#This Row],[Returned]]=\"\",0,1))","v":""}]
[{"$nulls":11},{"$f":"IF(IF(Table110[[#This Row],[Disposition]]=\"Retired\",\"N/A\",IF(Table110[[#This Row],[Disposition]]=0,\"\",K156+$F$2))=0+$F$2,\"NEVER CALIBRATED\",IF(Table110[[#This Row],[Disposition]]=\"Retired\",\"N/A\",IF(Table110[[#This Row],[Disposition]]=0,\"\",K156+$F$2)))","v":""},{"$f":"IF(Table110[[#This Row],[Disposition]]=\"\",\"\",IF(AND(Table110[[#This Row],[Next Calibration]]<$E$1,Table110[[#This Row],[Disposition]]=\"Lost\"),\"Find and Calibrate\",IF(Table110[[#This Row],[Disposition]]=\"Lost\",\"Find\",IF(OR(Table110[[#This Row],[Next Calibration]]<$E$1,Table110[[#This Row],[Next Calibration]]=\"NEVER CALIBRATED\"),\"Calibrate\",\"Nominal\"))))","v":""},{"$f":"IF(((Table110[[#This Row],[Next Calibration]]-TODAY())/30)>2,\"More Than 2\",IF(((Table110[[#This Row],[Next Calibration]]-TODAY())/30)>1,\"Between 2 and 1\",\"Less than 1\"))","v":{"$error":"#VALUE!"}},{"$f":"IF(Table110[[#This Row],[Issued]]=\"\",\"\",IF(Table110[[#This Row],[Lent]]=\"\",0,1))","v":""},{"$f":"IF(Table110[[#This Row],[Lent]]=\"\",\"\",IF(Table110[[#This Row],[Returned]]=\"\",0,1))","v":""}]
[{"$nulls":11},{"$f":"IF(IF(Table110[[#This Row],[Disposition]]=\"Retired\",\"N/A\",IF(Table110[[#This Row],[Disposition]]=0,\"\",K157+$F$2))=0+$F$2,\"NEVER CALIBRATED\",IF(Table110[[#This Row],[Disposition]]=\"Retired\",\"N/A\",IF(Table110[[#This Row],[Disposition]]=0,\"\",K157+$F$2)))","v":""},{"$f":"IF(Table110[[#This Row],[Disposition]]=\"\",\"\",IF(AND(Table110[[#This Row],[Next Calibration]]<$E$1,Table110[[#This Row],[Disposition]]=\"Lost\"),\"Find and Calibrate\",IF(Table110[[#This Row],[Disposition]]=\"Lost\",\"Find\",IF(OR(Table110[[#This Row],[Next Calibration]]<$E$1,Table110[[#This Row],[Next Calibration]]=\"NEVER CALIBRATED\"),\"Calibrate\",\"Nominal\"))))","v":""},{"$f":"IF(((Table110[[#This Row],[Next Calibration]]-TODAY())/30)>2,\"More Than 2\",IF(((Table110[[#This Row],[Next Calibration]]-TODAY())/30)>1,\"Between 2 and 1\",\"Less than 1\"))","v":{"$error":"#VALUE!"}},{"$f":"IF(Table110[[#This Row],[Issued]]=\"\",\"\",IF(Table110[[#This Row],[Lent]]=\"\",0,1))","v":""},{"$f":"IF(Table110[[#This Row],[Lent]]=\"\",\"\",IF(Table110[[#This Row],[Returned]]=\"\",0,1))","v":""}]
[{"$nulls":11},{"$f":"IF(IF(Table110[[#This Row],[Disposition]]=\"Retired\",\"N/A\",IF(Table110[[#This Row],[Disposition]]=0,\"\",K158+$F$2))=0+$F$2,\"NEVER CALIBRATED\",IF(Table110[[#This Row],[Disposition]]=\"Retired\",\"N/A\",IF(Table110[[#This Row],[Disposition]]=0,\"\",K158+$F$2)))","v":""},{"$f":"IF(Table110[[#This Row],[Disposition]]=\"\",\"\",IF(AND(Table110[[#This Row],[Next Calibration]]<$E$1,Table110[[#This Row],[Disposition]]=\"Lost\"),\"Find and Calibrate\",IF(Table110[[#This Row],[Disposition]]=\"Lost\",\"Find\",IF(OR(Table110[[#This Row],[Next Calibration]]<$E$1,Table110[[#This Row],[Next Calibration]]=\"NEVER CALIBRATED\"),\"Calibrate\",\"Nominal\"))))","v":""},{"$f":"IF(((Table110[[#This Row],[Next Calibration]]-TODAY())/30)>2,\"More Than 2\",IF(((Table110[[#This Row],[Next Calibration]]-TODAY())/30)>1,\"Between 2 and 1\",\"Less than 1\"))","v":{"$error":"#VALUE!"}},{"$f":"IF(Table110[[#This Row],[Issued]]=\"\",\"\",IF(Table110[[#This Row],[Lent]]=\"\",0,1))","v":""},{"$f":"IF(Table110[[#This Row],[Lent]]=\"\",\"\",IF(Table110[[#This Row],[Returned]]=\"\",0,1))","v":""}]
[{"$nulls":11},{"$f":"IF(IF(Table110[[#This Row],[Disposition]]=\"Retired\",\"N/A\",IF(Table110[[#This Row],[Disposition]]=0,\"\",K159+$F$2))=0+$F$2,\"NEVER CALIBRATED\",IF(Table110[[#This Row],[Disposition]]=\"Retired\",\"N/A\",IF(Table110[[#This Row],[Disposition]]=0,\"\",K159+$F$2)))","v":""},{"$f":"IF(Table110[[#This Row],[Disposition]]=\"\",\"\",IF(AND(Table110[[#This Row],[Next Calibration]]<$E$1,Table110[[#This Row],[Disposition]]=\"Lost\"),\"Find and Calibrate\",IF(Table110[[#This Row],[Disposition]]=\"Lost\",\"Find\",IF(OR(Table110[[#This Row],[Next Calibration]]<$E$1,Table110[[#This Row],[Next Calibration]]=\"NEVER CALIBRATED\"),\"Calibrate\",\"Nominal\"))))","v":""},{"$f":"IF(((Table110[[#This Row],[Next Calibration]]-TODAY())/30)>2,\"More Than 2\",IF(((Table110[[#This Row],[Next Calibration]]-TODAY())/30)>1,\"Between 2 and 1\",\"Less than 1\"))","v":{"$error":"#VALUE!"}},{"$f":"IF(Table110[[#This Row],[Issued]]=\"\",\"\",IF(Table110[[#This Row],[Lent]]=\"\",0,1))","v":""},{"$f":"IF(Table110[[#This Row],[Lent]]=\"\",\"\",IF(Table110[[#This Row],[Returned]]=\"\",0,1))","v":""}]
[{"$nulls":11},{"$f":"IF(IF(Table110[[#This Row],[Disposition]]=\"Retired\",\"N/A\",IF(Table110[[#This Row],[Disposition]]=0,\"\",K160+$F$2))=0+$F$2,\"NEVER CALIBRATED\",IF(Table110[[#This Row],[Disposition]]=\"Retired\",\"N/A\",IF(Table110[[#This Row],[Disposition]]=0,\"\",K160+$F$2)))","v":""},{"$f":"IF(Table110[[#This Row],[Disposition]]=\"\",\"\",IF(AND(Table110[[#This Row],[Next Calibration]]<$E$1,Table110[[#This Row],[Disposition]]=\"Lost\"),\"Find and Calibrate\",IF(Table110[[#This Row],[Disposition]]=\"Lost\",\"Find\",IF(OR(Table110[[#This Row],[Next Calibration]]<$E$1,Table110[[#This Row],[Next Calibration]]=\"NEVER CALIBRATED\"),\"Calibrate\",\"Nominal\"))))","v":""},{"$f":"IF(((Table110[[#This Row],[Next Calibration]]-TODAY())/30)>2,\"More Than 2\",IF(((Table110[[#This Row],[Next Calibration]]-TODAY())/30)>1,\"Between 2 and 1\",\"Less than 1\"))","v":{"$error":"#VALUE!"}},{"$f":"IF(Table110[[#This Row],[Issued]]=\"\",\"\",IF(Table110[[#This Row],[Lent]]=\"\",0,1))","v":""},{"$f":"IF(Table110[[#This Row],[Lent]]=\"\",\"\",IF(Table110[[#This Row],[Returned]]=\"\",0,1))","v":""}]
[{"$nulls":11},{"$f":"IF(IF(Table110[[#This Row],[Disposition]]=\"Retired\",\"N/A\",IF(Table110[[#This Row],[Disposition]]=0,\"\",K161+$F$2))=0+$F$2,\"NEVER CALIBRATED\",IF(Table110[[#This Row],[Disposition]]=\"Retired\",\"N/A\",IF(Table110[[#This Row],[Disposition]]=0,\"\",K161+$F$2)))","v":""},{"$f":"IF(Table110[[#This Row],[Disposition]]=\"\",\"\",IF(AND(Table110[[#This Row],[Next Calibration]]<$E$1,Table110[[#This Row],[Disposition]]=\"Lost\"),\"Find and Calibrate\",IF(Table110[[#This Row],[Disposition]]=\"Lost\",\"Find\",IF(OR(Table110[[#This Row],[Next Calibration]]<$E$1,Table110[[#This Row],[Next Calibration]]=\"NEVER CALIBRATED\"),\"Calibrate\",\"Nominal\"))))","v":""},{"$f":"IF(((Table110[[#This Row],[Next Calibration]]-TODAY())/30)>2,\"More Than 2\",IF(((Table110[[#This Row],[Next Calibration]]-TODAY())/30)>1,\"Between 2 and 1\",\"Less than 1\"))","v":{"$error":"#VALUE!"}},{"$f":"IF(Table110[[#This Row],[Issued]]=\"\",\"\",IF(Table110[[#This Row],[Lent]]=\"\",0,1))","v":""},{"$f":"IF(Table110[[#This Row],[Lent]]=\"\",\"\",IF(Table110[[#This Row],[Returned]]=\"\",0,1))","v":""}]
[{"$nulls":11},{"$f":"IF(IF(Table110[[#This Row],[Disposition]]=\"Retired\",\"N/A\",IF(Table110[[#This Row],[Disposition]]=0,\"\",K162+$F$2))=0+$F$2,\"NEVER CALIBRATED\",IF(Table110[[#This Row],[Disposition]]=\"Retired\",\"N/A\",IF(Table110[[#This Row],[Disposition]]=0,\"\",K162+$F$2)))","v":""},{"$f":"IF(Table110[[#This Row],[Disposition]]=\"\",\"\",IF(AND(Table110[[#This Row],[Next Calibration]]<$E$1,Table110[[#This Row],[Disposition]]=\"Lost\"),\"Find and Calibrate\",IF(Table110[[#This Row],[Disposition]]=\"Lost\",\"Find\",IF(OR(Table110[[#This Row],[Next Calibration]]<$E$1,Table110[[#This Row],[Next Calibration]]=\"NEVER CALIBRATED\"),\"Calibrate\",\"Nominal\"))))","v":""},{"$f":"IF(((Table110[[#This Row],[Next Calibration]]-TODAY())/30)>2,\"More Than 2\",IF(((Table110[[#This Row],[Next Calibration]]-TODAY())/30)>1,\"Between 2 and 1\",\"Less than 1\"))","v":{"$error":"#VALUE!"}},{"$f":"IF(Table110[[#This Row],[Issued]]=\"\",\"\",IF(Table110[[#This Row],[Lent]]=\"\",0,1))","v":""},{"$f":"IF(Table110[[#This Row],[Lent]]=\"\",\"\",IF(Table110[[#This Row],[Returned]]=\"\",0,1))","v":""}]
[{"$nulls":11},{"$f":"IF(IF(Table110[[#This Row],[Disposition]]=\"Retired\",\"N/A\",IF(Table110[[#This Row],[Disposition]]=0,\"\",K163+$F$2))=0+$F$2,\"NEVER CALIBRATED\",IF(Table110[[#This Row],[Disposition]]=\"Retired\",\"N/A\",IF(Table110[[#This Row],[Disposition]]=0,\"\",K163+$F$2)))","v":""},{"$f":"IF(Table110[[#This Row],[Disposition]]=\"\",\"\",IF(AND(Table110[[#This Row],[Next Calibration]]<$E$1,Table110[[#This Row],[Disposition]]=\"Lost\"),\"Find and Calibrate\",IF(Table110[[#This Row],[Disposition]]=\"Lost\",\"Find\",IF(OR(Table110[[#This Row],[Next Calibration]]<$E$1,Table110[[#This Row],[Next Calibration]]=\"NEVER CALIBRATED\"),\"Calibrate\",\"Nominal\"))))","v":""},{"$f":"IF(((Table110[[#This Row],[Next Calibration]]-TODAY())/30)>2,\"More Than 2\",IF(((Table110[[#This Row],[Next Calibration]]-TODAY())/30)>1,\"Between 2 and 1\",\"Less than 1\"))","v":{"$error":"#VALUE!"}},{"$f":"IF(Table110[[#This Row],[Issued]]=\"\",\"\",IF(Table110[[#This Row],[Lent]]=\"\",0,1))","v":""},{"$f":"IF(Table110[[#This Row],[Lent]]=\"\",\"\",IF(Table110[[#This Row],[Returned]]=\"\",0,1))","v":""}]
[{"$nulls":11},{"$f":"IF(IF(Table110[[#This Row],[Disposition]]=\"Retired\",\"N/A\",IF(Table110[[#This Row],[Disposition]]=0,\"\",K164+$F$2))=0+$F$2,\"NEVER CALIBRATED\",IF(Table110[[#This Row],[Disposition]]=\"Retired\",\"N/A\",IF(Table110[[#This Row],[Disposition]]=0,\"\",K164+$F$2)))","v":""},{"$f":"IF(Table110[[#This Row],[Disposition]]=\"\",\"\",IF(AND(Table110[[#This Row],[Next Calibration]]<$E$1,Table110[[#This Row],[Disposition]]=\"Lost\"),\"Find and Calibrate\",IF(Table110[[#This Row],[Disposition]]=\"Lost\",\"Find\",IF(OR(Table110[[#This Row],[Next Calibration]]<$E$1,Table110[[#This Row],[Next Calibration]]=\"NEVER CALIBRATED\"),\"Calibrate\",\"Nominal\"))))","v":""},{"$f":"IF(((Table110[[#This Row],[Next Calibration]]-TODAY())/30)>2,\"More Than 2\",IF(((Table110[[#This Row],[Next Calibration]]-TODAY())/30)>1,\"Between 2 and 1\",\"Less than 1\"))","v":{"$error":"#VALUE!"}},{"$f":"IF(Table110[[#This Row],[Issued]]=\"\",\"\",IF(Table110[[#This Row],[Lent]]=\"\",0,1))","v":""},{"$f":"IF(Table110[[#This Row],[Lent]]=\"\",\"\",IF(Table110[[#This Row],[Returned]]=\"\",0,1))","v":""}]
[{"$nulls":11},{"$f":"IF(IF(Table110[[#This Row],[Disposition]]=\"Retired\",\"N/A\",IF(Table110[[#This Row],[Disposition]]=0,\"\",K165+$F$2))=0+$F$2,\"NEVER CALIBRATED\",IF(Table110[[#This Row],[Disposition]]=\"Retired\",\"N/A\",IF(Table110[[#This Row],[Disposition]]=0,\"\",K165+$F$2)))","v":""},{"$f":"IF(Table110[[#This Row],[Disposition]]=\"\",\"\",IF(AND(Table110[[#This Row],[Next Calibration]]<$E$1,Table110[[#This Row],[Disposition]]=\"Lost\"),\"Find and Calibrate\",IF(Table110[[#This Row],[Disposition]]=\"Lost\",\"Find\",IF(OR(Table110[[#This Row],[Next Calibration]]<$E$1,Table110[[#This Row],[Next Calibration]]=\"NEVER CALIBRATED\"),\"Calibrate\",\"Nominal\"))))","v":""},{"$f":"IF(((Table110[[#This Row],[Next Calibration]]-TODAY())/30)>2,\"More Than 2\",IF(((Table110[[#This Row],[Next Calibration]]-TODAY())/30)>1,\"Between 2 and 1\",\"Less than 1\"))","v":{"$error":"#VALUE!"}},{"$f":"IF(Table110[[#This Row],[Issued]]=\"\",\"\",IF(Table110[[#This Row],[Lent]]=\"\",0,1))","v":""},{"$f":"IF(Table110[[#This Row],[Lent]]=\"\",\"\",IF(Table110[[#This Row],[Returned]]=\"\",0,1))","v":""}]
[{"$nulls":11},{"$f":"IF(IF(Table110[[#This Row],[Disposition]]=\"Retired\",\"N/A\",IF(Table110[[#This Row],[Disposition]]=0,\"\",K166+$F$2))=0+$F$2,\"NEVER CALIBRATED\",IF(Table110[[#This Row],[Disposition]]=\"Retired\",\"N/A\",IF(Table110[[#This Row],[Disposition]]=0,\"\",K166+$F$2)))","v":""},{"$f":"IF(Table110[[#This Row],[Disposition]]=\"\",\"\",IF(AND(Table110[[#This Row],[Next Calibration]]<$E$1,Table110[[#This Row],[Disposition]]=\"Lost\"),\"Find and Calibrate\",IF(Table110[[#This Row],[Disposition]]=\"Lost\",\"Find\",IF(OR(Table110[[#This Row],[Next Calibration]]<$E$1,Table110[[#This Row],[Next Calibration]]=\"NEVER CALIBRATED\"),\"Calibrate\",\"Nominal\"))))","v":""},{"$f":"IF(((Table110[[#This Row],[Next Calibration]]-TODAY())/30)>2,\"More Than 2\",IF(((Table110[[#This Row],[Next Calibration]]-TODAY())/30)>1,\"Between 2 and 1\",\"Less than 1\"))","v":{"$error":"#VALUE!"}},{"$f":"IF(Table110[[#This Row],[Issued]]=\"\",\"\",IF(Table110[[#This Row],[Lent]]=\"\",0,1))","v":""},{"$f":"IF(Table110[[#This Row],[Lent]]=\"\",\"\",IF(Table110[[#This Row],[Returned]]=\"\",0,1))","v":""}]
[{"$nulls":11},{"$f":"IF(IF(Table110[[#This Row],[Disposition]]=\"Retired\",\"N/A\",IF(Table110[[#This Row],[Disposition]]=0,\"\",K167+$F$2))=0+$F$2,\"NEVER CALIBRATED\",IF(Table110[[#This Row],[Disposition]]=\"Retired\",\"N/A\",IF(Table110[[#This Row],[Disposition]]=0,\"\",K167+$F$2)))","v":""},{"$f":"IF(Table110[[#This Row],[Disposition]]=\"\",\"\",IF(AND(Table110[[#This Row],[Next Calibration]]<$E$1,Table110[[#This Row],[Disposition]]=\"Lost\"),\"Find and Calibrate\",IF(Table110[[#This Row],[Disposition]]=\"Lost\",\"Find\",IF(OR(Table110[[#This Row],[Next Calibration]]<$E$1,Table110[[#This Row],[Next Calibration]]=\"NEVER CALIBRATED\"),\"Calibrate\",\"Nominal\"))))","v":""},{"$f":"IF(((Table110[[#This Row],[Next Calibration]]-TODAY())/30)>2,\"More Than 2\",IF(((Table110[[#This Row],[Next Calibration]]-TODAY())/30)>1,\"Between 2 and 1\",\"Less than 1\"))","v":{"$error":"#VALUE!"}},{"$f":"IF(Table110[[#This Row],[Issued]]=\"\",\"\",IF(Table110[[#This Row],[Lent]]=\"\",0,1))","v":""},{"$f":"IF(Table110[[#This Row],[Lent]]=\"\",\"\",IF(Table110[[#This Row],[Returned]]=\"\",0,1))","v":""}]
[{"$nulls":11},{"$f":"IF(IF(Table110[[#This Row],[Disposition]]=\"Retired\",\"N/A\",IF(Table110[[#This Row],[Disposition]]=0,\"\",K168+$F$2))=0+$F$2,\"NEVER CALIBRATED\",IF(Table110[[#This Row],[Disposition]]=\"Retired\",\"N/A\",IF(Table110[[#This Row],[Disposition]]=0,\"\",K168+$F$2)))","v":""},{"$f":"IF(Table110[[#This Row],[Disposition]]=\"\",\"\",IF(AND(Table110[[#This Row],[Next Calibration]]<$E$1,Table110[[#This Row],[Disposition]]=\"Lost\"),\"Find and Calibrate\",IF(Table110[[#This Row],[Disposition]]=\"Lost\",\"Find\",IF(OR(Table110[[#This Row],[Next Calibration]]<$E$1,Table110[[#This Row],[Next Calibration]]=\"NEVER CALIBRATED\"),\"Calibrate\",\"Nominal\"))))","v":""},{"$f":"IF(((Table110[[#This Row],[Next Calibration]]-TODAY())/30)>2,\"More Than 2\",IF(((Table110[[#This Row],[Next Calibration]]-TODAY())/30)>1,\"Between 2 and 1\",\"Less than 1\"))","v":{"$error":"#VALUE!"}},{"$f":"IF(Table110[[#This Row],[Issued]]=\"\",\"\",IF(Table110[[#This Row],[Lent]]=\"\",0,1))","v":""},{"$f":"IF(Table110[[#This Row],[Lent]]=\"\",\"\",IF(Table110[[#This Row],[Returned]]=\"\",0,1))","v":""}]
[{"$nulls":11},{"$f":"IF(IF(Table110[[#This Row],[Disposition]]=\"Retired\",\"N/A\",IF(Table110[[#This Row],[Disposition]]=0,\"\",K169+$F$2))=0+$F$2,\"NEVER CALIBRATED\",IF(Table110[[#This Row],[Disposition]]=\"Retired\",\"N/A\",IF(Table110[[#This Row],[Disposition]]=0,\"\",K169+$F$2)))","v":""},{"$f":"IF(Table110[[#This Row],[Disposition]]=\"\",\"\",IF(AND(Table110[[#This Row],[Next Calibration]]<$E$1,Table110[[#This Row],[Disposition]]=\"Lost\"),\"Find and Calibrate\",IF(Table110[[#This Row],[Disposition]]=\"Lost\",\"Find\",IF(OR(Table110[[#This Row],[Next Calibration]]<$E$1,Table110[[#This Row],[Next Calibration]]=\"NEVER CALIBRATED\"),\"Calibrate\",\"Nominal\"))))","v":""},{"$f":"IF(((Table110[[#This Row],[Next Calibration]]-TODAY())/30)>2,\"More Than 2\",IF(((Table110[[#This Row],[Next Calibration]]-TODAY())/30)>1,\"Between 2 and 1\",\"Less than 1\"))","v":{"$error":"#VALUE!"}},{"$f":"IF(Table110[[#This Row],[Issued]]=\"\",\"\",IF(Table110[[#This Row],[Lent]]=\"\",0,1))","v":""},{"$f":"IF(Table110[[#This Row],[Lent]]=\"\",\"\",IF(Table110[[#This Row],[Returned]]=\"\",0,1))","v":""}]
[{"$nulls":11},{"$f":"IF(IF(Table110[[#This Row],[Disposition]]=\"Retired\",\"N/A\",IF(Table110[[#This Row],[Disposition]]=0,\"\",K170+$F$2))=0+$F$2,\"NEVER CALIBRATED\",IF(Table110[[#This Row],[Disposition]]=\"Retired\",\"N/A\",IF(Table110[[#This Row],[Disposition]]=0,\"\",K170+$F$2)))","v":""},{"$f":"IF(Table110[[#This Row],[Disposition]]=\"\",\"\",IF(AND(Table110[[#This Row],[Next Calibration]]<$E$1,Table110[[#This Row],[Disposition]]=\"Lost\"),\"Find and Calibrate\",IF(Table110[[#This Row],[Disposition]]=\"Lost\",\"Find\",IF(OR(Table110[[#This Row],[Next Calibration]]<$E$1,Table110[[#This Row],[Next Calibration]]=\"NEVER CALIBRATED\"),\"Calibrate\",\"Nominal\"))))","v":""},{"$f":"IF(((Table110[[#This Row],[Next Calibration]]-TODAY())/30)>2,\"More Than 2\",IF(((Table110[[#This Row],[Next Calibration]]-TODAY())/30)>1,\"Between 2 and 1\",\"Less than 1\"))","v":{"$error":"#VALUE!"}},{"$f":"IF(Table110[[#This Row],[Issued]]=\"\",\"\",IF(Table110[[#This Row],[Lent]]=\"\",0,1))","v":""},{"$f":"IF(Table110[[#This Row],[Lent]]=\"\",\"\",IF(Table110[[#This Row],[Returned]]=\"\",0,1))","v":""}]
[{"$nulls":11},{"$f":"IF(IF(Table110[[#This Row],[Disposition]]=\"Retired\",\"N/A\",IF(Table110[[#This Row],[Disposition]]=0,\"\",K171+$F$2))=0+$F$2,\"NEVER CALIBRATED\",IF(Table110[[#This Row],[Disposition]]=\"Retired\",\"N/A\",IF(Table110[[#This Row],[Disposition]]=0,\"\",K171+$F$2)))","v":""},{"$f":"IF(Table110[[#This Row],[Disposition]]=\"\",\"\",IF(AND(Table110[[#This Row],[Next Calibration]]<$E$1,Table110[[#This Row],[Disposition]]=\"Lost\"),\"Find and Calibrate\",IF(Table110[[#This Row],[Disposition]]=\"Lost\",\"Find\",IF(OR(Table110[[#This Row],[Next Calibration]]<$E$1,Table110[[#This Row],[Next Calibration]]=\"NEVER CALIBRATED\"),\"Calibrate\",\"Nominal\"))))","v":""},{"$f":"IF(((Table110[[#This Row],[Next Calibration]]-TODAY())/30)>2,\"More Than 2\",IF(((Table110[[#This Row],[Next Calibration]]-TODAY())/30)>1,\"Between 2 and 1\",\"Less than 1\"))","v":{"$error":"#VALUE!"}},{"$f":"IF(Table110[[#This Row],[Issued]]=\"\",\"\",IF(Table110[[#This Row],[Lent]]=\"\",0,1))","v":""},{"$f":"IF(Table110[[#This Row],[Lent]]=\"\",\"\",IF(Table110[[#This Row],[Returned]]=\"\",0,1))","v":""}]
[{"$nulls":11},{"$f":"IF(IF(Table110[[#This Row],[Disposition]]=\"Retired\",\"N/A\",IF(Table110[[#This Row],[Disposition]]=0,\"\",K172+$F$2))=0+$F$2,\"NEVER CALIBRATED\",IF(Table110[[#This Row],[Disposition]]=\"Retired\",\"N/A\",IF(Table110[[#This Row],[Disposition]]=0,\"\",K172+$F$2)))","v":""},{"$f":"IF(Table110[[#This Row],[Disposition]]=\"\",\"\",IF(AND(Table110[[#This Row],[Next Calibration]]<$E$1,Table110[[#This Row],[Disposition]]=\"Lost\"),\"Find and Calibrate\",IF(Table110[[#This Row],[Disposition]]=\"Lost\",\"Find\",IF(OR(Table110[[#This Row],[Next Calibration]]<$E$1,Table110[[#This Row],[Next Calibration]]=\"NEVER CALIBRATED\"),\"Calibrate\",\"Nominal\"))))","v":""},{"$f":"IF(((Table110[[#This Row],[Next Calibration]]-TODAY())/30)>2,\"More Than 2\",IF(((Table110[[#This Row],[Next Calibration]]-TODAY())/30)>1,\"Between 2 and 1\",\"Less than 1\"))","v":{"$error":"#VALUE!"}},{"$f":"IF(Table110[[#This Row],[Issued]]=\"\",\"\",IF(Table110[[#This Row],[Lent]]=\"\",0,1))","v":""},{"$f":"IF(Table110[[#This Row],[Lent]]=\"\",\"\",IF(Table110[[#This Row],[Returned]]=\"\",0,1))","v":""}]
[{"$nulls":11},{"$f":"IF(IF(Table110[[#This Row],[Disposition]]=\"Retired\",\"N/A\",IF(Table110[[#This Row],[Disposition]]=0,\"\",K173+$F$2))=0+$F$2,\"NEVER CALIBRATED\",IF(Table110[[#This Row],[Disposition]]=\"Retired\",\"N/A\",IF(Table110[[#This Row],[Disposition]]=0,\"\",K173+$F$2)))","v":""},{"$f":"IF(Table110[[#This Row],[Disposition]]=\"\",\"\",IF(AND(Table110[[#This Row],[Next Calibration]]<$E$1,Table110[[#This Row],[Disposition]]=\"Lost\"),\"Find and Calibrate\",IF(Table110[[#This Row],[Disposition]]=\"Lost\",\"Find\",IF(OR(Table110[[#This Row],[Next Calibration]]<$E$1,Table110[[#This Row],[Next Calibration]]=\"NEVER CALIBRATED\"),\"Calibrate\",\"Nominal\"))))","v":""},{"$f":"IF(((Table110[[#This Row],[Next Calibration]]-TODAY())/30)>2,\"More Than 2\",IF(((Table110[[#This Row],[Next Calibration]]-TODAY())/30)>1,\"Between 2 and 1\",\"Less than 1\"))","v":{"$error":"#VALUE!"}},{"$f":"IF(Table110[[#This Row],[Issued]]=\"\",\"\",IF(Table110[[#This Row],[Lent]]=\"\",0,1))","v":""},{"$f":"IF(Table110[[#This Row],[Lent]]=\"\",\"\",IF(Table110[[#This Row],[Returned]]=\"\",0,1))","v":""}]
[{"$nulls":11},{"$f":"IF(IF(Table110[[#This Row],[Disposition]]=\"Retired\",\"N/A\",IF(Table110[[#This Row],[Disposition]]=0,\"\",K174+$F$2))=0+$F$2,\"NEVER CALIBRATED\",IF(Table110[[#This Row],[Disposition]]=\"Retired\",\"N/A\",IF(Table110[[#This Row],[Disposition]]=0,\"\",K174+$F$2)))","v":""},{"$f":"IF(Table110[[#This Row],[Disposition]]=\"\",\"\",IF(AND(Table110[[#This Row],[Next Calibration]]<$E$1,Table110[[#This Row],[Disposition]]=\"Lost\"),\"Find and Calibrate\",IF(Table110[[#This Row],[Disposition]]=\"Lost\",\"Find\",IF(OR(Table110[[#This Row],[Next Calibration]]<$E$1,Table110[[#This Row],[Next Calibration]]=\"NEVER CALIBRATED\"),\"Calibrate\",\"Nominal\"))))","v":""},{"$f":"IF(((Table110[[#This Row],[Next Calibration]]-TODAY())/30)>2,\"More Than 2\",IF(((Table110[[#This Row],[Next Calibration]]-TODAY())/30)>1,\"Between 2 and 1\",\"Less than 1\"))","v":{"$error":"#VALUE!"}},{"$f":"IF(Table110[[#This Row],[Issued]]=\"\",\"\",IF(Table110[[#This Row],[Lent]]=\"\",0,1))","v":""},{"$f":"IF(Table110[[#This Row],[Lent]]=\"\",\"\",IF(Table110[[#This Row],[Returned]]=\"\",0,1))","v":""}]
[{"$nulls":11},{"$f":"IF(IF(Table110[[#This Row],[Disposition]]=\"Retired\",\"N/A\",IF(Table110[[#This Row],[Disposition]]=0,\"\",K175+$F$2))=0+$F$2,\"NEVER CALIBRATED\",IF(Table110[[#This Row],[Disposition]]=\"Retired\",\"N/A\",IF(Table110[[#This Row],[Disposition]]=0,\"\",K175+$F$2)))","v":""},{"$f":"IF(Table110[[#This Row],[Disposition]]=\"\",\"\",IF(AND(Table110[[#This Row],[Next Calibration]]<$E$1,Table110[[#This Row],[Disposition]]=\"Lost\"),\"Find and Calibrate\",IF(Table110[[#This Row],[Disposition]]=\"Lost\",\"Find\",IF(OR(Table110[[#This Row],[Next Calibration]]<$E$1,Table110[[#This Row],[Next Calibration]]=\"NEVER CALIBRATED\"),\"Calibrate\",\"Nominal\"))))","v":""},{"$f":"IF(((Table110[[#This Row],[Next Calibration]]-TODAY())/30)>2,\"More Than 2\",IF(((Table110[[#This Row],[Next Calibration]]-TODAY())/30)>1,\"Between 2 and 1\",\"Less than 1\"))","v":{"$error":"#VALUE!"}},{"$f":"IF(Table110[[#This Row],[Issued]]=\"\",\"\",IF(Table110[[#This Row],[Lent]]=\"\",0,1))","v":""},{"$f":"IF(Table110[[#This Row],[Lent]]=\"\",\"\",IF(Table110[[#This Row],[Returned]]=\"\",0,1))","v":""}]
[{"$nulls":11},{"$f":"IF(IF(Table110[[#This Row],[Disposition]]=\"Retired\",\"N/A\",IF(Table110[[#This Row],[Disposition]]=0,\"\",K176+$F$2))=0+$F$2,\"NEVER CALIBRATED\",IF(Table110[[#This Row],[Disposition]]=\"Retired\",\"N/A\",IF(Table110[[#This Row],[Disposition]]=0,\"\",K176+$F$2)))","v":""},{"$f":"IF(Table110[[#This Row],[Disposition]]=\"\",\"\",IF(AND(Table110[[#This Row],[Next Calibration]]<$E$1,Table110[[#This Row],[Disposition]]=\"Lost\"),\"Find and Calibrate\",IF(Table110[[#This Row],[Disposition]]=\"Lost\",\"Find\",IF(OR(Table110[[#This Row],[Next Calibration]]<$E$1,Table110[[#This Row],[Next Calibration]]=\"NEVER CALIBRATED\"),\"Calibrate\",\"Nominal\"))))","v":""},{"$f":"IF(((Table110[[#This Row],[Next Calibration]]-TODAY())/30)>2,\"More Than 2\",IF(((Table110[[#This Row],[Next Calibration]]-TODAY())/30)>1,\"Between 2 and 1\",\"Less than 1\"))","v":{"$error":"#VALUE!"}},{"$f":"IF(Table110[[#This Row],[Issued]]=\"\",\"\",IF(Table110[[#This Row],[Lent]]=\"\",0,1))","v":""},{"$f":"IF(Table110[[#This Row],[Lent]]=\"\",\"\",IF(Table110[[#This Row],[Returned]]=\"\",0,1))","v":""}]
[{"$nulls":11},{"$f":"IF(IF(Table110[[#This Row],[Disposition]]=\"Retired\",\"N/A\",IF(Table110[[#This Row],[Disposition]]=0,\"\",K177+$F$2))=0+$F$2,\"NEVER CALIBRATED\",IF(Table110[[#This Row],[Disposition]]=\"Retired\",\"N/A\",IF(Table110[[#This Row],[Disposition]]=0,\"\",K177+$F$2)))","v":""},{"$f":"IF(Table110[[#This Row],[Disposition]]=\"\",\"\",IF(AND(Table110[[#This Row],[Next Calibration]]<$E$1,Table110[[#This Row],[Disposition]]=\"Lost\"),\"Find and Calibrate\",IF(Table110[[#This Row],[Disposition]]=\"Lost\",\"Find\",IF(OR(Table110[[#This Row],[Next Calibration]]<$E$1,Table110[[#This Row],[Next Calibration]]=\"NEVER CALIBRATED\"),\"Calibrate\",\"Nominal\"))))","v":""},{"$f":"IF(((Table110[[#This Row],[Next Calibration]]-TODAY())/30)>2,\"More Than 2\",IF(((Table110[[#This Row],[Next Calibration]]-TODAY())/30)>1,\"Between 2 and 1\",\"Less than 1\"))","v":{"$error":"#VALUE!"}},{"$f":"IF(Table110[[#This Row],[Issued]]=\"\",\"\",IF(Table110[[#This Row],[Lent]]=\"\",0,1))","v":""},{"$f":"IF(Table110[[#This Row],[Lent]]=\"\",\"\",IF(Table110[[#This Row],[Returned]]=\"\",0,1))","v":""}]
[{"$nulls":11},{"$f":"IF(IF(Table110[[#This Row],[Disposition]]=\"Retired\",\"N/A\",IF(Table110[[#This Row],[Disposition]]=0,\"\",K178+$F$2))=0+$F$2,\"NEVER CALIBRATED\",IF(Table110[[#This Row],[Disposition]]=\"Retired\",\"N/A\",IF(Table110[[#This Row],[Disposition]]=0,\"\",K178+$F$2)))","v":""},{"$f":"IF(Table110[[#This Row],[Disposition]]=\"\",\"\",IF(AND(Table110[[#This Row],[Next Calibration]]<$E$1,Table110[[#This Row],[Disposition]]=\"Lost\"),\"Find and Calibrate\",IF(Table110[[#This Row],[Disposition]]=\"Lost\",\"Find\",IF(OR(Table110[[#This Row],[Next Calibration]]<$E$1,Table110[[#This Row],[Next Calibration]]=\"NEVER CALIBRATED\"),\"Calibrate\",\"Nominal\"))))","v":""},{"$f":"IF(((Table110[[#This Row],[Next Calibration]]-TODAY())/30)>2,\"More Than 2\",IF(((Table110[[#This Row],[Next Calibration]]-TODAY())/30)>1,\"Between 2 and 1\",\"Less than 1\"))","v":{"$error":"#VALUE!"}},{"$f":"IF(Table110[[#This Row],[Issued]]=\"\",\"\",IF(Table110[[#This Row],[Lent]]=\"\",0,1))","v":""},{"$f":"IF(Table110[[#This Row],[Lent]]=\"\",\"\",IF(Table110[[#This Row],[Returned]]=\"\",0,1))","v":""}]
[{"$nulls":11},{"$f":"IF(IF(Table110[[#This Row],[Disposition]]=\"Retired\",\"N/A\",IF(Table110[[#This Row],[Disposition]]=0,\"\",K179+$F$2))=0+$F$2,\"NEVER CALIBRATED\",IF(Table110[[#This Row],[Disposition]]=\"Retired\",\"N/A\",IF(Table110[[#This Row],[Disposition]]=0,\"\",K179+$F$2)))","v":""},{"$f":"IF(Table110[[#This Row],[Disposition]]=\"\",\"\",IF(AND(Table110[[#This Row],[Next Calibration]]<$E$1,Table110[[#This Row],[Disposition]]=\"Lost\"),\"Find and Calibrate\",IF(Table110[[#This Row],[Disposition]]=\"Lost\",\"Find\",IF(OR(Table110[[#This Row],[Next Calibration]]<$E$1,Table110[[#This Row],[Next Calibration]]=\"NEVER CALIBRATED\"),\"Calibrate\",\"Nominal\"))))","v":""},{"$f":"IF(((Table110[[#This Row],[Next Calibration]]-TODAY())/30)>2,\"More Than 2\",IF(((Table110[[#This Row],[Next Calibration]]-TODAY())/30)>1,\"Between 2 and 1\",\"Less than 1\"))","v":{"$error":"#VALUE!"}},{"$f":"IF(Table110[[#This Row],[Issued]]=\"\",\"\",IF(Table110[[#This Row],[Lent]]=\"\",0,1))","v":""},{"$f":"IF(Table110[[#This Row],[Lent]]=\"\",\"\",IF(Table110[[#This Row],[Returned]]=\"\",0,1))","v":""}]
[{"$nulls":11},{"$f":"IF(IF(Table110[[#This Row],[Disposition]]=\"Retired\",\"N/A\",IF(Table110[[#This Row],[Disposition]]=0,\"\",K180+$F$2))=0+$F$2,\"NEVER CALIBRATED\",IF(Table110[[#This Row],[Disposition]]=\"Retired\",\"N/A\",IF(Table110[[#This Row],[Disposition]]=0,\"\",K180+$F$2)))","v":""},{"$f":"IF(Table110[[#This Row],[Disposition]]=\"\",\"\",IF(AND(Table110[[#This Row],[Next Calibration]]<$E$1,Table110[[#This Row],[Disposition]]=\"Lost\"),\"Find and Calibrate\",IF(Table110[[#This Row],[Disposition]]=\"Lost\",\"Find\",IF(OR(Table110[[#This Row],[Next Calibration]]<$E$1,Table110[[#This Row],[Next Calibration]]=\"NEVER CALIBRATED\"),\"Calibrate\",\"Nominal\"))))","v":""},{"$f":"IF(((Table110[[#This Row],[Next Calibration]]-TODAY())/30)>2,\"More Than 2\",IF(((Table110[[#This Row],[Next Calibration]]-TODAY())/30)>1,\"Between 2 and 1\",\"Less than 1\"))","v":{"$error":"#VALUE!"}},{"$f":"IF(Table110[[#This Row],[Issued]]=\"\",\"\",IF(Table110[[#This Row],[Lent]]=\"\",0,1))","v":""},{"$f":"IF(Table110[[#This Row],[Lent]]=\"\",\"\",IF(Table110[[#This Row],[Returned]]=\"\",0,1))","v":""}]
[{"$nulls":11},{"$f":"IF(IF(Table110[[#This Row],[Disposition]]=\"Retired\",\"N/A\",IF(Table110[[#This Row],[Disposition]]=0,\"\",K181+$F$2))=0+$F$2,\"NEVER CALIBRATED\",IF(Table110[[#This Row],[Disposition]]=\"Retired\",\"N/A\",IF(Table110[[#This Row],[Disposition]]=0,\"\",K181+$F$2)))","v":""},{"$f":"IF(Table110[[#This Row],[Disposition]]=\"\",\"\",IF(AND(Table110[[#This Row],[Next Calibration]]<$E$1,Table110[[#This Row],[Disposition]]=\"Lost\"),\"Find and Calibrate\",IF(Table110[[#This Row],[Disposition]]=\"Lost\",\"Find\",IF(OR(Table110[[#This Row],[Next Calibration]]<$E$1,Table110[[#This Row],[Next Calibration]]=\"NEVER CALIBRATED\"),\"Calibrate\",\"Nominal\"))))","v":""},{"$f":"IF(((Table110[[#This Row],[Next Calibration]]-TODAY())/30)>2,\"More Than 2\",IF(((Table110[[#This Row],[Next Calibration]]-TODAY())/30)>1,\"Between 2 and 1\",\"Less than 1\"))","v":{"$error":"#VALUE!"}},{"$f":"IF(Table110[[#This Row],[Issued]]=\"\",\"\",IF(Table110[[#This Row],[Lent]]=\"\",0,1))","v":""},{"$f":"IF(Table110[[#This Row],[Lent]]=\"\",\"\",IF(Table110[[#This Row],[Returned]]=\"\",0,1))","v":""}]
[{"$nulls":11},{"$f":"IF(IF(Table110[[#This Row],[Disposition]]=\"Retired\",\"N/A\",IF(Table110[[#This Row],[Disposition]]=0,\"\",K182+$F$2))=0+$F$2,\"NEVER CALIBRATED\",IF(Table110[[#This Row],[Disposition]]=\"Retired\",\"N/A\",IF(Table110[[#This Row],[Disposition]]=0,\"\",K182+$F$2)))","v":""},{"$f":"IF(Table110[[#This Row],[Disposition]]=\"\",\"\",IF(AND(Table110[[#This Row],[Next Calibration]]<$E$1,Table110[[#This Row],[Disposition]]=\"Lost\"),\"Find and Calibrate\",IF(Table110[[#This Row],[Disposition]]=\"Lost\",\"Find\",IF(OR(Table110[[#This Row],[Next Calibration]]<$E$1,Table110[[#This Row],[Next Calibration]]=\"NEVER CALIBRATED\"),\"Calibrate\",\"Nominal\"))))","v":""},{"$f":"IF(((Table110[[#This Row],[Next Calibration]]-TODAY())/30)>2,\"More Than 2\",IF(((Table110[[#This Row],[Next Calibration]]-TODAY())/30)>1,\"Between 2 and 1\",\"Less than 1\"))","v":{"$error":"#VALUE!"}},{"$f":"IF(Table110[[#This Row],[Issued]]=\"\",\"\",IF(Table110[[#This Row],[Lent]]=\"\",0,1))","v":""},{"$f":"IF(Table110[[#This Row],[Lent]]=\"\",\"\",IF(Table110[[#This Row],[Returned]]=\"\",0,1))","v":""}]
[{"$nulls":11},{"$f":"IF(IF(Table110[[#This Row],[Disposition]]=\"Retired\",\"N/A\",IF(Table110[[#This Row],[Disposition]]=0,\"\",K183+$F$2))=0+$F$2,\"NEVER CALIBRATED\",IF(Table110[[#This Row],[Disposition]]=\"Retired\",\"N/A\",IF(Table110[[#This Row],[Disposition]]=0,\"\",K183+$F$2)))","v":""},{"$f":"IF(Table110[[#This Row],[Disposition]]=\"\",\"\",IF(AND(Table110[[#This Row],[Next Calibration]]<$E$1,Table110[[#This Row],[Disposition]]=\"Lost\"),\"Find and Calibrate\",IF(Table110[[#This Row],[Disposition]]=\"Lost\",\"Find\",IF(OR(Table110[[#This Row],[Next Calibration]]<$E$1,Table110[[#This Row],[Next Calibration]]=\"NEVER CALIBRATED\"),\"Calibrate\",\"Nominal\"))))","v":""},{"$f":"IF(((Table110[[#This Row],[Next Calibration]]-TODAY())/30)>2,\"More Than 2\",IF(((Table110[[#This Row],[Next Calibration]]-TODAY())/30)>1,\"Between 2 and 1\",\"Less than 1\"))","v":{"$error":"#VALUE!"}},{"$f":"IF(Table110[[#This Row],[Issued]]=\"\",\"\",IF(Table110[[#This Row],[Lent]]=\"\",0,1))","v":""},{"$f":"IF(Table110[[#This Row],[Lent]]=\"\",\"\",IF(Table110[[#This Row],[Returned]]=\"\",0,1))","v":""}]
[{"$nulls":11},{"$f":"IF(IF(Table110[[#This Row],[Disposition]]=\"Retired\",\"N/A\",IF(Table110[[#This Row],[Disposition]]=0,\"\",K184+$F$2))=0+$F$2,\"NEVER CALIBRATED\",IF(Table110[[#This Row],[Disposition]]=\"Retired\",\"N/A\",IF(Table110[[#This Row],[Disposition]]=0,\"\",K184+$F$2)))","v":""},{"$f":"IF(Table110[[#This Row],[Disposition]]=\"\",\"\",IF(AND(Table110[[#This Row],[Next Calibration]]<$E$1,Table110[[#This Row],[Disposition]]=\"Lost\"),\"Find and Calibrate\",IF(Table110[[#This Row],[Disposition]]=\"Lost\",\"Find\",IF(OR(Table110[[#This Row],[Next Calibration]]<$E$1,Table110[[#This Row],[Next Calibration]]=\"NEVER CALIBRATED\"),\"Calibrate\",\"Nominal\"))))","v":""},{"$f":"IF(((Table110[[#This Row],[Next Calibration]]-TODAY())/30)>2,\"More Than 2\",IF(((Table110[[#This Row],[Next Calibration]]-TODAY())/30)>1,\"Between 2 and 1\",\"Less than 1\"))","v":{"$error":"#VALUE!"}},{"$f":"IF(Table110[[#This Row],[Issued]]=\"\",\"\",IF(Table110[[#This Row],[Lent]]=\"\",0,1))","v":""},{"$f":"IF(Table110[[#This Row],[Lent]]=\"\",\"\",IF(Table110[[#This Row],[Returned]]=\"\",0,1))","v":""}]
[{"$nulls":11},{"$f":"IF(IF(Table110[[#This Row],[Disposition]]=\"Retired\",\"N/A\",IF(Table110[[#This Row],[Disposition]]=0,\"\",K185+$F$2))=0+$F$2,\"NEVER CALIBRATED\",IF(Table110[[#This Row],[Disposition]]=\"Retired\",\"N/A\",IF(Table110[[#This Row],[Disposition]]=0,\"\",K185+$F$2)))","v":""},{"$f":"IF(Table110[[#This Row],[Disposition]]=\"\",\"\",IF(AND(Table110[[#This Row],[Next Calibration]]<$E$1,Table110[[#This Row],[Disposition]]=\"Lost\"),\"Find and Calibrate\",IF(Table110[[#This Row],[Disposition]]=\"Lost\",\"Find\",IF(OR(Table110[[#This Row],[Next Calibration]]<$E$1,Table110[[#This Row],[Next Calibration]]=\"NEVER CALIBRATED\"),\"Calibrate\",\"Nominal\"))))","v":""},{"$f":"IF(((Table110[[#This Row],[Next Calibration]]-TODAY())/30)>2,\"More Than 2\",IF(((Table110[[#This Row],[Next Calibration]]-TODAY())/30)>1,\"Between 2 and 1\",\"Less than 1\"))","v":{"$error":"#VALUE!"}},{"$f":"IF(Table110[[#This Row],[Issued]]=\"\",\"\",IF(Table110[[#This Row],[Lent]]=\"\",0,1))","v":""},{"$f":"IF(Table110[[#This Row],[Lent]]=\"\",\"\",IF(Table110[[#This Row],[Returned]]=\"\",0,1))","v":""}]
[{"$nulls":11},{"$f":"IF(IF(Table110[[#This Row],[Disposition]]=\"Retired\",\"N/A\",IF(Table110[[#This Row],[Disposition]]=0,\"\",K186+$F$2))=0+$F$2,\"NEVER CALIBRATED\",IF(Table110[[#This Row],[Disposition]]=\"Retired\",\"N/A\",IF(Table110[[#This Row],[Disposition]]=0,\"\",K186+$F$2)))","v":""},{"$f":"IF(Table110[[#This Row],[Disposition]]=\"\",\"\",IF(AND(Table110[[#This Row],[Next Calibration]]<$E$1,Table110[[#This Row],[Disposition]]=\"Lost\"),\"Find and Calibrate\",IF(Table110[[#This Row],[Disposition]]=\"Lost\",\"Find\",IF(OR(Table110[[#This Row],[Next Calibration]]<$E$1,Table110[[#This Row],[Next Calibration]]=\"NEVER CALIBRATED\"),\"Calibrate\",\"Nominal\"))))","v":""},{"$f":"IF(((Table110[[#This Row],[Next Calibration]]-TODAY())/30)>2,\"More Than 2\",IF(((Table110[[#This Row],[Next Calibration]]-TODAY())/30)>1,\"Between 2 and 1\",\"Less than 1\"))","v":{"$error":"#VALUE!"}},{"$f":"IF(Table110[[#This Row],[Issued]]=\"\",\"\",IF(Table110[[#This Row],[Lent]]=\"\",0,1))","v":""},{"$f":"IF(Table110[[#This Row],[Lent]]=\"\",\"\",IF(Table110[[#This Row],[Returned]]=\"\",0,1))","v":""}]
[{"$nulls":11},{"$f":"IF(IF(Table110[[#This Row],[Disposition]]=\"Retired\",\"N/A\",IF(Table110[[#This Row],[Disposition]]=0,\"\",K187+$F$2))=0+$F$2,\"NEVER CALIBRATED\",IF(Table110[[#This Row],[Disposition]]=\"Retired\",\"N/A\",IF(Table110[[#This Row],[Disposition]]=0,\"\",K187+$F$2)))","v":""},{"$f":"IF(Table110[[#This Row],[Disposition]]=\"\",\"\",IF(AND(Table110[[#This Row],[Next Calibration]]<$E$1,Table110[[#This Row],[Disposition]]=\"Lost\"),\"Find and Calibrate\",IF(Table110[[#This Row],[Disposition]]=\"Lost\",\"Find\",IF(OR(Table110[[#This Row],[Next Calibration]]<$E$1,Table110[[#This Row],[Next Calibration]]=\"NEVER CALIBRATED\"),\"Calibrate\",\"Nominal\"))))","v":""},{"$f":"IF(((Table110[[#This Row],[Next Calibration]]-TODAY())/30)>2,\"More Than 2\",IF(((Table110[[#This Row],[Next Calibration]]-TODAY())/30)>1,\"Between 2 and 1\",\"Less than 1\"))","v":{"$error":"#VALUE!"}},{"$f":"IF(Table110[[#This Row],[Issued]]=\"\",\"\",IF(Table110[[#This Row],[Lent]]=\"\",0,1))","v":""},{"$f":"IF(Table110[[#This Row],[Lent]]=\"\",\"\",IF(Table110[[#This Row],[Returned]]=\"\",0,1))","v":""}]
[{"$nulls":11},{"$f":"IF(IF(Table110[[#This Row],[Disposition]]=\"Retired\",\"N/A\",IF(Table110[[#This Row],[Disposition]]=0,\"\",K188+$F$2))=0+$F$2,\"NEVER CALIBRATED\",IF(Table110[[#This Row],[Disposition]]=\"Retired\",\"N/A\",IF(Table110[[#This Row],[Disposition]]=0,\"\",K188+$F$2)))","v":""},{"$f":"IF(Table110[[#This Row],[Disposition]]=\"\",\"\",IF(AND(Table110[[#This Row],[Next Calibration]]<$E$1,Table110[[#This Row],[Disposition]]=\"Lost\"),\"Find and Calibrate\",IF(Table110[[#This Row],[Disposition]]=\"Lost\",\"Find\",IF(OR(Table110[[#This Row],[Next Calibration]]<$E$1,Table110[[#This Row],[Next Calibration]]=\"NEVER CALIBRATED\"),\"Calibrate\",\"Nominal\"))))","v":""},{"$f":"IF(((Table110[[#This Row],[Next Calibration]]-TODAY())/30)>2,\"More Than 2\",IF(((Table110[[#This Row],[Next Calibration]]-TODAY())/30)>1,\"Between 2 and 1\",\"Less than 1\"))","v":{"$error":"#VALUE!"}},{"$f":"IF(Table110[[#This Row],[Issued]]=\"\",\"\",IF(Table110[[#This Row],[Lent]]=\"\",0,1))","v":""},{"$f":"IF(Table110[[#This Row],[Lent]]=\"\",\"\",IF(Table110[[#This Row],[Returned]]=\"\",0,1))","v":""}]
[{"$nulls":11},{"$f":"IF(IF(Table110[[#This Row],[Disposition]]=\"Retired\",\"N/A\",IF(Table110[[#This Row],[Disposition]]=0,\"\",K189+$F$2))=0+$F$2,\"NEVER CALIBRATED\",IF(Table110[[#This Row],[Disposition]]=\"Retired\",\"N/A\",IF(Table110[[#This Row],[Disposition]]=0,\"\",K189+$F$2)))","v":""},{"$f":"IF(Table110[[#This Row],[Disposition]]=\"\",\"\",IF(AND(Table110[[#This Row],[Next Calibration]]<$E$1,Table110[[#This Row],[Disposition]]=\"Lost\"),\"Find and Calibrate\",IF(Table110[[#This Row],[Disposition]]=\"Lost\",\"Find\",IF(OR(Table110[[#This Row],[Next Calibration]]<$E$1,Table110[[#This Row],[Next Calibration]]=\"NEVER CALIBRATED\"),\"Calibrate\",\"Nominal\"))))","v":""},{"$f":"IF(((Table110[[#This Row],[Next Calibration]]-TODAY())/30)>2,\"More Than 2\",IF(((Table110[[#This Row],[Next Calibration]]-TODAY())/30)>1,\"Between 2 and 1\",\"Less than 1\"))","v":{"$error":"#VALUE!"}},{"$f":"IF(Table110[[#This Row],[Issued]]=\"\",\"\",IF(Table110[[#This Row],[Lent]]=\"\",0,1))","v":""},{"$f":"IF(Table110[[#This Row],[Lent]]=\"\",\"\",IF(Table110[[#This Row],[Returned]]=\"\",0,1))","v":""}]
[{"$nulls":11},{"$f":"IF(IF(Table110[[#This Row],[Disposition]]=\"Retired\",\"N/A\",IF(Table110[[#This Row],[Disposition]]=0,\"\",K190+$F$2))=0+$F$2,\"NEVER CALIBRATED\",IF(Table110[[#This Row],[Disposition]]=\"Retired\",\"N/A\",IF(Table110[[#This Row],[Disposition]]=0,\"\",K190+$F$2)))","v":""},{"$f":"IF(Table110[[#This Row],[Disposition]]=\"\",\"\",IF(AND(Table110[[#This Row],[Next Calibration]]<$E$1,Table110[[#This Row],[Disposition]]=\"Lost\"),\"Find and Calibrate\",IF(Table110[[#This Row],[Disposition]]=\"Lost\",\"Find\",IF(OR(Table110[[#This Row],[Next Calibration]]<$E$1,Table110[[#This Row],[Next Calibration]]=\"NEVER CALIBRATED\"),\"Calibrate\",\"Nominal\"))))","v":""},{"$f":"IF(((Table110[[#This Row],[Next Calibration]]-TODAY())/30)>2,\"More Than 2\",IF(((Table110[[#This Row],[Next Calibration]]-TODAY())/30)>1,\"Between 2 and 1\",\"Less than 1\"))","v":{"$error":"#VALUE!"}},{"$f":"IF(Table110[[#This Row],[Issued]]=\"\",\"\",IF(Table110[[#This Row],[Lent]]=\"\",0,1))","v":""},{"$f":"IF(Table110[[#This Row],[Lent]]=\"\",\"\",IF(Table110[[#This Row],[Returned]]=\"\",0,1))","v":""}]
[{"$nulls":11},{"$f":"IF(IF(Table110[[#This Row],[Disposition]]=\"Retired\",\"N/A\",IF(Table110[[#This Row],[Disposition]]=0,\"\",K191+$F$2))=0+$F$2,\"NEVER CALIBRATED\",IF(Table110[[#This Row],[Disposition]]=\"Retired\",\"N/A\",IF(Table110[[#This Row],[Disposition]]=0,\"\",K191+$F$2)))","v":""},{"$f":"IF(Table110[[#This Row],[Disposition]]=\"\",\"\",IF(AND(Table110[[#This Row],[Next Calibration]]<$E$1,Table110[[#This Row],[Disposition]]=\"Lost\"),\"Find and Calibrate\",IF(Table110[[#This Row],[Disposition]]=\"Lost\",\"Find\",IF(OR(Table110[[#This Row],[Next Calibration]]<$E$1,Table110[[#This Row],[Next Calibration]]=\"NEVER CALIBRATED\"),\"Calibrate\",\"Nominal\"))))","v":""},{"$f":"IF(((Table110[[#This Row],[Next Calibration]]-TODAY())/30)>2,\"More Than 2\",IF(((Table110[[#This Row],[Next Calibration]]-TODAY())/30)>1,\"Between 2 and 1\",\"Less than 1\"))","v":{"$error":"#VALUE!"}},{"$f":"IF(Table110[[#This Row],[Issued]]=\"\",\"\",IF(Table110[[#This Row],[Lent]]=\"\",0,1))","v":""},{"$f":"IF(Table110[[#This Row],[Lent]]=\"\",\"\",IF(Table110[[#This Row],[Returned]]=\"\",0,1))","v":""}]
[{"$nulls":11},{"$f":"IF(IF(Table110[[#This Row],[Disposition]]=\"Retired\",\"N/A\",IF(Table110[[#This Row],[Disposition]]=0,\"\",K192+$F$2))=0+$F$2,\"NEVER CALIBRATED\",IF(Table110[[#This Row],[Disposition]]=\"Retired\",\"N/A\",IF(Table110[[#This Row],[Disposition]]=0,\"\",K192+$F$2)))","v":""},{"$f":"IF(Table110[[#This Row],[Disposition]]=\"\",\"\",IF(AND(Table110[[#This Row],[Next Calibration]]<$E$1,Table110[[#This Row],[Disposition]]=\"Lost\"),\"Find and Calibrate\",IF(Table110[[#This Row],[Disposition]]=\"Lost\",\"Find\",IF(OR(Table110[[#This Row],[Next Calibration]]<$E$1,Table110[[#This Row],[Next Calibration]]=\"NEVER CALIBRATED\"),\"Calibrate\",\"Nominal\"))))","v":""},{"$f":"IF(((Table110[[#This Row],[Next Calibration]]-TODAY())/30)>2,\"More Than 2\",IF(((Table110[[#This Row],[Next Calibration]]-TODAY())/30)>1,\"Between 2 and 1\",\"Less than 1\"))","v":{"$error":"#VALUE!"}},{"$f":"IF(Table110[[#This Row],[Issued]]=\"\",\"\",IF(Table110[[#This Row],[Lent]]=\"\",0,1))","v":""},{"$f":"IF(Table110[[#This Row],[Lent]]=\"\",\"\",IF(Table110[[#This Row],[Returned]]=\"\",0,1))","v":""}]
[{"$nulls":11},{"$f":"IF(IF(Table110[[#This Row],[Disposition]]=\"Retired\",\"N/A\",IF(Table110[[#This Row],[Disposition]]=0,\"\",K193+$F$2))=0+$F$2,\"NEVER CALIBRATED\",IF(Table110[[#This Row],[Disposition]]=\"Retired\",\"N/A\",IF(Table110[[#This Row],[Disposition]]=0,\"\",K193+$F$2)))","v":""},{"$f":"IF(Table110[[#This Row],[Disposition]]=\"\",\"\",IF(AND(Table110[[#This Row],[Next Calibration]]<$E$1,Table110[[#This Row],[Disposition]]=\"Lost\"),\"Find and Calibrate\",IF(Table110[[#This Row],[Disposition]]=\"Lost\",\"Find\",IF(OR(Table110[[#This Row],[Next Calibration]]<$E$1,Table110[[#This Row],[Next Calibration]]=\"NEVER CALIBRATED\"),\"Calibrate\",\"Nominal\"))))","v":""},{"$f":"IF(((Table110[[#This Row],[Next Calibration]]-TODAY())/30)>2,\"More Than 2\",IF(((Table110[[#This Row],[Next Calibration]]-TODAY())/30)>1,\"Between 2 and 1\",\"Less than 1\"))","v":{"$error":"#VALUE!"}},{"$f":"IF(Table110[[#This Row],[Issued]]=\"\",\"\",IF(Table110[[#This Row],[Lent]]=\"\",0,1))","v":""},{"$f":"IF(Table110[[#This Row],[Lent]]=\"\",\"\",IF(Table110[[#This Row],[Returned]]=\"\",0,1))","v":""}]
[{"$nulls":11},{"$f":"IF(IF(Table110[[#This Row],[Disposition]]=\"Retired\",\"N/A\",IF(Table110[[#This Row],[Disposition]]=0,\"\",K194+$F$2))=0+$F$2,\"NEVER CALIBRATED\",IF(Table110[[#This Row],[Disposition]]=\"Retired\",\"N/A\",IF(Table110[[#This Row],[Disposition]]=0,\"\",K194+$F$2)))","v":""},{"$f":"IF(Table110[[#This Row],[Disposition]]=\"\",\"\",IF(AND(Table110[[#This Row],[Next Calibration]]<$E$1,Table110[[#This Row],[Disposition]]=\"Lost\"),\"Find and Calibrate\",IF(Table110[[#This Row],[Disposition]]=\"Lost\",\"Find\",IF(OR(Table110[[#This Row],[Next Calibration]]<$E$1,Table110[[#This Row],[Next Calibration]]=\"NEVER CALIBRATED\"),\"Calibrate\",\"Nominal\"))))","v":""},{"$f":"IF(((Table110[[#This Row],[Next Calibration]]-TODAY())/30)>2,\"More Than 2\",IF(((Table110[[#This Row],[Next Calibration]]-TODAY())/30)>1,\"Between 2 and 1\",\"Less than 1\"))","v":{"$error":"#VALUE!"}},{"$f":"IF(Table110[[#This Row],[Issued]]=\"\",\"\",IF(Table110[[#This Row],[Lent]]=\"\",0,1))","v":""},{"$f":"IF(Table110[[#This Row],[Lent]]=\"\",\"\",IF(Table110[[#This Row],[Returned]]=\"\",0,1))","v":""}]
[{"$nulls":11},{"$f":"IF(IF(Table110[[#This Row],[Disposition]]=\"Retired\",\"N/A\",IF(Table110[[#This Row],[Disposition]]=0,\"\",K195+$F$2))=0+$F$2,\"NEVER CALIBRATED\",IF(Table110[[#This Row],[Disposition]]=\"Retired\",\"N/A\",IF(Table110[[#This Row],[Disposition]]=0,\"\",K195+$F$2)))","v":""},{"$f":"IF(Table110[[#This Row],[Disposition]]=\"\",\"\",IF(AND(Table110[[#This Row],[Next Calibration]]<$E$1,Table110[[#This Row],[Disposition]]=\"Lost\"),\"Find and Calibrate\",IF(Table110[[#This Row],[Disposition]]=\"Lost\",\"Find\",IF(OR(Table110[[#This Row],[Next Calibration]]<$E$1,Table110[[#This Row],[Next Calibration]]=\"NEVER CALIBRATED\"),\"Calibrate\",\"Nominal\"))))","v":""},{"$f":"IF(((Table110[[#This Row],[Next Calibration]]-TODAY())/30)>2,\"More Than 2\",IF(((Table110[[#This Row],[Next Calibration]]-TODAY())/30)>1,\"Between 2 and 1\",\"Less than 1\"))","v":{"$error":"#VALUE!"}},{"$f":"IF(Table110[[#This Row],[Issued]]=\"\",\"\",IF(Table110[[#This Row],[Lent]]=\"\",0,1))","v":""},{"$f":"IF(Table110[[#This Row],[Lent]]=\"\",\"\",IF(Table110[[#This Row],[Returned]]=\"\",0,1))","v":""}]
[{"$nulls":11},{"$f":"IF(IF(Table110[[#This Row],[Disposition]]=\"Retired\",\"N/A\",IF(Table110[[#This Row],[Disposition]]=0,\"\",K196+$F$2))=0+$F$2,\"NEVER CALIBRATED\",IF(Table110[[#This Row],[Disposition]]=\"Retired\",\"N/A\",IF(Table110[[#This Row],[Disposition]]=0,\"\",K196+$F$2)))","v":""},{"$f":"IF(Table110[[#This Row],[Disposition]]=\"\",\"\",IF(AND(Table110[[#This Row],[Next Calibration]]<$E$1,Table110[[#This Row],[Disposition]]=\"Lost\"),\"Find and Calibrate\",IF(Table110[[#This Row],[Disposition]]=\"Lost\",\"Find\",IF(OR(Table110[[#This Row],[Next Calibration]]<$E$1,Table110[[#This Row],[Next Calibration]]=\"NEVER CALIBRATED\"),\"Calibrate\",\"Nominal\"))))","v":""},{"$f":"IF(((Table110[[#This Row],[Next Calibration]]-TODAY())/30)>2,\"More Than 2\",IF(((Table110[[#This Row],[Next Calibration]]-TODAY())/30)>1,\"Between 2 and 1\",\"Less than 1\"))","v":{"$error":"#VALUE!"}},{"$f":"IF(Table110[[#This Row],[Issued]]=\"\",\"\",IF(Table110[[#This Row],[Lent]]=\"\",0,1))","v":""},{"$f":"IF(Table110[[#This Row],[Lent]]=\"\",\"\",IF(Table110[[#This Row],[Returned]]=\"\",0,1))","v":""}]
[{"$nulls":11},{"$f":"IF(IF(Table110[[#This Row],[Disposition]]=\"Retired\",\"N/A\",IF(Table110[[#This Row],[Disposition]]=0,\"\",K197+$F$2))=0+$F$2,\"NEVER CALIBRATED\",IF(Table110[[#This Row],[Disposition]]=\"Retired\",\"N/A\",IF(Table110[[#This Row],[Disposition]]=0,\"\",K197+$F$2)))","v":""},{"$f":"IF(Table110[[#This Row],[Disposition]]=\"\",\"\",IF(AND(Table110[[#This Row],[Next Calibration]]<$E$1,Table110[[#This Row],[Disposition]]=\"Lost\"),\"Find and Calibrate\",IF(Table110[[#This Row],[Disposition]]=\"Lost\",\"Find\",IF(OR(Table110[[#This Row],[Next Calibration]]<$E$1,Table110[[#This Row],[Next Calibration]]=\"NEVER CALIBRATED\"),\"Calibrate\",\"Nominal\"))))","v":""},{"$f":"IF(((Table110[[#This Row],[Next Calibration]]-TODAY())/30)>2,\"More Than 2\",IF(((Table110[[#This Row],[Next Calibration]]-TODAY())/30)>1,\"Between 2 and 1\",\"Less than 1\"))","v":{"$error":"#VALUE!"}},{"$f":"IF(Table110[[#This Row],[Issued]]=\"\",\"\",IF(Table110[[#This Row],[Lent]]=\"\",0,1))","v":""},{"$f":"IF(Table110[[#This Row],[Lent]]=\"\",\"\",IF(Table110[[#This Row],[Returned]]=\"\",0,1))","v":""}]
[{"$nulls":11},{"$f":"IF(IF(Table110[[#This Row],[Disposition]]=\"Retired\",\"N/A\",IF(Table110[[#This Row],[Disposition]]=0,\"\",K198+$F$2))=0+$F$2,\"NEVER CALIBRATED\",IF(Table110[[#This Row],[Disposition]]=\"Retired\",\"N/A\",IF(Table110[[#This Row],[Disposition]]=0,\"\",K198+$F$2)))","v":""},{"$f":"IF(Table110[[#This Row],[Disposition]]=\"\",\"\",IF(AND(Table110[[#This Row],[Next Calibration]]<$E$1,Table110[[#This Row],[Disposition]]=\"Lost\"),\"Find and Calibrate\",IF(Table110[[#This Row],[Disposition]]=\"Lost\",\"Find\",IF(OR(Table110[[#This Row],[Next Calibration]]<$E$1,Table110[[#This Row],[Next Calibration]]=\"NEVER CALIBRATED\"),\"Calibrate\",\"Nominal\"))))","v":""},{"$f":"IF(((Table110[[#This Row],[Next Calibration]]-TODAY())/30)>2,\"More Than 2\",IF(((Table110[[#This Row],[Next Calibration]]-TODAY())/30)>1,\"Between 2 and 1\",\"Less than 1\"))","v":{"$error":"#VALUE!"}},{"$f":"IF(Table110[[#This Row],[Issued]]=\"\",\"\",IF(Table110[[#This Row],[Lent]]=\"\",0,1))","v":""},{"$f":"IF(Table110[[#This Row],[Lent]]=\"\",\"\",IF(Table110[[#This Row],[Returned]]=\"\",0,1))","v":""}]
[{"$nulls":11},{"$f":"IF(IF(Table110[[#This Row],[Disposition]]=\"Retired\",\"N/A\",IF(Table110[[#This Row],[Disposition]]=0,\"\",K199+$F$2))=0+$F$2,\"NEVER CALIBRATED\",IF(Table110[[#This Row],[Disposition]]=\"Retired\",\"N/A\",IF(Table110[[#This Row],[Disposition]]=0,\"\",K199+$F$2)))","v":""},{"$f":"IF(Table110[[#This Row],[Disposition]]=\"\",\"\",IF(AND(Table110[[#This Row],[Next Calibration]]<$E$1,Table110[[#This Row],[Disposition]]=\"Lost\"),\"Find and Calibrate\",IF(Table110[[#This Row],[Disposition]]=\"Lost\",\"Find\",IF(OR(Table110[[#This Row],[Next Calibration]]<$E$1,Table110[[#This Row],[Next Calibration]]=\"NEVER CALIBRATED\"),\"Calibrate\",\"Nominal\"))))","v":""},{"$f":"IF(((Table110[[#This Row],[Next Calibration]]-TODAY())/30)>2,\"More Than 2\",IF(((Table110[[#This Row],[Next Calibration]]-TODAY())/30)>1,\"Between 2 and 1\",\"Less than 1\"))","v":{"$error":"#VALUE!"}},{"$f":"IF(Table110[[#This Row],[Issued]]=\"\",\"\",IF(Table110[[#This Row],[Lent]]=\"\",0,1))","v":""},{"$f":"IF(Table110[[#This Row],[Lent]]=\"\",\"\",IF(Table110[[#This Row],[Returned]]=\"\",0,1))","v":""}]
[{"$nulls":11},{"$f":"IF(IF(Table110[[#This Row],[Disposition]]=\"Retired\",\"N/A\",IF(Table110[[#This Row],[Disposition]]=0,\"\",K200+$F$2))=0+$F$2,\"NEVER CALIBRATED\",IF(Table110[[#This Row],[Disposition]]=\"Retired\",\"N/A\",IF(Table110[[#This Row],[Disposition]]=0,\"\",K200+$F$2)))","v":""},{"$f":"IF(Table110[[#This Row],[Disposition]]=\"\",\"\",IF(AND(Table110[[#This Row],[Next Calibration]]<$E$1,Table110[[#This Row],[Disposition]]=\"Lost\"),\"Find and Calibrate\",IF(Table110[[#This Row],[Disposition]]=\"Lost\",\"Find\",IF(OR(Table110[[#This Row],[Next Calibration]]<$E$1,Table110[[#This Row],[Next Calibration]]=\"NEVER CALIBRATED\"),\"Calibrate\",\"Nominal\"))))","v":""},{"$f":"IF(((Table110[[#This Row],[Next Calibration]]-TODAY())/30)>2,\"More Than 2\",IF(((Table110[[#This Row],[Next Calibration]]-TODAY())/30)>1,\"Between 2 and 1\",\"Less than 1\"))","v":{"$error":"#VALUE!"}},{"$f":"IF(Table110[[#This Row],[Issued]]=\"\",\"\",IF(Table110[[#This Row],[Lent]]=\"\",0,1))","v":""},{"$f":"IF(Table110[[#This Row],[Lent]]=\"\",\"\",IF(Table110[[#This Row],[Returned]]=\"\",0,1))","v":""}]
[{"$nulls":11},{"$f":"IF(IF(Table110[[#This Row],[Disposition]]=\"Retired\",\"N/A\",IF(Table110[[#This Row],[Disposition]]=0,\"\",K201+$F$2))=0+$F$2,\"NEVER CALIBRATED\",IF(Table110[[#This Row],[Disposition]]=\"Retired\",\"N/A\",IF(Table110[[#This Row],[Disposition]]=0,\"\",K201+$F$2)))","v":""},{"$f":"IF(Table110[[#This Row],[Disposition]]=\"\",\"\",IF(AND(Table110[[#This Row],[Next Calibration]]<$E$1,Table110[[#This Row],[Disposition]]=\"Lost\"),\"Find and Calibrate\",IF(Table110[[#This Row],[Disposition]]=\"Lost\",\"Find\",IF(OR(Table110[[#This Row],[Next Calibration]]<$E$1,Table110[[#This Row],[Next Calibration]]=\"NEVER CALIBRATED\"),\"Calibrate\",\"Nominal\"))))","v":""},{"$f":"IF(((Table110[[#This Row],[Next Calibration]]-TODAY())/30)>2,\"More Than 2\",IF(((Table110[[#This Row],[Next Calibration]]-TODAY())/30)>1,\"Between 2 and 1\",\"Less than 1\"))","v":{"$error":"#VALUE!"}},{"$f":"IF(Table110[[#This Row],[Issued]]=\"\",\"\",IF(Table110[[#This Row],[Lent]]=\"\",0,1))","v":""},{"$f":"IF(Table110[[#This Row],[Lent]]=\"\",\"\",IF(Table110[[#This Row],[Returned]]=\"\",0,1))","v":""}]
[{"$nulls":11},{"$f":"IF(IF(Table110[[#This Row],[Disposition]]=\"Retired\",\"N/A\",IF(Table110[[#This Row],[Disposition]]=0,\"\",K202+$F$2))=0+$F$2,\"NEVER CALIBRATED\",IF(Table110[[#This Row],[Disposition]]=\"Retired\",\"N/A\",IF(Table110[[#This Row],[Disposition]]=0,\"\",K202+$F$2)))","v":""},{"$f":"IF(Table110[[#This Row],[Disposition]]=\"\",\"\",IF(AND(Table110[[#This Row],[Next Calibration]]<$E$1,Table110[[#This Row],[Disposition]]=\"Lost\"),\"Find and Calibrate\",IF(Table110[[#This Row],[Disposition]]=\"Lost\",\"Find\",IF(OR(Table110[[#This Row],[Next Calibration]]<$E$1,Table110[[#This Row],[Next Calibration]]=\"NEVER CALIBRATED\"),\"Calibrate\",\"Nominal\"))))","v":""},{"$f":"IF(((Table110[[#This Row],[Next Calibration]]-TODAY())/30)>2,\"More Than 2\",IF(((Table110[[#This Row],[Next Calibration]]-TODAY())/30)>1,\"Between 2 and 1\",\"Less than 1\"))","v":{"$error":"#VALUE!"}},{"$f":"IF(Table110[[#This Row],[Issued]]=\"\",\"\",IF(Table110[[#This Row],[Lent]]=\"\",0,1))","v":""},{"$f":"IF(Table110[[#This Row],[Lent]]=\"\",\"\",IF(Table110[[#This Row],[Returned]]=\"\",0,1))","v":""}]
[{"$nulls":11},{"$f":"IF(IF(Table110[[#This Row],[Disposition]]=\"Retired\",\"N/A\",IF(Table110[[#This Row],[Disposition]]=0,\"\",K203+$F$2))=0+$F$2,\"NEVER CALIBRATED\",IF(Table110[[#This Row],[Disposition]]=\"Retired\",\"N/A\",IF(Table110[[#This Row],[Disposition]]=0,\"\",K203+$F$2)))","v":""},{"$f":"IF(Table110[[#This Row],[Disposition]]=\"\",\"\",IF(AND(Table110[[#This Row],[Next Calibration]]<$E$1,Table110[[#This Row],[Disposition]]=\"Lost\"),\"Find and Calibrate\",IF(Table110[[#This Row],[Disposition]]=\"Lost\",\"Find\",IF(OR(Table110[[#This Row],[Next Calibration]]<$E$1,Table110[[#This Row],[Next Calibration]]=\"NEVER CALIBRATED\"),\"Calibrate\",\"Nominal\"))))","v":""},{"$f":"IF(((Table110[[#This Row],[Next Calibration]]-TODAY())/30)>2,\"More Than 2\",IF(((Table110[[#This Row],[Next Calibration]]-TODAY())/30)>1,\"Between 2 and 1\",\"Less than 1\"))","v":{"$error":"#VALUE!"}},{"$f":"IF(Table110[[#This Row],[Issued]]=\"\",\"\",IF(Table110[[#This Row],[Lent]]=\"\",0,1))","v":""},{"$f":"IF(Table110[[#This Row],[Lent]]=\"\",\"\",IF(Table110[[#This Row],[Returned]]=\"\",0,1))","v":""}]

{"sheet":"Tourque Wrenches","index":8,"n_rows":203,"n_cols":16,"rows_kept":203,"merged":[[0,0,1,2],[0,9,1,9],[0,10,0,11],[1,10,1,11],[3,0,4,0]]}
["Tourque Wrenches",null,null,"Date",{"$f":"TODAY()","v":"2021-04-27"},"Calibration Frequency (days)",{"$nulls":3},"Key","Personal Tool",null,"Adjustabe"]
[{"$nulls":3},"Time",{"$f":"NOW()","v":44313.375952546296},365,{"$nulls":4},"Attention",null,"DO NOT EDIT"]
[]
["Tool Modification"]
[]
[]
["Gauge #","Lent To","Shift","Work Area","Brand","Disposition","Personal (1/0)","Issued","Lent","Returned","Calibrated","Next Calibration","Action Required","count down","Lent (1/0)","Returned (1/0)"]
["D6",{"$nulls":3},"KD Tools Torque Wrench","Accounted For",null,"2021-03-08",{"$nulls":3},{"$f":"IF(IF(Table111[[#This Row],[Disposition]]=\"Retired\",\"N/A\",IF(Table111[[#This Row],[Disposition]]=0,\"\",K8+$F$2))=0+$F$2,\"NEVER CALIBRATED\",IF(Table111[[#This Row],[Disposition]]=\"Retired\",\"N/A\",IF(Table111[[#This Row],[Disposition]]=0,\"\",K8+$F$2)))","v":"NEVER CALIBRATED"},{"$f":"IF(Table111[[#This Row],[Disposition]]=\"\",\"\",IF(AND(Table111[[#This Row],[Next Calibration]]<$E$1,Table111[[#This Row],[Disposition]]=\"Lost\"),\"Find and Calibrate\",IF(Table111[[#This Row],[Disposition]]=\"Lost\",\"Find\",IF(OR(Table111[[#This Row],[Next Calibration]]<$E$1,Table111[[#This Row],[Next Calibration]]=\"NEVER CALIBRATED\"),\"Calibrate\",\"Nominal\"))))","v":"Calibrate"},{"$f":"IF(((Table111[[#This Row],[Next Calibration]]-TODAY())/30)>2,\"More Than 2\",IF(((Table111[[#This Row],[Next Calibration]]-TODAY())/30)>1,\"Between 2 and 1\",\"Less than 1\"))","v":{"$error":"#VALUE!"}},{"$f":"IF(Table111[[#This Row],[Issued]]=\"\",\"\",IF(Table111[[#This Row],[Lent]]=\"\",0,1))","v":{"v":0,"d":"0.00"}},{"$f":"IF(Table111[[#This Row],[Lent]]=\"\",\"\",IF(Table111[[#This Row],[Returned]]=\"\",0,1))","v":""}]
[602607120,{"$nulls":3},"Armstrong Tools Torque Wrench","Accounted For",null,"2021-03-08",{"$nulls":3},{"$f":"IF(IF(Table111[[#This Row],[Disposition]]=\"Retired\",\"N/A\",IF(Table111[[#This Row],[Disposition]]=0,\"\",K9+$F$2))=0+$F$2,\"NEVER CALIBRATED\",IF(Table111[[#This Row],[Disposition]]=\"Retired\",\"N/A\",IF(Table111[[#This Row],[Disposition]]=0,\"\",K9+$F$2)))","v":"NEVER CALIBRATED"},{"$f":"IF(Table111[[#This Row],[Disposition]]=\"\",\"\",IF(AND(Table111[[#This Row],[Next Calibration]]<$E$1,Table111[[#This Row],[Disposition]]=\"Lost\"),\"Find and Calibrate\",IF(Table111[[#This Row],[Disposition]]=\"Lost\",\"Find\",IF(OR(Table111[[#This Row],[Next Calibration]]<$E$1,Table111[[#This Row],[Next Calibration]]=\"NEVER CALIBRATED\"),\"Calibrate\",\"Nominal\"))))","v":"Calibrate"},{"$f":"IF(((Table111[[#This Row],[Next Calibration]]-TODAY())/30)>2,\"More Than 2\",IF(((Table111[[#This Row],[Next Calibration]]-TODAY())/30)>1,\"Between 2 and 1\",\"Less than 1\"))","v":{"$error":"#VALUE!"}},{"$f":"IF(Table111[[#This Row],[Issued]]=\"\",\"\",IF(Table111[[#This Row],[Lent]]=\"\",0,1))","v":{"v":0,"d":"0.00"}},{"$f":"IF(Table111[[#This Row],[Lent]]=\"\",\"\",IF(Table111[[#This Row],[Returned]]=\"\",0,1))","v":""}]
[405804893,{"$nulls":3},"CDI Torque Wrench","Accounted For",null,"2021-03-08",{"$nulls":3},{"$f":"IF(IF(Table111[[#This Row],[Disposition]]=\"Retired\",\"N/A\",IF(Table111[[#This Row],[Disposition]]=0,\"\",K10+$F$2))=0+$F$2,\"NEVER CALIBRATED\",IF(Table111[[#This Row],[Disposition]]=\"Retired\",\"N/A\",IF(Table111[[#This Row],[Disposition]]=0,\"\",K10+$F$2)))","v":"NEVER CALIBRATED"},{"$f":"IF(Table111[[#This Row],[Disposition]]=\"\",\"\",IF(AND(Table111[[#This Row],[Next Calibration]]<$E$1,Table111[[#This Row],[Disposition]]=\"Lost\"),\"Find and Calibrate\",IF(Table111[[#This Row],[Disposition]]=\"Lost\",\"Find\",IF(OR(Table111[[#This Row],[Next Calibration]]<$E$1,Table111[[#This Row],[Next Calibration]]=\"NEVER CALIBRATED\"),\"Calibrate\",\"Nominal\"))))","v":"Calibrate"},{"$f":"IF(((Table111[[#This Row],[Next Calibration]]-TODAY())/30)>2,\"More Than 2\",IF(((Table111[[#This Row],[Next Calibration]]-TODAY())/30)>1,\"Between 2 and 1\",\"Less than 1\"))","v":{"$error":"#VALUE!"}},{"$f":"IF(Table111[[#This Row],[Issued]]=\"\",\"\",IF(Table111[[#This Row],[Lent]]=\"\",0,1))","v":{"v":0,"d":"0.00"}},{"$f":"IF(Table111[[#This Row],[Lent]]=\"\",\"\",IF(Table111[[#This Row],[Returned]]=\"\",0,1))","v":""}]
["M818",{"$nulls":3},"Snap on Torque Wrench","Accounted For",null,"2021-03-08",{"$nulls":3},{"$f":"IF(IF(Table111[[#This Row],[Disposition]]=\"Retired\",\"N/A\",IF(Table111[[#This Row],[Disposition]]=0,\"\",K11+$F$2))=0+$F$2,\"NEVER CALIBRATED\",IF(Table111[[#This Row],[Disposition]]=\"Retired\",\"N/A\",IF(Table111[[#This Row],[Disposition]]=0,\"\",K11+$F$2)))","v":"NEVER CALIBRATED"},{"$f":"IF(Table111[[#This Row],[Disposition]]=\"\",\"\",IF(AND(Table111[[#This Row],[Next Calibration]]<$E$1,Table111[[#This Row],[Disposition]]=\"Lost\"),\"Find and Calibrate\",IF(Table111[[#This Row],[Disposition]]=\"Lost\",\"Find\",IF(OR(Table111[[#This Row],[Next Calibration]]<$E$1,Table111[[#This Row],[Next Calibration]]=\"NEVER CALIBRATED\"),\"Calibrate\",\"Nominal\"))))","v":"Calibrate"},{"$f":"IF(((Table111[[#This Row],[Next Calibration]]-TODAY())/30)>2,\"More Than 2\",IF(((Table111[[#This Row],[Next Calibration]]-TODAY())/30)>1,\"Between 2 and 1\",\"Less than 1\"))","v":{"$error":"#VALUE!"}},{"$f":"IF(Table111[[#This Row],[Issued]]=\"\",\"\",IF(Table111[[#This Row],[Lent]]=\"\",0,1))","v":{"v":0,"d":"0.00"}},{"$f":"IF(Table111[[#This Row],[Lent]]=\"\",\"\",IF(Table111[[#This Row],[Returned]]=\"\",0,1))","v":""}]
["M1990",{"$nulls":3},"Snap on Torque Wrench","Accounted For",null,"2021-03-08",{"$nulls":3},{"$f":"IF(IF(Table111[[#This Row],[Disposition]]=\"Retired\",\"N/A\",IF(Table111[[#This Row],[Disposition]]=0,\"\",K12+$F$2))=0+$F$2,\"NEVER CALIBRATED\",IF(Table111[[#This Row],[Disposition]]=\"Retired\",\"N/A\",IF(Table111[[#This Row],[Disposition]]=0,\"\",K12+$F$2)))","v":"NEVER CALIBRATED"},{"$f":"IF(Table111[[#This Row],[Disposition]]=\"\",\"\",IF(AND(Table111[[#This Row],[Next Calibration]]<$E$1,Table111[[#This Row],[Disposition]]=\"Lost\"),\"Find and Calibrate\",IF(Table111[[#This Row],[Disposition]]=\"Lost\",\"Find\",IF(OR(Table111[[#This Row],[Next Calibration]]<$E$1,Table111[[#This Row],[Next Calibration]]=\"NEVER CALIBRATED\"),\"Calibrate\",\"Nominal\"))))","v":"Calibrate"},{"$f":"IF(((Table111[[#This Row],[Next Calibration]]-TODAY())/30)>2,\"More Than 2\",IF(((Table111[[#This Row],[Next Calibration]]-TODAY())/30)>1,\"Between 2 and 1\",\"Less than 1\"))","v":{"$error":"#VALUE!"}},{"$f":"IF(Table111[[#This Row],[Issued]]=\"\",\"\",IF(Table111[[#This Row],[Lent]]=\"\",0,1))","v":{"v":0,"d":"0.00"}},{"$f":"IF(Table111[[#This Row],[Lent]]=\"\",\"\",IF(Table111[[#This Row],[Returned]]=\"\",0,1))","v":""}]
[501471515,{"$nulls":3},"Armstrong Tools Torque Wrench","Accounted For",null,"2021-03-08",{"$nulls":3},{"$f":"IF(IF(Table111[[#This Row],[Disposition]]=\"Retired\",\"N/A\",IF(Table111[[#This Row],[Disposition]]=0,\"\",K13+$F$2))=0+$F$2,\"NEVER CALIBRATED\",IF(Table111[[#This Row],[Disposition]]=\"Retired\",\"N/A\",IF(Table111[[#This Row],[Disposition]]=0,\"\",K13+$F$2)))","v":"NEVER CALIBRATED"},{"$f":"IF(Table111[[#This Row],[Disposition]]=\"\",\"\",IF(AND(Table111[[#This Row],[Next Calibration]]<$E$1,Table111[[#This Row],[Disposition]]=\"Lost\"),\"Find and Calibrate\",IF(Table111[[#This Row],[Disposition]]=\"Lost\",\"Find\",IF(OR(Table111[[#This Row],[Next Calibration]]<$E$1,Table111[[#This Row],[Next Calibration]]=\"NEVER CALIBRATED\"),\"Calibrate\",\"Nominal\"))))","v":"Calibrate"},{"$f":"IF(((Table111[[#This Row],[Next Calibration]]-TODAY())/30)>2,\"More Than 2\",IF(((Table111[[#This Row],[Next Calibration]]-TODAY())/30)>1,\"Between 2 and 1\",\"Less than 1\"))","v":{"$error":"#VALUE!"}},{"$f":"IF(Table111[[#This Row],[Issued]]=\"\",\"\",IF(Table111[[#This Row],[Lent]]=\"\",0,1))","v":{"v":0,"d":"0.00"}},{"$f":"IF(Table111[[#This Row],[Lent]]=\"\",\"\",IF(Table111[[#This Row],[Returned]]=\"\",0,1))","v":""}]
[203602345,{"$nulls":3},"CDI Torque Wrench","Accounted For",null,"2021-03-08",{"$nulls":3},{"$f":"IF(IF(Table111[[#This Row],[Disposition]]=\"Retired\",\"N/A\",IF(Table111[[#This Row],[Disposition]]=0,\"\",K14+$F$2))=0+$F$2,\"NEVER CALIBRATED\",IF(Table111[[#This Row],[Disposition]]=\"Retired\",\"N/A\",IF(Table111[[#This Row],[Disposition]]=0,\"\",K14+$F$2)))","v":"NEVER CALIBRATED"},{"$f":"IF(Table111[[#This Row],[Disposition]]=\"\",\"\",IF(AND(Table111[[#This Row],[Next Calibration]]<$E$1,Table111[[#This Row],[Disposition]]=\"Lost\"),\"Find and Calibrate\",IF(Table111[[#This Row],[Disposition]]=\"Lost\",\"Find\",IF(OR(Table111[[#This Row],[Next Calibration]]<$E$1,Table111[[#This Row],[Next Calibration]]=\"NEVER CALIBRATED\"),\"Calibrate\",\"Nominal\"))))","v":"Calibrate"},{"$f":"IF(((Table111[[#This Row],[Next Calibration]]-TODAY())/30)>2,\"More Than 2\",IF(((Table111[[#This Row],[Next Calibration]]-TODAY())/30)>1,\"Between 2 and 1\",\"Less than 1\"))","v":{"$error":"#VALUE!"}},{"$f":"IF(Table111[[#This Row],[Issued]]=\"\",\"\",IF(Table111[[#This Row],[Lent]]=\"\",0,1))","v":{"v":0,"d":"0.00"}},{"$f":"IF(Table111[[#This Row],[Lent]]=\"\",\"\",IF(Table111[[#This Row],[Returned]]=\"\",0,1))","v":""}]
[991236849,{"$nulls":3},"Armstrong Tools Torque Wrench","Accounted For",null,"2021-03-08",{"$nulls":3},{"$f":"IF(IF(Table111[[#This Row],[Disposition]]=\"Retired\",\"N/A\",IF(Table111[[#This Row],[Disposition]]=0,\"\",K15+$F$2))=0+$F$2,\"NEVER CALIBRATED\",IF(Table111[[#This Row],[Disposition]]=\"Retired\",\"N/A\",IF(Table111[[#This Row],[Disposition]]=0,\"\",K15+$F$2)))","v":"NEVER CALIBRATED"},{"$f":"IF(Table111[[#This Row],[Disposition]]=\"\",\"\",IF(AND(Table111[[#This Row],[Next Calibration]]<$E$1,Table111[[#This Row],[Disposition]]=\"Lost\"),\"Find and Calibrate\",IF(Table111[[#This Row],[Disposition]]=\"Lost\",\"Find\",IF(OR(Table111[[#This Row],[Next Calibration]]<$E$1,Table111[[#This Row],[Next Calibration]]=\"NEVER CALIBRATED\"),\"Calibrate\",\"Nominal\"))))","v":"Calibrate"},{"$f":"IF(((Table111[[#This Row],[Next Calibration]]-TODAY())/30)>2,\"More Than 2\",IF(((Table111[[#This Row],[Next Calibration]]-TODAY())/30)>1,\"Between 2 and 1\",\"Less than 1\"))","v":{"$error":"#VALUE!"}},{"$f":"IF(Table111[[#This Row],[Issued]]=\"\",\"\",IF(Table111[[#This Row],[Lent]]=\"\",0,1))","v":{"v":0,"d":"0.00"}},{"$f":"IF(Table111[[#This Row],[Lent]]=\"\",\"\",IF(Table111[[#This Row],[Returned]]=\"\",0,1))","v":""}]
["6064A",{"$nulls":3},"Proto Torque Wrench","Accounted For",null,"2021-03-08",{"$nulls":3},{"$f":"IF(IF(Table111[[#This Row],[Disposition]]=\"Retired\",\"N/A\",IF(Table111[[#This Row],[Disposition]]=0,\"\",K16+$F$2))=0+$F$2,\"NEVER CALIBRATED\",IF(Table111[[#This Row],[Disposition]]=\"Retired\",\"N/A\",IF(Table111[[#This Row],[Disposition]]=0,\"\",K16+$F$2)))","v":"NEVER CALIBRATED"},{"$f":"IF(Table111[[#This Row],[Disposition]]=\"\",\"\",IF(AND(Table111[[#This Row],[Next Calibration]]<$E$1,Table111[[#This Row],[Disposition]]=\"Lost\"),\"Find and Calibrate\",IF(Table111[[#This Row],[Disposition]]=\"Lost\",\"Find\",IF(OR(Table111[[#This Row],[Next Calibration]]<$E$1,Table111[[#This Row],[Next Calibration]]=\"NEVER CALIBRATED\"),\"Calibrate\",\"Nominal\"))))","v":"Calibrate"},{"$f":"IF(((Table111[[#This Row],[Next Calibration]]-TODAY())/30)>2,\"More Than 2\",IF(((Table111[[#This Row],[Next Calibration]]-TODAY())/30)>1,\"Between 2 and 1\",\"Less than 1\"))","v":{"$error":"#VALUE!"}},{"$f":"IF(Table111[[#This Row],[Issued]]=\"\",\"\",IF(Table111[[#This Row],[Lent]]=\"\",0,1))","v":{"v":0,"d":"0.00"}},{"$f":"IF(Table111[[#This Row],[Lent]]=\"\",\"\",IF(Table111[[#This Row],[Returned]]=\"\",0,1))","v":""}]
[11094647,{"$nulls":3},"Armstrong Tools Torque Wrench","Accounted For",null,"2021-03-08",{"$nulls":3},{"$f":"IF(IF(Table111[[#This Row],[Disposition]]=\"Retired\",\"N/A\",IF(Table111[[#This Row],[Disposition]]=0,\"\",K17+$F$2))=0+$F$2,\"NEVER CALIBRATED\",IF(Table111[[#This Row],[Disposition]]=\"Retired\",\"N/A\",IF(Table111[[#This Row],[Disposition]]=0,\"\",K17+$F$2)))","v":"NEVER CALIBRATED"},{"$f":"IF(Table111[[#This Row],[Disposition]]=\"\",\"\",IF(AND(Table111[[#This Row],[Next Calibration]]<$E$1,Table111[[#This Row],[Disposition]]=\"Lost\"),\"Find and Calibrate\",IF(Table111[[#This Row],[Disposition]]=\"Lost\",\"Find\",IF(OR(Table111[[#This Row],[Next Calibration]]<$E$1,Table111[[#This Row],[Next Calibration]]=\"NEVER CALIBRATED\"),\"Calibrate\",\"Nominal\"))))","v":"Calibrate"},{"$f":"IF(((Table111[[#This Row],[Next Calibration]]-TODAY())/30)>2,\"More Than 2\",IF(((Table111[[#This Row],[Next Calibration]]-TODAY())/30)>1,\"Between 2 and 1\",\"Less than 1\"))","v":{"$error":"#VALUE!"}},{"$f":"IF(Table111[[#This Row],[Issued]]=\"\",\"\",IF(Table111[[#This Row],[Lent]]=\"\",0,1))","v":{"v":0,"d":"0.00"}},{"$f":"IF(Table111[[#This Row],[Lent]]=\"\",\"\",IF(Table111[[#This Row],[Returned]]=\"\",0,1))","v":""}]
[{"$nulls":11},{"$f":"IF(IF(Table111[[#This Row],[Disposition]]=\"Retired\",\"N/A\",IF(Table111[[#This Row],[Disposition]]=0,\"\",K18+$F$2))=0+$F$2,\"NEVER CALIBRATED\",IF(Table111[[#This Row],[Disposition]]=\"Retired\",\"N/A\",IF(Table111[[#This Row],[Disposition]]=0,\"\",K18+$F$2)))","v":""},{"$f":"IF(Table111[[#This Row],[Disposition]]=\"\",\"\",IF(AND(Table111[[#This Row],[Next Calibration]]<$E$1,Table111[[#This Row],[Disposition]]=\"Lost\"),\"Find and Calibrate\",IF(Table111[[#This Row],[Disposition]]=\"Lost\",\"Find\",IF(OR(Table111[[#This Row],[Next Calibration]]<$E$1,Table111[[#This Row],[Next Calibration]]=\"NEVER CALIBRATED\"),\"Calibrate\",\"Nominal\"))))","v":""},{"$f":"IF(((Table111[[#This Row],[Next Calibration]]-TODAY())/30)>2,\"More Than 2\",IF(((Table111[[#This Row],[Next Calibration]]-TODAY())/30)>1,\"Between 2 and 1\",\"Less than 1\"))","v":{"$error":"#VALUE!"}},{"$f":"IF(Table111[[#This Row],[Issued]]=\"\",\"\",IF(Table111[[#This Row],[Lent]]=\"\",0,1))","v":""},{"$f":"IF(Table111[[#This Row],[Lent]]=\"\",\"\",IF(Table111[[#This Row],[Returned]]=\"\",0,1))","v":""}]
[{"$nulls":11},{"$f":"IF(IF(Table111[[#This Row],[Disposition]]=\"Retired\",\"N/A\",IF(Table111[[#This Row],[Disposition]]=0,\"\",K19+$F$2))=0+$F$2,\"NEVER CALIBRATED\",IF(Table111[[#This Row],[Disposition]]=\"Retired\",\"N/A\",IF(Table111[[#This Row],[Disposition]]=0,\"\",K19+$F$2)))","v":""},{"$f":"IF(Table111[[#This Row],[Disposition]]=\"\",\"\",IF(AND(Table111[[#This Row],[Next Calibration]]<$E$1,Table111[[#This Row],[Disposition]]=\"Lost\"),\"Find and Calibrate\",IF(Table111[[#This Row],[Disposition]]=\"Lost\",\"Find\",IF(OR(Table111[[#This Row],[Next Calibration]]<$E$1,Table111[[#This Row],[Next Calibration]]=\"NEVER CALIBRATED\"),\"Calibrate\",\"Nominal\"))))","v":""},{"$f":"IF(((Table111[[#This Row],[Next Calibration]]-TODAY())/30)>2,\"More Than 2\",IF(((Table111[[#This Row],[Next Calibration]]-TODAY())/30)>1,\"Between 2 and 1\",\"Less than 1\"))","v":{"$error":"#VALUE!"}},{"$f":"IF(Table111[[#This Row],[Issued]]=\"\",\"\",IF(Table111[[#This Row],[Lent]]=\"\",0,1))","v":""},{"$f":"IF(Table111[[#This Row],[Lent]]=\"\",\"\",IF(Table111[[#This Row],[Returned]]=\"\",0,1))","v":""}]
[{"$nulls":11},{"$f":"IF(IF(Table111[[#This Row],[Disposition]]=\"Retired\",\"N/A\",IF(Table111[[#This Row],[Disposition]]=0,\"\",K20+$F$2))=0+$F$2,\"NEVER CALIBRATED\",IF(Table111[[#This Row],[Disposition]]=\"Retired\",\"N/A\",IF(Table111[[#This Row],[Disposition]]=0,\"\",K20+$F$2)))","v":""},{"$f":"IF(Table111[[#This Row],[Disposition]]=\"\",\"\",IF(AND(Table111[[#This Row],[Next Calibration]]<$E$1,Table111[[#This Row],[Disposition]]=\"Lost\"),\"Find and Calibrate\",IF(Table111[[#This Row],[Disposition]]=\"Lost\",\"Find\",IF(OR(Table111[[#This Row],[Next Calibration]]<$E$1,Table111[[#This Row],[Next Calibration]]=\"NEVER CALIBRATED\"),\"Calibrate\",\"Nominal\"))))","v":""},{"$f":"IF(((Table111[[#This Row],[Next Calibration]]-TODAY())/30)>2,\"More Than 2\",IF(((Table111[[#This Row],[Next Calibration]]-TODAY())/30)>1,\"Between 2 and 1\",\"Less than 1\"))","v":{"$error":"#VALUE!"}},{"$f":"IF(Table111[[#This Row],[Issued]]=\"\",\"\",IF(Table111[[#This Row],[Lent]]=\"\",0,1))","v":""},{"$f":"IF(Table111[[#This Row],[Lent]]=\"\",\"\",IF(Table111[[#This Row],[Returned]]=\"\",0,1))","v":""}]
[{"$nulls":11},{"$f":"IF(IF(Table111[[#This Row],[Disposition]]=\"Retired\",\"N/A\",IF(Table111[[#This Row],[Disposition]]=0,\"\",K21+$F$2))=0+$F$2,\"NEVER CALIBRATED\",IF(Table111[[#This Row],[Disposition]]=\"Retired\",\"N/A\",IF(Table111[[#This Row],[Disposition]]=0,\"\",K21+$F$2)))","v":""},{"$f":"IF(Table111[[#This Row],[Disposition]]=\"\",\"\",IF(AND(Table111[[#This Row],[Next Calibration]]<$E$1,Table111[[#This Row],[Disposition]]=\"Lost\"),\"Find and Calibrate\",IF(Table111[[#This Row],[Disposition]]=\"Lost\",\"Find\",IF(OR(Table111[[#This Row],[Next Calibration]]<$E$1,Table111[[#This Row],[Next Calibration]]=\"NEVER CALIBRATED\"),\"Calibrate\",\"Nominal\"))))","v":""},{"$f":"IF(((Table111[[#This Row],[Next Calibration]]-TODAY())/30)>2,\"More Than 2\",IF(((Table111[[#This Row],[Next Calibration]]-TODAY())/30)>1,\"Between 2 and 1\",\"Less than 1\"))","v":{"$error":"#VALUE!"}},{"$f":"IF(Table111[[#This Row],[Issued]]=\"\",\"\",IF(Table111[[#This Row],[Lent]]=\"\",0,1))","v":""},{"$f":"IF(Table111[[#This Row],[Lent]]=\"\",\"\",IF(Table111[[#This Row],[Returned]]=\"\",0,1))","v":""}]
[{"$nulls":11},{"$f":"IF(IF(Table111[[#This Row],[Disposition]]=\"Retired\",\"N/A\",IF(Table111[[#This Row],[Disposition]]=0,\"\",K22+$F$2))=0+$F$2,\"NEVER CALIBRATED\",IF(Table111[[#This Row],[Disposition]]=\"Retired\",\"N/A\",IF(Table111[[#This Row],[Disposition]]=0,\"\",K22+$F$2)))","v":""},{"$f":"IF(Table111[[#This Row],[Disposition]]=\"\",\"\",IF(AND(Table111[[#This Row],[Next Calibration]]<$E$1,Table111[[#This Row],[Disposition]]=\"Lost\"),\"Find and Calibrate\",IF(Table111[[#This Row],[Disposition]]=\"Lost\",\"Find\",IF(OR(Table111[[#This Row],[Next Calibration]]<$E$1,Table111[[#This Row],[Next Calibration]]=\"NEVER CALIBRATED\"),\"Calibrate\",\"Nominal\"))))","v":""},{"$f":"IF(((Table111[[#This Row],[Next Calibration]]-TODAY())/30)>2,\"More Than 2\",IF(((Table111[[#This Row],[Next Calibration]]-TODAY())/30)>1,\"Between 2 and 1\",\"Less than 1\"))","v":{"$error":"#VALUE!"}},{"$f":"IF(Table111[[#This Row],[Issued]]=\"\",\"\",IF(Table111[[#This Row],[Lent]]=\"\",0,1))","v":""},{"$f":"IF(Table111[[#This Row],[Lent]]=\"\",\"\",IF(Table111[[#This Row],[Returned]]=\"\",0,1))","v":""}]
[{"$nulls":11},{"$f":"IF(IF(Table111[[#This Row],[Disposition]]=\"Retired\",\"N/A\",IF(Table111[[#This Row],[Disposition]]=0,\"\",K23+$F$2))=0+$F$2,\"NEVER CALIBRATED\",IF(Table111[[#This Row],[Disposition]]=\"Retired\",\"N/A\",IF(Table111[[#This Row],[Disposition]]=0,\"\",K23+$F$2)))","v":""},{"$f":"IF(Table111[[#This Row],[Disposition]]=\"\",\"\",IF(AND(Table111[[#This Row],[Next Calibration]]<$E$1,Table111[[#This Row],[Disposition]]=\"Lost\"),\"Find and Calibrate\",IF(Table111[[#This Row],[Disposition]]=\"Lost\",\"Find\",IF(OR(Table111[[#This Row],[Next Calibration]]<$E$1,Table111[[#This Row],[Next Calibration]]=\"NEVER CALIBRATED\"),\"Calibrate\",\"Nominal\"))))","v":""},{"$f":"IF(((Table111[[#This Row],[Next Calibration]]-TODAY())/30)>2,\"More Than 2\",IF(((Table111[[#This Row],[Next Calibration]]-TODAY())/30)>1,\"Between 2 and 1\",\"Less than 1\"))","v":{"$error":"#VALUE!"}},{"$f":"IF(Table111[[#This Row],[Issued]]=\"\",\"\",IF(Table111[[#This Row],[Lent]]=\"\",0,1))","v":""},{"$f":"IF(Table111[[#This Row],[Lent]]=\"\",\"\",IF(Table111[[#This Row],[Returned]]=\"\",0,1))","v":""}]
[{"$nulls":11},{"$f":"IF(IF(Table111[[#This Row],[Disposition]]=\"Retired\",\"N/A\",IF(Table111[[#This Row],[Disposition]]=0,\"\",K24+$F$2))=0+$F$2,\"NEVER CALIBRATED\",IF(Table111[[#This Row],[Disposition]]=\"Retired\",\"N/A\",IF(Table111[[#This Row],[Disposition]]=0,\"\",K24+$F$2)))","v":""},{"$f":"IF(Table111[[#This Row],[Disposition]]=\"\",\"\",IF(AND(Table111[[#This Row],[Next Calibration]]<$E$1,Table111[[#This Row],[Disposition]]=\"Lost\"),\"Find and Calibrate\",IF(Table111[[#This Row],[Disposition]]=\"Lost\",\"Find\",IF(OR(Table111[[#This Row],[Next Calibration]]<$E$1,Table111[[#This Row],[Next Calibration]]=\"NEVER CALIBRATED\"),\"Calibrate\",\"Nominal\"))))","v":""},{"$f":"IF(((Table111[[#This Row],[Next Calibration]]-TODAY())/30)>2,\"More Than 2\",IF(((Table111[[#This Row],[Next Calibration]]-TODAY())/30)>1,\"Between 2 and 1\",\"Less than 1\"))","v":{"$error":"#VALUE!"}},{"$f":"IF(Table111[[#This Row],[Issued]]=\"\",\"\",IF(Table111[[#This Row],[Lent]]=\"\",0,1))","v":""},{"$f":"IF(Table111[[#This Row],[Lent]]=\"\",\"\",IF(Table111[[#This Row],[Returned]]=\"\",0,1))","v":""}]
[{"$nulls":11},{"$f":"IF(IF(Table111[[#This Row],[Disposition]]=\"Retired\",\"N/A\",IF(Table111[[#This Row],[Disposition]]=0,\"\",K25+$F$2))=0+$F$2,\"NEVER CALIBRATED\",IF(Table111[[#This Row],[Disposition]]=\"Retired\",\"N/A\",IF(Table111[[#This Row],[Disposition]]=0,\"\",K25+$F$2)))","v":""},{"$f":"IF(Table111[[#This Row],[Disposition]]=\"\",\"\",IF(AND(Table111[[#This Row],[Next Calibration]]<$E$1,Table111[[#This Row],[Disposition]]=\"Lost\"),\"Find and Calibrate\",IF(Table111[[#This Row],[Disposition]]=\"Lost\",\"Find\",IF(OR(Table111[[#This Row],[Next Calibration]]<$E$1,Table111[[#This Row],[Next Calibration]]=\"NEVER CALIBRATED\"),\"Calibrate\",\"Nominal\"))))","v":""},{"$f":"IF(((Table111[[#This Row],[Next Calibration]]-TODAY())/30)>2,\"More Than 2\",IF(((Table111[[#This Row],[Next Calibration]]-TODAY())/30)>1,\"Between 2 and 1\",\"Less than 1\"))","v":{"$error":"#VALUE!"}},{"$f":"IF(Table111[[#This Row],[Issued]]=\"\",\"\",IF(Table111[[#This Row],[Lent]]=\"\",0,1))","v":""},{"$f":"IF(Table111[[#This Row],[Lent]]=\"\",\"\",IF(Table111[[#This Row],[Returned]]=\"\",0,1))","v":""}]
[{"$nulls":11},{"$f":"IF(IF(Table111[[#This Row],[Disposition]]=\"Retired\",\"N/A\",IF(Table111[[#This Row],[Disposition]]=0,\"\",K26+$F$2))=0+$F$2,\"NEVER CALIBRATED\",IF(Table111[[#This Row],[Disposition]]=\"Retired\",\"N/A\",IF(Table111[[#This Row],[Disposition]]=0,\"\",K26+$F$2)))","v":""},{"$f":"IF(Table111[[#This Row],[Disposition]]=\"\",\"\",IF(AND(Table111[[#This Row],[Next Calibration]]<$E$1,Table111[[#This Row],[Disposition]]=\"Lost\"),\"Find and Calibrate\",IF(Table111[[#This Row],[Disposition]]=\"Lost\",\"Find\",IF(OR(Table111[[#This Row],[Next Calibration]]<$E$1,Table111[[#This Row],[Next Calibration]]=\"NEVER CALIBRATED\"),\"Calibrate\",\"Nominal\"))))","v":""},{"$f":"IF(((Table111[[#This Row],[Next Calibration]]-TODAY())/30)>2,\"More Than 2\",IF(((Table111[[#This Row],[Next Calibration]]-TODAY())/30)>1,\"Between 2 and 1\",\"Less than 1\"))","v":{"$error":"#VALUE!"}},{"$f":"IF(Table111[[#This Row],[Issued]]=\"\",\"\",IF(Table111[[#This Row],[Lent]]=\"\",0,1))","v":""},{"$f":"IF(Table111[[#This Row],[Lent]]=\"\",\"\",IF(Table111[[#This Row],[Returned]]=\"\",0,1))","v":""}]
[{"$nulls":11},{"$f":"IF(IF(Table111[[#This Row],[Disposition]]=\"Retired\",\"N/A\",IF(Table111[[#This Row],[Disposition]]=0,\"\",K27+$F$2))=0+$F$2,\"NEVER CALIBRATED\",IF(Table111[[#This Row],[Disposition]]=\"Retired\",\"N/A\",IF(Table111[[#This Row],[Disposition]]=0,\"\",K27+$F$2)))","v":""},{"$f":"IF(Table111[[#This Row],[Disposition]]=\"\",\"\",IF(AND(Table111[[#This Row],[Next Calibration]]<$E$1,Table111[[#This Row],[Disposition]]=\"Lost\"),\"Find and Calibrate\",IF(Table111[[#This Row],[Disposition]]=\"Lost\",\"Find\",IF(OR(Table111[[#This Row],[Next Calibration]]<$E$1,Table111[[#This Row],[Next Calibration]]=\"NEVER CALIBRATED\"),\"Calibrate\",\"Nominal\"))))","v":""},{"$f":"IF(((Table111[[#This Row],[Next Calibration]]-TODAY())/30)>2,\"More Than 2\",IF(((Table111[[#This Row],[Next Calibration]]-TODAY())/30)>1,\"Between 2 and 1\",\"Less than 1\"))","v":{"$error":"#VALUE!"}},{"$f":"IF(Table111[[#This Row],[Issued]]=\"\",\"\",IF(Table111[[#This Row],[Lent]]=\"\",0,1))","v":""},{"$f":"IF(Table111[[#This Row],[Lent]]=\"\",\"\",IF(Table111[[#This Row],[Returned]]=\"\",0,1))","v":""}]
[{"$nulls":11},{"$f":"IF(IF(Table111[[#This Row],[Disposition]]=\"Retired\",\"N/A\",IF(Table111[[#This Row],[Disposition]]=0,\"\",K28+$F$2))=0+$F$2,\"NEVER CALIBRATED\",IF(Table111[[#This Row],[Disposition]]=\"Retired\",\"N/A\",IF(Table111[[#This Row],[Disposition]]=0,\"\",K28+$F$2)))","v":""},{"$f":"IF(Table111[[#This Row],[Disposition]]=\"\",\"\",IF(AND(Table111[[#This Row],[Next Calibration]]<$E$1,Table111[[#This Row],[Disposition]]=\"Lost\"),\"Find and Calibrate\",IF(Table111[[#This Row],[Disposition]]=\"Lost\",\"Find\",IF(OR(Table111[[#This Row],[Next Calibration]]<$E$1,Table111[[#This Row],[Next Calibration]]=\"NEVER CALIBRATED\"),\"Calibrate\",\"Nominal\"))))","v":""},{"$f":"IF(((Table111[[#This Row],[Next Calibration]]-TODAY())/30)>2,\"More Than 2\",IF(((Table111[[#This Row],[Next Calibration]]-TODAY())/30)>1,\"Between 2 and 1\",\"Less than 1\"))","v":{"$error":"#VALUE!"}},{"$f":"IF(Table111[[#This Row],[Issued]]=\"\",\"\",IF(Table111[[#This Row],[Lent]]=\"\",0,1))","v":""},{"$f":"IF(Table111[[#This Row],[Lent]]=\"\",\"\",IF(Table111[[#This Row],[Returned]]=\"\",0,1))","v":""}]
[{"$nulls":11},{"$f":"IF(IF(Table111[[#This Row],[Disposition]]=\"Retired\",\"N/A\",IF(Table111[[#This Row],[Disposition]]=0,\"\",K29+$F$2))=0+$F$2,\"NEVER CALIBRATED\",IF(Table111[[#This Row],[Disposition]]=\"Retired\",\"N/A\",IF(Table111[[#This Row],[Disposition]]=0,\"\",K29+$F$2)))","v":""},{"$f":"IF(Table111[[#This Row],[Disposition]]=\"\",\"\",IF(AND(Table111[[#This Row],[Next Calibration]]<$E$1,Table111[[#This Row],[Disposition]]=\"Lost\"),\"Find and Calibrate\",IF(Table111[[#This Row],[Disposition]]=\"Lost\",\"Find\",IF(OR(Table111[[#This Row],[Next Calibration]]<$E$1,Table111[[#This Row],[Next Calibration]]=\"NEVER CALIBRATED\"),\"Calibrate\",\"Nominal\"))))","v":""},{"$f":"IF(((Table111[[#This Row],[Next Calibration]]-TODAY())/30)>2,\"More Than 2\",IF(((Table111[[#This Row],[Next Calibration]]-TODAY())/30)>1,\"Between 2 and 1\",\"Less than 1\"))","v":{"$error":"#VALUE!"}},{"$f":"IF(Table111[[#This Row],[Issued]]=\"\",\"\",IF(Table111[[#This Row],[Lent]]=\"\",0,1))","v":""},{"$f":"IF(Table111[[#This Row],[Lent]]=\"\",\"\",IF(Table111[[#This Row],[Returned]]=\"\",0,1))","v":""}]
[{"$nulls":11},{"$f":"IF(IF(Table111[[#This Row],[Disposition]]=\"Retired\",\"N/A\",IF(Table111[[#This Row],[Disposition]]=0,\"\",K30+$F$2))=0+$F$2,\"NEVER CALIBRATED\",IF(Table111[[#This Row],[Disposition]]=\"Retired\",\"N/A\",IF(Table111[[#This Row],[Disposition]]=0,\"\",K30+$F$2)))","v":""},{"$f":"IF(Table111[[#This Row],[Disposition]]=\"\",\"\",IF(AND(Table111[[#This Row],[Next Calibration]]<$E$1,Table111[[#This Row],[Disposition]]=\"Lost\"),\"Find and Calibrate\",IF(Table111[[#This Row],[Disposition]]=\"Lost\",\"Find\",IF(OR(Table111[[#This Row],[Next Calibration]]<$E$1,Table111[[#This Row],[Next Calibration]]=\"NEVER CALIBRATED\"),\"Calibrate\",\"Nominal\"))))","v":""},{"$f":"IF(((Table111[[#This Row],[Next Calibration]]-TODAY())/30)>2,\"More Than 2\",IF(((Table111[[#This Row],[Next Calibration]]-TODAY())/30)>1,\"Between 2 and 1\",\"Less than 1\"))","v":{"$error":"#VALUE!"}},{"$f":"IF(Table111[[#This Row],[Issued]]=\"\",\"\",IF(Table111[[#This Row],[Lent]]=\"\",0,1))","v":""},{"$f":"IF(Table111[[#This Row],[Lent]]=\"\",\"\",IF(Table111[[#This Row],[Returned]]=\"\",0,1))","v":""}]
[{"$nulls":11},{"$f":"IF(IF(Table111[[#This Row],[Disposition]]=\"Retired\",\"N/A\",IF(Table111[[#This Row],[Disposition]]=0,\"\",K31+$F$2))=0+$F$2,\"NEVER CALIBRATED\",IF(Table111[[#This Row],[Disposition]]=\"Retired\",\"N/A\",IF(Table111[[#This Row],[Disposition]]=0,\"\",K31+$F$2)))","v":""},{"$f":"IF(Table111[[#This Row],[Disposition]]=\"\",\"\",IF(AND(Table111[[#This Row],[Next Calibration]]<$E$1,Table111[[#This Row],[Disposition]]=\"Lost\"),\"Find and Calibrate\",IF(Table111[[#This Row],[Disposition]]=\"Lost\",\"Find\",IF(OR(Table111[[#This Row],[Next Calibration]]<$E$1,Table111[[#This Row],[Next Calibration]]=\"NEVER CALIBRATED\"),\"Calibrate\",\"Nominal\"))))","v":""},{"$f":"IF(((Table111[[#This Row],[Next Calibration]]-TODAY())/30)>2,\"More Than 2\",IF(((Table111[[#This Row],[Next Calibration]]-TODAY())/30)>1,\"Between 2 and 1\",\"Less than 1\"))","v":{"$error":"#VALUE!"}},{"$f":"IF(Table111[[#This Row],[Issued]]=\"\",\"\",IF(Table111[[#This Row],[Lent]]=\"\",0,1))","v":""},{"$f":"IF(Table111[[#This Row],[Lent]]=\"\",\"\",IF(Table111[[#This Row],[Returned]]=\"\",0,1))","v":""}]
[{"$nulls":11},{"$f":"IF(IF(Table111[[#This Row],[Disposition]]=\"Retired\",\"N/A\",IF(Table111[[#This Row],[Disposition]]=0,\"\",K32+$F$2))=0+$F$2,\"NEVER CALIBRATED\",IF(Table111[[#This Row],[Disposition]]=\"Retired\",\"N/A\",IF(Table111[[#This Row],[Disposition]]=0,\"\",K32+$F$2)))","v":""},{"$f":"IF(Table111[[#This Row],[Disposition]]=\"\",\"\",IF(AND(Table111[[#This Row],[Next Calibration]]<$E$1,Table111[[#This Row],[Disposition]]=\"Lost\"),\"Find and Calibrate\",IF(Table111[[#This Row],[Disposition]]=\"Lost\",\"Find\",IF(OR(Table111[[#This Row],[Next Calibration]]<$E$1,Table111[[#This Row],[Next Calibration]]=\"NEVER CALIBRATED\"),\"Calibrate\",\"Nominal\"))))","v":""},{"$f":"IF(((Table111[[#This Row],[Next Calibration]]-TODAY())/30)>2,\"More Than 2\",IF(((Table111[[#This Row],[Next Calibration]]-TODAY())/30)>1,\"Between 2 and 1\",\"Less than 1\"))","v":{"$error":"#VALUE!"}},{"$f":"IF(Table111[[#This Row],[Issued]]=\"\",\"\",IF(Table111[[#This Row],[Lent]]=\"\",0,1))","v":""},{"$f":"IF(Table111[[#This Row],[Lent]]=\"\",\"\",IF(Table111[[#This Row],[Returned]]=\"\",0,1))","v":""}]
[{"$nulls":11},{"$f":"IF(IF(Table111[[#This Row],[Disposition]]=\"Retired\",\"N/A\",IF(Table111[[#This Row],[Disposition]]=0,\"\",K33+$F$2))=0+$F$2,\"NEVER CALIBRATED\",IF(Table111[[#This Row],[Disposition]]=\"Retired\",\"N/A\",IF(Table111[[#This Row],[Disposition]]=0,\"\",K33+$F$2)))","v":""},{"$f":"IF(Table111[[#This Row],[Disposition]]=\"\",\"\",IF(AND(Table111[[#This Row],[Next Calibration]]<$E$1,Table111[[#This Row],[Disposition]]=\"Lost\"),\"Find and Calibrate\",IF(Table111[[#This Row],[Disposition]]=\"Lost\",\"Find\",IF(OR(Table111[[#This Row],[Next Calibration]]<$E$1,Table111[[#This Row],[Next Calibration]]=\"NEVER CALIBRATED\"),\"Calibrate\",\"Nominal\"))))","v":""},{"$f":"IF(((Table111[[#This Row],[Next Calibration]]-TODAY())/30)>2,\"More Than 2\",IF(((Table111[[#This Row],[Next Calibration]]-TODAY())/30)>1,\"Between 2 and 1\",\"Less than 1\"))","v":{"$error":"#VALUE!"}},{"$f":"IF(Table111[[#This Row],[Issued]]=\"\",\"\",IF(Table111[[#This Row],[Lent]]=\"\",0,1))","v":""},{"$f":"IF(Table111[[#This Row],[Lent]]=\"\",\"\",IF(Table111[[#This Row],[Returned]]=\"\",0,1))","v":""}]
[{"$nulls":11},{"$f":"IF(IF(Table111[[#This Row],[Disposition]]=\"Retired\",\"N/A\",IF(Table111[[#This Row],[Disposition]]=0,\"\",K34+$F$2))=0+$F$2,\"NEVER CALIBRATED\",IF(Table111[[#This Row],[Disposition]]=\"Retired\",\"N/A\",IF(Table111[[#This Row],[Disposition]]=0,\"\",K34+$F$2)))","v":""},{"$f":"IF(Table111[[#This Row],[Disposition]]=\"\",\"\",IF(AND(Table111[[#This Row],[Next Calibration]]<$E$1,Table111[[#This Row],[Disposition]]=\"Lost\"),\"Find and Calibrate\",IF(Table111[[#This Row],[Disposition]]=\"Lost\",\"Find\",IF(OR(Table111[[#This Row],[Next Calibration]]<$E$1,Table111[[#This Row],[Next Calibration]]=\"NEVER CALIBRATED\"),\"Calibrate\",\"Nominal\"))))","v":""},{"$f":"IF(((Table111[[#This Row],[Next Calibration]]-TODAY())/30)>2,\"More Than 2\",IF(((Table111[[#This Row],[Next Calibration]]-TODAY())/30)>1,\"Between 2 and 1\",\"Less than 1\"))","v":{"$error":"#VALUE!"}},{"$f":"IF(Table111[[#This Row],[Issued]]=\"\",\"\",IF(Table111[[#This Row],[Lent]]=\"\",0,1))","v":""},{"$f":"IF(Table111[[#This Row],[Lent]]=\"\",\"\",IF(Table111[[#This Row],[Returned]]=\"\",0,1))","v":""}]
[{"$nulls":11},{"$f":"IF(IF(Table111[[#This Row],[Disposition]]=\"Retired\",\"N/A\",IF(Table111[[#This Row],[Disposition]]=0,\"\",K35+$F$2))=0+$F$2,\"NEVER CALIBRATED\",IF(Table111[[#This Row],[Disposition]]=\"Retired\",\"N/A\",IF(Table111[[#This Row],[Disposition]]=0,\"\",K35+$F$2)))","v":""},{"$f":"IF(Table111[[#This Row],[Disposition]]=\"\",\"\",IF(AND(Table111[[#This Row],[Next Calibration]]<$E$1,Table111[[#This Row],[Disposition]]=\"Lost\"),\"Find and Calibrate\",IF(Table111[[#This Row],[Disposition]]=\"Lost\",\"Find\",IF(OR(Table111[[#This Row],[Next Calibration]]<$E$1,Table111[[#This Row],[Next Calibration]]=\"NEVER CALIBRATED\"),\"Calibrate\",\"Nominal\"))))","v":""},{"$f":"IF(((Table111[[#This Row],[Next Calibration]]-TODAY())/30)>2,\"More Than 2\",IF(((Table111[[#This Row],[Next Calibration]]-TODAY())/30)>1,\"Between 2 and 1\",\"Less than 1\"))","v":{"$error":"#VALUE!"}},{"$f":"IF(Table111[[#This Row],[Issued]]=\"\",\"\",IF(Table111[[#This Row],[Lent]]=\"\",0,1))","v":""},{"$f":"IF(Table111[[#This Row],[Lent]]=\"\",\"\",IF(Table111[[#This Row],[Returned]]=\"\",0,1))","v":""}]
[{"$nulls":11},{"$f":"IF(IF(Table111[[#This Row],[Disposition]]=\"Retired\",\"N/A\",IF(Table111[[#This Row],[Disposition]]=0,\"\",K36+$F$2))=0+$F$2,\"NEVER CALIBRATED\",IF(Table111[[#This Row],[Disposition]]=\"Retired\",\"N/A\",IF(Table111[[#This Row],[Disposition]]=0,\"\",K36+$F$2)))","v":""},{"$f":"IF(Table111[[#This Row],[Disposition]]=\"\",\"\",IF(AND(Table111[[#This Row],[Next Calibration]]<$E$1,Table111[[#This Row],[Disposition]]=\"Lost\"),\"Find and Calibrate\",IF(Table111[[#This Row],[Disposition]]=\"Lost\",\"Find\",IF(OR(Table111[[#This Row],[Next Calibration]]<$E$1,Table111[[#This Row],[Next Calibration]]=\"NEVER CALIBRATED\"),\"Calibrate\",\"Nominal\"))))","v":""},{"$f":"IF(((Table111[[#This Row],[Next Calibration]]-TODAY())/30)>2,\"More Than 2\",IF(((Table111[[#This Row],[Next Calibration]]-TODAY())/30)>1,\"Between 2 and 1\",\"Less than 1\"))","v":{"$error":"#VALUE!"}},{"$f":"IF(Table111[[#This Row],[Issued]]=\"\",\"\",IF(Table111[[#This Row],[Lent]]=\"\",0,1))","v":""},{"$f":"IF(Table111[[#This Row],[Lent]]=\"\",\"\",IF(Table111[[#This Row],[Returned]]=\"\",0,1))","v":""}]
[{"$nulls":11},{"$f":"IF(IF(Table111[[#This Row],[Disposition]]=\"Retired\",\"N/A\",IF(Table111[[#This Row],[Disposition]]=0,\"\",K37+$F$2))=0+$F$2,\"NEVER CALIBRATED\",IF(Table111[[#This Row],[Disposition]]=\"Retired\",\"N/A\",IF(Table111[[#This Row],[Disposition]]=0,\"\",K37+$F$2)))","v":""},{"$f":"IF(Table111[[#This Row],[Disposition]]=\"\",\"\",IF(AND(Table111[[#This Row],[Next Calibration]]<$E$1,Table111[[#This Row],[Disposition]]=\"Lost\"),\"Find and Calibrate\",IF(Table111[[#This Row],[Disposition]]=\"Lost\",\"Find\",IF(OR(Table111[[#This Row],[Next Calibration]]<$E$1,Table111[[#This Row],[Next Calibration]]=\"NEVER CALIBRATED\"),\"Calibrate\",\"Nominal\"))))","v":""},{"$f":"IF(((Table111[[#This Row],[Next Calibration]]-TODAY())/30)>2,\"More Than 2\",IF(((Table111[[#This Row],[Next Calibration]]-TODAY())/30)>1,\"Between 2 and 1\",\"Less than 1\"))","v":{"$error":"#VALUE!"}},{"$f":"IF(Table111[[#This Row],[Issued]]=\"\",\"\",IF(Table111[[#This Row],[Lent]]=\"\",0,1))","v":""},{"$f":"IF(Table111[[#This Row],[Lent]]=\"\",\"\",IF(Table111[[#This Row],[Returned]]=\"\",0,1))","v":""}]
[{"$nulls":11},{"$f":"IF(IF(Table111[[#This Row],[Disposition]]=\"Retired\",\"N/A\",IF(Table111[[#This Row],[Disposition]]=0,\"\",K38+$F$2))=0+$F$2,\"NEVER CALIBRATED\",IF(Table111[[#This Row],[Disposition]]=\"Retired\",\"N/A\",IF(Table111[[#This Row],[Disposition]]=0,\"\",K38+$F$2)))","v":""},{"$f":"IF(Table111[[#This Row],[Disposition]]=\"\",\"\",IF(AND(Table111[[#This Row],[Next Calibration]]<$E$1,Table111[[#This Row],[Disposition]]=\"Lost\"),\"Find and Calibrate\",IF(Table111[[#This Row],[Disposition]]=\"Lost\",\"Find\",IF(OR(Table111[[#This Row],[Next Calibration]]<$E$1,Table111[[#This Row],[Next Calibration]]=\"NEVER CALIBRATED\"),\"Calibrate\",\"Nominal\"))))","v":""},{"$f":"IF(((Table111[[#This Row],[Next Calibration]]-TODAY())/30)>2,\"More Than 2\",IF(((Table111[[#This Row],[Next Calibration]]-TODAY())/30)>1,\"Between 2 and 1\",\"Less than 1\"))","v":{"$error":"#VALUE!"}},{"$f":"IF(Table111[[#This Row],[Issued]]=\"\",\"\",IF(Table111[[#This Row],[Lent]]=\"\",0,1))","v":""},{"$f":"IF(Table111[[#This Row],[Lent]]=\"\",\"\",IF(Table111[[#This Row],[Returned]]=\"\",0,1))","v":""}]
[{"$nulls":11},{"$f":"IF(IF(Table111[[#This Row],[Disposition]]=\"Retired\",\"N/A\",IF(Table111[[#This Row],[Disposition]]=0,\"\",K39+$F$2))=0+$F$2,\"NEVER CALIBRATED\",IF(Table111[[#This Row],[Disposition]]=\"Retired\",\"N/A\",IF(Table111[[#This Row],[Disposition]]=0,\"\",K39+$F$2)))","v":""},{"$f":"IF(Table111[[#This Row],[Disposition]]=\"\",\"\",IF(AND(Table111[[#This Row],[Next Calibration]]<$E$1,Table111[[#This Row],[Disposition]]=\"Lost\"),\"Find and Calibrate\",IF(Table111[[#This Row],[Disposition]]=\"Lost\",\"Find\",IF(OR(Table111[[#This Row],[Next Calibration]]<$E$1,Table111[[#This Row],[Next Calibration]]=\"NEVER CALIBRATED\"),\"Calibrate\",\"Nominal\"))))","v":""},{"$f":"IF(((Table111[[#This Row],[Next Calibration]]-TODAY())/30)>2,\"More Than 2\",IF(((Table111[[#This Row],[Next Calibration]]-TODAY())/30)>1,\"Between 2 and 1\",\"Less than 1\"))","v":{"$error":"#VALUE!"}},{"$f":"IF(Table111[[#This Row],[Issued]]=\"\",\"\",IF(Table111[[#This Row],[Lent]]=\"\",0,1))","v":""},{"$f":"IF(Table111[[#This Row],[Lent]]=\"\",\"\",IF(Table111[[#This Row],[Returned]]=\"\",0,1))","v":""}]
[{"$nulls":11},{"$f":"IF(IF(Table111[[#This Row],[Disposition]]=\"Retired\",\"N/A\",IF(Table111[[#This Row],[Disposition]]=0,\"\",K40+$F$2))=0+$F$2,\"NEVER CALIBRATED\",IF(Table111[[#This Row],[Disposition]]=\"Retired\",\"N/A\",IF(Table111[[#This Row],[Disposition]]=0,\"\",K40+$F$2)))","v":""},{"$f":"IF(Table111[[#This Row],[Disposition]]=\"\",\"\",IF(AND(Table111[[#This Row],[Next Calibration]]<$E$1,Table111[[#This Row],[Disposition]]=\"Lost\"),\"Find and Calibrate\",IF(Table111[[#This Row],[Disposition]]=\"Lost\",\"Find\",IF(OR(Table111[[#This Row],[Next Calibration]]<$E$1,Table111[[#This Row],[Next Calibration]]=\"NEVER CALIBRATED\"),\"Calibrate\",\"Nominal\"))))","v":""},{"$f":"IF(((Table111[[#This Row],[Next Calibration]]-TODAY())/30)>2,\"More Than 2\",IF(((Table111[[#This Row],[Next Calibration]]-TODAY())/30)>1,\"Between 2 and 1\",\"Less than 1\"))","v":{"$error":"#VALUE!"}},{"$f":"IF(Table111[[#This Row],[Issued]]=\"\",\"\",IF(Table111[[#This Row],[Lent]]=\"\",0,1))","v":""},{"$f":"IF(Table111[[#This Row],[Lent]]=\"\",\"\",IF(Table111[[#This Row],[Returned]]=\"\",0,1))","v":""}]
[{"$nulls":11},{"$f":"IF(IF(Table111[[#This Row],[Disposition]]=\"Retired\",\"N/A\",IF(Table111[[#This Row],[Disposition]]=0,\"\",K41+$F$2))=0+$F$2,\"NEVER CALIBRATED\",IF(Table111[[#This Row],[Disposition]]=\"Retired\",\"N/A\",IF(Table111[[#This Row],[Disposition]]=0,\"\",K41+$F$2)))","v":""},{"$f":"IF(Table111[[#This Row],[Disposition]]=\"\",\"\",IF(AND(Table111[[#This Row],[Next Calibration]]<$E$1,Table111[[#This Row],[Disposition]]=\"Lost\"),\"Find and Calibrate\",IF(Table111[[#This Row],[Disposition]]=\"Lost\",\"Find\",IF(OR(Table111[[#This Row],[Next Calibration]]<$E$1,Table111[[#This Row],[Next Calibration]]=\"NEVER CALIBRATED\"),\"Calibrate\",\"Nominal\"))))","v":""},{"$f":"IF(((Table111[[#This Row],[Next Calibration]]-TODAY())/30)>2,\"More Than 2\",IF(((Table111[[#This Row],[Next Calibration]]-TODAY())/30)>1,\"Between 2 and 1\",\"Less than 1\"))","v":{"$error":"#VALUE!"}},{"$f":"IF(Table111[[#This Row],[Issued]]=\"\",\"\",IF(Table111[[#This Row],[Lent]]=\"\",0,1))","v":""},{"$f":"IF(Table111[[#This Row],[Lent]]=\"\",\"\",IF(Table111[[#This Row],[Returned]]=\"\",0,1))","v":""}]
[{"$nulls":11},{"$f":"IF(IF(Table111[[#This Row],[Disposition]]=\"Retired\",\"N/A\",IF(Table111[[#This Row],[Disposition]]=0,\"\",K42+$F$2))=0+$F$2,\"NEVER CALIBRATED\",IF(Table111[[#This Row],[Disposition]]=\"Retired\",\"N/A\",IF(Table111[[#This Row],[Disposition]]=0,\"\",K42+$F$2)))","v":""},{"$f":"IF(Table111[[#This Row],[Disposition]]=\"\",\"\",IF(AND(Table111[[#This Row],[Next Calibration]]<$E$1,Table111[[#This Row],[Disposition]]=\"Lost\"),\"Find and Calibrate\",IF(Table111[[#This Row],[Disposition]]=\"Lost\",\"Find\",IF(OR(Table111[[#This Row],[Next Calibration]]<$E$1,Table111[[#This Row],[Next Calibration]]=\"NEVER CALIBRATED\"),\"Calibrate\",\"Nominal\"))))","v":""},{"$f":"IF(((Table111[[#This Row],[Next Calibration]]-TODAY())/30)>2,\"More Than 2\",IF(((Table111[[#This Row],[Next Calibration]]-TODAY())/30)>1,\"Between 2 and 1\",\"Less than 1\"))","v":{"$error":"#VALUE!"}},{"$f":"IF(Table111[[#This Row],[Issued]]=\"\",\"\",IF(Table111[[#This Row],[Lent]]=\"\",0,1))","v":""},{"$f":"IF(Table111[[#This Row],[Lent]]=\"\",\"\",IF(Table111[[#This Row],[Returned]]=\"\",0,1))","v":""}]
[{"$nulls":11},{"$f":"IF(IF(Table111[[#This Row],[Disposition]]=\"Retired\",\"N/A\",IF(Table111[[#This Row],[Disposition]]=0,\"\",K43+$F$2))=0+$F$2,\"NEVER CALIBRATED\",IF(Table111[[#This Row],[Disposition]]=\"Retired\",\"N/A\",IF(Table111[[#This Row],[Disposition]]=0,\"\",K43+$F$2)))","v":""},{"$f":"IF(Table111[[#This Row],[Disposition]]=\"\",\"\",IF(AND(Table111[[#This Row],[Next Calibration]]<$E$1,Table111[[#This Row],[Disposition]]=\"Lost\"),\"Find and Calibrate\",IF(Table111[[#This Row],[Disposition]]=\"Lost\",\"Find\",IF(OR(Table111[[#This Row],[Next Calibration]]<$E$1,Table111[[#This Row],[Next Calibration]]=\"NEVER CALIBRATED\"),\"Calibrate\",\"Nominal\"))))","v":""},{"$f":"IF(((Table111[[#This Row],[Next Calibration]]-TODAY())/30)>2,\"More Than 2\",IF(((Table111[[#This Row],[Next Calibration]]-TODAY())/30)>1,\"Between 2 and 1\",\"Less than 1\"))","v":{"$error":"#VALUE!"}},{"$f":"IF(Table111[[#This Row],[Issued]]=\"\",\"\",IF(Table111[[#This Row],[Lent]]=\"\",0,1))","v":""},{"$f":"IF(Table111[[#This Row],[Lent]]=\"\",\"\",IF(Table111[[#This Row],[Returned]]=\"\",0,1))","v":""}]
[{"$nulls":11},{"$f":"IF(IF(Table111[[#This Row],[Disposition]]=\"Retired\",\"N/A\",IF(Table111[[#This Row],[Disposition]]=0,\"\",K44+$F$2))=0+$F$2,\"NEVER CALIBRATED\",IF(Table111[[#This Row],[Disposition]]=\"Retired\",\"N/A\",IF(Table111[[#This Row],[Disposition]]=0,\"\",K44+$F$2)))","v":""},{"$f":"IF(Table111[[#This Row],[Disposition]]=\"\",\"\",IF(AND(Table111[[#This Row],[Next Calibration]]<$E$1,Table111[[#This Row],[Disposition]]=\"Lost\"),\"Find and Calibrate\",IF(Table111[[#This Row],[Disposition]]=\"Lost\",\"Find\",IF(OR(Table111[[#This Row],[Next Calibration]]<$E$1,Table111[[#This Row],[Next Calibration]]=\"NEVER CALIBRATED\"),\"Calibrate\",\"Nominal\"))))","v":""},{"$f":"IF(((Table111[[#This Row],[Next Calibration]]-TODAY())/30)>2,\"More Than 2\",IF(((Table111[[#This Row],[Next Calibration]]-TODAY())/30)>1,\"Between 2 and 1\",\"Less than 1\"))","v":{"$error":"#VALUE!"}},{"$f":"IF(Table111[[#This Row],[Issued]]=\"\",\"\",IF(Table111[[#This Row],[Lent]]=\"\",0,1))","v":""},{"$f":"IF(Table111[[#This Row],[Lent]]=\"\",\"\",IF(Table111[[#This Row],[Returned]]=\"\",0,1))","v":""}]
[{"$nulls":11},{"$f":"IF(IF(Table111[[#This Row],[Disposition]]=\"Retired\",\"N/A\",IF(Table111[[#This Row],[Disposition]]=0,\"\",K45+$F$2))=0+$F$2,\"NEVER CALIBRATED\",IF(Table111[[#This Row],[Disposition]]=\"Retired\",\"N/A\",IF(Table111[[#This Row],[Disposition]]=0,\"\",K45+$F$2)))","v":""},{"$f":"IF(Table111[[#This Row],[Disposition]]=\"\",\"\",IF(AND(Table111[[#This Row],[Next Calibration]]<$E$1,Table111[[#This Row],[Disposition]]=\"Lost\"),\"Find and Calibrate\",IF(Table111[[#This Row],[Disposition]]=\"Lost\",\"Find\",IF(OR(Table111[[#This Row],[Next Calibration]]<$E$1,Table111[[#This Row],[Next Calibration]]=\"NEVER CALIBRATED\"),\"Calibrate\",\"Nominal\"))))","v":""},{"$f":"IF(((Table111[[#This Row],[Next Calibration]]-TODAY())/30)>2,\"More Than 2\",IF(((Table111[[#This Row],[Next Calibration]]-TODAY())/30)>1,\"Between 2 and 1\",\"Less than 1\"))","v":{"$error":"#VALUE!"}},{"$f":"IF(Table111[[#This Row],[Issued]]=\"\",\"\",IF(Table111[[#This Row],[Lent]]=\"\",0,1))","v":""},{"$f":"IF(Table111[[#This Row],[Lent]]=\"\",\"\",IF(Table111[[#This Row],[Returned]]=\"\",0,1))","v":""}]
[{"$nulls":11},{"$f":"IF(IF(Table111[[#This Row],[Disposition]]=\"Retired\",\"N/A\",IF(Table111[[#This Row],[Disposition]]=0,\"\",K46+$F$2))=0+$F$2,\"NEVER CALIBRATED\",IF(Table111[[#This Row],[Disposition]]=\"Retired\",\"N/A\",IF(Table111[[#This Row],[Disposition]]=0,\"\",K46+$F$2)))","v":""},{"$f":"IF(Table111[[#This Row],[Disposition]]=\"\",\"\",IF(AND(Table111[[#This Row],[Next Calibration]]<$E$1,Table111[[#This Row],[Disposition]]=\"Lost\"),\"Find and Calibrate\",IF(Table111[[#This Row],[Disposition]]=\"Lost\",\"Find\",IF(OR(Table111[[#This Row],[Next Calibration]]<$E$1,Table111[[#This Row],[Next Calibration]]=\"NEVER CALIBRATED\"),\"Calibrate\",\"Nominal\"))))","v":""},{"$f":"IF(((Table111[[#This Row],[Next Calibration]]-TODAY())/30)>2,\"More Than 2\",IF(((Table111[[#This Row],[Next Calibration]]-TODAY())/30)>1,\"Between 2 and 1\",\"Less than 1\"))","v":{"$error":"#VALUE!"}},{"$f":"IF(Table111[[#This Row],[Issued]]=\"\",\"\",IF(Table111[[#This Row],[Lent]]=\"\",0,1))","v":""},{"$f":"IF(Table111[[#This Row],[Lent]]=\"\",\"\",IF(Table111[[#This Row],[Returned]]=\"\",0,1))","v":""}]
[{"$nulls":11},{"$f":"IF(IF(Table111[[#This Row],[Disposition]]=\"Retired\",\"N/A\",IF(Table111[[#This Row],[Disposition]]=0,\"\",K47+$F$2))=0+$F$2,\"NEVER CALIBRATED\",IF(Table111[[#This Row],[Disposition]]=\"Retired\",\"N/A\",IF(Table111[[#This Row],[Disposition]]=0,\"\",K47+$F$2)))","v":""},{"$f":"IF(Table111[[#This Row],[Disposition]]=\"\",\"\",IF(AND(Table111[[#This Row],[Next Calibration]]<$E$1,Table111[[#This Row],[Disposition]]=\"Lost\"),\"Find and Calibrate\",IF(Table111[[#This Row],[Disposition]]=\"Lost\",\"Find\",IF(OR(Table111[[#This Row],[Next Calibration]]<$E$1,Table111[[#This Row],[Next Calibration]]=\"NEVER CALIBRATED\"),\"Calibrate\",\"Nominal\"))))","v":""},{"$f":"IF(((Table111[[#This Row],[Next Calibration]]-TODAY())/30)>2,\"More Than 2\",IF(((Table111[[#This Row],[Next Calibration]]-TODAY())/30)>1,\"Between 2 and 1\",\"Less than 1\"))","v":{"$error":"#VALUE!"}},{"$f":"IF(Table111[[#This Row],[Issued]]=\"\",\"\",IF(Table111[[#This Row],[Lent]]=\"\",0,1))","v":""},{"$f":"IF(Table111[[#This Row],[Lent]]=\"\",\"\",IF(Table111[[#This Row],[Returned]]=\"\",0,1))","v":""}]
[{"$nulls":11},{"$f":"IF(IF(Table111[[#This Row],[Disposition]]=\"Retired\",\"N/A\",IF(Table111[[#This Row],[Disposition]]=0,\"\",K48+$F$2))=0+$F$2,\"NEVER CALIBRATED\",IF(Table111[[#This Row],[Disposition]]=\"Retired\",\"N/A\",IF(Table111[[#This Row],[Disposition]]=0,\"\",K48+$F$2)))","v":""},{"$f":"IF(Table111[[#This Row],[Disposition]]=\"\",\"\",IF(AND(Table111[[#This Row],[Next Calibration]]<$E$1,Table111[[#This Row],[Disposition]]=\"Lost\"),\"Find and Calibrate\",IF(Table111[[#This Row],[Disposition]]=\"Lost\",\"Find\",IF(OR(Table111[[#This Row],[Next Calibration]]<$E$1,Table111[[#This Row],[Next Calibration]]=\"NEVER CALIBRATED\"),\"Calibrate\",\"Nominal\"))))","v":""},{"$f":"IF(((Table111[[#This Row],[Next Calibration]]-TODAY())/30)>2,\"More Than 2\",IF(((Table111[[#This Row],[Next Calibration]]-TODAY())/30)>1,\"Between 2 and 1\",\"Less than 1\"))","v":{"$error":"#VALUE!"}},{"$f":"IF(Table111[[#This Row],[Issued]]=\"\",\"\",IF(Table111[[#This Row],[Lent]]=\"\",0,1))","v":""},{"$f":"IF(Table111[[#This Row],[Lent]]=\"\",\"\",IF(Table111[[#This Row],[Returned]]=\"\",0,1))","v":""}]
[{"$nulls":11},{"$f":"IF(IF(Table111[[#This Row],[Disposition]]=\"Retired\",\"N/A\",IF(Table111[[#This Row],[Disposition]]=0,\"\",K49+$F$2))=0+$F$2,\"NEVER CALIBRATED\",IF(Table111[[#This Row],[Disposition]]=\"Retired\",\"N/A\",IF(Table111[[#This Row],[Disposition]]=0,\"\",K49+$F$2)))","v":""},{"$f":"IF(Table111[[#This Row],[Disposition]]=\"\",\"\",IF(AND(Table111[[#This Row],[Next Calibration]]<$E$1,Table111[[#This Row],[Disposition]]=\"Lost\"),\"Find and Calibrate\",IF(Table111[[#This Row],[Disposition]]=\"Lost\",\"Find\",IF(OR(Table111[[#This Row],[Next Calibration]]<$E$1,Table111[[#This Row],[Next Calibration]]=\"NEVER CALIBRATED\"),\"Calibrate\",\"Nominal\"))))","v":""},{"$f":"IF(((Table111[[#This Row],[Next Calibration]]-TODAY())/30)>2,\"More Than 2\",IF(((Table111[[#This Row],[Next Calibration]]-TODAY())/30)>1,\"Between 2 and 1\",\"Less than 1\"))","v":{"$error":"#VALUE!"}},{"$f":"IF(Table111[[#This Row],[Issued]]=\"\",\"\",IF(Table111[[#This Row],[Lent]]=\"\",0,1))","v":""},{"$f":"IF(Table111[[#This Row],[Lent]]=\"\",\"\",IF(Table111[[#This Row],[Returned]]=\"\",0,1))","v":""}]
[{"$nulls":11},{"$f":"IF(IF(Table111[[#This Row],[Disposition]]=\"Retired\",\"N/A\",IF(Table111[[#This Row],[Disposition]]=0,\"\",K50+$F$2))=0+$F$2,\"NEVER CALIBRATED\",IF(Table111[[#This Row],[Disposition]]=\"Retired\",\"N/A\",IF(Table111[[#This Row],[Disposition]]=0,\"\",K50+$F$2)))","v":""},{"$f":"IF(Table111[[#This Row],[Disposition]]=\"\",\"\",IF(AND(Table111[[#This Row],[Next Calibration]]<$E$1,Table111[[#This Row],[Disposition]]=\"Lost\"),\"Find and Calibrate\",IF(Table111[[#This Row],[Disposition]]=\"Lost\",\"Find\",IF(OR(Table111[[#This Row],[Next Calibration]]<$E$1,Table111[[#This Row],[Next Calibration]]=\"NEVER CALIBRATED\"),\"Calibrate\",\"Nominal\"))))","v":""},{"$f":"IF(((Table111[[#This Row],[Next Calibration]]-TODAY())/30)>2,\"More Than 2\",IF(((Table111[[#This Row],[Next Calibration]]-TODAY())/30)>1,\"Between 2 and 1\",\"Less than 1\"))","v":{"$error":"#VALUE!"}},{"$f":"IF(Table111[[#This Row],[Issued]]=\"\",\"\",IF(Table111[[#This Row],[Lent]]=\"\",0,1))","v":""},{"$f":"IF(Table111[[#This Row],[Lent]]=\"\",\"\",IF(Table111[[#This Row],[Returned]]=\"\",0,1))","v":""}]
[{"$nulls":11},{"$f":"IF(IF(Table111[[#This Row],[Disposition]]=\"Retired\",\"N/A\",IF(Table111[[#This Row],[Disposition]]=0,\"\",K51+$F$2))=0+$F$2,\"NEVER CALIBRATED\",IF(Table111[[#This Row],[Disposition]]=\"Retired\",\"N/A\",IF(Table111[[#This Row],[Disposition]]=0,\"\",K51+$F$2)))","v":""},{"$f":"IF(Table111[[#This Row],[Disposition]]=\"\",\"\",IF(AND(Table111[[#This Row],[Next Calibration]]<$E$1,Table111[[#This Row],[Disposition]]=\"Lost\"),\"Find and Calibrate\",IF(Table111[[#This Row],[Disposition]]=\"Lost\",\"Find\",IF(OR(Table111[[#This Row],[Next Calibration]]<$E$1,Table111[[#This Row],[Next Calibration]]=\"NEVER CALIBRATED\"),\"Calibrate\",\"Nominal\"))))","v":""},{"$f":"IF(((Table111[[#This Row],[Next Calibration]]-TODAY())/30)>2,\"More Than 2\",IF(((Table111[[#This Row],[Next Calibration]]-TODAY())/30)>1,\"Between 2 and 1\",\"Less than 1\"))","v":{"$error":"#VALUE!"}},{"$f":"IF(Table111[[#This Row],[Issued]]=\"\",\"\",IF(Table111[[#This Row],[Lent]]=\"\",0,1))","v":""},{"$f":"IF(Table111[[#This Row],[Lent]]=\"\",\"\",IF(Table111[[#This Row],[Returned]]=\"\",0,1))","v":""}]
[{"$nulls":11},{"$f":"IF(IF(Table111[[#This Row],[Disposition]]=\"Retired\",\"N/A\",IF(Table111[[#This Row],[Disposition]]=0,\"\",K52+$F$2))=0+$F$2,\"NEVER CALIBRATED\",IF(Table111[[#This Row],[Disposition]]=\"Retired\",\"N/A\",IF(Table111[[#This Row],[Disposition]]=0,\"\",K52+$F$2)))","v":""},{"$f":"IF(Table111[[#This Row],[Disposition]]=\"\",\"\",IF(AND(Table111[[#This Row],[Next Calibration]]<$E$1,Table111[[#This Row],[Disposition]]=\"Lost\"),\"Find and Calibrate\",IF(Table111[[#This Row],[Disposition]]=\"Lost\",\"Find\",IF(OR(Table111[[#This Row],[Next Calibration]]<$E$1,Table111[[#This Row],[Next Calibration]]=\"NEVER CALIBRATED\"),\"Calibrate\",\"Nominal\"))))","v":""},{"$f":"IF(((Table111[[#This Row],[Next Calibration]]-TODAY())/30)>2,\"More Than 2\",IF(((Table111[[#This Row],[Next Calibration]]-TODAY())/30)>1,\"Between 2 and 1\",\"Less than 1\"))","v":{"$error":"#VALUE!"}},{"$f":"IF(Table111[[#This Row],[Issued]]=\"\",\"\",IF(Table111[[#This Row],[Lent]]=\"\",0,1))","v":""},{"$f":"IF(Table111[[#This Row],[Lent]]=\"\",\"\",IF(Table111[[#This Row],[Returned]]=\"\",0,1))","v":""}]
[{"$nulls":11},{"$f":"IF(IF(Table111[[#This Row],[Disposition]]=\"Retired\",\"N/A\",IF(Table111[[#This Row],[Disposition]]=0,\"\",K53+$F$2))=0+$F$2,\"NEVER CALIBRATED\",IF(Table111[[#This Row],[Disposition]]=\"Retired\",\"N/A\",IF(Table111[[#This Row],[Disposition]]=0,\"\",K53+$F$2)))","v":""},{"$f":"IF(Table111[[#This Row],[Disposition]]=\"\",\"\",IF(AND(Table111[[#This Row],[Next Calibration]]<$E$1,Table111[[#This Row],[Disposition]]=\"Lost\"),\"Find and Calibrate\",IF(Table111[[#This Row],[Disposition]]=\"Lost\",\"Find\",IF(OR(Table111[[#This Row],[Next Calibration]]<$E$1,Table111[[#This Row],[Next Calibration]]=\"NEVER CALIBRATED\"),\"Calibrate\",\"Nominal\"))))","v":""},{"$f":"IF(((Table111[[#This Row],[Next Calibration]]-TODAY())/30)>2,\"More Than 2\",IF(((Table111[[#This Row],[Next Calibration]]-TODAY())/30)>1,\"Between 2 and 1\",\"Less than 1\"))","v":{"$error":"#VALUE!"}},{"$f":"IF(Table111[[#This Row],[Issued]]=\"\",\"\",IF(Table111[[#This Row],[Lent]]=\"\",0,1))","v":""},{"$f":"IF(Table111[[#This Row],[Lent]]=\"\",\"\",IF(Table111[[#This Row],[Returned]]=\"\",0,1))","v":""}]
[{"$nulls":11},{"$f":"IF(IF(Table111[[#This Row],[Disposition]]=\"Retired\",\"N/A\",IF(Table111[[#This Row],[Disposition]]=0,\"\",K54+$F$2))=0+$F$2,\"NEVER CALIBRATED\",IF(Table111[[#This Row],[Disposition]]=\"Retired\",\"N/A\",IF(Table111[[#This Row],[Disposition]]=0,\"\",K54+$F$2)))","v":""},{"$f":"IF(Table111[[#This Row],[Disposition]]=\"\",\"\",IF(AND(Table111[[#This Row],[Next Calibration]]<$E$1,Table111[[#This Row],[Disposition]]=\"Lost\"),\"Find and Calibrate\",IF(Table111[[#This Row],[Disposition]]=\"Lost\",\"Find\",IF(OR(Table111[[#This Row],[Next Calibration]]<$E$1,Table111[[#This Row],[Next Calibration]]=\"NEVER CALIBRATED\"),\"Calibrate\",\"Nominal\"))))","v":""},{"$f":"IF(((Table111[[#This Row],[Next Calibration]]-TODAY())/30)>2,\"More Than 2\",IF(((Table111[[#This Row],[Next Calibration]]-TODAY())/30)>1,\"Between 2 and 1\",\"Less than 1\"))","v":{"$error":"#VALUE!"}},{"$f":"IF(Table111[[#This Row],[Issued]]=\"\",\"\",IF(Table111[[#This Row],[Lent]]=\"\",0,1))","v":""},{"$f":"IF(Table111[[#This Row],[Lent]]=\"\",\"\",IF(Table111[[#This Row],[Returned]]=\"\",0,1))","v":""}]
[{"$nulls":11},{"$f":"IF(IF(Table111[[#This Row],[Disposition]]=\"Retired\",\"N/A\",IF(Table111[[#This Row],[Disposition]]=0,\"\",K55+$F$2))=0+$F$2,\"NEVER CALIBRATED\",IF(Table111[[#This Row],[Disposition]]=\"Retired\",\"N/A\",IF(Table111[[#This Row],[Disposition]]=0,\"\",K55+$F$2)))","v":""},{"$f":"IF(Table111[[#This Row],[Disposition]]=\"\",\"\",IF(AND(Table111[[#This Row],[Next Calibration]]<$E$1,Table111[[#This Row],[Disposition]]=\"Lost\"),\"Find and Calibrate\",IF(Table111[[#This Row],[Disposition]]=\"Lost\",\"Find\",IF(OR(Table111[[#This Row],[Next Calibration]]<$E$1,Table111[[#This Row],[Next Calibration]]=\"NEVER CALIBRATED\"),\"Calibrate\",\"Nominal\"))))","v":""},{"$f":"IF(((Table111[[#This Row],[Next Calibration]]-TODAY())/30)>2,\"More Than 2\",IF(((Table111[[#This Row],[Next Calibration]]-TODAY())/30)>1,\"Between 2 and 1\",\"Less than 1\"))","v":{"$error":"#VALUE!"}},{"$f":"IF(Table111[[#This Row],[Issued]]=\"\",\"\",IF(Table111[[#This Row],[Lent]]=\"\",0,1))","v":""},{"$f":"IF(Table111[[#This Row],[Lent]]=\"\",\"\",IF(Table111[[#This Row],[Returned]]=\"\",0,1))","v":""}]
[{"$nulls":11},{"$f":"IF(IF(Table111[[#This Row],[Disposition]]=\"Retired\",\"N/A\",IF(Table111[[#This Row],[Disposition]]=0,\"\",K56+$F$2))=0+$F$2,\"NEVER CALIBRATED\",IF(Table111[[#This Row],[Disposition]]=\"Retired\",\"N/A\",IF(Table111[[#This Row],[Disposition]]=0,\"\",K56+$F$2)))","v":""},{"$f":"IF(Table111[[#This Row],[Disposition]]=\"\",\"\",IF(AND(Table111[[#This Row],[Next Calibration]]<$E$1,Table111[[#This Row],[Disposition]]=\"Lost\"),\"Find and Calibrate\",IF(Table111[[#This Row],[Disposition]]=\"Lost\",\"Find\",IF(OR(Table111[[#This Row],[Next Calibration]]<$E$1,Table111[[#This Row],[Next Calibration]]=\"NEVER CALIBRATED\"),\"Calibrate\",\"Nominal\"))))","v":""},{"$f":"IF(((Table111[[#This Row],[Next Calibration]]-TODAY())/30)>2,\"More Than 2\",IF(((Table111[[#This Row],[Next Calibration]]-TODAY())/30)>1,\"Between 2 and 1\",\"Less than 1\"))","v":{"$error":"#VALUE!"}},{"$f":"IF(Table111[[#This Row],[Issued]]=\"\",\"\",IF(Table111[[#This Row],[Lent]]=\"\",0,1))","v":""},{"$f":"IF(Table111[[#This Row],[Lent]]=\"\",\"\",IF(Table111[[#This Row],[Returned]]=\"\",0,1))","v":""}]
[{"$nulls":11},{"$f":"IF(IF(Table111[[#This Row],[Disposition]]=\"Retired\",\"N/A\",IF(Table111[[#This Row],[Disposition]]=0,\"\",K57+$F$2))=0+$F$2,\"NEVER CALIBRATED\",IF(Table111[[#This Row],[Disposition]]=\"Retired\",\"N/A\",IF(Table111[[#This Row],[Disposition]]=0,\"\",K57+$F$2)))","v":""},{"$f":"IF(Table111[[#This Row],[Disposition]]=\"\",\"\",IF(AND(Table111[[#This Row],[Next Calibration]]<$E$1,Table111[[#This Row],[Disposition]]=\"Lost\"),\"Find and Calibrate\",IF(Table111[[#This Row],[Disposition]]=\"Lost\",\"Find\",IF(OR(Table111[[#This Row],[Next Calibration]]<$E$1,Table111[[#This Row],[Next Calibration]]=\"NEVER CALIBRATED\"),\"Calibrate\",\"Nominal\"))))","v":""},{"$f":"IF(((Table111[[#This Row],[Next Calibration]]-TODAY())/30)>2,\"More Than 2\",IF(((Table111[[#This Row],[Next Calibration]]-TODAY())/30)>1,\"Between 2 and 1\",\"Less than 1\"))","v":{"$error":"#VALUE!"}},{"$f":"IF(Table111[[#This Row],[Issued]]=\"\",\"\",IF(Table111[[#This Row],[Lent]]=\"\",0,1))","v":""},{"$f":"IF(Table111[[#This Row],[Lent]]=\"\",\"\",IF(Table111[[#This Row],[Returned]]=\"\",0,1))","v":""}]
[{"$nulls":11},{"$f":"IF(IF(Table111[[#This Row],[Disposition]]=\"Retired\",\"N/A\",IF(Table111[[#This Row],[Disposition]]=0,\"\",K58+$F$2))=0+$F$2,\"NEVER CALIBRATED\",IF(Table111[[#This Row],[Disposition]]=\"Retired\",\"N/A\",IF(Table111[[#This Row],[Disposition]]=0,\"\",K58+$F$2)))","v":""},{"$f":"IF(Table111[[#This Row],[Disposition]]=\"\",\"\",IF(AND(Table111[[#This Row],[Next Calibration]]<$E$1,Table111[[#This Row],[Disposition]]=\"Lost\"),\"Find and Calibrate\",IF(Table111[[#This Row],[Disposition]]=\"Lost\",\"Find\",IF(OR(Table111[[#This Row],[Next Calibration]]<$E$1,Table111[[#This Row],[Next Calibration]]=\"NEVER CALIBRATED\"),\"Calibrate\",\"Nominal\"))))","v":""},{"$f":"IF(((Table111[[#This Row],[Next Calibration]]-TODAY())/30)>2,\"More Than 2\",IF(((Table111[[#This Row],[Next Calibration]]-TODAY())/30)>1,\"Between 2 and 1\",\"Less than 1\"))","v":{"$error":"#VALUE!"}},{"$f":"IF(Table111[[#This Row],[Issued]]=\"\",\"\",IF(Table111[[#This Row],[Lent]]=\"\",0,1))","v":""},{"$f":"IF(Table111[[#This Row],[Lent]]=\"\",\"\",IF(Table111[[#This Row],[Returned]]=\"\",0,1))","v":""}]
[{"$nulls":11},{"$f":"IF(IF(Table111[[#This Row],[Disposition]]=\"Retired\",\"N/A\",IF(Table111[[#This Row],[Disposition]]=0,\"\",K59+$F$2))=0+$F$2,\"NEVER CALIBRATED\",IF(Table111[[#This Row],[Disposition]]=\"Retired\",\"N/A\",IF(Table111[[#This Row],[Disposition]]=0,\"\",K59+$F$2)))","v":""},{"$f":"IF(Table111[[#This Row],[Disposition]]=\"\",\"\",IF(AND(Table111[[#This Row],[Next Calibration]]<$E$1,Table111[[#This Row],[Disposition]]=\"Lost\"),\"Find and Calibrate\",IF(Table111[[#This Row],[Disposition]]=\"Lost\",\"Find\",IF(OR(Table111[[#This Row],[Next Calibration]]<$E$1,Table111[[#This Row],[Next Calibration]]=\"NEVER CALIBRATED\"),\"Calibrate\",\"Nominal\"))))","v":""},{"$f":"IF(((Table111[[#This Row],[Next Calibration]]-TODAY())/30)>2,\"More Than 2\",IF(((Table111[[#This Row],[Next Calibration]]-TODAY())/30)>1,\"Between 2 and 1\",\"Less than 1\"))","v":{"$error":"#VALUE!"}},{"$f":"IF(Table111[[#This Row],[Issued]]=\"\",\"\",IF(Table111[[#This Row],[Lent]]=\"\",0,1))","v":""},{"$f":"IF(Table111[[#This Row],[Lent]]=\"\",\"\",IF(Table111[[#This Row],[Returned]]=\"\",0,1))","v":""}]
[{"$nulls":11},{"$f":"IF(IF(Table111[[#This Row],[Disposition]]=\"Retired\",\"N/A\",IF(Table111[[#This Row],[Disposition]]=0,\"\",K60+$F$2))=0+$F$2,\"NEVER CALIBRATED\",IF(Table111[[#This Row],[Disposition]]=\"Retired\",\"N/A\",IF(Table111[[#This Row],[Disposition]]=0,\"\",K60+$F$2)))","v":""},{"$f":"IF(Table111[[#This Row],[Disposition]]=\"\",\"\",IF(AND(Table111[[#This Row],[Next Calibration]]<$E$1,Table111[[#This Row],[Disposition]]=\"Lost\"),\"Find and Calibrate\",IF(Table111[[#This Row],[Disposition]]=\"Lost\",\"Find\",IF(OR(Table111[[#This Row],[Next Calibration]]<$E$1,Table111[[#This Row],[Next Calibration]]=\"NEVER CALIBRATED\"),\"Calibrate\",\"Nominal\"))))","v":""},{"$f":"IF(((Table111[[#This Row],[Next Calibration]]-TODAY())/30)>2,\"More Than 2\",IF(((Table111[[#This Row],[Next Calibration]]-TODAY())/30)>1,\"Between 2 and 1\",\"Less than 1\"))","v":{"$error":"#VALUE!"}},{"$f":"IF(Table111[[#This Row],[Issued]]=\"\",\"\",IF(Table111[[#This Row],[Lent]]=\"\",0,1))","v":""},{"$f":"IF(Table111[[#This Row],[Lent]]=\"\",\"\",IF(Table111[[#This Row],[Returned]]=\"\",0,1))","v":""}]
[{"$nulls":11},{"$f":"IF(IF(Table111[[#This Row],[Disposition]]=\"Retired\",\"N/A\",IF(Table111[[#This Row],[Disposition]]=0,\"\",K61+$F$2))=0+$F$2,\"NEVER CALIBRATED\",IF(Table111[[#This Row],[Disposition]]=\"Retired\",\"N/A\",IF(Table111[[#This Row],[Disposition]]=0,\"\",K61+$F$2)))","v":""},{"$f":"IF(Table111[[#This Row],[Disposition]]=\"\",\"\",IF(AND(Table111[[#This Row],[Next Calibration]]<$E$1,Table111[[#This Row],[Disposition]]=\"Lost\"),\"Find and Calibrate\",IF(Table111[[#This Row],[Disposition]]=\"Lost\",\"Find\",IF(OR(Table111[[#This Row],[Next Calibration]]<$E$1,Table111[[#This Row],[Next Calibration]]=\"NEVER CALIBRATED\"),\"Calibrate\",\"Nominal\"))))","v":""},{"$f":"IF(((Table111[[#This Row],[Next Calibration]]-TODAY())/30)>2,\"More Than 2\",IF(((Table111[[#This Row],[Next Calibration]]-TODAY())/30)>1,\"Between 2 and 1\",\"Less than 1\"))","v":{"$error":"#VALUE!"}},{"$f":"IF(Table111[[#This Row],[Issued]]=\"\",\"\",IF(Table111[[#This Row],[Lent]]=\"\",0,1))","v":""},{"$f":"IF(Table111[[#This Row],[Lent]]=\"\",\"\",IF(Table111[[#This Row],[Returned]]=\"\",0,1))","v":""}]
[{"$nulls":11},{"$f":"IF(IF(Table111[[#This Row],[Disposition]]=\"Retired\",\"N/A\",IF(Table111[[#This Row],[Disposition]]=0,\"\",K62+$F$2))=0+$F$2,\"NEVER CALIBRATED\",IF(Table111[[#This Row],[Disposition]]=\"Retired\",\"N/A\",IF(Table111[[#This Row],[Disposition]]=0,\"\",K62+$F$2)))","v":""},{"$f":"IF(Table111[[#This Row],[Disposition]]=\"\",\"\",IF(AND(Table111[[#This Row],[Next Calibration]]<$E$1,Table111[[#This Row],[Disposition]]=\"Lost\"),\"Find and Calibrate\",IF(Table111[[#This Row],[Disposition]]=\"Lost\",\"Find\",IF(OR(Table111[[#This Row],[Next Calibration]]<$E$1,Table111[[#This Row],[Next Calibration]]=\"NEVER CALIBRATED\"),\"Calibrate\",\"Nominal\"))))","v":""},{"$f":"IF(((Table111[[#This Row],[Next Calibration]]-TODAY())/30)>2,\"More Than 2\",IF(((Table111[[#This Row],[Next Calibration]]-TODAY())/30)>1,\"Between 2 and 1\",\"Less than 1\"))","v":{"$error":"#VALUE!"}},{"$f":"IF(Table111[[#This Row],[Issued]]=\"\",\"\",IF(Table111[[#This Row],[Lent]]=\"\",0,1))","v":""},{"$f":"IF(Table111[[#This Row],[Lent]]=\"\",\"\",IF(Table111[[#This Row],[Returned]]=\"\",0,1))","v":""}]
[{"$nulls":11},{"$f":"IF(IF(Table111[[#This Row],[Disposition]]=\"Retired\",\"N/A\",IF(Table111[[#This Row],[Disposition]]=0,\"\",K63+$F$2))=0+$F$2,\"NEVER CALIBRATED\",IF(Table111[[#This Row],[Disposition]]=\"Retired\",\"N/A\",IF(Table111[[#This Row],[Disposition]]=0,\"\",K63+$F$2)))","v":""},{"$f":"IF(Table111[[#This Row],[Disposition]]=\"\",\"\",IF(AND(Table111[[#This Row],[Next Calibration]]<$E$1,Table111[[#This Row],[Disposition]]=\"Lost\"),\"Find and Calibrate\",IF(Table111[[#This Row],[Disposition]]=\"Lost\",\"Find\",IF(OR(Table111[[#This Row],[Next Calibration]]<$E$1,Table111[[#This Row],[Next Calibration]]=\"NEVER CALIBRATED\"),\"Calibrate\",\"Nominal\"))))","v":""},{"$f":"IF(((Table111[[#This Row],[Next Calibration]]-TODAY())/30)>2,\"More Than 2\",IF(((Table111[[#This Row],[Next Calibration]]-TODAY())/30)>1,\"Between 2 and 1\",\"Less than 1\"))","v":{"$error":"#VALUE!"}},{"$f":"IF(Table111[[#This Row],[Issued]]=\"\",\"\",IF(Table111[[#This Row],[Lent]]=\"\",0,1))","v":""},{"$f":"IF(Table111[[#This Row],[Lent]]=\"\",\"\",IF(Table111[[#This Row],[Returned]]=\"\",0,1))","v":""}]
[{"$nulls":11},{"$f":"IF(IF(Table111[[#This Row],[Disposition]]=\"Retired\",\"N/A\",IF(Table111[[#This Row],[Disposition]]=0,\"\",K64+$F$2))=0+$F$2,\"NEVER CALIBRATED\",IF(Table111[[#This Row],[Disposition]]=\"Retired\",\"N/A\",IF(Table111[[#This Row],[Disposition]]=0,\"\",K64+$F$2)))","v":""},{"$f":"IF(Table111[[#This Row],[Disposition]]=\"\",\"\",IF(AND(Table111[[#This Row],[Next Calibration]]<$E$1,Table111[[#This Row],[Disposition]]=\"Lost\"),\"Find and Calibrate\",IF(Table111[[#This Row],[Disposition]]=\"Lost\",\"Find\",IF(OR(Table111[[#This Row],[Next Calibration]]<$E$1,Table111[[#This Row],[Next Calibration]]=\"NEVER CALIBRATED\"),\"Calibrate\",\"Nominal\"))))","v":""},{"$f":"IF(((Table111[[#This Row],[Next Calibration]]-TODAY())/30)>2,\"More Than 2\",IF(((Table111[[#This Row],[Next Calibration]]-TODAY())/30)>1,\"Between 2 and 1\",\"Less than 1\"))","v":{"$error":"#VALUE!"}},{"$f":"IF(Table111[[#This Row],[Issued]]=\"\",\"\",IF(Table111[[#This Row],[Lent]]=\"\",0,1))","v":""},{"$f":"IF(Table111[[#This Row],[Lent]]=\"\",\"\",IF(Table111[[#This Row],[Returned]]=\"\",0,1))","v":""}]
[{"$nulls":11},{"$f":"IF(IF(Table111[[#This Row],[Disposition]]=\"Retired\",\"N/A\",IF(Table111[[#This Row],[Disposition]]=0,\"\",K65+$F$2))=0+$F$2,\"NEVER CALIBRATED\",IF(Table111[[#This Row],[Disposition]]=\"Retired\",\"N/A\",IF(Table111[[#This Row],[Disposition]]=0,\"\",K65+$F$2)))","v":""},{"$f":"IF(Table111[[#This Row],[Disposition]]=\"\",\"\",IF(AND(Table111[[#This Row],[Next Calibration]]<$E$1,Table111[[#This Row],[Disposition]]=\"Lost\"),\"Find and Calibrate\",IF(Table111[[#This Row],[Disposition]]=\"Lost\",\"Find\",IF(OR(Table111[[#This Row],[Next Calibration]]<$E$1,Table111[[#This Row],[Next Calibration]]=\"NEVER CALIBRATED\"),\"Calibrate\",\"Nominal\"))))","v":""},{"$f":"IF(((Table111[[#This Row],[Next Calibration]]-TODAY())/30)>2,\"More Than 2\",IF(((Table111[[#This Row],[Next Calibration]]-TODAY())/30)>1,\"Between 2 and 1\",\"Less than 1\"))","v":{"$error":"#VALUE!"}},{"$f":"IF(Table111[[#This Row],[Issued]]=\"\",\"\",IF(Table111[[#This Row],[Lent]]=\"\",0,1))","v":""},{"$f":"IF(Table111[[#This Row],[Lent]]=\"\",\"\",IF(Table111[[#This Row],[Returned]]=\"\",0,1))","v":""}]
[{"$nulls":11},{"$f":"IF(IF(Table111[[#This Row],[Disposition]]=\"Retired\",\"N/A\",IF(Table111[[#This Row],[Disposition]]=0,\"\",K66+$F$2))=0+$F$2,\"NEVER CALIBRATED\",IF(Table111[[#This Row],[Disposition]]=\"Retired\",\"N/A\",IF(Table111[[#This Row],[Disposition]]=0,\"\",K66+$F$2)))","v":""},{"$f":"IF(Table111[[#This Row],[Disposition]]=\"\",\"\",IF(AND(Table111[[#This Row],[Next Calibration]]<$E$1,Table111[[#This Row],[Disposition]]=\"Lost\"),\"Find and Calibrate\",IF(Table111[[#This Row],[Disposition]]=\"Lost\",\"Find\",IF(OR(Table111[[#This Row],[Next Calibration]]<$E$1,Table111[[#This Row],[Next Calibration]]=\"NEVER CALIBRATED\"),\"Calibrate\",\"Nominal\"))))","v":""},{"$f":"IF(((Table111[[#This Row],[Next Calibration]]-TODAY())/30)>2,\"More Than 2\",IF(((Table111[[#This Row],[Next Calibration]]-TODAY())/30)>1,\"Between 2 and 1\",\"Less than 1\"))","v":{"$error":"#VALUE!"}},{"$f":"IF(Table111[[#This Row],[Issued]]=\"\",\"\",IF(Table111[[#This Row],[Lent]]=\"\",0,1))","v":""},{"$f":"IF(Table111[[#This Row],[Lent]]=\"\",\"\",IF(Table111[[#This Row],[Returned]]=\"\",0,1))","v":""}]
[{"$nulls":11},{"$f":"IF(IF(Table111[[#This Row],[Disposition]]=\"Retired\",\"N/A\",IF(Table111[[#This Row],[Disposition]]=0,\"\",K67+$F$2))=0+$F$2,\"NEVER CALIBRATED\",IF(Table111[[#This Row],[Disposition]]=\"Retired\",\"N/A\",IF(Table111[[#This Row],[Disposition]]=0,\"\",K67+$F$2)))","v":""},{"$f":"IF(Table111[[#This Row],[Disposition]]=\"\",\"\",IF(AND(Table111[[#This Row],[Next Calibration]]<$E$1,Table111[[#This Row],[Disposition]]=\"Lost\"),\"Find and Calibrate\",IF(Table111[[#This Row],[Disposition]]=\"Lost\",\"Find\",IF(OR(Table111[[#This Row],[Next Calibration]]<$E$1,Table111[[#This Row],[Next Calibration]]=\"NEVER CALIBRATED\"),\"Calibrate\",\"Nominal\"))))","v":""},{"$f":"IF(((Table111[[#This Row],[Next Calibration]]-TODAY())/30)>2,\"More Than 2\",IF(((Table111[[#This Row],[Next Calibration]]-TODAY())/30)>1,\"Between 2 and 1\",\"Less than 1\"))","v":{"$error":"#VALUE!"}},{"$f":"IF(Table111[[#This Row],[Issued]]=\"\",\"\",IF(Table111[[#This Row],[Lent]]=\"\",0,1))","v":""},{"$f":"IF(Table111[[#This Row],[Lent]]=\"\",\"\",IF(Table111[[#This Row],[Returned]]=\"\",0,1))","v":""}]
[{"$nulls":11},{"$f":"IF(IF(Table111[[#This Row],[Disposition]]=\"Retired\",\"N/A\",IF(Table111[[#This Row],[Disposition]]=0,\"\",K68+$F$2))=0+$F$2,\"NEVER CALIBRATED\",IF(Table111[[#This Row],[Disposition]]=\"Retired\",\"N/A\",IF(Table111[[#This Row],[Disposition]]=0,\"\",K68+$F$2)))","v":""},{"$f":"IF(Table111[[#This Row],[Disposition]]=\"\",\"\",IF(AND(Table111[[#This Row],[Next Calibration]]<$E$1,Table111[[#This Row],[Disposition]]=\"Lost\"),\"Find and Calibrate\",IF(Table111[[#This Row],[Disposition]]=\"Lost\",\"Find\",IF(OR(Table111[[#This Row],[Next Calibration]]<$E$1,Table111[[#This Row],[Next Calibration]]=\"NEVER CALIBRATED\"),\"Calibrate\",\"Nominal\"))))","v":""},{"$f":"IF(((Table111[[#This Row],[Next Calibration]]-TODAY())/30)>2,\"More Than 2\",IF(((Table111[[#This Row],[Next Calibration]]-TODAY())/30)>1,\"Between 2 and 1\",\"Less than 1\"))","v":{"$error":"#VALUE!"}},{"$f":"IF(Table111[[#This Row],[Issued]]=\"\",\"\",IF(Table111[[#This Row],[Lent]]=\"\",0,1))","v":""},{"$f":"IF(Table111[[#This Row],[Lent]]=\"\",\"\",IF(Table111[[#This Row],[Returned]]=\"\",0,1))","v":""}]
[{"$nulls":11},{"$f":"IF(IF(Table111[[#This Row],[Disposition]]=\"Retired\",\"N/A\",IF(Table111[[#This Row],[Disposition]]=0,\"\",K69+$F$2))=0+$F$2,\"NEVER CALIBRATED\",IF(Table111[[#This Row],[Disposition]]=\"Retired\",\"N/A\",IF(Table111[[#This Row],[Disposition]]=0,\"\",K69+$F$2)))","v":""},{"$f":"IF(Table111[[#This Row],[Disposition]]=\"\",\"\",IF(AND(Table111[[#This Row],[Next Calibration]]<$E$1,Table111[[#This Row],[Disposition]]=\"Lost\"),\"Find and Calibrate\",IF(Table111[[#This Row],[Disposition]]=\"Lost\",\"Find\",IF(OR(Table111[[#This Row],[Next Calibration]]<$E$1,Table111[[#This Row],[Next Calibration]]=\"NEVER CALIBRATED\"),\"Calibrate\",\"Nominal\"))))","v":""},{"$f":"IF(((Table111[[#This Row],[Next Calibration]]-TODAY())/30)>2,\"More Than 2\",IF(((Table111[[#This Row],[Next Calibration]]-TODAY())/30)>1,\"Between 2 and 1\",\"Less than 1\"))","v":{"$error":"#VALUE!"}},{"$f":"IF(Table111[[#This Row],[Issued]]=\"\",\"\",IF(Table111[[#This Row],[Lent]]=\"\",0,1))","v":""},{"$f":"IF(Table111[[#This Row],[Lent]]=\"\",\"\",IF(Table111[[#This Row],[Returned]]=\"\",0,1))","v":""}]
[{"$nulls":11},{"$f":"IF(IF(Table111[[#This Row],[Disposition]]=\"Retired\",\"N/A\",IF(Table111[[#This Row],[Disposition]]=0,\"\",K70+$F$2))=0+$F$2,\"NEVER CALIBRATED\",IF(Table111[[#This Row],[Disposition]]=\"Retired\",\"N/A\",IF(Table111[[#This Row],[Disposition]]=0,\"\",K70+$F$2)))","v":""},{"$f":"IF(Table111[[#This Row],[Disposition]]=\"\",\"\",IF(AND(Table111[[#This Row],[Next Calibration]]<$E$1,Table111[[#This Row],[Disposition]]=\"Lost\"),\"Find and Calibrate\",IF(Table111[[#This Row],[Disposition]]=\"Lost\",\"Find\",IF(OR(Table111[[#This Row],[Next Calibration]]<$E$1,Table111[[#This Row],[Next Calibration]]=\"NEVER CALIBRATED\"),\"Calibrate\",\"Nominal\"))))","v":""},{"$f":"IF(((Table111[[#This Row],[Next Calibration]]-TODAY())/30)>2,\"More Than 2\",IF(((Table111[[#This Row],[Next Calibration]]-TODAY())/30)>1,\"Between 2 and 1\",\"Less than 1\"))","v":{"$error":"#VALUE!"}},{"$f":"IF(Table111[[#This Row],[Issued]]=\"\",\"\",IF(Table111[[#This Row],[Lent]]=\"\",0,1))","v":""},{"$f":"IF(Table111[[#This Row],[Lent]]=\"\",\"\",IF(Table111[[#This Row],[Returned]]=\"\",0,1))","v":""}]
[{"$nulls":11},{"$f":"IF(IF(Table111[[#This Row],[Disposition]]=\"Retired\",\"N/A\",IF(Table111[[#This Row],[Disposition]]=0,\"\",K71+$F$2))=0+$F$2,\"NEVER CALIBRATED\",IF(Table111[[#This Row],[Disposition]]=\"Retired\",\"N/A\",IF(Table111[[#This Row],[Disposition]]=0,\"\",K71+$F$2)))","v":""},{"$f":"IF(Table111[[#This Row],[Disposition]]=\"\",\"\",IF(AND(Table111[[#This Row],[Next Calibration]]<$E$1,Table111[[#This Row],[Disposition]]=\"Lost\"),\"Find and Calibrate\",IF(Table111[[#This Row],[Disposition]]=\"Lost\",\"Find\",IF(OR(Table111[[#This Row],[Next Calibration]]<$E$1,Table111[[#This Row],[Next Calibration]]=\"NEVER CALIBRATED\"),\"Calibrate\",\"Nominal\"))))","v":""},{"$f":"IF(((Table111[[#This Row],[Next Calibration]]-TODAY())/30)>2,\"More Than 2\",IF(((Table111[[#This Row],[Next Calibration]]-TODAY())/30)>1,\"Between 2 and 1\",\"Less than 1\"))","v":{"$error":"#VALUE!"}},{"$f":"IF(Table111[[#This Row],[Issued]]=\"\",\"\",IF(Table111[[#This Row],[Lent]]=\"\",0,1))","v":""},{"$f":"IF(Table111[[#This Row],[Lent]]=\"\",\"\",IF(Table111[[#This Row],[Returned]]=\"\",0,1))","v":""}]
[{"$nulls":11},{"$f":"IF(IF(Table111[[#This Row],[Disposition]]=\"Retired\",\"N/A\",IF(Table111[[#This Row],[Disposition]]=0,\"\",K72+$F$2))=0+$F$2,\"NEVER CALIBRATED\",IF(Table111[[#This Row],[Disposition]]=\"Retired\",\"N/A\",IF(Table111[[#This Row],[Disposition]]=0,\"\",K72+$F$2)))","v":""},{"$f":"IF(Table111[[#This Row],[Disposition]]=\"\",\"\",IF(AND(Table111[[#This Row],[Next Calibration]]<$E$1,Table111[[#This Row],[Disposition]]=\"Lost\"),\"Find and Calibrate\",IF(Table111[[#This Row],[Disposition]]=\"Lost\",\"Find\",IF(OR(Table111[[#This Row],[Next Calibration]]<$E$1,Table111[[#This Row],[Next Calibration]]=\"NEVER CALIBRATED\"),\"Calibrate\",\"Nominal\"))))","v":""},{"$f":"IF(((Table111[[#This Row],[Next Calibration]]-TODAY())/30)>2,\"More Than 2\",IF(((Table111[[#This Row],[Next Calibration]]-TODAY())/30)>1,\"Between 2 and 1\",\"Less than 1\"))","v":{"$error":"#VALUE!"}},{"$f":"IF(Table111[[#This Row],[Issued]]=\"\",\"\",IF(Table111[[#This Row],[Lent]]=\"\",0,1))","v":""},{"$f":"IF(Table111[[#This Row],[Lent]]=\"\",\"\",IF(Table111[[#This Row],[Returned]]=\"\",0,1))","v":""}]
[{"$nulls":11},{"$f":"IF(IF(Table111[[#This Row],[Disposition]]=\"Retired\",\"N/A\",IF(Table111[[#This Row],[Disposition]]=0,\"\",K73+$F$2))=0+$F$2,\"NEVER CALIBRATED\",IF(Table111[[#This Row],[Disposition]]=\"Retired\",\"N/A\",IF(Table111[[#This Row],[Disposition]]=0,\"\",K73+$F$2)))","v":""},{"$f":"IF(Table111[[#This Row],[Disposition]]=\"\",\"\",IF(AND(Table111[[#This Row],[Next Calibration]]<$E$1,Table111[[#This Row],[Disposition]]=\"Lost\"),\"Find and Calibrate\",IF(Table111[[#This Row],[Disposition]]=\"Lost\",\"Find\",IF(OR(Table111[[#This Row],[Next Calibration]]<$E$1,Table111[[#This Row],[Next Calibration]]=\"NEVER CALIBRATED\"),\"Calibrate\",\"Nominal\"))))","v":""},{"$f":"IF(((Table111[[#This Row],[Next Calibration]]-TODAY())/30)>2,\"More Than 2\",IF(((Table111[[#This Row],[Next Calibration]]-TODAY())/30)>1,\"Between 2 and 1\",\"Less than 1\"))","v":{"$error":"#VALUE!"}},{"$f":"IF(Table111[[#This Row],[Issued]]=\"\",\"\",IF(Table111[[#This Row],[Lent]]=\"\",0,1))","v":""},{"$f":"IF(Table111[[#This Row],[Lent]]=\"\",\"\",IF(Table111[[#This Row],[Returned]]=\"\",0,1))","v":""}]
[{"$nulls":11},{"$f":"IF(IF(Table111[[#This Row],[Disposition]]=\"Retired\",\"N/A\",IF(Table111[[#This Row],[Disposition]]=0,\"\",K74+$F$2))=0+$F$2,\"NEVER CALIBRATED\",IF(Table111[[#This Row],[Disposition]]=\"Retired\",\"N/A\",IF(Table111[[#This Row],[Disposition]]=0,\"\",K74+$F$2)))","v":""},{"$f":"IF(Table111[[#This Row],[Disposition]]=\"\",\"\",IF(AND(Table111[[#This Row],[Next Calibration]]<$E$1,Table111[[#This Row],[Disposition]]=\"Lost\"),\"Find and Calibrate\",IF(Table111[[#This Row],[Disposition]]=\"Lost\",\"Find\",IF(OR(Table111[[#This Row],[Next Calibration]]<$E$1,Table111[[#This Row],[Next Calibration]]=\"NEVER CALIBRATED\"),\"Calibrate\",\"Nominal\"))))","v":""},{"$f":"IF(((Table111[[#This Row],[Next Calibration]]-TODAY())/30)>2,\"More Than 2\",IF(((Table111[[#This Row],[Next Calibration]]-TODAY())/30)>1,\"Between 2 and 1\",\"Less than 1\"))","v":{"$error":"#VALUE!"}},{"$f":"IF(Table111[[#This Row],[Issued]]=\"\",\"\",IF(Table111[[#This Row],[Lent]]=\"\",0,1))","v":""},{"$f":"IF(Table111[[#This Row],[Lent]]=\"\",\"\",IF(Table111[[#This Row],[Returned]]=\"\",0,1))","v":""}]
[{"$nulls":11},{"$f":"IF(IF(Table111[[#This Row],[Disposition]]=\"Retired\",\"N/A\",IF(Table111[[#This Row],[Disposition]]=0,\"\",K75+$F$2))=0+$F$2,\"NEVER CALIBRATED\",IF(Table111[[#This Row],[Disposition]]=\"Retired\",\"N/A\",IF(Table111[[#This Row],[Disposition]]=0,\"\",K75+$F$2)))","v":""},{"$f":"IF(Table111[[#This Row],[Disposition]]=\"\",\"\",IF(AND(Table111[[#This Row],[Next Calibration]]<$E$1,Table111[[#This Row],[Disposition]]=\"Lost\"),\"Find and Calibrate\",IF(Table111[[#This Row],[Disposition]]=\"Lost\",\"Find\",IF(OR(Table111[[#This Row],[Next Calibration]]<$E$1,Table111[[#This Row],[Next Calibration]]=\"NEVER CALIBRATED\"),\"Calibrate\",\"Nominal\"))))","v":""},{"$f":"IF(((Table111[[#This Row],[Next Calibration]]-TODAY())/30)>2,\"More Than 2\",IF(((Table111[[#This Row],[Next Calibration]]-TODAY())/30)>1,\"Between 2 and 1\",\"Less than 1\"))","v":{"$error":"#VALUE!"}},{"$f":"IF(Table111[[#This Row],[Issued]]=\"\",\"\",IF(Table111[[#This Row],[Lent]]=\"\",0,1))","v":""},{"$f":"IF(Table111[[#This Row],[Lent]]=\"\",\"\",IF(Table111[[#This Row],[Returned]]=\"\",0,1))","v":""}]
[{"$nulls":11},{"$f":"IF(IF(Table111[[#This Row],[Disposition]]=\"Retired\",\"N/A\",IF(Table111[[#This Row],[Disposition]]=0,\"\",K76+$F$2))=0+$F$2,\"NEVER CALIBRATED\",IF(Table111[[#This Row],[Disposition]]=\"Retired\",\"N/A\",IF(Table111[[#This Row],[Disposition]]=0,\"\",K76+$F$2)))","v":""},{"$f":"IF(Table111[[#This Row],[Disposition]]=\"\",\"\",IF(AND(Table111[[#This Row],[Next Calibration]]<$E$1,Table111[[#This Row],[Disposition]]=\"Lost\"),\"Find and Calibrate\",IF(Table111[[#This Row],[Disposition]]=\"Lost\",\"Find\",IF(OR(Table111[[#This Row],[Next Calibration]]<$E$1,Table111[[#This Row],[Next Calibration]]=\"NEVER CALIBRATED\"),\"Calibrate\",\"Nominal\"))))","v":""},{"$f":"IF(((Table111[[#This Row],[Next Calibration]]-TODAY())/30)>2,\"More Than 2\",IF(((Table111[[#This Row],[Next Calibration]]-TODAY())/30)>1,\"Between 2 and 1\",\"Less than 1\"))","v":{"$error":"#VALUE!"}},{"$f":"IF(Table111[[#This Row],[Issued]]=\"\",\"\",IF(Table111[[#This Row],[Lent]]=\"\",0,1))","v":""},{"$f":"IF(Table111[[#This Row],[Lent]]=\"\",\"\",IF(Table111[[#This Row],[Returned]]=\"\",0,1))","v":""}]
[{"$nulls":11},{"$f":"IF(IF(Table111[[#This Row],[Disposition]]=\"Retired\",\"N/A\",IF(Table111[[#This Row],[Disposition]]=0,\"\",K77+$F$2))=0+$F$2,\"NEVER CALIBRATED\",IF(Table111[[#This Row],[Disposition]]=\"Retired\",\"N/A\",IF(Table111[[#This Row],[Disposition]]=0,\"\",K77+$F$2)))","v":""},{"$f":"IF(Table111[[#This Row],[Disposition]]=\"\",\"\",IF(AND(Table111[[#This Row],[Next Calibration]]<$E$1,Table111[[#This Row],[Disposition]]=\"Lost\"),\"Find and Calibrate\",IF(Table111[[#This Row],[Disposition]]=\"Lost\",\"Find\",IF(OR(Table111[[#This Row],[Next Calibration]]<$E$1,Table111[[#This Row],[Next Calibration]]=\"NEVER CALIBRATED\"),\"Calibrate\",\"Nominal\"))))","v":""},{"$f":"IF(((Table111[[#This Row],[Next Calibration]]-TODAY())/30)>2,\"More Than 2\",IF(((Table111[[#This Row],[Next Calibration]]-TODAY())/30)>1,\"Between 2 and 1\",\"Less than 1\"))","v":{"$error":"#VALUE!"}},{"$f":"IF(Table111[[#This Row],[Issued]]=\"\",\"\",IF(Table111[[#This Row],[Lent]]=\"\",0,1))","v":""},{"$f":"IF(Table111[[#This Row],[Lent]]=\"\",\"\",IF(Table111[[#This Row],[Returned]]=\"\",0,1))","v":""}]
[{"$nulls":11},{"$f":"IF(IF(Table111[[#This Row],[Disposition]]=\"Retired\",\"N/A\",IF(Table111[[#This Row],[Disposition]]=0,\"\",K78+$F$2))=0+$F$2,\"NEVER CALIBRATED\",IF(Table111[[#This Row],[Disposition]]=\"Retired\",\"N/A\",IF(Table111[[#This Row],[Disposition]]=0,\"\",K78+$F$2)))","v":""},{"$f":"IF(Table111[[#This Row],[Disposition]]=\"\",\"\",IF(AND(Table111[[#This Row],[Next Calibration]]<$E$1,Table111[[#This Row],[Disposition]]=\"Lost\"),\"Find and Calibrate\",IF(Table111[[#This Row],[Disposition]]=\"Lost\",\"Find\",IF(OR(Table111[[#This Row],[Next Calibration]]<$E$1,Table111[[#This Row],[Next Calibration]]=\"NEVER CALIBRATED\"),\"Calibrate\",\"Nominal\"))))","v":""},{"$f":"IF(((Table111[[#This Row],[Next Calibration]]-TODAY())/30)>2,\"More Than 2\",IF(((Table111[[#This Row],[Next Calibration]]-TODAY())/30)>1,\"Between 2 and 1\",\"Less than 1\"))","v":{"$error":"#VALUE!"}},{"$f":"IF(Table111[[#This Row],[Issued]]=\"\",\"\",IF(Table111[[#This Row],[Lent]]=\"\",0,1))","v":""},{"$f":"IF(Table111[[#This Row],[Lent]]=\"\",\"\",IF(Table111[[#This Row],[Returned]]=\"\",0,1))","v":""}]
[{"$nulls":11},{"$f":"IF(IF(Table111[[#This Row],[Disposition]]=\"Retired\",\"N/A\",IF(Table111[[#This Row],[Disposition]]=0,\"\",K79+$F$2))=0+$F$2,\"NEVER CALIBRATED\",IF(Table111[[#This Row],[Disposition]]=\"Retired\",\"N/A\",IF(Table111[[#This Row],[Disposition]]=0,\"\",K79+$F$2)))","v":""},{"$f":"IF(Table111[[#This Row],[Disposition]]=\"\",\"\",IF(AND(Table111[[#This Row],[Next Calibration]]<$E$1,Table111[[#This Row],[Disposition]]=\"Lost\"),\"Find and Calibrate\",IF(Table111[[#This Row],[Disposition]]=\"Lost\",\"Find\",IF(OR(Table111[[#This Row],[Next Calibration]]<$E$1,Table111[[#This Row],[Next Calibration]]=\"NEVER CALIBRATED\"),\"Calibrate\",\"Nominal\"))))","v":""},{"$f":"IF(((Table111[[#This Row],[Next Calibration]]-TODAY())/30)>2,\"More Than 2\",IF(((Table111[[#This Row],[Next Calibration]]-TODAY())/30)>1,\"Between 2 and 1\",\"Less than 1\"))","v":{"$error":"#VALUE!"}},{"$f":"IF(Table111[[#This Row],[Issued]]=\"\",\"\",IF(Table111[[#This Row],[Lent]]=\"\",0,1))","v":""},{"$f":"IF(Table111[[#This Row],[Lent]]=\"\",\"\",IF(Table111[[#This Row],[Returned]]=\"\",0,1))","v":""}]
[{"$nulls":11},{"$f":"IF(IF(Table111[[#This Row],[Disposition]]=\"Retired\",\"N/A\",IF(Table111[[#This Row],[Disposition]]=0,\"\",K80+$F$2))=0+$F$2,\"NEVER CALIBRATED\",IF(Table111[[#This Row],[Disposition]]=\"Retired\",\"N/A\",IF(Table111[[#This Row],[Disposition]]=0,\"\",K80+$F$2)))","v":""},{"$f":"IF(Table111[[#This Row],[Disposition]]=\"\",\"\",IF(AND(Table111[[#This Row],[Next Calibration]]<$E$1,Table111[[#This Row],[Disposition]]=\"Lost\"),\"Find and Calibrate\",IF(Table111[[#This Row],[Disposition]]=\"Lost\",\"Find\",IF(OR(Table111[[#This Row],[Next Calibration]]<$E$1,Table111[[#This Row],[Next Calibration]]=\"NEVER CALIBRATED\"),\"Calibrate\",\"Nominal\"))))","v":""},{"$f":"IF(((Table111[[#This Row],[Next Calibration]]-TODAY())/30)>2,\"More Than 2\",IF(((Table111[[#This Row],[Next Calibration]]-TODAY())/30)>1,\"Between 2 and 1\",\"Less than 1\"))","v":{"$error":"#VALUE!"}},{"$f":"IF(Table111[[#This Row],[Issued]]=\"\",\"\",IF(Table111[[#This Row],[Lent]]=\"\",0,1))","v":""},{"$f":"IF(Table111[[#This Row],[Lent]]=\"\",\"\",IF(Table111[[#This Row],[Returned]]=\"\",0,1))","v":""}]
[{"$nulls":11},{"$f":"IF(IF(Table111[[#This Row],[Disposition]]=\"Retired\",\"N/A\",IF(Table111[[#This Row],[Disposition]]=0,\"\",K81+$F$2))=0+$F$2,\"NEVER CALIBRATED\",IF(Table111[[#This Row],[Disposition]]=\"Retired\",\"N/A\",IF(Table111[[#This Row],[Disposition]]=0,\"\",K81+$F$2)))","v":""},{"$f":"IF(Table111[[#This Row],[Disposition]]=\"\",\"\",IF(AND(Table111[[#This Row],[Next Calibration]]<$E$1,Table111[[#This Row],[Disposition]]=\"Lost\"),\"Find and Calibrate\",IF(Table111[[#This Row],[Disposition]]=\"Lost\",\"Find\",IF(OR(Table111[[#This Row],[Next Calibration]]<$E$1,Table111[[#This Row],[Next Calibration]]=\"NEVER CALIBRATED\"),\"Calibrate\",\"Nominal\"))))","v":""},{"$f":"IF(((Table111[[#This Row],[Next Calibration]]-TODAY())/30)>2,\"More Than 2\",IF(((Table111[[#This Row],[Next Calibration]]-TODAY())/30)>1,\"Between 2 and 1\",\"Less than 1\"))","v":{"$error":"#VALUE!"}},{"$f":"IF(Table111[[#This Row],[Issued]]=\"\",\"\",IF(Table111[[#This Row],[Lent]]=\"\",0,1))","v":""},{"$f":"IF(Table111[[#This Row],[Lent]]=\"\",\"\",IF(Table111[[#This Row],[Returned]]=\"\",0,1))","v":""}]
[{"$nulls":11},{"$f":"IF(IF(Table111[[#This Row],[Disposition]]=\"Retired\",\"N/A\",IF(Table111[[#This Row],[Disposition]]=0,\"\",K82+$F$2))=0+$F$2,\"NEVER CALIBRATED\",IF(Table111[[#This Row],[Disposition]]=\"Retired\",\"N/A\",IF(Table111[[#This Row],[Disposition]]=0,\"\",K82+$F$2)))","v":""},{"$f":"IF(Table111[[#This Row],[Disposition]]=\"\",\"\",IF(AND(Table111[[#This Row],[Next Calibration]]<$E$1,Table111[[#This Row],[Disposition]]=\"Lost\"),\"Find and Calibrate\",IF(Table111[[#This Row],[Disposition]]=\"Lost\",\"Find\",IF(OR(Table111[[#This Row],[Next Calibration]]<$E$1,Table111[[#This Row],[Next Calibration]]=\"NEVER CALIBRATED\"),\"Calibrate\",\"Nominal\"))))","v":""},{"$f":"IF(((Table111[[#This Row],[Next Calibration]]-TODAY())/30)>2,\"More Than 2\",IF(((Table111[[#This Row],[Next Calibration]]-TODAY())/30)>1,\"Between 2 and 1\",\"Less than 1\"))","v":{"$error":"#VALUE!"}},{"$f":"IF(Table111[[#This Row],[Issued]]=\"\",\"\",IF(Table111[[#This Row],[Lent]]=\"\",0,1))","v":""},{"$f":"IF(Table111[[#This Row],[Lent]]=\"\",\"\",IF(Table111[[#This Row],[Returned]]=\"\",0,1))","v":""}]
[{"$nulls":11},{"$f":"IF(IF(Table111[[#This Row],[Disposition]]=\"Retired\",\"N/A\",IF(Table111[[#This Row],[Disposition]]=0,\"\",K83+$F$2))=0+$F$2,\"NEVER CALIBRATED\",IF(Table111[[#This Row],[Disposition]]=\"Retired\",\"N/A\",IF(Table111[[#This Row],[Disposition]]=0,\"\",K83+$F$2)))","v":""},{"$f":"IF(Table111[[#This Row],[Disposition]]=\"\",\"\",IF(AND(Table111[[#This Row],[Next Calibration]]<$E$1,Table111[[#This Row],[Disposition]]=\"Lost\"),\"Find and Calibrate\",IF(Table111[[#This Row],[Disposition]]=\"Lost\",\"Find\",IF(OR(Table111[[#This Row],[Next Calibration]]<$E$1,Table111[[#This Row],[Next Calibration]]=\"NEVER CALIBRATED\"),\"Calibrate\",\"Nominal\"))))","v":""},{"$f":"IF(((Table111[[#This Row],[Next Calibration]]-TODAY())/30)>2,\"More Than 2\",IF(((Table111[[#This Row],[Next Calibration]]-TODAY())/30)>1,\"Between 2 and 1\",\"Less than 1\"))","v":{"$error":"#VALUE!"}},{"$f":"IF(Table111[[#This Row],[Issued]]=\"\",\"\",IF(Table111[[#This Row],[Lent]]=\"\",0,1))","v":""},{"$f":"IF(Table111[[#This Row],[Lent]]=\"\",\"\",IF(Table111[[#This Row],[Returned]]=\"\",0,1))","v":""}]
[{"$nulls":11},{"$f":"IF(IF(Table111[[#This Row],[Disposition]]=\"Retired\",\"N/A\",IF(Table111[[#This Row],[Disposition]]=0,\"\",K84+$F$2))=0+$F$2,\"NEVER CALIBRATED\",IF(Table111[[#This Row],[Disposition]]=\"Retired\",\"N/A\",IF(Table111[[#This Row],[Disposition]]=0,\"\",K84+$F$2)))","v":""},{"$f":"IF(Table111[[#This Row],[Disposition]]=\"\",\"\",IF(AND(Table111[[#This Row],[Next Calibration]]<$E$1,Table111[[#This Row],[Disposition]]=\"Lost\"),\"Find and Calibrate\",IF(Table111[[#This Row],[Disposition]]=\"Lost\",\"Find\",IF(OR(Table111[[#This Row],[Next Calibration]]<$E$1,Table111[[#This Row],[Next Calibration]]=\"NEVER CALIBRATED\"),\"Calibrate\",\"Nominal\"))))","v":""},{"$f":"IF(((Table111[[#This Row],[Next Calibration]]-TODAY())/30)>2,\"More Than 2\",IF(((Table111[[#This Row],[Next Calibration]]-TODAY())/30)>1,\"Between 2 and 1\",\"Less than 1\"))","v":{"$error":"#VALUE!"}},{"$f":"IF(Table111[[#This Row],[Issued]]=\"\",\"\",IF(Table111[[#This Row],[Lent]]=\"\",0,1))","v":""},{"$f":"IF(Table111[[#This Row],[Lent]]=\"\",\"\",IF(Table111[[#This Row],[Returned]]=\"\",0,1))","v":""}]
[{"$nulls":11},{"$f":"IF(IF(Table111[[#This Row],[Disposition]]=\"Retired\",\"N/A\",IF(Table111[[#This Row],[Disposition]]=0,\"\",K85+$F$2))=0+$F$2,\"NEVER CALIBRATED\",IF(Table111[[#This Row],[Disposition]]=\"Retired\",\"N/A\",IF(Table111[[#This Row],[Disposition]]=0,\"\",K85+$F$2)))","v":""},{"$f":"IF(Table111[[#This Row],[Disposition]]=\"\",\"\",IF(AND(Table111[[#This Row],[Next Calibration]]<$E$1,Table111[[#This Row],[Disposition]]=\"Lost\"),\"Find and Calibrate\",IF(Table111[[#This Row],[Disposition]]=\"Lost\",\"Find\",IF(OR(Table111[[#This Row],[Next Calibration]]<$E$1,Table111[[#This Row],[Next Calibration]]=\"NEVER CALIBRATED\"),\"Calibrate\",\"Nominal\"))))","v":""},{"$f":"IF(((Table111[[#This Row],[Next Calibration]]-TODAY())/30)>2,\"More Than 2\",IF(((Table111[[#This Row],[Next Calibration]]-TODAY())/30)>1,\"Between 2 and 1\",\"Less than 1\"))","v":{"$error":"#VALUE!"}},{"$f":"IF(Table111[[#This Row],[Issued]]=\"\",\"\",IF(Table111[[#This Row],[Lent]]=\"\",0,1))","v":""},{"$f":"IF(Table111[[#This Row],[Lent]]=\"\",\"\",IF(Table111[[#This Row],[Returned]]=\"\",0,1))","v":""}]
[{"$nulls":11},{"$f":"IF(IF(Table111[[#This Row],[Disposition]]=\"Retired\",\"N/A\",IF(Table111[[#This Row],[Disposition]]=0,\"\",K86+$F$2))=0+$F$2,\"NEVER CALIBRATED\",IF(Table111[[#This Row],[Disposition]]=\"Retired\",\"N/A\",IF(Table111[[#This Row],[Disposition]]=0,\"\",K86+$F$2)))","v":""},{"$f":"IF(Table111[[#This Row],[Disposition]]=\"\",\"\",IF(AND(Table111[[#This Row],[Next Calibration]]<$E$1,Table111[[#This Row],[Disposition]]=\"Lost\"),\"Find and Calibrate\",IF(Table111[[#This Row],[Disposition]]=\"Lost\",\"Find\",IF(OR(Table111[[#This Row],[Next Calibration]]<$E$1,Table111[[#This Row],[Next Calibration]]=\"NEVER CALIBRATED\"),\"Calibrate\",\"Nominal\"))))","v":""},{"$f":"IF(((Table111[[#This Row],[Next Calibration]]-TODAY())/30)>2,\"More Than 2\",IF(((Table111[[#This Row],[Next Calibration]]-TODAY())/30)>1,\"Between 2 and 1\",\"Less than 1\"))","v":{"$error":"#VALUE!"}},{"$f":"IF(Table111[[#This Row],[Issued]]=\"\",\"\",IF(Table111[[#This Row],[Lent]]=\"\",0,1))","v":""},{"$f":"IF(Table111[[#This Row],[Lent]]=\"\",\"\",IF(Table111[[#This Row],[Returned]]=\"\",0,1))","v":""}]
[{"$nulls":11},{"$f":"IF(IF(Table111[[#This Row],[Disposition]]=\"Retired\",\"N/A\",IF(Table111[[#This Row],[Disposition]]=0,\"\",K87+$F$2))=0+$F$2,\"NEVER CALIBRATED\",IF(Table111[[#This Row],[Disposition]]=\"Retired\",\"N/A\",IF(Table111[[#This Row],[Disposition]]=0,\"\",K87+$F$2)))","v":""},{"$f":"IF(Table111[[#This Row],[Disposition]]=\"\",\"\",IF(AND(Table111[[#This Row],[Next Calibration]]<$E$1,Table111[[#This Row],[Disposition]]=\"Lost\"),\"Find and Calibrate\",IF(Table111[[#This Row],[Disposition]]=\"Lost\",\"Find\",IF(OR(Table111[[#This Row],[Next Calibration]]<$E$1,Table111[[#This Row],[Next Calibration]]=\"NEVER CALIBRATED\"),\"Calibrate\",\"Nominal\"))))","v":""},{"$f":"IF(((Table111[[#This Row],[Next Calibration]]-TODAY())/30)>2,\"More Than 2\",IF(((Table111[[#This Row],[Next Calibration]]-TODAY())/30)>1,\"Between 2 and 1\",\"Less than 1\"))","v":{"$error":"#VALUE!"}},{"$f":"IF(Table111[[#This Row],[Issued]]=\"\",\"\",IF(Table111[[#This Row],[Lent]]=\"\",0,1))","v":""},{"$f":"IF(Table111[[#This Row],[Lent]]=\"\",\"\",IF(Table111[[#This Row],[Returned]]=\"\",0,1))","v":""}]
[{"$nulls":11},{"$f":"IF(IF(Table111[[#This Row],[Disposition]]=\"Retired\",\"N/A\",IF(Table111[[#This Row],[Disposition]]=0,\"\",K88+$F$2))=0+$F$2,\"NEVER CALIBRATED\",IF(Table111[[#This Row],[Disposition]]=\"Retired\",\"N/A\",IF(Table111[[#This Row],[Disposition]]=0,\"\",K88+$F$2)))","v":""},{"$f":"IF(Table111[[#This Row],[Disposition]]=\"\",\"\",IF(AND(Table111[[#This Row],[Next Calibration]]<$E$1,Table111[[#This Row],[Disposition]]=\"Lost\"),\"Find and Calibrate\",IF(Table111[[#This Row],[Disposition]]=\"Lost\",\"Find\",IF(OR(Table111[[#This Row],[Next Calibration]]<$E$1,Table111[[#This Row],[Next Calibration]]=\"NEVER CALIBRATED\"),\"Calibrate\",\"Nominal\"))))","v":""},{"$f":"IF(((Table111[[#This Row],[Next Calibration]]-TODAY())/30)>2,\"More Than 2\",IF(((Table111[[#This Row],[Next Calibration]]-TODAY())/30)>1,\"Between 2 and 1\",\"Less than 1\"))","v":{"$error":"#VALUE!"}},{"$f":"IF(Table111[[#This Row],[Issued]]=\"\",\"\",IF(Table111[[#This Row],[Lent]]=\"\",0,1))","v":""},{"$f":"IF(Table111[[#This Row],[Lent]]=\"\",\"\",IF(Table111[[#This Row],[Returned]]=\"\",0,1))","v":""}]
[{"$nulls":11},{"$f":"IF(IF(Table111[[#This Row],[Disposition]]=\"Retired\",\"N/A\",IF(Table111[[#This Row],[Disposition]]=0,\"\",K89+$F$2))=0+$F$2,\"NEVER CALIBRATED\",IF(Table111[[#This Row],[Disposition]]=\"Retired\",\"N/A\",IF(Table111[[#This Row],[Disposition]]=0,\"\",K89+$F$2)))","v":""},{"$f":"IF(Table111[[#This Row],[Disposition]]=\"\",\"\",IF(AND(Table111[[#This Row],[Next Calibration]]<$E$1,Table111[[#This Row],[Disposition]]=\"Lost\"),\"Find and Calibrate\",IF(Table111[[#This Row],[Disposition]]=\"Lost\",\"Find\",IF(OR(Table111[[#This Row],[Next Calibration]]<$E$1,Table111[[#This Row],[Next Calibration]]=\"NEVER CALIBRATED\"),\"Calibrate\",\"Nominal\"))))","v":""},{"$f":"IF(((Table111[[#This Row],[Next Calibration]]-TODAY())/30)>2,\"More Than 2\",IF(((Table111[[#This Row],[Next Calibration]]-TODAY())/30)>1,\"Between 2 and 1\",\"Less than 1\"))","v":{"$error":"#VALUE!"}},{"$f":"IF(Table111[[#This Row],[Issued]]=\"\",\"\",IF(Table111[[#This Row],[Lent]]=\"\",0,1))","v":""},{"$f":"IF(Table111[[#This Row],[Lent]]=\"\",\"\",IF(Table111[[#This Row],[Returned]]=\"\",0,1))","v":""}]
[{"$nulls":11},{"$f":"IF(IF(Table111[[#This Row],[Disposition]]=\"Retired\",\"N/A\",IF(Table111[[#This Row],[Disposition]]=0,\"\",K90+$F$2))=0+$F$2,\"NEVER CALIBRATED\",IF(Table111[[#This Row],[Disposition]]=\"Retired\",\"N/A\",IF(Table111[[#This Row],[Disposition]]=0,\"\",K90+$F$2)))","v":""},{"$f":"IF(Table111[[#This Row],[Disposition]]=\"\",\"\",IF(AND(Table111[[#This Row],[Next Calibration]]<$E$1,Table111[[#This Row],[Disposition]]=\"Lost\"),\"Find and Calibrate\",IF(Table111[[#This Row],[Disposition]]=\"Lost\",\"Find\",IF(OR(Table111[[#This Row],[Next Calibration]]<$E$1,Table111[[#This Row],[Next Calibration]]=\"NEVER CALIBRATED\"),\"Calibrate\",\"Nominal\"))))","v":""},{"$f":"IF(((Table111[[#This Row],[Next Calibration]]-TODAY())/30)>2,\"More Than 2\",IF(((Table111[[#This Row],[Next Calibration]]-TODAY())/30)>1,\"Between 2 and 1\",\"Less than 1\"))","v":{"$error":"#VALUE!"}},{"$f":"IF(Table111[[#This Row],[Issued]]=\"\",\"\",IF(Table111[[#This Row],[Lent]]=\"\",0,1))","v":""},{"$f":"IF(Table111[[#This Row],[Lent]]=\"\",\"\",IF(Table111[[#This Row],[Returned]]=\"\",0,1))","v":""}]
[{"$nulls":11},{"$f":"IF(IF(Table111[[#This Row],[Disposition]]=\"Retired\",\"N/A\",IF(Table111[[#This Row],[Disposition]]=0,\"\",K91+$F$2))=0+$F$2,\"NEVER CALIBRATED\",IF(Table111[[#This Row],[Disposition]]=\"Retired\",\"N/A\",IF(Table111[[#This Row],[Disposition]]=0,\"\",K91+$F$2)))","v":""},{"$f":"IF(Table111[[#This Row],[Disposition]]=\"\",\"\",IF(AND(Table111[[#This Row],[Next Calibration]]<$E$1,Table111[[#This Row],[Disposition]]=\"Lost\"),\"Find and Calibrate\",IF(Table111[[#This Row],[Disposition]]=\"Lost\",\"Find\",IF(OR(Table111[[#This Row],[Next Calibration]]<$E$1,Table111[[#This Row],[Next Calibration]]=\"NEVER CALIBRATED\"),\"Calibrate\",\"Nominal\"))))","v":""},{"$f":"IF(((Table111[[#This Row],[Next Calibration]]-TODAY())/30)>2,\"More Than 2\",IF(((Table111[[#This Row],[Next Calibration]]-TODAY())/30)>1,\"Between 2 and 1\",\"Less than 1\"))","v":{"$error":"#VALUE!"}},{"$f":"IF(Table111[[#This Row],[Issued]]=\"\",\"\",IF(Table111[[#This Row],[Lent]]=\"\",0,1))","v":""},{"$f":"IF(Table111[[#This Row],[Lent]]=\"\",\"\",IF(Table111[[#This Row],[Returned]]=\"\",0,1))","v":""}]
[{"$nulls":11},{"$f":"IF(IF(Table111[[#This Row],[Disposition]]=\"Retired\",\"N/A\",IF(Table111[[#This Row],[Disposition]]=0,\"\",K92+$F$2))=0+$F$2,\"NEVER CALIBRATED\",IF(Table111[[#This Row],[Disposition]]=\"Retired\",\"N/A\",IF(Table111[[#This Row],[Disposition]]=0,\"\",K92+$F$2)))","v":""},{"$f":"IF(Table111[[#This Row],[Disposition]]=\"\",\"\",IF(AND(Table111[[#This Row],[Next Calibration]]<$E$1,Table111[[#This Row],[Disposition]]=\"Lost\"),\"Find and Calibrate\",IF(Table111[[#This Row],[Disposition]]=\"Lost\",\"Find\",IF(OR(Table111[[#This Row],[Next Calibration]]<$E$1,Table111[[#This Row],[Next Calibration]]=\"NEVER CALIBRATED\"),\"Calibrate\",\"Nominal\"))))","v":""},{"$f":"IF(((Table111[[#This Row],[Next Calibration]]-TODAY())/30)>2,\"More Than 2\",IF(((Table111[[#This Row],[Next Calibration]]-TODAY())/30)>1,\"Between 2 and 1\",\"Less than 1\"))","v":{"$error":"#VALUE!"}},{"$f":"IF(Table111[[#This Row],[Issued]]=\"\",\"\",IF(Table111[[#This Row],[Lent]]=\"\",0,1))","v":""},{"$f":"IF(Table111[[#This Row],[Lent]]=\"\",\"\",IF(Table111[[#This Row],[Returned]]=\"\",0,1))","v":""}]
[{"$nulls":11},{"$f":"IF(IF(Table111[[#This Row],[Disposition]]=\"Retired\",\"N/A\",IF(Table111[[#This Row],[Disposition]]=0,\"\",K93+$F$2))=0+$F$2,\"NEVER CALIBRATED\",IF(Table111[[#This Row],[Disposition]]=\"Retired\",\"N/A\",IF(Table111[[#This Row],[Disposition]]=0,\"\",K93+$F$2)))","v":""},{"$f":"IF(Table111[[#This Row],[Disposition]]=\"\",\"\",IF(AND(Table111[[#This Row],[Next Calibration]]<$E$1,Table111[[#This Row],[Disposition]]=\"Lost\"),\"Find and Calibrate\",IF(Table111[[#This Row],[Disposition]]=\"Lost\",\"Find\",IF(OR(Table111[[#This Row],[Next Calibration]]<$E$1,Table111[[#This Row],[Next Calibration]]=\"NEVER CALIBRATED\"),\"Calibrate\",\"Nominal\"))))","v":""},{"$f":"IF(((Table111[[#This Row],[Next Calibration]]-TODAY())/30)>2,\"More Than 2\",IF(((Table111[[#This Row],[Next Calibration]]-TODAY())/30)>1,\"Between 2 and 1\",\"Less than 1\"))","v":{"$error":"#VALUE!"}},{"$f":"IF(Table111[[#This Row],[Issued]]=\"\",\"\",IF(Table111[[#This Row],[Lent]]=\"\",0,1))","v":""},{"$f":"IF(Table111[[#This Row],[Lent]]=\"\",\"\",IF(Table111[[#This Row],[Returned]]=\"\",0,1))","v":""}]
[{"$nulls":11},{"$f":"IF(IF(Table111[[#This Row],[Disposition]]=\"Retired\",\"N/A\",IF(Table111[[#This Row],[Disposition]]=0,\"\",K94+$F$2))=0+$F$2,\"NEVER CALIBRATED\",IF(Table111[[#This Row],[Disposition]]=\"Retired\",\"N/A\",IF(Table111[[#This Row],[Disposition]]=0,\"\",K94+$F$2)))","v":""},{"$f":"IF(Table111[[#This Row],[Disposition]]=\"\",\"\",IF(AND(Table111[[#This Row],[Next Calibration]]<$E$1,Table111[[#This Row],[Disposition]]=\"Lost\"),\"Find and Calibrate\",IF(Table111[[#This Row],[Disposition]]=\"Lost\",\"Find\",IF(OR(Table111[[#This Row],[Next Calibration]]<$E$1,Table111[[#This Row],[Next Calibration]]=\"NEVER CALIBRATED\"),\"Calibrate\",\"Nominal\"))))","v":""},{"$f":"IF(((Table111[[#This Row],[Next Calibration]]-TODAY())/30)>2,\"More Than 2\",IF(((Table111[[#This Row],[Next Calibration]]-TODAY())/30)>1,\"Between 2 and 1\",\"Less than 1\"))","v":{"$error":"#VALUE!"}},{"$f":"IF(Table111[[#This Row],[Issued]]=\"\",\"\",IF(Table111[[#This Row],[Lent]]=\"\",0,1))","v":""},{"$f":"IF(Table111[[#This Row],[Lent]]=\"\",\"\",IF(Table111[[#This Row],[Returned]]=\"\",0,1))","v":""}]
[{"$nulls":11},{"$f":"IF(IF(Table111[[#This Row],[Disposition]]=\"Retired\",\"N/A\",IF(Table111[[#This Row],[Disposition]]=0,\"\",K95+$F$2))=0+$F$2,\"NEVER CALIBRATED\",IF(Table111[[#This Row],[Disposition]]=\"Retired\",\"N/A\",IF(Table111[[#This Row],[Disposition]]=0,\"\",K95+$F$2)))","v":""},{"$f":"IF(Table111[[#This Row],[Disposition]]=\"\",\"\",IF(AND(Table111[[#This Row],[Next Calibration]]<$E$1,Table111[[#This Row],[Disposition]]=\"Lost\"),\"Find and Calibrate\",IF(Table111[[#This Row],[Disposition]]=\"Lost\",\"Find\",IF(OR(Table111[[#This Row],[Next Calibration]]<$E$1,Table111[[#This Row],[Next Calibration]]=\"NEVER CALIBRATED\"),\"Calibrate\",\"Nominal\"))))","v":""},{"$f":"IF(((Table111[[#This Row],[Next Calibration]]-TODAY())/30)>2,\"More Than 2\",IF(((Table111[[#This Row],[Next Calibration]]-TODAY())/30)>1,\"Between 2 and 1\",\"Less than 1\"))","v":{"$error":"#VALUE!"}},{"$f":"IF(Table111[[#This Row],[Issued]]=\"\",\"\",IF(Table111[[#This Row],[Lent]]=\"\",0,1))","v":""},{"$f":"IF(Table111[[#This Row],[Lent]]=\"\",\"\",IF(Table111[[#This Row],[Returned]]=\"\",0,1))","v":""}]
[{"$nulls":11},{"$f":"IF(IF(Table111[[#This Row],[Disposition]]=\"Retired\",\"N/A\",IF(Table111[[#This Row],[Disposition]]=0,\"\",K96+$F$2))=0+$F$2,\"NEVER CALIBRATED\",IF(Table111[[#This Row],[Disposition]]=\"Retired\",\"N/A\",IF(Table111[[#This Row],[Disposition]]=0,\"\",K96+$F$2)))","v":""},{"$f":"IF(Table111[[#This Row],[Disposition]]=\"\",\"\",IF(AND(Table111[[#This Row],[Next Calibration]]<$E$1,Table111[[#This Row],[Disposition]]=\"Lost\"),\"Find and Calibrate\",IF(Table111[[#This Row],[Disposition]]=\"Lost\",\"Find\",IF(OR(Table111[[#This Row],[Next Calibration]]<$E$1,Table111[[#This Row],[Next Calibration]]=\"NEVER CALIBRATED\"),\"Calibrate\",\"Nominal\"))))","v":""},{"$f":"IF(((Table111[[#This Row],[Next Calibration]]-TODAY())/30)>2,\"More Than 2\",IF(((Table111[[#This Row],[Next Calibration]]-TODAY())/30)>1,\"Between 2 and 1\",\"Less than 1\"))","v":{"$error":"#VALUE!"}},{"$f":"IF(Table111[[#This Row],[Issued]]=\"\",\"\",IF(Table111[[#This Row],[Lent]]=\"\",0,1))","v":""},{"$f":"IF(Table111[[#This Row],[Lent]]=\"\",\"\",IF(Table111[[#This Row],[Returned]]=\"\",0,1))","v":""}]
[{"$nulls":11},{"$f":"IF(IF(Table111[[#This Row],[Disposition]]=\"Retired\",\"N/A\",IF(Table111[[#This Row],[Disposition]]=0,\"\",K97+$F$2))=0+$F$2,\"NEVER CALIBRATED\",IF(Table111[[#This Row],[Disposition]]=\"Retired\",\"N/A\",IF(Table111[[#This Row],[Disposition]]=0,\"\",K97+$F$2)))","v":""},{"$f":"IF(Table111[[#This Row],[Disposition]]=\"\",\"\",IF(AND(Table111[[#This Row],[Next Calibration]]<$E$1,Table111[[#This Row],[Disposition]]=\"Lost\"),\"Find and Calibrate\",IF(Table111[[#This Row],[Disposition]]=\"Lost\",\"Find\",IF(OR(Table111[[#This Row],[Next Calibration]]<$E$1,Table111[[#This Row],[Next Calibration]]=\"NEVER CALIBRATED\"),\"Calibrate\",\"Nominal\"))))","v":""},{"$f":"IF(((Table111[[#This Row],[Next Calibration]]-TODAY())/30)>2,\"More Than 2\",IF(((Table111[[#This Row],[Next Calibration]]-TODAY())/30)>1,\"Between 2 and 1\",\"Less than 1\"))","v":{"$error":"#VALUE!"}},{"$f":"IF(Table111[[#This Row],[Issued]]=\"\",\"\",IF(Table111[[#This Row],[Lent]]=\"\",0,1))","v":""},{"$f":"IF(Table111[[#This Row],[Lent]]=\"\",\"\",IF(Table111[[#This Row],[Returned]]=\"\",0,1))","v":""}]
[{"$nulls":11},{"$f":"IF(IF(Table111[[#This Row],[Disposition]]=\"Retired\",\"N/A\",IF(Table111[[#This Row],[Disposition]]=0,\"\",K98+$F$2))=0+$F$2,\"NEVER CALIBRATED\",IF(Table111[[#This Row],[Disposition]]=\"Retired\",\"N/A\",IF(Table111[[#This Row],[Disposition]]=0,\"\",K98+$F$2)))","v":""},{"$f":"IF(Table111[[#This Row],[Disposition]]=\"\",\"\",IF(AND(Table111[[#This Row],[Next Calibration]]<$E$1,Table111[[#This Row],[Disposition]]=\"Lost\"),\"Find and Calibrate\",IF(Table111[[#This Row],[Disposition]]=\"Lost\",\"Find\",IF(OR(Table111[[#This Row],[Next Calibration]]<$E$1,Table111[[#This Row],[Next Calibration]]=\"NEVER CALIBRATED\"),\"Calibrate\",\"Nominal\"))))","v":""},{"$f":"IF(((Table111[[#This Row],[Next Calibration]]-TODAY())/30)>2,\"More Than 2\",IF(((Table111[[#This Row],[Next Calibration]]-TODAY())/30)>1,\"Between 2 and 1\",\"Less than 1\"))","v":{"$error":"#VALUE!"}},{"$f":"IF(Table111[[#This Row],[Issued]]=\"\",\"\",IF(Table111[[#This Row],[Lent]]=\"\",0,1))","v":""},{"$f":"IF(Table111[[#This Row],[Lent]]=\"\",\"\",IF(Table111[[#This Row],[Returned]]=\"\",0,1))","v":""}]
[{"$nulls":11},{"$f":"IF(IF(Table111[[#This Row],[Disposition]]=\"Retired\",\"N/A\",IF(Table111[[#This Row],[Disposition]]=0,\"\",K99+$F$2))=0+$F$2,\"NEVER CALIBRATED\",IF(Table111[[#This Row],[Disposition]]=\"Retired\",\"N/A\",IF(Table111[[#This Row],[Disposition]]=0,\"\",K99+$F$2)))","v":""},{"$f":"IF(Table111[[#This Row],[Disposition]]=\"\",\"\",IF(AND(Table111[[#This Row],[Next Calibration]]<$E$1,Table111[[#This Row],[Disposition]]=\"Lost\"),\"Find and Calibrate\",IF(Table111[[#This Row],[Disposition]]=\"Lost\",\"Find\",IF(OR(Table111[[#This Row],[Next Calibration]]<$E$1,Table111[[#This Row],[Next Calibration]]=\"NEVER CALIBRATED\"),\"Calibrate\",\"Nominal\"))))","v":""},{"$f":"IF(((Table111[[#This Row],[Next Calibration]]-TODAY())/30)>2,\"More Than 2\",IF(((Table111[[#This Row],[Next Calibration]]-TODAY())/30)>1,\"Between 2 and 1\",\"Less than 1\"))","v":{"$error":"#VALUE!"}},{"$f":"IF(Table111[[#This Row],[Issued]]=\"\",\"\",IF(Table111[[#This Row],[Lent]]=\"\",0,1))","v":""},{"$f":"IF(Table111[[#This Row],[Lent]]=\"\",\"\",IF(Table111[[#This Row],[Returned]]=\"\",0,1))","v":""}]
[{"$nulls":11},{"$f":"IF(IF(Table111[[#This Row],[Disposition]]=\"Retired\",\"N/A\",IF(Table111[[#This Row],[Disposition]]=0,\"\",K100+$F$2))=0+$F$2,\"NEVER CALIBRATED\",IF(Table111[[#This Row],[Disposition]]=\"Retired\",\"N/A\",IF(Table111[[#This Row],[Disposition]]=0,\"\",K100+$F$2)))","v":""},{"$f":"IF(Table111[[#This Row],[Disposition]]=\"\",\"\",IF(AND(Table111[[#This Row],[Next Calibration]]<$E$1,Table111[[#This Row],[Disposition]]=\"Lost\"),\"Find and Calibrate\",IF(Table111[[#This Row],[Disposition]]=\"Lost\",\"Find\",IF(OR(Table111[[#This Row],[Next Calibration]]<$E$1,Table111[[#This Row],[Next Calibration]]=\"NEVER CALIBRATED\"),\"Calibrate\",\"Nominal\"))))","v":""},{"$f":"IF(((Table111[[#This Row],[Next Calibration]]-TODAY())/30)>2,\"More Than 2\",IF(((Table111[[#This Row],[Next Calibration]]-TODAY())/30)>1,\"Between 2 and 1\",\"Less than 1\"))","v":{"$error":"#VALUE!"}},{"$f":"IF(Table111[[#This Row],[Issued]]=\"\",\"\",IF(Table111[[#This Row],[Lent]]=\"\",0,1))","v":""},{"$f":"IF(Table111[[#This Row],[Lent]]=\"\",\"\",IF(Table111[[#This Row],[Returned]]=\"\",0,1))","v":""}]
[{"$nulls":11},{"$f":"IF(IF(Table111[[#This Row],[Disposition]]=\"Retired\",\"N/A\",IF(Table111[[#This Row],[Disposition]]=0,\"\",K101+$F$2))=0+$F$2,\"NEVER CALIBRATED\",IF(Table111[[#This Row],[Disposition]]=\"Retired\",\"N/A\",IF(Table111[[#This Row],[Disposition]]=0,\"\",K101+$F$2)))","v":""},{"$f":"IF(Table111[[#This Row],[Disposition]]=\"\",\"\",IF(AND(Table111[[#This Row],[Next Calibration]]<$E$1,Table111[[#This Row],[Disposition]]=\"Lost\"),\"Find and Calibrate\",IF(Table111[[#This Row],[Disposition]]=\"Lost\",\"Find\",IF(OR(Table111[[#This Row],[Next Calibration]]<$E$1,Table111[[#This Row],[Next Calibration]]=\"NEVER CALIBRATED\"),\"Calibrate\",\"Nominal\"))))","v":""},{"$f":"IF(((Table111[[#This Row],[Next Calibration]]-TODAY())/30)>2,\"More Than 2\",IF(((Table111[[#This Row],[Next Calibration]]-TODAY())/30)>1,\"Between 2 and 1\",\"Less than 1\"))","v":{"$error":"#VALUE!"}},{"$f":"IF(Table111[[#This Row],[Issued]]=\"\",\"\",IF(Table111[[#This Row],[Lent]]=\"\",0,1))","v":""},{"$f":"IF(Table111[[#This Row],[Lent]]=\"\",\"\",IF(Table111[[#This Row],[Returned]]=\"\",0,1))","v":""}]
[{"$nulls":11},{"$f":"IF(IF(Table111[[#This Row],[Disposition]]=\"Retired\",\"N/A\",IF(Table111[[#This Row],[Disposition]]=0,\"\",K102+$F$2))=0+$F$2,\"NEVER CALIBRATED\",IF(Table111[[#This Row],[Disposition]]=\"Retired\",\"N/A\",IF(Table111[[#This Row],[Disposition]]=0,\"\",K102+$F$2)))","v":""},{"$f":"IF(Table111[[#This Row],[Disposition]]=\"\",\"\",IF(AND(Table111[[#This Row],[Next Calibration]]<$E$1,Table111[[#This Row],[Disposition]]=\"Lost\"),\"Find and Calibrate\",IF(Table111[[#This Row],[Disposition]]=\"Lost\",\"Find\",IF(OR(Table111[[#This Row],[Next Calibration]]<$E$1,Table111[[#This Row],[Next Calibration]]=\"NEVER CALIBRATED\"),\"Calibrate\",\"Nominal\"))))","v":""},{"$f":"IF(((Table111[[#This Row],[Next Calibration]]-TODAY())/30)>2,\"More Than 2\",IF(((Table111[[#This Row],[Next Calibration]]-TODAY())/30)>1,\"Between 2 and 1\",\"Less than 1\"))","v":{"$error":"#VALUE!"}},{"$f":"IF(Table111[[#This Row],[Issued]]=\"\",\"\",IF(Table111[[#This Row],[Lent]]=\"\",0,1))","v":""},{"$f":"IF(Table111[[#This Row],[Lent]]=\"\",\"\",IF(Table111[[#This Row],[Returned]]=\"\",0,1))","v":""}]
[{"$nulls":11},{"$f":"IF(IF(Table111[[#This Row],[Disposition]]=\"Retired\",\"N/A\",IF(Table111[[#This Row],[Disposition]]=0,\"\",K103+$F$2))=0+$F$2,\"NEVER CALIBRATED\",IF(Table111[[#This Row],[Disposition]]=\"Retired\",\"N/A\",IF(Table111[[#This Row],[Disposition]]=0,\"\",K103+$F$2)))","v":""},{"$f":"IF(Table111[[#This Row],[Disposition]]=\"\",\"\",IF(AND(Table111[[#This Row],[Next Calibration]]<$E$1,Table111[[#This Row],[Disposition]]=\"Lost\"),\"Find and Calibrate\",IF(Table111[[#This Row],[Disposition]]=\"Lost\",\"Find\",IF(OR(Table111[[#This Row],[Next Calibration]]<$E$1,Table111[[#This Row],[Next Calibration]]=\"NEVER CALIBRATED\"),\"Calibrate\",\"Nominal\"))))","v":""},{"$f":"IF(((Table111[[#This Row],[Next Calibration]]-TODAY())/30)>2,\"More Than 2\",IF(((Table111[[#This Row],[Next Calibration]]-TODAY())/30)>1,\"Between 2 and 1\",\"Less than 1\"))","v":{"$error":"#VALUE!"}},{"$f":"IF(Table111[[#This Row],[Issued]]=\"\",\"\",IF(Table111[[#This Row],[Lent]]=\"\",0,1))","v":""},{"$f":"IF(Table111[[#This Row],[Lent]]=\"\",\"\",IF(Table111[[#This Row],[Returned]]=\"\",0,1))","v":""}]
[{"$nulls":11},{"$f":"IF(IF(Table111[[#This Row],[Disposition]]=\"Retired\",\"N/A\",IF(Table111[[#This Row],[Disposition]]=0,\"\",K104+$F$2))=0+$F$2,\"NEVER CALIBRATED\",IF(Table111[[#This Row],[Disposition]]=\"Retired\",\"N/A\",IF(Table111[[#This Row],[Disposition]]=0,\"\",K104+$F$2)))","v":""},{"$f":"IF(Table111[[#This Row],[Disposition]]=\"\",\"\",IF(AND(Table111[[#This Row],[Next Calibration]]<$E$1,Table111[[#This Row],[Disposition]]=\"Lost\"),\"Find and Calibrate\",IF(Table111[[#This Row],[Disposition]]=\"Lost\",\"Find\",IF(OR(Table111[[#This Row],[Next Calibration]]<$E$1,Table111[[#This Row],[Next Calibration]]=\"NEVER CALIBRATED\"),\"Calibrate\",\"Nominal\"))))","v":""},{"$f":"IF(((Table111[[#This Row],[Next Calibration]]-TODAY())/30)>2,\"More Than 2\",IF(((Table111[[#This Row],[Next Calibration]]-TODAY())/30)>1,\"Between 2 and 1\",\"Less than 1\"))","v":{"$error":"#VALUE!"}},{"$f":"IF(Table111[[#This Row],[Issued]]=\"\",\"\",IF(Table111[[#This Row],[Lent]]=\"\",0,1))","v":""},{"$f":"IF(Table111[[#This Row],[Lent]]=\"\",\"\",IF(Table111[[#This Row],[Returned]]=\"\",0,1))","v":""}]
[{"$nulls":11},{"$f":"IF(IF(Table111[[#This Row],[Disposition]]=\"Retired\",\"N/A\",IF(Table111[[#This Row],[Disposition]]=0,\"\",K105+$F$2))=0+$F$2,\"NEVER CALIBRATED\",IF(Table111[[#This Row],[Disposition]]=\"Retired\",\"N/A\",IF(Table111[[#This Row],[Disposition]]=0,\"\",K105+$F$2)))","v":""},{"$f":"IF(Table111[[#This Row],[Disposition]]=\"\",\"\",IF(AND(Table111[[#This Row],[Next Calibration]]<$E$1,Table111[[#This Row],[Disposition]]=\"Lost\"),\"Find and Calibrate\",IF(Table111[[#This Row],[Disposition]]=\"Lost\",\"Find\",IF(OR(Table111[[#This Row],[Next Calibration]]<$E$1,Table111[[#This Row],[Next Calibration]]=\"NEVER CALIBRATED\"),\"Calibrate\",\"Nominal\"))))","v":""},{"$f":"IF(((Table111[[#This Row],[Next Calibration]]-TODAY())/30)>2,\"More Than 2\",IF(((Table111[[#This Row],[Next Calibration]]-TODAY())/30)>1,\"Between 2 and 1\",\"Less than 1\"))","v":{"$error":"#VALUE!"}},{"$f":"IF(Table111[[#This Row],[Issued]]=\"\",\"\",IF(Table111[[#This Row],[Lent]]=\"\",0,1))","v":""},{"$f":"IF(Table111[[#This Row],[Lent]]=\"\",\"\",IF(Table111[[#This Row],[Returned]]=\"\",0,1))","v":""}]
[{"$nulls":11},{"$f":"IF(IF(Table111[[#This Row],[Disposition]]=\"Retired\",\"N/A\",IF(Table111[[#This Row],[Disposition]]=0,\"\",K106+$F$2))=0+$F$2,\"NEVER CALIBRATED\",IF(Table111[[#This Row],[Disposition]]=\"Retired\",\"N/A\",IF(Table111[[#This Row],[Disposition]]=0,\"\",K106+$F$2)))","v":""},{"$f":"IF(Table111[[#This Row],[Disposition]]=\"\",\"\",IF(AND(Table111[[#This Row],[Next Calibration]]<$E$1,Table111[[#This Row],[Disposition]]=\"Lost\"),\"Find and Calibrate\",IF(Table111[[#This Row],[Disposition]]=\"Lost\",\"Find\",IF(OR(Table111[[#This Row],[Next Calibration]]<$E$1,Table111[[#This Row],[Next Calibration]]=\"NEVER CALIBRATED\"),\"Calibrate\",\"Nominal\"))))","v":""},{"$f":"IF(((Table111[[#This Row],[Next Calibration]]-TODAY())/30)>2,\"More Than 2\",IF(((Table111[[#This Row],[Next Calibration]]-TODAY())/30)>1,\"Between 2 and 1\",\"Less than 1\"))","v":{"$error":"#VALUE!"}},{"$f":"IF(Table111[[#This Row],[Issued]]=\"\",\"\",IF(Table111[[#This Row],[Lent]]=\"\",0,1))","v":""},{"$f":"IF(Table111[[#This Row],[Lent]]=\"\",\"\",IF(Table111[[#This Row],[Returned]]=\"\",0,1))","v":""}]
[{"$nulls":11},{"$f":"IF(IF(Table111[[#This Row],[Disposition]]=\"Retired\",\"N/A\",IF(Table111[[#This Row],[Disposition]]=0,\"\",K107+$F$2))=0+$F$2,\"NEVER CALIBRATED\",IF(Table111[[#This Row],[Disposition]]=\"Retired\",\"N/A\",IF(Table111[[#This Row],[Disposition]]=0,\"\",K107+$F$2)))","v":""},{"$f":"IF(Table111[[#This Row],[Disposition]]=\"\",\"\",IF(AND(Table111[[#This Row],[Next Calibration]]<$E$1,Table111[[#This Row],[Disposition]]=\"Lost\"),\"Find and Calibrate\",IF(Table111[[#This Row],[Disposition]]=\"Lost\",\"Find\",IF(OR(Table111[[#This Row],[Next Calibration]]<$E$1,Table111[[#This Row],[Next Calibration]]=\"NEVER CALIBRATED\"),\"Calibrate\",\"Nominal\"))))","v":""},{"$f":"IF(((Table111[[#This Row],[Next Calibration]]-TODAY())/30)>2,\"More Than 2\",IF(((Table111[[#This Row],[Next Calibration]]-TODAY())/30)>1,\"Between 2 and 1\",\"Less than 1\"))","v":{"$error":"#VALUE!"}},{"$f":"IF(Table111[[#This Row],[Issued]]=\"\",\"\",IF(Table111[[#This Row],[Lent]]=\"\",0,1))","v":""},{"$f":"IF(Table111[[#This Row],[Lent]]=\"\",\"\",IF(Table111[[#This Row],[Returned]]=\"\",0,1))","v":""}]
[{"$nulls":11},{"$f":"IF(IF(Table111[[#This Row],[Disposition]]=\"Retired\",\"N/A\",IF(Table111[[#This Row],[Disposition]]=0,\"\",K108+$F$2))=0+$F$2,\"NEVER CALIBRATED\",IF(Table111[[#This Row],[Disposition]]=\"Retired\",\"N/A\",IF(Table111[[#This Row],[Disposition]]=0,\"\",K108+$F$2)))","v":""},{"$f":"IF(Table111[[#This Row],[Disposition]]=\"\",\"\",IF(AND(Table111[[#This Row],[Next Calibration]]<$E$1,Table111[[#This Row],[Disposition]]=\"Lost\"),\"Find and Calibrate\",IF(Table111[[#This Row],[Disposition]]=\"Lost\",\"Find\",IF(OR(Table111[[#This Row],[Next Calibration]]<$E$1,Table111[[#This Row],[Next Calibration]]=\"NEVER CALIBRATED\"),\"Calibrate\",\"Nominal\"))))","v":""},{"$f":"IF(((Table111[[#This Row],[Next Calibration]]-TODAY())/30)>2,\"More Than 2\",IF(((Table111[[#This Row],[Next Calibration]]-TODAY())/30)>1,\"Between 2 and 1\",\"Less than 1\"))","v":{"$error":"#VALUE!"}},{"$f":"IF(Table111[[#This Row],[Issued]]=\"\",\"\",IF(Table111[[#This Row],[Lent]]=\"\",0,1))","v":""},{"$f":"IF(Table111[[#This Row],[Lent]]=\"\",\"\",IF(Table111[[#This Row],[Returned]]=\"\",0,1))","v":""}]
[{"$nulls":11},{"$f":"IF(IF(Table111[[#This Row],[Disposition]]=\"Retired\",\"N/A\",IF(Table111[[#This Row],[Disposition]]=0,\"\",K109+$F$2))=0+$F$2,\"NEVER CALIBRATED\",IF(Table111[[#This Row],[Disposition]]=\"Retired\",\"N/A\",IF(Table111[[#This Row],[Disposition]]=0,\"\",K109+$F$2)))","v":""},{"$f":"IF(Table111[[#This Row],[Disposition]]=\"\",\"\",IF(AND(Table111[[#This Row],[Next Calibration]]<$E$1,Table111[[#This Row],[Disposition]]=\"Lost\"),\"Find and Calibrate\",IF(Table111[[#This Row],[Disposition]]=\"Lost\",\"Find\",IF(OR(Table111[[#This Row],[Next Calibration]]<$E$1,Table111[[#This Row],[Next Calibration]]=\"NEVER CALIBRATED\"),\"Calibrate\",\"Nominal\"))))","v":""},{"$f":"IF(((Table111[[#This Row],[Next Calibration]]-TODAY())/30)>2,\"More Than 2\",IF(((Table111[[#This Row],[Next Calibration]]-TODAY())/30)>1,\"Between 2 and 1\",\"Less than 1\"))","v":{"$error":"#VALUE!"}},{"$f":"IF(Table111[[#This Row],[Issued]]=\"\",\"\",IF(Table111[[#This Row],[Lent]]=\"\",0,1))","v":""},{"$f":"IF(Table111[[#This Row],[Lent]]=\"\",\"\",IF(Table111[[#This Row],[Returned]]=\"\",0,1))","v":""}]
[{"$nulls":11},{"$f":"IF(IF(Table111[[#This Row],[Disposition]]=\"Retired\",\"N/A\",IF(Table111[[#This Row],[Disposition]]=0,\"\",K110+$F$2))=0+$F$2,\"NEVER CALIBRATED\",IF(Table111[[#This Row],[Disposition]]=\"Retired\",\"N/A\",IF(Table111[[#This Row],[Disposition]]=0,\"\",K110+$F$2)))","v":""},{"$f":"IF(Table111[[#This Row],[Disposition]]=\"\",\"\",IF(AND(Table111[[#This Row],[Next Calibration]]<$E$1,Table111[[#This Row],[Disposition]]=\"Lost\"),\"Find and Calibrate\",IF(Table111[[#This Row],[Disposition]]=\"Lost\",\"Find\",IF(OR(Table111[[#This Row],[Next Calibration]]<$E$1,Table111[[#This Row],[Next Calibration]]=\"NEVER CALIBRATED\"),\"Calibrate\",\"Nominal\"))))","v":""},{"$f":"IF(((Table111[[#This Row],[Next Calibration]]-TODAY())/30)>2,\"More Than 2\",IF(((Table111[[#This Row],[Next Calibration]]-TODAY())/30)>1,\"Between 2 and 1\",\"Less than 1\"))","v":{"$error":"#VALUE!"}},{"$f":"IF(Table111[[#This Row],[Issued]]=\"\",\"\",IF(Table111[[#This Row],[Lent]]=\"\",0,1))","v":""},{"$f":"IF(Table111[[#This Row],[Lent]]=\"\",\"\",IF(Table111[[#This Row],[Returned]]=\"\",0,1))","v":""}]
[{"$nulls":11},{"$f":"IF(IF(Table111[[#This Row],[Disposition]]=\"Retired\",\"N/A\",IF(Table111[[#This Row],[Disposition]]=0,\"\",K111+$F$2))=0+$F$2,\"NEVER CALIBRATED\",IF(Table111[[#This Row],[Disposition]]=\"Retired\",\"N/A\",IF(Table111[[#This Row],[Disposition]]=0,\"\",K111+$F$2)))","v":""},{"$f":"IF(Table111[[#This Row],[Disposition]]=\"\",\"\",IF(AND(Table111[[#This Row],[Next Calibration]]<$E$1,Table111[[#This Row],[Disposition]]=\"Lost\"),\"Find and Calibrate\",IF(Table111[[#This Row],[Disposition]]=\"Lost\",\"Find\",IF(OR(Table111[[#This Row],[Next Calibration]]<$E$1,Table111[[#This Row],[Next Calibration]]=\"NEVER CALIBRATED\"),\"Calibrate\",\"Nominal\"))))","v":""},{"$f":"IF(((Table111[[#This Row],[Next Calibration]]-TODAY())/30)>2,\"More Than 2\",IF(((Table111[[#This Row],[Next Calibration]]-TODAY())/30)>1,\"Between 2 and 1\",\"Less than 1\"))","v":{"$error":"#VALUE!"}},{"$f":"IF(Table111[[#This Row],[Issued]]=\"\",\"\",IF(Table111[[#This Row],[Lent]]=\"\",0,1))","v":""},{"$f":"IF(Table111[[#This Row],[Lent]]=\"\",\"\",IF(Table111[[#This Row],[Returned]]=\"\",0,1))","v":""}]
[{"$nulls":11},{"$f":"IF(IF(Table111[[#This Row],[Disposition]]=\"Retired\",\"N/A\",IF(Table111[[#This Row],[Disposition]]=0,\"\",K112+$F$2))=0+$F$2,\"NEVER CALIBRATED\",IF(Table111[[#This Row],[Disposition]]=\"Retired\",\"N/A\",IF(Table111[[#This Row],[Disposition]]=0,\"\",K112+$F$2)))","v":""},{"$f":"IF(Table111[[#This Row],[Disposition]]=\"\",\"\",IF(AND(Table111[[#This Row],[Next Calibration]]<$E$1,Table111[[#This Row],[Disposition]]=\"Lost\"),\"Find and Calibrate\",IF(Table111[[#This Row],[Disposition]]=\"Lost\",\"Find\",IF(OR(Table111[[#This Row],[Next Calibration]]<$E$1,Table111[[#This Row],[Next Calibration]]=\"NEVER CALIBRATED\"),\"Calibrate\",\"Nominal\"))))","v":""},{"$f":"IF(((Table111[[#This Row],[Next Calibration]]-TODAY())/30)>2,\"More Than 2\",IF(((Table111[[#This Row],[Next Calibration]]-TODAY())/30)>1,\"Between 2 and 1\",\"Less than 1\"))","v":{"$error":"#VALUE!"}},{"$f":"IF(Table111[[#This Row],[Issued]]=\"\",\"\",IF(Table111[[#This Row],[Lent]]=\"\",0,1))","v":""},{"$f":"IF(Table111[[#This Row],[Lent]]=\"\",\"\",IF(Table111[[#This Row],[Returned]]=\"\",0,1))","v":""}]
[{"$nulls":11},{"$f":"IF(IF(Table111[[#This Row],[Disposition]]=\"Retired\",\"N/A\",IF(Table111[[#This Row],[Disposition]]=0,\"\",K113+$F$2))=0+$F$2,\"NEVER CALIBRATED\",IF(Table111[[#This Row],[Disposition]]=\"Retired\",\"N/A\",IF(Table111[[#This Row],[Disposition]]=0,\"\",K113+$F$2)))","v":""},{"$f":"IF(Table111[[#This Row],[Disposition]]=\"\",\"\",IF(AND(Table111[[#This Row],[Next Calibration]]<$E$1,Table111[[#This Row],[Disposition]]=\"Lost\"),\"Find and Calibrate\",IF(Table111[[#This Row],[Disposition]]=\"Lost\",\"Find\",IF(OR(Table111[[#This Row],[Next Calibration]]<$E$1,Table111[[#This Row],[Next Calibration]]=\"NEVER CALIBRATED\"),\"Calibrate\",\"Nominal\"))))","v":""},{"$f":"IF(((Table111[[#This Row],[Next Calibration]]-TODAY())/30)>2,\"More Than 2\",IF(((Table111[[#This Row],[Next Calibration]]-TODAY())/30)>1,\"Between 2 and 1\",\"Less than 1\"))","v":{"$error":"#VALUE!"}},{"$f":"IF(Table111[[#This Row],[Issued]]=\"\",\"\",IF(Table111[[#This Row],[Lent]]=\"\",0,1))","v":""},{"$f":"IF(Table111[[#This Row],[Lent]]=\"\",\"\",IF(Table111[[#This Row],[Returned]]=\"\",0,1))","v":""}]
[{"$nulls":11},{"$f":"IF(IF(Table111[[#This Row],[Disposition]]=\"Retired\",\"N/A\",IF(Table111[[#This Row],[Disposition]]=0,\"\",K114+$F$2))=0+$F$2,\"NEVER CALIBRATED\",IF(Table111[[#This Row],[Disposition]]=\"Retired\",\"N/A\",IF(Table111[[#This Row],[Disposition]]=0,\"\",K114+$F$2)))","v":""},{"$f":"IF(Table111[[#This Row],[Disposition]]=\"\",\"\",IF(AND(Table111[[#This Row],[Next Calibration]]<$E$1,Table111[[#This Row],[Disposition]]=\"Lost\"),\"Find and Calibrate\",IF(Table111[[#This Row],[Disposition]]=\"Lost\",\"Find\",IF(OR(Table111[[#This Row],[Next Calibration]]<$E$1,Table111[[#This Row],[Next Calibration]]=\"NEVER CALIBRATED\"),\"Calibrate\",\"Nominal\"))))","v":""},{"$f":"IF(((Table111[[#This Row],[Next Calibration]]-TODAY())/30)>2,\"More Than 2\",IF(((Table111[[#This Row],[Next Calibration]]-TODAY())/30)>1,\"Between 2 and 1\",\"Less than 1\"))","v":{"$error":"#VALUE!"}},{"$f":"IF(Table111[[#This Row],[Issued]]=\"\",\"\",IF(Table111[[#This Row],[Lent]]=\"\",0,1))","v":""},{"$f":"IF(Table111[[#This Row],[Lent]]=\"\",\"\",IF(Table111[[#This Row],[Returned]]=\"\",0,1))","v":""}]
[{"$nulls":11},{"$f":"IF(IF(Table111[[#This Row],[Disposition]]=\"Retired\",\"N/A\",IF(Table111[[#This Row],[Disposition]]=0,\"\",K115+$F$2))=0+$F$2,\"NEVER CALIBRATED\",IF(Table111[[#This Row],[Disposition]]=\"Retired\",\"N/A\",IF(Table111[[#This Row],[Disposition]]=0,\"\",K115+$F$2)))","v":""},{"$f":"IF(Table111[[#This Row],[Disposition]]=\"\",\"\",IF(AND(Table111[[#This Row],[Next Calibration]]<$E$1,Table111[[#This Row],[Disposition]]=\"Lost\"),\"Find and Calibrate\",IF(Table111[[#This Row],[Disposition]]=\"Lost\",\"Find\",IF(OR(Table111[[#This Row],[Next Calibration]]<$E$1,Table111[[#This Row],[Next Calibration]]=\"NEVER CALIBRATED\"),\"Calibrate\",\"Nominal\"))))","v":""},{"$f":"IF(((Table111[[#This Row],[Next Calibration]]-TODAY())/30)>2,\"More Than 2\",IF(((Table111[[#This Row],[Next Calibration]]-TODAY())/30)>1,\"Between 2 and 1\",\"Less than 1\"))","v":{"$error":"#VALUE!"}},{"$f":"IF(Table111[[#This Row],[Issued]]=\"\",\"\",IF(Table111[[#This Row],[Lent]]=\"\",0,1))","v":""},{"$f":"IF(Table111[[#This Row],[Lent]]=\"\",\"\",IF(Table111[[#This Row],[Returned]]=\"\",0,1))","v":""}]
[{"$nulls":11},{"$f":"IF(IF(Table111[[#This Row],[Disposition]]=\"Retired\",\"N/A\",IF(Table111[[#This Row],[Disposition]]=0,\"\",K116+$F$2))=0+$F$2,\"NEVER CALIBRATED\",IF(Table111[[#This Row],[Disposition]]=\"Retired\",\"N/A\",IF(Table111[[#This Row],[Disposition]]=0,\"\",K116+$F$2)))","v":""},{"$f":"IF(Table111[[#This Row],[Disposition]]=\"\",\"\",IF(AND(Table111[[#This Row],[Next Calibration]]<$E$1,Table111[[#This Row],[Disposition]]=\"Lost\"),\"Find and Calibrate\",IF(Table111[[#This Row],[Disposition]]=\"Lost\",\"Find\",IF(OR(Table111[[#This Row],[Next Calibration]]<$E$1,Table111[[#This Row],[Next Calibration]]=\"NEVER CALIBRATED\"),\"Calibrate\",\"Nominal\"))))","v":""},{"$f":"IF(((Table111[[#This Row],[Next Calibration]]-TODAY())/30)>2,\"More Than 2\",IF(((Table111[[#This Row],[Next Calibration]]-TODAY())/30)>1,\"Between 2 and 1\",\"Less than 1\"))","v":{"$error":"#VALUE!"}},{"$f":"IF(Table111[[#This Row],[Issued]]=\"\",\"\",IF(Table111[[#This Row],[Lent]]=\"\",0,1))","v":""},{"$f":"IF(Table111[[#This Row],[Lent]]=\"\",\"\",IF(Table111[[#This Row],[Returned]]=\"\",0,1))","v":""}]
[{"$nulls":11},{"$f":"IF(IF(Table111[[#This Row],[Disposition]]=\"Retired\",\"N/A\",IF(Table111[[#This Row],[Disposition]]=0,\"\",K117+$F$2))=0+$F$2,\"NEVER CALIBRATED\",IF(Table111[[#This Row],[Disposition]]=\"Retired\",\"N/A\",IF(Table111[[#This Row],[Disposition]]=0,\"\",K117+$F$2)))","v":""},{"$f":"IF(Table111[[#This Row],[Disposition]]=\"\",\"\",IF(AND(Table111[[#This Row],[Next Calibration]]<$E$1,Table111[[#This Row],[Disposition]]=\"Lost\"),\"Find and Calibrate\",IF(Table111[[#This Row],[Disposition]]=\"Lost\",\"Find\",IF(OR(Table111[[#This Row],[Next Calibration]]<$E$1,Table111[[#This Row],[Next Calibration]]=\"NEVER CALIBRATED\"),\"Calibrate\",\"Nominal\"))))","v":""},{"$f":"IF(((Table111[[#This Row],[Next Calibration]]-TODAY())/30)>2,\"More Than 2\",IF(((Table111[[#This Row],[Next Calibration]]-TODAY())/30)>1,\"Between 2 and 1\",\"Less than 1\"))","v":{"$error":"#VALUE!"}},{"$f":"IF(Table111[[#This Row],[Issued]]=\"\",\"\",IF(Table111[[#This Row],[Lent]]=\"\",0,1))","v":""},{"$f":"IF(Table111[[#This Row],[Lent]]=\"\",\"\",IF(Table111[[#This Row],[Returned]]=\"\",0,1))","v":""}]
[{"$nulls":11},{"$f":"IF(IF(Table111[[#This Row],[Disposition]]=\"Retired\",\"N/A\",IF(Table111[[#This Row],[Disposition]]=0,\"\",K118+$F$2))=0+$F$2,\"NEVER CALIBRATED\",IF(Table111[[#This Row],[Disposition]]=\"Retired\",\"N/A\",IF(Table111[[#This Row],[Disposition]]=0,\"\",K118+$F$2)))","v":""},{"$f":"IF(Table111[[#This Row],[Disposition]]=\"\",\"\",IF(AND(Table111[[#This Row],[Next Calibration]]<$E$1,Table111[[#This Row],[Disposition]]=\"Lost\"),\"Find and Calibrate\",IF(Table111[[#This Row],[Disposition]]=\"Lost\",\"Find\",IF(OR(Table111[[#This Row],[Next Calibration]]<$E$1,Table111[[#This Row],[Next Calibration]]=\"NEVER CALIBRATED\"),\"Calibrate\",\"Nominal\"))))","v":""},{"$f":"IF(((Table111[[#This Row],[Next Calibration]]-TODAY())/30)>2,\"More Than 2\",IF(((Table111[[#This Row],[Next Calibration]]-TODAY())/30)>1,\"Between 2 and 1\",\"Less than 1\"))","v":{"$error":"#VALUE!"}},{"$f":"IF(Table111[[#This Row],[Issued]]=\"\",\"\",IF(Table111[[#This Row],[Lent]]=\"\",0,1))","v":""},{"$f":"IF(Table111[[#This Row],[Lent]]=\"\",\"\",IF(Table111[[#This Row],[Returned]]=\"\",0,1))","v":""}]
[{"$nulls":11},{"$f":"IF(IF(Table111[[#This Row],[Disposition]]=\"Retired\",\"N/A\",IF(Table111[[#This Row],[Disposition]]=0,\"\",K119+$F$2))=0+$F$2,\"NEVER CALIBRATED\",IF(Table111[[#This Row],[Disposition]]=\"Retired\",\"N/A\",IF(Table111[[#This Row],[Disposition]]=0,\"\",K119+$F$2)))","v":""},{"$f":"IF(Table111[[#This Row],[Disposition]]=\"\",\"\",IF(AND(Table111[[#This Row],[Next Calibration]]<$E$1,Table111[[#This Row],[Disposition]]=\"Lost\"),\"Find and Calibrate\",IF(Table111[[#This Row],[Disposition]]=\"Lost\",\"Find\",IF(OR(Table111[[#This Row],[Next Calibration]]<$E$1,Table111[[#This Row],[Next Calibration]]=\"NEVER CALIBRATED\"),\"Calibrate\",\"Nominal\"))))","v":""},{"$f":"IF(((Table111[[#This Row],[Next Calibration]]-TODAY())/30)>2,\"More Than 2\",IF(((Table111[[#This Row],[Next Calibration]]-TODAY())/30)>1,\"Between 2 and 1\",\"Less than 1\"))","v":{"$error":"#VALUE!"}},{"$f":"IF(Table111[[#This Row],[Issued]]=\"\",\"\",IF(Table111[[#This Row],[Lent]]=\"\",0,1))","v":""},{"$f":"IF(Table111[[#This Row],[Lent]]=\"\",\"\",IF(Table111[[#This Row],[Returned]]=\"\",0,1))","v":""}]
[{"$nulls":11},{"$f":"IF(IF(Table111[[#This Row],[Disposition]]=\"Retired\",\"N/A\",IF(Table111[[#This Row],[Disposition]]=0,\"\",K120+$F$2))=0+$F$2,\"NEVER CALIBRATED\",IF(Table111[[#This Row],[Disposition]]=\"Retired\",\"N/A\",IF(Table111[[#This Row],[Disposition]]=0,\"\",K120+$F$2)))","v":""},{"$f":"IF(Table111[[#This Row],[Disposition]]=\"\",\"\",IF(AND(Table111[[#This Row],[Next Calibration]]<$E$1,Table111[[#This Row],[Disposition]]=\"Lost\"),\"Find and Calibrate\",IF(Table111[[#This Row],[Disposition]]=\"Lost\",\"Find\",IF(OR(Table111[[#This Row],[Next Calibration]]<$E$1,Table111[[#This Row],[Next Calibration]]=\"NEVER CALIBRATED\"),\"Calibrate\",\"Nominal\"))))","v":""},{"$f":"IF(((Table111[[#This Row],[Next Calibration]]-TODAY())/30)>2,\"More Than 2\",IF(((Table111[[#This Row],[Next Calibration]]-TODAY())/30)>1,\"Between 2 and 1\",\"Less than 1\"))","v":{"$error":"#VALUE!"}},{"$f":"IF(Table111[[#This Row],[Issued]]=\"\",\"\",IF(Table111[[#This Row],[Lent]]=\"\",0,1))","v":""},{"$f":"IF(Table111[[#This Row],[Lent]]=\"\",\"\",IF(Table111[[#This Row],[Returned]]=\"\",0,1))","v":""}]
[{"$nulls":11},{"$f":"IF(IF(Table111[[#This Row],[Disposition]]=\"Retired\",\"N/A\",IF(Table111[[#This Row],[Disposition]]=0,\"\",K121+$F$2))=0+$F$2,\"NEVER CALIBRATED\",IF(Table111[[#This Row],[Disposition]]=\"Retired\",\"N/A\",IF(Table111[[#This Row],[Disposition]]=0,\"\",K121+$F$2)))","v":""},{"$f":"IF(Table111[[#This Row],[Disposition]]=\"\",\"\",IF(AND(Table111[[#This Row],[Next Calibration]]<$E$1,Table111[[#This Row],[Disposition]]=\"Lost\"),\"Find and Calibrate\",IF(Table111[[#This Row],[Disposition]]=\"Lost\",\"Find\",IF(OR(Table111[[#This Row],[Next Calibration]]<$E$1,Table111[[#This Row],[Next Calibration]]=\"NEVER CALIBRATED\"),\"Calibrate\",\"Nominal\"))))","v":""},{"$f":"IF(((Table111[[#This Row],[Next Calibration]]-TODAY())/30)>2,\"More Than 2\",IF(((Table111[[#This Row],[Next Calibration]]-TODAY())/30)>1,\"Between 2 and 1\",\"Less than 1\"))","v":{"$error":"#VALUE!"}},{"$f":"IF(Table111[[#This Row],[Issued]]=\"\",\"\",IF(Table111[[#This Row],[Lent]]=\"\",0,1))","v":""},{"$f":"IF(Table111[[#This Row],[Lent]]=\"\",\"\",IF(Table111[[#This Row],[Returned]]=\"\",0,1))","v":""}]
[{"$nulls":11},{"$f":"IF(IF(Table111[[#This Row],[Disposition]]=\"Retired\",\"N/A\",IF(Table111[[#This Row],[Disposition]]=0,\"\",K122+$F$2))=0+$F$2,\"NEVER CALIBRATED\",IF(Table111[[#This Row],[Disposition]]=\"Retired\",\"N/A\",IF(Table111[[#This Row],[Disposition]]=0,\"\",K122+$F$2)))","v":""},{"$f":"IF(Table111[[#This Row],[Disposition]]=\"\",\"\",IF(AND(Table111[[#This Row],[Next Calibration]]<$E$1,Table111[[#This Row],[Disposition]]=\"Lost\"),\"Find and Calibrate\",IF(Table111[[#This Row],[Disposition]]=\"Lost\",\"Find\",IF(OR(Table111[[#This Row],[Next Calibration]]<$E$1,Table111[[#This Row],[Next Calibration]]=\"NEVER CALIBRATED\"),\"Calibrate\",\"Nominal\"))))","v":""},{"$f":"IF(((Table111[[#This Row],[Next Calibration]]-TODAY())/30)>2,\"More Than 2\",IF(((Table111[[#This Row],[Next Calibration]]-TODAY())/30)>1,\"Between 2 and 1\",\"Less than 1\"))","v":{"$error":"#VALUE!"}},{"$f":"IF(Table111[[#This Row],[Issued]]=\"\",\"\",IF(Table111[[#This Row],[Lent]]=\"\",0,1))","v":""},{"$f":"IF(Table111[[#This Row],[Lent]]=\"\",\"\",IF(Table111[[#This Row],[Returned]]=\"\",0,1))","v":""}]
[{"$nulls":11},{"$f":"IF(IF(Table111[[#This Row],[Disposition]]=\"Retired\",\"N/A\",IF(Table111[[#This Row],[Disposition]]=0,\"\",K123+$F$2))=0+$F$2,\"NEVER CALIBRATED\",IF(Table111[[#This Row],[Disposition]]=\"Retired\",\"N/A\",IF(Table111[[#This Row],[Disposition]]=0,\"\",K123+$F$2)))","v":""},{"$f":"IF(Table111[[#This Row],[Disposition]]=\"\",\"\",IF(AND(Table111[[#This Row],[Next Calibration]]<$E$1,Table111[[#This Row],[Disposition]]=\"Lost\"),\"Find and Calibrate\",IF(Table111[[#This Row],[Disposition]]=\"Lost\",\"Find\",IF(OR(Table111[[#This Row],[Next Calibration]]<$E$1,Table111[[#This Row],[Next Calibration]]=\"NEVER CALIBRATED\"),\"Calibrate\",\"Nominal\"))))","v":""},{"$f":"IF(((Table111[[#This Row],[Next Calibration]]-TODAY())/30)>2,\"More Than 2\",IF(((Table111[[#This Row],[Next Calibration]]-TODAY())/30)>1,\"Between 2 and 1\",\"Less than 1\"))","v":{"$error":"#VALUE!"}},{"$f":"IF(Table111[[#This Row],[Issued]]=\"\",\"\",IF(Table111[[#This Row],[Lent]]=\"\",0,1))","v":""},{"$f":"IF(Table111[[#This Row],[Lent]]=\"\",\"\",IF(Table111[[#This Row],[Returned]]=\"\",0,1))","v":""}]
[{"$nulls":11},{"$f":"IF(IF(Table111[[#This Row],[Disposition]]=\"Retired\",\"N/A\",IF(Table111[[#This Row],[Disposition]]=0,\"\",K124+$F$2))=0+$F$2,\"NEVER CALIBRATED\",IF(Table111[[#This Row],[Disposition]]=\"Retired\",\"N/A\",IF(Table111[[#This Row],[Disposition]]=0,\"\",K124+$F$2)))","v":""},{"$f":"IF(Table111[[#This Row],[Disposition]]=\"\",\"\",IF(AND(Table111[[#This Row],[Next Calibration]]<$E$1,Table111[[#This Row],[Disposition]]=\"Lost\"),\"Find and Calibrate\",IF(Table111[[#This Row],[Disposition]]=\"Lost\",\"Find\",IF(OR(Table111[[#This Row],[Next Calibration]]<$E$1,Table111[[#This Row],[Next Calibration]]=\"NEVER CALIBRATED\"),\"Calibrate\",\"Nominal\"))))","v":""},{"$f":"IF(((Table111[[#This Row],[Next Calibration]]-TODAY())/30)>2,\"More Than 2\",IF(((Table111[[#This Row],[Next Calibration]]-TODAY())/30)>1,\"Between 2 and 1\",\"Less than 1\"))","v":{"$error":"#VALUE!"}},{"$f":"IF(Table111[[#This Row],[Issued]]=\"\",\"\",IF(Table111[[#This Row],[Lent]]=\"\",0,1))","v":""},{"$f":"IF(Table111[[#This Row],[Lent]]=\"\",\"\",IF(Table111[[#This Row],[Returned]]=\"\",0,1))","v":""}]
[{"$nulls":11},{"$f":"IF(IF(Table111[[#This Row],[Disposition]]=\"Retired\",\"N/A\",IF(Table111[[#This Row],[Disposition]]=0,\"\",K125+$F$2))=0+$F$2,\"NEVER CALIBRATED\",IF(Table111[[#This Row],[Disposition]]=\"Retired\",\"N/A\",IF(Table111[[#This Row],[Disposition]]=0,\"\",K125+$F$2)))","v":""},{"$f":"IF(Table111[[#This Row],[Disposition]]=\"\",\"\",IF(AND(Table111[[#This Row],[Next Calibration]]<$E$1,Table111[[#This Row],[Disposition]]=\"Lost\"),\"Find and Calibrate\",IF(Table111[[#This Row],[Disposition]]=\"Lost\",\"Find\",IF(OR(Table111[[#This Row],[Next Calibration]]<$E$1,Table111[[#This Row],[Next Calibration]]=\"NEVER CALIBRATED\"),\"Calibrate\",\"Nominal\"))))","v":""},{"$f":"IF(((Table111[[#This Row],[Next Calibration]]-TODAY())/30)>2,\"More Than 2\",IF(((Table111[[#This Row],[Next Calibration]]-TODAY())/30)>1,\"Between 2 and 1\",\"Less than 1\"))","v":{"$error":"#VALUE!"}},{"$f":"IF(Table111[[#This Row],[Issued]]=\"\",\"\",IF(Table111[[#This Row],[Lent]]=\"\",0,1))","v":""},{"$f":"IF(Table111[[#This Row],[Lent]]=\"\",\"\",IF(Table111[[#This Row],[Returned]]=\"\",0,1))","v":""}]
[{"$nulls":11},{"$f":"IF(IF(Table111[[#This Row],[Disposition]]=\"Retired\",\"N/A\",IF(Table111[[#This Row],[Disposition]]=0,\"\",K126+$F$2))=0+$F$2,\"NEVER CALIBRATED\",IF(Table111[[#This Row],[Disposition]]=\"Retired\",\"N/A\",IF(Table111[[#This Row],[Disposition]]=0,\"\",K126+$F$2)))","v":""},{"$f":"IF(Table111[[#This Row],[Disposition]]=\"\",\"\",IF(AND(Table111[[#This Row],[Next Calibration]]<$E$1,Table111[[#This Row],[Disposition]]=\"Lost\"),\"Find and Calibrate\",IF(Table111[[#This Row],[Disposition]]=\"Lost\",\"Find\",IF(OR(Table111[[#This Row],[Next Calibration]]<$E$1,Table111[[#This Row],[Next Calibration]]=\"NEVER CALIBRATED\"),\"Calibrate\",\"Nominal\"))))","v":""},{"$f":"IF(((Table111[[#This Row],[Next Calibration]]-TODAY())/30)>2,\"More Than 2\",IF(((Table111[[#This Row],[Next Calibration]]-TODAY())/30)>1,\"Between 2 and 1\",\"Less than 1\"))","v":{"$error":"#VALUE!"}},{"$f":"IF(Table111[[#This Row],[Issued]]=\"\",\"\",IF(Table111[[#This Row],[Lent]]=\"\",0,1))","v":""},{"$f":"IF(Table111[[#This Row],[Lent]]=\"\",\"\",IF(Table111[[#This Row],[Returned]]=\"\",0,1))","v":""}]
[{"$nulls":11},{"$f":"IF(IF(Table111[[#This Row],[Disposition]]=\"Retired\",\"N/A\",IF(Table111[[#This Row],[Disposition]]=0,\"\",K127+$F$2))=0+$F$2,\"NEVER CALIBRATED\",IF(Table111[[#This Row],[Disposition]]=\"Retired\",\"N/A\",IF(Table111[[#This Row],[Disposition]]=0,\"\",K127+$F$2)))","v":""},{"$f":"IF(Table111[[#This Row],[Disposition]]=\"\",\"\",IF(AND(Table111[[#This Row],[Next Calibration]]<$E$1,Table111[[#This Row],[Disposition]]=\"Lost\"),\"Find and Calibrate\",IF(Table111[[#This Row],[Disposition]]=\"Lost\",\"Find\",IF(OR(Table111[[#This Row],[Next Calibration]]<$E$1,Table111[[#This Row],[Next Calibration]]=\"NEVER CALIBRATED\"),\"Calibrate\",\"Nominal\"))))","v":""},{"$f":"IF(((Table111[[#This Row],[Next Calibration]]-TODAY())/30)>2,\"More Than 2\",IF(((Table111[[#This Row],[Next Calibration]]-TODAY())/30)>1,\"Between 2 and 1\",\"Less than 1\"))","v":{"$error":"#VALUE!"}},{"$f":"IF(Table111[[#This Row],[Issued]]=\"\",\"\",IF(Table111[[#This Row],[Lent]]=\"\",0,1))","v":""},{"$f":"IF(Table111[[#This Row],[Lent]]=\"\",\"\",IF(Table111[[#This Row],[Returned]]=\"\",0,1))","v":""}]
[{"$nulls":11},{"$f":"IF(IF(Table111[[#This Row],[Disposition]]=\"Retired\",\"N/A\",IF(Table111[[#This Row],[Disposition]]=0,\"\",K128+$F$2))=0+$F$2,\"NEVER CALIBRATED\",IF(Table111[[#This Row],[Disposition]]=\"Retired\",\"N/A\",IF(Table111[[#This Row],[Disposition]]=0,\"\",K128+$F$2)))","v":""},{"$f":"IF(Table111[[#This Row],[Disposition]]=\"\",\"\",IF(AND(Table111[[#This Row],[Next Calibration]]<$E$1,Table111[[#This Row],[Disposition]]=\"Lost\"),\"Find and Calibrate\",IF(Table111[[#This Row],[Disposition]]=\"Lost\",\"Find\",IF(OR(Table111[[#This Row],[Next Calibration]]<$E$1,Table111[[#This Row],[Next Calibration]]=\"NEVER CALIBRATED\"),\"Calibrate\",\"Nominal\"))))","v":""},{"$f":"IF(((Table111[[#This Row],[Next Calibration]]-TODAY())/30)>2,\"More Than 2\",IF(((Table111[[#This Row],[Next Calibration]]-TODAY())/30)>1,\"Between 2 and 1\",\"Less than 1\"))","v":{"$error":"#VALUE!"}},{"$f":"IF(Table111[[#This Row],[Issued]]=\"\",\"\",IF(Table111[[#This Row],[Lent]]=\"\",0,1))","v":""},{"$f":"IF(Table111[[#This Row],[Lent]]=\"\",\"\",IF(Table111[[#This Row],[Returned]]=\"\",0,1))","v":""}]
[{"$nulls":11},{"$f":"IF(IF(Table111[[#This Row],[Disposition]]=\"Retired\",\"N/A\",IF(Table111[[#This Row],[Disposition]]=0,\"\",K129+$F$2))=0+$F$2,\"NEVER CALIBRATED\",IF(Table111[[#This Row],[Disposition]]=\"Retired\",\"N/A\",IF(Table111[[#This Row],[Disposition]]=0,\"\",K129+$F$2)))","v":""},{"$f":"IF(Table111[[#This Row],[Disposition]]=\"\",\"\",IF(AND(Table111[[#This Row],[Next Calibration]]<$E$1,Table111[[#This Row],[Disposition]]=\"Lost\"),\"Find and Calibrate\",IF(Table111[[#This Row],[Disposition]]=\"Lost\",\"Find\",IF(OR(Table111[[#This Row],[Next Calibration]]<$E$1,Table111[[#This Row],[Next Calibration]]=\"NEVER CALIBRATED\"),\"Calibrate\",\"Nominal\"))))","v":""},{"$f":"IF(((Table111[[#This Row],[Next Calibration]]-TODAY())/30)>2,\"More Than 2\",IF(((Table111[[#This Row],[Next Calibration]]-TODAY())/30)>1,\"Between 2 and 1\",\"Less than 1\"))","v":{"$error":"#VALUE!"}},{"$f":"IF(Table111[[#This Row],[Issued]]=\"\",\"\",IF(Table111[[#This Row],[Lent]]=\"\",0,1))","v":""},{"$f":"IF(Table111[[#This Row],[Lent]]=\"\",\"\",IF(Table111[[#This Row],[Returned]]=\"\",0,1))","v":""}]
[{"$nulls":11},{"$f":"IF(IF(Table111[[#This Row],[Disposition]]=\"Retired\",\"N/A\",IF(Table111[[#This Row],[Disposition]]=0,\"\",K130+$F$2))=0+$F$2,\"NEVER CALIBRATED\",IF(Table111[[#This Row],[Disposition]]=\"Retired\",\"N/A\",IF(Table111[[#This Row],[Disposition]]=0,\"\",K130+$F$2)))","v":""},{"$f":"IF(Table111[[#This Row],[Disposition]]=\"\",\"\",IF(AND(Table111[[#This Row],[Next Calibration]]<$E$1,Table111[[#This Row],[Disposition]]=\"Lost\"),\"Find and Calibrate\",IF(Table111[[#This Row],[Disposition]]=\"Lost\",\"Find\",IF(OR(Table111[[#This Row],[Next Calibration]]<$E$1,Table111[[#This Row],[Next Calibration]]=\"NEVER CALIBRATED\"),\"Calibrate\",\"Nominal\"))))","v":""},{"$f":"IF(((Table111[[#This Row],[Next Calibration]]-TODAY())/30)>2,\"More Than 2\",IF(((Table111[[#This Row],[Next Calibration]]-TODAY())/30)>1,\"Between 2 and 1\",\"Less than 1\"))","v":{"$error":"#VALUE!"}},{"$f":"IF(Table111[[#This Row],[Issued]]=\"\",\"\",IF(Table111[[#This Row],[Lent]]=\"\",0,1))","v":""},{"$f":"IF(Table111[[#This Row],[Lent]]=\"\",\"\",IF(Table111[[#This Row],[Returned]]=\"\",0,1))","v":""}]
[{"$nulls":11},{"$f":"IF(IF(Table111[[#This Row],[Disposition]]=\"Retired\",\"N/A\",IF(Table111[[#This Row],[Disposition]]=0,\"\",K131+$F$2))=0+$F$2,\"NEVER CALIBRATED\",IF(Table111[[#This Row],[Disposition]]=\"Retired\",\"N/A\",IF(Table111[[#This Row],[Disposition]]=0,\"\",K131+$F$2)))","v":""},{"$f":"IF(Table111[[#This Row],[Disposition]]=\"\",\"\",IF(AND(Table111[[#This Row],[Next Calibration]]<$E$1,Table111[[#This Row],[Disposition]]=\"Lost\"),\"Find and Calibrate\",IF(Table111[[#This Row],[Disposition]]=\"Lost\",\"Find\",IF(OR(Table111[[#This Row],[Next Calibration]]<$E$1,Table111[[#This Row],[Next Calibration]]=\"NEVER CALIBRATED\"),\"Calibrate\",\"Nominal\"))))","v":""},{"$f":"IF(((Table111[[#This Row],[Next Calibration]]-TODAY())/30)>2,\"More Than 2\",IF(((Table111[[#This Row],[Next Calibration]]-TODAY())/30)>1,\"Between 2 and 1\",\"Less than 1\"))","v":{"$error":"#VALUE!"}},{"$f":"IF(Table111[[#This Row],[Issued]]=\"\",\"\",IF(Table111[[#This Row],[Lent]]=\"\",0,1))","v":""},{"$f":"IF(Table111[[#This Row],[Lent]]=\"\",\"\",IF(Table111[[#This Row],[Returned]]=\"\",0,1))","v":""}]
[{"$nulls":11},{"$f":"IF(IF(Table111[[#This Row],[Disposition]]=\"Retired\",\"N/A\",IF(Table111[[#This Row],[Disposition]]=0,\"\",K132+$F$2))=0+$F$2,\"NEVER CALIBRATED\",IF(Table111[[#This Row],[Disposition]]=\"Retired\",\"N/A\",IF(Table111[[#This Row],[Disposition]]=0,\"\",K132+$F$2)))","v":""},{"$f":"IF(Table111[[#This Row],[Disposition]]=\"\",\"\",IF(AND(Table111[[#This Row],[Next Calibration]]<$E$1,Table111[[#This Row],[Disposition]]=\"Lost\"),\"Find and Calibrate\",IF(Table111[[#This Row],[Disposition]]=\"Lost\",\"Find\",IF(OR(Table111[[#This Row],[Next Calibration]]<$E$1,Table111[[#This Row],[Next Calibration]]=\"NEVER CALIBRATED\"),\"Calibrate\",\"Nominal\"))))","v":""},{"$f":"IF(((Table111[[#This Row],[Next Calibration]]-TODAY())/30)>2,\"More Than 2\",IF(((Table111[[#This Row],[Next Calibration]]-TODAY())/30)>1,\"Between 2 and 1\",\"Less than 1\"))","v":{"$error":"#VALUE!"}},{"$f":"IF(Table111[[#This Row],[Issued]]=\"\",\"\",IF(Table111[[#This Row],[Lent]]=\"\",0,1))","v":""},{"$f":"IF(Table111[[#This Row],[Lent]]=\"\",\"\",IF(Table111[[#This Row],[Returned]]=\"\",0,1))","v":""}]
[{"$nulls":11},{"$f":"IF(IF(Table111[[#This Row],[Disposition]]=\"Retired\",\"N/A\",IF(Table111[[#This Row],[Disposition]]=0,\"\",K133+$F$2))=0+$F$2,\"NEVER CALIBRATED\",IF(Table111[[#This Row],[Disposition]]=\"Retired\",\"N/A\",IF(Table111[[#This Row],[Disposition]]=0,\"\",K133+$F$2)))","v":""},{"$f":"IF(Table111[[#This Row],[Disposition]]=\"\",\"\",IF(AND(Table111[[#This Row],[Next Calibration]]<$E$1,Table111[[#This Row],[Disposition]]=\"Lost\"),\"Find and Calibrate\",IF(Table111[[#This Row],[Disposition]]=\"Lost\",\"Find\",IF(OR(Table111[[#This Row],[Next Calibration]]<$E$1,Table111[[#This Row],[Next Calibration]]=\"NEVER CALIBRATED\"),\"Calibrate\",\"Nominal\"))))","v":""},{"$f":"IF(((Table111[[#This Row],[Next Calibration]]-TODAY())/30)>2,\"More Than 2\",IF(((Table111[[#This Row],[Next Calibration]]-TODAY())/30)>1,\"Between 2 and 1\",\"Less than 1\"))","v":{"$error":"#VALUE!"}},{"$f":"IF(Table111[[#This Row],[Issued]]=\"\",\"\",IF(Table111[[#This Row],[Lent]]=\"\",0,1))","v":""},{"$f":"IF(Table111[[#This Row],[Lent]]=\"\",\"\",IF(Table111[[#This Row],[Returned]]=\"\",0,1))","v":""}]
[{"$nulls":11},{"$f":"IF(IF(Table111[[#This Row],[Disposition]]=\"Retired\",\"N/A\",IF(Table111[[#This Row],[Disposition]]=0,\"\",K134+$F$2))=0+$F$2,\"NEVER CALIBRATED\",IF(Table111[[#This Row],[Disposition]]=\"Retired\",\"N/A\",IF(Table111[[#This Row],[Disposition]]=0,\"\",K134+$F$2)))","v":""},{"$f":"IF(Table111[[#This Row],[Disposition]]=\"\",\"\",IF(AND(Table111[[#This Row],[Next Calibration]]<$E$1,Table111[[#This Row],[Disposition]]=\"Lost\"),\"Find and Calibrate\",IF(Table111[[#This Row],[Disposition]]=\"Lost\",\"Find\",IF(OR(Table111[[#This Row],[Next Calibration]]<$E$1,Table111[[#This Row],[Next Calibration]]=\"NEVER CALIBRATED\"),\"Calibrate\",\"Nominal\"))))","v":""},{"$f":"IF(((Table111[[#This Row],[Next Calibration]]-TODAY())/30)>2,\"More Than 2\",IF(((Table111[[#This Row],[Next Calibration]]-TODAY())/30)>1,\"Between 2 and 1\",\"Less than 1\"))","v":{"$error":"#VALUE!"}},{"$f":"IF(Table111[[#This Row],[Issued]]=\"\",\"\",IF(Table111[[#This Row],[Lent]]=\"\",0,1))","v":""},{"$f":"IF(Table111[[#This Row],[Lent]]=\"\",\"\",IF(Table111[[#This Row],[Returned]]=\"\",0,1))","v":""}]
[{"$nulls":11},{"$f":"IF(IF(Table111[[#This Row],[Disposition]]=\"Retired\",\"N/A\",IF(Table111[[#This Row],[Disposition]]=0,\"\",K135+$F$2))=0+$F$2,\"NEVER CALIBRATED\",IF(Table111[[#This Row],[Disposition]]=\"Retired\",\"N/A\",IF(Table111[[#This Row],[Disposition]]=0,\"\",K135+$F$2)))","v":""},{"$f":"IF(Table111[[#This Row],[Disposition]]=\"\",\"\",IF(AND(Table111[[#This Row],[Next Calibration]]<$E$1,Table111[[#This Row],[Disposition]]=\"Lost\"),\"Find and Calibrate\",IF(Table111[[#This Row],[Disposition]]=\"Lost\",\"Find\",IF(OR(Table111[[#This Row],[Next Calibration]]<$E$1,Table111[[#This Row],[Next Calibration]]=\"NEVER CALIBRATED\"),\"Calibrate\",\"Nominal\"))))","v":""},{"$f":"IF(((Table111[[#This Row],[Next Calibration]]-TODAY())/30)>2,\"More Than 2\",IF(((Table111[[#This Row],[Next Calibration]]-TODAY())/30)>1,\"Between 2 and 1\",\"Less than 1\"))","v":{"$error":"#VALUE!"}},{"$f":"IF(Table111[[#This Row],[Issued]]=\"\",\"\",IF(Table111[[#This Row],[Lent]]=\"\",0,1))","v":""},{"$f":"IF(Table111[[#This Row],[Lent]]=\"\",\"\",IF(Table111[[#This Row],[Returned]]=\"\",0,1))","v":""}]
[{"$nulls":11},{"$f":"IF(IF(Table111[[#This Row],[Disposition]]=\"Retired\",\"N/A\",IF(Table111[[#This Row],[Disposition]]=0,\"\",K136+$F$2))=0+$F$2,\"NEVER CALIBRATED\",IF(Table111[[#This Row],[Disposition]]=\"Retired\",\"N/A\",IF(Table111[[#This Row],[Disposition]]=0,\"\",K136+$F$2)))","v":""},{"$f":"IF(Table111[[#This Row],[Disposition]]=\"\",\"\",IF(AND(Table111[[#This Row],[Next Calibration]]<$E$1,Table111[[#This Row],[Disposition]]=\"Lost\"),\"Find and Calibrate\",IF(Table111[[#This Row],[Disposition]]=\"Lost\",\"Find\",IF(OR(Table111[[#This Row],[Next Calibration]]<$E$1,Table111[[#This Row],[Next Calibration]]=\"NEVER CALIBRATED\"),\"Calibrate\",\"Nominal\"))))","v":""},{"$f":"IF(((Table111[[#This Row],[Next Calibration]]-TODAY())/30)>2,\"More Than 2\",IF(((Table111[[#This Row],[Next Calibration]]-TODAY())/30)>1,\"Between 2 and 1\",\"Less than 1\"))","v":{"$error":"#VALUE!"}},{"$f":"IF(Table111[[#This Row],[Issued]]=\"\",\"\",IF(Table111[[#This Row],[Lent]]=\"\",0,1))","v":""},{"$f":"IF(Table111[[#This Row],[Lent]]=\"\",\"\",IF(Table111[[#This Row],[Returned]]=\"\",0,1))","v":""}]
[{"$nulls":11},{"$f":"IF(IF(Table111[[#This Row],[Disposition]]=\"Retired\",\"N/A\",IF(Table111[[#This Row],[Disposition]]=0,\"\",K137+$F$2))=0+$F$2,\"NEVER CALIBRATED\",IF(Table111[[#This Row],[Disposition]]=\"Retired\",\"N/A\",IF(Table111[[#This Row],[Disposition]]=0,\"\",K137+$F$2)))","v":""},{"$f":"IF(Table111[[#This Row],[Disposition]]=\"\",\"\",IF(AND(Table111[[#This Row],[Next Calibration]]<$E$1,Table111[[#This Row],[Disposition]]=\"Lost\"),\"Find and Calibrate\",IF(Table111[[#This Row],[Disposition]]=\"Lost\",\"Find\",IF(OR(Table111[[#This Row],[Next Calibration]]<$E$1,Table111[[#This Row],[Next Calibration]]=\"NEVER CALIBRATED\"),\"Calibrate\",\"Nominal\"))))","v":""},{"$f":"IF(((Table111[[#This Row],[Next Calibration]]-TODAY())/30)>2,\"More Than 2\",IF(((Table111[[#This Row],[Next Calibration]]-TODAY())/30)>1,\"Between 2 and 1\",\"Less than 1\"))","v":{"$error":"#VALUE!"}},{"$f":"IF(Table111[[#This Row],[Issued]]=\"\",\"\",IF(Table111[[#This Row],[Lent]]=\"\",0,1))","v":""},{"$f":"IF(Table111[[#This Row],[Lent]]=\"\",\"\",IF(Table111[[#This Row],[Returned]]=\"\",0,1))","v":""}]
[{"$nulls":11},{"$f":"IF(IF(Table111[[#This Row],[Disposition]]=\"Retired\",\"N/A\",IF(Table111[[#This Row],[Disposition]]=0,\"\",K138+$F$2))=0+$F$2,\"NEVER CALIBRATED\",IF(Table111[[#This Row],[Disposition]]=\"Retired\",\"N/A\",IF(Table111[[#This Row],[Disposition]]=0,\"\",K138+$F$2)))","v":""},{"$f":"IF(Table111[[#This Row],[Disposition]]=\"\",\"\",IF(AND(Table111[[#This Row],[Next Calibration]]<$E$1,Table111[[#This Row],[Disposition]]=\"Lost\"),\"Find and Calibrate\",IF(Table111[[#This Row],[Disposition]]=\"Lost\",\"Find\",IF(OR(Table111[[#This Row],[Next Calibration]]<$E$1,Table111[[#This Row],[Next Calibration]]=\"NEVER CALIBRATED\"),\"Calibrate\",\"Nominal\"))))","v":""},{"$f":"IF(((Table111[[#This Row],[Next Calibration]]-TODAY())/30)>2,\"More Than 2\",IF(((Table111[[#This Row],[Next Calibration]]-TODAY())/30)>1,\"Between 2 and 1\",\"Less than 1\"))","v":{"$error":"#VALUE!"}},{"$f":"IF(Table111[[#This Row],[Issued]]=\"\",\"\",IF(Table111[[#This Row],[Lent]]=\"\",0,1))","v":""},{"$f":"IF(Table111[[#This Row],[Lent]]=\"\",\"\",IF(Table111[[#This Row],[Returned]]=\"\",0,1))","v":""}]
[{"$nulls":11},{"$f":"IF(IF(Table111[[#This Row],[Disposition]]=\"Retired\",\"N/A\",IF(Table111[[#This Row],[Disposition]]=0,\"\",K139+$F$2))=0+$F$2,\"NEVER CALIBRATED\",IF(Table111[[#This Row],[Disposition]]=\"Retired\",\"N/A\",IF(Table111[[#This Row],[Disposition]]=0,\"\",K139+$F$2)))","v":""},{"$f":"IF(Table111[[#This Row],[Disposition]]=\"\",\"\",IF(AND(Table111[[#This Row],[Next Calibration]]<$E$1,Table111[[#This Row],[Disposition]]=\"Lost\"),\"Find and Calibrate\",IF(Table111[[#This Row],[Disposition]]=\"Lost\",\"Find\",IF(OR(Table111[[#This Row],[Next Calibration]]<$E$1,Table111[[#This Row],[Next Calibration]]=\"NEVER CALIBRATED\"),\"Calibrate\",\"Nominal\"))))","v":""},{"$f":"IF(((Table111[[#This Row],[Next Calibration]]-TODAY())/30)>2,\"More Than 2\",IF(((Table111[[#This Row],[Next Calibration]]-TODAY())/30)>1,\"Between 2 and 1\",\"Less than 1\"))","v":{"$error":"#VALUE!"}},{"$f":"IF(Table111[[#This Row],[Issued]]=\"\",\"\",IF(Table111[[#This Row],[Lent]]=\"\",0,1))","v":""},{"$f":"IF(Table111[[#This Row],[Lent]]=\"\",\"\",IF(Table111[[#This Row],[Returned]]=\"\",0,1))","v":""}]
[{"$nulls":11},{"$f":"IF(IF(Table111[[#This Row],[Disposition]]=\"Retired\",\"N/A\",IF(Table111[[#This Row],[Disposition]]=0,\"\",K140+$F$2))=0+$F$2,\"NEVER CALIBRATED\",IF(Table111[[#This Row],[Disposition]]=\"Retired\",\"N/A\",IF(Table111[[#This Row],[Disposition]]=0,\"\",K140+$F$2)))","v":""},{"$f":"IF(Table111[[#This Row],[Disposition]]=\"\",\"\",IF(AND(Table111[[#This Row],[Next Calibration]]<$E$1,Table111[[#This Row],[Disposition]]=\"Lost\"),\"Find and Calibrate\",IF(Table111[[#This Row],[Disposition]]=\"Lost\",\"Find\",IF(OR(Table111[[#This Row],[Next Calibration]]<$E$1,Table111[[#This Row],[Next Calibration]]=\"NEVER CALIBRATED\"),\"Calibrate\",\"Nominal\"))))","v":""},{"$f":"IF(((Table111[[#This Row],[Next Calibration]]-TODAY())/30)>2,\"More Than 2\",IF(((Table111[[#This Row],[Next Calibration]]-TODAY())/30)>1,\"Between 2 and 1\",\"Less than 1\"))","v":{"$error":"#VALUE!"}},{"$f":"IF(Table111[[#This Row],[Issued]]=\"\",\"\",IF(Table111[[#This Row],[Lent]]=\"\",0,1))","v":""},{"$f":"IF(Table111[[#This Row],[Lent]]=\"\",\"\",IF(Table111[[#This Row],[Returned]]=\"\",0,1))","v":""}]
[{"$nulls":11},{"$f":"IF(IF(Table111[[#This Row],[Disposition]]=\"Retired\",\"N/A\",IF(Table111[[#This Row],[Disposition]]=0,\"\",K141+$F$2))=0+$F$2,\"NEVER CALIBRATED\",IF(Table111[[#This Row],[Disposition]]=\"Retired\",\"N/A\",IF(Table111[[#This Row],[Disposition]]=0,\"\",K141+$F$2)))","v":""},{"$f":"IF(Table111[[#This Row],[Disposition]]=\"\",\"\",IF(AND(Table111[[#This Row],[Next Calibration]]<$E$1,Table111[[#This Row],[Disposition]]=\"Lost\"),\"Find and Calibrate\",IF(Table111[[#This Row],[Disposition]]=\"Lost\",\"Find\",IF(OR(Table111[[#This Row],[Next Calibration]]<$E$1,Table111[[#This Row],[Next Calibration]]=\"NEVER CALIBRATED\"),\"Calibrate\",\"Nominal\"))))","v":""},{"$f":"IF(((Table111[[#This Row],[Next Calibration]]-TODAY())/30)>2,\"More Than 2\",IF(((Table111[[#This Row],[Next Calibration]]-TODAY())/30)>1,\"Between 2 and 1\",\"Less than 1\"))","v":{"$error":"#VALUE!"}},{"$f":"IF(Table111[[#This Row],[Issued]]=\"\",\"\",IF(Table111[[#This Row],[Lent]]=\"\",0,1))","v":""},{"$f":"IF(Table111[[#This Row],[Lent]]=\"\",\"\",IF(Table111[[#This Row],[Returned]]=\"\",0,1))","v":""}]
[{"$nulls":11},{"$f":"IF(IF(Table111[[#This Row],[Disposition]]=\"Retired\",\"N/A\",IF(Table111[[#This Row],[Disposition]]=0,\"\",K142+$F$2))=0+$F$2,\"NEVER CALIBRATED\",IF(Table111[[#This Row],[Disposition]]=\"Retired\",\"N/A\",IF(Table111[[#This Row],[Disposition]]=0,\"\",K142+$F$2)))","v":""},{"$f":"IF(Table111[[#This Row],[Disposition]]=\"\",\"\",IF(AND(Table111[[#This Row],[Next Calibration]]<$E$1,Table111[[#This Row],[Disposition]]=\"Lost\"),\"Find and Calibrate\",IF(Table111[[#This Row],[Disposition]]=\"Lost\",\"Find\",IF(OR(Table111[[#This Row],[Next Calibration]]<$E$1,Table111[[#This Row],[Next Calibration]]=\"NEVER CALIBRATED\"),\"Calibrate\",\"Nominal\"))))","v":""},{"$f":"IF(((Table111[[#This Row],[Next Calibration]]-TODAY())/30)>2,\"More Than 2\",IF(((Table111[[#This Row],[Next Calibration]]-TODAY())/30)>1,\"Between 2 and 1\",\"Less than 1\"))","v":{"$error":"#VALUE!"}},{"$f":"IF(Table111[[#This Row],[Issued]]=\"\",\"\",IF(Table111[[#This Row],[Lent]]=\"\",0,1))","v":""},{"$f":"IF(Table111[[#This Row],[Lent]]=\"\",\"\",IF(Table111[[#This Row],[Returned]]=\"\",0,1))","v":""}]
[{"$nulls":11},{"$f":"IF(IF(Table111[[#This Row],[Disposition]]=\"Retired\",\"N/A\",IF(Table111[[#This Row],[Disposition]]=0,\"\",K143+$F$2))=0+$F$2,\"NEVER CALIBRATED\",IF(Table111[[#This Row],[Disposition]]=\"Retired\",\"N/A\",IF(Table111[[#This Row],[Disposition]]=0,\"\",K143+$F$2)))","v":""},{"$f":"IF(Table111[[#This Row],[Disposition]]=\"\",\"\",IF(AND(Table111[[#This Row],[Next Calibration]]<$E$1,Table111[[#This Row],[Disposition]]=\"Lost\"),\"Find and Calibrate\",IF(Table111[[#This Row],[Disposition]]=\"Lost\",\"Find\",IF(OR(Table111[[#This Row],[Next Calibration]]<$E$1,Table111[[#This Row],[Next Calibration]]=\"NEVER CALIBRATED\"),\"Calibrate\",\"Nominal\"))))","v":""},{"$f":"IF(((Table111[[#This Row],[Next Calibration]]-TODAY())/30)>2,\"More Than 2\",IF(((Table111[[#This Row],[Next Calibration]]-TODAY())/30)>1,\"Between 2 and 1\",\"Less than 1\"))","v":{"$error":"#VALUE!"}},{"$f":"IF(Table111[[#This Row],[Issued]]=\"\",\"\",IF(Table111[[#This Row],[Lent]]=\"\",0,1))","v":""},{"$f":"IF(Table111[[#This Row],[Lent]]=\"\",\"\",IF(Table111[[#This Row],[Returned]]=\"\",0,1))","v":""}]
[{"$nulls":11},{"$f":"IF(IF(Table111[[#This Row],[Disposition]]=\"Retired\",\"N/A\",IF(Table111[[#This Row],[Disposition]]=0,\"\",K144+$F$2))=0+$F$2,\"NEVER CALIBRATED\",IF(Table111[[#This Row],[Disposition]]=\"Retired\",\"N/A\",IF(Table111[[#This Row],[Disposition]]=0,\"\",K144+$F$2)))","v":""},{"$f":"IF(Table111[[#This Row],[Disposition]]=\"\",\"\",IF(AND(Table111[[#This Row],[Next Calibration]]<$E$1,Table111[[#This Row],[Disposition]]=\"Lost\"),\"Find and Calibrate\",IF(Table111[[#This Row],[Disposition]]=\"Lost\",\"Find\",IF(OR(Table111[[#This Row],[Next Calibration]]<$E$1,Table111[[#This Row],[Next Calibration]]=\"NEVER CALIBRATED\"),\"Calibrate\",\"Nominal\"))))","v":""},{"$f":"IF(((Table111[[#This Row],[Next Calibration]]-TODAY())/30)>2,\"More Than 2\",IF(((Table111[[#This Row],[Next Calibration]]-TODAY())/30)>1,\"Between 2 and 1\",\"Less than 1\"))","v":{"$error":"#VALUE!"}},{"$f":"IF(Table111[[#This Row],[Issued]]=\"\",\"\",IF(Table111[[#This Row],[Lent]]=\"\",0,1))","v":""},{"$f":"IF(Table111[[#This Row],[Lent]]=\"\",\"\",IF(Table111[[#This Row],[Returned]]=\"\",0,1))","v":""}]
[{"$nulls":11},{"$f":"IF(IF(Table111[[#This Row],[Disposition]]=\"Retired\",\"N/A\",IF(Table111[[#This Row],[Disposition]]=0,\"\",K145+$F$2))=0+$F$2,\"NEVER CALIBRATED\",IF(Table111[[#This Row],[Disposition]]=\"Retired\",\"N/A\",IF(Table111[[#This Row],[Disposition]]=0,\"\",K145+$F$2)))","v":""},{"$f":"IF(Table111[[#This Row],[Disposition]]=\"\",\"\",IF(AND(Table111[[#This Row],[Next Calibration]]<$E$1,Table111[[#This Row],[Disposition]]=\"Lost\"),\"Find and Calibrate\",IF(Table111[[#This Row],[Disposition]]=\"Lost\",\"Find\",IF(OR(Table111[[#This Row],[Next Calibration]]<$E$1,Table111[[#This Row],[Next Calibration]]=\"NEVER CALIBRATED\"),\"Calibrate\",\"Nominal\"))))","v":""},{"$f":"IF(((Table111[[#This Row],[Next Calibration]]-TODAY())/30)>2,\"More Than 2\",IF(((Table111[[#This Row],[Next Calibration]]-TODAY())/30)>1,\"Between 2 and 1\",\"Less than 1\"))","v":{"$error":"#VALUE!"}},{"$f":"IF(Table111[[#This Row],[Issued]]=\"\",\"\",IF(Table111[[#This Row],[Lent]]=\"\",0,1))","v":""},{"$f":"IF(Table111[[#This Row],[Lent]]=\"\",\"\",IF(Table111[[#This Row],[Returned]]=\"\",0,1))","v":""}]
[{"$nulls":11},{"$f":"IF(IF(Table111[[#This Row],[Disposition]]=\"Retired\",\"N/A\",IF(Table111[[#This Row],[Disposition]]=0,\"\",K146+$F$2))=0+$F$2,\"NEVER CALIBRATED\",IF(Table111[[#This Row],[Disposition]]=\"Retired\",\"N/A\",IF(Table111[[#This Row],[Disposition]]=0,\"\",K146+$F$2)))","v":""},{"$f":"IF(Table111[[#This Row],[Disposition]]=\"\",\"\",IF(AND(Table111[[#This Row],[Next Calibration]]<$E$1,Table111[[#This Row],[Disposition]]=\"Lost\"),\"Find and Calibrate\",IF(Table111[[#This Row],[Disposition]]=\"Lost\",\"Find\",IF(OR(Table111[[#This Row],[Next Calibration]]<$E$1,Table111[[#This Row],[Next Calibration]]=\"NEVER CALIBRATED\"),\"Calibrate\",\"Nominal\"))))","v":""},{"$f":"IF(((Table111[[#This Row],[Next Calibration]]-TODAY())/30)>2,\"More Than 2\",IF(((Table111[[#This Row],[Next Calibration]]-TODAY())/30)>1,\"Between 2 and 1\",\"Less than 1\"))","v":{"$error":"#VALUE!"}},{"$f":"IF(Table111[[#This Row],[Issued]]=\"\",\"\",IF(Table111[[#This Row],[Lent]]=\"\",0,1))","v":""},{"$f":"IF(Table111[[#This Row],[Lent]]=\"\",\"\",IF(Table111[[#This Row],[Returned]]=\"\",0,1))","v":""}]
[{"$nulls":11},{"$f":"IF(IF(Table111[[#This Row],[Disposition]]=\"Retired\",\"N/A\",IF(Table111[[#This Row],[Disposition]]=0,\"\",K147+$F$2))=0+$F$2,\"NEVER CALIBRATED\",IF(Table111[[#This Row],[Disposition]]=\"Retired\",\"N/A\",IF(Table111[[#This Row],[Disposition]]=0,\"\",K147+$F$2)))","v":""},{"$f":"IF(Table111[[#This Row],[Disposition]]=\"\",\"\",IF(AND(Table111[[#This Row],[Next Calibration]]<$E$1,Table111[[#This Row],[Disposition]]=\"Lost\"),\"Find and Calibrate\",IF(Table111[[#This Row],[Disposition]]=\"Lost\",\"Find\",IF(OR(Table111[[#This Row],[Next Calibration]]<$E$1,Table111[[#This Row],[Next Calibration]]=\"NEVER CALIBRATED\"),\"Calibrate\",\"Nominal\"))))","v":""},{"$f":"IF(((Table111[[#This Row],[Next Calibration]]-TODAY())/30)>2,\"More Than 2\",IF(((Table111[[#This Row],[Next Calibration]]-TODAY())/30)>1,\"Between 2 and 1\",\"Less than 1\"))","v":{"$error":"#VALUE!"}},{"$f":"IF(Table111[[#This Row],[Issued]]=\"\",\"\",IF(Table111[[#This Row],[Lent]]=\"\",0,1))","v":""},{"$f":"IF(Table111[[#This Row],[Lent]]=\"\",\"\",IF(Table111[[#This Row],[Returned]]=\"\",0,1))","v":""}]
[{"$nulls":11},{"$f":"IF(IF(Table111[[#This Row],[Disposition]]=\"Retired\",\"N/A\",IF(Table111[[#This Row],[Disposition]]=0,\"\",K148+$F$2))=0+$F$2,\"NEVER CALIBRATED\",IF(Table111[[#This Row],[Disposition]]=\"Retired\",\"N/A\",IF(Table111[[#This Row],[Disposition]]=0,\"\",K148+$F$2)))","v":""},{"$f":"IF(Table111[[#This Row],[Disposition]]=\"\",\"\",IF(AND(Table111[[#This Row],[Next Calibration]]<$E$1,Table111[[#This Row],[Disposition]]=\"Lost\"),\"Find and Calibrate\",IF(Table111[[#This Row],[Disposition]]=\"Lost\",\"Find\",IF(OR(Table111[[#This Row],[Next Calibration]]<$E$1,Table111[[#This Row],[Next Calibration]]=\"NEVER CALIBRATED\"),\"Calibrate\",\"Nominal\"))))","v":""},{"$f":"IF(((Table111[[#This Row],[Next Calibration]]-TODAY())/30)>2,\"More Than 2\",IF(((Table111[[#This Row],[Next Calibration]]-TODAY())/30)>1,\"Between 2 and 1\",\"Less than 1\"))","v":{"$error":"#VALUE!"}},{"$f":"IF(Table111[[#This Row],[Issued]]=\"\",\"\",IF(Table111[[#This Row],[Lent]]=\"\",0,1))","v":""},{"$f":"IF(Table111[[#This Row],[Lent]]=\"\",\"\",IF(Table111[[#This Row],[Returned]]=\"\",0,1))","v":""}]
[{"$nulls":11},{"$f":"IF(IF(Table111[[#This Row],[Disposition]]=\"Retired\",\"N/A\",IF(Table111[[#This Row],[Disposition]]=0,\"\",K149+$F$2))=0+$F$2,\"NEVER CALIBRATED\",IF(Table111[[#This Row],[Disposition]]=\"Retired\",\"N/A\",IF(Table111[[#This Row],[Disposition]]=0,\"\",K149+$F$2)))","v":""},{"$f":"IF(Table111[[#This Row],[Disposition]]=\"\",\"\",IF(AND(Table111[[#This Row],[Next Calibration]]<$E$1,Table111[[#This Row],[Disposition]]=\"Lost\"),\"Find and Calibrate\",IF(Table111[[#This Row],[Disposition]]=\"Lost\",\"Find\",IF(OR(Table111[[#This Row],[Next Calibration]]<$E$1,Table111[[#This Row],[Next Calibration]]=\"NEVER CALIBRATED\"),\"Calibrate\",\"Nominal\"))))","v":""},{"$f":"IF(((Table111[[#This Row],[Next Calibration]]-TODAY())/30)>2,\"More Than 2\",IF(((Table111[[#This Row],[Next Calibration]]-TODAY())/30)>1,\"Between 2 and 1\",\"Less than 1\"))","v":{"$error":"#VALUE!"}},{"$f":"IF(Table111[[#This Row],[Issued]]=\"\",\"\",IF(Table111[[#This Row],[Lent]]=\"\",0,1))","v":""},{"$f":"IF(Table111[[#This Row],[Lent]]=\"\",\"\",IF(Table111[[#This Row],[Returned]]=\"\",0,1))","v":""}]
[{"$nulls":11},{"$f":"IF(IF(Table111[[#This Row],[Disposition]]=\"Retired\",\"N/A\",IF(Table111[[#This Row],[Disposition]]=0,\"\",K150+$F$2))=0+$F$2,\"NEVER CALIBRATED\",IF(Table111[[#This Row],[Disposition]]=\"Retired\",\"N/A\",IF(Table111[[#This Row],[Disposition]]=0,\"\",K150+$F$2)))","v":""},{"$f":"IF(Table111[[#This Row],[Disposition]]=\"\",\"\",IF(AND(Table111[[#This Row],[Next Calibration]]<$E$1,Table111[[#This Row],[Disposition]]=\"Lost\"),\"Find and Calibrate\",IF(Table111[[#This Row],[Disposition]]=\"Lost\",\"Find\",IF(OR(Table111[[#This Row],[Next Calibration]]<$E$1,Table111[[#This Row],[Next Calibration]]=\"NEVER CALIBRATED\"),\"Calibrate\",\"Nominal\"))))","v":""},{"$f":"IF(((Table111[[#This Row],[Next Calibration]]-TODAY())/30)>2,\"More Than 2\",IF(((Table111[[#This Row],[Next Calibration]]-TODAY())/30)>1,\"Between 2 and 1\",\"Less than 1\"))","v":{"$error":"#VALUE!"}},{"$f":"IF(Table111[[#This Row],[Issued]]=\"\",\"\",IF(Table111[[#This Row],[Lent]]=\"\",0,1))","v":""},{"$f":"IF(Table111[[#This Row],[Lent]]=\"\",\"\",IF(Table111[[#This Row],[Returned]]=\"\",0,1))","v":""}]
[{"$nulls":11},{"$f":"IF(IF(Table111[[#This Row],[Disposition]]=\"Retired\",\"N/A\",IF(Table111[[#This Row],[Disposition]]=0,\"\",K151+$F$2))=0+$F$2,\"NEVER CALIBRATED\",IF(Table111[[#This Row],[Disposition]]=\"Retired\",\"N/A\",IF(Table111[[#This Row],[Disposition]]=0,\"\",K151+$F$2)))","v":""},{"$f":"IF(Table111[[#This Row],[Disposition]]=\"\",\"\",IF(AND(Table111[[#This Row],[Next Calibration]]<$E$1,Table111[[#This Row],[Disposition]]=\"Lost\"),\"Find and Calibrate\",IF(Table111[[#This Row],[Disposition]]=\"Lost\",\"Find\",IF(OR(Table111[[#This Row],[Next Calibration]]<$E$1,Table111[[#This Row],[Next Calibration]]=\"NEVER CALIBRATED\"),\"Calibrate\",\"Nominal\"))))","v":""},{"$f":"IF(((Table111[[#This Row],[Next Calibration]]-TODAY())/30)>2,\"More Than 2\",IF(((Table111[[#This Row],[Next Calibration]]-TODAY())/30)>1,\"Between 2 and 1\",\"Less than 1\"))","v":{"$error":"#VALUE!"}},{"$f":"IF(Table111[[#This Row],[Issued]]=\"\",\"\",IF(Table111[[#This Row],[Lent]]=\"\",0,1))","v":""},{"$f":"IF(Table111[[#This Row],[Lent]]=\"\",\"\",IF(Table111[[#This Row],[Returned]]=\"\",0,1))","v":""}]
[{"$nulls":11},{"$f":"IF(IF(Table111[[#This Row],[Disposition]]=\"Retired\",\"N/A\",IF(Table111[[#This Row],[Disposition]]=0,\"\",K152+$F$2))=0+$F$2,\"NEVER CALIBRATED\",IF(Table111[[#This Row],[Disposition]]=\"Retired\",\"N/A\",IF(Table111[[#This Row],[Disposition]]=0,\"\",K152+$F$2)))","v":""},{"$f":"IF(Table111[[#This Row],[Disposition]]=\"\",\"\",IF(AND(Table111[[#This Row],[Next Calibration]]<$E$1,Table111[[#This Row],[Disposition]]=\"Lost\"),\"Find and Calibrate\",IF(Table111[[#This Row],[Disposition]]=\"Lost\",\"Find\",IF(OR(Table111[[#This Row],[Next Calibration]]<$E$1,Table111[[#This Row],[Next Calibration]]=\"NEVER CALIBRATED\"),\"Calibrate\",\"Nominal\"))))","v":""},{"$f":"IF(((Table111[[#This Row],[Next Calibration]]-TODAY())/30)>2,\"More Than 2\",IF(((Table111[[#This Row],[Next Calibration]]-TODAY())/30)>1,\"Between 2 and 1\",\"Less than 1\"))","v":{"$error":"#VALUE!"}},{"$f":"IF(Table111[[#This Row],[Issued]]=\"\",\"\",IF(Table111[[#This Row],[Lent]]=\"\",0,1))","v":""},{"$f":"IF(Table111[[#This Row],[Lent]]=\"\",\"\",IF(Table111[[#This Row],[Returned]]=\"\",0,1))","v":""}]
[{"$nulls":11},{"$f":"IF(IF(Table111[[#This Row],[Disposition]]=\"Retired\",\"N/A\",IF(Table111[[#This Row],[Disposition]]=0,\"\",K153+$F$2))=0+$F$2,\"NEVER CALIBRATED\",IF(Table111[[#This Row],[Disposition]]=\"Retired\",\"N/A\",IF(Table111[[#This Row],[Disposition]]=0,\"\",K153+$F$2)))","v":""},{"$f":"IF(Table111[[#This Row],[Disposition]]=\"\",\"\",IF(AND(Table111[[#This Row],[Next Calibration]]<$E$1,Table111[[#This Row],[Disposition]]=\"Lost\"),\"Find and Calibrate\",IF(Table111[[#This Row],[Disposition]]=\"Lost\",\"Find\",IF(OR(Table111[[#This Row],[Next Calibration]]<$E$1,Table111[[#This Row],[Next Calibration]]=\"NEVER CALIBRATED\"),\"Calibrate\",\"Nominal\"))))","v":""},{"$f":"IF(((Table111[[#This Row],[Next Calibration]]-TODAY())/30)>2,\"More Than 2\",IF(((Table111[[#This Row],[Next Calibration]]-TODAY())/30)>1,\"Between 2 and 1\",\"Less than 1\"))","v":{"$error":"#VALUE!"}},{"$f":"IF(Table111[[#This Row],[Issued]]=\"\",\"\",IF(Table111[[#This Row],[Lent]]=\"\",0,1))","v":""},{"$f":"IF(Table111[[#This Row],[Lent]]=\"\",\"\",IF(Table111[[#This Row],[Returned]]=\"\",0,1))","v":""}]
[{"$nulls":11},{"$f":"IF(IF(Table111[[#This Row],[Disposition]]=\"Retired\",\"N/A\",IF(Table111[[#This Row],[Disposition]]=0,\"\",K154+$F$2))=0+$F$2,\"NEVER CALIBRATED\",IF(Table111[[#This Row],[Disposition]]=\"Retired\",\"N/A\",IF(Table111[[#This Row],[Disposition]]=0,\"\",K154+$F$2)))","v":""},{"$f":"IF(Table111[[#This Row],[Disposition]]=\"\",\"\",IF(AND(Table111[[#This Row],[Next Calibration]]<$E$1,Table111[[#This Row],[Disposition]]=\"Lost\"),\"Find and Calibrate\",IF(Table111[[#This Row],[Disposition]]=\"Lost\",\"Find\",IF(OR(Table111[[#This Row],[Next Calibration]]<$E$1,Table111[[#This Row],[Next Calibration]]=\"NEVER CALIBRATED\"),\"Calibrate\",\"Nominal\"))))","v":""},{"$f":"IF(((Table111[[#This Row],[Next Calibration]]-TODAY())/30)>2,\"More Than 2\",IF(((Table111[[#This Row],[Next Calibration]]-TODAY())/30)>1,\"Between 2 and 1\",\"Less than 1\"))","v":{"$error":"#VALUE!"}},{"$f":"IF(Table111[[#This Row],[Issued]]=\"\",\"\",IF(Table111[[#This Row],[Lent]]=\"\",0,1))","v":""},{"$f":"IF(Table111[[#This Row],[Lent]]=\"\",\"\",IF(Table111[[#This Row],[Returned]]=\"\",0,1))","v":""}]
[{"$nulls":11},{"$f":"IF(IF(Table111[[#This Row],[Disposition]]=\"Retired\",\"N/A\",IF(Table111[[#This Row],[Disposition]]=0,\"\",K155+$F$2))=0+$F$2,\"NEVER CALIBRATED\",IF(Table111[[#This Row],[Disposition]]=\"Retired\",\"N/A\",IF(Table111[[#This Row],[Disposition]]=0,\"\",K155+$F$2)))","v":""},{"$f":"IF(Table111[[#This Row],[Disposition]]=\"\",\"\",IF(AND(Table111[[#This Row],[Next Calibration]]<$E$1,Table111[[#This Row],[Disposition]]=\"Lost\"),\"Find and Calibrate\",IF(Table111[[#This Row],[Disposition]]=\"Lost\",\"Find\",IF(OR(Table111[[#This Row],[Next Calibration]]<$E$1,Table111[[#This Row],[Next Calibration]]=\"NEVER CALIBRATED\"),\"Calibrate\",\"Nominal\"))))","v":""},{"$f":"IF(((Table111[[#This Row],[Next Calibration]]-TODAY())/30)>2,\"More Than 2\",IF(((Table111[[#This Row],[Next Calibration]]-TODAY())/30)>1,\"Between 2 and 1\",\"Less than 1\"))","v":{"$error":"#VALUE!"}},{"$f":"IF(Table111[[#This Row],[Issued]]=\"\",\"\",IF(Table111[[#This Row],[Lent]]=\"\",0,1))","v":""},{"$f":"IF(Table111[[#This Row],[Lent]]=\"\",\"\",IF(Table111[[#This Row],[Returned]]=\"\",0,1))","v":""}]
[{"$nulls":11},{"$f":"IF(IF(Table111[[#This Row],[Disposition]]=\"Retired\",\"N/A\",IF(Table111[[#This Row],[Disposition]]=0,\"\",K156+$F$2))=0+$F$2,\"NEVER CALIBRATED\",IF(Table111[[#This Row],[Disposition]]=\"Retired\",\"N/A\",IF(Table111[[#This Row],[Disposition]]=0,\"\",K156+$F$2)))","v":""},{"$f":"IF(Table111[[#This Row],[Disposition]]=\"\",\"\",IF(AND(Table111[[#This Row],[Next Calibration]]<$E$1,Table111[[#This Row],[Disposition]]=\"Lost\"),\"Find and Calibrate\",IF(Table111[[#This Row],[Disposition]]=\"Lost\",\"Find\",IF(OR(Table111[[#This Row],[Next Calibration]]<$E$1,Table111[[#This Row],[Next Calibration]]=\"NEVER CALIBRATED\"),\"Calibrate\",\"Nominal\"))))","v":""},{"$f":"IF(((Table111[[#This Row],[Next Calibration]]-TODAY())/30)>2,\"More Than 2\",IF(((Table111[[#This Row],[Next Calibration]]-TODAY())/30)>1,\"Between 2 and 1\",\"Less than 1\"))","v":{"$error":"#VALUE!"}},{"$f":"IF(Table111[[#This Row],[Issued]]=\"\",\"\",IF(Table111[[#This Row],[Lent]]=\"\",0,1))","v":""},{"$f":"IF(Table111[[#This Row],[Lent]]=\"\",\"\",IF(Table111[[#This Row],[Returned]]=\"\",0,1))","v":""}]
[{"$nulls":11},{"$f":"IF(IF(Table111[[#This Row],[Disposition]]=\"Retired\",\"N/A\",IF(Table111[[#This Row],[Disposition]]=0,\"\",K157+$F$2))=0+$F$2,\"NEVER CALIBRATED\",IF(Table111[[#This Row],[Disposition]]=\"Retired\",\"N/A\",IF(Table111[[#This Row],[Disposition]]=0,\"\",K157+$F$2)))","v":""},{"$f":"IF(Table111[[#This Row],[Disposition]]=\"\",\"\",IF(AND(Table111[[#This Row],[Next Calibration]]<$E$1,Table111[[#This Row],[Disposition]]=\"Lost\"),\"Find and Calibrate\",IF(Table111[[#This Row],[Disposition]]=\"Lost\",\"Find\",IF(OR(Table111[[#This Row],[Next Calibration]]<$E$1,Table111[[#This Row],[Next Calibration]]=\"NEVER CALIBRATED\"),\"Calibrate\",\"Nominal\"))))","v":""},{"$f":"IF(((Table111[[#This Row],[Next Calibration]]-TODAY())/30)>2,\"More Than 2\",IF(((Table111[[#This Row],[Next Calibration]]-TODAY())/30)>1,\"Between 2 and 1\",\"Less than 1\"))","v":{"$error":"#VALUE!"}},{"$f":"IF(Table111[[#This Row],[Issued]]=\"\",\"\",IF(Table111[[#This Row],[Lent]]=\"\",0,1))","v":""},{"$f":"IF(Table111[[#This Row],[Lent]]=\"\",\"\",IF(Table111[[#This Row],[Returned]]=\"\",0,1))","v":""}]
[{"$nulls":11},{"$f":"IF(IF(Table111[[#This Row],[Disposition]]=\"Retired\",\"N/A\",IF(Table111[[#This Row],[Disposition]]=0,\"\",K158+$F$2))=0+$F$2,\"NEVER CALIBRATED\",IF(Table111[[#This Row],[Disposition]]=\"Retired\",\"N/A\",IF(Table111[[#This Row],[Disposition]]=0,\"\",K158+$F$2)))","v":""},{"$f":"IF(Table111[[#This Row],[Disposition]]=\"\",\"\",IF(AND(Table111[[#This Row],[Next Calibration]]<$E$1,Table111[[#This Row],[Disposition]]=\"Lost\"),\"Find and Calibrate\",IF(Table111[[#This Row],[Disposition]]=\"Lost\",\"Find\",IF(OR(Table111[[#This Row],[Next Calibration]]<$E$1,Table111[[#This Row],[Next Calibration]]=\"NEVER CALIBRATED\"),\"Calibrate\",\"Nominal\"))))","v":""},{"$f":"IF(((Table111[[#This Row],[Next Calibration]]-TODAY())/30)>2,\"More Than 2\",IF(((Table111[[#This Row],[Next Calibration]]-TODAY())/30)>1,\"Between 2 and 1\",\"Less than 1\"))","v":{"$error":"#VALUE!"}},{"$f":"IF(Table111[[#This Row],[Issued]]=\"\",\"\",IF(Table111[[#This Row],[Lent]]=\"\",0,1))","v":""},{"$f":"IF(Table111[[#This Row],[Lent]]=\"\",\"\",IF(Table111[[#This Row],[Returned]]=\"\",0,1))","v":""}]
[{"$nulls":11},{"$f":"IF(IF(Table111[[#This Row],[Disposition]]=\"Retired\",\"N/A\",IF(Table111[[#This Row],[Disposition]]=0,\"\",K159+$F$2))=0+$F$2,\"NEVER CALIBRATED\",IF(Table111[[#This Row],[Disposition]]=\"Retired\",\"N/A\",IF(Table111[[#This Row],[Disposition]]=0,\"\",K159+$F$2)))","v":""},{"$f":"IF(Table111[[#This Row],[Disposition]]=\"\",\"\",IF(AND(Table111[[#This Row],[Next Calibration]]<$E$1,Table111[[#This Row],[Disposition]]=\"Lost\"),\"Find and Calibrate\",IF(Table111[[#This Row],[Disposition]]=\"Lost\",\"Find\",IF(OR(Table111[[#This Row],[Next Calibration]]<$E$1,Table111[[#This Row],[Next Calibration]]=\"NEVER CALIBRATED\"),\"Calibrate\",\"Nominal\"))))","v":""},{"$f":"IF(((Table111[[#This Row],[Next Calibration]]-TODAY())/30)>2,\"More Than 2\",IF(((Table111[[#This Row],[Next Calibration]]-TODAY())/30)>1,\"Between 2 and 1\",\"Less than 1\"))","v":{"$error":"#VALUE!"}},{"$f":"IF(Table111[[#This Row],[Issued]]=\"\",\"\",IF(Table111[[#This Row],[Lent]]=\"\",0,1))","v":""},{"$f":"IF(Table111[[#This Row],[Lent]]=\"\",\"\",IF(Table111[[#This Row],[Returned]]=\"\",0,1))","v":""}]
[{"$nulls":11},{"$f":"IF(IF(Table111[[#This Row],[Disposition]]=\"Retired\",\"N/A\",IF(Table111[[#This Row],[Disposition]]=0,\"\",K160+$F$2))=0+$F$2,\"NEVER CALIBRATED\",IF(Table111[[#This Row],[Disposition]]=\"Retired\",\"N/A\",IF(Table111[[#This Row],[Disposition]]=0,\"\",K160+$F$2)))","v":""},{"$f":"IF(Table111[[#This Row],[Disposition]]=\"\",\"\",IF(AND(Table111[[#This Row],[Next Calibration]]<$E$1,Table111[[#This Row],[Disposition]]=\"Lost\"),\"Find and Calibrate\",IF(Table111[[#This Row],[Disposition]]=\"Lost\",\"Find\",IF(OR(Table111[[#This Row],[Next Calibration]]<$E$1,Table111[[#This Row],[Next Calibration]]=\"NEVER CALIBRATED\"),\"Calibrate\",\"Nominal\"))))","v":""},{"$f":"IF(((Table111[[#This Row],[Next Calibration]]-TODAY())/30)>2,\"More Than 2\",IF(((Table111[[#This Row],[Next Calibration]]-TODAY())/30)>1,\"Between 2 and 1\",\"Less than 1\"))","v":{"$error":"#VALUE!"}},{"$f":"IF(Table111[[#This Row],[Issued]]=\"\",\"\",IF(Table111[[#This Row],[Lent]]=\"\",0,1))","v":""},{"$f":"IF(Table111[[#This Row],[Lent]]=\"\",\"\",IF(Table111[[#This Row],[Returned]]=\"\",0,1))","v":""}]
[{"$nulls":11},{"$f":"IF(IF(Table111[[#This Row],[Disposition]]=\"Retired\",\"N/A\",IF(Table111[[#This Row],[Disposition]]=0,\"\",K161+$F$2))=0+$F$2,\"NEVER CALIBRATED\",IF(Table111[[#This Row],[Disposition]]=\"Retired\",\"N/A\",IF(Table111[[#This Row],[Disposition]]=0,\"\",K161+$F$2)))","v":""},{"$f":"IF(Table111[[#This Row],[Disposition]]=\"\",\"\",IF(AND(Table111[[#This Row],[Next Calibration]]<$E$1,Table111[[#This Row],[Disposition]]=\"Lost\"),\"Find and Calibrate\",IF(Table111[[#This Row],[Disposition]]=\"Lost\",\"Find\",IF(OR(Table111[[#This Row],[Next Calibration]]<$E$1,Table111[[#This Row],[Next Calibration]]=\"NEVER CALIBRATED\"),\"Calibrate\",\"Nominal\"))))","v":""},{"$f":"IF(((Table111[[#This Row],[Next Calibration]]-TODAY())/30)>2,\"More Than 2\",IF(((Table111[[#This Row],[Next Calibration]]-TODAY())/30)>1,\"Between 2 and 1\",\"Less than 1\"))","v":{"$error":"#VALUE!"}},{"$f":"IF(Table111[[#This Row],[Issued]]=\"\",\"\",IF(Table111[[#This Row],[Lent]]=\"\",0,1))","v":""},{"$f":"IF(Table111[[#This Row],[Lent]]=\"\",\"\",IF(Table111[[#This Row],[Returned]]=\"\",0,1))","v":""}]
[{"$nulls":11},{"$f":"IF(IF(Table111[[#This Row],[Disposition]]=\"Retired\",\"N/A\",IF(Table111[[#This Row],[Disposition]]=0,\"\",K162+$F$2))=0+$F$2,\"NEVER CALIBRATED\",IF(Table111[[#This Row],[Disposition]]=\"Retired\",\"N/A\",IF(Table111[[#This Row],[Disposition]]=0,\"\",K162+$F$2)))","v":""},{"$f":"IF(Table111[[#This Row],[Disposition]]=\"\",\"\",IF(AND(Table111[[#This Row],[Next Calibration]]<$E$1,Table111[[#This Row],[Disposition]]=\"Lost\"),\"Find and Calibrate\",IF(Table111[[#This Row],[Disposition]]=\"Lost\",\"Find\",IF(OR(Table111[[#This Row],[Next Calibration]]<$E$1,Table111[[#This Row],[Next Calibration]]=\"NEVER CALIBRATED\"),\"Calibrate\",\"Nominal\"))))","v":""},{"$f":"IF(((Table111[[#This Row],[Next Calibration]]-TODAY())/30)>2,\"More Than 2\",IF(((Table111[[#This Row],[Next Calibration]]-TODAY())/30)>1,\"Between 2 and 1\",\"Less than 1\"))","v":{"$error":"#VALUE!"}},{"$f":"IF(Table111[[#This Row],[Issued]]=\"\",\"\",IF(Table111[[#This Row],[Lent]]=\"\",0,1))","v":""},{"$f":"IF(Table111[[#This Row],[Lent]]=\"\",\"\",IF(Table111[[#This Row],[Returned]]=\"\",0,1))","v":""}]
[{"$nulls":11},{"$f":"IF(IF(Table111[[#This Row],[Disposition]]=\"Retired\",\"N/A\",IF(Table111[[#This Row],[Disposition]]=0,\"\",K163+$F$2))=0+$F$2,\"NEVER CALIBRATED\",IF(Table111[[#This Row],[Disposition]]=\"Retired\",\"N/A\",IF(Table111[[#This Row],[Disposition]]=0,\"\",K163+$F$2)))","v":""},{"$f":"IF(Table111[[#This Row],[Disposition]]=\"\",\"\",IF(AND(Table111[[#This Row],[Next Calibration]]<$E$1,Table111[[#This Row],[Disposition]]=\"Lost\"),\"Find and Calibrate\",IF(Table111[[#This Row],[Disposition]]=\"Lost\",\"Find\",IF(OR(Table111[[#This Row],[Next Calibration]]<$E$1,Table111[[#This Row],[Next Calibration]]=\"NEVER CALIBRATED\"),\"Calibrate\",\"Nominal\"))))","v":""},{"$f":"IF(((Table111[[#This Row],[Next Calibration]]-TODAY())/30)>2,\"More Than 2\",IF(((Table111[[#This Row],[Next Calibration]]-TODAY())/30)>1,\"Between 2 and 1\",\"Less than 1\"))","v":{"$error":"#VALUE!"}},{"$f":"IF(Table111[[#This Row],[Issued]]=\"\",\"\",IF(Table111[[#This Row],[Lent]]=\"\",0,1))","v":""},{"$f":"IF(Table111[[#This Row],[Lent]]=\"\",\"\",IF(Table111[[#This Row],[Returned]]=\"\",0,1))","v":""}]
[{"$nulls":11},{"$f":"IF(IF(Table111[[#This Row],[Disposition]]=\"Retired\",\"N/A\",IF(Table111[[#This Row],[Disposition]]=0,\"\",K164+$F$2))=0+$F$2,\"NEVER CALIBRATED\",IF(Table111[[#This Row],[Disposition]]=\"Retired\",\"N/A\",IF(Table111[[#This Row],[Disposition]]=0,\"\",K164+$F$2)))","v":""},{"$f":"IF(Table111[[#This Row],[Disposition]]=\"\",\"\",IF(AND(Table111[[#This Row],[Next Calibration]]<$E$1,Table111[[#This Row],[Disposition]]=\"Lost\"),\"Find and Calibrate\",IF(Table111[[#This Row],[Disposition]]=\"Lost\",\"Find\",IF(OR(Table111[[#This Row],[Next Calibration]]<$E$1,Table111[[#This Row],[Next Calibration]]=\"NEVER CALIBRATED\"),\"Calibrate\",\"Nominal\"))))","v":""},{"$f":"IF(((Table111[[#This Row],[Next Calibration]]-TODAY())/30)>2,\"More Than 2\",IF(((Table111[[#This Row],[Next Calibration]]-TODAY())/30)>1,\"Between 2 and 1\",\"Less than 1\"))","v":{"$error":"#VALUE!"}},{"$f":"IF(Table111[[#This Row],[Issued]]=\"\",\"\",IF(Table111[[#This Row],[Lent]]=\"\",0,1))","v":""},{"$f":"IF(Table111[[#This Row],[Lent]]=\"\",\"\",IF(Table111[[#This Row],[Returned]]=\"\",0,1))","v":""}]
[{"$nulls":11},{"$f":"IF(IF(Table111[[#This Row],[Disposition]]=\"Retired\",\"N/A\",IF(Table111[[#This Row],[Disposition]]=0,\"\",K165+$F$2))=0+$F$2,\"NEVER CALIBRATED\",IF(Table111[[#This Row],[Disposition]]=\"Retired\",\"N/A\",IF(Table111[[#This Row],[Disposition]]=0,\"\",K165+$F$2)))","v":""},{"$f":"IF(Table111[[#This Row],[Disposition]]=\"\",\"\",IF(AND(Table111[[#This Row],[Next Calibration]]<$E$1,Table111[[#This Row],[Disposition]]=\"Lost\"),\"Find and Calibrate\",IF(Table111[[#This Row],[Disposition]]=\"Lost\",\"Find\",IF(OR(Table111[[#This Row],[Next Calibration]]<$E$1,Table111[[#This Row],[Next Calibration]]=\"NEVER CALIBRATED\"),\"Calibrate\",\"Nominal\"))))","v":""},{"$f":"IF(((Table111[[#This Row],[Next Calibration]]-TODAY())/30)>2,\"More Than 2\",IF(((Table111[[#This Row],[Next Calibration]]-TODAY())/30)>1,\"Between 2 and 1\",\"Less than 1\"))","v":{"$error":"#VALUE!"}},{"$f":"IF(Table111[[#This Row],[Issued]]=\"\",\"\",IF(Table111[[#This Row],[Lent]]=\"\",0,1))","v":""},{"$f":"IF(Table111[[#This Row],[Lent]]=\"\",\"\",IF(Table111[[#This Row],[Returned]]=\"\",0,1))","v":""}]
[{"$nulls":11},{"$f":"IF(IF(Table111[[#This Row],[Disposition]]=\"Retired\",\"N/A\",IF(Table111[[#This Row],[Disposition]]=0,\"\",K166+$F$2))=0+$F$2,\"NEVER CALIBRATED\",IF(Table111[[#This Row],[Disposition]]=\"Retired\",\"N/A\",IF(Table111[[#This Row],[Disposition]]=0,\"\",K166+$F$2)))","v":""},{"$f":"IF(Table111[[#This Row],[Disposition]]=\"\",\"\",IF(AND(Table111[[#This Row],[Next Calibration]]<$E$1,Table111[[#This Row],[Disposition]]=\"Lost\"),\"Find and Calibrate\",IF(Table111[[#This Row],[Disposition]]=\"Lost\",\"Find\",IF(OR(Table111[[#This Row],[Next Calibration]]<$E$1,Table111[[#This Row],[Next Calibration]]=\"NEVER CALIBRATED\"),\"Calibrate\",\"Nominal\"))))","v":""},{"$f":"IF(((Table111[[#This Row],[Next Calibration]]-TODAY())/30)>2,\"More Than 2\",IF(((Table111[[#This Row],[Next Calibration]]-TODAY())/30)>1,\"Between 2 and 1\",\"Less than 1\"))","v":{"$error":"#VALUE!"}},{"$f":"IF(Table111[[#This Row],[Issued]]=\"\",\"\",IF(Table111[[#This Row],[Lent]]=\"\",0,1))","v":""},{"$f":"IF(Table111[[#This Row],[Lent]]=\"\",\"\",IF(Table111[[#This Row],[Returned]]=\"\",0,1))","v":""}]
[{"$nulls":11},{"$f":"IF(IF(Table111[[#This Row],[Disposition]]=\"Retired\",\"N/A\",IF(Table111[[#This Row],[Disposition]]=0,\"\",K167+$F$2))=0+$F$2,\"NEVER CALIBRATED\",IF(Table111[[#This Row],[Disposition]]=\"Retired\",\"N/A\",IF(Table111[[#This Row],[Disposition]]=0,\"\",K167+$F$2)))","v":""},{"$f":"IF(Table111[[#This Row],[Disposition]]=\"\",\"\",IF(AND(Table111[[#This Row],[Next Calibration]]<$E$1,Table111[[#This Row],[Disposition]]=\"Lost\"),\"Find and Calibrate\",IF(Table111[[#This Row],[Disposition]]=\"Lost\",\"Find\",IF(OR(Table111[[#This Row],[Next Calibration]]<$E$1,Table111[[#This Row],[Next Calibration]]=\"NEVER CALIBRATED\"),\"Calibrate\",\"Nominal\"))))","v":""},{"$f":"IF(((Table111[[#This Row],[Next Calibration]]-TODAY())/30)>2,\"More Than 2\",IF(((Table111[[#This Row],[Next Calibration]]-TODAY())/30)>1,\"Between 2 and 1\",\"Less than 1\"))","v":{"$error":"#VALUE!"}},{"$f":"IF(Table111[[#This Row],[Issued]]=\"\",\"\",IF(Table111[[#This Row],[Lent]]=\"\",0,1))","v":""},{"$f":"IF(Table111[[#This Row],[Lent]]=\"\",\"\",IF(Table111[[#This Row],[Returned]]=\"\",0,1))","v":""}]
[{"$nulls":11},{"$f":"IF(IF(Table111[[#This Row],[Disposition]]=\"Retired\",\"N/A\",IF(Table111[[#This Row],[Disposition]]=0,\"\",K168+$F$2))=0+$F$2,\"NEVER CALIBRATED\",IF(Table111[[#This Row],[Disposition]]=\"Retired\",\"N/A\",IF(Table111[[#This Row],[Disposition]]=0,\"\",K168+$F$2)))","v":""},{"$f":"IF(Table111[[#This Row],[Disposition]]=\"\",\"\",IF(AND(Table111[[#This Row],[Next Calibration]]<$E$1,Table111[[#This Row],[Disposition]]=\"Lost\"),\"Find and Calibrate\",IF(Table111[[#This Row],[Disposition]]=\"Lost\",\"Find\",IF(OR(Table111[[#This Row],[Next Calibration]]<$E$1,Table111[[#This Row],[Next Calibration]]=\"NEVER CALIBRATED\"),\"Calibrate\",\"Nominal\"))))","v":""},{"$f":"IF(((Table111[[#This Row],[Next Calibration]]-TODAY())/30)>2,\"More Than 2\",IF(((Table111[[#This Row],[Next Calibration]]-TODAY())/30)>1,\"Between 2 and 1\",\"Less than 1\"))","v":{"$error":"#VALUE!"}},{"$f":"IF(Table111[[#This Row],[Issued]]=\"\",\"\",IF(Table111[[#This Row],[Lent]]=\"\",0,1))","v":""},{"$f":"IF(Table111[[#This Row],[Lent]]=\"\",\"\",IF(Table111[[#This Row],[Returned]]=\"\",0,1))","v":""}]
[{"$nulls":11},{"$f":"IF(IF(Table111[[#This Row],[Disposition]]=\"Retired\",\"N/A\",IF(Table111[[#This Row],[Disposition]]=0,\"\",K169+$F$2))=0+$F$2,\"NEVER CALIBRATED\",IF(Table111[[#This Row],[Disposition]]=\"Retired\",\"N/A\",IF(Table111[[#This Row],[Disposition]]=0,\"\",K169+$F$2)))","v":""},{"$f":"IF(Table111[[#This Row],[Disposition]]=\"\",\"\",IF(AND(Table111[[#This Row],[Next Calibration]]<$E$1,Table111[[#This Row],[Disposition]]=\"Lost\"),\"Find and Calibrate\",IF(Table111[[#This Row],[Disposition]]=\"Lost\",\"Find\",IF(OR(Table111[[#This Row],[Next Calibration]]<$E$1,Table111[[#This Row],[Next Calibration]]=\"NEVER CALIBRATED\"),\"Calibrate\",\"Nominal\"))))","v":""},{"$f":"IF(((Table111[[#This Row],[Next Calibration]]-TODAY())/30)>2,\"More Than 2\",IF(((Table111[[#This Row],[Next Calibration]]-TODAY())/30)>1,\"Between 2 and 1\",\"Less than 1\"))","v":{"$error":"#VALUE!"}},{"$f":"IF(Table111[[#This Row],[Issued]]=\"\",\"\",IF(Table111[[#This Row],[Lent]]=\"\",0,1))","v":""},{"$f":"IF(Table111[[#This Row],[Lent]]=\"\",\"\",IF(Table111[[#This Row],[Returned]]=\"\",0,1))","v":""}]
[{"$nulls":11},{"$f":"IF(IF(Table111[[#This Row],[Disposition]]=\"Retired\",\"N/A\",IF(Table111[[#This Row],[Disposition]]=0,\"\",K170+$F$2))=0+$F$2,\"NEVER CALIBRATED\",IF(Table111[[#This Row],[Disposition]]=\"Retired\",\"N/A\",IF(Table111[[#This Row],[Disposition]]=0,\"\",K170+$F$2)))","v":""},{"$f":"IF(Table111[[#This Row],[Disposition]]=\"\",\"\",IF(AND(Table111[[#This Row],[Next Calibration]]<$E$1,Table111[[#This Row],[Disposition]]=\"Lost\"),\"Find and Calibrate\",IF(Table111[[#This Row],[Disposition]]=\"Lost\",\"Find\",IF(OR(Table111[[#This Row],[Next Calibration]]<$E$1,Table111[[#This Row],[Next Calibration]]=\"NEVER CALIBRATED\"),\"Calibrate\",\"Nominal\"))))","v":""},{"$f":"IF(((Table111[[#This Row],[Next Calibration]]-TODAY())/30)>2,\"More Than 2\",IF(((Table111[[#This Row],[Next Calibration]]-TODAY())/30)>1,\"Between 2 and 1\",\"Less than 1\"))","v":{"$error":"#VALUE!"}},{"$f":"IF(Table111[[#This Row],[Issued]]=\"\",\"\",IF(Table111[[#This Row],[Lent]]=\"\",0,1))","v":""},{"$f":"IF(Table111[[#This Row],[Lent]]=\"\",\"\",IF(Table111[[#This Row],[Returned]]=\"\",0,1))","v":""}]
[{"$nulls":11},{"$f":"IF(IF(Table111[[#This Row],[Disposition]]=\"Retired\",\"N/A\",IF(Table111[[#This Row],[Disposition]]=0,\"\",K171+$F$2))=0+$F$2,\"NEVER CALIBRATED\",IF(Table111[[#This Row],[Disposition]]=\"Retired\",\"N/A\",IF(Table111[[#This Row],[Disposition]]=0,\"\",K171+$F$2)))","v":""},{"$f":"IF(Table111[[#This Row],[Disposition]]=\"\",\"\",IF(AND(Table111[[#This Row],[Next Calibration]]<$E$1,Table111[[#This Row],[Disposition]]=\"Lost\"),\"Find and Calibrate\",IF(Table111[[#This Row],[Disposition]]=\"Lost\",\"Find\",IF(OR(Table111[[#This Row],[Next Calibration]]<$E$1,Table111[[#This Row],[Next Calibration]]=\"NEVER CALIBRATED\"),\"Calibrate\",\"Nominal\"))))","v":""},{"$f":"IF(((Table111[[#This Row],[Next Calibration]]-TODAY())/30)>2,\"More Than 2\",IF(((Table111[[#This Row],[Next Calibration]]-TODAY())/30)>1,\"Between 2 and 1\",\"Less than 1\"))","v":{"$error":"#VALUE!"}},{"$f":"IF(Table111[[#This Row],[Issued]]=\"\",\"\",IF(Table111[[#This Row],[Lent]]=\"\",0,1))","v":""},{"$f":"IF(Table111[[#This Row],[Lent]]=\"\",\"\",IF(Table111[[#This Row],[Returned]]=\"\",0,1))","v":""}]
[{"$nulls":11},{"$f":"IF(IF(Table111[[#This Row],[Disposition]]=\"Retired\",\"N/A\",IF(Table111[[#This Row],[Disposition]]=0,\"\",K172+$F$2))=0+$F$2,\"NEVER CALIBRATED\",IF(Table111[[#This Row],[Disposition]]=\"Retired\",\"N/A\",IF(Table111[[#This Row],[Disposition]]=0,\"\",K172+$F$2)))","v":""},{"$f":"IF(Table111[[#This Row],[Disposition]]=\"\",\"\",IF(AND(Table111[[#This Row],[Next Calibration]]<$E$1,Table111[[#This Row],[Disposition]]=\"Lost\"),\"Find and Calibrate\",IF(Table111[[#This Row],[Disposition]]=\"Lost\",\"Find\",IF(OR(Table111[[#This Row],[Next Calibration]]<$E$1,Table111[[#This Row],[Next Calibration]]=\"NEVER CALIBRATED\"),\"Calibrate\",\"Nominal\"))))","v":""},{"$f":"IF(((Table111[[#This Row],[Next Calibration]]-TODAY())/30)>2,\"More Than 2\",IF(((Table111[[#This Row],[Next Calibration]]-TODAY())/30)>1,\"Between 2 and 1\",\"Less than 1\"))","v":{"$error":"#VALUE!"}},{"$f":"IF(Table111[[#This Row],[Issued]]=\"\",\"\",IF(Table111[[#This Row],[Lent]]=\"\",0,1))","v":""},{"$f":"IF(Table111[[#This Row],[Lent]]=\"\",\"\",IF(Table111[[#This Row],[Returned]]=\"\",0,1))","v":""}]
[{"$nulls":11},{"$f":"IF(IF(Table111[[#This Row],[Disposition]]=\"Retired\",\"N/A\",IF(Table111[[#This Row],[Disposition]]=0,\"\",K173+$F$2))=0+$F$2,\"NEVER CALIBRATED\",IF(Table111[[#This Row],[Disposition]]=\"Retired\",\"N/A\",IF(Table111[[#This Row],[Disposition]]=0,\"\",K173+$F$2)))","v":""},{"$f":"IF(Table111[[#This Row],[Disposition]]=\"\",\"\",IF(AND(Table111[[#This Row],[Next Calibration]]<$E$1,Table111[[#This Row],[Disposition]]=\"Lost\"),\"Find and Calibrate\",IF(Table111[[#This Row],[Disposition]]=\"Lost\",\"Find\",IF(OR(Table111[[#This Row],[Next Calibration]]<$E$1,Table111[[#This Row],[Next Calibration]]=\"NEVER CALIBRATED\"),\"Calibrate\",\"Nominal\"))))","v":""},{"$f":"IF(((Table111[[#This Row],[Next Calibration]]-TODAY())/30)>2,\"More Than 2\",IF(((Table111[[#This Row],[Next Calibration]]-TODAY())/30)>1,\"Between 2 and 1\",\"Less than 1\"))","v":{"$error":"#VALUE!"}},{"$f":"IF(Table111[[#This Row],[Issued]]=\"\",\"\",IF(Table111[[#This Row],[Lent]]=\"\",0,1))","v":""},{"$f":"IF(Table111[[#This Row],[Lent]]=\"\",\"\",IF(Table111[[#This Row],[Returned]]=\"\",0,1))","v":""}]
[{"$nulls":11},{"$f":"IF(IF(Table111[[#This Row],[Disposition]]=\"Retired\",\"N/A\",IF(Table111[[#This Row],[Disposition]]=0,\"\",K174+$F$2))=0+$F$2,\"NEVER CALIBRATED\",IF(Table111[[#This Row],[Disposition]]=\"Retired\",\"N/A\",IF(Table111[[#This Row],[Disposition]]=0,\"\",K174+$F$2)))","v":""},{"$f":"IF(Table111[[#This Row],[Disposition]]=\"\",\"\",IF(AND(Table111[[#This Row],[Next Calibration]]<$E$1,Table111[[#This Row],[Disposition]]=\"Lost\"),\"Find and Calibrate\",IF(Table111[[#This Row],[Disposition]]=\"Lost\",\"Find\",IF(OR(Table111[[#This Row],[Next Calibration]]<$E$1,Table111[[#This Row],[Next Calibration]]=\"NEVER CALIBRATED\"),\"Calibrate\",\"Nominal\"))))","v":""},{"$f":"IF(((Table111[[#This Row],[Next Calibration]]-TODAY())/30)>2,\"More Than 2\",IF(((Table111[[#This Row],[Next Calibration]]-TODAY())/30)>1,\"Between 2 and 1\",\"Less than 1\"))","v":{"$error":"#VALUE!"}},{"$f":"IF(Table111[[#This Row],[Issued]]=\"\",\"\",IF(Table111[[#This Row],[Lent]]=\"\",0,1))","v":""},{"$f":"IF(Table111[[#This Row],[Lent]]=\"\",\"\",IF(Table111[[#This Row],[Returned]]=\"\",0,1))","v":""}]
[{"$nulls":11},{"$f":"IF(IF(Table111[[#This Row],[Disposition]]=\"Retired\",\"N/A\",IF(Table111[[#This Row],[Disposition]]=0,\"\",K175+$F$2))=0+$F$2,\"NEVER CALIBRATED\",IF(Table111[[#This Row],[Disposition]]=\"Retired\",\"N/A\",IF(Table111[[#This Row],[Disposition]]=0,\"\",K175+$F$2)))","v":""},{"$f":"IF(Table111[[#This Row],[Disposition]]=\"\",\"\",IF(AND(Table111[[#This Row],[Next Calibration]]<$E$1,Table111[[#This Row],[Disposition]]=\"Lost\"),\"Find and Calibrate\",IF(Table111[[#This Row],[Disposition]]=\"Lost\",\"Find\",IF(OR(Table111[[#This Row],[Next Calibration]]<$E$1,Table111[[#This Row],[Next Calibration]]=\"NEVER CALIBRATED\"),\"Calibrate\",\"Nominal\"))))","v":""},{"$f":"IF(((Table111[[#This Row],[Next Calibration]]-TODAY())/30)>2,\"More Than 2\",IF(((Table111[[#This Row],[Next Calibration]]-TODAY())/30)>1,\"Between 2 and 1\",\"Less than 1\"))","v":{"$error":"#VALUE!"}},{"$f":"IF(Table111[[#This Row],[Issued]]=\"\",\"\",IF(Table111[[#This Row],[Lent]]=\"\",0,1))","v":""},{"$f":"IF(Table111[[#This Row],[Lent]]=\"\",\"\",IF(Table111[[#This Row],[Returned]]=\"\",0,1))","v":""}]
[{"$nulls":11},{"$f":"IF(IF(Table111[[#This Row],[Disposition]]=\"Retired\",\"N/A\",IF(Table111[[#This Row],[Disposition]]=0,\"\",K176+$F$2))=0+$F$2,\"NEVER CALIBRATED\",IF(Table111[[#This Row],[Disposition]]=\"Retired\",\"N/A\",IF(Table111[[#This Row],[Disposition]]=0,\"\",K176+$F$2)))","v":""},{"$f":"IF(Table111[[#This Row],[Disposition]]=\"\",\"\",IF(AND(Table111[[#This Row],[Next Calibration]]<$E$1,Table111[[#This Row],[Disposition]]=\"Lost\"),\"Find and Calibrate\",IF(Table111[[#This Row],[Disposition]]=\"Lost\",\"Find\",IF(OR(Table111[[#This Row],[Next Calibration]]<$E$1,Table111[[#This Row],[Next Calibration]]=\"NEVER CALIBRATED\"),\"Calibrate\",\"Nominal\"))))","v":""},{"$f":"IF(((Table111[[#This Row],[Next Calibration]]-TODAY())/30)>2,\"More Than 2\",IF(((Table111[[#This Row],[Next Calibration]]-TODAY())/30)>1,\"Between 2 and 1\",\"Less than 1\"))","v":{"$error":"#VALUE!"}},{"$f":"IF(Table111[[#This Row],[Issued]]=\"\",\"\",IF(Table111[[#This Row],[Lent]]=\"\",0,1))","v":""},{"$f":"IF(Table111[[#This Row],[Lent]]=\"\",\"\",IF(Table111[[#This Row],[Returned]]=\"\",0,1))","v":""}]
[{"$nulls":11},{"$f":"IF(IF(Table111[[#This Row],[Disposition]]=\"Retired\",\"N/A\",IF(Table111[[#This Row],[Disposition]]=0,\"\",K177+$F$2))=0+$F$2,\"NEVER CALIBRATED\",IF(Table111[[#This Row],[Disposition]]=\"Retired\",\"N/A\",IF(Table111[[#This Row],[Disposition]]=0,\"\",K177+$F$2)))","v":""},{"$f":"IF(Table111[[#This Row],[Disposition]]=\"\",\"\",IF(AND(Table111[[#This Row],[Next Calibration]]<$E$1,Table111[[#This Row],[Disposition]]=\"Lost\"),\"Find and Calibrate\",IF(Table111[[#This Row],[Disposition]]=\"Lost\",\"Find\",IF(OR(Table111[[#This Row],[Next Calibration]]<$E$1,Table111[[#This Row],[Next Calibration]]=\"NEVER CALIBRATED\"),\"Calibrate\",\"Nominal\"))))","v":""},{"$f":"IF(((Table111[[#This Row],[Next Calibration]]-TODAY())/30)>2,\"More Than 2\",IF(((Table111[[#This Row],[Next Calibration]]-TODAY())/30)>1,\"Between 2 and 1\",\"Less than 1\"))","v":{"$error":"#VALUE!"}},{"$f":"IF(Table111[[#This Row],[Issued]]=\"\",\"\",IF(Table111[[#This Row],[Lent]]=\"\",0,1))","v":""},{"$f":"IF(Table111[[#This Row],[Lent]]=\"\",\"\",IF(Table111[[#This Row],[Returned]]=\"\",0,1))","v":""}]
[{"$nulls":11},{"$f":"IF(IF(Table111[[#This Row],[Disposition]]=\"Retired\",\"N/A\",IF(Table111[[#This Row],[Disposition]]=0,\"\",K178+$F$2))=0+$F$2,\"NEVER CALIBRATED\",IF(Table111[[#This Row],[Disposition]]=\"Retired\",\"N/A\",IF(Table111[[#This Row],[Disposition]]=0,\"\",K178+$F$2)))","v":""},{"$f":"IF(Table111[[#This Row],[Disposition]]=\"\",\"\",IF(AND(Table111[[#This Row],[Next Calibration]]<$E$1,Table111[[#This Row],[Disposition]]=\"Lost\"),\"Find and Calibrate\",IF(Table111[[#This Row],[Disposition]]=\"Lost\",\"Find\",IF(OR(Table111[[#This Row],[Next Calibration]]<$E$1,Table111[[#This Row],[Next Calibration]]=\"NEVER CALIBRATED\"),\"Calibrate\",\"Nominal\"))))","v":""},{"$f":"IF(((Table111[[#This Row],[Next Calibration]]-TODAY())/30)>2,\"More Than 2\",IF(((Table111[[#This Row],[Next Calibration]]-TODAY())/30)>1,\"Between 2 and 1\",\"Less than 1\"))","v":{"$error":"#VALUE!"}},{"$f":"IF(Table111[[#This Row],[Issued]]=\"\",\"\",IF(Table111[[#This Row],[Lent]]=\"\",0,1))","v":""},{"$f":"IF(Table111[[#This Row],[Lent]]=\"\",\"\",IF(Table111[[#This Row],[Returned]]=\"\",0,1))","v":""}]
[{"$nulls":11},{"$f":"IF(IF(Table111[[#This Row],[Disposition]]=\"Retired\",\"N/A\",IF(Table111[[#This Row],[Disposition]]=0,\"\",K179+$F$2))=0+$F$2,\"NEVER CALIBRATED\",IF(Table111[[#This Row],[Disposition]]=\"Retired\",\"N/A\",IF(Table111[[#This Row],[Disposition]]=0,\"\",K179+$F$2)))","v":""},{"$f":"IF(Table111[[#This Row],[Disposition]]=\"\",\"\",IF(AND(Table111[[#This Row],[Next Calibration]]<$E$1,Table111[[#This Row],[Disposition]]=\"Lost\"),\"Find and Calibrate\",IF(Table111[[#This Row],[Disposition]]=\"Lost\",\"Find\",IF(OR(Table111[[#This Row],[Next Calibration]]<$E$1,Table111[[#This Row],[Next Calibration]]=\"NEVER CALIBRATED\"),\"Calibrate\",\"Nominal\"))))","v":""},{"$f":"IF(((Table111[[#This Row],[Next Calibration]]-TODAY())/30)>2,\"More Than 2\",IF(((Table111[[#This Row],[Next Calibration]]-TODAY())/30)>1,\"Between 2 and 1\",\"Less than 1\"))","v":{"$error":"#VALUE!"}},{"$f":"IF(Table111[[#This Row],[Issued]]=\"\",\"\",IF(Table111[[#This Row],[Lent]]=\"\",0,1))","v":""},{"$f":"IF(Table111[[#This Row],[Lent]]=\"\",\"\",IF(Table111[[#This Row],[Returned]]=\"\",0,1))","v":""}]
[{"$nulls":11},{"$f":"IF(IF(Table111[[#This Row],[Disposition]]=\"Retired\",\"N/A\",IF(Table111[[#This Row],[Disposition]]=0,\"\",K180+$F$2))=0+$F$2,\"NEVER CALIBRATED\",IF(Table111[[#This Row],[Disposition]]=\"Retired\",\"N/A\",IF(Table111[[#This Row],[Disposition]]=0,\"\",K180+$F$2)))","v":""},{"$f":"IF(Table111[[#This Row],[Disposition]]=\"\",\"\",IF(AND(Table111[[#This Row],[Next Calibration]]<$E$1,Table111[[#This Row],[Disposition]]=\"Lost\"),\"Find and Calibrate\",IF(Table111[[#This Row],[Disposition]]=\"Lost\",\"Find\",IF(OR(Table111[[#This Row],[Next Calibration]]<$E$1,Table111[[#This Row],[Next Calibration]]=\"NEVER CALIBRATED\"),\"Calibrate\",\"Nominal\"))))","v":""},{"$f":"IF(((Table111[[#This Row],[Next Calibration]]-TODAY())/30)>2,\"More Than 2\",IF(((Table111[[#This Row],[Next Calibration]]-TODAY())/30)>1,\"Between 2 and 1\",\"Less than 1\"))","v":{"$error":"#VALUE!"}},{"$f":"IF(Table111[[#This Row],[Issued]]=\"\",\"\",IF(Table111[[#This Row],[Lent]]=\"\",0,1))","v":""},{"$f":"IF(Table111[[#This Row],[Lent]]=\"\",\"\",IF(Table111[[#This Row],[Returned]]=\"\",0,1))","v":""}]
[{"$nulls":11},{"$f":"IF(IF(Table111[[#This Row],[Disposition]]=\"Retired\",\"N/A\",IF(Table111[[#This Row],[Disposition]]=0,\"\",K181+$F$2))=0+$F$2,\"NEVER CALIBRATED\",IF(Table111[[#This Row],[Disposition]]=\"Retired\",\"N/A\",IF(Table111[[#This Row],[Disposition]]=0,\"\",K181+$F$2)))","v":""},{"$f":"IF(Table111[[#This Row],[Disposition]]=\"\",\"\",IF(AND(Table111[[#This Row],[Next Calibration]]<$E$1,Table111[[#This Row],[Disposition]]=\"Lost\"),\"Find and Calibrate\",IF(Table111[[#This Row],[Disposition]]=\"Lost\",\"Find\",IF(OR(Table111[[#This Row],[Next Calibration]]<$E$1,Table111[[#This Row],[Next Calibration]]=\"NEVER CALIBRATED\"),\"Calibrate\",\"Nominal\"))))","v":""},{"$f":"IF(((Table111[[#This Row],[Next Calibration]]-TODAY())/30)>2,\"More Than 2\",IF(((Table111[[#This Row],[Next Calibration]]-TODAY())/30)>1,\"Between 2 and 1\",\"Less than 1\"))","v":{"$error":"#VALUE!"}},{"$f":"IF(Table111[[#This Row],[Issued]]=\"\",\"\",IF(Table111[[#This Row],[Lent]]=\"\",0,1))","v":""},{"$f":"IF(Table111[[#This Row],[Lent]]=\"\",\"\",IF(Table111[[#This Row],[Returned]]=\"\",0,1))","v":""}]
[{"$nulls":11},{"$f":"IF(IF(Table111[[#This Row],[Disposition]]=\"Retired\",\"N/A\",IF(Table111[[#This Row],[Disposition]]=0,\"\",K182+$F$2))=0+$F$2,\"NEVER CALIBRATED\",IF(Table111[[#This Row],[Disposition]]=\"Retired\",\"N/A\",IF(Table111[[#This Row],[Disposition]]=0,\"\",K182+$F$2)))","v":""},{"$f":"IF(Table111[[#This Row],[Disposition]]=\"\",\"\",IF(AND(Table111[[#This Row],[Next Calibration]]<$E$1,Table111[[#This Row],[Disposition]]=\"Lost\"),\"Find and Calibrate\",IF(Table111[[#This Row],[Disposition]]=\"Lost\",\"Find\",IF(OR(Table111[[#This Row],[Next Calibration]]<$E$1,Table111[[#This Row],[Next Calibration]]=\"NEVER CALIBRATED\"),\"Calibrate\",\"Nominal\"))))","v":""},{"$f":"IF(((Table111[[#This Row],[Next Calibration]]-TODAY())/30)>2,\"More Than 2\",IF(((Table111[[#This Row],[Next Calibration]]-TODAY())/30)>1,\"Between 2 and 1\",\"Less than 1\"))","v":{"$error":"#VALUE!"}},{"$f":"IF(Table111[[#This Row],[Issued]]=\"\",\"\",IF(Table111[[#This Row],[Lent]]=\"\",0,1))","v":""},{"$f":"IF(Table111[[#This Row],[Lent]]=\"\",\"\",IF(Table111[[#This Row],[Returned]]=\"\",0,1))","v":""}]
[{"$nulls":11},{"$f":"IF(IF(Table111[[#This Row],[Disposition]]=\"Retired\",\"N/A\",IF(Table111[[#This Row],[Disposition]]=0,\"\",K183+$F$2))=0+$F$2,\"NEVER CALIBRATED\",IF(Table111[[#This Row],[Disposition]]=\"Retired\",\"N/A\",IF(Table111[[#This Row],[Disposition]]=0,\"\",K183+$F$2)))","v":""},{"$f":"IF(Table111[[#This Row],[Disposition]]=\"\",\"\",IF(AND(Table111[[#This Row],[Next Calibration]]<$E$1,Table111[[#This Row],[Disposition]]=\"Lost\"),\"Find and Calibrate\",IF(Table111[[#This Row],[Disposition]]=\"Lost\",\"Find\",IF(OR(Table111[[#This Row],[Next Calibration]]<$E$1,Table111[[#This Row],[Next Calibration]]=\"NEVER CALIBRATED\"),\"Calibrate\",\"Nominal\"))))","v":""},{"$f":"IF(((Table111[[#This Row],[Next Calibration]]-TODAY())/30)>2,\"More Than 2\",IF(((Table111[[#This Row],[Next Calibration]]-TODAY())/30)>1,\"Between 2 and 1\",\"Less than 1\"))","v":{"$error":"#VALUE!"}},{"$f":"IF(Table111[[#This Row],[Issued]]=\"\",\"\",IF(Table111[[#This Row],[Lent]]=\"\",0,1))","v":""},{"$f":"IF(Table111[[#This Row],[Lent]]=\"\",\"\",IF(Table111[[#This Row],[Returned]]=\"\",0,1))","v":""}]
[{"$nulls":11},{"$f":"IF(IF(Table111[[#This Row],[Disposition]]=\"Retired\",\"N/A\",IF(Table111[[#This Row],[Disposition]]=0,\"\",K184+$F$2))=0+$F$2,\"NEVER CALIBRATED\",IF(Table111[[#This Row],[Disposition]]=\"Retired\",\"N/A\",IF(Table111[[#This Row],[Disposition]]=0,\"\",K184+$F$2)))","v":""},{"$f":"IF(Table111[[#This Row],[Disposition]]=\"\",\"\",IF(AND(Table111[[#This Row],[Next Calibration]]<$E$1,Table111[[#This Row],[Disposition]]=\"Lost\"),\"Find and Calibrate\",IF(Table111[[#This Row],[Disposition]]=\"Lost\",\"Find\",IF(OR(Table111[[#This Row],[Next Calibration]]<$E$1,Table111[[#This Row],[Next Calibration]]=\"NEVER CALIBRATED\"),\"Calibrate\",\"Nominal\"))))","v":""},{"$f":"IF(((Table111[[#This Row],[Next Calibration]]-TODAY())/30)>2,\"More Than 2\",IF(((Table111[[#This Row],[Next Calibration]]-TODAY())/30)>1,\"Between 2 and 1\",\"Less than 1\"))","v":{"$error":"#VALUE!"}},{"$f":"IF(Table111[[#This Row],[Issued]]=\"\",\"\",IF(Table111[[#This Row],[Lent]]=\"\",0,1))","v":""},{"$f":"IF(Table111[[#This Row],[Lent]]=\"\",\"\",IF(Table111[[#This Row],[Returned]]=\"\",0,1))","v":""}]
[{"$nulls":11},{"$f":"IF(IF(Table111[[#This Row],[Disposition]]=\"Retired\",\"N/A\",IF(Table111[[#This Row],[Disposition]]=0,\"\",K185+$F$2))=0+$F$2,\"NEVER CALIBRATED\",IF(Table111[[#This Row],[Disposition]]=\"Retired\",\"N/A\",IF(Table111[[#This Row],[Disposition]]=0,\"\",K185+$F$2)))","v":""},{"$f":"IF(Table111[[#This Row],[Disposition]]=\"\",\"\",IF(AND(Table111[[#This Row],[Next Calibration]]<$E$1,Table111[[#This Row],[Disposition]]=\"Lost\"),\"Find and Calibrate\",IF(Table111[[#This Row],[Disposition]]=\"Lost\",\"Find\",IF(OR(Table111[[#This Row],[Next Calibration]]<$E$1,Table111[[#This Row],[Next Calibration]]=\"NEVER CALIBRATED\"),\"Calibrate\",\"Nominal\"))))","v":""},{"$f":"IF(((Table111[[#This Row],[Next Calibration]]-TODAY())/30)>2,\"More Than 2\",IF(((Table111[[#This Row],[Next Calibration]]-TODAY())/30)>1,\"Between 2 and 1\",\"Less than 1\"))","v":{"$error":"#VALUE!"}},{"$f":"IF(Table111[[#This Row],[Issued]]=\"\",\"\",IF(Table111[[#This Row],[Lent]]=\"\",0,1))","v":""},{"$f":"IF(Table111[[#This Row],[Lent]]=\"\",\"\",IF(Table111[[#This Row],[Returned]]=\"\",0,1))","v":""}]
[{"$nulls":11},{"$f":"IF(IF(Table111[[#This Row],[Disposition]]=\"Retired\",\"N/A\",IF(Table111[[#This Row],[Disposition]]=0,\"\",K186+$F$2))=0+$F$2,\"NEVER CALIBRATED\",IF(Table111[[#This Row],[Disposition]]=\"Retired\",\"N/A\",IF(Table111[[#This Row],[Disposition]]=0,\"\",K186+$F$2)))","v":""},{"$f":"IF(Table111[[#This Row],[Disposition]]=\"\",\"\",IF(AND(Table111[[#This Row],[Next Calibration]]<$E$1,Table111[[#This Row],[Disposition]]=\"Lost\"),\"Find and Calibrate\",IF(Table111[[#This Row],[Disposition]]=\"Lost\",\"Find\",IF(OR(Table111[[#This Row],[Next Calibration]]<$E$1,Table111[[#This Row],[Next Calibration]]=\"NEVER CALIBRATED\"),\"Calibrate\",\"Nominal\"))))","v":""},{"$f":"IF(((Table111[[#This Row],[Next Calibration]]-TODAY())/30)>2,\"More Than 2\",IF(((Table111[[#This Row],[Next Calibration]]-TODAY())/30)>1,\"Between 2 and 1\",\"Less than 1\"))","v":{"$error":"#VALUE!"}},{"$f":"IF(Table111[[#This Row],[Issued]]=\"\",\"\",IF(Table111[[#This Row],[Lent]]=\"\",0,1))","v":""},{"$f":"IF(Table111[[#This Row],[Lent]]=\"\",\"\",IF(Table111[[#This Row],[Returned]]=\"\",0,1))","v":""}]
[{"$nulls":11},{"$f":"IF(IF(Table111[[#This Row],[Disposition]]=\"Retired\",\"N/A\",IF(Table111[[#This Row],[Disposition]]=0,\"\",K187+$F$2))=0+$F$2,\"NEVER CALIBRATED\",IF(Table111[[#This Row],[Disposition]]=\"Retired\",\"N/A\",IF(Table111[[#This Row],[Disposition]]=0,\"\",K187+$F$2)))","v":""},{"$f":"IF(Table111[[#This Row],[Disposition]]=\"\",\"\",IF(AND(Table111[[#This Row],[Next Calibration]]<$E$1,Table111[[#This Row],[Disposition]]=\"Lost\"),\"Find and Calibrate\",IF(Table111[[#This Row],[Disposition]]=\"Lost\",\"Find\",IF(OR(Table111[[#This Row],[Next Calibration]]<$E$1,Table111[[#This Row],[Next Calibration]]=\"NEVER CALIBRATED\"),\"Calibrate\",\"Nominal\"))))","v":""},{"$f":"IF(((Table111[[#This Row],[Next Calibration]]-TODAY())/30)>2,\"More Than 2\",IF(((Table111[[#This Row],[Next Calibration]]-TODAY())/30)>1,\"Between 2 and 1\",\"Less than 1\"))","v":{"$error":"#VALUE!"}},{"$f":"IF(Table111[[#This Row],[Issued]]=\"\",\"\",IF(Table111[[#This Row],[Lent]]=\"\",0,1))","v":""},{"$f":"IF(Table111[[#This Row],[Lent]]=\"\",\"\",IF(Table111[[#This Row],[Returned]]=\"\",0,1))","v":""}]
[{"$nulls":11},{"$f":"IF(IF(Table111[[#This Row],[Disposition]]=\"Retired\",\"N/A\",IF(Table111[[#This Row],[Disposition]]=0,\"\",K188+$F$2))=0+$F$2,\"NEVER CALIBRATED\",IF(Table111[[#This Row],[Disposition]]=\"Retired\",\"N/A\",IF(Table111[[#This Row],[Disposition]]=0,\"\",K188+$F$2)))","v":""},{"$f":"IF(Table111[[#This Row],[Disposition]]=\"\",\"\",IF(AND(Table111[[#This Row],[Next Calibration]]<$E$1,Table111[[#This Row],[Disposition]]=\"Lost\"),\"Find and Calibrate\",IF(Table111[[#This Row],[Disposition]]=\"Lost\",\"Find\",IF(OR(Table111[[#This Row],[Next Calibration]]<$E$1,Table111[[#This Row],[Next Calibration]]=\"NEVER CALIBRATED\"),\"Calibrate\",\"Nominal\"))))","v":""},{"$f":"IF(((Table111[[#This Row],[Next Calibration]]-TODAY())/30)>2,\"More Than 2\",IF(((Table111[[#This Row],[Next Calibration]]-TODAY())/30)>1,\"Between 2 and 1\",\"Less than 1\"))","v":{"$error":"#VALUE!"}},{"$f":"IF(Table111[[#This Row],[Issued]]=\"\",\"\",IF(Table111[[#This Row],[Lent]]=\"\",0,1))","v":""},{"$f":"IF(Table111[[#This Row],[Lent]]=\"\",\"\",IF(Table111[[#This Row],[Returned]]=\"\",0,1))","v":""}]
[{"$nulls":11},{"$f":"IF(IF(Table111[[#This Row],[Disposition]]=\"Retired\",\"N/A\",IF(Table111[[#This Row],[Disposition]]=0,\"\",K189+$F$2))=0+$F$2,\"NEVER CALIBRATED\",IF(Table111[[#This Row],[Disposition]]=\"Retired\",\"N/A\",IF(Table111[[#This Row],[Disposition]]=0,\"\",K189+$F$2)))","v":""},{"$f":"IF(Table111[[#This Row],[Disposition]]=\"\",\"\",IF(AND(Table111[[#This Row],[Next Calibration]]<$E$1,Table111[[#This Row],[Disposition]]=\"Lost\"),\"Find and Calibrate\",IF(Table111[[#This Row],[Disposition]]=\"Lost\",\"Find\",IF(OR(Table111[[#This Row],[Next Calibration]]<$E$1,Table111[[#This Row],[Next Calibration]]=\"NEVER CALIBRATED\"),\"Calibrate\",\"Nominal\"))))","v":""},{"$f":"IF(((Table111[[#This Row],[Next Calibration]]-TODAY())/30)>2,\"More Than 2\",IF(((Table111[[#This Row],[Next Calibration]]-TODAY())/30)>1,\"Between 2 and 1\",\"Less than 1\"))","v":{"$error":"#VALUE!"}},{"$f":"IF(Table111[[#This Row],[Issued]]=\"\",\"\",IF(Table111[[#This Row],[Lent]]=\"\",0,1))","v":""},{"$f":"IF(Table111[[#This Row],[Lent]]=\"\",\"\",IF(Table111[[#This Row],[Returned]]=\"\",0,1))","v":""}]
[{"$nulls":11},{"$f":"IF(IF(Table111[[#This Row],[Disposition]]=\"Retired\",\"N/A\",IF(Table111[[#This Row],[Disposition]]=0,\"\",K190+$F$2))=0+$F$2,\"NEVER CALIBRATED\",IF(Table111[[#This Row],[Disposition]]=\"Retired\",\"N/A\",IF(Table111[[#This Row],[Disposition]]=0,\"\",K190+$F$2)))","v":""},{"$f":"IF(Table111[[#This Row],[Disposition]]=\"\",\"\",IF(AND(Table111[[#This Row],[Next Calibration]]<$E$1,Table111[[#This Row],[Disposition]]=\"Lost\"),\"Find and Calibrate\",IF(Table111[[#This Row],[Disposition]]=\"Lost\",\"Find\",IF(OR(Table111[[#This Row],[Next Calibration]]<$E$1,Table111[[#This Row],[Next Calibration]]=\"NEVER CALIBRATED\"),\"Calibrate\",\"Nominal\"))))","v":""},{"$f":"IF(((Table111[[#This Row],[Next Calibration]]-TODAY())/30)>2,\"More Than 2\",IF(((Table111[[#This Row],[Next Calibration]]-TODAY())/30)>1,\"Between 2 and 1\",\"Less than 1\"))","v":{"$error":"#VALUE!"}},{"$f":"IF(Table111[[#This Row],[Issued]]=\"\",\"\",IF(Table111[[#This Row],[Lent]]=\"\",0,1))","v":""},{"$f":"IF(Table111[[#This Row],[Lent]]=\"\",\"\",IF(Table111[[#This Row],[Returned]]=\"\",0,1))","v":""}]
[{"$nulls":11},{"$f":"IF(IF(Table111[[#This Row],[Disposition]]=\"Retired\",\"N/A\",IF(Table111[[#This Row],[Disposition]]=0,\"\",K191+$F$2))=0+$F$2,\"NEVER CALIBRATED\",IF(Table111[[#This Row],[Disposition]]=\"Retired\",\"N/A\",IF(Table111[[#This Row],[Disposition]]=0,\"\",K191+$F$2)))","v":""},{"$f":"IF(Table111[[#This Row],[Disposition]]=\"\",\"\",IF(AND(Table111[[#This Row],[Next Calibration]]<$E$1,Table111[[#This Row],[Disposition]]=\"Lost\"),\"Find and Calibrate\",IF(Table111[[#This Row],[Disposition]]=\"Lost\",\"Find\",IF(OR(Table111[[#This Row],[Next Calibration]]<$E$1,Table111[[#This Row],[Next Calibration]]=\"NEVER CALIBRATED\"),\"Calibrate\",\"Nominal\"))))","v":""},{"$f":"IF(((Table111[[#This Row],[Next Calibration]]-TODAY())/30)>2,\"More Than 2\",IF(((Table111[[#This Row],[Next Calibration]]-TODAY())/30)>1,\"Between 2 and 1\",\"Less than 1\"))","v":{"$error":"#VALUE!"}},{"$f":"IF(Table111[[#This Row],[Issued]]=\"\",\"\",IF(Table111[[#This Row],[Lent]]=\"\",0,1))","v":""},{"$f":"IF(Table111[[#This Row],[Lent]]=\"\",\"\",IF(Table111[[#This Row],[Returned]]=\"\",0,1))","v":""}]
[{"$nulls":11},{"$f":"IF(IF(Table111[[#This Row],[Disposition]]=\"Retired\",\"N/A\",IF(Table111[[#This Row],[Disposition]]=0,\"\",K192+$F$2))=0+$F$2,\"NEVER CALIBRATED\",IF(Table111[[#This Row],[Disposition]]=\"Retired\",\"N/A\",IF(Table111[[#This Row],[Disposition]]=0,\"\",K192+$F$2)))","v":""},{"$f":"IF(Table111[[#This Row],[Disposition]]=\"\",\"\",IF(AND(Table111[[#This Row],[Next Calibration]]<$E$1,Table111[[#This Row],[Disposition]]=\"Lost\"),\"Find and Calibrate\",IF(Table111[[#This Row],[Disposition]]=\"Lost\",\"Find\",IF(OR(Table111[[#This Row],[Next Calibration]]<$E$1,Table111[[#This Row],[Next Calibration]]=\"NEVER CALIBRATED\"),\"Calibrate\",\"Nominal\"))))","v":""},{"$f":"IF(((Table111[[#This Row],[Next Calibration]]-TODAY())/30)>2,\"More Than 2\",IF(((Table111[[#This Row],[Next Calibration]]-TODAY())/30)>1,\"Between 2 and 1\",\"Less than 1\"))","v":{"$error":"#VALUE!"}},{"$f":"IF(Table111[[#This Row],[Issued]]=\"\",\"\",IF(Table111[[#This Row],[Lent]]=\"\",0,1))","v":""},{"$f":"IF(Table111[[#This Row],[Lent]]=\"\",\"\",IF(Table111[[#This Row],[Returned]]=\"\",0,1))","v":""}]
[{"$nulls":11},{"$f":"IF(IF(Table111[[#This Row],[Disposition]]=\"Retired\",\"N/A\",IF(Table111[[#This Row],[Disposition]]=0,\"\",K193+$F$2))=0+$F$2,\"NEVER CALIBRATED\",IF(Table111[[#This Row],[Disposition]]=\"Retired\",\"N/A\",IF(Table111[[#This Row],[Disposition]]=0,\"\",K193+$F$2)))","v":""},{"$f":"IF(Table111[[#This Row],[Disposition]]=\"\",\"\",IF(AND(Table111[[#This Row],[Next Calibration]]<$E$1,Table111[[#This Row],[Disposition]]=\"Lost\"),\"Find and Calibrate\",IF(Table111[[#This Row],[Disposition]]=\"Lost\",\"Find\",IF(OR(Table111[[#This Row],[Next Calibration]]<$E$1,Table111[[#This Row],[Next Calibration]]=\"NEVER CALIBRATED\"),\"Calibrate\",\"Nominal\"))))","v":""},{"$f":"IF(((Table111[[#This Row],[Next Calibration]]-TODAY())/30)>2,\"More Than 2\",IF(((Table111[[#This Row],[Next Calibration]]-TODAY())/30)>1,\"Between 2 and 1\",\"Less than 1\"))","v":{"$error":"#VALUE!"}},{"$f":"IF(Table111[[#This Row],[Issued]]=\"\",\"\",IF(Table111[[#This Row],[Lent]]=\"\",0,1))","v":""},{"$f":"IF(Table111[[#This Row],[Lent]]=\"\",\"\",IF(Table111[[#This Row],[Returned]]=\"\",0,1))","v":""}]
[{"$nulls":11},{"$f":"IF(IF(Table111[[#This Row],[Disposition]]=\"Retired\",\"N/A\",IF(Table111[[#This Row],[Disposition]]=0,\"\",K194+$F$2))=0+$F$2,\"NEVER CALIBRATED\",IF(Table111[[#This Row],[Disposition]]=\"Retired\",\"N/A\",IF(Table111[[#This Row],[Disposition]]=0,\"\",K194+$F$2)))","v":""},{"$f":"IF(Table111[[#This Row],[Disposition]]=\"\",\"\",IF(AND(Table111[[#This Row],[Next Calibration]]<$E$1,Table111[[#This Row],[Disposition]]=\"Lost\"),\"Find and Calibrate\",IF(Table111[[#This Row],[Disposition]]=\"Lost\",\"Find\",IF(OR(Table111[[#This Row],[Next Calibration]]<$E$1,Table111[[#This Row],[Next Calibration]]=\"NEVER CALIBRATED\"),\"Calibrate\",\"Nominal\"))))","v":""},{"$f":"IF(((Table111[[#This Row],[Next Calibration]]-TODAY())/30)>2,\"More Than 2\",IF(((Table111[[#This Row],[Next Calibration]]-TODAY())/30)>1,\"Between 2 and 1\",\"Less than 1\"))","v":{"$error":"#VALUE!"}},{"$f":"IF(Table111[[#This Row],[Issued]]=\"\",\"\",IF(Table111[[#This Row],[Lent]]=\"\",0,1))","v":""},{"$f":"IF(Table111[[#This Row],[Lent]]=\"\",\"\",IF(Table111[[#This Row],[Returned]]=\"\",0,1))","v":""}]
[{"$nulls":11},{"$f":"IF(IF(Table111[[#This Row],[Disposition]]=\"Retired\",\"N/A\",IF(Table111[[#This Row],[Disposition]]=0,\"\",K195+$F$2))=0+$F$2,\"NEVER CALIBRATED\",IF(Table111[[#This Row],[Disposition]]=\"Retired\",\"N/A\",IF(Table111[[#This Row],[Disposition]]=0,\"\",K195+$F$2)))","v":""},{"$f":"IF(Table111[[#This Row],[Disposition]]=\"\",\"\",IF(AND(Table111[[#This Row],[Next Calibration]]<$E$1,Table111[[#This Row],[Disposition]]=\"Lost\"),\"Find and Calibrate\",IF(Table111[[#This Row],[Disposition]]=\"Lost\",\"Find\",IF(OR(Table111[[#This Row],[Next Calibration]]<$E$1,Table111[[#This Row],[Next Calibration]]=\"NEVER CALIBRATED\"),\"Calibrate\",\"Nominal\"))))","v":""},{"$f":"IF(((Table111[[#This Row],[Next Calibration]]-TODAY())/30)>2,\"More Than 2\",IF(((Table111[[#This Row],[Next Calibration]]-TODAY())/30)>1,\"Between 2 and 1\",\"Less than 1\"))","v":{"$error":"#VALUE!"}},{"$f":"IF(Table111[[#This Row],[Issued]]=\"\",\"\",IF(Table111[[#This Row],[Lent]]=\"\",0,1))","v":""},{"$f":"IF(Table111[[#This Row],[Lent]]=\"\",\"\",IF(Table111[[#This Row],[Returned]]=\"\",0,1))","v":""}]
[{"$nulls":11},{"$f":"IF(IF(Table111[[#This Row],[Disposition]]=\"Retired\",\"N/A\",IF(Table111[[#This Row],[Disposition]]=0,\"\",K196+$F$2))=0+$F$2,\"NEVER CALIBRATED\",IF(Table111[[#This Row],[Disposition]]=\"Retired\",\"N/A\",IF(Table111[[#This Row],[Disposition]]=0,\"\",K196+$F$2)))","v":""},{"$f":"IF(Table111[[#This Row],[Disposition]]=\"\",\"\",IF(AND(Table111[[#This Row],[Next Calibration]]<$E$1,Table111[[#This Row],[Disposition]]=\"Lost\"),\"Find and Calibrate\",IF(Table111[[#This Row],[Disposition]]=\"Lost\",\"Find\",IF(OR(Table111[[#This Row],[Next Calibration]]<$E$1,Table111[[#This Row],[Next Calibration]]=\"NEVER CALIBRATED\"),\"Calibrate\",\"Nominal\"))))","v":""},{"$f":"IF(((Table111[[#This Row],[Next Calibration]]-TODAY())/30)>2,\"More Than 2\",IF(((Table111[[#This Row],[Next Calibration]]-TODAY())/30)>1,\"Between 2 and 1\",\"Less than 1\"))","v":{"$error":"#VALUE!"}},{"$f":"IF(Table111[[#This Row],[Issued]]=\"\",\"\",IF(Table111[[#This Row],[Lent]]=\"\",0,1))","v":""},{"$f":"IF(Table111[[#This Row],[Lent]]=\"\",\"\",IF(Table111[[#This Row],[Returned]]=\"\",0,1))","v":""}]
[{"$nulls":11},{"$f":"IF(IF(Table111[[#This Row],[Disposition]]=\"Retired\",\"N/A\",IF(Table111[[#This Row],[Disposition]]=0,\"\",K197+$F$2))=0+$F$2,\"NEVER CALIBRATED\",IF(Table111[[#This Row],[Disposition]]=\"Retired\",\"N/A\",IF(Table111[[#This Row],[Disposition]]=0,\"\",K197+$F$2)))","v":""},{"$f":"IF(Table111[[#This Row],[Disposition]]=\"\",\"\",IF(AND(Table111[[#This Row],[Next Calibration]]<$E$1,Table111[[#This Row],[Disposition]]=\"Lost\"),\"Find and Calibrate\",IF(Table111[[#This Row],[Disposition]]=\"Lost\",\"Find\",IF(OR(Table111[[#This Row],[Next Calibration]]<$E$1,Table111[[#This Row],[Next Calibration]]=\"NEVER CALIBRATED\"),\"Calibrate\",\"Nominal\"))))","v":""},{"$f":"IF(((Table111[[#This Row],[Next Calibration]]-TODAY())/30)>2,\"More Than 2\",IF(((Table111[[#This Row],[Next Calibration]]-TODAY())/30)>1,\"Between 2 and 1\",\"Less than 1\"))","v":{"$error":"#VALUE!"}},{"$f":"IF(Table111[[#This Row],[Issued]]=\"\",\"\",IF(Table111[[#This Row],[Lent]]=\"\",0,1))","v":""},{"$f":"IF(Table111[[#This Row],[Lent]]=\"\",\"\",IF(Table111[[#This Row],[Returned]]=\"\",0,1))","v":""}]
[{"$nulls":11},{"$f":"IF(IF(Table111[[#This Row],[Disposition]]=\"Retired\",\"N/A\",IF(Table111[[#This Row],[Disposition]]=0,\"\",K198+$F$2))=0+$F$2,\"NEVER CALIBRATED\",IF(Table111[[#This Row],[Disposition]]=\"Retired\",\"N/A\",IF(Table111[[#This Row],[Disposition]]=0,\"\",K198+$F$2)))","v":""},{"$f":"IF(Table111[[#This Row],[Disposition]]=\"\",\"\",IF(AND(Table111[[#This Row],[Next Calibration]]<$E$1,Table111[[#This Row],[Disposition]]=\"Lost\"),\"Find and Calibrate\",IF(Table111[[#This Row],[Disposition]]=\"Lost\",\"Find\",IF(OR(Table111[[#This Row],[Next Calibration]]<$E$1,Table111[[#This Row],[Next Calibration]]=\"NEVER CALIBRATED\"),\"Calibrate\",\"Nominal\"))))","v":""},{"$f":"IF(((Table111[[#This Row],[Next Calibration]]-TODAY())/30)>2,\"More Than 2\",IF(((Table111[[#This Row],[Next Calibration]]-TODAY())/30)>1,\"Between 2 and 1\",\"Less than 1\"))","v":{"$error":"#VALUE!"}},{"$f":"IF(Table111[[#This Row],[Issued]]=\"\",\"\",IF(Table111[[#This Row],[Lent]]=\"\",0,1))","v":""},{"$f":"IF(Table111[[#This Row],[Lent]]=\"\",\"\",IF(Table111[[#This Row],[Returned]]=\"\",0,1))","v":""}]
[{"$nulls":11},{"$f":"IF(IF(Table111[[#This Row],[Disposition]]=\"Retired\",\"N/A\",IF(Table111[[#This Row],[Disposition]]=0,\"\",K199+$F$2))=0+$F$2,\"NEVER CALIBRATED\",IF(Table111[[#This Row],[Disposition]]=\"Retired\",\"N/A\",IF(Table111[[#This Row],[Disposition]]=0,\"\",K199+$F$2)))","v":""},{"$f":"IF(Table111[[#This Row],[Disposition]]=\"\",\"\",IF(AND(Table111[[#This Row],[Next Calibration]]<$E$1,Table111[[#This Row],[Disposition]]=\"Lost\"),\"Find and Calibrate\",IF(Table111[[#This Row],[Disposition]]=\"Lost\",\"Find\",IF(OR(Table111[[#This Row],[Next Calibration]]<$E$1,Table111[[#This Row],[Next Calibration]]=\"NEVER CALIBRATED\"),\"Calibrate\",\"Nominal\"))))","v":""},{"$f":"IF(((Table111[[#This Row],[Next Calibration]]-TODAY())/30)>2,\"More Than 2\",IF(((Table111[[#This Row],[Next Calibration]]-TODAY())/30)>1,\"Between 2 and 1\",\"Less than 1\"))","v":{"$error":"#VALUE!"}},{"$f":"IF(Table111[[#This Row],[Issued]]=\"\",\"\",IF(Table111[[#This Row],[Lent]]=\"\",0,1))","v":""},{"$f":"IF(Table111[[#This Row],[Lent]]=\"\",\"\",IF(Table111[[#This Row],[Returned]]=\"\",0,1))","v":""}]
[{"$nulls":11},{"$f":"IF(IF(Table111[[#This Row],[Disposition]]=\"Retired\",\"N/A\",IF(Table111[[#This Row],[Disposition]]=0,\"\",K200+$F$2))=0+$F$2,\"NEVER CALIBRATED\",IF(Table111[[#This Row],[Disposition]]=\"Retired\",\"N/A\",IF(Table111[[#This Row],[Disposition]]=0,\"\",K200+$F$2)))","v":""},{"$f":"IF(Table111[[#This Row],[Disposition]]=\"\",\"\",IF(AND(Table111[[#This Row],[Next Calibration]]<$E$1,Table111[[#This Row],[Disposition]]=\"Lost\"),\"Find and Calibrate\",IF(Table111[[#This Row],[Disposition]]=\"Lost\",\"Find\",IF(OR(Table111[[#This Row],[Next Calibration]]<$E$1,Table111[[#This Row],[Next Calibration]]=\"NEVER CALIBRATED\"),\"Calibrate\",\"Nominal\"))))","v":""},{"$f":"IF(((Table111[[#This Row],[Next Calibration]]-TODAY())/30)>2,\"More Than 2\",IF(((Table111[[#This Row],[Next Calibration]]-TODAY())/30)>1,\"Between 2 and 1\",\"Less than 1\"))","v":{"$error":"#VALUE!"}},{"$f":"IF(Table111[[#This Row],[Issued]]=\"\",\"\",IF(Table111[[#This Row],[Lent]]=\"\",0,1))","v":""},{"$f":"IF(Table111[[#This Row],[Lent]]=\"\",\"\",IF(Table111[[#This Row],[Returned]]=\"\",0,1))","v":""}]
[{"$nulls":11},{"$f":"IF(IF(Table111[[#This Row],[Disposition]]=\"Retired\",\"N/A\",IF(Table111[[#This Row],[Disposition]]=0,\"\",K201+$F$2))=0+$F$2,\"NEVER CALIBRATED\",IF(Table111[[#This Row],[Disposition]]=\"Retired\",\"N/A\",IF(Table111[[#This Row],[Disposition]]=0,\"\",K201+$F$2)))","v":""},{"$f":"IF(Table111[[#This Row],[Disposition]]=\"\",\"\",IF(AND(Table111[[#This Row],[Next Calibration]]<$E$1,Table111[[#This Row],[Disposition]]=\"Lost\"),\"Find and Calibrate\",IF(Table111[[#This Row],[Disposition]]=\"Lost\",\"Find\",IF(OR(Table111[[#This Row],[Next Calibration]]<$E$1,Table111[[#This Row],[Next Calibration]]=\"NEVER CALIBRATED\"),\"Calibrate\",\"Nominal\"))))","v":""},{"$f":"IF(((Table111[[#This Row],[Next Calibration]]-TODAY())/30)>2,\"More Than 2\",IF(((Table111[[#This Row],[Next Calibration]]-TODAY())/30)>1,\"Between 2 and 1\",\"Less than 1\"))","v":{"$error":"#VALUE!"}},{"$f":"IF(Table111[[#This Row],[Issued]]=\"\",\"\",IF(Table111[[#This Row],[Lent]]=\"\",0,1))","v":""},{"$f":"IF(Table111[[#This Row],[Lent]]=\"\",\"\",IF(Table111[[#This Row],[Returned]]=\"\",0,1))","v":""}]
[{"$nulls":11},{"$f":"IF(IF(Table111[[#This Row],[Disposition]]=\"Retired\",\"N/A\",IF(Table111[[#This Row],[Disposition]]=0,\"\",K202+$F$2))=0+$F$2,\"NEVER CALIBRATED\",IF(Table111[[#This Row],[Disposition]]=\"Retired\",\"N/A\",IF(Table111[[#This Row],[Disposition]]=0,\"\",K202+$F$2)))","v":""},{"$f":"IF(Table111[[#This Row],[Disposition]]=\"\",\"\",IF(AND(Table111[[#This Row],[Next Calibration]]<$E$1,Table111[[#This Row],[Disposition]]=\"Lost\"),\"Find and Calibrate\",IF(Table111[[#This Row],[Disposition]]=\"Lost\",\"Find\",IF(OR(Table111[[#This Row],[Next Calibration]]<$E$1,Table111[[#This Row],[Next Calibration]]=\"NEVER CALIBRATED\"),\"Calibrate\",\"Nominal\"))))","v":""},{"$f":"IF(((Table111[[#This Row],[Next Calibration]]-TODAY())/30)>2,\"More Than 2\",IF(((Table111[[#This Row],[Next Calibration]]-TODAY())/30)>1,\"Between 2 and 1\",\"Less than 1\"))","v":{"$error":"#VALUE!"}},{"$f":"IF(Table111[[#This Row],[Issued]]=\"\",\"\",IF(Table111[[#This Row],[Lent]]=\"\",0,1))","v":""},{"$f":"IF(Table111[[#This Row],[Lent]]=\"\",\"\",IF(Table111[[#This Row],[Returned]]=\"\",0,1))","v":""}]
[{"$nulls":11},{"$f":"IF(IF(Table111[[#This Row],[Disposition]]=\"Retired\",\"N/A\",IF(Table111[[#This Row],[Disposition]]=0,\"\",K203+$F$2))=0+$F$2,\"NEVER CALIBRATED\",IF(Table111[[#This Row],[Disposition]]=\"Retired\",\"N/A\",IF(Table111[[#This Row],[Disposition]]=0,\"\",K203+$F$2)))","v":""},{"$f":"IF(Table111[[#This Row],[Disposition]]=\"\",\"\",IF(AND(Table111[[#This Row],[Next Calibration]]<$E$1,Table111[[#This Row],[Disposition]]=\"Lost\"),\"Find and Calibrate\",IF(Table111[[#This Row],[Disposition]]=\"Lost\",\"Find\",IF(OR(Table111[[#This Row],[Next Calibration]]<$E$1,Table111[[#This Row],[Next Calibration]]=\"NEVER CALIBRATED\"),\"Calibrate\",\"Nominal\"))))","v":""},{"$f":"IF(((Table111[[#This Row],[Next Calibration]]-TODAY())/30)>2,\"More Than 2\",IF(((Table111[[#This Row],[Next Calibration]]-TODAY())/30)>1,\"Between 2 and 1\",\"Less than 1\"))","v":{"$error":"#VALUE!"}},{"$f":"IF(Table111[[#This Row],[Issued]]=\"\",\"\",IF(Table111[[#This Row],[Lent]]=\"\",0,1))","v":""},{"$f":"IF(Table111[[#This Row],[Lent]]=\"\",\"\",IF(Table111[[#This Row],[Returned]]=\"\",0,1))","v":""}]

{"sheet":"Custom Gauges","index":9,"n_rows":203,"n_cols":16,"rows_kept":203,"merged":[[0,0,1,2],[0,9,1,9],[0,10,0,11],[1,10,1,11],[3,0,4,0]]}
["Custom Gauges",null,null,"Date",{"$f":"TODAY()","v":"2021-04-27"},"Calibration Frequency (days)",{"$nulls":3},"Key","Personal Tool",null,"Adjustabe"]
[{"$nulls":3},"Time",{"$f":"NOW()","v":44313.375952546296},365,{"$nulls":4},"Attention",null,"DO NOT EDIT"]
[]
["Tool Modification"]
[]
[]
["Gauge #","Lent To","Shift","Work Area","Brand","Disposition","Personal (1/0)","Issued","Lent","Returned","Calibrated","Next Calibration","Action Required","count down","Lent (1/0)","Returned (1/0)"]
["J0014","Cunningham, Bobby","1st","Davenports","NO BRAND SPECIFIED","Accounted For",null,"2021-03-19","2021-03-19",null,"2021-03-19",{"$f":"IF(IF(Table113[[#This Row],[Disposition]]=\"Retired\",\"N/A\",IF(Table113[[#This Row],[Disposition]]=0,\"\",K8+$F$2))=0+$F$2,\"NEVER CALIBRATED\",IF(Table113[[#This Row],[Disposition]]=\"Retired\",\"N/A\",IF(Table113[[#This Row],[Disposition]]=0,\"\",K8+$F$2)))","v":"2022-03-19"},{"$f":"IF(Table113[[#This Row],[Disposition]]=\"\",\"\",IF(AND(Table113[[#This Row],[Next Calibration]]<$E$1,Table113[[#This Row],[Disposition]]=\"Lost\"),\"Find and Calibrate\",IF(Table113[[#This Row],[Disposition]]=\"Lost\",\"Find\",IF(OR(Table113[[#This Row],[Next Calibration]]<$E$1,Table113[[#This Row],[Next Calibration]]=\"NEVER CALIBRATED\"),\"Calibrate\",\"Nominal\"))))","v":"Nominal"},{"$f":"IF(((Table113[[#This Row],[Next Calibration]]-TODAY())/30)>2,\"More Than 2\",IF(((Table113[[#This Row],[Next Calibration]]-TODAY())/30)>1,\"Between 2 and 1\",\"Less than 1\"))","v":"More Than 2"},{"$f":"IF(Table113[[#This Row],[Issued]]=\"\",\"\",IF(Table113[[#This Row],[Lent]]=\"\",0,1))","v":{"v":1,"d":"1.00"}},{"$f":"IF(Table113[[#This Row],[Lent]]=\"\",\"\",IF(Table113[[#This Row],[Returned]]=\"\",0,1))","v":{"v":0,"d":"0.00"}}]
["J0015","Cunningham, Bobby","1st","Davenports","NO BRAND SPECIFIED","Accounted For",null,"2021-03-19","2021-03-19",null,"2021-03-19",{"$f":"IF(IF(Table113[[#This Row],[Disposition]]=\"Retired\",\"N/A\",IF(Table113[[#This Row],[Disposition]]=0,\"\",K9+$F$2))=0+$F$2,\"NEVER CALIBRATED\",IF(Table113[[#This Row],[Disposition]]=\"Retired\",\"N/A\",IF(Table113[[#This Row],[Disposition]]=0,\"\",K9+$F$2)))","v":"2022-03-19"},{"$f":"IF(Table113[[#This Row],[Disposition]]=\"\",\"\",IF(AND(Table113[[#This Row],[Next Calibration]]<$E$1,Table113[[#This Row],[Disposition]]=\"Lost\"),\"Find and Calibrate\",IF(Table113[[#This Row],[Disposition]]=\"Lost\",\"Find\",IF(OR(Table113[[#This Row],[Next Calibration]]<$E$1,Table113[[#This Row],[Next Calibration]]=\"NEVER CALIBRATED\"),\"Calibrate\",\"Nominal\"))))","v":"Nominal"},{"$f":"IF(((Table113[[#This Row],[Next Calibration]]-TODAY())/30)>2,\"More Than 2\",IF(((Table113[[#This Row],[Next Calibration]]-TODAY())/30)>1,\"Between 2 and 1\",\"Less than 1\"))","v":"More Than 2"},{"$f":"IF(Table113[[#This Row],[Issued]]=\"\",\"\",IF(Table113[[#This Row],[Lent]]=\"\",0,1))","v":{"v":1,"d":"1.00"}},{"$f":"IF(Table113[[#This Row],[Lent]]=\"\",\"\",IF(Table113[[#This Row],[Returned]]=\"\",0,1))","v":{"v":0,"d":"0.00"}}]
[{"$nulls":11},{"$f":"IF(IF(Table113[[#This Row],[Disposition]]=\"Retired\",\"N/A\",IF(Table113[[#This Row],[Disposition]]=0,\"\",K10+$F$2))=0+$F$2,\"NEVER CALIBRATED\",IF(Table113[[#This Row],[Disposition]]=\"Retired\",\"N/A\",IF(Table113[[#This Row],[Disposition]]=0,\"\",K10+$F$2)))","v":""},{"$f":"IF(Table113[[#This Row],[Disposition]]=\"\",\"\",IF(AND(Table113[[#This Row],[Next Calibration]]<$E$1,Table113[[#This Row],[Disposition]]=\"Lost\"),\"Find and Calibrate\",IF(Table113[[#This Row],[Disposition]]=\"Lost\",\"Find\",IF(OR(Table113[[#This Row],[Next Calibration]]<$E$1,Table113[[#This Row],[Next Calibration]]=\"NEVER CALIBRATED\"),\"Calibrate\",\"Nominal\"))))","v":""},{"$f":"IF(((Table113[[#This Row],[Next Calibration]]-TODAY())/30)>2,\"More Than 2\",IF(((Table113[[#This Row],[Next Calibration]]-TODAY())/30)>1,\"Between 2 and 1\",\"Less than 1\"))","v":{"$error":"#VALUE!"}},{"$f":"IF(Table113[[#This Row],[Issued]]=\"\",\"\",IF(Table113[[#This Row],[Lent]]=\"\",0,1))","v":""},{"$f":"IF(Table113[[#This Row],[Lent]]=\"\",\"\",IF(Table113[[#This Row],[Returned]]=\"\",0,1))","v":""}]
[{"$nulls":11},{"$f":"IF(IF(Table113[[#This Row],[Disposition]]=\"Retired\",\"N/A\",IF(Table113[[#This Row],[Disposition]]=0,\"\",K11+$F$2))=0+$F$2,\"NEVER CALIBRATED\",IF(Table113[[#This Row],[Disposition]]=\"Retired\",\"N/A\",IF(Table113[[#This Row],[Disposition]]=0,\"\",K11+$F$2)))","v":""},{"$f":"IF(Table113[[#This Row],[Disposition]]=\"\",\"\",IF(AND(Table113[[#This Row],[Next Calibration]]<$E$1,Table113[[#This Row],[Disposition]]=\"Lost\"),\"Find and Calibrate\",IF(Table113[[#This Row],[Disposition]]=\"Lost\",\"Find\",IF(OR(Table113[[#This Row],[Next Calibration]]<$E$1,Table113[[#This Row],[Next Calibration]]=\"NEVER CALIBRATED\"),\"Calibrate\",\"Nominal\"))))","v":""},{"$f":"IF(((Table113[[#This Row],[Next Calibration]]-TODAY())/30)>2,\"More Than 2\",IF(((Table113[[#This Row],[Next Calibration]]-TODAY())/30)>1,\"Between 2 and 1\",\"Less than 1\"))","v":{"$error":"#VALUE!"}},{"$f":"IF(Table113[[#This Row],[Issued]]=\"\",\"\",IF(Table113[[#This Row],[Lent]]=\"\",0,1))","v":""},{"$f":"IF(Table113[[#This Row],[Lent]]=\"\",\"\",IF(Table113[[#This Row],[Returned]]=\"\",0,1))","v":""}]
[{"$nulls":11},{"$f":"IF(IF(Table113[[#This Row],[Disposition]]=\"Retired\",\"N/A\",IF(Table113[[#This Row],[Disposition]]=0,\"\",K12+$F$2))=0+$F$2,\"NEVER CALIBRATED\",IF(Table113[[#This Row],[Disposition]]=\"Retired\",\"N/A\",IF(Table113[[#This Row],[Disposition]]=0,\"\",K12+$F$2)))","v":""},{"$f":"IF(Table113[[#This Row],[Disposition]]=\"\",\"\",IF(AND(Table113[[#This Row],[Next Calibration]]<$E$1,Table113[[#This Row],[Disposition]]=\"Lost\"),\"Find and Calibrate\",IF(Table113[[#This Row],[Disposition]]=\"Lost\",\"Find\",IF(OR(Table113[[#This Row],[Next Calibration]]<$E$1,Table113[[#This Row],[Next Calibration]]=\"NEVER CALIBRATED\"),\"Calibrate\",\"Nominal\"))))","v":""},{"$f":"IF(((Table113[[#This Row],[Next Calibration]]-TODAY())/30)>2,\"More Than 2\",IF(((Table113[[#This Row],[Next Calibration]]-TODAY())/30)>1,\"Between 2 and 1\",\"Less than 1\"))","v":{"$error":"#VALUE!"}},{"$f":"IF(Table113[[#This Row],[Issued]]=\"\",\"\",IF(Table113[[#This Row],[Lent]]=\"\",0,1))","v":""},{"$f":"IF(Table113[[#This Row],[Lent]]=\"\",\"\",IF(Table113[[#This Row],[Returned]]=\"\",0,1))","v":""}]
[{"$nulls":11},{"$f":"IF(IF(Table113[[#This Row],[Disposition]]=\"Retired\",\"N/A\",IF(Table113[[#This Row],[Disposition]]=0,\"\",K13+$F$2))=0+$F$2,\"NEVER CALIBRATED\",IF(Table113[[#This Row],[Disposition]]=\"Retired\",\"N/A\",IF(Table113[[#This Row],[Disposition]]=0,\"\",K13+$F$2)))","v":""},{"$f":"IF(Table113[[#This Row],[Disposition]]=\"\",\"\",IF(AND(Table113[[#This Row],[Next Calibration]]<$E$1,Table113[[#This Row],[Disposition]]=\"Lost\"),\"Find and Calibrate\",IF(Table113[[#This Row],[Disposition]]=\"Lost\",\"Find\",IF(OR(Table113[[#This Row],[Next Calibration]]<$E$1,Table113[[#This Row],[Next Calibration]]=\"NEVER CALIBRATED\"),\"Calibrate\",\"Nominal\"))))","v":""},{"$f":"IF(((Table113[[#This Row],[Next Calibration]]-TODAY())/30)>2,\"More Than 2\",IF(((Table113[[#This Row],[Next Calibration]]-TODAY())/30)>1,\"Between 2 and 1\",\"Less than 1\"))","v":{"$error":"#VALUE!"}},{"$f":"IF(Table113[[#This Row],[Issued]]=\"\",\"\",IF(Table113[[#This Row],[Lent]]=\"\",0,1))","v":""},{"$f":"IF(Table113[[#This Row],[Lent]]=\"\",\"\",IF(Table113[[#This Row],[Returned]]=\"\",0,1))","v":""}]
[{"$nulls":11},{"$f":"IF(IF(Table113[[#This Row],[Disposition]]=\"Retired\",\"N/A\",IF(Table113[[#This Row],[Disposition]]=0,\"\",K14+$F$2))=0+$F$2,\"NEVER CALIBRATED\",IF(Table113[[#This Row],[Disposition]]=\"Retired\",\"N/A\",IF(Table113[[#This Row],[Disposition]]=0,\"\",K14+$F$2)))","v":""},{"$f":"IF(Table113[[#This Row],[Disposition]]=\"\",\"\",IF(AND(Table113[[#This Row],[Next Calibration]]<$E$1,Table113[[#This Row],[Disposition]]=\"Lost\"),\"Find and Calibrate\",IF(Table113[[#This Row],[Disposition]]=\"Lost\",\"Find\",IF(OR(Table113[[#This Row],[Next Calibration]]<$E$1,Table113[[#This Row],[Next Calibration]]=\"NEVER CALIBRATED\"),\"Calibrate\",\"Nominal\"))))","v":""},{"$f":"IF(((Table113[[#This Row],[Next Calibration]]-TODAY())/30)>2,\"More Than 2\",IF(((Table113[[#This Row],[Next Calibration]]-TODAY())/30)>1,\"Between 2 and 1\",\"Less than 1\"))","v":{"$error":"#VALUE!"}},{"$f":"IF(Table113[[#This Row],[Issued]]=\"\",\"\",IF(Table113[[#This Row],[Lent]]=\"\",0,1))","v":""},{"$f":"IF(Table113[[#This Row],[Lent]]=\"\",\"\",IF(Table113[[#This Row],[Returned]]=\"\",0,1))","v":""}]
[{"$nulls":11},{"$f":"IF(IF(Table113[[#This Row],[Disposition]]=\"Retired\",\"N/A\",IF(Table113[[#This Row],[Disposition]]=0,\"\",K15+$F$2))=0+$F$2,\"NEVER CALIBRATED\",IF(Table113[[#This Row],[Disposition]]=\"Retired\",\"N/A\",IF(Table113[[#This Row],[Disposition]]=0,\"\",K15+$F$2)))","v":""},{"$f":"IF(Table113[[#This Row],[Disposition]]=\"\",\"\",IF(AND(Table113[[#This Row],[Next Calibration]]<$E$1,Table113[[#This Row],[Disposition]]=\"Lost\"),\"Find and Calibrate\",IF(Table113[[#This Row],[Disposition]]=\"Lost\",\"Find\",IF(OR(Table113[[#This Row],[Next Calibration]]<$E$1,Table113[[#This Row],[Next Calibration]]=\"NEVER CALIBRATED\"),\"Calibrate\",\"Nominal\"))))","v":""},{"$f":"IF(((Table113[[#This Row],[Next Calibration]]-TODAY())/30)>2,\"More Than 2\",IF(((Table113[[#This Row],[Next Calibration]]-TODAY())/30)>1,\"Between 2 and 1\",\"Less than 1\"))","v":{"$error":"#VALUE!"}},{"$f":"IF(Table113[[#This Row],[Issued]]=\"\",\"\",IF(Table113[[#This Row],[Lent]]=\"\",0,1))","v":""},{"$f":"IF(Table113[[#This Row],[Lent]]=\"\",\"\",IF(Table113[[#This Row],[Returned]]=\"\",0,1))","v":""}]
[{"$nulls":11},{"$f":"IF(IF(Table113[[#This Row],[Disposition]]=\"Retired\",\"N/A\",IF(Table113[[#This Row],[Disposition]]=0,\"\",K16+$F$2))=0+$F$2,\"NEVER CALIBRATED\",IF(Table113[[#This Row],[Disposition]]=\"Retired\",\"N/A\",IF(Table113[[#This Row],[Disposition]]=0,\"\",K16+$F$2)))","v":""},{"$f":"IF(Table113[[#This Row],[Disposition]]=\"\",\"\",IF(AND(Table113[[#This Row],[Next Calibration]]<$E$1,Table113[[#This Row],[Disposition]]=\"Lost\"),\"Find and Calibrate\",IF(Table113[[#This Row],[Disposition]]=\"Lost\",\"Find\",IF(OR(Table113[[#This Row],[Next Calibration]]<$E$1,Table113[[#This Row],[Next Calibration]]=\"NEVER CALIBRATED\"),\"Calibrate\",\"Nominal\"))))","v":""},{"$f":"IF(((Table113[[#This Row],[Next Calibration]]-TODAY())/30)>2,\"More Than 2\",IF(((Table113[[#This Row],[Next Calibration]]-TODAY())/30)>1,\"Between 2 and 1\",\"Less than 1\"))","v":{"$error":"#VALUE!"}},{"$f":"IF(Table113[[#This Row],[Issued]]=\"\",\"\",IF(Table113[[#This Row],[Lent]]=\"\",0,1))","v":""},{"$f":"IF(Table113[[#This Row],[Lent]]=\"\",\"\",IF(Table113[[#This Row],[Returned]]=\"\",0,1))","v":""}]
[{"$nulls":11},{"$f":"IF(IF(Table113[[#This Row],[Disposition]]=\"Retired\",\"N/A\",IF(Table113[[#This Row],[Disposition]]=0,\"\",K17+$F$2))=0+$F$2,\"NEVER CALIBRATED\",IF(Table113[[#This Row],[Disposition]]=\"Retired\",\"N/A\",IF(Table113[[#This Row],[Disposition]]=0,\"\",K17+$F$2)))","v":""},{"$f":"IF(Table113[[#This Row],[Disposition]]=\"\",\"\",IF(AND(Table113[[#This Row],[Next Calibration]]<$E$1,Table113[[#This Row],[Disposition]]=\"Lost\"),\"Find and Calibrate\",IF(Table113[[#This Row],[Disposition]]=\"Lost\",\"Find\",IF(OR(Table113[[#This Row],[Next Calibration]]<$E$1,Table113[[#This Row],[Next Calibration]]=\"NEVER CALIBRATED\"),\"Calibrate\",\"Nominal\"))))","v":""},{"$f":"IF(((Table113[[#This Row],[Next Calibration]]-TODAY())/30)>2,\"More Than 2\",IF(((Table113[[#This Row],[Next Calibration]]-TODAY())/30)>1,\"Between 2 and 1\",\"Less than 1\"))","v":{"$error":"#VALUE!"}},{"$f":"IF(Table113[[#This Row],[Issued]]=\"\",\"\",IF(Table113[[#This Row],[Lent]]=\"\",0,1))","v":""},{"$f":"IF(Table113[[#This Row],[Lent]]=\"\",\"\",IF(Table113[[#This Row],[Returned]]=\"\",0,1))","v":""}]
[{"$nulls":11},{"$f":"IF(IF(Table113[[#This Row],[Disposition]]=\"Retired\",\"N/A\",IF(Table113[[#This Row],[Disposition]]=0,\"\",K18+$F$2))=0+$F$2,\"NEVER CALIBRATED\",IF(Table113[[#This Row],[Disposition]]=\"Retired\",\"N/A\",IF(Table113[[#This Row],[Disposition]]=0,\"\",K18+$F$2)))","v":""},{"$f":"IF(Table113[[#This Row],[Disposition]]=\"\",\"\",IF(AND(Table113[[#This Row],[Next Calibration]]<$E$1,Table113[[#This Row],[Disposition]]=\"Lost\"),\"Find and Calibrate\",IF(Table113[[#This Row],[Disposition]]=\"Lost\",\"Find\",IF(OR(Table113[[#This Row],[Next Calibration]]<$E$1,Table113[[#This Row],[Next Calibration]]=\"NEVER CALIBRATED\"),\"Calibrate\",\"Nominal\"))))","v":""},{"$f":"IF(((Table113[[#This Row],[Next Calibration]]-TODAY())/30)>2,\"More Than 2\",IF(((Table113[[#This Row],[Next Calibration]]-TODAY())/30)>1,\"Between 2 and 1\",\"Less than 1\"))","v":{"$error":"#VALUE!"}},{"$f":"IF(Table113[[#This Row],[Issued]]=\"\",\"\",IF(Table113[[#This Row],[Lent]]=\"\",0,1))","v":""},{"$f":"IF(Table113[[#This Row],[Lent]]=\"\",\"\",IF(Table113[[#This Row],[Returned]]=\"\",0,1))","v":""}]
[{"$nulls":11},{"$f":"IF(IF(Table113[[#This Row],[Disposition]]=\"Retired\",\"N/A\",IF(Table113[[#This Row],[Disposition]]=0,\"\",K19+$F$2))=0+$F$2,\"NEVER CALIBRATED\",IF(Table113[[#This Row],[Disposition]]=\"Retired\",\"N/A\",IF(Table113[[#This Row],[Disposition]]=0,\"\",K19+$F$2)))","v":""},{"$f":"IF(Table113[[#This Row],[Disposition]]=\"\",\"\",IF(AND(Table113[[#This Row],[Next Calibration]]<$E$1,Table113[[#This Row],[Disposition]]=\"Lost\"),\"Find and Calibrate\",IF(Table113[[#This Row],[Disposition]]=\"Lost\",\"Find\",IF(OR(Table113[[#This Row],[Next Calibration]]<$E$1,Table113[[#This Row],[Next Calibration]]=\"NEVER CALIBRATED\"),\"Calibrate\",\"Nominal\"))))","v":""},{"$f":"IF(((Table113[[#This Row],[Next Calibration]]-TODAY())/30)>2,\"More Than 2\",IF(((Table113[[#This Row],[Next Calibration]]-TODAY())/30)>1,\"Between 2 and 1\",\"Less than 1\"))","v":{"$error":"#VALUE!"}},{"$f":"IF(Table113[[#This Row],[Issued]]=\"\",\"\",IF(Table113[[#This Row],[Lent]]=\"\",0,1))","v":""},{"$f":"IF(Table113[[#This Row],[Lent]]=\"\",\"\",IF(Table113[[#This Row],[Returned]]=\"\",0,1))","v":""}]
[{"$nulls":11},{"$f":"IF(IF(Table113[[#This Row],[Disposition]]=\"Retired\",\"N/A\",IF(Table113[[#This Row],[Disposition]]=0,\"\",K20+$F$2))=0+$F$2,\"NEVER CALIBRATED\",IF(Table113[[#This Row],[Disposition]]=\"Retired\",\"N/A\",IF(Table113[[#This Row],[Disposition]]=0,\"\",K20+$F$2)))","v":""},{"$f":"IF(Table113[[#This Row],[Disposition]]=\"\",\"\",IF(AND(Table113[[#This Row],[Next Calibration]]<$E$1,Table113[[#This Row],[Disposition]]=\"Lost\"),\"Find and Calibrate\",IF(Table113[[#This Row],[Disposition]]=\"Lost\",\"Find\",IF(OR(Table113[[#This Row],[Next Calibration]]<$E$1,Table113[[#This Row],[Next Calibration]]=\"NEVER CALIBRATED\"),\"Calibrate\",\"Nominal\"))))","v":""},{"$f":"IF(((Table113[[#This Row],[Next Calibration]]-TODAY())/30)>2,\"More Than 2\",IF(((Table113[[#This Row],[Next Calibration]]-TODAY())/30)>1,\"Between 2 and 1\",\"Less than 1\"))","v":{"$error":"#VALUE!"}},{"$f":"IF(Table113[[#This Row],[Issued]]=\"\",\"\",IF(Table113[[#This Row],[Lent]]=\"\",0,1))","v":""},{"$f":"IF(Table113[[#This Row],[Lent]]=\"\",\"\",IF(Table113[[#This Row],[Returned]]=\"\",0,1))","v":""}]
[{"$nulls":11},{"$f":"IF(IF(Table113[[#This Row],[Disposition]]=\"Retired\",\"N/A\",IF(Table113[[#This Row],[Disposition]]=0,\"\",K21+$F$2))=0+$F$2,\"NEVER CALIBRATED\",IF(Table113[[#This Row],[Disposition]]=\"Retired\",\"N/A\",IF(Table113[[#This Row],[Disposition]]=0,\"\",K21+$F$2)))","v":""},{"$f":"IF(Table113[[#This Row],[Disposition]]=\"\",\"\",IF(AND(Table113[[#This Row],[Next Calibration]]<$E$1,Table113[[#This Row],[Disposition]]=\"Lost\"),\"Find and Calibrate\",IF(Table113[[#This Row],[Disposition]]=\"Lost\",\"Find\",IF(OR(Table113[[#This Row],[Next Calibration]]<$E$1,Table113[[#This Row],[Next Calibration]]=\"NEVER CALIBRATED\"),\"Calibrate\",\"Nominal\"))))","v":""},{"$f":"IF(((Table113[[#This Row],[Next Calibration]]-TODAY())/30)>2,\"More Than 2\",IF(((Table113[[#This Row],[Next Calibration]]-TODAY())/30)>1,\"Between 2 and 1\",\"Less than 1\"))","v":{"$error":"#VALUE!"}},{"$f":"IF(Table113[[#This Row],[Issued]]=\"\",\"\",IF(Table113[[#This Row],[Lent]]=\"\",0,1))","v":""},{"$f":"IF(Table113[[#This Row],[Lent]]=\"\",\"\",IF(Table113[[#This Row],[Returned]]=\"\",0,1))","v":""}]
[{"$nulls":11},{"$f":"IF(IF(Table113[[#This Row],[Disposition]]=\"Retired\",\"N/A\",IF(Table113[[#This Row],[Disposition]]=0,\"\",K22+$F$2))=0+$F$2,\"NEVER CALIBRATED\",IF(Table113[[#This Row],[Disposition]]=\"Retired\",\"N/A\",IF(Table113[[#This Row],[Disposition]]=0,\"\",K22+$F$2)))","v":""},{"$f":"IF(Table113[[#This Row],[Disposition]]=\"\",\"\",IF(AND(Table113[[#This Row],[Next Calibration]]<$E$1,Table113[[#This Row],[Disposition]]=\"Lost\"),\"Find and Calibrate\",IF(Table113[[#This Row],[Disposition]]=\"Lost\",\"Find\",IF(OR(Table113[[#This Row],[Next Calibration]]<$E$1,Table113[[#This Row],[Next Calibration]]=\"NEVER CALIBRATED\"),\"Calibrate\",\"Nominal\"))))","v":""},{"$f":"IF(((Table113[[#This Row],[Next Calibration]]-TODAY())/30)>2,\"More Than 2\",IF(((Table113[[#This Row],[Next Calibration]]-TODAY())/30)>1,\"Between 2 and 1\",\"Less than 1\"))","v":{"$error":"#VALUE!"}},{"$f":"IF(Table113[[#This Row],[Issued]]=\"\",\"\",IF(Table113[[#This Row],[Lent]]=\"\",0,1))","v":""},{"$f":"IF(Table113[[#This Row],[Lent]]=\"\",\"\",IF(Table113[[#This Row],[Returned]]=\"\",0,1))","v":""}]
[{"$nulls":11},{"$f":"IF(IF(Table113[[#This Row],[Disposition]]=\"Retired\",\"N/A\",IF(Table113[[#This Row],[Disposition]]=0,\"\",K23+$F$2))=0+$F$2,\"NEVER CALIBRATED\",IF(Table113[[#This Row],[Disposition]]=\"Retired\",\"N/A\",IF(Table113[[#This Row],[Disposition]]=0,\"\",K23+$F$2)))","v":""},{"$f":"IF(Table113[[#This Row],[Disposition]]=\"\",\"\",IF(AND(Table113[[#This Row],[Next Calibration]]<$E$1,Table113[[#This Row],[Disposition]]=\"Lost\"),\"Find and Calibrate\",IF(Table113[[#This Row],[Disposition]]=\"Lost\",\"Find\",IF(OR(Table113[[#This Row],[Next Calibration]]<$E$1,Table113[[#This Row],[Next Calibration]]=\"NEVER CALIBRATED\"),\"Calibrate\",\"Nominal\"))))","v":""},{"$f":"IF(((Table113[[#This Row],[Next Calibration]]-TODAY())/30)>2,\"More Than 2\",IF(((Table113[[#This Row],[Next Calibration]]-TODAY())/30)>1,\"Between 2 and 1\",\"Less than 1\"))","v":{"$error":"#VALUE!"}},{"$f":"IF(Table113[[#This Row],[Issued]]=\"\",\"\",IF(Table113[[#This Row],[Lent]]=\"\",0,1))","v":""},{"$f":"IF(Table113[[#This Row],[Lent]]=\"\",\"\",IF(Table113[[#This Row],[Returned]]=\"\",0,1))","v":""}]
[{"$nulls":11},{"$f":"IF(IF(Table113[[#This Row],[Disposition]]=\"Retired\",\"N/A\",IF(Table113[[#This Row],[Disposition]]=0,\"\",K24+$F$2))=0+$F$2,\"NEVER CALIBRATED\",IF(Table113[[#This Row],[Disposition]]=\"Retired\",\"N/A\",IF(Table113[[#This Row],[Disposition]]=0,\"\",K24+$F$2)))","v":""},{"$f":"IF(Table113[[#This Row],[Disposition]]=\"\",\"\",IF(AND(Table113[[#This Row],[Next Calibration]]<$E$1,Table113[[#This Row],[Disposition]]=\"Lost\"),\"Find and Calibrate\",IF(Table113[[#This Row],[Disposition]]=\"Lost\",\"Find\",IF(OR(Table113[[#This Row],[Next Calibration]]<$E$1,Table113[[#This Row],[Next Calibration]]=\"NEVER CALIBRATED\"),\"Calibrate\",\"Nominal\"))))","v":""},{"$f":"IF(((Table113[[#This Row],[Next Calibration]]-TODAY())/30)>2,\"More Than 2\",IF(((Table113[[#This Row],[Next Calibration]]-TODAY())/30)>1,\"Between 2 and 1\",\"Less than 1\"))","v":{"$error":"#VALUE!"}},{"$f":"IF(Table113[[#This Row],[Issued]]=\"\",\"\",IF(Table113[[#This Row],[Lent]]=\"\",0,1))","v":""},{"$f":"IF(Table113[[#This Row],[Lent]]=\"\",\"\",IF(Table113[[#This Row],[Returned]]=\"\",0,1))","v":""}]
[{"$nulls":11},{"$f":"IF(IF(Table113[[#This Row],[Disposition]]=\"Retired\",\"N/A\",IF(Table113[[#This Row],[Disposition]]=0,\"\",K25+$F$2))=0+$F$2,\"NEVER CALIBRATED\",IF(Table113[[#This Row],[Disposition]]=\"Retired\",\"N/A\",IF(Table113[[#This Row],[Disposition]]=0,\"\",K25+$F$2)))","v":""},{"$f":"IF(Table113[[#This Row],[Disposition]]=\"\",\"\",IF(AND(Table113[[#This Row],[Next Calibration]]<$E$1,Table113[[#This Row],[Disposition]]=\"Lost\"),\"Find and Calibrate\",IF(Table113[[#This Row],[Disposition]]=\"Lost\",\"Find\",IF(OR(Table113[[#This Row],[Next Calibration]]<$E$1,Table113[[#This Row],[Next Calibration]]=\"NEVER CALIBRATED\"),\"Calibrate\",\"Nominal\"))))","v":""},{"$f":"IF(((Table113[[#This Row],[Next Calibration]]-TODAY())/30)>2,\"More Than 2\",IF(((Table113[[#This Row],[Next Calibration]]-TODAY())/30)>1,\"Between 2 and 1\",\"Less than 1\"))","v":{"$error":"#VALUE!"}},{"$f":"IF(Table113[[#This Row],[Issued]]=\"\",\"\",IF(Table113[[#This Row],[Lent]]=\"\",0,1))","v":""},{"$f":"IF(Table113[[#This Row],[Lent]]=\"\",\"\",IF(Table113[[#This Row],[Returned]]=\"\",0,1))","v":""}]
[{"$nulls":11},{"$f":"IF(IF(Table113[[#This Row],[Disposition]]=\"Retired\",\"N/A\",IF(Table113[[#This Row],[Disposition]]=0,\"\",K26+$F$2))=0+$F$2,\"NEVER CALIBRATED\",IF(Table113[[#This Row],[Disposition]]=\"Retired\",\"N/A\",IF(Table113[[#This Row],[Disposition]]=0,\"\",K26+$F$2)))","v":""},{"$f":"IF(Table113[[#This Row],[Disposition]]=\"\",\"\",IF(AND(Table113[[#This Row],[Next Calibration]]<$E$1,Table113[[#This Row],[Disposition]]=\"Lost\"),\"Find and Calibrate\",IF(Table113[[#This Row],[Disposition]]=\"Lost\",\"Find\",IF(OR(Table113[[#This Row],[Next Calibration]]<$E$1,Table113[[#This Row],[Next Calibration]]=\"NEVER CALIBRATED\"),\"Calibrate\",\"Nominal\"))))","v":""},{"$f":"IF(((Table113[[#This Row],[Next Calibration]]-TODAY())/30)>2,\"More Than 2\",IF(((Table113[[#This Row],[Next Calibration]]-TODAY())/30)>1,\"Between 2 and 1\",\"Less than 1\"))","v":{"$error":"#VALUE!"}},{"$f":"IF(Table113[[#This Row],[Issued]]=\"\",\"\",IF(Table113[[#This Row],[Lent]]=\"\",0,1))","v":""},{"$f":"IF(Table113[[#This Row],[Lent]]=\"\",\"\",IF(Table113[[#This Row],[Returned]]=\"\",0,1))","v":""}]
[{"$nulls":11},{"$f":"IF(IF(Table113[[#This Row],[Disposition]]=\"Retired\",\"N/A\",IF(Table113[[#This Row],[Disposition]]=0,\"\",K27+$F$2))=0+$F$2,\"NEVER CALIBRATED\",IF(Table113[[#This Row],[Disposition]]=\"Retired\",\"N/A\",IF(Table113[[#This Row],[Disposition]]=0,\"\",K27+$F$2)))","v":""},{"$f":"IF(Table113[[#This Row],[Disposition]]=\"\",\"\",IF(AND(Table113[[#This Row],[Next Calibration]]<$E$1,Table113[[#This Row],[Disposition]]=\"Lost\"),\"Find and Calibrate\",IF(Table113[[#This Row],[Disposition]]=\"Lost\",\"Find\",IF(OR(Table113[[#This Row],[Next Calibration]]<$E$1,Table113[[#This Row],[Next Calibration]]=\"NEVER CALIBRATED\"),\"Calibrate\",\"Nominal\"))))","v":""},{"$f":"IF(((Table113[[#This Row],[Next Calibration]]-TODAY())/30)>2,\"More Than 2\",IF(((Table113[[#This Row],[Next Calibration]]-TODAY())/30)>1,\"Between 2 and 1\",\"Less than 1\"))","v":{"$error":"#VALUE!"}},{"$f":"IF(Table113[[#This Row],[Issued]]=\"\",\"\",IF(Table113[[#This Row],[Lent]]=\"\",0,1))","v":""},{"$f":"IF(Table113[[#This Row],[Lent]]=\"\",\"\",IF(Table113[[#This Row],[Returned]]=\"\",0,1))","v":""}]
[{"$nulls":11},{"$f":"IF(IF(Table113[[#This Row],[Disposition]]=\"Retired\",\"N/A\",IF(Table113[[#This Row],[Disposition]]=0,\"\",K28+$F$2))=0+$F$2,\"NEVER CALIBRATED\",IF(Table113[[#This Row],[Disposition]]=\"Retired\",\"N/A\",IF(Table113[[#This Row],[Disposition]]=0,\"\",K28+$F$2)))","v":""},{"$f":"IF(Table113[[#This Row],[Disposition]]=\"\",\"\",IF(AND(Table113[[#This Row],[Next Calibration]]<$E$1,Table113[[#This Row],[Disposition]]=\"Lost\"),\"Find and Calibrate\",IF(Table113[[#This Row],[Disposition]]=\"Lost\",\"Find\",IF(OR(Table113[[#This Row],[Next Calibration]]<$E$1,Table113[[#This Row],[Next Calibration]]=\"NEVER CALIBRATED\"),\"Calibrate\",\"Nominal\"))))","v":""},{"$f":"IF(((Table113[[#This Row],[Next Calibration]]-TODAY())/30)>2,\"More Than 2\",IF(((Table113[[#This Row],[Next Calibration]]-TODAY())/30)>1,\"Between 2 and 1\",\"Less than 1\"))","v":{"$error":"#VALUE!"}},{"$f":"IF(Table113[[#This Row],[Issued]]=\"\",\"\",IF(Table113[[#This Row],[Lent]]=\"\",0,1))","v":""},{"$f":"IF(Table113[[#This Row],[Lent]]=\"\",\"\",IF(Table113[[#This Row],[Returned]]=\"\",0,1))","v":""}]
[{"$nulls":11},{"$f":"IF(IF(Table113[[#This Row],[Disposition]]=\"Retired\",\"N/A\",IF(Table113[[#This Row],[Disposition]]=0,\"\",K29+$F$2))=0+$F$2,\"NEVER CALIBRATED\",IF(Table113[[#This Row],[Disposition]]=\"Retired\",\"N/A\",IF(Table113[[#This Row],[Disposition]]=0,\"\",K29+$F$2)))","v":""},{"$f":"IF(Table113[[#This Row],[Disposition]]=\"\",\"\",IF(AND(Table113[[#This Row],[Next Calibration]]<$E$1,Table113[[#This Row],[Disposition]]=\"Lost\"),\"Find and Calibrate\",IF(Table113[[#This Row],[Disposition]]=\"Lost\",\"Find\",IF(OR(Table113[[#This Row],[Next Calibration]]<$E$1,Table113[[#This Row],[Next Calibration]]=\"NEVER CALIBRATED\"),\"Calibrate\",\"Nominal\"))))","v":""},{"$f":"IF(((Table113[[#This Row],[Next Calibration]]-TODAY())/30)>2,\"More Than 2\",IF(((Table113[[#This Row],[Next Calibration]]-TODAY())/30)>1,\"Between 2 and 1\",\"Less than 1\"))","v":{"$error":"#VALUE!"}},{"$f":"IF(Table113[[#This Row],[Issued]]=\"\",\"\",IF(Table113[[#This Row],[Lent]]=\"\",0,1))","v":""},{"$f":"IF(Table113[[#This Row],[Lent]]=\"\",\"\",IF(Table113[[#This Row],[Returned]]=\"\",0,1))","v":""}]
[{"$nulls":11},{"$f":"IF(IF(Table113[[#This Row],[Disposition]]=\"Retired\",\"N/A\",IF(Table113[[#This Row],[Disposition]]=0,\"\",K30+$F$2))=0+$F$2,\"NEVER CALIBRATED\",IF(Table113[[#This Row],[Disposition]]=\"Retired\",\"N/A\",IF(Table113[[#This Row],[Disposition]]=0,\"\",K30+$F$2)))","v":""},{"$f":"IF(Table113[[#This Row],[Disposition]]=\"\",\"\",IF(AND(Table113[[#This Row],[Next Calibration]]<$E$1,Table113[[#This Row],[Disposition]]=\"Lost\"),\"Find and Calibrate\",IF(Table113[[#This Row],[Disposition]]=\"Lost\",\"Find\",IF(OR(Table113[[#This Row],[Next Calibration]]<$E$1,Table113[[#This Row],[Next Calibration]]=\"NEVER CALIBRATED\"),\"Calibrate\",\"Nominal\"))))","v":""},{"$f":"IF(((Table113[[#This Row],[Next Calibration]]-TODAY())/30)>2,\"More Than 2\",IF(((Table113[[#This Row],[Next Calibration]]-TODAY())/30)>1,\"Between 2 and 1\",\"Less than 1\"))","v":{"$error":"#VALUE!"}},{"$f":"IF(Table113[[#This Row],[Issued]]=\"\",\"\",IF(Table113[[#This Row],[Lent]]=\"\",0,1))","v":""},{"$f":"IF(Table113[[#This Row],[Lent]]=\"\",\"\",IF(Table113[[#This Row],[Returned]]=\"\",0,1))","v":""}]
[{"$nulls":11},{"$f":"IF(IF(Table113[[#This Row],[Disposition]]=\"Retired\",\"N/A\",IF(Table113[[#This Row],[Disposition]]=0,\"\",K31+$F$2))=0+$F$2,\"NEVER CALIBRATED\",IF(Table113[[#This Row],[Disposition]]=\"Retired\",\"N/A\",IF(Table113[[#This Row],[Disposition]]=0,\"\",K31+$F$2)))","v":""},{"$f":"IF(Table113[[#This Row],[Disposition]]=\"\",\"\",IF(AND(Table113[[#This Row],[Next Calibration]]<$E$1,Table113[[#This Row],[Disposition]]=\"Lost\"),\"Find and Calibrate\",IF(Table113[[#This Row],[Disposition]]=\"Lost\",\"Find\",IF(OR(Table113[[#This Row],[Next Calibration]]<$E$1,Table113[[#This Row],[Next Calibration]]=\"NEVER CALIBRATED\"),\"Calibrate\",\"Nominal\"))))","v":""},{"$f":"IF(((Table113[[#This Row],[Next Calibration]]-TODAY())/30)>2,\"More Than 2\",IF(((Table113[[#This Row],[Next Calibration]]-TODAY())/30)>1,\"Between 2 and 1\",\"Less than 1\"))","v":{"$error":"#VALUE!"}},{"$f":"IF(Table113[[#This Row],[Issued]]=\"\",\"\",IF(Table113[[#This Row],[Lent]]=\"\",0,1))","v":""},{"$f":"IF(Table113[[#This Row],[Lent]]=\"\",\"\",IF(Table113[[#This Row],[Returned]]=\"\",0,1))","v":""}]
[{"$nulls":11},{"$f":"IF(IF(Table113[[#This Row],[Disposition]]=\"Retired\",\"N/A\",IF(Table113[[#This Row],[Disposition]]=0,\"\",K32+$F$2))=0+$F$2,\"NEVER CALIBRATED\",IF(Table113[[#This Row],[Disposition]]=\"Retired\",\"N/A\",IF(Table113[[#This Row],[Disposition]]=0,\"\",K32+$F$2)))","v":""},{"$f":"IF(Table113[[#This Row],[Disposition]]=\"\",\"\",IF(AND(Table113[[#This Row],[Next Calibration]]<$E$1,Table113[[#This Row],[Disposition]]=\"Lost\"),\"Find and Calibrate\",IF(Table113[[#This Row],[Disposition]]=\"Lost\",\"Find\",IF(OR(Table113[[#This Row],[Next Calibration]]<$E$1,Table113[[#This Row],[Next Calibration]]=\"NEVER CALIBRATED\"),\"Calibrate\",\"Nominal\"))))","v":""},{"$f":"IF(((Table113[[#This Row],[Next Calibration]]-TODAY())/30)>2,\"More Than 2\",IF(((Table113[[#This Row],[Next Calibration]]-TODAY())/30)>1,\"Between 2 and 1\",\"Less than 1\"))","v":{"$error":"#VALUE!"}},{"$f":"IF(Table113[[#This Row],[Issued]]=\"\",\"\",IF(Table113[[#This Row],[Lent]]=\"\",0,1))","v":""},{"$f":"IF(Table113[[#This Row],[Lent]]=\"\",\"\",IF(Table113[[#This Row],[Returned]]=\"\",0,1))","v":""}]
[{"$nulls":11},{"$f":"IF(IF(Table113[[#This Row],[Disposition]]=\"Retired\",\"N/A\",IF(Table113[[#This Row],[Disposition]]=0,\"\",K33+$F$2))=0+$F$2,\"NEVER CALIBRATED\",IF(Table113[[#This Row],[Disposition]]=\"Retired\",\"N/A\",IF(Table113[[#This Row],[Disposition]]=0,\"\",K33+$F$2)))","v":""},{"$f":"IF(Table113[[#This Row],[Disposition]]=\"\",\"\",IF(AND(Table113[[#This Row],[Next Calibration]]<$E$1,Table113[[#This Row],[Disposition]]=\"Lost\"),\"Find and Calibrate\",IF(Table113[[#This Row],[Disposition]]=\"Lost\",\"Find\",IF(OR(Table113[[#This Row],[Next Calibration]]<$E$1,Table113[[#This Row],[Next Calibration]]=\"NEVER CALIBRATED\"),\"Calibrate\",\"Nominal\"))))","v":""},{"$f":"IF(((Table113[[#This Row],[Next Calibration]]-TODAY())/30)>2,\"More Than 2\",IF(((Table113[[#This Row],[Next Calibration]]-TODAY())/30)>1,\"Between 2 and 1\",\"Less than 1\"))","v":{"$error":"#VALUE!"}},{"$f":"IF(Table113[[#This Row],[Issued]]=\"\",\"\",IF(Table113[[#This Row],[Lent]]=\"\",0,1))","v":""},{"$f":"IF(Table113[[#This Row],[Lent]]=\"\",\"\",IF(Table113[[#This Row],[Returned]]=\"\",0,1))","v":""}]
[{"$nulls":11},{"$f":"IF(IF(Table113[[#This Row],[Disposition]]=\"Retired\",\"N/A\",IF(Table113[[#This Row],[Disposition]]=0,\"\",K34+$F$2))=0+$F$2,\"NEVER CALIBRATED\",IF(Table113[[#This Row],[Disposition]]=\"Retired\",\"N/A\",IF(Table113[[#This Row],[Disposition]]=0,\"\",K34+$F$2)))","v":""},{"$f":"IF(Table113[[#This Row],[Disposition]]=\"\",\"\",IF(AND(Table113[[#This Row],[Next Calibration]]<$E$1,Table113[[#This Row],[Disposition]]=\"Lost\"),\"Find and Calibrate\",IF(Table113[[#This Row],[Disposition]]=\"Lost\",\"Find\",IF(OR(Table113[[#This Row],[Next Calibration]]<$E$1,Table113[[#This Row],[Next Calibration]]=\"NEVER CALIBRATED\"),\"Calibrate\",\"Nominal\"))))","v":""},{"$f":"IF(((Table113[[#This Row],[Next Calibration]]-TODAY())/30)>2,\"More Than 2\",IF(((Table113[[#This Row],[Next Calibration]]-TODAY())/30)>1,\"Between 2 and 1\",\"Less than 1\"))","v":{"$error":"#VALUE!"}},{"$f":"IF(Table113[[#This Row],[Issued]]=\"\",\"\",IF(Table113[[#This Row],[Lent]]=\"\",0,1))","v":""},{"$f":"IF(Table113[[#This Row],[Lent]]=\"\",\"\",IF(Table113[[#This Row],[Returned]]=\"\",0,1))","v":""}]
[{"$nulls":11},{"$f":"IF(IF(Table113[[#This Row],[Disposition]]=\"Retired\",\"N/A\",IF(Table113[[#This Row],[Disposition]]=0,\"\",K35+$F$2))=0+$F$2,\"NEVER CALIBRATED\",IF(Table113[[#This Row],[Disposition]]=\"Retired\",\"N/A\",IF(Table113[[#This Row],[Disposition]]=0,\"\",K35+$F$2)))","v":""},{"$f":"IF(Table113[[#This Row],[Disposition]]=\"\",\"\",IF(AND(Table113[[#This Row],[Next Calibration]]<$E$1,Table113[[#This Row],[Disposition]]=\"Lost\"),\"Find and Calibrate\",IF(Table113[[#This Row],[Disposition]]=\"Lost\",\"Find\",IF(OR(Table113[[#This Row],[Next Calibration]]<$E$1,Table113[[#This Row],[Next Calibration]]=\"NEVER CALIBRATED\"),\"Calibrate\",\"Nominal\"))))","v":""},{"$f":"IF(((Table113[[#This Row],[Next Calibration]]-TODAY())/30)>2,\"More Than 2\",IF(((Table113[[#This Row],[Next Calibration]]-TODAY())/30)>1,\"Between 2 and 1\",\"Less than 1\"))","v":{"$error":"#VALUE!"}},{"$f":"IF(Table113[[#This Row],[Issued]]=\"\",\"\",IF(Table113[[#This Row],[Lent]]=\"\",0,1))","v":""},{"$f":"IF(Table113[[#This Row],[Lent]]=\"\",\"\",IF(Table113[[#This Row],[Returned]]=\"\",0,1))","v":""}]
[{"$nulls":11},{"$f":"IF(IF(Table113[[#This Row],[Disposition]]=\"Retired\",\"N/A\",IF(Table113[[#This Row],[Disposition]]=0,\"\",K36+$F$2))=0+$F$2,\"NEVER CALIBRATED\",IF(Table113[[#This Row],[Disposition]]=\"Retired\",\"N/A\",IF(Table113[[#This Row],[Disposition]]=0,\"\",K36+$F$2)))","v":""},{"$f":"IF(Table113[[#This Row],[Disposition]]=\"\",\"\",IF(AND(Table113[[#This Row],[Next Calibration]]<$E$1,Table113[[#This Row],[Disposition]]=\"Lost\"),\"Find and Calibrate\",IF(Table113[[#This Row],[Disposition]]=\"Lost\",\"Find\",IF(OR(Table113[[#This Row],[Next Calibration]]<$E$1,Table113[[#This Row],[Next Calibration]]=\"NEVER CALIBRATED\"),\"Calibrate\",\"Nominal\"))))","v":""},{"$f":"IF(((Table113[[#This Row],[Next Calibration]]-TODAY())/30)>2,\"More Than 2\",IF(((Table113[[#This Row],[Next Calibration]]-TODAY())/30)>1,\"Between 2 and 1\",\"Less than 1\"))","v":{"$error":"#VALUE!"}},{"$f":"IF(Table113[[#This Row],[Issued]]=\"\",\"\",IF(Table113[[#This Row],[Lent]]=\"\",0,1))","v":""},{"$f":"IF(Table113[[#This Row],[Lent]]=\"\",\"\",IF(Table113[[#This Row],[Returned]]=\"\",0,1))","v":""}]
[{"$nulls":11},{"$f":"IF(IF(Table113[[#This Row],[Disposition]]=\"Retired\",\"N/A\",IF(Table113[[#This Row],[Disposition]]=0,\"\",K37+$F$2))=0+$F$2,\"NEVER CALIBRATED\",IF(Table113[[#This Row],[Disposition]]=\"Retired\",\"N/A\",IF(Table113[[#This Row],[Disposition]]=0,\"\",K37+$F$2)))","v":""},{"$f":"IF(Table113[[#This Row],[Disposition]]=\"\",\"\",IF(AND(Table113[[#This Row],[Next Calibration]]<$E$1,Table113[[#This Row],[Disposition]]=\"Lost\"),\"Find and Calibrate\",IF(Table113[[#This Row],[Disposition]]=\"Lost\",\"Find\",IF(OR(Table113[[#This Row],[Next Calibration]]<$E$1,Table113[[#This Row],[Next Calibration]]=\"NEVER CALIBRATED\"),\"Calibrate\",\"Nominal\"))))","v":""},{"$f":"IF(((Table113[[#This Row],[Next Calibration]]-TODAY())/30)>2,\"More Than 2\",IF(((Table113[[#This Row],[Next Calibration]]-TODAY())/30)>1,\"Between 2 and 1\",\"Less than 1\"))","v":{"$error":"#VALUE!"}},{"$f":"IF(Table113[[#This Row],[Issued]]=\"\",\"\",IF(Table113[[#This Row],[Lent]]=\"\",0,1))","v":""},{"$f":"IF(Table113[[#This Row],[Lent]]=\"\",\"\",IF(Table113[[#This Row],[Returned]]=\"\",0,1))","v":""}]
[{"$nulls":11},{"$f":"IF(IF(Table113[[#This Row],[Disposition]]=\"Retired\",\"N/A\",IF(Table113[[#This Row],[Disposition]]=0,\"\",K38+$F$2))=0+$F$2,\"NEVER CALIBRATED\",IF(Table113[[#This Row],[Disposition]]=\"Retired\",\"N/A\",IF(Table113[[#This Row],[Disposition]]=0,\"\",K38+$F$2)))","v":""},{"$f":"IF(Table113[[#This Row],[Disposition]]=\"\",\"\",IF(AND(Table113[[#This Row],[Next Calibration]]<$E$1,Table113[[#This Row],[Disposition]]=\"Lost\"),\"Find and Calibrate\",IF(Table113[[#This Row],[Disposition]]=\"Lost\",\"Find\",IF(OR(Table113[[#This Row],[Next Calibration]]<$E$1,Table113[[#This Row],[Next Calibration]]=\"NEVER CALIBRATED\"),\"Calibrate\",\"Nominal\"))))","v":""},{"$f":"IF(((Table113[[#This Row],[Next Calibration]]-TODAY())/30)>2,\"More Than 2\",IF(((Table113[[#This Row],[Next Calibration]]-TODAY())/30)>1,\"Between 2 and 1\",\"Less than 1\"))","v":{"$error":"#VALUE!"}},{"$f":"IF(Table113[[#This Row],[Issued]]=\"\",\"\",IF(Table113[[#This Row],[Lent]]=\"\",0,1))","v":""},{"$f":"IF(Table113[[#This Row],[Lent]]=\"\",\"\",IF(Table113[[#This Row],[Returned]]=\"\",0,1))","v":""}]
[{"$nulls":11},{"$f":"IF(IF(Table113[[#This Row],[Disposition]]=\"Retired\",\"N/A\",IF(Table113[[#This Row],[Disposition]]=0,\"\",K39+$F$2))=0+$F$2,\"NEVER CALIBRATED\",IF(Table113[[#This Row],[Disposition]]=\"Retired\",\"N/A\",IF(Table113[[#This Row],[Disposition]]=0,\"\",K39+$F$2)))","v":""},{"$f":"IF(Table113[[#This Row],[Disposition]]=\"\",\"\",IF(AND(Table113[[#This Row],[Next Calibration]]<$E$1,Table113[[#This Row],[Disposition]]=\"Lost\"),\"Find and Calibrate\",IF(Table113[[#This Row],[Disposition]]=\"Lost\",\"Find\",IF(OR(Table113[[#This Row],[Next Calibration]]<$E$1,Table113[[#This Row],[Next Calibration]]=\"NEVER CALIBRATED\"),\"Calibrate\",\"Nominal\"))))","v":""},{"$f":"IF(((Table113[[#This Row],[Next Calibration]]-TODAY())/30)>2,\"More Than 2\",IF(((Table113[[#This Row],[Next Calibration]]-TODAY())/30)>1,\"Between 2 and 1\",\"Less than 1\"))","v":{"$error":"#VALUE!"}},{"$f":"IF(Table113[[#This Row],[Issued]]=\"\",\"\",IF(Table113[[#This Row],[Lent]]=\"\",0,1))","v":""},{"$f":"IF(Table113[[#This Row],[Lent]]=\"\",\"\",IF(Table113[[#This Row],[Returned]]=\"\",0,1))","v":""}]
[{"$nulls":11},{"$f":"IF(IF(Table113[[#This Row],[Disposition]]=\"Retired\",\"N/A\",IF(Table113[[#This Row],[Disposition]]=0,\"\",K40+$F$2))=0+$F$2,\"NEVER CALIBRATED\",IF(Table113[[#This Row],[Disposition]]=\"Retired\",\"N/A\",IF(Table113[[#This Row],[Disposition]]=0,\"\",K40+$F$2)))","v":""},{"$f":"IF(Table113[[#This Row],[Disposition]]=\"\",\"\",IF(AND(Table113[[#This Row],[Next Calibration]]<$E$1,Table113[[#This Row],[Disposition]]=\"Lost\"),\"Find and Calibrate\",IF(Table113[[#This Row],[Disposition]]=\"Lost\",\"Find\",IF(OR(Table113[[#This Row],[Next Calibration]]<$E$1,Table113[[#This Row],[Next Calibration]]=\"NEVER CALIBRATED\"),\"Calibrate\",\"Nominal\"))))","v":""},{"$f":"IF(((Table113[[#This Row],[Next Calibration]]-TODAY())/30)>2,\"More Than 2\",IF(((Table113[[#This Row],[Next Calibration]]-TODAY())/30)>1,\"Between 2 and 1\",\"Less than 1\"))","v":{"$error":"#VALUE!"}},{"$f":"IF(Table113[[#This Row],[Issued]]=\"\",\"\",IF(Table113[[#This Row],[Lent]]=\"\",0,1))","v":""},{"$f":"IF(Table113[[#This Row],[Lent]]=\"\",\"\",IF(Table113[[#This Row],[Returned]]=\"\",0,1))","v":""}]
[{"$nulls":11},{"$f":"IF(IF(Table113[[#This Row],[Disposition]]=\"Retired\",\"N/A\",IF(Table113[[#This Row],[Disposition]]=0,\"\",K41+$F$2))=0+$F$2,\"NEVER CALIBRATED\",IF(Table113[[#This Row],[Disposition]]=\"Retired\",\"N/A\",IF(Table113[[#This Row],[Disposition]]=0,\"\",K41+$F$2)))","v":""},{"$f":"IF(Table113[[#This Row],[Disposition]]=\"\",\"\",IF(AND(Table113[[#This Row],[Next Calibration]]<$E$1,Table113[[#This Row],[Disposition]]=\"Lost\"),\"Find and Calibrate\",IF(Table113[[#This Row],[Disposition]]=\"Lost\",\"Find\",IF(OR(Table113[[#This Row],[Next Calibration]]<$E$1,Table113[[#This Row],[Next Calibration]]=\"NEVER CALIBRATED\"),\"Calibrate\",\"Nominal\"))))","v":""},{"$f":"IF(((Table113[[#This Row],[Next Calibration]]-TODAY())/30)>2,\"More Than 2\",IF(((Table113[[#This Row],[Next Calibration]]-TODAY())/30)>1,\"Between 2 and 1\",\"Less than 1\"))","v":{"$error":"#VALUE!"}},{"$f":"IF(Table113[[#This Row],[Issued]]=\"\",\"\",IF(Table113[[#This Row],[Lent]]=\"\",0,1))","v":""},{"$f":"IF(Table113[[#This Row],[Lent]]=\"\",\"\",IF(Table113[[#This Row],[Returned]]=\"\",0,1))","v":""}]
[{"$nulls":11},{"$f":"IF(IF(Table113[[#This Row],[Disposition]]=\"Retired\",\"N/A\",IF(Table113[[#This Row],[Disposition]]=0,\"\",K42+$F$2))=0+$F$2,\"NEVER CALIBRATED\",IF(Table113[[#This Row],[Disposition]]=\"Retired\",\"N/A\",IF(Table113[[#This Row],[Disposition]]=0,\"\",K42+$F$2)))","v":""},{"$f":"IF(Table113[[#This Row],[Disposition]]=\"\",\"\",IF(AND(Table113[[#This Row],[Next Calibration]]<$E$1,Table113[[#This Row],[Disposition]]=\"Lost\"),\"Find and Calibrate\",IF(Table113[[#This Row],[Disposition]]=\"Lost\",\"Find\",IF(OR(Table113[[#This Row],[Next Calibration]]<$E$1,Table113[[#This Row],[Next Calibration]]=\"NEVER CALIBRATED\"),\"Calibrate\",\"Nominal\"))))","v":""},{"$f":"IF(((Table113[[#This Row],[Next Calibration]]-TODAY())/30)>2,\"More Than 2\",IF(((Table113[[#This Row],[Next Calibration]]-TODAY())/30)>1,\"Between 2 and 1\",\"Less than 1\"))","v":{"$error":"#VALUE!"}},{"$f":"IF(Table113[[#This Row],[Issued]]=\"\",\"\",IF(Table113[[#This Row],[Lent]]=\"\",0,1))","v":""},{"$f":"IF(Table113[[#This Row],[Lent]]=\"\",\"\",IF(Table113[[#This Row],[Returned]]=\"\",0,1))","v":""}]
[{"$nulls":11},{"$f":"IF(IF(Table113[[#This Row],[Disposition]]=\"Retired\",\"N/A\",IF(Table113[[#This Row],[Disposition]]=0,\"\",K43+$F$2))=0+$F$2,\"NEVER CALIBRATED\",IF(Table113[[#This Row],[Disposition]]=\"Retired\",\"N/A\",IF(Table113[[#This Row],[Disposition]]=0,\"\",K43+$F$2)))","v":""},{"$f":"IF(Table113[[#This Row],[Disposition]]=\"\",\"\",IF(AND(Table113[[#This Row],[Next Calibration]]<$E$1,Table113[[#This Row],[Disposition]]=\"Lost\"),\"Find and Calibrate\",IF(Table113[[#This Row],[Disposition]]=\"Lost\",\"Find\",IF(OR(Table113[[#This Row],[Next Calibration]]<$E$1,Table113[[#This Row],[Next Calibration]]=\"NEVER CALIBRATED\"),\"Calibrate\",\"Nominal\"))))","v":""},{"$f":"IF(((Table113[[#This Row],[Next Calibration]]-TODAY())/30)>2,\"More Than 2\",IF(((Table113[[#This Row],[Next Calibration]]-TODAY())/30)>1,\"Between 2 and 1\",\"Less than 1\"))","v":{"$error":"#VALUE!"}},{"$f":"IF(Table113[[#This Row],[Issued]]=\"\",\"\",IF(Table113[[#This Row],[Lent]]=\"\",0,1))","v":""},{"$f":"IF(Table113[[#This Row],[Lent]]=\"\",\"\",IF(Table113[[#This Row],[Returned]]=\"\",0,1))","v":""}]
[{"$nulls":11},{"$f":"IF(IF(Table113[[#This Row],[Disposition]]=\"Retired\",\"N/A\",IF(Table113[[#This Row],[Disposition]]=0,\"\",K44+$F$2))=0+$F$2,\"NEVER CALIBRATED\",IF(Table113[[#This Row],[Disposition]]=\"Retired\",\"N/A\",IF(Table113[[#This Row],[Disposition]]=0,\"\",K44+$F$2)))","v":""},{"$f":"IF(Table113[[#This Row],[Disposition]]=\"\",\"\",IF(AND(Table113[[#This Row],[Next Calibration]]<$E$1,Table113[[#This Row],[Disposition]]=\"Lost\"),\"Find and Calibrate\",IF(Table113[[#This Row],[Disposition]]=\"Lost\",\"Find\",IF(OR(Table113[[#This Row],[Next Calibration]]<$E$1,Table113[[#This Row],[Next Calibration]]=\"NEVER CALIBRATED\"),\"Calibrate\",\"Nominal\"))))","v":""},{"$f":"IF(((Table113[[#This Row],[Next Calibration]]-TODAY())/30)>2,\"More Than 2\",IF(((Table113[[#This Row],[Next Calibration]]-TODAY())/30)>1,\"Between 2 and 1\",\"Less than 1\"))","v":{"$error":"#VALUE!"}},{"$f":"IF(Table113[[#This Row],[Issued]]=\"\",\"\",IF(Table113[[#This Row],[Lent]]=\"\",0,1))","v":""},{"$f":"IF(Table113[[#This Row],[Lent]]=\"\",\"\",IF(Table113[[#This Row],[Returned]]=\"\",0,1))","v":""}]
[{"$nulls":11},{"$f":"IF(IF(Table113[[#This Row],[Disposition]]=\"Retired\",\"N/A\",IF(Table113[[#This Row],[Disposition]]=0,\"\",K45+$F$2))=0+$F$2,\"NEVER CALIBRATED\",IF(Table113[[#This Row],[Disposition]]=\"Retired\",\"N/A\",IF(Table113[[#This Row],[Disposition]]=0,\"\",K45+$F$2)))","v":""},{"$f":"IF(Table113[[#This Row],[Disposition]]=\"\",\"\",IF(AND(Table113[[#This Row],[Next Calibration]]<$E$1,Table113[[#This Row],[Disposition]]=\"Lost\"),\"Find and Calibrate\",IF(Table113[[#This Row],[Disposition]]=\"Lost\",\"Find\",IF(OR(Table113[[#This Row],[Next Calibration]]<$E$1,Table113[[#This Row],[Next Calibration]]=\"NEVER CALIBRATED\"),\"Calibrate\",\"Nominal\"))))","v":""},{"$f":"IF(((Table113[[#This Row],[Next Calibration]]-TODAY())/30)>2,\"More Than 2\",IF(((Table113[[#This Row],[Next Calibration]]-TODAY())/30)>1,\"Between 2 and 1\",\"Less than 1\"))","v":{"$error":"#VALUE!"}},{"$f":"IF(Table113[[#This Row],[Issued]]=\"\",\"\",IF(Table113[[#This Row],[Lent]]=\"\",0,1))","v":""},{"$f":"IF(Table113[[#This Row],[Lent]]=\"\",\"\",IF(Table113[[#This Row],[Returned]]=\"\",0,1))","v":""}]
[{"$nulls":11},{"$f":"IF(IF(Table113[[#This Row],[Disposition]]=\"Retired\",\"N/A\",IF(Table113[[#This Row],[Disposition]]=0,\"\",K46+$F$2))=0+$F$2,\"NEVER CALIBRATED\",IF(Table113[[#This Row],[Disposition]]=\"Retired\",\"N/A\",IF(Table113[[#This Row],[Disposition]]=0,\"\",K46+$F$2)))","v":""},{"$f":"IF(Table113[[#This Row],[Disposition]]=\"\",\"\",IF(AND(Table113[[#This Row],[Next Calibration]]<$E$1,Table113[[#This Row],[Disposition]]=\"Lost\"),\"Find and Calibrate\",IF(Table113[[#This Row],[Disposition]]=\"Lost\",\"Find\",IF(OR(Table113[[#This Row],[Next Calibration]]<$E$1,Table113[[#This Row],[Next Calibration]]=\"NEVER CALIBRATED\"),\"Calibrate\",\"Nominal\"))))","v":""},{"$f":"IF(((Table113[[#This Row],[Next Calibration]]-TODAY())/30)>2,\"More Than 2\",IF(((Table113[[#This Row],[Next Calibration]]-TODAY())/30)>1,\"Between 2 and 1\",\"Less than 1\"))","v":{"$error":"#VALUE!"}},{"$f":"IF(Table113[[#This Row],[Issued]]=\"\",\"\",IF(Table113[[#This Row],[Lent]]=\"\",0,1))","v":""},{"$f":"IF(Table113[[#This Row],[Lent]]=\"\",\"\",IF(Table113[[#This Row],[Returned]]=\"\",0,1))","v":""}]
[{"$nulls":11},{"$f":"IF(IF(Table113[[#This Row],[Disposition]]=\"Retired\",\"N/A\",IF(Table113[[#This Row],[Disposition]]=0,\"\",K47+$F$2))=0+$F$2,\"NEVER CALIBRATED\",IF(Table113[[#This Row],[Disposition]]=\"Retired\",\"N/A\",IF(Table113[[#This Row],[Disposition]]=0,\"\",K47+$F$2)))","v":""},{"$f":"IF(Table113[[#This Row],[Disposition]]=\"\",\"\",IF(AND(Table113[[#This Row],[Next Calibration]]<$E$1,Table113[[#This Row],[Disposition]]=\"Lost\"),\"Find and Calibrate\",IF(Table113[[#This Row],[Disposition]]=\"Lost\",\"Find\",IF(OR(Table113[[#This Row],[Next Calibration]]<$E$1,Table113[[#This Row],[Next Calibration]]=\"NEVER CALIBRATED\"),\"Calibrate\",\"Nominal\"))))","v":""},{"$f":"IF(((Table113[[#This Row],[Next Calibration]]-TODAY())/30)>2,\"More Than 2\",IF(((Table113[[#This Row],[Next Calibration]]-TODAY())/30)>1,\"Between 2 and 1\",\"Less than 1\"))","v":{"$error":"#VALUE!"}},{"$f":"IF(Table113[[#This Row],[Issued]]=\"\",\"\",IF(Table113[[#This Row],[Lent]]=\"\",0,1))","v":""},{"$f":"IF(Table113[[#This Row],[Lent]]=\"\",\"\",IF(Table113[[#This Row],[Returned]]=\"\",0,1))","v":""}]
[{"$nulls":11},{"$f":"IF(IF(Table113[[#This Row],[Disposition]]=\"Retired\",\"N/A\",IF(Table113[[#This Row],[Disposition]]=0,\"\",K48+$F$2))=0+$F$2,\"NEVER CALIBRATED\",IF(Table113[[#This Row],[Disposition]]=\"Retired\",\"N/A\",IF(Table113[[#This Row],[Disposition]]=0,\"\",K48+$F$2)))","v":""},{"$f":"IF(Table113[[#This Row],[Disposition]]=\"\",\"\",IF(AND(Table113[[#This Row],[Next Calibration]]<$E$1,Table113[[#This Row],[Disposition]]=\"Lost\"),\"Find and Calibrate\",IF(Table113[[#This Row],[Disposition]]=\"Lost\",\"Find\",IF(OR(Table113[[#This Row],[Next Calibration]]<$E$1,Table113[[#This Row],[Next Calibration]]=\"NEVER CALIBRATED\"),\"Calibrate\",\"Nominal\"))))","v":""},{"$f":"IF(((Table113[[#This Row],[Next Calibration]]-TODAY())/30)>2,\"More Than 2\",IF(((Table113[[#This Row],[Next Calibration]]-TODAY())/30)>1,\"Between 2 and 1\",\"Less than 1\"))","v":{"$error":"#VALUE!"}},{"$f":"IF(Table113[[#This Row],[Issued]]=\"\",\"\",IF(Table113[[#This Row],[Lent]]=\"\",0,1))","v":""},{"$f":"IF(Table113[[#This Row],[Lent]]=\"\",\"\",IF(Table113[[#This Row],[Returned]]=\"\",0,1))","v":""}]
[{"$nulls":11},{"$f":"IF(IF(Table113[[#This Row],[Disposition]]=\"Retired\",\"N/A\",IF(Table113[[#This Row],[Disposition]]=0,\"\",K49+$F$2))=0+$F$2,\"NEVER CALIBRATED\",IF(Table113[[#This Row],[Disposition]]=\"Retired\",\"N/A\",IF(Table113[[#This Row],[Disposition]]=0,\"\",K49+$F$2)))","v":""},{"$f":"IF(Table113[[#This Row],[Disposition]]=\"\",\"\",IF(AND(Table113[[#This Row],[Next Calibration]]<$E$1,Table113[[#This Row],[Disposition]]=\"Lost\"),\"Find and Calibrate\",IF(Table113[[#This Row],[Disposition]]=\"Lost\",\"Find\",IF(OR(Table113[[#This Row],[Next Calibration]]<$E$1,Table113[[#This Row],[Next Calibration]]=\"NEVER CALIBRATED\"),\"Calibrate\",\"Nominal\"))))","v":""},{"$f":"IF(((Table113[[#This Row],[Next Calibration]]-TODAY())/30)>2,\"More Than 2\",IF(((Table113[[#This Row],[Next Calibration]]-TODAY())/30)>1,\"Between 2 and 1\",\"Less than 1\"))","v":{"$error":"#VALUE!"}},{"$f":"IF(Table113[[#This Row],[Issued]]=\"\",\"\",IF(Table113[[#This Row],[Lent]]=\"\",0,1))","v":""},{"$f":"IF(Table113[[#This Row],[Lent]]=\"\",\"\",IF(Table113[[#This Row],[Returned]]=\"\",0,1))","v":""}]
[{"$nulls":11},{"$f":"IF(IF(Table113[[#This Row],[Disposition]]=\"Retired\",\"N/A\",IF(Table113[[#This Row],[Disposition]]=0,\"\",K50+$F$2))=0+$F$2,\"NEVER CALIBRATED\",IF(Table113[[#This Row],[Disposition]]=\"Retired\",\"N/A\",IF(Table113[[#This Row],[Disposition]]=0,\"\",K50+$F$2)))","v":""},{"$f":"IF(Table113[[#This Row],[Disposition]]=\"\",\"\",IF(AND(Table113[[#This Row],[Next Calibration]]<$E$1,Table113[[#This Row],[Disposition]]=\"Lost\"),\"Find and Calibrate\",IF(Table113[[#This Row],[Disposition]]=\"Lost\",\"Find\",IF(OR(Table113[[#This Row],[Next Calibration]]<$E$1,Table113[[#This Row],[Next Calibration]]=\"NEVER CALIBRATED\"),\"Calibrate\",\"Nominal\"))))","v":""},{"$f":"IF(((Table113[[#This Row],[Next Calibration]]-TODAY())/30)>2,\"More Than 2\",IF(((Table113[[#This Row],[Next Calibration]]-TODAY())/30)>1,\"Between 2 and 1\",\"Less than 1\"))","v":{"$error":"#VALUE!"}},{"$f":"IF(Table113[[#This Row],[Issued]]=\"\",\"\",IF(Table113[[#This Row],[Lent]]=\"\",0,1))","v":""},{"$f":"IF(Table113[[#This Row],[Lent]]=\"\",\"\",IF(Table113[[#This Row],[Returned]]=\"\",0,1))","v":""}]
[{"$nulls":11},{"$f":"IF(IF(Table113[[#This Row],[Disposition]]=\"Retired\",\"N/A\",IF(Table113[[#This Row],[Disposition]]=0,\"\",K51+$F$2))=0+$F$2,\"NEVER CALIBRATED\",IF(Table113[[#This Row],[Disposition]]=\"Retired\",\"N/A\",IF(Table113[[#This Row],[Disposition]]=0,\"\",K51+$F$2)))","v":""},{"$f":"IF(Table113[[#This Row],[Disposition]]=\"\",\"\",IF(AND(Table113[[#This Row],[Next Calibration]]<$E$1,Table113[[#This Row],[Disposition]]=\"Lost\"),\"Find and Calibrate\",IF(Table113[[#This Row],[Disposition]]=\"Lost\",\"Find\",IF(OR(Table113[[#This Row],[Next Calibration]]<$E$1,Table113[[#This Row],[Next Calibration]]=\"NEVER CALIBRATED\"),\"Calibrate\",\"Nominal\"))))","v":""},{"$f":"IF(((Table113[[#This Row],[Next Calibration]]-TODAY())/30)>2,\"More Than 2\",IF(((Table113[[#This Row],[Next Calibration]]-TODAY())/30)>1,\"Between 2 and 1\",\"Less than 1\"))","v":{"$error":"#VALUE!"}},{"$f":"IF(Table113[[#This Row],[Issued]]=\"\",\"\",IF(Table113[[#This Row],[Lent]]=\"\",0,1))","v":""},{"$f":"IF(Table113[[#This Row],[Lent]]=\"\",\"\",IF(Table113[[#This Row],[Returned]]=\"\",0,1))","v":""}]
[{"$nulls":11},{"$f":"IF(IF(Table113[[#This Row],[Disposition]]=\"Retired\",\"N/A\",IF(Table113[[#This Row],[Disposition]]=0,\"\",K52+$F$2))=0+$F$2,\"NEVER CALIBRATED\",IF(Table113[[#This Row],[Disposition]]=\"Retired\",\"N/A\",IF(Table113[[#This Row],[Disposition]]=0,\"\",K52+$F$2)))","v":""},{"$f":"IF(Table113[[#This Row],[Disposition]]=\"\",\"\",IF(AND(Table113[[#This Row],[Next Calibration]]<$E$1,Table113[[#This Row],[Disposition]]=\"Lost\"),\"Find and Calibrate\",IF(Table113[[#This Row],[Disposition]]=\"Lost\",\"Find\",IF(OR(Table113[[#This Row],[Next Calibration]]<$E$1,Table113[[#This Row],[Next Calibration]]=\"NEVER CALIBRATED\"),\"Calibrate\",\"Nominal\"))))","v":""},{"$f":"IF(((Table113[[#This Row],[Next Calibration]]-TODAY())/30)>2,\"More Than 2\",IF(((Table113[[#This Row],[Next Calibration]]-TODAY())/30)>1,\"Between 2 and 1\",\"Less than 1\"))","v":{"$error":"#VALUE!"}},{"$f":"IF(Table113[[#This Row],[Issued]]=\"\",\"\",IF(Table113[[#This Row],[Lent]]=\"\",0,1))","v":""},{"$f":"IF(Table113[[#This Row],[Lent]]=\"\",\"\",IF(Table113[[#This Row],[Returned]]=\"\",0,1))","v":""}]
[{"$nulls":11},{"$f":"IF(IF(Table113[[#This Row],[Disposition]]=\"Retired\",\"N/A\",IF(Table113[[#This Row],[Disposition]]=0,\"\",K53+$F$2))=0+$F$2,\"NEVER CALIBRATED\",IF(Table113[[#This Row],[Disposition]]=\"Retired\",\"N/A\",IF(Table113[[#This Row],[Disposition]]=0,\"\",K53+$F$2)))","v":""},{"$f":"IF(Table113[[#This Row],[Disposition]]=\"\",\"\",IF(AND(Table113[[#This Row],[Next Calibration]]<$E$1,Table113[[#This Row],[Disposition]]=\"Lost\"),\"Find and Calibrate\",IF(Table113[[#This Row],[Disposition]]=\"Lost\",\"Find\",IF(OR(Table113[[#This Row],[Next Calibration]]<$E$1,Table113[[#This Row],[Next Calibration]]=\"NEVER CALIBRATED\"),\"Calibrate\",\"Nominal\"))))","v":""},{"$f":"IF(((Table113[[#This Row],[Next Calibration]]-TODAY())/30)>2,\"More Than 2\",IF(((Table113[[#This Row],[Next Calibration]]-TODAY())/30)>1,\"Between 2 and 1\",\"Less than 1\"))","v":{"$error":"#VALUE!"}},{"$f":"IF(Table113[[#This Row],[Issued]]=\"\",\"\",IF(Table113[[#This Row],[Lent]]=\"\",0,1))","v":""},{"$f":"IF(Table113[[#This Row],[Lent]]=\"\",\"\",IF(Table113[[#This Row],[Returned]]=\"\",0,1))","v":""}]
[{"$nulls":11},{"$f":"IF(IF(Table113[[#This Row],[Disposition]]=\"Retired\",\"N/A\",IF(Table113[[#This Row],[Disposition]]=0,\"\",K54+$F$2))=0+$F$2,\"NEVER CALIBRATED\",IF(Table113[[#This Row],[Disposition]]=\"Retired\",\"N/A\",IF(Table113[[#This Row],[Disposition]]=0,\"\",K54+$F$2)))","v":""},{"$f":"IF(Table113[[#This Row],[Disposition]]=\"\",\"\",IF(AND(Table113[[#This Row],[Next Calibration]]<$E$1,Table113[[#This Row],[Disposition]]=\"Lost\"),\"Find and Calibrate\",IF(Table113[[#This Row],[Disposition]]=\"Lost\",\"Find\",IF(OR(Table113[[#This Row],[Next Calibration]]<$E$1,Table113[[#This Row],[Next Calibration]]=\"NEVER CALIBRATED\"),\"Calibrate\",\"Nominal\"))))","v":""},{"$f":"IF(((Table113[[#This Row],[Next Calibration]]-TODAY())/30)>2,\"More Than 2\",IF(((Table113[[#This Row],[Next Calibration]]-TODAY())/30)>1,\"Between 2 and 1\",\"Less than 1\"))","v":{"$error":"#VALUE!"}},{"$f":"IF(Table113[[#This Row],[Issued]]=\"\",\"\",IF(Table113[[#This Row],[Lent]]=\"\",0,1))","v":""},{"$f":"IF(Table113[[#This Row],[Lent]]=\"\",\"\",IF(Table113[[#This Row],[Returned]]=\"\",0,1))","v":""}]
[{"$nulls":11},{"$f":"IF(IF(Table113[[#This Row],[Disposition]]=\"Retired\",\"N/A\",IF(Table113[[#This Row],[Disposition]]=0,\"\",K55+$F$2))=0+$F$2,\"NEVER CALIBRATED\",IF(Table113[[#This Row],[Disposition]]=\"Retired\",\"N/A\",IF(Table113[[#This Row],[Disposition]]=0,\"\",K55+$F$2)))","v":""},{"$f":"IF(Table113[[#This Row],[Disposition]]=\"\",\"\",IF(AND(Table113[[#This Row],[Next Calibration]]<$E$1,Table113[[#This Row],[Disposition]]=\"Lost\"),\"Find and Calibrate\",IF(Table113[[#This Row],[Disposition]]=\"Lost\",\"Find\",IF(OR(Table113[[#This Row],[Next Calibration]]<$E$1,Table113[[#This Row],[Next Calibration]]=\"NEVER CALIBRATED\"),\"Calibrate\",\"Nominal\"))))","v":""},{"$f":"IF(((Table113[[#This Row],[Next Calibration]]-TODAY())/30)>2,\"More Than 2\",IF(((Table113[[#This Row],[Next Calibration]]-TODAY())/30)>1,\"Between 2 and 1\",\"Less than 1\"))","v":{"$error":"#VALUE!"}},{"$f":"IF(Table113[[#This Row],[Issued]]=\"\",\"\",IF(Table113[[#This Row],[Lent]]=\"\",0,1))","v":""},{"$f":"IF(Table113[[#This Row],[Lent]]=\"\",\"\",IF(Table113[[#This Row],[Returned]]=\"\",0,1))","v":""}]
[{"$nulls":11},{"$f":"IF(IF(Table113[[#This Row],[Disposition]]=\"Retired\",\"N/A\",IF(Table113[[#This Row],[Disposition]]=0,\"\",K56+$F$2))=0+$F$2,\"NEVER CALIBRATED\",IF(Table113[[#This Row],[Disposition]]=\"Retired\",\"N/A\",IF(Table113[[#This Row],[Disposition]]=0,\"\",K56+$F$2)))","v":""},{"$f":"IF(Table113[[#This Row],[Disposition]]=\"\",\"\",IF(AND(Table113[[#This Row],[Next Calibration]]<$E$1,Table113[[#This Row],[Disposition]]=\"Lost\"),\"Find and Calibrate\",IF(Table113[[#This Row],[Disposition]]=\"Lost\",\"Find\",IF(OR(Table113[[#This Row],[Next Calibration]]<$E$1,Table113[[#This Row],[Next Calibration]]=\"NEVER CALIBRATED\"),\"Calibrate\",\"Nominal\"))))","v":""},{"$f":"IF(((Table113[[#This Row],[Next Calibration]]-TODAY())/30)>2,\"More Than 2\",IF(((Table113[[#This Row],[Next Calibration]]-TODAY())/30)>1,\"Between 2 and 1\",\"Less than 1\"))","v":{"$error":"#VALUE!"}},{"$f":"IF(Table113[[#This Row],[Issued]]=\"\",\"\",IF(Table113[[#This Row],[Lent]]=\"\",0,1))","v":""},{"$f":"IF(Table113[[#This Row],[Lent]]=\"\",\"\",IF(Table113[[#This Row],[Returned]]=\"\",0,1))","v":""}]
[{"$nulls":11},{"$f":"IF(IF(Table113[[#This Row],[Disposition]]=\"Retired\",\"N/A\",IF(Table113[[#This Row],[Disposition]]=0,\"\",K57+$F$2))=0+$F$2,\"NEVER CALIBRATED\",IF(Table113[[#This Row],[Disposition]]=\"Retired\",\"N/A\",IF(Table113[[#This Row],[Disposition]]=0,\"\",K57+$F$2)))","v":""},{"$f":"IF(Table113[[#This Row],[Disposition]]=\"\",\"\",IF(AND(Table113[[#This Row],[Next Calibration]]<$E$1,Table113[[#This Row],[Disposition]]=\"Lost\"),\"Find and Calibrate\",IF(Table113[[#This Row],[Disposition]]=\"Lost\",\"Find\",IF(OR(Table113[[#This Row],[Next Calibration]]<$E$1,Table113[[#This Row],[Next Calibration]]=\"NEVER CALIBRATED\"),\"Calibrate\",\"Nominal\"))))","v":""},{"$f":"IF(((Table113[[#This Row],[Next Calibration]]-TODAY())/30)>2,\"More Than 2\",IF(((Table113[[#This Row],[Next Calibration]]-TODAY())/30)>1,\"Between 2 and 1\",\"Less than 1\"))","v":{"$error":"#VALUE!"}},{"$f":"IF(Table113[[#This Row],[Issued]]=\"\",\"\",IF(Table113[[#This Row],[Lent]]=\"\",0,1))","v":""},{"$f":"IF(Table113[[#This Row],[Lent]]=\"\",\"\",IF(Table113[[#This Row],[Returned]]=\"\",0,1))","v":""}]
[{"$nulls":11},{"$f":"IF(IF(Table113[[#This Row],[Disposition]]=\"Retired\",\"N/A\",IF(Table113[[#This Row],[Disposition]]=0,\"\",K58+$F$2))=0+$F$2,\"NEVER CALIBRATED\",IF(Table113[[#This Row],[Disposition]]=\"Retired\",\"N/A\",IF(Table113[[#This Row],[Disposition]]=0,\"\",K58+$F$2)))","v":""},{"$f":"IF(Table113[[#This Row],[Disposition]]=\"\",\"\",IF(AND(Table113[[#This Row],[Next Calibration]]<$E$1,Table113[[#This Row],[Disposition]]=\"Lost\"),\"Find and Calibrate\",IF(Table113[[#This Row],[Disposition]]=\"Lost\",\"Find\",IF(OR(Table113[[#This Row],[Next Calibration]]<$E$1,Table113[[#This Row],[Next Calibration]]=\"NEVER CALIBRATED\"),\"Calibrate\",\"Nominal\"))))","v":""},{"$f":"IF(((Table113[[#This Row],[Next Calibration]]-TODAY())/30)>2,\"More Than 2\",IF(((Table113[[#This Row],[Next Calibration]]-TODAY())/30)>1,\"Between 2 and 1\",\"Less than 1\"))","v":{"$error":"#VALUE!"}},{"$f":"IF(Table113[[#This Row],[Issued]]=\"\",\"\",IF(Table113[[#This Row],[Lent]]=\"\",0,1))","v":""},{"$f":"IF(Table113[[#This Row],[Lent]]=\"\",\"\",IF(Table113[[#This Row],[Returned]]=\"\",0,1))","v":""}]
[{"$nulls":11},{"$f":"IF(IF(Table113[[#This Row],[Disposition]]=\"Retired\",\"N/A\",IF(Table113[[#This Row],[Disposition]]=0,\"\",K59+$F$2))=0+$F$2,\"NEVER CALIBRATED\",IF(Table113[[#This Row],[Disposition]]=\"Retired\",\"N/A\",IF(Table113[[#This Row],[Disposition]]=0,\"\",K59+$F$2)))","v":""},{"$f":"IF(Table113[[#This Row],[Disposition]]=\"\",\"\",IF(AND(Table113[[#This Row],[Next Calibration]]<$E$1,Table113[[#This Row],[Disposition]]=\"Lost\"),\"Find and Calibrate\",IF(Table113[[#This Row],[Disposition]]=\"Lost\",\"Find\",IF(OR(Table113[[#This Row],[Next Calibration]]<$E$1,Table113[[#This Row],[Next Calibration]]=\"NEVER CALIBRATED\"),\"Calibrate\",\"Nominal\"))))","v":""},{"$f":"IF(((Table113[[#This Row],[Next Calibration]]-TODAY())/30)>2,\"More Than 2\",IF(((Table113[[#This Row],[Next Calibration]]-TODAY())/30)>1,\"Between 2 and 1\",\"Less than 1\"))","v":{"$error":"#VALUE!"}},{"$f":"IF(Table113[[#This Row],[Issued]]=\"\",\"\",IF(Table113[[#This Row],[Lent]]=\"\",0,1))","v":""},{"$f":"IF(Table113[[#This Row],[Lent]]=\"\",\"\",IF(Table113[[#This Row],[Returned]]=\"\",0,1))","v":""}]
[{"$nulls":11},{"$f":"IF(IF(Table113[[#This Row],[Disposition]]=\"Retired\",\"N/A\",IF(Table113[[#This Row],[Disposition]]=0,\"\",K60+$F$2))=0+$F$2,\"NEVER CALIBRATED\",IF(Table113[[#This Row],[Disposition]]=\"Retired\",\"N/A\",IF(Table113[[#This Row],[Disposition]]=0,\"\",K60+$F$2)))","v":""},{"$f":"IF(Table113[[#This Row],[Disposition]]=\"\",\"\",IF(AND(Table113[[#This Row],[Next Calibration]]<$E$1,Table113[[#This Row],[Disposition]]=\"Lost\"),\"Find and Calibrate\",IF(Table113[[#This Row],[Disposition]]=\"Lost\",\"Find\",IF(OR(Table113[[#This Row],[Next Calibration]]<$E$1,Table113[[#This Row],[Next Calibration]]=\"NEVER CALIBRATED\"),\"Calibrate\",\"Nominal\"))))","v":""},{"$f":"IF(((Table113[[#This Row],[Next Calibration]]-TODAY())/30)>2,\"More Than 2\",IF(((Table113[[#This Row],[Next Calibration]]-TODAY())/30)>1,\"Between 2 and 1\",\"Less than 1\"))","v":{"$error":"#VALUE!"}},{"$f":"IF(Table113[[#This Row],[Issued]]=\"\",\"\",IF(Table113[[#This Row],[Lent]]=\"\",0,1))","v":""},{"$f":"IF(Table113[[#This Row],[Lent]]=\"\",\"\",IF(Table113[[#This Row],[Returned]]=\"\",0,1))","v":""}]
[{"$nulls":11},{"$f":"IF(IF(Table113[[#This Row],[Disposition]]=\"Retired\",\"N/A\",IF(Table113[[#This Row],[Disposition]]=0,\"\",K61+$F$2))=0+$F$2,\"NEVER CALIBRATED\",IF(Table113[[#This Row],[Disposition]]=\"Retired\",\"N/A\",IF(Table113[[#This Row],[Disposition]]=0,\"\",K61+$F$2)))","v":""},{"$f":"IF(Table113[[#This Row],[Disposition]]=\"\",\"\",IF(AND(Table113[[#This Row],[Next Calibration]]<$E$1,Table113[[#This Row],[Disposition]]=\"Lost\"),\"Find and Calibrate\",IF(Table113[[#This Row],[Disposition]]=\"Lost\",\"Find\",IF(OR(Table113[[#This Row],[Next Calibration]]<$E$1,Table113[[#This Row],[Next Calibration]]=\"NEVER CALIBRATED\"),\"Calibrate\",\"Nominal\"))))","v":""},{"$f":"IF(((Table113[[#This Row],[Next Calibration]]-TODAY())/30)>2,\"More Than 2\",IF(((Table113[[#This Row],[Next Calibration]]-TODAY())/30)>1,\"Between 2 and 1\",\"Less than 1\"))","v":{"$error":"#VALUE!"}},{"$f":"IF(Table113[[#This Row],[Issued]]=\"\",\"\",IF(Table113[[#This Row],[Lent]]=\"\",0,1))","v":""},{"$f":"IF(Table113[[#This Row],[Lent]]=\"\",\"\",IF(Table113[[#This Row],[Returned]]=\"\",0,1))","v":""}]
[{"$nulls":11},{"$f":"IF(IF(Table113[[#This Row],[Disposition]]=\"Retired\",\"N/A\",IF(Table113[[#This Row],[Disposition]]=0,\"\",K62+$F$2))=0+$F$2,\"NEVER CALIBRATED\",IF(Table113[[#This Row],[Disposition]]=\"Retired\",\"N/A\",IF(Table113[[#This Row],[Disposition]]=0,\"\",K62+$F$2)))","v":""},{"$f":"IF(Table113[[#This Row],[Disposition]]=\"\",\"\",IF(AND(Table113[[#This Row],[Next Calibration]]<$E$1,Table113[[#This Row],[Disposition]]=\"Lost\"),\"Find and Calibrate\",IF(Table113[[#This Row],[Disposition]]=\"Lost\",\"Find\",IF(OR(Table113[[#This Row],[Next Calibration]]<$E$1,Table113[[#This Row],[Next Calibration]]=\"NEVER CALIBRATED\"),\"Calibrate\",\"Nominal\"))))","v":""},{"$f":"IF(((Table113[[#This Row],[Next Calibration]]-TODAY())/30)>2,\"More Than 2\",IF(((Table113[[#This Row],[Next Calibration]]-TODAY())/30)>1,\"Between 2 and 1\",\"Less than 1\"))","v":{"$error":"#VALUE!"}},{"$f":"IF(Table113[[#This Row],[Issued]]=\"\",\"\",IF(Table113[[#This Row],[Lent]]=\"\",0,1))","v":""},{"$f":"IF(Table113[[#This Row],[Lent]]=\"\",\"\",IF(Table113[[#This Row],[Returned]]=\"\",0,1))","v":""}]
[{"$nulls":11},{"$f":"IF(IF(Table113[[#This Row],[Disposition]]=\"Retired\",\"N/A\",IF(Table113[[#This Row],[Disposition]]=0,\"\",K63+$F$2))=0+$F$2,\"NEVER CALIBRATED\",IF(Table113[[#This Row],[Disposition]]=\"Retired\",\"N/A\",IF(Table113[[#This Row],[Disposition]]=0,\"\",K63+$F$2)))","v":""},{"$f":"IF(Table113[[#This Row],[Disposition]]=\"\",\"\",IF(AND(Table113[[#This Row],[Next Calibration]]<$E$1,Table113[[#This Row],[Disposition]]=\"Lost\"),\"Find and Calibrate\",IF(Table113[[#This Row],[Disposition]]=\"Lost\",\"Find\",IF(OR(Table113[[#This Row],[Next Calibration]]<$E$1,Table113[[#This Row],[Next Calibration]]=\"NEVER CALIBRATED\"),\"Calibrate\",\"Nominal\"))))","v":""},{"$f":"IF(((Table113[[#This Row],[Next Calibration]]-TODAY())/30)>2,\"More Than 2\",IF(((Table113[[#This Row],[Next Calibration]]-TODAY())/30)>1,\"Between 2 and 1\",\"Less than 1\"))","v":{"$error":"#VALUE!"}},{"$f":"IF(Table113[[#This Row],[Issued]]=\"\",\"\",IF(Table113[[#This Row],[Lent]]=\"\",0,1))","v":""},{"$f":"IF(Table113[[#This Row],[Lent]]=\"\",\"\",IF(Table113[[#This Row],[Returned]]=\"\",0,1))","v":""}]
[{"$nulls":11},{"$f":"IF(IF(Table113[[#This Row],[Disposition]]=\"Retired\",\"N/A\",IF(Table113[[#This Row],[Disposition]]=0,\"\",K64+$F$2))=0+$F$2,\"NEVER CALIBRATED\",IF(Table113[[#This Row],[Disposition]]=\"Retired\",\"N/A\",IF(Table113[[#This Row],[Disposition]]=0,\"\",K64+$F$2)))","v":""},{"$f":"IF(Table113[[#This Row],[Disposition]]=\"\",\"\",IF(AND(Table113[[#This Row],[Next Calibration]]<$E$1,Table113[[#This Row],[Disposition]]=\"Lost\"),\"Find and Calibrate\",IF(Table113[[#This Row],[Disposition]]=\"Lost\",\"Find\",IF(OR(Table113[[#This Row],[Next Calibration]]<$E$1,Table113[[#This Row],[Next Calibration]]=\"NEVER CALIBRATED\"),\"Calibrate\",\"Nominal\"))))","v":""},{"$f":"IF(((Table113[[#This Row],[Next Calibration]]-TODAY())/30)>2,\"More Than 2\",IF(((Table113[[#This Row],[Next Calibration]]-TODAY())/30)>1,\"Between 2 and 1\",\"Less than 1\"))","v":{"$error":"#VALUE!"}},{"$f":"IF(Table113[[#This Row],[Issued]]=\"\",\"\",IF(Table113[[#This Row],[Lent]]=\"\",0,1))","v":""},{"$f":"IF(Table113[[#This Row],[Lent]]=\"\",\"\",IF(Table113[[#This Row],[Returned]]=\"\",0,1))","v":""}]
[{"$nulls":11},{"$f":"IF(IF(Table113[[#This Row],[Disposition]]=\"Retired\",\"N/A\",IF(Table113[[#This Row],[Disposition]]=0,\"\",K65+$F$2))=0+$F$2,\"NEVER CALIBRATED\",IF(Table113[[#This Row],[Disposition]]=\"Retired\",\"N/A\",IF(Table113[[#This Row],[Disposition]]=0,\"\",K65+$F$2)))","v":""},{"$f":"IF(Table113[[#This Row],[Disposition]]=\"\",\"\",IF(AND(Table113[[#This Row],[Next Calibration]]<$E$1,Table113[[#This Row],[Disposition]]=\"Lost\"),\"Find and Calibrate\",IF(Table113[[#This Row],[Disposition]]=\"Lost\",\"Find\",IF(OR(Table113[[#This Row],[Next Calibration]]<$E$1,Table113[[#This Row],[Next Calibration]]=\"NEVER CALIBRATED\"),\"Calibrate\",\"Nominal\"))))","v":""},{"$f":"IF(((Table113[[#This Row],[Next Calibration]]-TODAY())/30)>2,\"More Than 2\",IF(((Table113[[#This Row],[Next Calibration]]-TODAY())/30)>1,\"Between 2 and 1\",\"Less than 1\"))","v":{"$error":"#VALUE!"}},{"$f":"IF(Table113[[#This Row],[Issued]]=\"\",\"\",IF(Table113[[#This Row],[Lent]]=\"\",0,1))","v":""},{"$f":"IF(Table113[[#This Row],[Lent]]=\"\",\"\",IF(Table113[[#This Row],[Returned]]=\"\",0,1))","v":""}]
[{"$nulls":11},{"$f":"IF(IF(Table113[[#This Row],[Disposition]]=\"Retired\",\"N/A\",IF(Table113[[#This Row],[Disposition]]=0,\"\",K66+$F$2))=0+$F$2,\"NEVER CALIBRATED\",IF(Table113[[#This Row],[Disposition]]=\"Retired\",\"N/A\",IF(Table113[[#This Row],[Disposition]]=0,\"\",K66+$F$2)))","v":""},{"$f":"IF(Table113[[#This Row],[Disposition]]=\"\",\"\",IF(AND(Table113[[#This Row],[Next Calibration]]<$E$1,Table113[[#This Row],[Disposition]]=\"Lost\"),\"Find and Calibrate\",IF(Table113[[#This Row],[Disposition]]=\"Lost\",\"Find\",IF(OR(Table113[[#This Row],[Next Calibration]]<$E$1,Table113[[#This Row],[Next Calibration]]=\"NEVER CALIBRATED\"),\"Calibrate\",\"Nominal\"))))","v":""},{"$f":"IF(((Table113[[#This Row],[Next Calibration]]-TODAY())/30)>2,\"More Than 2\",IF(((Table113[[#This Row],[Next Calibration]]-TODAY())/30)>1,\"Between 2 and 1\",\"Less than 1\"))","v":{"$error":"#VALUE!"}},{"$f":"IF(Table113[[#This Row],[Issued]]=\"\",\"\",IF(Table113[[#This Row],[Lent]]=\"\",0,1))","v":""},{"$f":"IF(Table113[[#This Row],[Lent]]=\"\",\"\",IF(Table113[[#This Row],[Returned]]=\"\",0,1))","v":""}]
[{"$nulls":11},{"$f":"IF(IF(Table113[[#This Row],[Disposition]]=\"Retired\",\"N/A\",IF(Table113[[#This Row],[Disposition]]=0,\"\",K67+$F$2))=0+$F$2,\"NEVER CALIBRATED\",IF(Table113[[#This Row],[Disposition]]=\"Retired\",\"N/A\",IF(Table113[[#This Row],[Disposition]]=0,\"\",K67+$F$2)))","v":""},{"$f":"IF(Table113[[#This Row],[Disposition]]=\"\",\"\",IF(AND(Table113[[#This Row],[Next Calibration]]<$E$1,Table113[[#This Row],[Disposition]]=\"Lost\"),\"Find and Calibrate\",IF(Table113[[#This Row],[Disposition]]=\"Lost\",\"Find\",IF(OR(Table113[[#This Row],[Next Calibration]]<$E$1,Table113[[#This Row],[Next Calibration]]=\"NEVER CALIBRATED\"),\"Calibrate\",\"Nominal\"))))","v":""},{"$f":"IF(((Table113[[#This Row],[Next Calibration]]-TODAY())/30)>2,\"More Than 2\",IF(((Table113[[#This Row],[Next Calibration]]-TODAY())/30)>1,\"Between 2 and 1\",\"Less than 1\"))","v":{"$error":"#VALUE!"}},{"$f":"IF(Table113[[#This Row],[Issued]]=\"\",\"\",IF(Table113[[#This Row],[Lent]]=\"\",0,1))","v":""},{"$f":"IF(Table113[[#This Row],[Lent]]=\"\",\"\",IF(Table113[[#This Row],[Returned]]=\"\",0,1))","v":""}]
[{"$nulls":11},{"$f":"IF(IF(Table113[[#This Row],[Disposition]]=\"Retired\",\"N/A\",IF(Table113[[#This Row],[Disposition]]=0,\"\",K68+$F$2))=0+$F$2,\"NEVER CALIBRATED\",IF(Table113[[#This Row],[Disposition]]=\"Retired\",\"N/A\",IF(Table113[[#This Row],[Disposition]]=0,\"\",K68+$F$2)))","v":""},{"$f":"IF(Table113[[#This Row],[Disposition]]=\"\",\"\",IF(AND(Table113[[#This Row],[Next Calibration]]<$E$1,Table113[[#This Row],[Disposition]]=\"Lost\"),\"Find and Calibrate\",IF(Table113[[#This Row],[Disposition]]=\"Lost\",\"Find\",IF(OR(Table113[[#This Row],[Next Calibration]]<$E$1,Table113[[#This Row],[Next Calibration]]=\"NEVER CALIBRATED\"),\"Calibrate\",\"Nominal\"))))","v":""},{"$f":"IF(((Table113[[#This Row],[Next Calibration]]-TODAY())/30)>2,\"More Than 2\",IF(((Table113[[#This Row],[Next Calibration]]-TODAY())/30)>1,\"Between 2 and 1\",\"Less than 1\"))","v":{"$error":"#VALUE!"}},{"$f":"IF(Table113[[#This Row],[Issued]]=\"\",\"\",IF(Table113[[#This Row],[Lent]]=\"\",0,1))","v":""},{"$f":"IF(Table113[[#This Row],[Lent]]=\"\",\"\",IF(Table113[[#This Row],[Returned]]=\"\",0,1))","v":""}]
[{"$nulls":11},{"$f":"IF(IF(Table113[[#This Row],[Disposition]]=\"Retired\",\"N/A\",IF(Table113[[#This Row],[Disposition]]=0,\"\",K69+$F$2))=0+$F$2,\"NEVER CALIBRATED\",IF(Table113[[#This Row],[Disposition]]=\"Retired\",\"N/A\",IF(Table113[[#This Row],[Disposition]]=0,\"\",K69+$F$2)))","v":""},{"$f":"IF(Table113[[#This Row],[Disposition]]=\"\",\"\",IF(AND(Table113[[#This Row],[Next Calibration]]<$E$1,Table113[[#This Row],[Disposition]]=\"Lost\"),\"Find and Calibrate\",IF(Table113[[#This Row],[Disposition]]=\"Lost\",\"Find\",IF(OR(Table113[[#This Row],[Next Calibration]]<$E$1,Table113[[#This Row],[Next Calibration]]=\"NEVER CALIBRATED\"),\"Calibrate\",\"Nominal\"))))","v":""},{"$f":"IF(((Table113[[#This Row],[Next Calibration]]-TODAY())/30)>2,\"More Than 2\",IF(((Table113[[#This Row],[Next Calibration]]-TODAY())/30)>1,\"Between 2 and 1\",\"Less than 1\"))","v":{"$error":"#VALUE!"}},{"$f":"IF(Table113[[#This Row],[Issued]]=\"\",\"\",IF(Table113[[#This Row],[Lent]]=\"\",0,1))","v":""},{"$f":"IF(Table113[[#This Row],[Lent]]=\"\",\"\",IF(Table113[[#This Row],[Returned]]=\"\",0,1))","v":""}]
[{"$nulls":11},{"$f":"IF(IF(Table113[[#This Row],[Disposition]]=\"Retired\",\"N/A\",IF(Table113[[#This Row],[Disposition]]=0,\"\",K70+$F$2))=0+$F$2,\"NEVER CALIBRATED\",IF(Table113[[#This Row],[Disposition]]=\"Retired\",\"N/A\",IF(Table113[[#This Row],[Disposition]]=0,\"\",K70+$F$2)))","v":""},{"$f":"IF(Table113[[#This Row],[Disposition]]=\"\",\"\",IF(AND(Table113[[#This Row],[Next Calibration]]<$E$1,Table113[[#This Row],[Disposition]]=\"Lost\"),\"Find and Calibrate\",IF(Table113[[#This Row],[Disposition]]=\"Lost\",\"Find\",IF(OR(Table113[[#This Row],[Next Calibration]]<$E$1,Table113[[#This Row],[Next Calibration]]=\"NEVER CALIBRATED\"),\"Calibrate\",\"Nominal\"))))","v":""},{"$f":"IF(((Table113[[#This Row],[Next Calibration]]-TODAY())/30)>2,\"More Than 2\",IF(((Table113[[#This Row],[Next Calibration]]-TODAY())/30)>1,\"Between 2 and 1\",\"Less than 1\"))","v":{"$error":"#VALUE!"}},{"$f":"IF(Table113[[#This Row],[Issued]]=\"\",\"\",IF(Table113[[#This Row],[Lent]]=\"\",0,1))","v":""},{"$f":"IF(Table113[[#This Row],[Lent]]=\"\",\"\",IF(Table113[[#This Row],[Returned]]=\"\",0,1))","v":""}]
[{"$nulls":11},{"$f":"IF(IF(Table113[[#This Row],[Disposition]]=\"Retired\",\"N/A\",IF(Table113[[#This Row],[Disposition]]=0,\"\",K71+$F$2))=0+$F$2,\"NEVER CALIBRATED\",IF(Table113[[#This Row],[Disposition]]=\"Retired\",\"N/A\",IF(Table113[[#This Row],[Disposition]]=0,\"\",K71+$F$2)))","v":""},{"$f":"IF(Table113[[#This Row],[Disposition]]=\"\",\"\",IF(AND(Table113[[#This Row],[Next Calibration]]<$E$1,Table113[[#This Row],[Disposition]]=\"Lost\"),\"Find and Calibrate\",IF(Table113[[#This Row],[Disposition]]=\"Lost\",\"Find\",IF(OR(Table113[[#This Row],[Next Calibration]]<$E$1,Table113[[#This Row],[Next Calibration]]=\"NEVER CALIBRATED\"),\"Calibrate\",\"Nominal\"))))","v":""},{"$f":"IF(((Table113[[#This Row],[Next Calibration]]-TODAY())/30)>2,\"More Than 2\",IF(((Table113[[#This Row],[Next Calibration]]-TODAY())/30)>1,\"Between 2 and 1\",\"Less than 1\"))","v":{"$error":"#VALUE!"}},{"$f":"IF(Table113[[#This Row],[Issued]]=\"\",\"\",IF(Table113[[#This Row],[Lent]]=\"\",0,1))","v":""},{"$f":"IF(Table113[[#This Row],[Lent]]=\"\",\"\",IF(Table113[[#This Row],[Returned]]=\"\",0,1))","v":""}]
[{"$nulls":11},{"$f":"IF(IF(Table113[[#This Row],[Disposition]]=\"Retired\",\"N/A\",IF(Table113[[#This Row],[Disposition]]=0,\"\",K72+$F$2))=0+$F$2,\"NEVER CALIBRATED\",IF(Table113[[#This Row],[Disposition]]=\"Retired\",\"N/A\",IF(Table113[[#This Row],[Disposition]]=0,\"\",K72+$F$2)))","v":""},{"$f":"IF(Table113[[#This Row],[Disposition]]=\"\",\"\",IF(AND(Table113[[#This Row],[Next Calibration]]<$E$1,Table113[[#This Row],[Disposition]]=\"Lost\"),\"Find and Calibrate\",IF(Table113[[#This Row],[Disposition]]=\"Lost\",\"Find\",IF(OR(Table113[[#This Row],[Next Calibration]]<$E$1,Table113[[#This Row],[Next Calibration]]=\"NEVER CALIBRATED\"),\"Calibrate\",\"Nominal\"))))","v":""},{"$f":"IF(((Table113[[#This Row],[Next Calibration]]-TODAY())/30)>2,\"More Than 2\",IF(((Table113[[#This Row],[Next Calibration]]-TODAY())/30)>1,\"Between 2 and 1\",\"Less than 1\"))","v":{"$error":"#VALUE!"}},{"$f":"IF(Table113[[#This Row],[Issued]]=\"\",\"\",IF(Table113[[#This Row],[Lent]]=\"\",0,1))","v":""},{"$f":"IF(Table113[[#This Row],[Lent]]=\"\",\"\",IF(Table113[[#This Row],[Returned]]=\"\",0,1))","v":""}]
[{"$nulls":11},{"$f":"IF(IF(Table113[[#This Row],[Disposition]]=\"Retired\",\"N/A\",IF(Table113[[#This Row],[Disposition]]=0,\"\",K73+$F$2))=0+$F$2,\"NEVER CALIBRATED\",IF(Table113[[#This Row],[Disposition]]=\"Retired\",\"N/A\",IF(Table113[[#This Row],[Disposition]]=0,\"\",K73+$F$2)))","v":""},{"$f":"IF(Table113[[#This Row],[Disposition]]=\"\",\"\",IF(AND(Table113[[#This Row],[Next Calibration]]<$E$1,Table113[[#This Row],[Disposition]]=\"Lost\"),\"Find and Calibrate\",IF(Table113[[#This Row],[Disposition]]=\"Lost\",\"Find\",IF(OR(Table113[[#This Row],[Next Calibration]]<$E$1,Table113[[#This Row],[Next Calibration]]=\"NEVER CALIBRATED\"),\"Calibrate\",\"Nominal\"))))","v":""},{"$f":"IF(((Table113[[#This Row],[Next Calibration]]-TODAY())/30)>2,\"More Than 2\",IF(((Table113[[#This Row],[Next Calibration]]-TODAY())/30)>1,\"Between 2 and 1\",\"Less than 1\"))","v":{"$error":"#VALUE!"}},{"$f":"IF(Table113[[#This Row],[Issued]]=\"\",\"\",IF(Table113[[#This Row],[Lent]]=\"\",0,1))","v":""},{"$f":"IF(Table113[[#This Row],[Lent]]=\"\",\"\",IF(Table113[[#This Row],[Returned]]=\"\",0,1))","v":""}]
[{"$nulls":11},{"$f":"IF(IF(Table113[[#This Row],[Disposition]]=\"Retired\",\"N/A\",IF(Table113[[#This Row],[Disposition]]=0,\"\",K74+$F$2))=0+$F$2,\"NEVER CALIBRATED\",IF(Table113[[#This Row],[Disposition]]=\"Retired\",\"N/A\",IF(Table113[[#This Row],[Disposition]]=0,\"\",K74+$F$2)))","v":""},{"$f":"IF(Table113[[#This Row],[Disposition]]=\"\",\"\",IF(AND(Table113[[#This Row],[Next Calibration]]<$E$1,Table113[[#This Row],[Disposition]]=\"Lost\"),\"Find and Calibrate\",IF(Table113[[#This Row],[Disposition]]=\"Lost\",\"Find\",IF(OR(Table113[[#This Row],[Next Calibration]]<$E$1,Table113[[#This Row],[Next Calibration]]=\"NEVER CALIBRATED\"),\"Calibrate\",\"Nominal\"))))","v":""},{"$f":"IF(((Table113[[#This Row],[Next Calibration]]-TODAY())/30)>2,\"More Than 2\",IF(((Table113[[#This Row],[Next Calibration]]-TODAY())/30)>1,\"Between 2 and 1\",\"Less than 1\"))","v":{"$error":"#VALUE!"}},{"$f":"IF(Table113[[#This Row],[Issued]]=\"\",\"\",IF(Table113[[#This Row],[Lent]]=\"\",0,1))","v":""},{"$f":"IF(Table113[[#This Row],[Lent]]=\"\",\"\",IF(Table113[[#This Row],[Returned]]=\"\",0,1))","v":""}]
[{"$nulls":11},{"$f":"IF(IF(Table113[[#This Row],[Disposition]]=\"Retired\",\"N/A\",IF(Table113[[#This Row],[Disposition]]=0,\"\",K75+$F$2))=0+$F$2,\"NEVER CALIBRATED\",IF(Table113[[#This Row],[Disposition]]=\"Retired\",\"N/A\",IF(Table113[[#This Row],[Disposition]]=0,\"\",K75+$F$2)))","v":""},{"$f":"IF(Table113[[#This Row],[Disposition]]=\"\",\"\",IF(AND(Table113[[#This Row],[Next Calibration]]<$E$1,Table113[[#This Row],[Disposition]]=\"Lost\"),\"Find and Calibrate\",IF(Table113[[#This Row],[Disposition]]=\"Lost\",\"Find\",IF(OR(Table113[[#This Row],[Next Calibration]]<$E$1,Table113[[#This Row],[Next Calibration]]=\"NEVER CALIBRATED\"),\"Calibrate\",\"Nominal\"))))","v":""},{"$f":"IF(((Table113[[#This Row],[Next Calibration]]-TODAY())/30)>2,\"More Than 2\",IF(((Table113[[#This Row],[Next Calibration]]-TODAY())/30)>1,\"Between 2 and 1\",\"Less than 1\"))","v":{"$error":"#VALUE!"}},{"$f":"IF(Table113[[#This Row],[Issued]]=\"\",\"\",IF(Table113[[#This Row],[Lent]]=\"\",0,1))","v":""},{"$f":"IF(Table113[[#This Row],[Lent]]=\"\",\"\",IF(Table113[[#This Row],[Returned]]=\"\",0,1))","v":""}]
[{"$nulls":11},{"$f":"IF(IF(Table113[[#This Row],[Disposition]]=\"Retired\",\"N/A\",IF(Table113[[#This Row],[Disposition]]=0,\"\",K76+$F$2))=0+$F$2,\"NEVER CALIBRATED\",IF(Table113[[#This Row],[Disposition]]=\"Retired\",\"N/A\",IF(Table113[[#This Row],[Disposition]]=0,\"\",K76+$F$2)))","v":""},{"$f":"IF(Table113[[#This Row],[Disposition]]=\"\",\"\",IF(AND(Table113[[#This Row],[Next Calibration]]<$E$1,Table113[[#This Row],[Disposition]]=\"Lost\"),\"Find and Calibrate\",IF(Table113[[#This Row],[Disposition]]=\"Lost\",\"Find\",IF(OR(Table113[[#This Row],[Next Calibration]]<$E$1,Table113[[#This Row],[Next Calibration]]=\"NEVER CALIBRATED\"),\"Calibrate\",\"Nominal\"))))","v":""},{"$f":"IF(((Table113[[#This Row],[Next Calibration]]-TODAY())/30)>2,\"More Than 2\",IF(((Table113[[#This Row],[Next Calibration]]-TODAY())/30)>1,\"Between 2 and 1\",\"Less than 1\"))","v":{"$error":"#VALUE!"}},{"$f":"IF(Table113[[#This Row],[Issued]]=\"\",\"\",IF(Table113[[#This Row],[Lent]]=\"\",0,1))","v":""},{"$f":"IF(Table113[[#This Row],[Lent]]=\"\",\"\",IF(Table113[[#This Row],[Returned]]=\"\",0,1))","v":""}]
[{"$nulls":11},{"$f":"IF(IF(Table113[[#This Row],[Disposition]]=\"Retired\",\"N/A\",IF(Table113[[#This Row],[Disposition]]=0,\"\",K77+$F$2))=0+$F$2,\"NEVER CALIBRATED\",IF(Table113[[#This Row],[Disposition]]=\"Retired\",\"N/A\",IF(Table113[[#This Row],[Disposition]]=0,\"\",K77+$F$2)))","v":""},{"$f":"IF(Table113[[#This Row],[Disposition]]=\"\",\"\",IF(AND(Table113[[#This Row],[Next Calibration]]<$E$1,Table113[[#This Row],[Disposition]]=\"Lost\"),\"Find and Calibrate\",IF(Table113[[#This Row],[Disposition]]=\"Lost\",\"Find\",IF(OR(Table113[[#This Row],[Next Calibration]]<$E$1,Table113[[#This Row],[Next Calibration]]=\"NEVER CALIBRATED\"),\"Calibrate\",\"Nominal\"))))","v":""},{"$f":"IF(((Table113[[#This Row],[Next Calibration]]-TODAY())/30)>2,\"More Than 2\",IF(((Table113[[#This Row],[Next Calibration]]-TODAY())/30)>1,\"Between 2 and 1\",\"Less than 1\"))","v":{"$error":"#VALUE!"}},{"$f":"IF(Table113[[#This Row],[Issued]]=\"\",\"\",IF(Table113[[#This Row],[Lent]]=\"\",0,1))","v":""},{"$f":"IF(Table113[[#This Row],[Lent]]=\"\",\"\",IF(Table113[[#This Row],[Returned]]=\"\",0,1))","v":""}]
[{"$nulls":11},{"$f":"IF(IF(Table113[[#This Row],[Disposition]]=\"Retired\",\"N/A\",IF(Table113[[#This Row],[Disposition]]=0,\"\",K78+$F$2))=0+$F$2,\"NEVER CALIBRATED\",IF(Table113[[#This Row],[Disposition]]=\"Retired\",\"N/A\",IF(Table113[[#This Row],[Disposition]]=0,\"\",K78+$F$2)))","v":""},{"$f":"IF(Table113[[#This Row],[Disposition]]=\"\",\"\",IF(AND(Table113[[#This Row],[Next Calibration]]<$E$1,Table113[[#This Row],[Disposition]]=\"Lost\"),\"Find and Calibrate\",IF(Table113[[#This Row],[Disposition]]=\"Lost\",\"Find\",IF(OR(Table113[[#This Row],[Next Calibration]]<$E$1,Table113[[#This Row],[Next Calibration]]=\"NEVER CALIBRATED\"),\"Calibrate\",\"Nominal\"))))","v":""},{"$f":"IF(((Table113[[#This Row],[Next Calibration]]-TODAY())/30)>2,\"More Than 2\",IF(((Table113[[#This Row],[Next Calibration]]-TODAY())/30)>1,\"Between 2 and 1\",\"Less than 1\"))","v":{"$error":"#VALUE!"}},{"$f":"IF(Table113[[#This Row],[Issued]]=\"\",\"\",IF(Table113[[#This Row],[Lent]]=\"\",0,1))","v":""},{"$f":"IF(Table113[[#This Row],[Lent]]=\"\",\"\",IF(Table113[[#This Row],[Returned]]=\"\",0,1))","v":""}]
[{"$nulls":11},{"$f":"IF(IF(Table113[[#This Row],[Disposition]]=\"Retired\",\"N/A\",IF(Table113[[#This Row],[Disposition]]=0,\"\",K79+$F$2))=0+$F$2,\"NEVER CALIBRATED\",IF(Table113[[#This Row],[Disposition]]=\"Retired\",\"N/A\",IF(Table113[[#This Row],[Disposition]]=0,\"\",K79+$F$2)))","v":""},{"$f":"IF(Table113[[#This Row],[Disposition]]=\"\",\"\",IF(AND(Table113[[#This Row],[Next Calibration]]<$E$1,Table113[[#This Row],[Disposition]]=\"Lost\"),\"Find and Calibrate\",IF(Table113[[#This Row],[Disposition]]=\"Lost\",\"Find\",IF(OR(Table113[[#This Row],[Next Calibration]]<$E$1,Table113[[#This Row],[Next Calibration]]=\"NEVER CALIBRATED\"),\"Calibrate\",\"Nominal\"))))","v":""},{"$f":"IF(((Table113[[#This Row],[Next Calibration]]-TODAY())/30)>2,\"More Than 2\",IF(((Table113[[#This Row],[Next Calibration]]-TODAY())/30)>1,\"Between 2 and 1\",\"Less than 1\"))","v":{"$error":"#VALUE!"}},{"$f":"IF(Table113[[#This Row],[Issued]]=\"\",\"\",IF(Table113[[#This Row],[Lent]]=\"\",0,1))","v":""},{"$f":"IF(Table113[[#This Row],[Lent]]=\"\",\"\",IF(Table113[[#This Row],[Returned]]=\"\",0,1))","v":""}]
[{"$nulls":11},{"$f":"IF(IF(Table113[[#This Row],[Disposition]]=\"Retired\",\"N/A\",IF(Table113[[#This Row],[Disposition]]=0,\"\",K80+$F$2))=0+$F$2,\"NEVER CALIBRATED\",IF(Table113[[#This Row],[Disposition]]=\"Retired\",\"N/A\",IF(Table113[[#This Row],[Disposition]]=0,\"\",K80+$F$2)))","v":""},{"$f":"IF(Table113[[#This Row],[Disposition]]=\"\",\"\",IF(AND(Table113[[#This Row],[Next Calibration]]<$E$1,Table113[[#This Row],[Disposition]]=\"Lost\"),\"Find and Calibrate\",IF(Table113[[#This Row],[Disposition]]=\"Lost\",\"Find\",IF(OR(Table113[[#This Row],[Next Calibration]]<$E$1,Table113[[#This Row],[Next Calibration]]=\"NEVER CALIBRATED\"),\"Calibrate\",\"Nominal\"))))","v":""},{"$f":"IF(((Table113[[#This Row],[Next Calibration]]-TODAY())/30)>2,\"More Than 2\",IF(((Table113[[#This Row],[Next Calibration]]-TODAY())/30)>1,\"Between 2 and 1\",\"Less than 1\"))","v":{"$error":"#VALUE!"}},{"$f":"IF(Table113[[#This Row],[Issued]]=\"\",\"\",IF(Table113[[#This Row],[Lent]]=\"\",0,1))","v":""},{"$f":"IF(Table113[[#This Row],[Lent]]=\"\",\"\",IF(Table113[[#This Row],[Returned]]=\"\",0,1))","v":""}]
[{"$nulls":11},{"$f":"IF(IF(Table113[[#This Row],[Disposition]]=\"Retired\",\"N/A\",IF(Table113[[#This Row],[Disposition]]=0,\"\",K81+$F$2))=0+$F$2,\"NEVER CALIBRATED\",IF(Table113[[#This Row],[Disposition]]=\"Retired\",\"N/A\",IF(Table113[[#This Row],[Disposition]]=0,\"\",K81+$F$2)))","v":""},{"$f":"IF(Table113[[#This Row],[Disposition]]=\"\",\"\",IF(AND(Table113[[#This Row],[Next Calibration]]<$E$1,Table113[[#This Row],[Disposition]]=\"Lost\"),\"Find and Calibrate\",IF(Table113[[#This Row],[Disposition]]=\"Lost\",\"Find\",IF(OR(Table113[[#This Row],[Next Calibration]]<$E$1,Table113[[#This Row],[Next Calibration]]=\"NEVER CALIBRATED\"),\"Calibrate\",\"Nominal\"))))","v":""},{"$f":"IF(((Table113[[#This Row],[Next Calibration]]-TODAY())/30)>2,\"More Than 2\",IF(((Table113[[#This Row],[Next Calibration]]-TODAY())/30)>1,\"Between 2 and 1\",\"Less than 1\"))","v":{"$error":"#VALUE!"}},{"$f":"IF(Table113[[#This Row],[Issued]]=\"\",\"\",IF(Table113[[#This Row],[Lent]]=\"\",0,1))","v":""},{"$f":"IF(Table113[[#This Row],[Lent]]=\"\",\"\",IF(Table113[[#This Row],[Returned]]=\"\",0,1))","v":""}]
[{"$nulls":11},{"$f":"IF(IF(Table113[[#This Row],[Disposition]]=\"Retired\",\"N/A\",IF(Table113[[#This Row],[Disposition]]=0,\"\",K82+$F$2))=0+$F$2,\"NEVER CALIBRATED\",IF(Table113[[#This Row],[Disposition]]=\"Retired\",\"N/A\",IF(Table113[[#This Row],[Disposition]]=0,\"\",K82+$F$2)))","v":""},{"$f":"IF(Table113[[#This Row],[Disposition]]=\"\",\"\",IF(AND(Table113[[#This Row],[Next Calibration]]<$E$1,Table113[[#This Row],[Disposition]]=\"Lost\"),\"Find and Calibrate\",IF(Table113[[#This Row],[Disposition]]=\"Lost\",\"Find\",IF(OR(Table113[[#This Row],[Next Calibration]]<$E$1,Table113[[#This Row],[Next Calibration]]=\"NEVER CALIBRATED\"),\"Calibrate\",\"Nominal\"))))","v":""},{"$f":"IF(((Table113[[#This Row],[Next Calibration]]-TODAY())/30)>2,\"More Than 2\",IF(((Table113[[#This Row],[Next Calibration]]-TODAY())/30)>1,\"Between 2 and 1\",\"Less than 1\"))","v":{"$error":"#VALUE!"}},{"$f":"IF(Table113[[#This Row],[Issued]]=\"\",\"\",IF(Table113[[#This Row],[Lent]]=\"\",0,1))","v":""},{"$f":"IF(Table113[[#This Row],[Lent]]=\"\",\"\",IF(Table113[[#This Row],[Returned]]=\"\",0,1))","v":""}]
[{"$nulls":11},{"$f":"IF(IF(Table113[[#This Row],[Disposition]]=\"Retired\",\"N/A\",IF(Table113[[#This Row],[Disposition]]=0,\"\",K83+$F$2))=0+$F$2,\"NEVER CALIBRATED\",IF(Table113[[#This Row],[Disposition]]=\"Retired\",\"N/A\",IF(Table113[[#This Row],[Disposition]]=0,\"\",K83+$F$2)))","v":""},{"$f":"IF(Table113[[#This Row],[Disposition]]=\"\",\"\",IF(AND(Table113[[#This Row],[Next Calibration]]<$E$1,Table113[[#This Row],[Disposition]]=\"Lost\"),\"Find and Calibrate\",IF(Table113[[#This Row],[Disposition]]=\"Lost\",\"Find\",IF(OR(Table113[[#This Row],[Next Calibration]]<$E$1,Table113[[#This Row],[Next Calibration]]=\"NEVER CALIBRATED\"),\"Calibrate\",\"Nominal\"))))","v":""},{"$f":"IF(((Table113[[#This Row],[Next Calibration]]-TODAY())/30)>2,\"More Than 2\",IF(((Table113[[#This Row],[Next Calibration]]-TODAY())/30)>1,\"Between 2 and 1\",\"Less than 1\"))","v":{"$error":"#VALUE!"}},{"$f":"IF(Table113[[#This Row],[Issued]]=\"\",\"\",IF(Table113[[#This Row],[Lent]]=\"\",0,1))","v":""},{"$f":"IF(Table113[[#This Row],[Lent]]=\"\",\"\",IF(Table113[[#This Row],[Returned]]=\"\",0,1))","v":""}]
[{"$nulls":11},{"$f":"IF(IF(Table113[[#This Row],[Disposition]]=\"Retired\",\"N/A\",IF(Table113[[#This Row],[Disposition]]=0,\"\",K84+$F$2))=0+$F$2,\"NEVER CALIBRATED\",IF(Table113[[#This Row],[Disposition]]=\"Retired\",\"N/A\",IF(Table113[[#This Row],[Disposition]]=0,\"\",K84+$F$2)))","v":""},{"$f":"IF(Table113[[#This Row],[Disposition]]=\"\",\"\",IF(AND(Table113[[#This Row],[Next Calibration]]<$E$1,Table113[[#This Row],[Disposition]]=\"Lost\"),\"Find and Calibrate\",IF(Table113[[#This Row],[Disposition]]=\"Lost\",\"Find\",IF(OR(Table113[[#This Row],[Next Calibration]]<$E$1,Table113[[#This Row],[Next Calibration]]=\"NEVER CALIBRATED\"),\"Calibrate\",\"Nominal\"))))","v":""},{"$f":"IF(((Table113[[#This Row],[Next Calibration]]-TODAY())/30)>2,\"More Than 2\",IF(((Table113[[#This Row],[Next Calibration]]-TODAY())/30)>1,\"Between 2 and 1\",\"Less than 1\"))","v":{"$error":"#VALUE!"}},{"$f":"IF(Table113[[#This Row],[Issued]]=\"\",\"\",IF(Table113[[#This Row],[Lent]]=\"\",0,1))","v":""},{"$f":"IF(Table113[[#This Row],[Lent]]=\"\",\"\",IF(Table113[[#This Row],[Returned]]=\"\",0,1))","v":""}]
[{"$nulls":11},{"$f":"IF(IF(Table113[[#This Row],[Disposition]]=\"Retired\",\"N/A\",IF(Table113[[#This Row],[Disposition]]=0,\"\",K85+$F$2))=0+$F$2,\"NEVER CALIBRATED\",IF(Table113[[#This Row],[Disposition]]=\"Retired\",\"N/A\",IF(Table113[[#This Row],[Disposition]]=0,\"\",K85+$F$2)))","v":""},{"$f":"IF(Table113[[#This Row],[Disposition]]=\"\",\"\",IF(AND(Table113[[#This Row],[Next Calibration]]<$E$1,Table113[[#This Row],[Disposition]]=\"Lost\"),\"Find and Calibrate\",IF(Table113[[#This Row],[Disposition]]=\"Lost\",\"Find\",IF(OR(Table113[[#This Row],[Next Calibration]]<$E$1,Table113[[#This Row],[Next Calibration]]=\"NEVER CALIBRATED\"),\"Calibrate\",\"Nominal\"))))","v":""},{"$f":"IF(((Table113[[#This Row],[Next Calibration]]-TODAY())/30)>2,\"More Than 2\",IF(((Table113[[#This Row],[Next Calibration]]-TODAY())/30)>1,\"Between 2 and 1\",\"Less than 1\"))","v":{"$error":"#VALUE!"}},{"$f":"IF(Table113[[#This Row],[Issued]]=\"\",\"\",IF(Table113[[#This Row],[Lent]]=\"\",0,1))","v":""},{"$f":"IF(Table113[[#This Row],[Lent]]=\"\",\"\",IF(Table113[[#This Row],[Returned]]=\"\",0,1))","v":""}]
[{"$nulls":11},{"$f":"IF(IF(Table113[[#This Row],[Disposition]]=\"Retired\",\"N/A\",IF(Table113[[#This Row],[Disposition]]=0,\"\",K86+$F$2))=0+$F$2,\"NEVER CALIBRATED\",IF(Table113[[#This Row],[Disposition]]=\"Retired\",\"N/A\",IF(Table113[[#This Row],[Disposition]]=0,\"\",K86+$F$2)))","v":""},{"$f":"IF(Table113[[#This Row],[Disposition]]=\"\",\"\",IF(AND(Table113[[#This Row],[Next Calibration]]<$E$1,Table113[[#This Row],[Disposition]]=\"Lost\"),\"Find and Calibrate\",IF(Table113[[#This Row],[Disposition]]=\"Lost\",\"Find\",IF(OR(Table113[[#This Row],[Next Calibration]]<$E$1,Table113[[#This Row],[Next Calibration]]=\"NEVER CALIBRATED\"),\"Calibrate\",\"Nominal\"))))","v":""},{"$f":"IF(((Table113[[#This Row],[Next Calibration]]-TODAY())/30)>2,\"More Than 2\",IF(((Table113[[#This Row],[Next Calibration]]-TODAY())/30)>1,\"Between 2 and 1\",\"Less than 1\"))","v":{"$error":"#VALUE!"}},{"$f":"IF(Table113[[#This Row],[Issued]]=\"\",\"\",IF(Table113[[#This Row],[Lent]]=\"\",0,1))","v":""},{"$f":"IF(Table113[[#This Row],[Lent]]=\"\",\"\",IF(Table113[[#This Row],[Returned]]=\"\",0,1))","v":""}]
[{"$nulls":11},{"$f":"IF(IF(Table113[[#This Row],[Disposition]]=\"Retired\",\"N/A\",IF(Table113[[#This Row],[Disposition]]=0,\"\",K87+$F$2))=0+$F$2,\"NEVER CALIBRATED\",IF(Table113[[#This Row],[Disposition]]=\"Retired\",\"N/A\",IF(Table113[[#This Row],[Disposition]]=0,\"\",K87+$F$2)))","v":""},{"$f":"IF(Table113[[#This Row],[Disposition]]=\"\",\"\",IF(AND(Table113[[#This Row],[Next Calibration]]<$E$1,Table113[[#This Row],[Disposition]]=\"Lost\"),\"Find and Calibrate\",IF(Table113[[#This Row],[Disposition]]=\"Lost\",\"Find\",IF(OR(Table113[[#This Row],[Next Calibration]]<$E$1,Table113[[#This Row],[Next Calibration]]=\"NEVER CALIBRATED\"),\"Calibrate\",\"Nominal\"))))","v":""},{"$f":"IF(((Table113[[#This Row],[Next Calibration]]-TODAY())/30)>2,\"More Than 2\",IF(((Table113[[#This Row],[Next Calibration]]-TODAY())/30)>1,\"Between 2 and 1\",\"Less than 1\"))","v":{"$error":"#VALUE!"}},{"$f":"IF(Table113[[#This Row],[Issued]]=\"\",\"\",IF(Table113[[#This Row],[Lent]]=\"\",0,1))","v":""},{"$f":"IF(Table113[[#This Row],[Lent]]=\"\",\"\",IF(Table113[[#This Row],[Returned]]=\"\",0,1))","v":""}]
[{"$nulls":11},{"$f":"IF(IF(Table113[[#This Row],[Disposition]]=\"Retired\",\"N/A\",IF(Table113[[#This Row],[Disposition]]=0,\"\",K88+$F$2))=0+$F$2,\"NEVER CALIBRATED\",IF(Table113[[#This Row],[Disposition]]=\"Retired\",\"N/A\",IF(Table113[[#This Row],[Disposition]]=0,\"\",K88+$F$2)))","v":""},{"$f":"IF(Table113[[#This Row],[Disposition]]=\"\",\"\",IF(AND(Table113[[#This Row],[Next Calibration]]<$E$1,Table113[[#This Row],[Disposition]]=\"Lost\"),\"Find and Calibrate\",IF(Table113[[#This Row],[Disposition]]=\"Lost\",\"Find\",IF(OR(Table113[[#This Row],[Next Calibration]]<$E$1,Table113[[#This Row],[Next Calibration]]=\"NEVER CALIBRATED\"),\"Calibrate\",\"Nominal\"))))","v":""},{"$f":"IF(((Table113[[#This Row],[Next Calibration]]-TODAY())/30)>2,\"More Than 2\",IF(((Table113[[#This Row],[Next Calibration]]-TODAY())/30)>1,\"Between 2 and 1\",\"Less than 1\"))","v":{"$error":"#VALUE!"}},{"$f":"IF(Table113[[#This Row],[Issued]]=\"\",\"\",IF(Table113[[#This Row],[Lent]]=\"\",0,1))","v":""},{"$f":"IF(Table113[[#This Row],[Lent]]=\"\",\"\",IF(Table113[[#This Row],[Returned]]=\"\",0,1))","v":""}]
[{"$nulls":11},{"$f":"IF(IF(Table113[[#This Row],[Disposition]]=\"Retired\",\"N/A\",IF(Table113[[#This Row],[Disposition]]=0,\"\",K89+$F$2))=0+$F$2,\"NEVER CALIBRATED\",IF(Table113[[#This Row],[Disposition]]=\"Retired\",\"N/A\",IF(Table113[[#This Row],[Disposition]]=0,\"\",K89+$F$2)))","v":""},{"$f":"IF(Table113[[#This Row],[Disposition]]=\"\",\"\",IF(AND(Table113[[#This Row],[Next Calibration]]<$E$1,Table113[[#This Row],[Disposition]]=\"Lost\"),\"Find and Calibrate\",IF(Table113[[#This Row],[Disposition]]=\"Lost\",\"Find\",IF(OR(Table113[[#This Row],[Next Calibration]]<$E$1,Table113[[#This Row],[Next Calibration]]=\"NEVER CALIBRATED\"),\"Calibrate\",\"Nominal\"))))","v":""},{"$f":"IF(((Table113[[#This Row],[Next Calibration]]-TODAY())/30)>2,\"More Than 2\",IF(((Table113[[#This Row],[Next Calibration]]-TODAY())/30)>1,\"Between 2 and 1\",\"Less than 1\"))","v":{"$error":"#VALUE!"}},{"$f":"IF(Table113[[#This Row],[Issued]]=\"\",\"\",IF(Table113[[#This Row],[Lent]]=\"\",0,1))","v":""},{"$f":"IF(Table113[[#This Row],[Lent]]=\"\",\"\",IF(Table113[[#This Row],[Returned]]=\"\",0,1))","v":""}]
[{"$nulls":11},{"$f":"IF(IF(Table113[[#This Row],[Disposition]]=\"Retired\",\"N/A\",IF(Table113[[#This Row],[Disposition]]=0,\"\",K90+$F$2))=0+$F$2,\"NEVER CALIBRATED\",IF(Table113[[#This Row],[Disposition]]=\"Retired\",\"N/A\",IF(Table113[[#This Row],[Disposition]]=0,\"\",K90+$F$2)))","v":""},{"$f":"IF(Table113[[#This Row],[Disposition]]=\"\",\"\",IF(AND(Table113[[#This Row],[Next Calibration]]<$E$1,Table113[[#This Row],[Disposition]]=\"Lost\"),\"Find and Calibrate\",IF(Table113[[#This Row],[Disposition]]=\"Lost\",\"Find\",IF(OR(Table113[[#This Row],[Next Calibration]]<$E$1,Table113[[#This Row],[Next Calibration]]=\"NEVER CALIBRATED\"),\"Calibrate\",\"Nominal\"))))","v":""},{"$f":"IF(((Table113[[#This Row],[Next Calibration]]-TODAY())/30)>2,\"More Than 2\",IF(((Table113[[#This Row],[Next Calibration]]-TODAY())/30)>1,\"Between 2 and 1\",\"Less than 1\"))","v":{"$error":"#VALUE!"}},{"$f":"IF(Table113[[#This Row],[Issued]]=\"\",\"\",IF(Table113[[#This Row],[Lent]]=\"\",0,1))","v":""},{"$f":"IF(Table113[[#This Row],[Lent]]=\"\",\"\",IF(Table113[[#This Row],[Returned]]=\"\",0,1))","v":""}]
[{"$nulls":11},{"$f":"IF(IF(Table113[[#This Row],[Disposition]]=\"Retired\",\"N/A\",IF(Table113[[#This Row],[Disposition]]=0,\"\",K91+$F$2))=0+$F$2,\"NEVER CALIBRATED\",IF(Table113[[#This Row],[Disposition]]=\"Retired\",\"N/A\",IF(Table113[[#This Row],[Disposition]]=0,\"\",K91+$F$2)))","v":""},{"$f":"IF(Table113[[#This Row],[Disposition]]=\"\",\"\",IF(AND(Table113[[#This Row],[Next Calibration]]<$E$1,Table113[[#This Row],[Disposition]]=\"Lost\"),\"Find and Calibrate\",IF(Table113[[#This Row],[Disposition]]=\"Lost\",\"Find\",IF(OR(Table113[[#This Row],[Next Calibration]]<$E$1,Table113[[#This Row],[Next Calibration]]=\"NEVER CALIBRATED\"),\"Calibrate\",\"Nominal\"))))","v":""},{"$f":"IF(((Table113[[#This Row],[Next Calibration]]-TODAY())/30)>2,\"More Than 2\",IF(((Table113[[#This Row],[Next Calibration]]-TODAY())/30)>1,\"Between 2 and 1\",\"Less than 1\"))","v":{"$error":"#VALUE!"}},{"$f":"IF(Table113[[#This Row],[Issued]]=\"\",\"\",IF(Table113[[#This Row],[Lent]]=\"\",0,1))","v":""},{"$f":"IF(Table113[[#This Row],[Lent]]=\"\",\"\",IF(Table113[[#This Row],[Returned]]=\"\",0,1))","v":""}]
[{"$nulls":11},{"$f":"IF(IF(Table113[[#This Row],[Disposition]]=\"Retired\",\"N/A\",IF(Table113[[#This Row],[Disposition]]=0,\"\",K92+$F$2))=0+$F$2,\"NEVER CALIBRATED\",IF(Table113[[#This Row],[Disposition]]=\"Retired\",\"N/A\",IF(Table113[[#This Row],[Disposition]]=0,\"\",K92+$F$2)))","v":""},{"$f":"IF(Table113[[#This Row],[Disposition]]=\"\",\"\",IF(AND(Table113[[#This Row],[Next Calibration]]<$E$1,Table113[[#This Row],[Disposition]]=\"Lost\"),\"Find and Calibrate\",IF(Table113[[#This Row],[Disposition]]=\"Lost\",\"Find\",IF(OR(Table113[[#This Row],[Next Calibration]]<$E$1,Table113[[#This Row],[Next Calibration]]=\"NEVER CALIBRATED\"),\"Calibrate\",\"Nominal\"))))","v":""},{"$f":"IF(((Table113[[#This Row],[Next Calibration]]-TODAY())/30)>2,\"More Than 2\",IF(((Table113[[#This Row],[Next Calibration]]-TODAY())/30)>1,\"Between 2 and 1\",\"Less than 1\"))","v":{"$error":"#VALUE!"}},{"$f":"IF(Table113[[#This Row],[Issued]]=\"\",\"\",IF(Table113[[#This Row],[Lent]]=\"\",0,1))","v":""},{"$f":"IF(Table113[[#This Row],[Lent]]=\"\",\"\",IF(Table113[[#This Row],[Returned]]=\"\",0,1))","v":""}]
[{"$nulls":11},{"$f":"IF(IF(Table113[[#This Row],[Disposition]]=\"Retired\",\"N/A\",IF(Table113[[#This Row],[Disposition]]=0,\"\",K93+$F$2))=0+$F$2,\"NEVER CALIBRATED\",IF(Table113[[#This Row],[Disposition]]=\"Retired\",\"N/A\",IF(Table113[[#This Row],[Disposition]]=0,\"\",K93+$F$2)))","v":""},{"$f":"IF(Table113[[#This Row],[Disposition]]=\"\",\"\",IF(AND(Table113[[#This Row],[Next Calibration]]<$E$1,Table113[[#This Row],[Disposition]]=\"Lost\"),\"Find and Calibrate\",IF(Table113[[#This Row],[Disposition]]=\"Lost\",\"Find\",IF(OR(Table113[[#This Row],[Next Calibration]]<$E$1,Table113[[#This Row],[Next Calibration]]=\"NEVER CALIBRATED\"),\"Calibrate\",\"Nominal\"))))","v":""},{"$f":"IF(((Table113[[#This Row],[Next Calibration]]-TODAY())/30)>2,\"More Than 2\",IF(((Table113[[#This Row],[Next Calibration]]-TODAY())/30)>1,\"Between 2 and 1\",\"Less than 1\"))","v":{"$error":"#VALUE!"}},{"$f":"IF(Table113[[#This Row],[Issued]]=\"\",\"\",IF(Table113[[#This Row],[Lent]]=\"\",0,1))","v":""},{"$f":"IF(Table113[[#This Row],[Lent]]=\"\",\"\",IF(Table113[[#This Row],[Returned]]=\"\",0,1))","v":""}]
[{"$nulls":11},{"$f":"IF(IF(Table113[[#This Row],[Disposition]]=\"Retired\",\"N/A\",IF(Table113[[#This Row],[Disposition]]=0,\"\",K94+$F$2))=0+$F$2,\"NEVER CALIBRATED\",IF(Table113[[#This Row],[Disposition]]=\"Retired\",\"N/A\",IF(Table113[[#This Row],[Disposition]]=0,\"\",K94+$F$2)))","v":""},{"$f":"IF(Table113[[#This Row],[Disposition]]=\"\",\"\",IF(AND(Table113[[#This Row],[Next Calibration]]<$E$1,Table113[[#This Row],[Disposition]]=\"Lost\"),\"Find and Calibrate\",IF(Table113[[#This Row],[Disposition]]=\"Lost\",\"Find\",IF(OR(Table113[[#This Row],[Next Calibration]]<$E$1,Table113[[#This Row],[Next Calibration]]=\"NEVER CALIBRATED\"),\"Calibrate\",\"Nominal\"))))","v":""},{"$f":"IF(((Table113[[#This Row],[Next Calibration]]-TODAY())/30)>2,\"More Than 2\",IF(((Table113[[#This Row],[Next Calibration]]-TODAY())/30)>1,\"Between 2 and 1\",\"Less than 1\"))","v":{"$error":"#VALUE!"}},{"$f":"IF(Table113[[#This Row],[Issued]]=\"\",\"\",IF(Table113[[#This Row],[Lent]]=\"\",0,1))","v":""},{"$f":"IF(Table113[[#This Row],[Lent]]=\"\",\"\",IF(Table113[[#This Row],[Returned]]=\"\",0,1))","v":""}]
[{"$nulls":11},{"$f":"IF(IF(Table113[[#This Row],[Disposition]]=\"Retired\",\"N/A\",IF(Table113[[#This Row],[Disposition]]=0,\"\",K95+$F$2))=0+$F$2,\"NEVER CALIBRATED\",IF(Table113[[#This Row],[Disposition]]=\"Retired\",\"N/A\",IF(Table113[[#This Row],[Disposition]]=0,\"\",K95+$F$2)))","v":""},{"$f":"IF(Table113[[#This Row],[Disposition]]=\"\",\"\",IF(AND(Table113[[#This Row],[Next Calibration]]<$E$1,Table113[[#This Row],[Disposition]]=\"Lost\"),\"Find and Calibrate\",IF(Table113[[#This Row],[Disposition]]=\"Lost\",\"Find\",IF(OR(Table113[[#This Row],[Next Calibration]]<$E$1,Table113[[#This Row],[Next Calibration]]=\"NEVER CALIBRATED\"),\"Calibrate\",\"Nominal\"))))","v":""},{"$f":"IF(((Table113[[#This Row],[Next Calibration]]-TODAY())/30)>2,\"More Than 2\",IF(((Table113[[#This Row],[Next Calibration]]-TODAY())/30)>1,\"Between 2 and 1\",\"Less than 1\"))","v":{"$error":"#VALUE!"}},{"$f":"IF(Table113[[#This Row],[Issued]]=\"\",\"\",IF(Table113[[#This Row],[Lent]]=\"\",0,1))","v":""},{"$f":"IF(Table113[[#This Row],[Lent]]=\"\",\"\",IF(Table113[[#This Row],[Returned]]=\"\",0,1))","v":""}]
[{"$nulls":11},{"$f":"IF(IF(Table113[[#This Row],[Disposition]]=\"Retired\",\"N/A\",IF(Table113[[#This Row],[Disposition]]=0,\"\",K96+$F$2))=0+$F$2,\"NEVER CALIBRATED\",IF(Table113[[#This Row],[Disposition]]=\"Retired\",\"N/A\",IF(Table113[[#This Row],[Disposition]]=0,\"\",K96+$F$2)))","v":""},{"$f":"IF(Table113[[#This Row],[Disposition]]=\"\",\"\",IF(AND(Table113[[#This Row],[Next Calibration]]<$E$1,Table113[[#This Row],[Disposition]]=\"Lost\"),\"Find and Calibrate\",IF(Table113[[#This Row],[Disposition]]=\"Lost\",\"Find\",IF(OR(Table113[[#This Row],[Next Calibration]]<$E$1,Table113[[#This Row],[Next Calibration]]=\"NEVER CALIBRATED\"),\"Calibrate\",\"Nominal\"))))","v":""},{"$f":"IF(((Table113[[#This Row],[Next Calibration]]-TODAY())/30)>2,\"More Than 2\",IF(((Table113[[#This Row],[Next Calibration]]-TODAY())/30)>1,\"Between 2 and 1\",\"Less than 1\"))","v":{"$error":"#VALUE!"}},{"$f":"IF(Table113[[#This Row],[Issued]]=\"\",\"\",IF(Table113[[#This Row],[Lent]]=\"\",0,1))","v":""},{"$f":"IF(Table113[[#This Row],[Lent]]=\"\",\"\",IF(Table113[[#This Row],[Returned]]=\"\",0,1))","v":""}]
[{"$nulls":11},{"$f":"IF(IF(Table113[[#This Row],[Disposition]]=\"Retired\",\"N/A\",IF(Table113[[#This Row],[Disposition]]=0,\"\",K97+$F$2))=0+$F$2,\"NEVER CALIBRATED\",IF(Table113[[#This Row],[Disposition]]=\"Retired\",\"N/A\",IF(Table113[[#This Row],[Disposition]]=0,\"\",K97+$F$2)))","v":""},{"$f":"IF(Table113[[#This Row],[Disposition]]=\"\",\"\",IF(AND(Table113[[#This Row],[Next Calibration]]<$E$1,Table113[[#This Row],[Disposition]]=\"Lost\"),\"Find and Calibrate\",IF(Table113[[#This Row],[Disposition]]=\"Lost\",\"Find\",IF(OR(Table113[[#This Row],[Next Calibration]]<$E$1,Table113[[#This Row],[Next Calibration]]=\"NEVER CALIBRATED\"),\"Calibrate\",\"Nominal\"))))","v":""},{"$f":"IF(((Table113[[#This Row],[Next Calibration]]-TODAY())/30)>2,\"More Than 2\",IF(((Table113[[#This Row],[Next Calibration]]-TODAY())/30)>1,\"Between 2 and 1\",\"Less than 1\"))","v":{"$error":"#VALUE!"}},{"$f":"IF(Table113[[#This Row],[Issued]]=\"\",\"\",IF(Table113[[#This Row],[Lent]]=\"\",0,1))","v":""},{"$f":"IF(Table113[[#This Row],[Lent]]=\"\",\"\",IF(Table113[[#This Row],[Returned]]=\"\",0,1))","v":""}]
[{"$nulls":11},{"$f":"IF(IF(Table113[[#This Row],[Disposition]]=\"Retired\",\"N/A\",IF(Table113[[#This Row],[Disposition]]=0,\"\",K98+$F$2))=0+$F$2,\"NEVER CALIBRATED\",IF(Table113[[#This Row],[Disposition]]=\"Retired\",\"N/A\",IF(Table113[[#This Row],[Disposition]]=0,\"\",K98+$F$2)))","v":""},{"$f":"IF(Table113[[#This Row],[Disposition]]=\"\",\"\",IF(AND(Table113[[#This Row],[Next Calibration]]<$E$1,Table113[[#This Row],[Disposition]]=\"Lost\"),\"Find and Calibrate\",IF(Table113[[#This Row],[Disposition]]=\"Lost\",\"Find\",IF(OR(Table113[[#This Row],[Next Calibration]]<$E$1,Table113[[#This Row],[Next Calibration]]=\"NEVER CALIBRATED\"),\"Calibrate\",\"Nominal\"))))","v":""},{"$f":"IF(((Table113[[#This Row],[Next Calibration]]-TODAY())/30)>2,\"More Than 2\",IF(((Table113[[#This Row],[Next Calibration]]-TODAY())/30)>1,\"Between 2 and 1\",\"Less than 1\"))","v":{"$error":"#VALUE!"}},{"$f":"IF(Table113[[#This Row],[Issued]]=\"\",\"\",IF(Table113[[#This Row],[Lent]]=\"\",0,1))","v":""},{"$f":"IF(Table113[[#This Row],[Lent]]=\"\",\"\",IF(Table113[[#This Row],[Returned]]=\"\",0,1))","v":""}]
[{"$nulls":11},{"$f":"IF(IF(Table113[[#This Row],[Disposition]]=\"Retired\",\"N/A\",IF(Table113[[#This Row],[Disposition]]=0,\"\",K99+$F$2))=0+$F$2,\"NEVER CALIBRATED\",IF(Table113[[#This Row],[Disposition]]=\"Retired\",\"N/A\",IF(Table113[[#This Row],[Disposition]]=0,\"\",K99+$F$2)))","v":""},{"$f":"IF(Table113[[#This Row],[Disposition]]=\"\",\"\",IF(AND(Table113[[#This Row],[Next Calibration]]<$E$1,Table113[[#This Row],[Disposition]]=\"Lost\"),\"Find and Calibrate\",IF(Table113[[#This Row],[Disposition]]=\"Lost\",\"Find\",IF(OR(Table113[[#This Row],[Next Calibration]]<$E$1,Table113[[#This Row],[Next Calibration]]=\"NEVER CALIBRATED\"),\"Calibrate\",\"Nominal\"))))","v":""},{"$f":"IF(((Table113[[#This Row],[Next Calibration]]-TODAY())/30)>2,\"More Than 2\",IF(((Table113[[#This Row],[Next Calibration]]-TODAY())/30)>1,\"Between 2 and 1\",\"Less than 1\"))","v":{"$error":"#VALUE!"}},{"$f":"IF(Table113[[#This Row],[Issued]]=\"\",\"\",IF(Table113[[#This Row],[Lent]]=\"\",0,1))","v":""},{"$f":"IF(Table113[[#This Row],[Lent]]=\"\",\"\",IF(Table113[[#This Row],[Returned]]=\"\",0,1))","v":""}]
[{"$nulls":11},{"$f":"IF(IF(Table113[[#This Row],[Disposition]]=\"Retired\",\"N/A\",IF(Table113[[#This Row],[Disposition]]=0,\"\",K100+$F$2))=0+$F$2,\"NEVER CALIBRATED\",IF(Table113[[#This Row],[Disposition]]=\"Retired\",\"N/A\",IF(Table113[[#This Row],[Disposition]]=0,\"\",K100+$F$2)))","v":""},{"$f":"IF(Table113[[#This Row],[Disposition]]=\"\",\"\",IF(AND(Table113[[#This Row],[Next Calibration]]<$E$1,Table113[[#This Row],[Disposition]]=\"Lost\"),\"Find and Calibrate\",IF(Table113[[#This Row],[Disposition]]=\"Lost\",\"Find\",IF(OR(Table113[[#This Row],[Next Calibration]]<$E$1,Table113[[#This Row],[Next Calibration]]=\"NEVER CALIBRATED\"),\"Calibrate\",\"Nominal\"))))","v":""},{"$f":"IF(((Table113[[#This Row],[Next Calibration]]-TODAY())/30)>2,\"More Than 2\",IF(((Table113[[#This Row],[Next Calibration]]-TODAY())/30)>1,\"Between 2 and 1\",\"Less than 1\"))","v":{"$error":"#VALUE!"}},{"$f":"IF(Table113[[#This Row],[Issued]]=\"\",\"\",IF(Table113[[#This Row],[Lent]]=\"\",0,1))","v":""},{"$f":"IF(Table113[[#This Row],[Lent]]=\"\",\"\",IF(Table113[[#This Row],[Returned]]=\"\",0,1))","v":""}]
[{"$nulls":11},{"$f":"IF(IF(Table113[[#This Row],[Disposition]]=\"Retired\",\"N/A\",IF(Table113[[#This Row],[Disposition]]=0,\"\",K101+$F$2))=0+$F$2,\"NEVER CALIBRATED\",IF(Table113[[#This Row],[Disposition]]=\"Retired\",\"N/A\",IF(Table113[[#This Row],[Disposition]]=0,\"\",K101+$F$2)))","v":""},{"$f":"IF(Table113[[#This Row],[Disposition]]=\"\",\"\",IF(AND(Table113[[#This Row],[Next Calibration]]<$E$1,Table113[[#This Row],[Disposition]]=\"Lost\"),\"Find and Calibrate\",IF(Table113[[#This Row],[Disposition]]=\"Lost\",\"Find\",IF(OR(Table113[[#This Row],[Next Calibration]]<$E$1,Table113[[#This Row],[Next Calibration]]=\"NEVER CALIBRATED\"),\"Calibrate\",\"Nominal\"))))","v":""},{"$f":"IF(((Table113[[#This Row],[Next Calibration]]-TODAY())/30)>2,\"More Than 2\",IF(((Table113[[#This Row],[Next Calibration]]-TODAY())/30)>1,\"Between 2 and 1\",\"Less than 1\"))","v":{"$error":"#VALUE!"}},{"$f":"IF(Table113[[#This Row],[Issued]]=\"\",\"\",IF(Table113[[#This Row],[Lent]]=\"\",0,1))","v":""},{"$f":"IF(Table113[[#This Row],[Lent]]=\"\",\"\",IF(Table113[[#This Row],[Returned]]=\"\",0,1))","v":""}]
[{"$nulls":11},{"$f":"IF(IF(Table113[[#This Row],[Disposition]]=\"Retired\",\"N/A\",IF(Table113[[#This Row],[Disposition]]=0,\"\",K102+$F$2))=0+$F$2,\"NEVER CALIBRATED\",IF(Table113[[#This Row],[Disposition]]=\"Retired\",\"N/A\",IF(Table113[[#This Row],[Disposition]]=0,\"\",K102+$F$2)))","v":""},{"$f":"IF(Table113[[#This Row],[Disposition]]=\"\",\"\",IF(AND(Table113[[#This Row],[Next Calibration]]<$E$1,Table113[[#This Row],[Disposition]]=\"Lost\"),\"Find and Calibrate\",IF(Table113[[#This Row],[Disposition]]=\"Lost\",\"Find\",IF(OR(Table113[[#This Row],[Next Calibration]]<$E$1,Table113[[#This Row],[Next Calibration]]=\"NEVER CALIBRATED\"),\"Calibrate\",\"Nominal\"))))","v":""},{"$f":"IF(((Table113[[#This Row],[Next Calibration]]-TODAY())/30)>2,\"More Than 2\",IF(((Table113[[#This Row],[Next Calibration]]-TODAY())/30)>1,\"Between 2 and 1\",\"Less than 1\"))","v":{"$error":"#VALUE!"}},{"$f":"IF(Table113[[#This Row],[Issued]]=\"\",\"\",IF(Table113[[#This Row],[Lent]]=\"\",0,1))","v":""},{"$f":"IF(Table113[[#This Row],[Lent]]=\"\",\"\",IF(Table113[[#This Row],[Returned]]=\"\",0,1))","v":""}]
[{"$nulls":11},{"$f":"IF(IF(Table113[[#This Row],[Disposition]]=\"Retired\",\"N/A\",IF(Table113[[#This Row],[Disposition]]=0,\"\",K103+$F$2))=0+$F$2,\"NEVER CALIBRATED\",IF(Table113[[#This Row],[Disposition]]=\"Retired\",\"N/A\",IF(Table113[[#This Row],[Disposition]]=0,\"\",K103+$F$2)))","v":""},{"$f":"IF(Table113[[#This Row],[Disposition]]=\"\",\"\",IF(AND(Table113[[#This Row],[Next Calibration]]<$E$1,Table113[[#This Row],[Disposition]]=\"Lost\"),\"Find and Calibrate\",IF(Table113[[#This Row],[Disposition]]=\"Lost\",\"Find\",IF(OR(Table113[[#This Row],[Next Calibration]]<$E$1,Table113[[#This Row],[Next Calibration]]=\"NEVER CALIBRATED\"),\"Calibrate\",\"Nominal\"))))","v":""},{"$f":"IF(((Table113[[#This Row],[Next Calibration]]-TODAY())/30)>2,\"More Than 2\",IF(((Table113[[#This Row],[Next Calibration]]-TODAY())/30)>1,\"Between 2 and 1\",\"Less than 1\"))","v":{"$error":"#VALUE!"}},{"$f":"IF(Table113[[#This Row],[Issued]]=\"\",\"\",IF(Table113[[#This Row],[Lent]]=\"\",0,1))","v":""},{"$f":"IF(Table113[[#This Row],[Lent]]=\"\",\"\",IF(Table113[[#This Row],[Returned]]=\"\",0,1))","v":""}]
[{"$nulls":11},{"$f":"IF(IF(Table113[[#This Row],[Disposition]]=\"Retired\",\"N/A\",IF(Table113[[#This Row],[Disposition]]=0,\"\",K104+$F$2))=0+$F$2,\"NEVER CALIBRATED\",IF(Table113[[#This Row],[Disposition]]=\"Retired\",\"N/A\",IF(Table113[[#This Row],[Disposition]]=0,\"\",K104+$F$2)))","v":""},{"$f":"IF(Table113[[#This Row],[Disposition]]=\"\",\"\",IF(AND(Table113[[#This Row],[Next Calibration]]<$E$1,Table113[[#This Row],[Disposition]]=\"Lost\"),\"Find and Calibrate\",IF(Table113[[#This Row],[Disposition]]=\"Lost\",\"Find\",IF(OR(Table113[[#This Row],[Next Calibration]]<$E$1,Table113[[#This Row],[Next Calibration]]=\"NEVER CALIBRATED\"),\"Calibrate\",\"Nominal\"))))","v":""},{"$f":"IF(((Table113[[#This Row],[Next Calibration]]-TODAY())/30)>2,\"More Than 2\",IF(((Table113[[#This Row],[Next Calibration]]-TODAY())/30)>1,\"Between 2 and 1\",\"Less than 1\"))","v":{"$error":"#VALUE!"}},{"$f":"IF(Table113[[#This Row],[Issued]]=\"\",\"\",IF(Table113[[#This Row],[Lent]]=\"\",0,1))","v":""},{"$f":"IF(Table113[[#This Row],[Lent]]=\"\",\"\",IF(Table113[[#This Row],[Returned]]=\"\",0,1))","v":""}]
[{"$nulls":11},{"$f":"IF(IF(Table113[[#This Row],[Disposition]]=\"Retired\",\"N/A\",IF(Table113[[#This Row],[Disposition]]=0,\"\",K105+$F$2))=0+$F$2,\"NEVER CALIBRATED\",IF(Table113[[#This Row],[Disposition]]=\"Retired\",\"N/A\",IF(Table113[[#This Row],[Disposition]]=0,\"\",K105+$F$2)))","v":""},{"$f":"IF(Table113[[#This Row],[Disposition]]=\"\",\"\",IF(AND(Table113[[#This Row],[Next Calibration]]<$E$1,Table113[[#This Row],[Disposition]]=\"Lost\"),\"Find and Calibrate\",IF(Table113[[#This Row],[Disposition]]=\"Lost\",\"Find\",IF(OR(Table113[[#This Row],[Next Calibration]]<$E$1,Table113[[#This Row],[Next Calibration]]=\"NEVER CALIBRATED\"),\"Calibrate\",\"Nominal\"))))","v":""},{"$f":"IF(((Table113[[#This Row],[Next Calibration]]-TODAY())/30)>2,\"More Than 2\",IF(((Table113[[#This Row],[Next Calibration]]-TODAY())/30)>1,\"Between 2 and 1\",\"Less than 1\"))","v":{"$error":"#VALUE!"}},{"$f":"IF(Table113[[#This Row],[Issued]]=\"\",\"\",IF(Table113[[#This Row],[Lent]]=\"\",0,1))","v":""},{"$f":"IF(Table113[[#This Row],[Lent]]=\"\",\"\",IF(Table113[[#This Row],[Returned]]=\"\",0,1))","v":""}]
[{"$nulls":11},{"$f":"IF(IF(Table113[[#This Row],[Disposition]]=\"Retired\",\"N/A\",IF(Table113[[#This Row],[Disposition]]=0,\"\",K106+$F$2))=0+$F$2,\"NEVER CALIBRATED\",IF(Table113[[#This Row],[Disposition]]=\"Retired\",\"N/A\",IF(Table113[[#This Row],[Disposition]]=0,\"\",K106+$F$2)))","v":""},{"$f":"IF(Table113[[#This Row],[Disposition]]=\"\",\"\",IF(AND(Table113[[#This Row],[Next Calibration]]<$E$1,Table113[[#This Row],[Disposition]]=\"Lost\"),\"Find and Calibrate\",IF(Table113[[#This Row],[Disposition]]=\"Lost\",\"Find\",IF(OR(Table113[[#This Row],[Next Calibration]]<$E$1,Table113[[#This Row],[Next Calibration]]=\"NEVER CALIBRATED\"),\"Calibrate\",\"Nominal\"))))","v":""},{"$f":"IF(((Table113[[#This Row],[Next Calibration]]-TODAY())/30)>2,\"More Than 2\",IF(((Table113[[#This Row],[Next Calibration]]-TODAY())/30)>1,\"Between 2 and 1\",\"Less than 1\"))","v":{"$error":"#VALUE!"}},{"$f":"IF(Table113[[#This Row],[Issued]]=\"\",\"\",IF(Table113[[#This Row],[Lent]]=\"\",0,1))","v":""},{"$f":"IF(Table113[[#This Row],[Lent]]=\"\",\"\",IF(Table113[[#This Row],[Returned]]=\"\",0,1))","v":""}]
[{"$nulls":11},{"$f":"IF(IF(Table113[[#This Row],[Disposition]]=\"Retired\",\"N/A\",IF(Table113[[#This Row],[Disposition]]=0,\"\",K107+$F$2))=0+$F$2,\"NEVER CALIBRATED\",IF(Table113[[#This Row],[Disposition]]=\"Retired\",\"N/A\",IF(Table113[[#This Row],[Disposition]]=0,\"\",K107+$F$2)))","v":""},{"$f":"IF(Table113[[#This Row],[Disposition]]=\"\",\"\",IF(AND(Table113[[#This Row],[Next Calibration]]<$E$1,Table113[[#This Row],[Disposition]]=\"Lost\"),\"Find and Calibrate\",IF(Table113[[#This Row],[Disposition]]=\"Lost\",\"Find\",IF(OR(Table113[[#This Row],[Next Calibration]]<$E$1,Table113[[#This Row],[Next Calibration]]=\"NEVER CALIBRATED\"),\"Calibrate\",\"Nominal\"))))","v":""},{"$f":"IF(((Table113[[#This Row],[Next Calibration]]-TODAY())/30)>2,\"More Than 2\",IF(((Table113[[#This Row],[Next Calibration]]-TODAY())/30)>1,\"Between 2 and 1\",\"Less than 1\"))","v":{"$error":"#VALUE!"}},{"$f":"IF(Table113[[#This Row],[Issued]]=\"\",\"\",IF(Table113[[#This Row],[Lent]]=\"\",0,1))","v":""},{"$f":"IF(Table113[[#This Row],[Lent]]=\"\",\"\",IF(Table113[[#This Row],[Returned]]=\"\",0,1))","v":""}]
[{"$nulls":11},{"$f":"IF(IF(Table113[[#This Row],[Disposition]]=\"Retired\",\"N/A\",IF(Table113[[#This Row],[Disposition]]=0,\"\",K108+$F$2))=0+$F$2,\"NEVER CALIBRATED\",IF(Table113[[#This Row],[Disposition]]=\"Retired\",\"N/A\",IF(Table113[[#This Row],[Disposition]]=0,\"\",K108+$F$2)))","v":""},{"$f":"IF(Table113[[#This Row],[Disposition]]=\"\",\"\",IF(AND(Table113[[#This Row],[Next Calibration]]<$E$1,Table113[[#This Row],[Disposition]]=\"Lost\"),\"Find and Calibrate\",IF(Table113[[#This Row],[Disposition]]=\"Lost\",\"Find\",IF(OR(Table113[[#This Row],[Next Calibration]]<$E$1,Table113[[#This Row],[Next Calibration]]=\"NEVER CALIBRATED\"),\"Calibrate\",\"Nominal\"))))","v":""},{"$f":"IF(((Table113[[#This Row],[Next Calibration]]-TODAY())/30)>2,\"More Than 2\",IF(((Table113[[#This Row],[Next Calibration]]-TODAY())/30)>1,\"Between 2 and 1\",\"Less than 1\"))","v":{"$error":"#VALUE!"}},{"$f":"IF(Table113[[#This Row],[Issued]]=\"\",\"\",IF(Table113[[#This Row],[Lent]]=\"\",0,1))","v":""},{"$f":"IF(Table113[[#This Row],[Lent]]=\"\",\"\",IF(Table113[[#This Row],[Returned]]=\"\",0,1))","v":""}]
[{"$nulls":11},{"$f":"IF(IF(Table113[[#This Row],[Disposition]]=\"Retired\",\"N/A\",IF(Table113[[#This Row],[Disposition]]=0,\"\",K109+$F$2))=0+$F$2,\"NEVER CALIBRATED\",IF(Table113[[#This Row],[Disposition]]=\"Retired\",\"N/A\",IF(Table113[[#This Row],[Disposition]]=0,\"\",K109+$F$2)))","v":""},{"$f":"IF(Table113[[#This Row],[Disposition]]=\"\",\"\",IF(AND(Table113[[#This Row],[Next Calibration]]<$E$1,Table113[[#This Row],[Disposition]]=\"Lost\"),\"Find and Calibrate\",IF(Table113[[#This Row],[Disposition]]=\"Lost\",\"Find\",IF(OR(Table113[[#This Row],[Next Calibration]]<$E$1,Table113[[#This Row],[Next Calibration]]=\"NEVER CALIBRATED\"),\"Calibrate\",\"Nominal\"))))","v":""},{"$f":"IF(((Table113[[#This Row],[Next Calibration]]-TODAY())/30)>2,\"More Than 2\",IF(((Table113[[#This Row],[Next Calibration]]-TODAY())/30)>1,\"Between 2 and 1\",\"Less than 1\"))","v":{"$error":"#VALUE!"}},{"$f":"IF(Table113[[#This Row],[Issued]]=\"\",\"\",IF(Table113[[#This Row],[Lent]]=\"\",0,1))","v":""},{"$f":"IF(Table113[[#This Row],[Lent]]=\"\",\"\",IF(Table113[[#This Row],[Returned]]=\"\",0,1))","v":""}]
[{"$nulls":11},{"$f":"IF(IF(Table113[[#This Row],[Disposition]]=\"Retired\",\"N/A\",IF(Table113[[#This Row],[Disposition]]=0,\"\",K110+$F$2))=0+$F$2,\"NEVER CALIBRATED\",IF(Table113[[#This Row],[Disposition]]=\"Retired\",\"N/A\",IF(Table113[[#This Row],[Disposition]]=0,\"\",K110+$F$2)))","v":""},{"$f":"IF(Table113[[#This Row],[Disposition]]=\"\",\"\",IF(AND(Table113[[#This Row],[Next Calibration]]<$E$1,Table113[[#This Row],[Disposition]]=\"Lost\"),\"Find and Calibrate\",IF(Table113[[#This Row],[Disposition]]=\"Lost\",\"Find\",IF(OR(Table113[[#This Row],[Next Calibration]]<$E$1,Table113[[#This Row],[Next Calibration]]=\"NEVER CALIBRATED\"),\"Calibrate\",\"Nominal\"))))","v":""},{"$f":"IF(((Table113[[#This Row],[Next Calibration]]-TODAY())/30)>2,\"More Than 2\",IF(((Table113[[#This Row],[Next Calibration]]-TODAY())/30)>1,\"Between 2 and 1\",\"Less than 1\"))","v":{"$error":"#VALUE!"}},{"$f":"IF(Table113[[#This Row],[Issued]]=\"\",\"\",IF(Table113[[#This Row],[Lent]]=\"\",0,1))","v":""},{"$f":"IF(Table113[[#This Row],[Lent]]=\"\",\"\",IF(Table113[[#This Row],[Returned]]=\"\",0,1))","v":""}]
[{"$nulls":11},{"$f":"IF(IF(Table113[[#This Row],[Disposition]]=\"Retired\",\"N/A\",IF(Table113[[#This Row],[Disposition]]=0,\"\",K111+$F$2))=0+$F$2,\"NEVER CALIBRATED\",IF(Table113[[#This Row],[Disposition]]=\"Retired\",\"N/A\",IF(Table113[[#This Row],[Disposition]]=0,\"\",K111+$F$2)))","v":""},{"$f":"IF(Table113[[#This Row],[Disposition]]=\"\",\"\",IF(AND(Table113[[#This Row],[Next Calibration]]<$E$1,Table113[[#This Row],[Disposition]]=\"Lost\"),\"Find and Calibrate\",IF(Table113[[#This Row],[Disposition]]=\"Lost\",\"Find\",IF(OR(Table113[[#This Row],[Next Calibration]]<$E$1,Table113[[#This Row],[Next Calibration]]=\"NEVER CALIBRATED\"),\"Calibrate\",\"Nominal\"))))","v":""},{"$f":"IF(((Table113[[#This Row],[Next Calibration]]-TODAY())/30)>2,\"More Than 2\",IF(((Table113[[#This Row],[Next Calibration]]-TODAY())/30)>1,\"Between 2 and 1\",\"Less than 1\"))","v":{"$error":"#VALUE!"}},{"$f":"IF(Table113[[#This Row],[Issued]]=\"\",\"\",IF(Table113[[#This Row],[Lent]]=\"\",0,1))","v":""},{"$f":"IF(Table113[[#This Row],[Lent]]=\"\",\"\",IF(Table113[[#This Row],[Returned]]=\"\",0,1))","v":""}]
[{"$nulls":11},{"$f":"IF(IF(Table113[[#This Row],[Disposition]]=\"Retired\",\"N/A\",IF(Table113[[#This Row],[Disposition]]=0,\"\",K112+$F$2))=0+$F$2,\"NEVER CALIBRATED\",IF(Table113[[#This Row],[Disposition]]=\"Retired\",\"N/A\",IF(Table113[[#This Row],[Disposition]]=0,\"\",K112+$F$2)))","v":""},{"$f":"IF(Table113[[#This Row],[Disposition]]=\"\",\"\",IF(AND(Table113[[#This Row],[Next Calibration]]<$E$1,Table113[[#This Row],[Disposition]]=\"Lost\"),\"Find and Calibrate\",IF(Table113[[#This Row],[Disposition]]=\"Lost\",\"Find\",IF(OR(Table113[[#This Row],[Next Calibration]]<$E$1,Table113[[#This Row],[Next Calibration]]=\"NEVER CALIBRATED\"),\"Calibrate\",\"Nominal\"))))","v":""},{"$f":"IF(((Table113[[#This Row],[Next Calibration]]-TODAY())/30)>2,\"More Than 2\",IF(((Table113[[#This Row],[Next Calibration]]-TODAY())/30)>1,\"Between 2 and 1\",\"Less than 1\"))","v":{"$error":"#VALUE!"}},{"$f":"IF(Table113[[#This Row],[Issued]]=\"\",\"\",IF(Table113[[#This Row],[Lent]]=\"\",0,1))","v":""},{"$f":"IF(Table113[[#This Row],[Lent]]=\"\",\"\",IF(Table113[[#This Row],[Returned]]=\"\",0,1))","v":""}]
[{"$nulls":11},{"$f":"IF(IF(Table113[[#This Row],[Disposition]]=\"Retired\",\"N/A\",IF(Table113[[#This Row],[Disposition]]=0,\"\",K113+$F$2))=0+$F$2,\"NEVER CALIBRATED\",IF(Table113[[#This Row],[Disposition]]=\"Retired\",\"N/A\",IF(Table113[[#This Row],[Disposition]]=0,\"\",K113+$F$2)))","v":""},{"$f":"IF(Table113[[#This Row],[Disposition]]=\"\",\"\",IF(AND(Table113[[#This Row],[Next Calibration]]<$E$1,Table113[[#This Row],[Disposition]]=\"Lost\"),\"Find and Calibrate\",IF(Table113[[#This Row],[Disposition]]=\"Lost\",\"Find\",IF(OR(Table113[[#This Row],[Next Calibration]]<$E$1,Table113[[#This Row],[Next Calibration]]=\"NEVER CALIBRATED\"),\"Calibrate\",\"Nominal\"))))","v":""},{"$f":"IF(((Table113[[#This Row],[Next Calibration]]-TODAY())/30)>2,\"More Than 2\",IF(((Table113[[#This Row],[Next Calibration]]-TODAY())/30)>1,\"Between 2 and 1\",\"Less than 1\"))","v":{"$error":"#VALUE!"}},{"$f":"IF(Table113[[#This Row],[Issued]]=\"\",\"\",IF(Table113[[#This Row],[Lent]]=\"\",0,1))","v":""},{"$f":"IF(Table113[[#This Row],[Lent]]=\"\",\"\",IF(Table113[[#This Row],[Returned]]=\"\",0,1))","v":""}]
[{"$nulls":11},{"$f":"IF(IF(Table113[[#This Row],[Disposition]]=\"Retired\",\"N/A\",IF(Table113[[#This Row],[Disposition]]=0,\"\",K114+$F$2))=0+$F$2,\"NEVER CALIBRATED\",IF(Table113[[#This Row],[Disposition]]=\"Retired\",\"N/A\",IF(Table113[[#This Row],[Disposition]]=0,\"\",K114+$F$2)))","v":""},{"$f":"IF(Table113[[#This Row],[Disposition]]=\"\",\"\",IF(AND(Table113[[#This Row],[Next Calibration]]<$E$1,Table113[[#This Row],[Disposition]]=\"Lost\"),\"Find and Calibrate\",IF(Table113[[#This Row],[Disposition]]=\"Lost\",\"Find\",IF(OR(Table113[[#This Row],[Next Calibration]]<$E$1,Table113[[#This Row],[Next Calibration]]=\"NEVER CALIBRATED\"),\"Calibrate\",\"Nominal\"))))","v":""},{"$f":"IF(((Table113[[#This Row],[Next Calibration]]-TODAY())/30)>2,\"More Than 2\",IF(((Table113[[#This Row],[Next Calibration]]-TODAY())/30)>1,\"Between 2 and 1\",\"Less than 1\"))","v":{"$error":"#VALUE!"}},{"$f":"IF(Table113[[#This Row],[Issued]]=\"\",\"\",IF(Table113[[#This Row],[Lent]]=\"\",0,1))","v":""},{"$f":"IF(Table113[[#This Row],[Lent]]=\"\",\"\",IF(Table113[[#This Row],[Returned]]=\"\",0,1))","v":""}]
[{"$nulls":11},{"$f":"IF(IF(Table113[[#This Row],[Disposition]]=\"Retired\",\"N/A\",IF(Table113[[#This Row],[Disposition]]=0,\"\",K115+$F$2))=0+$F$2,\"NEVER CALIBRATED\",IF(Table113[[#This Row],[Disposition]]=\"Retired\",\"N/A\",IF(Table113[[#This Row],[Disposition]]=0,\"\",K115+$F$2)))","v":""},{"$f":"IF(Table113[[#This Row],[Disposition]]=\"\",\"\",IF(AND(Table113[[#This Row],[Next Calibration]]<$E$1,Table113[[#This Row],[Disposition]]=\"Lost\"),\"Find and Calibrate\",IF(Table113[[#This Row],[Disposition]]=\"Lost\",\"Find\",IF(OR(Table113[[#This Row],[Next Calibration]]<$E$1,Table113[[#This Row],[Next Calibration]]=\"NEVER CALIBRATED\"),\"Calibrate\",\"Nominal\"))))","v":""},{"$f":"IF(((Table113[[#This Row],[Next Calibration]]-TODAY())/30)>2,\"More Than 2\",IF(((Table113[[#This Row],[Next Calibration]]-TODAY())/30)>1,\"Between 2 and 1\",\"Less than 1\"))","v":{"$error":"#VALUE!"}},{"$f":"IF(Table113[[#This Row],[Issued]]=\"\",\"\",IF(Table113[[#This Row],[Lent]]=\"\",0,1))","v":""},{"$f":"IF(Table113[[#This Row],[Lent]]=\"\",\"\",IF(Table113[[#This Row],[Returned]]=\"\",0,1))","v":""}]
[{"$nulls":11},{"$f":"IF(IF(Table113[[#This Row],[Disposition]]=\"Retired\",\"N/A\",IF(Table113[[#This Row],[Disposition]]=0,\"\",K116+$F$2))=0+$F$2,\"NEVER CALIBRATED\",IF(Table113[[#This Row],[Disposition]]=\"Retired\",\"N/A\",IF(Table113[[#This Row],[Disposition]]=0,\"\",K116+$F$2)))","v":""},{"$f":"IF(Table113[[#This Row],[Disposition]]=\"\",\"\",IF(AND(Table113[[#This Row],[Next Calibration]]<$E$1,Table113[[#This Row],[Disposition]]=\"Lost\"),\"Find and Calibrate\",IF(Table113[[#This Row],[Disposition]]=\"Lost\",\"Find\",IF(OR(Table113[[#This Row],[Next Calibration]]<$E$1,Table113[[#This Row],[Next Calibration]]=\"NEVER CALIBRATED\"),\"Calibrate\",\"Nominal\"))))","v":""},{"$f":"IF(((Table113[[#This Row],[Next Calibration]]-TODAY())/30)>2,\"More Than 2\",IF(((Table113[[#This Row],[Next Calibration]]-TODAY())/30)>1,\"Between 2 and 1\",\"Less than 1\"))","v":{"$error":"#VALUE!"}},{"$f":"IF(Table113[[#This Row],[Issued]]=\"\",\"\",IF(Table113[[#This Row],[Lent]]=\"\",0,1))","v":""},{"$f":"IF(Table113[[#This Row],[Lent]]=\"\",\"\",IF(Table113[[#This Row],[Returned]]=\"\",0,1))","v":""}]
[{"$nulls":11},{"$f":"IF(IF(Table113[[#This Row],[Disposition]]=\"Retired\",\"N/A\",IF(Table113[[#This Row],[Disposition]]=0,\"\",K117+$F$2))=0+$F$2,\"NEVER CALIBRATED\",IF(Table113[[#This Row],[Disposition]]=\"Retired\",\"N/A\",IF(Table113[[#This Row],[Disposition]]=0,\"\",K117+$F$2)))","v":""},{"$f":"IF(Table113[[#This Row],[Disposition]]=\"\",\"\",IF(AND(Table113[[#This Row],[Next Calibration]]<$E$1,Table113[[#This Row],[Disposition]]=\"Lost\"),\"Find and Calibrate\",IF(Table113[[#This Row],[Disposition]]=\"Lost\",\"Find\",IF(OR(Table113[[#This Row],[Next Calibration]]<$E$1,Table113[[#This Row],[Next Calibration]]=\"NEVER CALIBRATED\"),\"Calibrate\",\"Nominal\"))))","v":""},{"$f":"IF(((Table113[[#This Row],[Next Calibration]]-TODAY())/30)>2,\"More Than 2\",IF(((Table113[[#This Row],[Next Calibration]]-TODAY())/30)>1,\"Between 2 and 1\",\"Less than 1\"))","v":{"$error":"#VALUE!"}},{"$f":"IF(Table113[[#This Row],[Issued]]=\"\",\"\",IF(Table113[[#This Row],[Lent]]=\"\",0,1))","v":""},{"$f":"IF(Table113[[#This Row],[Lent]]=\"\",\"\",IF(Table113[[#This Row],[Returned]]=\"\",0,1))","v":""}]
[{"$nulls":11},{"$f":"IF(IF(Table113[[#This Row],[Disposition]]=\"Retired\",\"N/A\",IF(Table113[[#This Row],[Disposition]]=0,\"\",K118+$F$2))=0+$F$2,\"NEVER CALIBRATED\",IF(Table113[[#This Row],[Disposition]]=\"Retired\",\"N/A\",IF(Table113[[#This Row],[Disposition]]=0,\"\",K118+$F$2)))","v":""},{"$f":"IF(Table113[[#This Row],[Disposition]]=\"\",\"\",IF(AND(Table113[[#This Row],[Next Calibration]]<$E$1,Table113[[#This Row],[Disposition]]=\"Lost\"),\"Find and Calibrate\",IF(Table113[[#This Row],[Disposition]]=\"Lost\",\"Find\",IF(OR(Table113[[#This Row],[Next Calibration]]<$E$1,Table113[[#This Row],[Next Calibration]]=\"NEVER CALIBRATED\"),\"Calibrate\",\"Nominal\"))))","v":""},{"$f":"IF(((Table113[[#This Row],[Next Calibration]]-TODAY())/30)>2,\"More Than 2\",IF(((Table113[[#This Row],[Next Calibration]]-TODAY())/30)>1,\"Between 2 and 1\",\"Less than 1\"))","v":{"$error":"#VALUE!"}},{"$f":"IF(Table113[[#This Row],[Issued]]=\"\",\"\",IF(Table113[[#This Row],[Lent]]=\"\",0,1))","v":""},{"$f":"IF(Table113[[#This Row],[Lent]]=\"\",\"\",IF(Table113[[#This Row],[Returned]]=\"\",0,1))","v":""}]
[{"$nulls":11},{"$f":"IF(IF(Table113[[#This Row],[Disposition]]=\"Retired\",\"N/A\",IF(Table113[[#This Row],[Disposition]]=0,\"\",K119+$F$2))=0+$F$2,\"NEVER CALIBRATED\",IF(Table113[[#This Row],[Disposition]]=\"Retired\",\"N/A\",IF(Table113[[#This Row],[Disposition]]=0,\"\",K119+$F$2)))","v":""},{"$f":"IF(Table113[[#This Row],[Disposition]]=\"\",\"\",IF(AND(Table113[[#This Row],[Next Calibration]]<$E$1,Table113[[#This Row],[Disposition]]=\"Lost\"),\"Find and Calibrate\",IF(Table113[[#This Row],[Disposition]]=\"Lost\",\"Find\",IF(OR(Table113[[#This Row],[Next Calibration]]<$E$1,Table113[[#This Row],[Next Calibration]]=\"NEVER CALIBRATED\"),\"Calibrate\",\"Nominal\"))))","v":""},{"$f":"IF(((Table113[[#This Row],[Next Calibration]]-TODAY())/30)>2,\"More Than 2\",IF(((Table113[[#This Row],[Next Calibration]]-TODAY())/30)>1,\"Between 2 and 1\",\"Less than 1\"))","v":{"$error":"#VALUE!"}},{"$f":"IF(Table113[[#This Row],[Issued]]=\"\",\"\",IF(Table113[[#This Row],[Lent]]=\"\",0,1))","v":""},{"$f":"IF(Table113[[#This Row],[Lent]]=\"\",\"\",IF(Table113[[#This Row],[Returned]]=\"\",0,1))","v":""}]
[{"$nulls":11},{"$f":"IF(IF(Table113[[#This Row],[Disposition]]=\"Retired\",\"N/A\",IF(Table113[[#This Row],[Disposition]]=0,\"\",K120+$F$2))=0+$F$2,\"NEVER CALIBRATED\",IF(Table113[[#This Row],[Disposition]]=\"Retired\",\"N/A\",IF(Table113[[#This Row],[Disposition]]=0,\"\",K120+$F$2)))","v":""},{"$f":"IF(Table113[[#This Row],[Disposition]]=\"\",\"\",IF(AND(Table113[[#This Row],[Next Calibration]]<$E$1,Table113[[#This Row],[Disposition]]=\"Lost\"),\"Find and Calibrate\",IF(Table113[[#This Row],[Disposition]]=\"Lost\",\"Find\",IF(OR(Table113[[#This Row],[Next Calibration]]<$E$1,Table113[[#This Row],[Next Calibration]]=\"NEVER CALIBRATED\"),\"Calibrate\",\"Nominal\"))))","v":""},{"$f":"IF(((Table113[[#This Row],[Next Calibration]]-TODAY())/30)>2,\"More Than 2\",IF(((Table113[[#This Row],[Next Calibration]]-TODAY())/30)>1,\"Between 2 and 1\",\"Less than 1\"))","v":{"$error":"#VALUE!"}},{"$f":"IF(Table113[[#This Row],[Issued]]=\"\",\"\",IF(Table113[[#This Row],[Lent]]=\"\",0,1))","v":""},{"$f":"IF(Table113[[#This Row],[Lent]]=\"\",\"\",IF(Table113[[#This Row],[Returned]]=\"\",0,1))","v":""}]
[{"$nulls":11},{"$f":"IF(IF(Table113[[#This Row],[Disposition]]=\"Retired\",\"N/A\",IF(Table113[[#This Row],[Disposition]]=0,\"\",K121+$F$2))=0+$F$2,\"NEVER CALIBRATED\",IF(Table113[[#This Row],[Disposition]]=\"Retired\",\"N/A\",IF(Table113[[#This Row],[Disposition]]=0,\"\",K121+$F$2)))","v":""},{"$f":"IF(Table113[[#This Row],[Disposition]]=\"\",\"\",IF(AND(Table113[[#This Row],[Next Calibration]]<$E$1,Table113[[#This Row],[Disposition]]=\"Lost\"),\"Find and Calibrate\",IF(Table113[[#This Row],[Disposition]]=\"Lost\",\"Find\",IF(OR(Table113[[#This Row],[Next Calibration]]<$E$1,Table113[[#This Row],[Next Calibration]]=\"NEVER CALIBRATED\"),\"Calibrate\",\"Nominal\"))))","v":""},{"$f":"IF(((Table113[[#This Row],[Next Calibration]]-TODAY())/30)>2,\"More Than 2\",IF(((Table113[[#This Row],[Next Calibration]]-TODAY())/30)>1,\"Between 2 and 1\",\"Less than 1\"))","v":{"$error":"#VALUE!"}},{"$f":"IF(Table113[[#This Row],[Issued]]=\"\",\"\",IF(Table113[[#This Row],[Lent]]=\"\",0,1))","v":""},{"$f":"IF(Table113[[#This Row],[Lent]]=\"\",\"\",IF(Table113[[#This Row],[Returned]]=\"\",0,1))","v":""}]
[{"$nulls":11},{"$f":"IF(IF(Table113[[#This Row],[Disposition]]=\"Retired\",\"N/A\",IF(Table113[[#This Row],[Disposition]]=0,\"\",K122+$F$2))=0+$F$2,\"NEVER CALIBRATED\",IF(Table113[[#This Row],[Disposition]]=\"Retired\",\"N/A\",IF(Table113[[#This Row],[Disposition]]=0,\"\",K122+$F$2)))","v":""},{"$f":"IF(Table113[[#This Row],[Disposition]]=\"\",\"\",IF(AND(Table113[[#This Row],[Next Calibration]]<$E$1,Table113[[#This Row],[Disposition]]=\"Lost\"),\"Find and Calibrate\",IF(Table113[[#This Row],[Disposition]]=\"Lost\",\"Find\",IF(OR(Table113[[#This Row],[Next Calibration]]<$E$1,Table113[[#This Row],[Next Calibration]]=\"NEVER CALIBRATED\"),\"Calibrate\",\"Nominal\"))))","v":""},{"$f":"IF(((Table113[[#This Row],[Next Calibration]]-TODAY())/30)>2,\"More Than 2\",IF(((Table113[[#This Row],[Next Calibration]]-TODAY())/30)>1,\"Between 2 and 1\",\"Less than 1\"))","v":{"$error":"#VALUE!"}},{"$f":"IF(Table113[[#This Row],[Issued]]=\"\",\"\",IF(Table113[[#This Row],[Lent]]=\"\",0,1))","v":""},{"$f":"IF(Table113[[#This Row],[Lent]]=\"\",\"\",IF(Table113[[#This Row],[Returned]]=\"\",0,1))","v":""}]
[{"$nulls":11},{"$f":"IF(IF(Table113[[#This Row],[Disposition]]=\"Retired\",\"N/A\",IF(Table113[[#This Row],[Disposition]]=0,\"\",K123+$F$2))=0+$F$2,\"NEVER CALIBRATED\",IF(Table113[[#This Row],[Disposition]]=\"Retired\",\"N/A\",IF(Table113[[#This Row],[Disposition]]=0,\"\",K123+$F$2)))","v":""},{"$f":"IF(Table113[[#This Row],[Disposition]]=\"\",\"\",IF(AND(Table113[[#This Row],[Next Calibration]]<$E$1,Table113[[#This Row],[Disposition]]=\"Lost\"),\"Find and Calibrate\",IF(Table113[[#This Row],[Disposition]]=\"Lost\",\"Find\",IF(OR(Table113[[#This Row],[Next Calibration]]<$E$1,Table113[[#This Row],[Next Calibration]]=\"NEVER CALIBRATED\"),\"Calibrate\",\"Nominal\"))))","v":""},{"$f":"IF(((Table113[[#This Row],[Next Calibration]]-TODAY())/30)>2,\"More Than 2\",IF(((Table113[[#This Row],[Next Calibration]]-TODAY())/30)>1,\"Between 2 and 1\",\"Less than 1\"))","v":{"$error":"#VALUE!"}},{"$f":"IF(Table113[[#This Row],[Issued]]=\"\",\"\",IF(Table113[[#This Row],[Lent]]=\"\",0,1))","v":""},{"$f":"IF(Table113[[#This Row],[Lent]]=\"\",\"\",IF(Table113[[#This Row],[Returned]]=\"\",0,1))","v":""}]
[{"$nulls":11},{"$f":"IF(IF(Table113[[#This Row],[Disposition]]=\"Retired\",\"N/A\",IF(Table113[[#This Row],[Disposition]]=0,\"\",K124+$F$2))=0+$F$2,\"NEVER CALIBRATED\",IF(Table113[[#This Row],[Disposition]]=\"Retired\",\"N/A\",IF(Table113[[#This Row],[Disposition]]=0,\"\",K124+$F$2)))","v":""},{"$f":"IF(Table113[[#This Row],[Disposition]]=\"\",\"\",IF(AND(Table113[[#This Row],[Next Calibration]]<$E$1,Table113[[#This Row],[Disposition]]=\"Lost\"),\"Find and Calibrate\",IF(Table113[[#This Row],[Disposition]]=\"Lost\",\"Find\",IF(OR(Table113[[#This Row],[Next Calibration]]<$E$1,Table113[[#This Row],[Next Calibration]]=\"NEVER CALIBRATED\"),\"Calibrate\",\"Nominal\"))))","v":""},{"$f":"IF(((Table113[[#This Row],[Next Calibration]]-TODAY())/30)>2,\"More Than 2\",IF(((Table113[[#This Row],[Next Calibration]]-TODAY())/30)>1,\"Between 2 and 1\",\"Less than 1\"))","v":{"$error":"#VALUE!"}},{"$f":"IF(Table113[[#This Row],[Issued]]=\"\",\"\",IF(Table113[[#This Row],[Lent]]=\"\",0,1))","v":""},{"$f":"IF(Table113[[#This Row],[Lent]]=\"\",\"\",IF(Table113[[#This Row],[Returned]]=\"\",0,1))","v":""}]
[{"$nulls":11},{"$f":"IF(IF(Table113[[#This Row],[Disposition]]=\"Retired\",\"N/A\",IF(Table113[[#This Row],[Disposition]]=0,\"\",K125+$F$2))=0+$F$2,\"NEVER CALIBRATED\",IF(Table113[[#This Row],[Disposition]]=\"Retired\",\"N/A\",IF(Table113[[#This Row],[Disposition]]=0,\"\",K125+$F$2)))","v":""},{"$f":"IF(Table113[[#This Row],[Disposition]]=\"\",\"\",IF(AND(Table113[[#This Row],[Next Calibration]]<$E$1,Table113[[#This Row],[Disposition]]=\"Lost\"),\"Find and Calibrate\",IF(Table113[[#This Row],[Disposition]]=\"Lost\",\"Find\",IF(OR(Table113[[#This Row],[Next Calibration]]<$E$1,Table113[[#This Row],[Next Calibration]]=\"NEVER CALIBRATED\"),\"Calibrate\",\"Nominal\"))))","v":""},{"$f":"IF(((Table113[[#This Row],[Next Calibration]]-TODAY())/30)>2,\"More Than 2\",IF(((Table113[[#This Row],[Next Calibration]]-TODAY())/30)>1,\"Between 2 and 1\",\"Less than 1\"))","v":{"$error":"#VALUE!"}},{"$f":"IF(Table113[[#This Row],[Issued]]=\"\",\"\",IF(Table113[[#This Row],[Lent]]=\"\",0,1))","v":""},{"$f":"IF(Table113[[#This Row],[Lent]]=\"\",\"\",IF(Table113[[#This Row],[Returned]]=\"\",0,1))","v":""}]
[{"$nulls":11},{"$f":"IF(IF(Table113[[#This Row],[Disposition]]=\"Retired\",\"N/A\",IF(Table113[[#This Row],[Disposition]]=0,\"\",K126+$F$2))=0+$F$2,\"NEVER CALIBRATED\",IF(Table113[[#This Row],[Disposition]]=\"Retired\",\"N/A\",IF(Table113[[#This Row],[Disposition]]=0,\"\",K126+$F$2)))","v":""},{"$f":"IF(Table113[[#This Row],[Disposition]]=\"\",\"\",IF(AND(Table113[[#This Row],[Next Calibration]]<$E$1,Table113[[#This Row],[Disposition]]=\"Lost\"),\"Find and Calibrate\",IF(Table113[[#This Row],[Disposition]]=\"Lost\",\"Find\",IF(OR(Table113[[#This Row],[Next Calibration]]<$E$1,Table113[[#This Row],[Next Calibration]]=\"NEVER CALIBRATED\"),\"Calibrate\",\"Nominal\"))))","v":""},{"$f":"IF(((Table113[[#This Row],[Next Calibration]]-TODAY())/30)>2,\"More Than 2\",IF(((Table113[[#This Row],[Next Calibration]]-TODAY())/30)>1,\"Between 2 and 1\",\"Less than 1\"))","v":{"$error":"#VALUE!"}},{"$f":"IF(Table113[[#This Row],[Issued]]=\"\",\"\",IF(Table113[[#This Row],[Lent]]=\"\",0,1))","v":""},{"$f":"IF(Table113[[#This Row],[Lent]]=\"\",\"\",IF(Table113[[#This Row],[Returned]]=\"\",0,1))","v":""}]
[{"$nulls":11},{"$f":"IF(IF(Table113[[#This Row],[Disposition]]=\"Retired\",\"N/A\",IF(Table113[[#This Row],[Disposition]]=0,\"\",K127+$F$2))=0+$F$2,\"NEVER CALIBRATED\",IF(Table113[[#This Row],[Disposition]]=\"Retired\",\"N/A\",IF(Table113[[#This Row],[Disposition]]=0,\"\",K127+$F$2)))","v":""},{"$f":"IF(Table113[[#This Row],[Disposition]]=\"\",\"\",IF(AND(Table113[[#This Row],[Next Calibration]]<$E$1,Table113[[#This Row],[Disposition]]=\"Lost\"),\"Find and Calibrate\",IF(Table113[[#This Row],[Disposition]]=\"Lost\",\"Find\",IF(OR(Table113[[#This Row],[Next Calibration]]<$E$1,Table113[[#This Row],[Next Calibration]]=\"NEVER CALIBRATED\"),\"Calibrate\",\"Nominal\"))))","v":""},{"$f":"IF(((Table113[[#This Row],[Next Calibration]]-TODAY())/30)>2,\"More Than 2\",IF(((Table113[[#This Row],[Next Calibration]]-TODAY())/30)>1,\"Between 2 and 1\",\"Less than 1\"))","v":{"$error":"#VALUE!"}},{"$f":"IF(Table113[[#This Row],[Issued]]=\"\",\"\",IF(Table113[[#This Row],[Lent]]=\"\",0,1))","v":""},{"$f":"IF(Table113[[#This Row],[Lent]]=\"\",\"\",IF(Table113[[#This Row],[Returned]]=\"\",0,1))","v":""}]
[{"$nulls":11},{"$f":"IF(IF(Table113[[#This Row],[Disposition]]=\"Retired\",\"N/A\",IF(Table113[[#This Row],[Disposition]]=0,\"\",K128+$F$2))=0+$F$2,\"NEVER CALIBRATED\",IF(Table113[[#This Row],[Disposition]]=\"Retired\",\"N/A\",IF(Table113[[#This Row],[Disposition]]=0,\"\",K128+$F$2)))","v":""},{"$f":"IF(Table113[[#This Row],[Disposition]]=\"\",\"\",IF(AND(Table113[[#This Row],[Next Calibration]]<$E$1,Table113[[#This Row],[Disposition]]=\"Lost\"),\"Find and Calibrate\",IF(Table113[[#This Row],[Disposition]]=\"Lost\",\"Find\",IF(OR(Table113[[#This Row],[Next Calibration]]<$E$1,Table113[[#This Row],[Next Calibration]]=\"NEVER CALIBRATED\"),\"Calibrate\",\"Nominal\"))))","v":""},{"$f":"IF(((Table113[[#This Row],[Next Calibration]]-TODAY())/30)>2,\"More Than 2\",IF(((Table113[[#This Row],[Next Calibration]]-TODAY())/30)>1,\"Between 2 and 1\",\"Less than 1\"))","v":{"$error":"#VALUE!"}},{"$f":"IF(Table113[[#This Row],[Issued]]=\"\",\"\",IF(Table113[[#This Row],[Lent]]=\"\",0,1))","v":""},{"$f":"IF(Table113[[#This Row],[Lent]]=\"\",\"\",IF(Table113[[#This Row],[Returned]]=\"\",0,1))","v":""}]
[{"$nulls":11},{"$f":"IF(IF(Table113[[#This Row],[Disposition]]=\"Retired\",\"N/A\",IF(Table113[[#This Row],[Disposition]]=0,\"\",K129+$F$2))=0+$F$2,\"NEVER CALIBRATED\",IF(Table113[[#This Row],[Disposition]]=\"Retired\",\"N/A\",IF(Table113[[#This Row],[Disposition]]=0,\"\",K129+$F$2)))","v":""},{"$f":"IF(Table113[[#This Row],[Disposition]]=\"\",\"\",IF(AND(Table113[[#This Row],[Next Calibration]]<$E$1,Table113[[#This Row],[Disposition]]=\"Lost\"),\"Find and Calibrate\",IF(Table113[[#This Row],[Disposition]]=\"Lost\",\"Find\",IF(OR(Table113[[#This Row],[Next Calibration]]<$E$1,Table113[[#This Row],[Next Calibration]]=\"NEVER CALIBRATED\"),\"Calibrate\",\"Nominal\"))))","v":""},{"$f":"IF(((Table113[[#This Row],[Next Calibration]]-TODAY())/30)>2,\"More Than 2\",IF(((Table113[[#This Row],[Next Calibration]]-TODAY())/30)>1,\"Between 2 and 1\",\"Less than 1\"))","v":{"$error":"#VALUE!"}},{"$f":"IF(Table113[[#This Row],[Issued]]=\"\",\"\",IF(Table113[[#This Row],[Lent]]=\"\",0,1))","v":""},{"$f":"IF(Table113[[#This Row],[Lent]]=\"\",\"\",IF(Table113[[#This Row],[Returned]]=\"\",0,1))","v":""}]
[{"$nulls":11},{"$f":"IF(IF(Table113[[#This Row],[Disposition]]=\"Retired\",\"N/A\",IF(Table113[[#This Row],[Disposition]]=0,\"\",K130+$F$2))=0+$F$2,\"NEVER CALIBRATED\",IF(Table113[[#This Row],[Disposition]]=\"Retired\",\"N/A\",IF(Table113[[#This Row],[Disposition]]=0,\"\",K130+$F$2)))","v":""},{"$f":"IF(Table113[[#This Row],[Disposition]]=\"\",\"\",IF(AND(Table113[[#This Row],[Next Calibration]]<$E$1,Table113[[#This Row],[Disposition]]=\"Lost\"),\"Find and Calibrate\",IF(Table113[[#This Row],[Disposition]]=\"Lost\",\"Find\",IF(OR(Table113[[#This Row],[Next Calibration]]<$E$1,Table113[[#This Row],[Next Calibration]]=\"NEVER CALIBRATED\"),\"Calibrate\",\"Nominal\"))))","v":""},{"$f":"IF(((Table113[[#This Row],[Next Calibration]]-TODAY())/30)>2,\"More Than 2\",IF(((Table113[[#This Row],[Next Calibration]]-TODAY())/30)>1,\"Between 2 and 1\",\"Less than 1\"))","v":{"$error":"#VALUE!"}},{"$f":"IF(Table113[[#This Row],[Issued]]=\"\",\"\",IF(Table113[[#This Row],[Lent]]=\"\",0,1))","v":""},{"$f":"IF(Table113[[#This Row],[Lent]]=\"\",\"\",IF(Table113[[#This Row],[Returned]]=\"\",0,1))","v":""}]
[{"$nulls":11},{"$f":"IF(IF(Table113[[#This Row],[Disposition]]=\"Retired\",\"N/A\",IF(Table113[[#This Row],[Disposition]]=0,\"\",K131+$F$2))=0+$F$2,\"NEVER CALIBRATED\",IF(Table113[[#This Row],[Disposition]]=\"Retired\",\"N/A\",IF(Table113[[#This Row],[Disposition]]=0,\"\",K131+$F$2)))","v":""},{"$f":"IF(Table113[[#This Row],[Disposition]]=\"\",\"\",IF(AND(Table113[[#This Row],[Next Calibration]]<$E$1,Table113[[#This Row],[Disposition]]=\"Lost\"),\"Find and Calibrate\",IF(Table113[[#This Row],[Disposition]]=\"Lost\",\"Find\",IF(OR(Table113[[#This Row],[Next Calibration]]<$E$1,Table113[[#This Row],[Next Calibration]]=\"NEVER CALIBRATED\"),\"Calibrate\",\"Nominal\"))))","v":""},{"$f":"IF(((Table113[[#This Row],[Next Calibration]]-TODAY())/30)>2,\"More Than 2\",IF(((Table113[[#This Row],[Next Calibration]]-TODAY())/30)>1,\"Between 2 and 1\",\"Less than 1\"))","v":{"$error":"#VALUE!"}},{"$f":"IF(Table113[[#This Row],[Issued]]=\"\",\"\",IF(Table113[[#This Row],[Lent]]=\"\",0,1))","v":""},{"$f":"IF(Table113[[#This Row],[Lent]]=\"\",\"\",IF(Table113[[#This Row],[Returned]]=\"\",0,1))","v":""}]
[{"$nulls":11},{"$f":"IF(IF(Table113[[#This Row],[Disposition]]=\"Retired\",\"N/A\",IF(Table113[[#This Row],[Disposition]]=0,\"\",K132+$F$2))=0+$F$2,\"NEVER CALIBRATED\",IF(Table113[[#This Row],[Disposition]]=\"Retired\",\"N/A\",IF(Table113[[#This Row],[Disposition]]=0,\"\",K132+$F$2)))","v":""},{"$f":"IF(Table113[[#This Row],[Disposition]]=\"\",\"\",IF(AND(Table113[[#This Row],[Next Calibration]]<$E$1,Table113[[#This Row],[Disposition]]=\"Lost\"),\"Find and Calibrate\",IF(Table113[[#This Row],[Disposition]]=\"Lost\",\"Find\",IF(OR(Table113[[#This Row],[Next Calibration]]<$E$1,Table113[[#This Row],[Next Calibration]]=\"NEVER CALIBRATED\"),\"Calibrate\",\"Nominal\"))))","v":""},{"$f":"IF(((Table113[[#This Row],[Next Calibration]]-TODAY())/30)>2,\"More Than 2\",IF(((Table113[[#This Row],[Next Calibration]]-TODAY())/30)>1,\"Between 2 and 1\",\"Less than 1\"))","v":{"$error":"#VALUE!"}},{"$f":"IF(Table113[[#This Row],[Issued]]=\"\",\"\",IF(Table113[[#This Row],[Lent]]=\"\",0,1))","v":""},{"$f":"IF(Table113[[#This Row],[Lent]]=\"\",\"\",IF(Table113[[#This Row],[Returned]]=\"\",0,1))","v":""}]
[{"$nulls":11},{"$f":"IF(IF(Table113[[#This Row],[Disposition]]=\"Retired\",\"N/A\",IF(Table113[[#This Row],[Disposition]]=0,\"\",K133+$F$2))=0+$F$2,\"NEVER CALIBRATED\",IF(Table113[[#This Row],[Disposition]]=\"Retired\",\"N/A\",IF(Table113[[#This Row],[Disposition]]=0,\"\",K133+$F$2)))","v":""},{"$f":"IF(Table113[[#This Row],[Disposition]]=\"\",\"\",IF(AND(Table113[[#This Row],[Next Calibration]]<$E$1,Table113[[#This Row],[Disposition]]=\"Lost\"),\"Find and Calibrate\",IF(Table113[[#This Row],[Disposition]]=\"Lost\",\"Find\",IF(OR(Table113[[#This Row],[Next Calibration]]<$E$1,Table113[[#This Row],[Next Calibration]]=\"NEVER CALIBRATED\"),\"Calibrate\",\"Nominal\"))))","v":""},{"$f":"IF(((Table113[[#This Row],[Next Calibration]]-TODAY())/30)>2,\"More Than 2\",IF(((Table113[[#This Row],[Next Calibration]]-TODAY())/30)>1,\"Between 2 and 1\",\"Less than 1\"))","v":{"$error":"#VALUE!"}},{"$f":"IF(Table113[[#This Row],[Issued]]=\"\",\"\",IF(Table113[[#This Row],[Lent]]=\"\",0,1))","v":""},{"$f":"IF(Table113[[#This Row],[Lent]]=\"\",\"\",IF(Table113[[#This Row],[Returned]]=\"\",0,1))","v":""}]
[{"$nulls":11},{"$f":"IF(IF(Table113[[#This Row],[Disposition]]=\"Retired\",\"N/A\",IF(Table113[[#This Row],[Disposition]]=0,\"\",K134+$F$2))=0+$F$2,\"NEVER CALIBRATED\",IF(Table113[[#This Row],[Disposition]]=\"Retired\",\"N/A\",IF(Table113[[#This Row],[Disposition]]=0,\"\",K134+$F$2)))","v":""},{"$f":"IF(Table113[[#This Row],[Disposition]]=\"\",\"\",IF(AND(Table113[[#This Row],[Next Calibration]]<$E$1,Table113[[#This Row],[Disposition]]=\"Lost\"),\"Find and Calibrate\",IF(Table113[[#This Row],[Disposition]]=\"Lost\",\"Find\",IF(OR(Table113[[#This Row],[Next Calibration]]<$E$1,Table113[[#This Row],[Next Calibration]]=\"NEVER CALIBRATED\"),\"Calibrate\",\"Nominal\"))))","v":""},{"$f":"IF(((Table113[[#This Row],[Next Calibration]]-TODAY())/30)>2,\"More Than 2\",IF(((Table113[[#This Row],[Next Calibration]]-TODAY())/30)>1,\"Between 2 and 1\",\"Less than 1\"))","v":{"$error":"#VALUE!"}},{"$f":"IF(Table113[[#This Row],[Issued]]=\"\",\"\",IF(Table113[[#This Row],[Lent]]=\"\",0,1))","v":""},{"$f":"IF(Table113[[#This Row],[Lent]]=\"\",\"\",IF(Table113[[#This Row],[Returned]]=\"\",0,1))","v":""}]
[{"$nulls":11},{"$f":"IF(IF(Table113[[#This Row],[Disposition]]=\"Retired\",\"N/A\",IF(Table113[[#This Row],[Disposition]]=0,\"\",K135+$F$2))=0+$F$2,\"NEVER CALIBRATED\",IF(Table113[[#This Row],[Disposition]]=\"Retired\",\"N/A\",IF(Table113[[#This Row],[Disposition]]=0,\"\",K135+$F$2)))","v":""},{"$f":"IF(Table113[[#This Row],[Disposition]]=\"\",\"\",IF(AND(Table113[[#This Row],[Next Calibration]]<$E$1,Table113[[#This Row],[Disposition]]=\"Lost\"),\"Find and Calibrate\",IF(Table113[[#This Row],[Disposition]]=\"Lost\",\"Find\",IF(OR(Table113[[#This Row],[Next Calibration]]<$E$1,Table113[[#This Row],[Next Calibration]]=\"NEVER CALIBRATED\"),\"Calibrate\",\"Nominal\"))))","v":""},{"$f":"IF(((Table113[[#This Row],[Next Calibration]]-TODAY())/30)>2,\"More Than 2\",IF(((Table113[[#This Row],[Next Calibration]]-TODAY())/30)>1,\"Between 2 and 1\",\"Less than 1\"))","v":{"$error":"#VALUE!"}},{"$f":"IF(Table113[[#This Row],[Issued]]=\"\",\"\",IF(Table113[[#This Row],[Lent]]=\"\",0,1))","v":""},{"$f":"IF(Table113[[#This Row],[Lent]]=\"\",\"\",IF(Table113[[#This Row],[Returned]]=\"\",0,1))","v":""}]
[{"$nulls":11},{"$f":"IF(IF(Table113[[#This Row],[Disposition]]=\"Retired\",\"N/A\",IF(Table113[[#This Row],[Disposition]]=0,\"\",K136+$F$2))=0+$F$2,\"NEVER CALIBRATED\",IF(Table113[[#This Row],[Disposition]]=\"Retired\",\"N/A\",IF(Table113[[#This Row],[Disposition]]=0,\"\",K136+$F$2)))","v":""},{"$f":"IF(Table113[[#This Row],[Disposition]]=\"\",\"\",IF(AND(Table113[[#This Row],[Next Calibration]]<$E$1,Table113[[#This Row],[Disposition]]=\"Lost\"),\"Find and Calibrate\",IF(Table113[[#This Row],[Disposition]]=\"Lost\",\"Find\",IF(OR(Table113[[#This Row],[Next Calibration]]<$E$1,Table113[[#This Row],[Next Calibration]]=\"NEVER CALIBRATED\"),\"Calibrate\",\"Nominal\"))))","v":""},{"$f":"IF(((Table113[[#This Row],[Next Calibration]]-TODAY())/30)>2,\"More Than 2\",IF(((Table113[[#This Row],[Next Calibration]]-TODAY())/30)>1,\"Between 2 and 1\",\"Less than 1\"))","v":{"$error":"#VALUE!"}},{"$f":"IF(Table113[[#This Row],[Issued]]=\"\",\"\",IF(Table113[[#This Row],[Lent]]=\"\",0,1))","v":""},{"$f":"IF(Table113[[#This Row],[Lent]]=\"\",\"\",IF(Table113[[#This Row],[Returned]]=\"\",0,1))","v":""}]
[{"$nulls":11},{"$f":"IF(IF(Table113[[#This Row],[Disposition]]=\"Retired\",\"N/A\",IF(Table113[[#This Row],[Disposition]]=0,\"\",K137+$F$2))=0+$F$2,\"NEVER CALIBRATED\",IF(Table113[[#This Row],[Disposition]]=\"Retired\",\"N/A\",IF(Table113[[#This Row],[Disposition]]=0,\"\",K137+$F$2)))","v":""},{"$f":"IF(Table113[[#This Row],[Disposition]]=\"\",\"\",IF(AND(Table113[[#This Row],[Next Calibration]]<$E$1,Table113[[#This Row],[Disposition]]=\"Lost\"),\"Find and Calibrate\",IF(Table113[[#This Row],[Disposition]]=\"Lost\",\"Find\",IF(OR(Table113[[#This Row],[Next Calibration]]<$E$1,Table113[[#This Row],[Next Calibration]]=\"NEVER CALIBRATED\"),\"Calibrate\",\"Nominal\"))))","v":""},{"$f":"IF(((Table113[[#This Row],[Next Calibration]]-TODAY())/30)>2,\"More Than 2\",IF(((Table113[[#This Row],[Next Calibration]]-TODAY())/30)>1,\"Between 2 and 1\",\"Less than 1\"))","v":{"$error":"#VALUE!"}},{"$f":"IF(Table113[[#This Row],[Issued]]=\"\",\"\",IF(Table113[[#This Row],[Lent]]=\"\",0,1))","v":""},{"$f":"IF(Table113[[#This Row],[Lent]]=\"\",\"\",IF(Table113[[#This Row],[Returned]]=\"\",0,1))","v":""}]
[{"$nulls":11},{"$f":"IF(IF(Table113[[#This Row],[Disposition]]=\"Retired\",\"N/A\",IF(Table113[[#This Row],[Disposition]]=0,\"\",K138+$F$2))=0+$F$2,\"NEVER CALIBRATED\",IF(Table113[[#This Row],[Disposition]]=\"Retired\",\"N/A\",IF(Table113[[#This Row],[Disposition]]=0,\"\",K138+$F$2)))","v":""},{"$f":"IF(Table113[[#This Row],[Disposition]]=\"\",\"\",IF(AND(Table113[[#This Row],[Next Calibration]]<$E$1,Table113[[#This Row],[Disposition]]=\"Lost\"),\"Find and Calibrate\",IF(Table113[[#This Row],[Disposition]]=\"Lost\",\"Find\",IF(OR(Table113[[#This Row],[Next Calibration]]<$E$1,Table113[[#This Row],[Next Calibration]]=\"NEVER CALIBRATED\"),\"Calibrate\",\"Nominal\"))))","v":""},{"$f":"IF(((Table113[[#This Row],[Next Calibration]]-TODAY())/30)>2,\"More Than 2\",IF(((Table113[[#This Row],[Next Calibration]]-TODAY())/30)>1,\"Between 2 and 1\",\"Less than 1\"))","v":{"$error":"#VALUE!"}},{"$f":"IF(Table113[[#This Row],[Issued]]=\"\",\"\",IF(Table113[[#This Row],[Lent]]=\"\",0,1))","v":""},{"$f":"IF(Table113[[#This Row],[Lent]]=\"\",\"\",IF(Table113[[#This Row],[Returned]]=\"\",0,1))","v":""}]
[{"$nulls":11},{"$f":"IF(IF(Table113[[#This Row],[Disposition]]=\"Retired\",\"N/A\",IF(Table113[[#This Row],[Disposition]]=0,\"\",K139+$F$2))=0+$F$2,\"NEVER CALIBRATED\",IF(Table113[[#This Row],[Disposition]]=\"Retired\",\"N/A\",IF(Table113[[#This Row],[Disposition]]=0,\"\",K139+$F$2)))","v":""},{"$f":"IF(Table113[[#This Row],[Disposition]]=\"\",\"\",IF(AND(Table113[[#This Row],[Next Calibration]]<$E$1,Table113[[#This Row],[Disposition]]=\"Lost\"),\"Find and Calibrate\",IF(Table113[[#This Row],[Disposition]]=\"Lost\",\"Find\",IF(OR(Table113[[#This Row],[Next Calibration]]<$E$1,Table113[[#This Row],[Next Calibration]]=\"NEVER CALIBRATED\"),\"Calibrate\",\"Nominal\"))))","v":""},{"$f":"IF(((Table113[[#This Row],[Next Calibration]]-TODAY())/30)>2,\"More Than 2\",IF(((Table113[[#This Row],[Next Calibration]]-TODAY())/30)>1,\"Between 2 and 1\",\"Less than 1\"))","v":{"$error":"#VALUE!"}},{"$f":"IF(Table113[[#This Row],[Issued]]=\"\",\"\",IF(Table113[[#This Row],[Lent]]=\"\",0,1))","v":""},{"$f":"IF(Table113[[#This Row],[Lent]]=\"\",\"\",IF(Table113[[#This Row],[Returned]]=\"\",0,1))","v":""}]
[{"$nulls":11},{"$f":"IF(IF(Table113[[#This Row],[Disposition]]=\"Retired\",\"N/A\",IF(Table113[[#This Row],[Disposition]]=0,\"\",K140+$F$2))=0+$F$2,\"NEVER CALIBRATED\",IF(Table113[[#This Row],[Disposition]]=\"Retired\",\"N/A\",IF(Table113[[#This Row],[Disposition]]=0,\"\",K140+$F$2)))","v":""},{"$f":"IF(Table113[[#This Row],[Disposition]]=\"\",\"\",IF(AND(Table113[[#This Row],[Next Calibration]]<$E$1,Table113[[#This Row],[Disposition]]=\"Lost\"),\"Find and Calibrate\",IF(Table113[[#This Row],[Disposition]]=\"Lost\",\"Find\",IF(OR(Table113[[#This Row],[Next Calibration]]<$E$1,Table113[[#This Row],[Next Calibration]]=\"NEVER CALIBRATED\"),\"Calibrate\",\"Nominal\"))))","v":""},{"$f":"IF(((Table113[[#This Row],[Next Calibration]]-TODAY())/30)>2,\"More Than 2\",IF(((Table113[[#This Row],[Next Calibration]]-TODAY())/30)>1,\"Between 2 and 1\",\"Less than 1\"))","v":{"$error":"#VALUE!"}},{"$f":"IF(Table113[[#This Row],[Issued]]=\"\",\"\",IF(Table113[[#This Row],[Lent]]=\"\",0,1))","v":""},{"$f":"IF(Table113[[#This Row],[Lent]]=\"\",\"\",IF(Table113[[#This Row],[Returned]]=\"\",0,1))","v":""}]
[{"$nulls":11},{"$f":"IF(IF(Table113[[#This Row],[Disposition]]=\"Retired\",\"N/A\",IF(Table113[[#This Row],[Disposition]]=0,\"\",K141+$F$2))=0+$F$2,\"NEVER CALIBRATED\",IF(Table113[[#This Row],[Disposition]]=\"Retired\",\"N/A\",IF(Table113[[#This Row],[Disposition]]=0,\"\",K141+$F$2)))","v":""},{"$f":"IF(Table113[[#This Row],[Disposition]]=\"\",\"\",IF(AND(Table113[[#This Row],[Next Calibration]]<$E$1,Table113[[#This Row],[Disposition]]=\"Lost\"),\"Find and Calibrate\",IF(Table113[[#This Row],[Disposition]]=\"Lost\",\"Find\",IF(OR(Table113[[#This Row],[Next Calibration]]<$E$1,Table113[[#This Row],[Next Calibration]]=\"NEVER CALIBRATED\"),\"Calibrate\",\"Nominal\"))))","v":""},{"$f":"IF(((Table113[[#This Row],[Next Calibration]]-TODAY())/30)>2,\"More Than 2\",IF(((Table113[[#This Row],[Next Calibration]]-TODAY())/30)>1,\"Between 2 and 1\",\"Less than 1\"))","v":{"$error":"#VALUE!"}},{"$f":"IF(Table113[[#This Row],[Issued]]=\"\",\"\",IF(Table113[[#This Row],[Lent]]=\"\",0,1))","v":""},{"$f":"IF(Table113[[#This Row],[Lent]]=\"\",\"\",IF(Table113[[#This Row],[Returned]]=\"\",0,1))","v":""}]
[{"$nulls":11},{"$f":"IF(IF(Table113[[#This Row],[Disposition]]=\"Retired\",\"N/A\",IF(Table113[[#This Row],[Disposition]]=0,\"\",K142+$F$2))=0+$F$2,\"NEVER CALIBRATED\",IF(Table113[[#This Row],[Disposition]]=\"Retired\",\"N/A\",IF(Table113[[#This Row],[Disposition]]=0,\"\",K142+$F$2)))","v":""},{"$f":"IF(Table113[[#This Row],[Disposition]]=\"\",\"\",IF(AND(Table113[[#This Row],[Next Calibration]]<$E$1,Table113[[#This Row],[Disposition]]=\"Lost\"),\"Find and Calibrate\",IF(Table113[[#This Row],[Disposition]]=\"Lost\",\"Find\",IF(OR(Table113[[#This Row],[Next Calibration]]<$E$1,Table113[[#This Row],[Next Calibration]]=\"NEVER CALIBRATED\"),\"Calibrate\",\"Nominal\"))))","v":""},{"$f":"IF(((Table113[[#This Row],[Next Calibration]]-TODAY())/30)>2,\"More Than 2\",IF(((Table113[[#This Row],[Next Calibration]]-TODAY())/30)>1,\"Between 2 and 1\",\"Less than 1\"))","v":{"$error":"#VALUE!"}},{"$f":"IF(Table113[[#This Row],[Issued]]=\"\",\"\",IF(Table113[[#This Row],[Lent]]=\"\",0,1))","v":""},{"$f":"IF(Table113[[#This Row],[Lent]]=\"\",\"\",IF(Table113[[#This Row],[Returned]]=\"\",0,1))","v":""}]
[{"$nulls":11},{"$f":"IF(IF(Table113[[#This Row],[Disposition]]=\"Retired\",\"N/A\",IF(Table113[[#This Row],[Disposition]]=0,\"\",K143+$F$2))=0+$F$2,\"NEVER CALIBRATED\",IF(Table113[[#This Row],[Disposition]]=\"Retired\",\"N/A\",IF(Table113[[#This Row],[Disposition]]=0,\"\",K143+$F$2)))","v":""},{"$f":"IF(Table113[[#This Row],[Disposition]]=\"\",\"\",IF(AND(Table113[[#This Row],[Next Calibration]]<$E$1,Table113[[#This Row],[Disposition]]=\"Lost\"),\"Find and Calibrate\",IF(Table113[[#This Row],[Disposition]]=\"Lost\",\"Find\",IF(OR(Table113[[#This Row],[Next Calibration]]<$E$1,Table113[[#This Row],[Next Calibration]]=\"NEVER CALIBRATED\"),\"Calibrate\",\"Nominal\"))))","v":""},{"$f":"IF(((Table113[[#This Row],[Next Calibration]]-TODAY())/30)>2,\"More Than 2\",IF(((Table113[[#This Row],[Next Calibration]]-TODAY())/30)>1,\"Between 2 and 1\",\"Less than 1\"))","v":{"$error":"#VALUE!"}},{"$f":"IF(Table113[[#This Row],[Issued]]=\"\",\"\",IF(Table113[[#This Row],[Lent]]=\"\",0,1))","v":""},{"$f":"IF(Table113[[#This Row],[Lent]]=\"\",\"\",IF(Table113[[#This Row],[Returned]]=\"\",0,1))","v":""}]
[{"$nulls":11},{"$f":"IF(IF(Table113[[#This Row],[Disposition]]=\"Retired\",\"N/A\",IF(Table113[[#This Row],[Disposition]]=0,\"\",K144+$F$2))=0+$F$2,\"NEVER CALIBRATED\",IF(Table113[[#This Row],[Disposition]]=\"Retired\",\"N/A\",IF(Table113[[#This Row],[Disposition]]=0,\"\",K144+$F$2)))","v":""},{"$f":"IF(Table113[[#This Row],[Disposition]]=\"\",\"\",IF(AND(Table113[[#This Row],[Next Calibration]]<$E$1,Table113[[#This Row],[Disposition]]=\"Lost\"),\"Find and Calibrate\",IF(Table113[[#This Row],[Disposition]]=\"Lost\",\"Find\",IF(OR(Table113[[#This Row],[Next Calibration]]<$E$1,Table113[[#This Row],[Next Calibration]]=\"NEVER CALIBRATED\"),\"Calibrate\",\"Nominal\"))))","v":""},{"$f":"IF(((Table113[[#This Row],[Next Calibration]]-TODAY())/30)>2,\"More Than 2\",IF(((Table113[[#This Row],[Next Calibration]]-TODAY())/30)>1,\"Between 2 and 1\",\"Less than 1\"))","v":{"$error":"#VALUE!"}},{"$f":"IF(Table113[[#This Row],[Issued]]=\"\",\"\",IF(Table113[[#This Row],[Lent]]=\"\",0,1))","v":""},{"$f":"IF(Table113[[#This Row],[Lent]]=\"\",\"\",IF(Table113[[#This Row],[Returned]]=\"\",0,1))","v":""}]
[{"$nulls":11},{"$f":"IF(IF(Table113[[#This Row],[Disposition]]=\"Retired\",\"N/A\",IF(Table113[[#This Row],[Disposition]]=0,\"\",K145+$F$2))=0+$F$2,\"NEVER CALIBRATED\",IF(Table113[[#This Row],[Disposition]]=\"Retired\",\"N/A\",IF(Table113[[#This Row],[Disposition]]=0,\"\",K145+$F$2)))","v":""},{"$f":"IF(Table113[[#This Row],[Disposition]]=\"\",\"\",IF(AND(Table113[[#This Row],[Next Calibration]]<$E$1,Table113[[#This Row],[Disposition]]=\"Lost\"),\"Find and Calibrate\",IF(Table113[[#This Row],[Disposition]]=\"Lost\",\"Find\",IF(OR(Table113[[#This Row],[Next Calibration]]<$E$1,Table113[[#This Row],[Next Calibration]]=\"NEVER CALIBRATED\"),\"Calibrate\",\"Nominal\"))))","v":""},{"$f":"IF(((Table113[[#This Row],[Next Calibration]]-TODAY())/30)>2,\"More Than 2\",IF(((Table113[[#This Row],[Next Calibration]]-TODAY())/30)>1,\"Between 2 and 1\",\"Less than 1\"))","v":{"$error":"#VALUE!"}},{"$f":"IF(Table113[[#This Row],[Issued]]=\"\",\"\",IF(Table113[[#This Row],[Lent]]=\"\",0,1))","v":""},{"$f":"IF(Table113[[#This Row],[Lent]]=\"\",\"\",IF(Table113[[#This Row],[Returned]]=\"\",0,1))","v":""}]
[{"$nulls":11},{"$f":"IF(IF(Table113[[#This Row],[Disposition]]=\"Retired\",\"N/A\",IF(Table113[[#This Row],[Disposition]]=0,\"\",K146+$F$2))=0+$F$2,\"NEVER CALIBRATED\",IF(Table113[[#This Row],[Disposition]]=\"Retired\",\"N/A\",IF(Table113[[#This Row],[Disposition]]=0,\"\",K146+$F$2)))","v":""},{"$f":"IF(Table113[[#This Row],[Disposition]]=\"\",\"\",IF(AND(Table113[[#This Row],[Next Calibration]]<$E$1,Table113[[#This Row],[Disposition]]=\"Lost\"),\"Find and Calibrate\",IF(Table113[[#This Row],[Disposition]]=\"Lost\",\"Find\",IF(OR(Table113[[#This Row],[Next Calibration]]<$E$1,Table113[[#This Row],[Next Calibration]]=\"NEVER CALIBRATED\"),\"Calibrate\",\"Nominal\"))))","v":""},{"$f":"IF(((Table113[[#This Row],[Next Calibration]]-TODAY())/30)>2,\"More Than 2\",IF(((Table113[[#This Row],[Next Calibration]]-TODAY())/30)>1,\"Between 2 and 1\",\"Less than 1\"))","v":{"$error":"#VALUE!"}},{"$f":"IF(Table113[[#This Row],[Issued]]=\"\",\"\",IF(Table113[[#This Row],[Lent]]=\"\",0,1))","v":""},{"$f":"IF(Table113[[#This Row],[Lent]]=\"\",\"\",IF(Table113[[#This Row],[Returned]]=\"\",0,1))","v":""}]
[{"$nulls":11},{"$f":"IF(IF(Table113[[#This Row],[Disposition]]=\"Retired\",\"N/A\",IF(Table113[[#This Row],[Disposition]]=0,\"\",K147+$F$2))=0+$F$2,\"NEVER CALIBRATED\",IF(Table113[[#This Row],[Disposition]]=\"Retired\",\"N/A\",IF(Table113[[#This Row],[Disposition]]=0,\"\",K147+$F$2)))","v":""},{"$f":"IF(Table113[[#This Row],[Disposition]]=\"\",\"\",IF(AND(Table113[[#This Row],[Next Calibration]]<$E$1,Table113[[#This Row],[Disposition]]=\"Lost\"),\"Find and Calibrate\",IF(Table113[[#This Row],[Disposition]]=\"Lost\",\"Find\",IF(OR(Table113[[#This Row],[Next Calibration]]<$E$1,Table113[[#This Row],[Next Calibration]]=\"NEVER CALIBRATED\"),\"Calibrate\",\"Nominal\"))))","v":""},{"$f":"IF(((Table113[[#This Row],[Next Calibration]]-TODAY())/30)>2,\"More Than 2\",IF(((Table113[[#This Row],[Next Calibration]]-TODAY())/30)>1,\"Between 2 and 1\",\"Less than 1\"))","v":{"$error":"#VALUE!"}},{"$f":"IF(Table113[[#This Row],[Issued]]=\"\",\"\",IF(Table113[[#This Row],[Lent]]=\"\",0,1))","v":""},{"$f":"IF(Table113[[#This Row],[Lent]]=\"\",\"\",IF(Table113[[#This Row],[Returned]]=\"\",0,1))","v":""}]
[{"$nulls":11},{"$f":"IF(IF(Table113[[#This Row],[Disposition]]=\"Retired\",\"N/A\",IF(Table113[[#This Row],[Disposition]]=0,\"\",K148+$F$2))=0+$F$2,\"NEVER CALIBRATED\",IF(Table113[[#This Row],[Disposition]]=\"Retired\",\"N/A\",IF(Table113[[#This Row],[Disposition]]=0,\"\",K148+$F$2)))","v":""},{"$f":"IF(Table113[[#This Row],[Disposition]]=\"\",\"\",IF(AND(Table113[[#This Row],[Next Calibration]]<$E$1,Table113[[#This Row],[Disposition]]=\"Lost\"),\"Find and Calibrate\",IF(Table113[[#This Row],[Disposition]]=\"Lost\",\"Find\",IF(OR(Table113[[#This Row],[Next Calibration]]<$E$1,Table113[[#This Row],[Next Calibration]]=\"NEVER CALIBRATED\"),\"Calibrate\",\"Nominal\"))))","v":""},{"$f":"IF(((Table113[[#This Row],[Next Calibration]]-TODAY())/30)>2,\"More Than 2\",IF(((Table113[[#This Row],[Next Calibration]]-TODAY())/30)>1,\"Between 2 and 1\",\"Less than 1\"))","v":{"$error":"#VALUE!"}},{"$f":"IF(Table113[[#This Row],[Issued]]=\"\",\"\",IF(Table113[[#This Row],[Lent]]=\"\",0,1))","v":""},{"$f":"IF(Table113[[#This Row],[Lent]]=\"\",\"\",IF(Table113[[#This Row],[Returned]]=\"\",0,1))","v":""}]
[{"$nulls":11},{"$f":"IF(IF(Table113[[#This Row],[Disposition]]=\"Retired\",\"N/A\",IF(Table113[[#This Row],[Disposition]]=0,\"\",K149+$F$2))=0+$F$2,\"NEVER CALIBRATED\",IF(Table113[[#This Row],[Disposition]]=\"Retired\",\"N/A\",IF(Table113[[#This Row],[Disposition]]=0,\"\",K149+$F$2)))","v":""},{"$f":"IF(Table113[[#This Row],[Disposition]]=\"\",\"\",IF(AND(Table113[[#This Row],[Next Calibration]]<$E$1,Table113[[#This Row],[Disposition]]=\"Lost\"),\"Find and Calibrate\",IF(Table113[[#This Row],[Disposition]]=\"Lost\",\"Find\",IF(OR(Table113[[#This Row],[Next Calibration]]<$E$1,Table113[[#This Row],[Next Calibration]]=\"NEVER CALIBRATED\"),\"Calibrate\",\"Nominal\"))))","v":""},{"$f":"IF(((Table113[[#This Row],[Next Calibration]]-TODAY())/30)>2,\"More Than 2\",IF(((Table113[[#This Row],[Next Calibration]]-TODAY())/30)>1,\"Between 2 and 1\",\"Less than 1\"))","v":{"$error":"#VALUE!"}},{"$f":"IF(Table113[[#This Row],[Issued]]=\"\",\"\",IF(Table113[[#This Row],[Lent]]=\"\",0,1))","v":""},{"$f":"IF(Table113[[#This Row],[Lent]]=\"\",\"\",IF(Table113[[#This Row],[Returned]]=\"\",0,1))","v":""}]
[{"$nulls":11},{"$f":"IF(IF(Table113[[#This Row],[Disposition]]=\"Retired\",\"N/A\",IF(Table113[[#This Row],[Disposition]]=0,\"\",K150+$F$2))=0+$F$2,\"NEVER CALIBRATED\",IF(Table113[[#This Row],[Disposition]]=\"Retired\",\"N/A\",IF(Table113[[#This Row],[Disposition]]=0,\"\",K150+$F$2)))","v":""},{"$f":"IF(Table113[[#This Row],[Disposition]]=\"\",\"\",IF(AND(Table113[[#This Row],[Next Calibration]]<$E$1,Table113[[#This Row],[Disposition]]=\"Lost\"),\"Find and Calibrate\",IF(Table113[[#This Row],[Disposition]]=\"Lost\",\"Find\",IF(OR(Table113[[#This Row],[Next Calibration]]<$E$1,Table113[[#This Row],[Next Calibration]]=\"NEVER CALIBRATED\"),\"Calibrate\",\"Nominal\"))))","v":""},{"$f":"IF(((Table113[[#This Row],[Next Calibration]]-TODAY())/30)>2,\"More Than 2\",IF(((Table113[[#This Row],[Next Calibration]]-TODAY())/30)>1,\"Between 2 and 1\",\"Less than 1\"))","v":{"$error":"#VALUE!"}},{"$f":"IF(Table113[[#This Row],[Issued]]=\"\",\"\",IF(Table113[[#This Row],[Lent]]=\"\",0,1))","v":""},{"$f":"IF(Table113[[#This Row],[Lent]]=\"\",\"\",IF(Table113[[#This Row],[Returned]]=\"\",0,1))","v":""}]
[{"$nulls":11},{"$f":"IF(IF(Table113[[#This Row],[Disposition]]=\"Retired\",\"N/A\",IF(Table113[[#This Row],[Disposition]]=0,\"\",K151+$F$2))=0+$F$2,\"NEVER CALIBRATED\",IF(Table113[[#This Row],[Disposition]]=\"Retired\",\"N/A\",IF(Table113[[#This Row],[Disposition]]=0,\"\",K151+$F$2)))","v":""},{"$f":"IF(Table113[[#This Row],[Disposition]]=\"\",\"\",IF(AND(Table113[[#This Row],[Next Calibration]]<$E$1,Table113[[#This Row],[Disposition]]=\"Lost\"),\"Find and Calibrate\",IF(Table113[[#This Row],[Disposition]]=\"Lost\",\"Find\",IF(OR(Table113[[#This Row],[Next Calibration]]<$E$1,Table113[[#This Row],[Next Calibration]]=\"NEVER CALIBRATED\"),\"Calibrate\",\"Nominal\"))))","v":""},{"$f":"IF(((Table113[[#This Row],[Next Calibration]]-TODAY())/30)>2,\"More Than 2\",IF(((Table113[[#This Row],[Next Calibration]]-TODAY())/30)>1,\"Between 2 and 1\",\"Less than 1\"))","v":{"$error":"#VALUE!"}},{"$f":"IF(Table113[[#This Row],[Issued]]=\"\",\"\",IF(Table113[[#This Row],[Lent]]=\"\",0,1))","v":""},{"$f":"IF(Table113[[#This Row],[Lent]]=\"\",\"\",IF(Table113[[#This Row],[Returned]]=\"\",0,1))","v":""}]
[{"$nulls":11},{"$f":"IF(IF(Table113[[#This Row],[Disposition]]=\"Retired\",\"N/A\",IF(Table113[[#This Row],[Disposition]]=0,\"\",K152+$F$2))=0+$F$2,\"NEVER CALIBRATED\",IF(Table113[[#This Row],[Disposition]]=\"Retired\",\"N/A\",IF(Table113[[#This Row],[Disposition]]=0,\"\",K152+$F$2)))","v":""},{"$f":"IF(Table113[[#This Row],[Disposition]]=\"\",\"\",IF(AND(Table113[[#This Row],[Next Calibration]]<$E$1,Table113[[#This Row],[Disposition]]=\"Lost\"),\"Find and Calibrate\",IF(Table113[[#This Row],[Disposition]]=\"Lost\",\"Find\",IF(OR(Table113[[#This Row],[Next Calibration]]<$E$1,Table113[[#This Row],[Next Calibration]]=\"NEVER CALIBRATED\"),\"Calibrate\",\"Nominal\"))))","v":""},{"$f":"IF(((Table113[[#This Row],[Next Calibration]]-TODAY())/30)>2,\"More Than 2\",IF(((Table113[[#This Row],[Next Calibration]]-TODAY())/30)>1,\"Between 2 and 1\",\"Less than 1\"))","v":{"$error":"#VALUE!"}},{"$f":"IF(Table113[[#This Row],[Issued]]=\"\",\"\",IF(Table113[[#This Row],[Lent]]=\"\",0,1))","v":""},{"$f":"IF(Table113[[#This Row],[Lent]]=\"\",\"\",IF(Table113[[#This Row],[Returned]]=\"\",0,1))","v":""}]
[{"$nulls":11},{"$f":"IF(IF(Table113[[#This Row],[Disposition]]=\"Retired\",\"N/A\",IF(Table113[[#This Row],[Disposition]]=0,\"\",K153+$F$2))=0+$F$2,\"NEVER CALIBRATED\",IF(Table113[[#This Row],[Disposition]]=\"Retired\",\"N/A\",IF(Table113[[#This Row],[Disposition]]=0,\"\",K153+$F$2)))","v":""},{"$f":"IF(Table113[[#This Row],[Disposition]]=\"\",\"\",IF(AND(Table113[[#This Row],[Next Calibration]]<$E$1,Table113[[#This Row],[Disposition]]=\"Lost\"),\"Find and Calibrate\",IF(Table113[[#This Row],[Disposition]]=\"Lost\",\"Find\",IF(OR(Table113[[#This Row],[Next Calibration]]<$E$1,Table113[[#This Row],[Next Calibration]]=\"NEVER CALIBRATED\"),\"Calibrate\",\"Nominal\"))))","v":""},{"$f":"IF(((Table113[[#This Row],[Next Calibration]]-TODAY())/30)>2,\"More Than 2\",IF(((Table113[[#This Row],[Next Calibration]]-TODAY())/30)>1,\"Between 2 and 1\",\"Less than 1\"))","v":{"$error":"#VALUE!"}},{"$f":"IF(Table113[[#This Row],[Issued]]=\"\",\"\",IF(Table113[[#This Row],[Lent]]=\"\",0,1))","v":""},{"$f":"IF(Table113[[#This Row],[Lent]]=\"\",\"\",IF(Table113[[#This Row],[Returned]]=\"\",0,1))","v":""}]
[{"$nulls":11},{"$f":"IF(IF(Table113[[#This Row],[Disposition]]=\"Retired\",\"N/A\",IF(Table113[[#This Row],[Disposition]]=0,\"\",K154+$F$2))=0+$F$2,\"NEVER CALIBRATED\",IF(Table113[[#This Row],[Disposition]]=\"Retired\",\"N/A\",IF(Table113[[#This Row],[Disposition]]=0,\"\",K154+$F$2)))","v":""},{"$f":"IF(Table113[[#This Row],[Disposition]]=\"\",\"\",IF(AND(Table113[[#This Row],[Next Calibration]]<$E$1,Table113[[#This Row],[Disposition]]=\"Lost\"),\"Find and Calibrate\",IF(Table113[[#This Row],[Disposition]]=\"Lost\",\"Find\",IF(OR(Table113[[#This Row],[Next Calibration]]<$E$1,Table113[[#This Row],[Next Calibration]]=\"NEVER CALIBRATED\"),\"Calibrate\",\"Nominal\"))))","v":""},{"$f":"IF(((Table113[[#This Row],[Next Calibration]]-TODAY())/30)>2,\"More Than 2\",IF(((Table113[[#This Row],[Next Calibration]]-TODAY())/30)>1,\"Between 2 and 1\",\"Less than 1\"))","v":{"$error":"#VALUE!"}},{"$f":"IF(Table113[[#This Row],[Issued]]=\"\",\"\",IF(Table113[[#This Row],[Lent]]=\"\",0,1))","v":""},{"$f":"IF(Table113[[#This Row],[Lent]]=\"\",\"\",IF(Table113[[#This Row],[Returned]]=\"\",0,1))","v":""}]
[{"$nulls":11},{"$f":"IF(IF(Table113[[#This Row],[Disposition]]=\"Retired\",\"N/A\",IF(Table113[[#This Row],[Disposition]]=0,\"\",K155+$F$2))=0+$F$2,\"NEVER CALIBRATED\",IF(Table113[[#This Row],[Disposition]]=\"Retired\",\"N/A\",IF(Table113[[#This Row],[Disposition]]=0,\"\",K155+$F$2)))","v":""},{"$f":"IF(Table113[[#This Row],[Disposition]]=\"\",\"\",IF(AND(Table113[[#This Row],[Next Calibration]]<$E$1,Table113[[#This Row],[Disposition]]=\"Lost\"),\"Find and Calibrate\",IF(Table113[[#This Row],[Disposition]]=\"Lost\",\"Find\",IF(OR(Table113[[#This Row],[Next Calibration]]<$E$1,Table113[[#This Row],[Next Calibration]]=\"NEVER CALIBRATED\"),\"Calibrate\",\"Nominal\"))))","v":""},{"$f":"IF(((Table113[[#This Row],[Next Calibration]]-TODAY())/30)>2,\"More Than 2\",IF(((Table113[[#This Row],[Next Calibration]]-TODAY())/30)>1,\"Between 2 and 1\",\"Less than 1\"))","v":{"$error":"#VALUE!"}},{"$f":"IF(Table113[[#This Row],[Issued]]=\"\",\"\",IF(Table113[[#This Row],[Lent]]=\"\",0,1))","v":""},{"$f":"IF(Table113[[#This Row],[Lent]]=\"\",\"\",IF(Table113[[#This Row],[Returned]]=\"\",0,1))","v":""}]
[{"$nulls":11},{"$f":"IF(IF(Table113[[#This Row],[Disposition]]=\"Retired\",\"N/A\",IF(Table113[[#This Row],[Disposition]]=0,\"\",K156+$F$2))=0+$F$2,\"NEVER CALIBRATED\",IF(Table113[[#This Row],[Disposition]]=\"Retired\",\"N/A\",IF(Table113[[#This Row],[Disposition]]=0,\"\",K156+$F$2)))","v":""},{"$f":"IF(Table113[[#This Row],[Disposition]]=\"\",\"\",IF(AND(Table113[[#This Row],[Next Calibration]]<$E$1,Table113[[#This Row],[Disposition]]=\"Lost\"),\"Find and Calibrate\",IF(Table113[[#This Row],[Disposition]]=\"Lost\",\"Find\",IF(OR(Table113[[#This Row],[Next Calibration]]<$E$1,Table113[[#This Row],[Next Calibration]]=\"NEVER CALIBRATED\"),\"Calibrate\",\"Nominal\"))))","v":""},{"$f":"IF(((Table113[[#This Row],[Next Calibration]]-TODAY())/30)>2,\"More Than 2\",IF(((Table113[[#This Row],[Next Calibration]]-TODAY())/30)>1,\"Between 2 and 1\",\"Less than 1\"))","v":{"$error":"#VALUE!"}},{"$f":"IF(Table113[[#This Row],[Issued]]=\"\",\"\",IF(Table113[[#This Row],[Lent]]=\"\",0,1))","v":""},{"$f":"IF(Table113[[#This Row],[Lent]]=\"\",\"\",IF(Table113[[#This Row],[Returned]]=\"\",0,1))","v":""}]
[{"$nulls":11},{"$f":"IF(IF(Table113[[#This Row],[Disposition]]=\"Retired\",\"N/A\",IF(Table113[[#This Row],[Disposition]]=0,\"\",K157+$F$2))=0+$F$2,\"NEVER CALIBRATED\",IF(Table113[[#This Row],[Disposition]]=\"Retired\",\"N/A\",IF(Table113[[#This Row],[Disposition]]=0,\"\",K157+$F$2)))","v":""},{"$f":"IF(Table113[[#This Row],[Disposition]]=\"\",\"\",IF(AND(Table113[[#This Row],[Next Calibration]]<$E$1,Table113[[#This Row],[Disposition]]=\"Lost\"),\"Find and Calibrate\",IF(Table113[[#This Row],[Disposition]]=\"Lost\",\"Find\",IF(OR(Table113[[#This Row],[Next Calibration]]<$E$1,Table113[[#This Row],[Next Calibration]]=\"NEVER CALIBRATED\"),\"Calibrate\",\"Nominal\"))))","v":""},{"$f":"IF(((Table113[[#This Row],[Next Calibration]]-TODAY())/30)>2,\"More Than 2\",IF(((Table113[[#This Row],[Next Calibration]]-TODAY())/30)>1,\"Between 2 and 1\",\"Less than 1\"))","v":{"$error":"#VALUE!"}},{"$f":"IF(Table113[[#This Row],[Issued]]=\"\",\"\",IF(Table113[[#This Row],[Lent]]=\"\",0,1))","v":""},{"$f":"IF(Table113[[#This Row],[Lent]]=\"\",\"\",IF(Table113[[#This Row],[Returned]]=\"\",0,1))","v":""}]
[{"$nulls":11},{"$f":"IF(IF(Table113[[#This Row],[Disposition]]=\"Retired\",\"N/A\",IF(Table113[[#This Row],[Disposition]]=0,\"\",K158+$F$2))=0+$F$2,\"NEVER CALIBRATED\",IF(Table113[[#This Row],[Disposition]]=\"Retired\",\"N/A\",IF(Table113[[#This Row],[Disposition]]=0,\"\",K158+$F$2)))","v":""},{"$f":"IF(Table113[[#This Row],[Disposition]]=\"\",\"\",IF(AND(Table113[[#This Row],[Next Calibration]]<$E$1,Table113[[#This Row],[Disposition]]=\"Lost\"),\"Find and Calibrate\",IF(Table113[[#This Row],[Disposition]]=\"Lost\",\"Find\",IF(OR(Table113[[#This Row],[Next Calibration]]<$E$1,Table113[[#This Row],[Next Calibration]]=\"NEVER CALIBRATED\"),\"Calibrate\",\"Nominal\"))))","v":""},{"$f":"IF(((Table113[[#This Row],[Next Calibration]]-TODAY())/30)>2,\"More Than 2\",IF(((Table113[[#This Row],[Next Calibration]]-TODAY())/30)>1,\"Between 2 and 1\",\"Less than 1\"))","v":{"$error":"#VALUE!"}},{"$f":"IF(Table113[[#This Row],[Issued]]=\"\",\"\",IF(Table113[[#This Row],[Lent]]=\"\",0,1))","v":""},{"$f":"IF(Table113[[#This Row],[Lent]]=\"\",\"\",IF(Table113[[#This Row],[Returned]]=\"\",0,1))","v":""}]
[{"$nulls":11},{"$f":"IF(IF(Table113[[#This Row],[Disposition]]=\"Retired\",\"N/A\",IF(Table113[[#This Row],[Disposition]]=0,\"\",K159+$F$2))=0+$F$2,\"NEVER CALIBRATED\",IF(Table113[[#This Row],[Disposition]]=\"Retired\",\"N/A\",IF(Table113[[#This Row],[Disposition]]=0,\"\",K159+$F$2)))","v":""},{"$f":"IF(Table113[[#This Row],[Disposition]]=\"\",\"\",IF(AND(Table113[[#This Row],[Next Calibration]]<$E$1,Table113[[#This Row],[Disposition]]=\"Lost\"),\"Find and Calibrate\",IF(Table113[[#This Row],[Disposition]]=\"Lost\",\"Find\",IF(OR(Table113[[#This Row],[Next Calibration]]<$E$1,Table113[[#This Row],[Next Calibration]]=\"NEVER CALIBRATED\"),\"Calibrate\",\"Nominal\"))))","v":""},{"$f":"IF(((Table113[[#This Row],[Next Calibration]]-TODAY())/30)>2,\"More Than 2\",IF(((Table113[[#This Row],[Next Calibration]]-TODAY())/30)>1,\"Between 2 and 1\",\"Less than 1\"))","v":{"$error":"#VALUE!"}},{"$f":"IF(Table113[[#This Row],[Issued]]=\"\",\"\",IF(Table113[[#This Row],[Lent]]=\"\",0,1))","v":""},{"$f":"IF(Table113[[#This Row],[Lent]]=\"\",\"\",IF(Table113[[#This Row],[Returned]]=\"\",0,1))","v":""}]
[{"$nulls":11},{"$f":"IF(IF(Table113[[#This Row],[Disposition]]=\"Retired\",\"N/A\",IF(Table113[[#This Row],[Disposition]]=0,\"\",K160+$F$2))=0+$F$2,\"NEVER CALIBRATED\",IF(Table113[[#This Row],[Disposition]]=\"Retired\",\"N/A\",IF(Table113[[#This Row],[Disposition]]=0,\"\",K160+$F$2)))","v":""},{"$f":"IF(Table113[[#This Row],[Disposition]]=\"\",\"\",IF(AND(Table113[[#This Row],[Next Calibration]]<$E$1,Table113[[#This Row],[Disposition]]=\"Lost\"),\"Find and Calibrate\",IF(Table113[[#This Row],[Disposition]]=\"Lost\",\"Find\",IF(OR(Table113[[#This Row],[Next Calibration]]<$E$1,Table113[[#This Row],[Next Calibration]]=\"NEVER CALIBRATED\"),\"Calibrate\",\"Nominal\"))))","v":""},{"$f":"IF(((Table113[[#This Row],[Next Calibration]]-TODAY())/30)>2,\"More Than 2\",IF(((Table113[[#This Row],[Next Calibration]]-TODAY())/30)>1,\"Between 2 and 1\",\"Less than 1\"))","v":{"$error":"#VALUE!"}},{"$f":"IF(Table113[[#This Row],[Issued]]=\"\",\"\",IF(Table113[[#This Row],[Lent]]=\"\",0,1))","v":""},{"$f":"IF(Table113[[#This Row],[Lent]]=\"\",\"\",IF(Table113[[#This Row],[Returned]]=\"\",0,1))","v":""}]
[{"$nulls":11},{"$f":"IF(IF(Table113[[#This Row],[Disposition]]=\"Retired\",\"N/A\",IF(Table113[[#This Row],[Disposition]]=0,\"\",K161+$F$2))=0+$F$2,\"NEVER CALIBRATED\",IF(Table113[[#This Row],[Disposition]]=\"Retired\",\"N/A\",IF(Table113[[#This Row],[Disposition]]=0,\"\",K161+$F$2)))","v":""},{"$f":"IF(Table113[[#This Row],[Disposition]]=\"\",\"\",IF(AND(Table113[[#This Row],[Next Calibration]]<$E$1,Table113[[#This Row],[Disposition]]=\"Lost\"),\"Find and Calibrate\",IF(Table113[[#This Row],[Disposition]]=\"Lost\",\"Find\",IF(OR(Table113[[#This Row],[Next Calibration]]<$E$1,Table113[[#This Row],[Next Calibration]]=\"NEVER CALIBRATED\"),\"Calibrate\",\"Nominal\"))))","v":""},{"$f":"IF(((Table113[[#This Row],[Next Calibration]]-TODAY())/30)>2,\"More Than 2\",IF(((Table113[[#This Row],[Next Calibration]]-TODAY())/30)>1,\"Between 2 and 1\",\"Less than 1\"))","v":{"$error":"#VALUE!"}},{"$f":"IF(Table113[[#This Row],[Issued]]=\"\",\"\",IF(Table113[[#This Row],[Lent]]=\"\",0,1))","v":""},{"$f":"IF(Table113[[#This Row],[Lent]]=\"\",\"\",IF(Table113[[#This Row],[Returned]]=\"\",0,1))","v":""}]
[{"$nulls":11},{"$f":"IF(IF(Table113[[#This Row],[Disposition]]=\"Retired\",\"N/A\",IF(Table113[[#This Row],[Disposition]]=0,\"\",K162+$F$2))=0+$F$2,\"NEVER CALIBRATED\",IF(Table113[[#This Row],[Disposition]]=\"Retired\",\"N/A\",IF(Table113[[#This Row],[Disposition]]=0,\"\",K162+$F$2)))","v":""},{"$f":"IF(Table113[[#This Row],[Disposition]]=\"\",\"\",IF(AND(Table113[[#This Row],[Next Calibration]]<$E$1,Table113[[#This Row],[Disposition]]=\"Lost\"),\"Find and Calibrate\",IF(Table113[[#This Row],[Disposition]]=\"Lost\",\"Find\",IF(OR(Table113[[#This Row],[Next Calibration]]<$E$1,Table113[[#This Row],[Next Calibration]]=\"NEVER CALIBRATED\"),\"Calibrate\",\"Nominal\"))))","v":""},{"$f":"IF(((Table113[[#This Row],[Next Calibration]]-TODAY())/30)>2,\"More Than 2\",IF(((Table113[[#This Row],[Next Calibration]]-TODAY())/30)>1,\"Between 2 and 1\",\"Less than 1\"))","v":{"$error":"#VALUE!"}},{"$f":"IF(Table113[[#This Row],[Issued]]=\"\",\"\",IF(Table113[[#This Row],[Lent]]=\"\",0,1))","v":""},{"$f":"IF(Table113[[#This Row],[Lent]]=\"\",\"\",IF(Table113[[#This Row],[Returned]]=\"\",0,1))","v":""}]
[{"$nulls":11},{"$f":"IF(IF(Table113[[#This Row],[Disposition]]=\"Retired\",\"N/A\",IF(Table113[[#This Row],[Disposition]]=0,\"\",K163+$F$2))=0+$F$2,\"NEVER CALIBRATED\",IF(Table113[[#This Row],[Disposition]]=\"Retired\",\"N/A\",IF(Table113[[#This Row],[Disposition]]=0,\"\",K163+$F$2)))","v":""},{"$f":"IF(Table113[[#This Row],[Disposition]]=\"\",\"\",IF(AND(Table113[[#This Row],[Next Calibration]]<$E$1,Table113[[#This Row],[Disposition]]=\"Lost\"),\"Find and Calibrate\",IF(Table113[[#This Row],[Disposition]]=\"Lost\",\"Find\",IF(OR(Table113[[#This Row],[Next Calibration]]<$E$1,Table113[[#This Row],[Next Calibration]]=\"NEVER CALIBRATED\"),\"Calibrate\",\"Nominal\"))))","v":""},{"$f":"IF(((Table113[[#This Row],[Next Calibration]]-TODAY())/30)>2,\"More Than 2\",IF(((Table113[[#This Row],[Next Calibration]]-TODAY())/30)>1,\"Between 2 and 1\",\"Less than 1\"))","v":{"$error":"#VALUE!"}},{"$f":"IF(Table113[[#This Row],[Issued]]=\"\",\"\",IF(Table113[[#This Row],[Lent]]=\"\",0,1))","v":""},{"$f":"IF(Table113[[#This Row],[Lent]]=\"\",\"\",IF(Table113[[#This Row],[Returned]]=\"\",0,1))","v":""}]
[{"$nulls":11},{"$f":"IF(IF(Table113[[#This Row],[Disposition]]=\"Retired\",\"N/A\",IF(Table113[[#This Row],[Disposition]]=0,\"\",K164+$F$2))=0+$F$2,\"NEVER CALIBRATED\",IF(Table113[[#This Row],[Disposition]]=\"Retired\",\"N/A\",IF(Table113[[#This Row],[Disposition]]=0,\"\",K164+$F$2)))","v":""},{"$f":"IF(Table113[[#This Row],[Disposition]]=\"\",\"\",IF(AND(Table113[[#This Row],[Next Calibration]]<$E$1,Table113[[#This Row],[Disposition]]=\"Lost\"),\"Find and Calibrate\",IF(Table113[[#This Row],[Disposition]]=\"Lost\",\"Find\",IF(OR(Table113[[#This Row],[Next Calibration]]<$E$1,Table113[[#This Row],[Next Calibration]]=\"NEVER CALIBRATED\"),\"Calibrate\",\"Nominal\"))))","v":""},{"$f":"IF(((Table113[[#This Row],[Next Calibration]]-TODAY())/30)>2,\"More Than 2\",IF(((Table113[[#This Row],[Next Calibration]]-TODAY())/30)>1,\"Between 2 and 1\",\"Less than 1\"))","v":{"$error":"#VALUE!"}},{"$f":"IF(Table113[[#This Row],[Issued]]=\"\",\"\",IF(Table113[[#This Row],[Lent]]=\"\",0,1))","v":""},{"$f":"IF(Table113[[#This Row],[Lent]]=\"\",\"\",IF(Table113[[#This Row],[Returned]]=\"\",0,1))","v":""}]
[{"$nulls":11},{"$f":"IF(IF(Table113[[#This Row],[Disposition]]=\"Retired\",\"N/A\",IF(Table113[[#This Row],[Disposition]]=0,\"\",K165+$F$2))=0+$F$2,\"NEVER CALIBRATED\",IF(Table113[[#This Row],[Disposition]]=\"Retired\",\"N/A\",IF(Table113[[#This Row],[Disposition]]=0,\"\",K165+$F$2)))","v":""},{"$f":"IF(Table113[[#This Row],[Disposition]]=\"\",\"\",IF(AND(Table113[[#This Row],[Next Calibration]]<$E$1,Table113[[#This Row],[Disposition]]=\"Lost\"),\"Find and Calibrate\",IF(Table113[[#This Row],[Disposition]]=\"Lost\",\"Find\",IF(OR(Table113[[#This Row],[Next Calibration]]<$E$1,Table113[[#This Row],[Next Calibration]]=\"NEVER CALIBRATED\"),\"Calibrate\",\"Nominal\"))))","v":""},{"$f":"IF(((Table113[[#This Row],[Next Calibration]]-TODAY())/30)>2,\"More Than 2\",IF(((Table113[[#This Row],[Next Calibration]]-TODAY())/30)>1,\"Between 2 and 1\",\"Less than 1\"))","v":{"$error":"#VALUE!"}},{"$f":"IF(Table113[[#This Row],[Issued]]=\"\",\"\",IF(Table113[[#This Row],[Lent]]=\"\",0,1))","v":""},{"$f":"IF(Table113[[#This Row],[Lent]]=\"\",\"\",IF(Table113[[#This Row],[Returned]]=\"\",0,1))","v":""}]
[{"$nulls":11},{"$f":"IF(IF(Table113[[#This Row],[Disposition]]=\"Retired\",\"N/A\",IF(Table113[[#This Row],[Disposition]]=0,\"\",K166+$F$2))=0+$F$2,\"NEVER CALIBRATED\",IF(Table113[[#This Row],[Disposition]]=\"Retired\",\"N/A\",IF(Table113[[#This Row],[Disposition]]=0,\"\",K166+$F$2)))","v":""},{"$f":"IF(Table113[[#This Row],[Disposition]]=\"\",\"\",IF(AND(Table113[[#This Row],[Next Calibration]]<$E$1,Table113[[#This Row],[Disposition]]=\"Lost\"),\"Find and Calibrate\",IF(Table113[[#This Row],[Disposition]]=\"Lost\",\"Find\",IF(OR(Table113[[#This Row],[Next Calibration]]<$E$1,Table113[[#This Row],[Next Calibration]]=\"NEVER CALIBRATED\"),\"Calibrate\",\"Nominal\"))))","v":""},{"$f":"IF(((Table113[[#This Row],[Next Calibration]]-TODAY())/30)>2,\"More Than 2\",IF(((Table113[[#This Row],[Next Calibration]]-TODAY())/30)>1,\"Between 2 and 1\",\"Less than 1\"))","v":{"$error":"#VALUE!"}},{"$f":"IF(Table113[[#This Row],[Issued]]=\"\",\"\",IF(Table113[[#This Row],[Lent]]=\"\",0,1))","v":""},{"$f":"IF(Table113[[#This Row],[Lent]]=\"\",\"\",IF(Table113[[#This Row],[Returned]]=\"\",0,1))","v":""}]
[{"$nulls":11},{"$f":"IF(IF(Table113[[#This Row],[Disposition]]=\"Retired\",\"N/A\",IF(Table113[[#This Row],[Disposition]]=0,\"\",K167+$F$2))=0+$F$2,\"NEVER CALIBRATED\",IF(Table113[[#This Row],[Disposition]]=\"Retired\",\"N/A\",IF(Table113[[#This Row],[Disposition]]=0,\"\",K167+$F$2)))","v":""},{"$f":"IF(Table113[[#This Row],[Disposition]]=\"\",\"\",IF(AND(Table113[[#This Row],[Next Calibration]]<$E$1,Table113[[#This Row],[Disposition]]=\"Lost\"),\"Find and Calibrate\",IF(Table113[[#This Row],[Disposition]]=\"Lost\",\"Find\",IF(OR(Table113[[#This Row],[Next Calibration]]<$E$1,Table113[[#This Row],[Next Calibration]]=\"NEVER CALIBRATED\"),\"Calibrate\",\"Nominal\"))))","v":""},{"$f":"IF(((Table113[[#This Row],[Next Calibration]]-TODAY())/30)>2,\"More Than 2\",IF(((Table113[[#This Row],[Next Calibration]]-TODAY())/30)>1,\"Between 2 and 1\",\"Less than 1\"))","v":{"$error":"#VALUE!"}},{"$f":"IF(Table113[[#This Row],[Issued]]=\"\",\"\",IF(Table113[[#This Row],[Lent]]=\"\",0,1))","v":""},{"$f":"IF(Table113[[#This Row],[Lent]]=\"\",\"\",IF(Table113[[#This Row],[Returned]]=\"\",0,1))","v":""}]
[{"$nulls":11},{"$f":"IF(IF(Table113[[#This Row],[Disposition]]=\"Retired\",\"N/A\",IF(Table113[[#This Row],[Disposition]]=0,\"\",K168+$F$2))=0+$F$2,\"NEVER CALIBRATED\",IF(Table113[[#This Row],[Disposition]]=\"Retired\",\"N/A\",IF(Table113[[#This Row],[Disposition]]=0,\"\",K168+$F$2)))","v":""},{"$f":"IF(Table113[[#This Row],[Disposition]]=\"\",\"\",IF(AND(Table113[[#This Row],[Next Calibration]]<$E$1,Table113[[#This Row],[Disposition]]=\"Lost\"),\"Find and Calibrate\",IF(Table113[[#This Row],[Disposition]]=\"Lost\",\"Find\",IF(OR(Table113[[#This Row],[Next Calibration]]<$E$1,Table113[[#This Row],[Next Calibration]]=\"NEVER CALIBRATED\"),\"Calibrate\",\"Nominal\"))))","v":""},{"$f":"IF(((Table113[[#This Row],[Next Calibration]]-TODAY())/30)>2,\"More Than 2\",IF(((Table113[[#This Row],[Next Calibration]]-TODAY())/30)>1,\"Between 2 and 1\",\"Less than 1\"))","v":{"$error":"#VALUE!"}},{"$f":"IF(Table113[[#This Row],[Issued]]=\"\",\"\",IF(Table113[[#This Row],[Lent]]=\"\",0,1))","v":""},{"$f":"IF(Table113[[#This Row],[Lent]]=\"\",\"\",IF(Table113[[#This Row],[Returned]]=\"\",0,1))","v":""}]
[{"$nulls":11},{"$f":"IF(IF(Table113[[#This Row],[Disposition]]=\"Retired\",\"N/A\",IF(Table113[[#This Row],[Disposition]]=0,\"\",K169+$F$2))=0+$F$2,\"NEVER CALIBRATED\",IF(Table113[[#This Row],[Disposition]]=\"Retired\",\"N/A\",IF(Table113[[#This Row],[Disposition]]=0,\"\",K169+$F$2)))","v":""},{"$f":"IF(Table113[[#This Row],[Disposition]]=\"\",\"\",IF(AND(Table113[[#This Row],[Next Calibration]]<$E$1,Table113[[#This Row],[Disposition]]=\"Lost\"),\"Find and Calibrate\",IF(Table113[[#This Row],[Disposition]]=\"Lost\",\"Find\",IF(OR(Table113[[#This Row],[Next Calibration]]<$E$1,Table113[[#This Row],[Next Calibration]]=\"NEVER CALIBRATED\"),\"Calibrate\",\"Nominal\"))))","v":""},{"$f":"IF(((Table113[[#This Row],[Next Calibration]]-TODAY())/30)>2,\"More Than 2\",IF(((Table113[[#This Row],[Next Calibration]]-TODAY())/30)>1,\"Between 2 and 1\",\"Less than 1\"))","v":{"$error":"#VALUE!"}},{"$f":"IF(Table113[[#This Row],[Issued]]=\"\",\"\",IF(Table113[[#This Row],[Lent]]=\"\",0,1))","v":""},{"$f":"IF(Table113[[#This Row],[Lent]]=\"\",\"\",IF(Table113[[#This Row],[Returned]]=\"\",0,1))","v":""}]
[{"$nulls":11},{"$f":"IF(IF(Table113[[#This Row],[Disposition]]=\"Retired\",\"N/A\",IF(Table113[[#This Row],[Disposition]]=0,\"\",K170+$F$2))=0+$F$2,\"NEVER CALIBRATED\",IF(Table113[[#This Row],[Disposition]]=\"Retired\",\"N/A\",IF(Table113[[#This Row],[Disposition]]=0,\"\",K170+$F$2)))","v":""},{"$f":"IF(Table113[[#This Row],[Disposition]]=\"\",\"\",IF(AND(Table113[[#This Row],[Next Calibration]]<$E$1,Table113[[#This Row],[Disposition]]=\"Lost\"),\"Find and Calibrate\",IF(Table113[[#This Row],[Disposition]]=\"Lost\",\"Find\",IF(OR(Table113[[#This Row],[Next Calibration]]<$E$1,Table113[[#This Row],[Next Calibration]]=\"NEVER CALIBRATED\"),\"Calibrate\",\"Nominal\"))))","v":""},{"$f":"IF(((Table113[[#This Row],[Next Calibration]]-TODAY())/30)>2,\"More Than 2\",IF(((Table113[[#This Row],[Next Calibration]]-TODAY())/30)>1,\"Between 2 and 1\",\"Less than 1\"))","v":{"$error":"#VALUE!"}},{"$f":"IF(Table113[[#This Row],[Issued]]=\"\",\"\",IF(Table113[[#This Row],[Lent]]=\"\",0,1))","v":""},{"$f":"IF(Table113[[#This Row],[Lent]]=\"\",\"\",IF(Table113[[#This Row],[Returned]]=\"\",0,1))","v":""}]
[{"$nulls":11},{"$f":"IF(IF(Table113[[#This Row],[Disposition]]=\"Retired\",\"N/A\",IF(Table113[[#This Row],[Disposition]]=0,\"\",K171+$F$2))=0+$F$2,\"NEVER CALIBRATED\",IF(Table113[[#This Row],[Disposition]]=\"Retired\",\"N/A\",IF(Table113[[#This Row],[Disposition]]=0,\"\",K171+$F$2)))","v":""},{"$f":"IF(Table113[[#This Row],[Disposition]]=\"\",\"\",IF(AND(Table113[[#This Row],[Next Calibration]]<$E$1,Table113[[#This Row],[Disposition]]=\"Lost\"),\"Find and Calibrate\",IF(Table113[[#This Row],[Disposition]]=\"Lost\",\"Find\",IF(OR(Table113[[#This Row],[Next Calibration]]<$E$1,Table113[[#This Row],[Next Calibration]]=\"NEVER CALIBRATED\"),\"Calibrate\",\"Nominal\"))))","v":""},{"$f":"IF(((Table113[[#This Row],[Next Calibration]]-TODAY())/30)>2,\"More Than 2\",IF(((Table113[[#This Row],[Next Calibration]]-TODAY())/30)>1,\"Between 2 and 1\",\"Less than 1\"))","v":{"$error":"#VALUE!"}},{"$f":"IF(Table113[[#This Row],[Issued]]=\"\",\"\",IF(Table113[[#This Row],[Lent]]=\"\",0,1))","v":""},{"$f":"IF(Table113[[#This Row],[Lent]]=\"\",\"\",IF(Table113[[#This Row],[Returned]]=\"\",0,1))","v":""}]
[{"$nulls":11},{"$f":"IF(IF(Table113[[#This Row],[Disposition]]=\"Retired\",\"N/A\",IF(Table113[[#This Row],[Disposition]]=0,\"\",K172+$F$2))=0+$F$2,\"NEVER CALIBRATED\",IF(Table113[[#This Row],[Disposition]]=\"Retired\",\"N/A\",IF(Table113[[#This Row],[Disposition]]=0,\"\",K172+$F$2)))","v":""},{"$f":"IF(Table113[[#This Row],[Disposition]]=\"\",\"\",IF(AND(Table113[[#This Row],[Next Calibration]]<$E$1,Table113[[#This Row],[Disposition]]=\"Lost\"),\"Find and Calibrate\",IF(Table113[[#This Row],[Disposition]]=\"Lost\",\"Find\",IF(OR(Table113[[#This Row],[Next Calibration]]<$E$1,Table113[[#This Row],[Next Calibration]]=\"NEVER CALIBRATED\"),\"Calibrate\",\"Nominal\"))))","v":""},{"$f":"IF(((Table113[[#This Row],[Next Calibration]]-TODAY())/30)>2,\"More Than 2\",IF(((Table113[[#This Row],[Next Calibration]]-TODAY())/30)>1,\"Between 2 and 1\",\"Less than 1\"))","v":{"$error":"#VALUE!"}},{"$f":"IF(Table113[[#This Row],[Issued]]=\"\",\"\",IF(Table113[[#This Row],[Lent]]=\"\",0,1))","v":""},{"$f":"IF(Table113[[#This Row],[Lent]]=\"\",\"\",IF(Table113[[#This Row],[Returned]]=\"\",0,1))","v":""}]
[{"$nulls":11},{"$f":"IF(IF(Table113[[#This Row],[Disposition]]=\"Retired\",\"N/A\",IF(Table113[[#This Row],[Disposition]]=0,\"\",K173+$F$2))=0+$F$2,\"NEVER CALIBRATED\",IF(Table113[[#This Row],[Disposition]]=\"Retired\",\"N/A\",IF(Table113[[#This Row],[Disposition]]=0,\"\",K173+$F$2)))","v":""},{"$f":"IF(Table113[[#This Row],[Disposition]]=\"\",\"\",IF(AND(Table113[[#This Row],[Next Calibration]]<$E$1,Table113[[#This Row],[Disposition]]=\"Lost\"),\"Find and Calibrate\",IF(Table113[[#This Row],[Disposition]]=\"Lost\",\"Find\",IF(OR(Table113[[#This Row],[Next Calibration]]<$E$1,Table113[[#This Row],[Next Calibration]]=\"NEVER CALIBRATED\"),\"Calibrate\",\"Nominal\"))))","v":""},{"$f":"IF(((Table113[[#This Row],[Next Calibration]]-TODAY())/30)>2,\"More Than 2\",IF(((Table113[[#This Row],[Next Calibration]]-TODAY())/30)>1,\"Between 2 and 1\",\"Less than 1\"))","v":{"$error":"#VALUE!"}},{"$f":"IF(Table113[[#This Row],[Issued]]=\"\",\"\",IF(Table113[[#This Row],[Lent]]=\"\",0,1))","v":""},{"$f":"IF(Table113[[#This Row],[Lent]]=\"\",\"\",IF(Table113[[#This Row],[Returned]]=\"\",0,1))","v":""}]
[{"$nulls":11},{"$f":"IF(IF(Table113[[#This Row],[Disposition]]=\"Retired\",\"N/A\",IF(Table113[[#This Row],[Disposition]]=0,\"\",K174+$F$2))=0+$F$2,\"NEVER CALIBRATED\",IF(Table113[[#This Row],[Disposition]]=\"Retired\",\"N/A\",IF(Table113[[#This Row],[Disposition]]=0,\"\",K174+$F$2)))","v":""},{"$f":"IF(Table113[[#This Row],[Disposition]]=\"\",\"\",IF(AND(Table113[[#This Row],[Next Calibration]]<$E$1,Table113[[#This Row],[Disposition]]=\"Lost\"),\"Find and Calibrate\",IF(Table113[[#This Row],[Disposition]]=\"Lost\",\"Find\",IF(OR(Table113[[#This Row],[Next Calibration]]<$E$1,Table113[[#This Row],[Next Calibration]]=\"NEVER CALIBRATED\"),\"Calibrate\",\"Nominal\"))))","v":""},{"$f":"IF(((Table113[[#This Row],[Next Calibration]]-TODAY())/30)>2,\"More Than 2\",IF(((Table113[[#This Row],[Next Calibration]]-TODAY())/30)>1,\"Between 2 and 1\",\"Less than 1\"))","v":{"$error":"#VALUE!"}},{"$f":"IF(Table113[[#This Row],[Issued]]=\"\",\"\",IF(Table113[[#This Row],[Lent]]=\"\",0,1))","v":""},{"$f":"IF(Table113[[#This Row],[Lent]]=\"\",\"\",IF(Table113[[#This Row],[Returned]]=\"\",0,1))","v":""}]
[{"$nulls":11},{"$f":"IF(IF(Table113[[#This Row],[Disposition]]=\"Retired\",\"N/A\",IF(Table113[[#This Row],[Disposition]]=0,\"\",K175+$F$2))=0+$F$2,\"NEVER CALIBRATED\",IF(Table113[[#This Row],[Disposition]]=\"Retired\",\"N/A\",IF(Table113[[#This Row],[Disposition]]=0,\"\",K175+$F$2)))","v":""},{"$f":"IF(Table113[[#This Row],[Disposition]]=\"\",\"\",IF(AND(Table113[[#This Row],[Next Calibration]]<$E$1,Table113[[#This Row],[Disposition]]=\"Lost\"),\"Find and Calibrate\",IF(Table113[[#This Row],[Disposition]]=\"Lost\",\"Find\",IF(OR(Table113[[#This Row],[Next Calibration]]<$E$1,Table113[[#This Row],[Next Calibration]]=\"NEVER CALIBRATED\"),\"Calibrate\",\"Nominal\"))))","v":""},{"$f":"IF(((Table113[[#This Row],[Next Calibration]]-TODAY())/30)>2,\"More Than 2\",IF(((Table113[[#This Row],[Next Calibration]]-TODAY())/30)>1,\"Between 2 and 1\",\"Less than 1\"))","v":{"$error":"#VALUE!"}},{"$f":"IF(Table113[[#This Row],[Issued]]=\"\",\"\",IF(Table113[[#This Row],[Lent]]=\"\",0,1))","v":""},{"$f":"IF(Table113[[#This Row],[Lent]]=\"\",\"\",IF(Table113[[#This Row],[Returned]]=\"\",0,1))","v":""}]
[{"$nulls":11},{"$f":"IF(IF(Table113[[#This Row],[Disposition]]=\"Retired\",\"N/A\",IF(Table113[[#This Row],[Disposition]]=0,\"\",K176+$F$2))=0+$F$2,\"NEVER CALIBRATED\",IF(Table113[[#This Row],[Disposition]]=\"Retired\",\"N/A\",IF(Table113[[#This Row],[Disposition]]=0,\"\",K176+$F$2)))","v":""},{"$f":"IF(Table113[[#This Row],[Disposition]]=\"\",\"\",IF(AND(Table113[[#This Row],[Next Calibration]]<$E$1,Table113[[#This Row],[Disposition]]=\"Lost\"),\"Find and Calibrate\",IF(Table113[[#This Row],[Disposition]]=\"Lost\",\"Find\",IF(OR(Table113[[#This Row],[Next Calibration]]<$E$1,Table113[[#This Row],[Next Calibration]]=\"NEVER CALIBRATED\"),\"Calibrate\",\"Nominal\"))))","v":""},{"$f":"IF(((Table113[[#This Row],[Next Calibration]]-TODAY())/30)>2,\"More Than 2\",IF(((Table113[[#This Row],[Next Calibration]]-TODAY())/30)>1,\"Between 2 and 1\",\"Less than 1\"))","v":{"$error":"#VALUE!"}},{"$f":"IF(Table113[[#This Row],[Issued]]=\"\",\"\",IF(Table113[[#This Row],[Lent]]=\"\",0,1))","v":""},{"$f":"IF(Table113[[#This Row],[Lent]]=\"\",\"\",IF(Table113[[#This Row],[Returned]]=\"\",0,1))","v":""}]
[{"$nulls":11},{"$f":"IF(IF(Table113[[#This Row],[Disposition]]=\"Retired\",\"N/A\",IF(Table113[[#This Row],[Disposition]]=0,\"\",K177+$F$2))=0+$F$2,\"NEVER CALIBRATED\",IF(Table113[[#This Row],[Disposition]]=\"Retired\",\"N/A\",IF(Table113[[#This Row],[Disposition]]=0,\"\",K177+$F$2)))","v":""},{"$f":"IF(Table113[[#This Row],[Disposition]]=\"\",\"\",IF(AND(Table113[[#This Row],[Next Calibration]]<$E$1,Table113[[#This Row],[Disposition]]=\"Lost\"),\"Find and Calibrate\",IF(Table113[[#This Row],[Disposition]]=\"Lost\",\"Find\",IF(OR(Table113[[#This Row],[Next Calibration]]<$E$1,Table113[[#This Row],[Next Calibration]]=\"NEVER CALIBRATED\"),\"Calibrate\",\"Nominal\"))))","v":""},{"$f":"IF(((Table113[[#This Row],[Next Calibration]]-TODAY())/30)>2,\"More Than 2\",IF(((Table113[[#This Row],[Next Calibration]]-TODAY())/30)>1,\"Between 2 and 1\",\"Less than 1\"))","v":{"$error":"#VALUE!"}},{"$f":"IF(Table113[[#This Row],[Issued]]=\"\",\"\",IF(Table113[[#This Row],[Lent]]=\"\",0,1))","v":""},{"$f":"IF(Table113[[#This Row],[Lent]]=\"\",\"\",IF(Table113[[#This Row],[Returned]]=\"\",0,1))","v":""}]
[{"$nulls":11},{"$f":"IF(IF(Table113[[#This Row],[Disposition]]=\"Retired\",\"N/A\",IF(Table113[[#This Row],[Disposition]]=0,\"\",K178+$F$2))=0+$F$2,\"NEVER CALIBRATED\",IF(Table113[[#This Row],[Disposition]]=\"Retired\",\"N/A\",IF(Table113[[#This Row],[Disposition]]=0,\"\",K178+$F$2)))","v":""},{"$f":"IF(Table113[[#This Row],[Disposition]]=\"\",\"\",IF(AND(Table113[[#This Row],[Next Calibration]]<$E$1,Table113[[#This Row],[Disposition]]=\"Lost\"),\"Find and Calibrate\",IF(Table113[[#This Row],[Disposition]]=\"Lost\",\"Find\",IF(OR(Table113[[#This Row],[Next Calibration]]<$E$1,Table113[[#This Row],[Next Calibration]]=\"NEVER CALIBRATED\"),\"Calibrate\",\"Nominal\"))))","v":""},{"$f":"IF(((Table113[[#This Row],[Next Calibration]]-TODAY())/30)>2,\"More Than 2\",IF(((Table113[[#This Row],[Next Calibration]]-TODAY())/30)>1,\"Between 2 and 1\",\"Less than 1\"))","v":{"$error":"#VALUE!"}},{"$f":"IF(Table113[[#This Row],[Issued]]=\"\",\"\",IF(Table113[[#This Row],[Lent]]=\"\",0,1))","v":""},{"$f":"IF(Table113[[#This Row],[Lent]]=\"\",\"\",IF(Table113[[#This Row],[Returned]]=\"\",0,1))","v":""}]
[{"$nulls":11},{"$f":"IF(IF(Table113[[#This Row],[Disposition]]=\"Retired\",\"N/A\",IF(Table113[[#This Row],[Disposition]]=0,\"\",K179+$F$2))=0+$F$2,\"NEVER CALIBRATED\",IF(Table113[[#This Row],[Disposition]]=\"Retired\",\"N/A\",IF(Table113[[#This Row],[Disposition]]=0,\"\",K179+$F$2)))","v":""},{"$f":"IF(Table113[[#This Row],[Disposition]]=\"\",\"\",IF(AND(Table113[[#This Row],[Next Calibration]]<$E$1,Table113[[#This Row],[Disposition]]=\"Lost\"),\"Find and Calibrate\",IF(Table113[[#This Row],[Disposition]]=\"Lost\",\"Find\",IF(OR(Table113[[#This Row],[Next Calibration]]<$E$1,Table113[[#This Row],[Next Calibration]]=\"NEVER CALIBRATED\"),\"Calibrate\",\"Nominal\"))))","v":""},{"$f":"IF(((Table113[[#This Row],[Next Calibration]]-TODAY())/30)>2,\"More Than 2\",IF(((Table113[[#This Row],[Next Calibration]]-TODAY())/30)>1,\"Between 2 and 1\",\"Less than 1\"))","v":{"$error":"#VALUE!"}},{"$f":"IF(Table113[[#This Row],[Issued]]=\"\",\"\",IF(Table113[[#This Row],[Lent]]=\"\",0,1))","v":""},{"$f":"IF(Table113[[#This Row],[Lent]]=\"\",\"\",IF(Table113[[#This Row],[Returned]]=\"\",0,1))","v":""}]
[{"$nulls":11},{"$f":"IF(IF(Table113[[#This Row],[Disposition]]=\"Retired\",\"N/A\",IF(Table113[[#This Row],[Disposition]]=0,\"\",K180+$F$2))=0+$F$2,\"NEVER CALIBRATED\",IF(Table113[[#This Row],[Disposition]]=\"Retired\",\"N/A\",IF(Table113[[#This Row],[Disposition]]=0,\"\",K180+$F$2)))","v":""},{"$f":"IF(Table113[[#This Row],[Disposition]]=\"\",\"\",IF(AND(Table113[[#This Row],[Next Calibration]]<$E$1,Table113[[#This Row],[Disposition]]=\"Lost\"),\"Find and Calibrate\",IF(Table113[[#This Row],[Disposition]]=\"Lost\",\"Find\",IF(OR(Table113[[#This Row],[Next Calibration]]<$E$1,Table113[[#This Row],[Next Calibration]]=\"NEVER CALIBRATED\"),\"Calibrate\",\"Nominal\"))))","v":""},{"$f":"IF(((Table113[[#This Row],[Next Calibration]]-TODAY())/30)>2,\"More Than 2\",IF(((Table113[[#This Row],[Next Calibration]]-TODAY())/30)>1,\"Between 2 and 1\",\"Less than 1\"))","v":{"$error":"#VALUE!"}},{"$f":"IF(Table113[[#This Row],[Issued]]=\"\",\"\",IF(Table113[[#This Row],[Lent]]=\"\",0,1))","v":""},{"$f":"IF(Table113[[#This Row],[Lent]]=\"\",\"\",IF(Table113[[#This Row],[Returned]]=\"\",0,1))","v":""}]
[{"$nulls":11},{"$f":"IF(IF(Table113[[#This Row],[Disposition]]=\"Retired\",\"N/A\",IF(Table113[[#This Row],[Disposition]]=0,\"\",K181+$F$2))=0+$F$2,\"NEVER CALIBRATED\",IF(Table113[[#This Row],[Disposition]]=\"Retired\",\"N/A\",IF(Table113[[#This Row],[Disposition]]=0,\"\",K181+$F$2)))","v":""},{"$f":"IF(Table113[[#This Row],[Disposition]]=\"\",\"\",IF(AND(Table113[[#This Row],[Next Calibration]]<$E$1,Table113[[#This Row],[Disposition]]=\"Lost\"),\"Find and Calibrate\",IF(Table113[[#This Row],[Disposition]]=\"Lost\",\"Find\",IF(OR(Table113[[#This Row],[Next Calibration]]<$E$1,Table113[[#This Row],[Next Calibration]]=\"NEVER CALIBRATED\"),\"Calibrate\",\"Nominal\"))))","v":""},{"$f":"IF(((Table113[[#This Row],[Next Calibration]]-TODAY())/30)>2,\"More Than 2\",IF(((Table113[[#This Row],[Next Calibration]]-TODAY())/30)>1,\"Between 2 and 1\",\"Less than 1\"))","v":{"$error":"#VALUE!"}},{"$f":"IF(Table113[[#This Row],[Issued]]=\"\",\"\",IF(Table113[[#This Row],[Lent]]=\"\",0,1))","v":""},{"$f":"IF(Table113[[#This Row],[Lent]]=\"\",\"\",IF(Table113[[#This Row],[Returned]]=\"\",0,1))","v":""}]
[{"$nulls":11},{"$f":"IF(IF(Table113[[#This Row],[Disposition]]=\"Retired\",\"N/A\",IF(Table113[[#This Row],[Disposition]]=0,\"\",K182+$F$2))=0+$F$2,\"NEVER CALIBRATED\",IF(Table113[[#This Row],[Disposition]]=\"Retired\",\"N/A\",IF(Table113[[#This Row],[Disposition]]=0,\"\",K182+$F$2)))","v":""},{"$f":"IF(Table113[[#This Row],[Disposition]]=\"\",\"\",IF(AND(Table113[[#This Row],[Next Calibration]]<$E$1,Table113[[#This Row],[Disposition]]=\"Lost\"),\"Find and Calibrate\",IF(Table113[[#This Row],[Disposition]]=\"Lost\",\"Find\",IF(OR(Table113[[#This Row],[Next Calibration]]<$E$1,Table113[[#This Row],[Next Calibration]]=\"NEVER CALIBRATED\"),\"Calibrate\",\"Nominal\"))))","v":""},{"$f":"IF(((Table113[[#This Row],[Next Calibration]]-TODAY())/30)>2,\"More Than 2\",IF(((Table113[[#This Row],[Next Calibration]]-TODAY())/30)>1,\"Between 2 and 1\",\"Less than 1\"))","v":{"$error":"#VALUE!"}},{"$f":"IF(Table113[[#This Row],[Issued]]=\"\",\"\",IF(Table113[[#This Row],[Lent]]=\"\",0,1))","v":""},{"$f":"IF(Table113[[#This Row],[Lent]]=\"\",\"\",IF(Table113[[#This Row],[Returned]]=\"\",0,1))","v":""}]
[{"$nulls":11},{"$f":"IF(IF(Table113[[#This Row],[Disposition]]=\"Retired\",\"N/A\",IF(Table113[[#This Row],[Disposition]]=0,\"\",K183+$F$2))=0+$F$2,\"NEVER CALIBRATED\",IF(Table113[[#This Row],[Disposition]]=\"Retired\",\"N/A\",IF(Table113[[#This Row],[Disposition]]=0,\"\",K183+$F$2)))","v":""},{"$f":"IF(Table113[[#This Row],[Disposition]]=\"\",\"\",IF(AND(Table113[[#This Row],[Next Calibration]]<$E$1,Table113[[#This Row],[Disposition]]=\"Lost\"),\"Find and Calibrate\",IF(Table113[[#This Row],[Disposition]]=\"Lost\",\"Find\",IF(OR(Table113[[#This Row],[Next Calibration]]<$E$1,Table113[[#This Row],[Next Calibration]]=\"NEVER CALIBRATED\"),\"Calibrate\",\"Nominal\"))))","v":""},{"$f":"IF(((Table113[[#This Row],[Next Calibration]]-TODAY())/30)>2,\"More Than 2\",IF(((Table113[[#This Row],[Next Calibration]]-TODAY())/30)>1,\"Between 2 and 1\",\"Less than 1\"))","v":{"$error":"#VALUE!"}},{"$f":"IF(Table113[[#This Row],[Issued]]=\"\",\"\",IF(Table113[[#This Row],[Lent]]=\"\",0,1))","v":""},{"$f":"IF(Table113[[#This Row],[Lent]]=\"\",\"\",IF(Table113[[#This Row],[Returned]]=\"\",0,1))","v":""}]
[{"$nulls":11},{"$f":"IF(IF(Table113[[#This Row],[Disposition]]=\"Retired\",\"N/A\",IF(Table113[[#This Row],[Disposition]]=0,\"\",K184+$F$2))=0+$F$2,\"NEVER CALIBRATED\",IF(Table113[[#This Row],[Disposition]]=\"Retired\",\"N/A\",IF(Table113[[#This Row],[Disposition]]=0,\"\",K184+$F$2)))","v":""},{"$f":"IF(Table113[[#This Row],[Disposition]]=\"\",\"\",IF(AND(Table113[[#This Row],[Next Calibration]]<$E$1,Table113[[#This Row],[Disposition]]=\"Lost\"),\"Find and Calibrate\",IF(Table113[[#This Row],[Disposition]]=\"Lost\",\"Find\",IF(OR(Table113[[#This Row],[Next Calibration]]<$E$1,Table113[[#This Row],[Next Calibration]]=\"NEVER CALIBRATED\"),\"Calibrate\",\"Nominal\"))))","v":""},{"$f":"IF(((Table113[[#This Row],[Next Calibration]]-TODAY())/30)>2,\"More Than 2\",IF(((Table113[[#This Row],[Next Calibration]]-TODAY())/30)>1,\"Between 2 and 1\",\"Less than 1\"))","v":{"$error":"#VALUE!"}},{"$f":"IF(Table113[[#This Row],[Issued]]=\"\",\"\",IF(Table113[[#This Row],[Lent]]=\"\",0,1))","v":""},{"$f":"IF(Table113[[#This Row],[Lent]]=\"\",\"\",IF(Table113[[#This Row],[Returned]]=\"\",0,1))","v":""}]
[{"$nulls":11},{"$f":"IF(IF(Table113[[#This Row],[Disposition]]=\"Retired\",\"N/A\",IF(Table113[[#This Row],[Disposition]]=0,\"\",K185+$F$2))=0+$F$2,\"NEVER CALIBRATED\",IF(Table113[[#This Row],[Disposition]]=\"Retired\",\"N/A\",IF(Table113[[#This Row],[Disposition]]=0,\"\",K185+$F$2)))","v":""},{"$f":"IF(Table113[[#This Row],[Disposition]]=\"\",\"\",IF(AND(Table113[[#This Row],[Next Calibration]]<$E$1,Table113[[#This Row],[Disposition]]=\"Lost\"),\"Find and Calibrate\",IF(Table113[[#This Row],[Disposition]]=\"Lost\",\"Find\",IF(OR(Table113[[#This Row],[Next Calibration]]<$E$1,Table113[[#This Row],[Next Calibration]]=\"NEVER CALIBRATED\"),\"Calibrate\",\"Nominal\"))))","v":""},{"$f":"IF(((Table113[[#This Row],[Next Calibration]]-TODAY())/30)>2,\"More Than 2\",IF(((Table113[[#This Row],[Next Calibration]]-TODAY())/30)>1,\"Between 2 and 1\",\"Less than 1\"))","v":{"$error":"#VALUE!"}},{"$f":"IF(Table113[[#This Row],[Issued]]=\"\",\"\",IF(Table113[[#This Row],[Lent]]=\"\",0,1))","v":""},{"$f":"IF(Table113[[#This Row],[Lent]]=\"\",\"\",IF(Table113[[#This Row],[Returned]]=\"\",0,1))","v":""}]
[{"$nulls":11},{"$f":"IF(IF(Table113[[#This Row],[Disposition]]=\"Retired\",\"N/A\",IF(Table113[[#This Row],[Disposition]]=0,\"\",K186+$F$2))=0+$F$2,\"NEVER CALIBRATED\",IF(Table113[[#This Row],[Disposition]]=\"Retired\",\"N/A\",IF(Table113[[#This Row],[Disposition]]=0,\"\",K186+$F$2)))","v":""},{"$f":"IF(Table113[[#This Row],[Disposition]]=\"\",\"\",IF(AND(Table113[[#This Row],[Next Calibration]]<$E$1,Table113[[#This Row],[Disposition]]=\"Lost\"),\"Find and Calibrate\",IF(Table113[[#This Row],[Disposition]]=\"Lost\",\"Find\",IF(OR(Table113[[#This Row],[Next Calibration]]<$E$1,Table113[[#This Row],[Next Calibration]]=\"NEVER CALIBRATED\"),\"Calibrate\",\"Nominal\"))))","v":""},{"$f":"IF(((Table113[[#This Row],[Next Calibration]]-TODAY())/30)>2,\"More Than 2\",IF(((Table113[[#This Row],[Next Calibration]]-TODAY())/30)>1,\"Between 2 and 1\",\"Less than 1\"))","v":{"$error":"#VALUE!"}},{"$f":"IF(Table113[[#This Row],[Issued]]=\"\",\"\",IF(Table113[[#This Row],[Lent]]=\"\",0,1))","v":""},{"$f":"IF(Table113[[#This Row],[Lent]]=\"\",\"\",IF(Table113[[#This Row],[Returned]]=\"\",0,1))","v":""}]
[{"$nulls":11},{"$f":"IF(IF(Table113[[#This Row],[Disposition]]=\"Retired\",\"N/A\",IF(Table113[[#This Row],[Disposition]]=0,\"\",K187+$F$2))=0+$F$2,\"NEVER CALIBRATED\",IF(Table113[[#This Row],[Disposition]]=\"Retired\",\"N/A\",IF(Table113[[#This Row],[Disposition]]=0,\"\",K187+$F$2)))","v":""},{"$f":"IF(Table113[[#This Row],[Disposition]]=\"\",\"\",IF(AND(Table113[[#This Row],[Next Calibration]]<$E$1,Table113[[#This Row],[Disposition]]=\"Lost\"),\"Find and Calibrate\",IF(Table113[[#This Row],[Disposition]]=\"Lost\",\"Find\",IF(OR(Table113[[#This Row],[Next Calibration]]<$E$1,Table113[[#This Row],[Next Calibration]]=\"NEVER CALIBRATED\"),\"Calibrate\",\"Nominal\"))))","v":""},{"$f":"IF(((Table113[[#This Row],[Next Calibration]]-TODAY())/30)>2,\"More Than 2\",IF(((Table113[[#This Row],[Next Calibration]]-TODAY())/30)>1,\"Between 2 and 1\",\"Less than 1\"))","v":{"$error":"#VALUE!"}},{"$f":"IF(Table113[[#This Row],[Issued]]=\"\",\"\",IF(Table113[[#This Row],[Lent]]=\"\",0,1))","v":""},{"$f":"IF(Table113[[#This Row],[Lent]]=\"\",\"\",IF(Table113[[#This Row],[Returned]]=\"\",0,1))","v":""}]
[{"$nulls":11},{"$f":"IF(IF(Table113[[#This Row],[Disposition]]=\"Retired\",\"N/A\",IF(Table113[[#This Row],[Disposition]]=0,\"\",K188+$F$2))=0+$F$2,\"NEVER CALIBRATED\",IF(Table113[[#This Row],[Disposition]]=\"Retired\",\"N/A\",IF(Table113[[#This Row],[Disposition]]=0,\"\",K188+$F$2)))","v":""},{"$f":"IF(Table113[[#This Row],[Disposition]]=\"\",\"\",IF(AND(Table113[[#This Row],[Next Calibration]]<$E$1,Table113[[#This Row],[Disposition]]=\"Lost\"),\"Find and Calibrate\",IF(Table113[[#This Row],[Disposition]]=\"Lost\",\"Find\",IF(OR(Table113[[#This Row],[Next Calibration]]<$E$1,Table113[[#This Row],[Next Calibration]]=\"NEVER CALIBRATED\"),\"Calibrate\",\"Nominal\"))))","v":""},{"$f":"IF(((Table113[[#This Row],[Next Calibration]]-TODAY())/30)>2,\"More Than 2\",IF(((Table113[[#This Row],[Next Calibration]]-TODAY())/30)>1,\"Between 2 and 1\",\"Less than 1\"))","v":{"$error":"#VALUE!"}},{"$f":"IF(Table113[[#This Row],[Issued]]=\"\",\"\",IF(Table113[[#This Row],[Lent]]=\"\",0,1))","v":""},{"$f":"IF(Table113[[#This Row],[Lent]]=\"\",\"\",IF(Table113[[#This Row],[Returned]]=\"\",0,1))","v":""}]
[{"$nulls":11},{"$f":"IF(IF(Table113[[#This Row],[Disposition]]=\"Retired\",\"N/A\",IF(Table113[[#This Row],[Disposition]]=0,\"\",K189+$F$2))=0+$F$2,\"NEVER CALIBRATED\",IF(Table113[[#This Row],[Disposition]]=\"Retired\",\"N/A\",IF(Table113[[#This Row],[Disposition]]=0,\"\",K189+$F$2)))","v":""},{"$f":"IF(Table113[[#This Row],[Disposition]]=\"\",\"\",IF(AND(Table113[[#This Row],[Next Calibration]]<$E$1,Table113[[#This Row],[Disposition]]=\"Lost\"),\"Find and Calibrate\",IF(Table113[[#This Row],[Disposition]]=\"Lost\",\"Find\",IF(OR(Table113[[#This Row],[Next Calibration]]<$E$1,Table113[[#This Row],[Next Calibration]]=\"NEVER CALIBRATED\"),\"Calibrate\",\"Nominal\"))))","v":""},{"$f":"IF(((Table113[[#This Row],[Next Calibration]]-TODAY())/30)>2,\"More Than 2\",IF(((Table113[[#This Row],[Next Calibration]]-TODAY())/30)>1,\"Between 2 and 1\",\"Less than 1\"))","v":{"$error":"#VALUE!"}},{"$f":"IF(Table113[[#This Row],[Issued]]=\"\",\"\",IF(Table113[[#This Row],[Lent]]=\"\",0,1))","v":""},{"$f":"IF(Table113[[#This Row],[Lent]]=\"\",\"\",IF(Table113[[#This Row],[Returned]]=\"\",0,1))","v":""}]
[{"$nulls":11},{"$f":"IF(IF(Table113[[#This Row],[Disposition]]=\"Retired\",\"N/A\",IF(Table113[[#This Row],[Disposition]]=0,\"\",K190+$F$2))=0+$F$2,\"NEVER CALIBRATED\",IF(Table113[[#This Row],[Disposition]]=\"Retired\",\"N/A\",IF(Table113[[#This Row],[Disposition]]=0,\"\",K190+$F$2)))","v":""},{"$f":"IF(Table113[[#This Row],[Disposition]]=\"\",\"\",IF(AND(Table113[[#This Row],[Next Calibration]]<$E$1,Table113[[#This Row],[Disposition]]=\"Lost\"),\"Find and Calibrate\",IF(Table113[[#This Row],[Disposition]]=\"Lost\",\"Find\",IF(OR(Table113[[#This Row],[Next Calibration]]<$E$1,Table113[[#This Row],[Next Calibration]]=\"NEVER CALIBRATED\"),\"Calibrate\",\"Nominal\"))))","v":""},{"$f":"IF(((Table113[[#This Row],[Next Calibration]]-TODAY())/30)>2,\"More Than 2\",IF(((Table113[[#This Row],[Next Calibration]]-TODAY())/30)>1,\"Between 2 and 1\",\"Less than 1\"))","v":{"$error":"#VALUE!"}},{"$f":"IF(Table113[[#This Row],[Issued]]=\"\",\"\",IF(Table113[[#This Row],[Lent]]=\"\",0,1))","v":""},{"$f":"IF(Table113[[#This Row],[Lent]]=\"\",\"\",IF(Table113[[#This Row],[Returned]]=\"\",0,1))","v":""}]
[{"$nulls":11},{"$f":"IF(IF(Table113[[#This Row],[Disposition]]=\"Retired\",\"N/A\",IF(Table113[[#This Row],[Disposition]]=0,\"\",K191+$F$2))=0+$F$2,\"NEVER CALIBRATED\",IF(Table113[[#This Row],[Disposition]]=\"Retired\",\"N/A\",IF(Table113[[#This Row],[Disposition]]=0,\"\",K191+$F$2)))","v":""},{"$f":"IF(Table113[[#This Row],[Disposition]]=\"\",\"\",IF(AND(Table113[[#This Row],[Next Calibration]]<$E$1,Table113[[#This Row],[Disposition]]=\"Lost\"),\"Find and Calibrate\",IF(Table113[[#This Row],[Disposition]]=\"Lost\",\"Find\",IF(OR(Table113[[#This Row],[Next Calibration]]<$E$1,Table113[[#This Row],[Next Calibration]]=\"NEVER CALIBRATED\"),\"Calibrate\",\"Nominal\"))))","v":""},{"$f":"IF(((Table113[[#This Row],[Next Calibration]]-TODAY())/30)>2,\"More Than 2\",IF(((Table113[[#This Row],[Next Calibration]]-TODAY())/30)>1,\"Between 2 and 1\",\"Less than 1\"))","v":{"$error":"#VALUE!"}},{"$f":"IF(Table113[[#This Row],[Issued]]=\"\",\"\",IF(Table113[[#This Row],[Lent]]=\"\",0,1))","v":""},{"$f":"IF(Table113[[#This Row],[Lent]]=\"\",\"\",IF(Table113[[#This Row],[Returned]]=\"\",0,1))","v":""}]
[{"$nulls":11},{"$f":"IF(IF(Table113[[#This Row],[Disposition]]=\"Retired\",\"N/A\",IF(Table113[[#This Row],[Disposition]]=0,\"\",K192+$F$2))=0+$F$2,\"NEVER CALIBRATED\",IF(Table113[[#This Row],[Disposition]]=\"Retired\",\"N/A\",IF(Table113[[#This Row],[Disposition]]=0,\"\",K192+$F$2)))","v":""},{"$f":"IF(Table113[[#This Row],[Disposition]]=\"\",\"\",IF(AND(Table113[[#This Row],[Next Calibration]]<$E$1,Table113[[#This Row],[Disposition]]=\"Lost\"),\"Find and Calibrate\",IF(Table113[[#This Row],[Disposition]]=\"Lost\",\"Find\",IF(OR(Table113[[#This Row],[Next Calibration]]<$E$1,Table113[[#This Row],[Next Calibration]]=\"NEVER CALIBRATED\"),\"Calibrate\",\"Nominal\"))))","v":""},{"$f":"IF(((Table113[[#This Row],[Next Calibration]]-TODAY())/30)>2,\"More Than 2\",IF(((Table113[[#This Row],[Next Calibration]]-TODAY())/30)>1,\"Between 2 and 1\",\"Less than 1\"))","v":{"$error":"#VALUE!"}},{"$f":"IF(Table113[[#This Row],[Issued]]=\"\",\"\",IF(Table113[[#This Row],[Lent]]=\"\",0,1))","v":""},{"$f":"IF(Table113[[#This Row],[Lent]]=\"\",\"\",IF(Table113[[#This Row],[Returned]]=\"\",0,1))","v":""}]
[{"$nulls":11},{"$f":"IF(IF(Table113[[#This Row],[Disposition]]=\"Retired\",\"N/A\",IF(Table113[[#This Row],[Disposition]]=0,\"\",K193+$F$2))=0+$F$2,\"NEVER CALIBRATED\",IF(Table113[[#This Row],[Disposition]]=\"Retired\",\"N/A\",IF(Table113[[#This Row],[Disposition]]=0,\"\",K193+$F$2)))","v":""},{"$f":"IF(Table113[[#This Row],[Disposition]]=\"\",\"\",IF(AND(Table113[[#This Row],[Next Calibration]]<$E$1,Table113[[#This Row],[Disposition]]=\"Lost\"),\"Find and Calibrate\",IF(Table113[[#This Row],[Disposition]]=\"Lost\",\"Find\",IF(OR(Table113[[#This Row],[Next Calibration]]<$E$1,Table113[[#This Row],[Next Calibration]]=\"NEVER CALIBRATED\"),\"Calibrate\",\"Nominal\"))))","v":""},{"$f":"IF(((Table113[[#This Row],[Next Calibration]]-TODAY())/30)>2,\"More Than 2\",IF(((Table113[[#This Row],[Next Calibration]]-TODAY())/30)>1,\"Between 2 and 1\",\"Less than 1\"))","v":{"$error":"#VALUE!"}},{"$f":"IF(Table113[[#This Row],[Issued]]=\"\",\"\",IF(Table113[[#This Row],[Lent]]=\"\",0,1))","v":""},{"$f":"IF(Table113[[#This Row],[Lent]]=\"\",\"\",IF(Table113[[#This Row],[Returned]]=\"\",0,1))","v":""}]
[{"$nulls":11},{"$f":"IF(IF(Table113[[#This Row],[Disposition]]=\"Retired\",\"N/A\",IF(Table113[[#This Row],[Disposition]]=0,\"\",K194+$F$2))=0+$F$2,\"NEVER CALIBRATED\",IF(Table113[[#This Row],[Disposition]]=\"Retired\",\"N/A\",IF(Table113[[#This Row],[Disposition]]=0,\"\",K194+$F$2)))","v":""},{"$f":"IF(Table113[[#This Row],[Disposition]]=\"\",\"\",IF(AND(Table113[[#This Row],[Next Calibration]]<$E$1,Table113[[#This Row],[Disposition]]=\"Lost\"),\"Find and Calibrate\",IF(Table113[[#This Row],[Disposition]]=\"Lost\",\"Find\",IF(OR(Table113[[#This Row],[Next Calibration]]<$E$1,Table113[[#This Row],[Next Calibration]]=\"NEVER CALIBRATED\"),\"Calibrate\",\"Nominal\"))))","v":""},{"$f":"IF(((Table113[[#This Row],[Next Calibration]]-TODAY())/30)>2,\"More Than 2\",IF(((Table113[[#This Row],[Next Calibration]]-TODAY())/30)>1,\"Between 2 and 1\",\"Less than 1\"))","v":{"$error":"#VALUE!"}},{"$f":"IF(Table113[[#This Row],[Issued]]=\"\",\"\",IF(Table113[[#This Row],[Lent]]=\"\",0,1))","v":""},{"$f":"IF(Table113[[#This Row],[Lent]]=\"\",\"\",IF(Table113[[#This Row],[Returned]]=\"\",0,1))","v":""}]
[{"$nulls":11},{"$f":"IF(IF(Table113[[#This Row],[Disposition]]=\"Retired\",\"N/A\",IF(Table113[[#This Row],[Disposition]]=0,\"\",K195+$F$2))=0+$F$2,\"NEVER CALIBRATED\",IF(Table113[[#This Row],[Disposition]]=\"Retired\",\"N/A\",IF(Table113[[#This Row],[Disposition]]=0,\"\",K195+$F$2)))","v":""},{"$f":"IF(Table113[[#This Row],[Disposition]]=\"\",\"\",IF(AND(Table113[[#This Row],[Next Calibration]]<$E$1,Table113[[#This Row],[Disposition]]=\"Lost\"),\"Find and Calibrate\",IF(Table113[[#This Row],[Disposition]]=\"Lost\",\"Find\",IF(OR(Table113[[#This Row],[Next Calibration]]<$E$1,Table113[[#This Row],[Next Calibration]]=\"NEVER CALIBRATED\"),\"Calibrate\",\"Nominal\"))))","v":""},{"$f":"IF(((Table113[[#This Row],[Next Calibration]]-TODAY())/30)>2,\"More Than 2\",IF(((Table113[[#This Row],[Next Calibration]]-TODAY())/30)>1,\"Between 2 and 1\",\"Less than 1\"))","v":{"$error":"#VALUE!"}},{"$f":"IF(Table113[[#This Row],[Issued]]=\"\",\"\",IF(Table113[[#This Row],[Lent]]=\"\",0,1))","v":""},{"$f":"IF(Table113[[#This Row],[Lent]]=\"\",\"\",IF(Table113[[#This Row],[Returned]]=\"\",0,1))","v":""}]
[{"$nulls":11},{"$f":"IF(IF(Table113[[#This Row],[Disposition]]=\"Retired\",\"N/A\",IF(Table113[[#This Row],[Disposition]]=0,\"\",K196+$F$2))=0+$F$2,\"NEVER CALIBRATED\",IF(Table113[[#This Row],[Disposition]]=\"Retired\",\"N/A\",IF(Table113[[#This Row],[Disposition]]=0,\"\",K196+$F$2)))","v":""},{"$f":"IF(Table113[[#This Row],[Disposition]]=\"\",\"\",IF(AND(Table113[[#This Row],[Next Calibration]]<$E$1,Table113[[#This Row],[Disposition]]=\"Lost\"),\"Find and Calibrate\",IF(Table113[[#This Row],[Disposition]]=\"Lost\",\"Find\",IF(OR(Table113[[#This Row],[Next Calibration]]<$E$1,Table113[[#This Row],[Next Calibration]]=\"NEVER CALIBRATED\"),\"Calibrate\",\"Nominal\"))))","v":""},{"$f":"IF(((Table113[[#This Row],[Next Calibration]]-TODAY())/30)>2,\"More Than 2\",IF(((Table113[[#This Row],[Next Calibration]]-TODAY())/30)>1,\"Between 2 and 1\",\"Less than 1\"))","v":{"$error":"#VALUE!"}},{"$f":"IF(Table113[[#This Row],[Issued]]=\"\",\"\",IF(Table113[[#This Row],[Lent]]=\"\",0,1))","v":""},{"$f":"IF(Table113[[#This Row],[Lent]]=\"\",\"\",IF(Table113[[#This Row],[Returned]]=\"\",0,1))","v":""}]
[{"$nulls":11},{"$f":"IF(IF(Table113[[#This Row],[Disposition]]=\"Retired\",\"N/A\",IF(Table113[[#This Row],[Disposition]]=0,\"\",K197+$F$2))=0+$F$2,\"NEVER CALIBRATED\",IF(Table113[[#This Row],[Disposition]]=\"Retired\",\"N/A\",IF(Table113[[#This Row],[Disposition]]=0,\"\",K197+$F$2)))","v":""},{"$f":"IF(Table113[[#This Row],[Disposition]]=\"\",\"\",IF(AND(Table113[[#This Row],[Next Calibration]]<$E$1,Table113[[#This Row],[Disposition]]=\"Lost\"),\"Find and Calibrate\",IF(Table113[[#This Row],[Disposition]]=\"Lost\",\"Find\",IF(OR(Table113[[#This Row],[Next Calibration]]<$E$1,Table113[[#This Row],[Next Calibration]]=\"NEVER CALIBRATED\"),\"Calibrate\",\"Nominal\"))))","v":""},{"$f":"IF(((Table113[[#This Row],[Next Calibration]]-TODAY())/30)>2,\"More Than 2\",IF(((Table113[[#This Row],[Next Calibration]]-TODAY())/30)>1,\"Between 2 and 1\",\"Less than 1\"))","v":{"$error":"#VALUE!"}},{"$f":"IF(Table113[[#This Row],[Issued]]=\"\",\"\",IF(Table113[[#This Row],[Lent]]=\"\",0,1))","v":""},{"$f":"IF(Table113[[#This Row],[Lent]]=\"\",\"\",IF(Table113[[#This Row],[Returned]]=\"\",0,1))","v":""}]
[{"$nulls":11},{"$f":"IF(IF(Table113[[#This Row],[Disposition]]=\"Retired\",\"N/A\",IF(Table113[[#This Row],[Disposition]]=0,\"\",K198+$F$2))=0+$F$2,\"NEVER CALIBRATED\",IF(Table113[[#This Row],[Disposition]]=\"Retired\",\"N/A\",IF(Table113[[#This Row],[Disposition]]=0,\"\",K198+$F$2)))","v":""},{"$f":"IF(Table113[[#This Row],[Disposition]]=\"\",\"\",IF(AND(Table113[[#This Row],[Next Calibration]]<$E$1,Table113[[#This Row],[Disposition]]=\"Lost\"),\"Find and Calibrate\",IF(Table113[[#This Row],[Disposition]]=\"Lost\",\"Find\",IF(OR(Table113[[#This Row],[Next Calibration]]<$E$1,Table113[[#This Row],[Next Calibration]]=\"NEVER CALIBRATED\"),\"Calibrate\",\"Nominal\"))))","v":""},{"$f":"IF(((Table113[[#This Row],[Next Calibration]]-TODAY())/30)>2,\"More Than 2\",IF(((Table113[[#This Row],[Next Calibration]]-TODAY())/30)>1,\"Between 2 and 1\",\"Less than 1\"))","v":{"$error":"#VALUE!"}},{"$f":"IF(Table113[[#This Row],[Issued]]=\"\",\"\",IF(Table113[[#This Row],[Lent]]=\"\",0,1))","v":""},{"$f":"IF(Table113[[#This Row],[Lent]]=\"\",\"\",IF(Table113[[#This Row],[Returned]]=\"\",0,1))","v":""}]
[{"$nulls":11},{"$f":"IF(IF(Table113[[#This Row],[Disposition]]=\"Retired\",\"N/A\",IF(Table113[[#This Row],[Disposition]]=0,\"\",K199+$F$2))=0+$F$2,\"NEVER CALIBRATED\",IF(Table113[[#This Row],[Disposition]]=\"Retired\",\"N/A\",IF(Table113[[#This Row],[Disposition]]=0,\"\",K199+$F$2)))","v":""},{"$f":"IF(Table113[[#This Row],[Disposition]]=\"\",\"\",IF(AND(Table113[[#This Row],[Next Calibration]]<$E$1,Table113[[#This Row],[Disposition]]=\"Lost\"),\"Find and Calibrate\",IF(Table113[[#This Row],[Disposition]]=\"Lost\",\"Find\",IF(OR(Table113[[#This Row],[Next Calibration]]<$E$1,Table113[[#This Row],[Next Calibration]]=\"NEVER CALIBRATED\"),\"Calibrate\",\"Nominal\"))))","v":""},{"$f":"IF(((Table113[[#This Row],[Next Calibration]]-TODAY())/30)>2,\"More Than 2\",IF(((Table113[[#This Row],[Next Calibration]]-TODAY())/30)>1,\"Between 2 and 1\",\"Less than 1\"))","v":{"$error":"#VALUE!"}},{"$f":"IF(Table113[[#This Row],[Issued]]=\"\",\"\",IF(Table113[[#This Row],[Lent]]=\"\",0,1))","v":""},{"$f":"IF(Table113[[#This Row],[Lent]]=\"\",\"\",IF(Table113[[#This Row],[Returned]]=\"\",0,1))","v":""}]
[{"$nulls":11},{"$f":"IF(IF(Table113[[#This Row],[Disposition]]=\"Retired\",\"N/A\",IF(Table113[[#This Row],[Disposition]]=0,\"\",K200+$F$2))=0+$F$2,\"NEVER CALIBRATED\",IF(Table113[[#This Row],[Disposition]]=\"Retired\",\"N/A\",IF(Table113[[#This Row],[Disposition]]=0,\"\",K200+$F$2)))","v":""},{"$f":"IF(Table113[[#This Row],[Disposition]]=\"\",\"\",IF(AND(Table113[[#This Row],[Next Calibration]]<$E$1,Table113[[#This Row],[Disposition]]=\"Lost\"),\"Find and Calibrate\",IF(Table113[[#This Row],[Disposition]]=\"Lost\",\"Find\",IF(OR(Table113[[#This Row],[Next Calibration]]<$E$1,Table113[[#This Row],[Next Calibration]]=\"NEVER CALIBRATED\"),\"Calibrate\",\"Nominal\"))))","v":""},{"$f":"IF(((Table113[[#This Row],[Next Calibration]]-TODAY())/30)>2,\"More Than 2\",IF(((Table113[[#This Row],[Next Calibration]]-TODAY())/30)>1,\"Between 2 and 1\",\"Less than 1\"))","v":{"$error":"#VALUE!"}},{"$f":"IF(Table113[[#This Row],[Issued]]=\"\",\"\",IF(Table113[[#This Row],[Lent]]=\"\",0,1))","v":""},{"$f":"IF(Table113[[#This Row],[Lent]]=\"\",\"\",IF(Table113[[#This Row],[Returned]]=\"\",0,1))","v":""}]
[{"$nulls":11},{"$f":"IF(IF(Table113[[#This Row],[Disposition]]=\"Retired\",\"N/A\",IF(Table113[[#This Row],[Disposition]]=0,\"\",K201+$F$2))=0+$F$2,\"NEVER CALIBRATED\",IF(Table113[[#This Row],[Disposition]]=\"Retired\",\"N/A\",IF(Table113[[#This Row],[Disposition]]=0,\"\",K201+$F$2)))","v":""},{"$f":"IF(Table113[[#This Row],[Disposition]]=\"\",\"\",IF(AND(Table113[[#This Row],[Next Calibration]]<$E$1,Table113[[#This Row],[Disposition]]=\"Lost\"),\"Find and Calibrate\",IF(Table113[[#This Row],[Disposition]]=\"Lost\",\"Find\",IF(OR(Table113[[#This Row],[Next Calibration]]<$E$1,Table113[[#This Row],[Next Calibration]]=\"NEVER CALIBRATED\"),\"Calibrate\",\"Nominal\"))))","v":""},{"$f":"IF(((Table113[[#This Row],[Next Calibration]]-TODAY())/30)>2,\"More Than 2\",IF(((Table113[[#This Row],[Next Calibration]]-TODAY())/30)>1,\"Between 2 and 1\",\"Less than 1\"))","v":{"$error":"#VALUE!"}},{"$f":"IF(Table113[[#This Row],[Issued]]=\"\",\"\",IF(Table113[[#This Row],[Lent]]=\"\",0,1))","v":""},{"$f":"IF(Table113[[#This Row],[Lent]]=\"\",\"\",IF(Table113[[#This Row],[Returned]]=\"\",0,1))","v":""}]
[{"$nulls":11},{"$f":"IF(IF(Table113[[#This Row],[Disposition]]=\"Retired\",\"N/A\",IF(Table113[[#This Row],[Disposition]]=0,\"\",K202+$F$2))=0+$F$2,\"NEVER CALIBRATED\",IF(Table113[[#This Row],[Disposition]]=\"Retired\",\"N/A\",IF(Table113[[#This Row],[Disposition]]=0,\"\",K202+$F$2)))","v":""},{"$f":"IF(Table113[[#This Row],[Disposition]]=\"\",\"\",IF(AND(Table113[[#This Row],[Next Calibration]]<$E$1,Table113[[#This Row],[Disposition]]=\"Lost\"),\"Find and Calibrate\",IF(Table113[[#This Row],[Disposition]]=\"Lost\",\"Find\",IF(OR(Table113[[#This Row],[Next Calibration]]<$E$1,Table113[[#This Row],[Next Calibration]]=\"NEVER CALIBRATED\"),\"Calibrate\",\"Nominal\"))))","v":""},{"$f":"IF(((Table113[[#This Row],[Next Calibration]]-TODAY())/30)>2,\"More Than 2\",IF(((Table113[[#This Row],[Next Calibration]]-TODAY())/30)>1,\"Between 2 and 1\",\"Less than 1\"))","v":{"$error":"#VALUE!"}},{"$f":"IF(Table113[[#This Row],[Issued]]=\"\",\"\",IF(Table113[[#This Row],[Lent]]=\"\",0,1))","v":""},{"$f":"IF(Table113[[#This Row],[Lent]]=\"\",\"\",IF(Table113[[#This Row],[Returned]]=\"\",0,1))","v":""}]
[{"$nulls":11},{"$f":"IF(IF(Table113[[#This Row],[Disposition]]=\"Retired\",\"N/A\",IF(Table113[[#This Row],[Disposition]]=0,\"\",K203+$F$2))=0+$F$2,\"NEVER CALIBRATED\",IF(Table113[[#This Row],[Disposition]]=\"Retired\",\"N/A\",IF(Table113[[#This Row],[Disposition]]=0,\"\",K203+$F$2)))","v":""},{"$f":"IF(Table113[[#This Row],[Disposition]]=\"\",\"\",IF(AND(Table113[[#This Row],[Next Calibration]]<$E$1,Table113[[#This Row],[Disposition]]=\"Lost\"),\"Find and Calibrate\",IF(Table113[[#This Row],[Disposition]]=\"Lost\",\"Find\",IF(OR(Table113[[#This Row],[Next Calibration]]<$E$1,Table113[[#This Row],[Next Calibration]]=\"NEVER CALIBRATED\"),\"Calibrate\",\"Nominal\"))))","v":""},{"$f":"IF(((Table113[[#This Row],[Next Calibration]]-TODAY())/30)>2,\"More Than 2\",IF(((Table113[[#This Row],[Next Calibration]]-TODAY())/30)>1,\"Between 2 and 1\",\"Less than 1\"))","v":{"$error":"#VALUE!"}},{"$f":"IF(Table113[[#This Row],[Issued]]=\"\",\"\",IF(Table113[[#This Row],[Lent]]=\"\",0,1))","v":""},{"$f":"IF(Table113[[#This Row],[Lent]]=\"\",\"\",IF(Table113[[#This Row],[Returned]]=\"\",0,1))","v":""}]

{"sheet":"Refractometer","index":10,"n_rows":203,"n_cols":16,"rows_kept":203,"merged":[[0,0,1,2],[0,9,1,9],[0,10,0,11],[1,10,1,11],[3,0,4,0]]}
["Refractometer",null,null,"Date",{"$f":"TODAY()","v":"2021-04-27"},"Calibration Frequency (days)",{"$nulls":3},"Key","Personal Tool",null,"Adjustabe"]
[{"$nulls":3},"Time",{"$f":"NOW()","v":44313.375952546296},30,{"$nulls":4},"Attention",null,"DO NOT EDIT"]
[]
["Tool Modification"]
[]
[]
["Gauge #","Lent To","Shift","Work Area","Brand","Disposition","Personal (1/0)","Issued","Lent","Returned","Calibrated","Next Calibration","Action Required","count down","Lent (1/0)","Returned (1/0)"]
[{"$nulls":11},{"$f":"IF(IF(Table114[[#This Row],[Disposition]]=\"Retired\",\"N/A\",IF(Table114[[#This Row],[Disposition]]=0,\"\",K8+$F$2))=0+$F$2,\"NEVER CALIBRATED\",IF(Table114[[#This Row],[Disposition]]=\"Retired\",\"N/A\",IF(Table114[[#This Row],[Disposition]]=0,\"\",K8+$F$2)))","v":""},{"$f":"IF(Table114[[#This Row],[Disposition]]=\"\",\"\",IF(AND(Table114[[#This Row],[Next Calibration]]<$E$1,Table114[[#This Row],[Disposition]]=\"Lost\"),\"Find and Calibrate\",IF(Table114[[#This Row],[Disposition]]=\"Lost\",\"Find\",IF(OR(Table114[[#This Row],[Next Calibration]]<$E$1,Table114[[#This Row],[Next Calibration]]=\"NEVER CALIBRATED\"),\"Calibrate\",\"Nominal\"))))","v":""},{"$f":"IF(((Table114[[#This Row],[Next Calibration]]-TODAY())/30)>2,\"More Than 2\",IF(((Table114[[#This Row],[Next Calibration]]-TODAY())/30)>1,\"Between 2 and 1\",\"Less than 1\"))","v":{"$error":"#VALUE!"}},{"$f":"IF(Table114[[#This Row],[Issued]]=\"\",\"\",IF(Table114[[#This Row],[Lent]]=\"\",0,1))","v":""},{"$f":"IF(Table114[[#This Row],[Lent]]=\"\",\"\",IF(Table114[[#This Row],[Returned]]=\"\",0,1))","v":""}]
[{"$nulls":11},{"$f":"IF(IF(Table114[[#This Row],[Disposition]]=\"Retired\",\"N/A\",IF(Table114[[#This Row],[Disposition]]=0,\"\",K9+$F$2))=0+$F$2,\"NEVER CALIBRATED\",IF(Table114[[#This Row],[Disposition]]=\"Retired\",\"N/A\",IF(Table114[[#This Row],[Disposition]]=0,\"\",K9+$F$2)))","v":""},{"$f":"IF(Table114[[#This Row],[Disposition]]=\"\",\"\",IF(AND(Table114[[#This Row],[Next Calibration]]<$E$1,Table114[[#This Row],[Disposition]]=\"Lost\"),\"Find and Calibrate\",IF(Table114[[#This Row],[Disposition]]=\"Lost\",\"Find\",IF(OR(Table114[[#This Row],[Next Calibration]]<$E$1,Table114[[#This Row],[Next Calibration]]=\"NEVER CALIBRATED\"),\"Calibrate\",\"Nominal\"))))","v":""},{"$f":"IF(((Table114[[#This Row],[Next Calibration]]-TODAY())/30)>2,\"More Than 2\",IF(((Table114[[#This Row],[Next Calibration]]-TODAY())/30)>1,\"Between 2 and 1\",\"Less than 1\"))","v":{"$error":"#VALUE!"}},{"$f":"IF(Table114[[#This Row],[Issued]]=\"\",\"\",IF(Table114[[#This Row],[Lent]]=\"\",0,1))","v":""},{"$f":"IF(Table114[[#This Row],[Lent]]=\"\",\"\",IF(Table114[[#This Row],[Returned]]=\"\",0,1))","v":""}]
[{"$nulls":11},{"$f":"IF(IF(Table114[[#This Row],[Disposition]]=\"Retired\",\"N/A\",IF(Table114[[#This Row],[Disposition]]=0,\"\",K10+$F$2))=0+$F$2,\"NEVER CALIBRATED\",IF(Table114[[#This Row],[Disposition]]=\"Retired\",\"N/A\",IF(Table114[[#This Row],[Disposition]]=0,\"\",K10+$F$2)))","v":""},{"$f":"IF(Table114[[#This Row],[Disposition]]=\"\",\"\",IF(AND(Table114[[#This Row],[Next Calibration]]<$E$1,Table114[[#This Row],[Disposition]]=\"Lost\"),\"Find and Calibrate\",IF(Table114[[#This Row],[Disposition]]=\"Lost\",\"Find\",IF(OR(Table114[[#This Row],[Next Calibration]]<$E$1,Table114[[#This Row],[Next Calibration]]=\"NEVER CALIBRATED\"),\"Calibrate\",\"Nominal\"))))","v":""},{"$f":"IF(((Table114[[#This Row],[Next Calibration]]-TODAY())/30)>2,\"More Than 2\",IF(((Table114[[#This Row],[Next Calibration]]-TODAY())/30)>1,\"Between 2 and 1\",\"Less than 1\"))","v":{"$error":"#VALUE!"}},{"$f":"IF(Table114[[#This Row],[Issued]]=\"\",\"\",IF(Table114[[#This Row],[Lent]]=\"\",0,1))","v":""},{"$f":"IF(Table114[[#This Row],[Lent]]=\"\",\"\",IF(Table114[[#This Row],[Returned]]=\"\",0,1))","v":""}]
[{"$nulls":11},{"$f":"IF(IF(Table114[[#This Row],[Disposition]]=\"Retired\",\"N/A\",IF(Table114[[#This Row],[Disposition]]=0,\"\",K11+$F$2))=0+$F$2,\"NEVER CALIBRATED\",IF(Table114[[#This Row],[Disposition]]=\"Retired\",\"N/A\",IF(Table114[[#This Row],[Disposition]]=0,\"\",K11+$F$2)))","v":""},{"$f":"IF(Table114[[#This Row],[Disposition]]=\"\",\"\",IF(AND(Table114[[#This Row],[Next Calibration]]<$E$1,Table114[[#This Row],[Disposition]]=\"Lost\"),\"Find and Calibrate\",IF(Table114[[#This Row],[Disposition]]=\"Lost\",\"Find\",IF(OR(Table114[[#This Row],[Next Calibration]]<$E$1,Table114[[#This Row],[Next Calibration]]=\"NEVER CALIBRATED\"),\"Calibrate\",\"Nominal\"))))","v":""},{"$f":"IF(((Table114[[#This Row],[Next Calibration]]-TODAY())/30)>2,\"More Than 2\",IF(((Table114[[#This Row],[Next Calibration]]-TODAY())/30)>1,\"Between 2 and 1\",\"Less than 1\"))","v":{"$error":"#VALUE!"}},{"$f":"IF(Table114[[#This Row],[Issued]]=\"\",\"\",IF(Table114[[#This Row],[Lent]]=\"\",0,1))","v":""},{"$f":"IF(Table114[[#This Row],[Lent]]=\"\",\"\",IF(Table114[[#This Row],[Returned]]=\"\",0,1))","v":""}]
[{"$nulls":11},{"$f":"IF(IF(Table114[[#This Row],[Disposition]]=\"Retired\",\"N/A\",IF(Table114[[#This Row],[Disposition]]=0,\"\",K12+$F$2))=0+$F$2,\"NEVER CALIBRATED\",IF(Table114[[#This Row],[Disposition]]=\"Retired\",\"N/A\",IF(Table114[[#This Row],[Disposition]]=0,\"\",K12+$F$2)))","v":""},{"$f":"IF(Table114[[#This Row],[Disposition]]=\"\",\"\",IF(AND(Table114[[#This Row],[Next Calibration]]<$E$1,Table114[[#This Row],[Disposition]]=\"Lost\"),\"Find and Calibrate\",IF(Table114[[#This Row],[Disposition]]=\"Lost\",\"Find\",IF(OR(Table114[[#This Row],[Next Calibration]]<$E$1,Table114[[#This Row],[Next Calibration]]=\"NEVER CALIBRATED\"),\"Calibrate\",\"Nominal\"))))","v":""},{"$f":"IF(((Table114[[#This Row],[Next Calibration]]-TODAY())/30)>2,\"More Than 2\",IF(((Table114[[#This Row],[Next Calibration]]-TODAY())/30)>1,\"Between 2 and 1\",\"Less than 1\"))","v":{"$error":"#VALUE!"}},{"$f":"IF(Table114[[#This Row],[Issued]]=\"\",\"\",IF(Table114[[#This Row],[Lent]]=\"\",0,1))","v":""},{"$f":"IF(Table114[[#This Row],[Lent]]=\"\",\"\",IF(Table114[[#This Row],[Returned]]=\"\",0,1))","v":""}]
[{"$nulls":11},{"$f":"IF(IF(Table114[[#This Row],[Disposition]]=\"Retired\",\"N/A\",IF(Table114[[#This Row],[Disposition]]=0,\"\",K13+$F$2))=0+$F$2,\"NEVER CALIBRATED\",IF(Table114[[#This Row],[Disposition]]=\"Retired\",\"N/A\",IF(Table114[[#This Row],[Disposition]]=0,\"\",K13+$F$2)))","v":""},{"$f":"IF(Table114[[#This Row],[Disposition]]=\"\",\"\",IF(AND(Table114[[#This Row],[Next Calibration]]<$E$1,Table114[[#This Row],[Disposition]]=\"Lost\"),\"Find and Calibrate\",IF(Table114[[#This Row],[Disposition]]=\"Lost\",\"Find\",IF(OR(Table114[[#This Row],[Next Calibration]]<$E$1,Table114[[#This Row],[Next Calibration]]=\"NEVER CALIBRATED\"),\"Calibrate\",\"Nominal\"))))","v":""},{"$f":"IF(((Table114[[#This Row],[Next Calibration]]-TODAY())/30)>2,\"More Than 2\",IF(((Table114[[#This Row],[Next Calibration]]-TODAY())/30)>1,\"Between 2 and 1\",\"Less than 1\"))","v":{"$error":"#VALUE!"}},{"$f":"IF(Table114[[#This Row],[Issued]]=\"\",\"\",IF(Table114[[#This Row],[Lent]]=\"\",0,1))","v":""},{"$f":"IF(Table114[[#This Row],[Lent]]=\"\",\"\",IF(Table114[[#This Row],[Returned]]=\"\",0,1))","v":""}]
[{"$nulls":11},{"$f":"IF(IF(Table114[[#This Row],[Disposition]]=\"Retired\",\"N/A\",IF(Table114[[#This Row],[Disposition]]=0,\"\",K14+$F$2))=0+$F$2,\"NEVER CALIBRATED\",IF(Table114[[#This Row],[Disposition]]=\"Retired\",\"N/A\",IF(Table114[[#This Row],[Disposition]]=0,\"\",K14+$F$2)))","v":""},{"$f":"IF(Table114[[#This Row],[Disposition]]=\"\",\"\",IF(AND(Table114[[#This Row],[Next Calibration]]<$E$1,Table114[[#This Row],[Disposition]]=\"Lost\"),\"Find and Calibrate\",IF(Table114[[#This Row],[Disposition]]=\"Lost\",\"Find\",IF(OR(Table114[[#This Row],[Next Calibration]]<$E$1,Table114[[#This Row],[Next Calibration]]=\"NEVER CALIBRATED\"),\"Calibrate\",\"Nominal\"))))","v":""},{"$f":"IF(((Table114[[#This Row],[Next Calibration]]-TODAY())/30)>2,\"More Than 2\",IF(((Table114[[#This Row],[Next Calibration]]-TODAY())/30)>1,\"Between 2 and 1\",\"Less than 1\"))","v":{"$error":"#VALUE!"}},{"$f":"IF(Table114[[#This Row],[Issued]]=\"\",\"\",IF(Table114[[#This Row],[Lent]]=\"\",0,1))","v":""},{"$f":"IF(Table114[[#This Row],[Lent]]=\"\",\"\",IF(Table114[[#This Row],[Returned]]=\"\",0,1))","v":""}]
[{"$nulls":11},{"$f":"IF(IF(Table114[[#This Row],[Disposition]]=\"Retired\",\"N/A\",IF(Table114[[#This Row],[Disposition]]=0,\"\",K15+$F$2))=0+$F$2,\"NEVER CALIBRATED\",IF(Table114[[#This Row],[Disposition]]=\"Retired\",\"N/A\",IF(Table114[[#This Row],[Disposition]]=0,\"\",K15+$F$2)))","v":""},{"$f":"IF(Table114[[#This Row],[Disposition]]=\"\",\"\",IF(AND(Table114[[#This Row],[Next Calibration]]<$E$1,Table114[[#This Row],[Disposition]]=\"Lost\"),\"Find and Calibrate\",IF(Table114[[#This Row],[Disposition]]=\"Lost\",\"Find\",IF(OR(Table114[[#This Row],[Next Calibration]]<$E$1,Table114[[#This Row],[Next Calibration]]=\"NEVER CALIBRATED\"),\"Calibrate\",\"Nominal\"))))","v":""},{"$f":"IF(((Table114[[#This Row],[Next Calibration]]-TODAY())/30)>2,\"More Than 2\",IF(((Table114[[#This Row],[Next Calibration]]-TODAY())/30)>1,\"Between 2 and 1\",\"Less than 1\"))","v":{"$error":"#VALUE!"}},{"$f":"IF(Table114[[#This Row],[Issued]]=\"\",\"\",IF(Table114[[#This Row],[Lent]]=\"\",0,1))","v":""},{"$f":"IF(Table114[[#This Row],[Lent]]=\"\",\"\",IF(Table114[[#This Row],[Returned]]=\"\",0,1))","v":""}]
[{"$nulls":11},{"$f":"IF(IF(Table114[[#This Row],[Disposition]]=\"Retired\",\"N/A\",IF(Table114[[#This Row],[Disposition]]=0,\"\",K16+$F$2))=0+$F$2,\"NEVER CALIBRATED\",IF(Table114[[#This Row],[Disposition]]=\"Retired\",\"N/A\",IF(Table114[[#This Row],[Disposition]]=0,\"\",K16+$F$2)))","v":""},{"$f":"IF(Table114[[#This Row],[Disposition]]=\"\",\"\",IF(AND(Table114[[#This Row],[Next Calibration]]<$E$1,Table114[[#This Row],[Disposition]]=\"Lost\"),\"Find and Calibrate\",IF(Table114[[#This Row],[Disposition]]=\"Lost\",\"Find\",IF(OR(Table114[[#This Row],[Next Calibration]]<$E$1,Table114[[#This Row],[Next Calibration]]=\"NEVER CALIBRATED\"),\"Calibrate\",\"Nominal\"))))","v":""},{"$f":"IF(((Table114[[#This Row],[Next Calibration]]-TODAY())/30)>2,\"More Than 2\",IF(((Table114[[#This Row],[Next Calibration]]-TODAY())/30)>1,\"Between 2 and 1\",\"Less than 1\"))","v":{"$error":"#VALUE!"}},{"$f":"IF(Table114[[#This Row],[Issued]]=\"\",\"\",IF(Table114[[#This Row],[Lent]]=\"\",0,1))","v":""},{"$f":"IF(Table114[[#This Row],[Lent]]=\"\",\"\",IF(Table114[[#This Row],[Returned]]=\"\",0,1))","v":""}]
[{"$nulls":11},{"$f":"IF(IF(Table114[[#This Row],[Disposition]]=\"Retired\",\"N/A\",IF(Table114[[#This Row],[Disposition]]=0,\"\",K17+$F$2))=0+$F$2,\"NEVER CALIBRATED\",IF(Table114[[#This Row],[Disposition]]=\"Retired\",\"N/A\",IF(Table114[[#This Row],[Disposition]]=0,\"\",K17+$F$2)))","v":""},{"$f":"IF(Table114[[#This Row],[Disposition]]=\"\",\"\",IF(AND(Table114[[#This Row],[Next Calibration]]<$E$1,Table114[[#This Row],[Disposition]]=\"Lost\"),\"Find and Calibrate\",IF(Table114[[#This Row],[Disposition]]=\"Lost\",\"Find\",IF(OR(Table114[[#This Row],[Next Calibration]]<$E$1,Table114[[#This Row],[Next Calibration]]=\"NEVER CALIBRATED\"),\"Calibrate\",\"Nominal\"))))","v":""},{"$f":"IF(((Table114[[#This Row],[Next Calibration]]-TODAY())/30)>2,\"More Than 2\",IF(((Table114[[#This Row],[Next Calibration]]-TODAY())/30)>1,\"Between 2 and 1\",\"Less than 1\"))","v":{"$error":"#VALUE!"}},{"$f":"IF(Table114[[#This Row],[Issued]]=\"\",\"\",IF(Table114[[#This Row],[Lent]]=\"\",0,1))","v":""},{"$f":"IF(Table114[[#This Row],[Lent]]=\"\",\"\",IF(Table114[[#This Row],[Returned]]=\"\",0,1))","v":""}]
[{"$nulls":11},{"$f":"IF(IF(Table114[[#This Row],[Disposition]]=\"Retired\",\"N/A\",IF(Table114[[#This Row],[Disposition]]=0,\"\",K18+$F$2))=0+$F$2,\"NEVER CALIBRATED\",IF(Table114[[#This Row],[Disposition]]=\"Retired\",\"N/A\",IF(Table114[[#This Row],[Disposition]]=0,\"\",K18+$F$2)))","v":""},{"$f":"IF(Table114[[#This Row],[Disposition]]=\"\",\"\",IF(AND(Table114[[#This Row],[Next Calibration]]<$E$1,Table114[[#This Row],[Disposition]]=\"Lost\"),\"Find and Calibrate\",IF(Table114[[#This Row],[Disposition]]=\"Lost\",\"Find\",IF(OR(Table114[[#This Row],[Next Calibration]]<$E$1,Table114[[#This Row],[Next Calibration]]=\"NEVER CALIBRATED\"),\"Calibrate\",\"Nominal\"))))","v":""},{"$f":"IF(((Table114[[#This Row],[Next Calibration]]-TODAY())/30)>2,\"More Than 2\",IF(((Table114[[#This Row],[Next Calibration]]-TODAY())/30)>1,\"Between 2 and 1\",\"Less than 1\"))","v":{"$error":"#VALUE!"}},{"$f":"IF(Table114[[#This Row],[Issued]]=\"\",\"\",IF(Table114[[#This Row],[Lent]]=\"\",0,1))","v":""},{"$f":"IF(Table114[[#This Row],[Lent]]=\"\",\"\",IF(Table114[[#This Row],[Returned]]=\"\",0,1))","v":""}]
[{"$nulls":11},{"$f":"IF(IF(Table114[[#This Row],[Disposition]]=\"Retired\",\"N/A\",IF(Table114[[#This Row],[Disposition]]=0,\"\",K19+$F$2))=0+$F$2,\"NEVER CALIBRATED\",IF(Table114[[#This Row],[Disposition]]=\"Retired\",\"N/A\",IF(Table114[[#This Row],[Disposition]]=0,\"\",K19+$F$2)))","v":""},{"$f":"IF(Table114[[#This Row],[Disposition]]=\"\",\"\",IF(AND(Table114[[#This Row],[Next Calibration]]<$E$1,Table114[[#This Row],[Disposition]]=\"Lost\"),\"Find and Calibrate\",IF(Table114[[#This Row],[Disposition]]=\"Lost\",\"Find\",IF(OR(Table114[[#This Row],[Next Calibration]]<$E$1,Table114[[#This Row],[Next Calibration]]=\"NEVER CALIBRATED\"),\"Calibrate\",\"Nominal\"))))","v":""},{"$f":"IF(((Table114[[#This Row],[Next Calibration]]-TODAY())/30)>2,\"More Than 2\",IF(((Table114[[#This Row],[Next Calibration]]-TODAY())/30)>1,\"Between 2 and 1\",\"Less than 1\"))","v":{"$error":"#VALUE!"}},{"$f":"IF(Table114[[#This Row],[Issued]]=\"\",\"\",IF(Table114[[#This Row],[Lent]]=\"\",0,1))","v":""},{"$f":"IF(Table114[[#This Row],[Lent]]=\"\",\"\",IF(Table114[[#This Row],[Returned]]=\"\",0,1))","v":""}]
[{"$nulls":11},{"$f":"IF(IF(Table114[[#This Row],[Disposition]]=\"Retired\",\"N/A\",IF(Table114[[#This Row],[Disposition]]=0,\"\",K20+$F$2))=0+$F$2,\"NEVER CALIBRATED\",IF(Table114[[#This Row],[Disposition]]=\"Retired\",\"N/A\",IF(Table114[[#This Row],[Disposition]]=0,\"\",K20+$F$2)))","v":""},{"$f":"IF(Table114[[#This Row],[Disposition]]=\"\",\"\",IF(AND(Table114[[#This Row],[Next Calibration]]<$E$1,Table114[[#This Row],[Disposition]]=\"Lost\"),\"Find and Calibrate\",IF(Table114[[#This Row],[Disposition]]=\"Lost\",\"Find\",IF(OR(Table114[[#This Row],[Next Calibration]]<$E$1,Table114[[#This Row],[Next Calibration]]=\"NEVER CALIBRATED\"),\"Calibrate\",\"Nominal\"))))","v":""},{"$f":"IF(((Table114[[#This Row],[Next Calibration]]-TODAY())/30)>2,\"More Than 2\",IF(((Table114[[#This Row],[Next Calibration]]-TODAY())/30)>1,\"Between 2 and 1\",\"Less than 1\"))","v":{"$error":"#VALUE!"}},{"$f":"IF(Table114[[#This Row],[Issued]]=\"\",\"\",IF(Table114[[#This Row],[Lent]]=\"\",0,1))","v":""},{"$f":"IF(Table114[[#This Row],[Lent]]=\"\",\"\",IF(Table114[[#This Row],[Returned]]=\"\",0,1))","v":""}]
[{"$nulls":11},{"$f":"IF(IF(Table114[[#This Row],[Disposition]]=\"Retired\",\"N/A\",IF(Table114[[#This Row],[Disposition]]=0,\"\",K21+$F$2))=0+$F$2,\"NEVER CALIBRATED\",IF(Table114[[#This Row],[Disposition]]=\"Retired\",\"N/A\",IF(Table114[[#This Row],[Disposition]]=0,\"\",K21+$F$2)))","v":""},{"$f":"IF(Table114[[#This Row],[Disposition]]=\"\",\"\",IF(AND(Table114[[#This Row],[Next Calibration]]<$E$1,Table114[[#This Row],[Disposition]]=\"Lost\"),\"Find and Calibrate\",IF(Table114[[#This Row],[Disposition]]=\"Lost\",\"Find\",IF(OR(Table114[[#This Row],[Next Calibration]]<$E$1,Table114[[#This Row],[Next Calibration]]=\"NEVER CALIBRATED\"),\"Calibrate\",\"Nominal\"))))","v":""},{"$f":"IF(((Table114[[#This Row],[Next Calibration]]-TODAY())/30)>2,\"More Than 2\",IF(((Table114[[#This Row],[Next Calibration]]-TODAY())/30)>1,\"Between 2 and 1\",\"Less than 1\"))","v":{"$error":"#VALUE!"}},{"$f":"IF(Table114[[#This Row],[Issued]]=\"\",\"\",IF(Table114[[#This Row],[Lent]]=\"\",0,1))","v":""},{"$f":"IF(Table114[[#This Row],[Lent]]=\"\",\"\",IF(Table114[[#This Row],[Returned]]=\"\",0,1))","v":""}]
[{"$nulls":11},{"$f":"IF(IF(Table114[[#This Row],[Disposition]]=\"Retired\",\"N/A\",IF(Table114[[#This Row],[Disposition]]=0,\"\",K22+$F$2))=0+$F$2,\"NEVER CALIBRATED\",IF(Table114[[#This Row],[Disposition]]=\"Retired\",\"N/A\",IF(Table114[[#This Row],[Disposition]]=0,\"\",K22+$F$2)))","v":""},{"$f":"IF(Table114[[#This Row],[Disposition]]=\"\",\"\",IF(AND(Table114[[#This Row],[Next Calibration]]<$E$1,Table114[[#This Row],[Disposition]]=\"Lost\"),\"Find and Calibrate\",IF(Table114[[#This Row],[Disposition]]=\"Lost\",\"Find\",IF(OR(Table114[[#This Row],[Next Calibration]]<$E$1,Table114[[#This Row],[Next Calibration]]=\"NEVER CALIBRATED\"),\"Calibrate\",\"Nominal\"))))","v":""},{"$f":"IF(((Table114[[#This Row],[Next Calibration]]-TODAY())/30)>2,\"More Than 2\",IF(((Table114[[#This Row],[Next Calibration]]-TODAY())/30)>1,\"Between 2 and 1\",\"Less than 1\"))","v":{"$error":"#VALUE!"}},{"$f":"IF(Table114[[#This Row],[Issued]]=\"\",\"\",IF(Table114[[#This Row],[Lent]]=\"\",0,1))","v":""},{"$f":"IF(Table114[[#This Row],[Lent]]=\"\",\"\",IF(Table114[[#This Row],[Returned]]=\"\",0,1))","v":""}]
[{"$nulls":11},{"$f":"IF(IF(Table114[[#This Row],[Disposition]]=\"Retired\",\"N/A\",IF(Table114[[#This Row],[Disposition]]=0,\"\",K23+$F$2))=0+$F$2,\"NEVER CALIBRATED\",IF(Table114[[#This Row],[Disposition]]=\"Retired\",\"N/A\",IF(Table114[[#This Row],[Disposition]]=0,\"\",K23+$F$2)))","v":""},{"$f":"IF(Table114[[#This Row],[Disposition]]=\"\",\"\",IF(AND(Table114[[#This Row],[Next Calibration]]<$E$1,Table114[[#This Row],[Disposition]]=\"Lost\"),\"Find and Calibrate\",IF(Table114[[#This Row],[Disposition]]=\"Lost\",\"Find\",IF(OR(Table114[[#This Row],[Next Calibration]]<$E$1,Table114[[#This Row],[Next Calibration]]=\"NEVER CALIBRATED\"),\"Calibrate\",\"Nominal\"))))","v":""},{"$f":"IF(((Table114[[#This Row],[Next Calibration]]-TODAY())/30)>2,\"More Than 2\",IF(((Table114[[#This Row],[Next Calibration]]-TODAY())/30)>1,\"Between 2 and 1\",\"Less than 1\"))","v":{"$error":"#VALUE!"}},{"$f":"IF(Table114[[#This Row],[Issued]]=\"\",\"\",IF(Table114[[#This Row],[Lent]]=\"\",0,1))","v":""},{"$f":"IF(Table114[[#This Row],[Lent]]=\"\",\"\",IF(Table114[[#This Row],[Returned]]=\"\",0,1))","v":""}]
[{"$nulls":11},{"$f":"IF(IF(Table114[[#This Row],[Disposition]]=\"Retired\",\"N/A\",IF(Table114[[#This Row],[Disposition]]=0,\"\",K24+$F$2))=0+$F$2,\"NEVER CALIBRATED\",IF(Table114[[#This Row],[Disposition]]=\"Retired\",\"N/A\",IF(Table114[[#This Row],[Disposition]]=0,\"\",K24+$F$2)))","v":""},{"$f":"IF(Table114[[#This Row],[Disposition]]=\"\",\"\",IF(AND(Table114[[#This Row],[Next Calibration]]<$E$1,Table114[[#This Row],[Disposition]]=\"Lost\"),\"Find and Calibrate\",IF(Table114[[#This Row],[Disposition]]=\"Lost\",\"Find\",IF(OR(Table114[[#This Row],[Next Calibration]]<$E$1,Table114[[#This Row],[Next Calibration]]=\"NEVER CALIBRATED\"),\"Calibrate\",\"Nominal\"))))","v":""},{"$f":"IF(((Table114[[#This Row],[Next Calibration]]-TODAY())/30)>2,\"More Than 2\",IF(((Table114[[#This Row],[Next Calibration]]-TODAY())/30)>1,\"Between 2 and 1\",\"Less than 1\"))","v":{"$error":"#VALUE!"}},{"$f":"IF(Table114[[#This Row],[Issued]]=\"\",\"\",IF(Table114[[#This Row],[Lent]]=\"\",0,1))","v":""},{"$f":"IF(Table114[[#This Row],[Lent]]=\"\",\"\",IF(Table114[[#This Row],[Returned]]=\"\",0,1))","v":""}]
[{"$nulls":11},{"$f":"IF(IF(Table114[[#This Row],[Disposition]]=\"Retired\",\"N/A\",IF(Table114[[#This Row],[Disposition]]=0,\"\",K25+$F$2))=0+$F$2,\"NEVER CALIBRATED\",IF(Table114[[#This Row],[Disposition]]=\"Retired\",\"N/A\",IF(Table114[[#This Row],[Disposition]]=0,\"\",K25+$F$2)))","v":""},{"$f":"IF(Table114[[#This Row],[Disposition]]=\"\",\"\",IF(AND(Table114[[#This Row],[Next Calibration]]<$E$1,Table114[[#This Row],[Disposition]]=\"Lost\"),\"Find and Calibrate\",IF(Table114[[#This Row],[Disposition]]=\"Lost\",\"Find\",IF(OR(Table114[[#This Row],[Next Calibration]]<$E$1,Table114[[#This Row],[Next Calibration]]=\"NEVER CALIBRATED\"),\"Calibrate\",\"Nominal\"))))","v":""},{"$f":"IF(((Table114[[#This Row],[Next Calibration]]-TODAY())/30)>2,\"More Than 2\",IF(((Table114[[#This Row],[Next Calibration]]-TODAY())/30)>1,\"Between 2 and 1\",\"Less than 1\"))","v":{"$error":"#VALUE!"}},{"$f":"IF(Table114[[#This Row],[Issued]]=\"\",\"\",IF(Table114[[#This Row],[Lent]]=\"\",0,1))","v":""},{"$f":"IF(Table114[[#This Row],[Lent]]=\"\",\"\",IF(Table114[[#This Row],[Returned]]=\"\",0,1))","v":""}]
[{"$nulls":11},{"$f":"IF(IF(Table114[[#This Row],[Disposition]]=\"Retired\",\"N/A\",IF(Table114[[#This Row],[Disposition]]=0,\"\",K26+$F$2))=0+$F$2,\"NEVER CALIBRATED\",IF(Table114[[#This Row],[Disposition]]=\"Retired\",\"N/A\",IF(Table114[[#This Row],[Disposition]]=0,\"\",K26+$F$2)))","v":""},{"$f":"IF(Table114[[#This Row],[Disposition]]=\"\",\"\",IF(AND(Table114[[#This Row],[Next Calibration]]<$E$1,Table114[[#This Row],[Disposition]]=\"Lost\"),\"Find and Calibrate\",IF(Table114[[#This Row],[Disposition]]=\"Lost\",\"Find\",IF(OR(Table114[[#This Row],[Next Calibration]]<$E$1,Table114[[#This Row],[Next Calibration]]=\"NEVER CALIBRATED\"),\"Calibrate\",\"Nominal\"))))","v":""},{"$f":"IF(((Table114[[#This Row],[Next Calibration]]-TODAY())/30)>2,\"More Than 2\",IF(((Table114[[#This Row],[Next Calibration]]-TODAY())/30)>1,\"Between 2 and 1\",\"Less than 1\"))","v":{"$error":"#VALUE!"}},{"$f":"IF(Table114[[#This Row],[Issued]]=\"\",\"\",IF(Table114[[#This Row],[Lent]]=\"\",0,1))","v":""},{"$f":"IF(Table114[[#This Row],[Lent]]=\"\",\"\",IF(Table114[[#This Row],[Returned]]=\"\",0,1))","v":""}]
[{"$nulls":11},{"$f":"IF(IF(Table114[[#This Row],[Disposition]]=\"Retired\",\"N/A\",IF(Table114[[#This Row],[Disposition]]=0,\"\",K27+$F$2))=0+$F$2,\"NEVER CALIBRATED\",IF(Table114[[#This Row],[Disposition]]=\"Retired\",\"N/A\",IF(Table114[[#This Row],[Disposition]]=0,\"\",K27+$F$2)))","v":""},{"$f":"IF(Table114[[#This Row],[Disposition]]=\"\",\"\",IF(AND(Table114[[#This Row],[Next Calibration]]<$E$1,Table114[[#This Row],[Disposition]]=\"Lost\"),\"Find and Calibrate\",IF(Table114[[#This Row],[Disposition]]=\"Lost\",\"Find\",IF(OR(Table114[[#This Row],[Next Calibration]]<$E$1,Table114[[#This Row],[Next Calibration]]=\"NEVER CALIBRATED\"),\"Calibrate\",\"Nominal\"))))","v":""},{"$f":"IF(((Table114[[#This Row],[Next Calibration]]-TODAY())/30)>2,\"More Than 2\",IF(((Table114[[#This Row],[Next Calibration]]-TODAY())/30)>1,\"Between 2 and 1\",\"Less than 1\"))","v":{"$error":"#VALUE!"}},{"$f":"IF(Table114[[#This Row],[Issued]]=\"\",\"\",IF(Table114[[#This Row],[Lent]]=\"\",0,1))","v":""},{"$f":"IF(Table114[[#This Row],[Lent]]=\"\",\"\",IF(Table114[[#This Row],[Returned]]=\"\",0,1))","v":""}]
[{"$nulls":11},{"$f":"IF(IF(Table114[[#This Row],[Disposition]]=\"Retired\",\"N/A\",IF(Table114[[#This Row],[Disposition]]=0,\"\",K28+$F$2))=0+$F$2,\"NEVER CALIBRATED\",IF(Table114[[#This Row],[Disposition]]=\"Retired\",\"N/A\",IF(Table114[[#This Row],[Disposition]]=0,\"\",K28+$F$2)))","v":""},{"$f":"IF(Table114[[#This Row],[Disposition]]=\"\",\"\",IF(AND(Table114[[#This Row],[Next Calibration]]<$E$1,Table114[[#This Row],[Disposition]]=\"Lost\"),\"Find and Calibrate\",IF(Table114[[#This Row],[Disposition]]=\"Lost\",\"Find\",IF(OR(Table114[[#This Row],[Next Calibration]]<$E$1,Table114[[#This Row],[Next Calibration]]=\"NEVER CALIBRATED\"),\"Calibrate\",\"Nominal\"))))","v":""},{"$f":"IF(((Table114[[#This Row],[Next Calibration]]-TODAY())/30)>2,\"More Than 2\",IF(((Table114[[#This Row],[Next Calibration]]-TODAY())/30)>1,\"Between 2 and 1\",\"Less than 1\"))","v":{"$error":"#VALUE!"}},{"$f":"IF(Table114[[#This Row],[Issued]]=\"\",\"\",IF(Table114[[#This Row],[Lent]]=\"\",0,1))","v":""},{"$f":"IF(Table114[[#This Row],[Lent]]=\"\",\"\",IF(Table114[[#This Row],[Returned]]=\"\",0,1))","v":""}]
[{"$nulls":11},{"$f":"IF(IF(Table114[[#This Row],[Disposition]]=\"Retired\",\"N/A\",IF(Table114[[#This Row],[Disposition]]=0,\"\",K29+$F$2))=0+$F$2,\"NEVER CALIBRATED\",IF(Table114[[#This Row],[Disposition]]=\"Retired\",\"N/A\",IF(Table114[[#This Row],[Disposition]]=0,\"\",K29+$F$2)))","v":""},{"$f":"IF(Table114[[#This Row],[Disposition]]=\"\",\"\",IF(AND(Table114[[#This Row],[Next Calibration]]<$E$1,Table114[[#This Row],[Disposition]]=\"Lost\"),\"Find and Calibrate\",IF(Table114[[#This Row],[Disposition]]=\"Lost\",\"Find\",IF(OR(Table114[[#This Row],[Next Calibration]]<$E$1,Table114[[#This Row],[Next Calibration]]=\"NEVER CALIBRATED\"),\"Calibrate\",\"Nominal\"))))","v":""},{"$f":"IF(((Table114[[#This Row],[Next Calibration]]-TODAY())/30)>2,\"More Than 2\",IF(((Table114[[#This Row],[Next Calibration]]-TODAY())/30)>1,\"Between 2 and 1\",\"Less than 1\"))","v":{"$error":"#VALUE!"}},{"$f":"IF(Table114[[#This Row],[Issued]]=\"\",\"\",IF(Table114[[#This Row],[Lent]]=\"\",0,1))","v":""},{"$f":"IF(Table114[[#This Row],[Lent]]=\"\",\"\",IF(Table114[[#This Row],[Returned]]=\"\",0,1))","v":""}]
[{"$nulls":11},{"$f":"IF(IF(Table114[[#This Row],[Disposition]]=\"Retired\",\"N/A\",IF(Table114[[#This Row],[Disposition]]=0,\"\",K30+$F$2))=0+$F$2,\"NEVER CALIBRATED\",IF(Table114[[#This Row],[Disposition]]=\"Retired\",\"N/A\",IF(Table114[[#This Row],[Disposition]]=0,\"\",K30+$F$2)))","v":""},{"$f":"IF(Table114[[#This Row],[Disposition]]=\"\",\"\",IF(AND(Table114[[#This Row],[Next Calibration]]<$E$1,Table114[[#This Row],[Disposition]]=\"Lost\"),\"Find and Calibrate\",IF(Table114[[#This Row],[Disposition]]=\"Lost\",\"Find\",IF(OR(Table114[[#This Row],[Next Calibration]]<$E$1,Table114[[#This Row],[Next Calibration]]=\"NEVER CALIBRATED\"),\"Calibrate\",\"Nominal\"))))","v":""},{"$f":"IF(((Table114[[#This Row],[Next Calibration]]-TODAY())/30)>2,\"More Than 2\",IF(((Table114[[#This Row],[Next Calibration]]-TODAY())/30)>1,\"Between 2 and 1\",\"Less than 1\"))","v":{"$error":"#VALUE!"}},{"$f":"IF(Table114[[#This Row],[Issued]]=\"\",\"\",IF(Table114[[#This Row],[Lent]]=\"\",0,1))","v":""},{"$f":"IF(Table114[[#This Row],[Lent]]=\"\",\"\",IF(Table114[[#This Row],[Returned]]=\"\",0,1))","v":""}]
[{"$nulls":11},{"$f":"IF(IF(Table114[[#This Row],[Disposition]]=\"Retired\",\"N/A\",IF(Table114[[#This Row],[Disposition]]=0,\"\",K31+$F$2))=0+$F$2,\"NEVER CALIBRATED\",IF(Table114[[#This Row],[Disposition]]=\"Retired\",\"N/A\",IF(Table114[[#This Row],[Disposition]]=0,\"\",K31+$F$2)))","v":""},{"$f":"IF(Table114[[#This Row],[Disposition]]=\"\",\"\",IF(AND(Table114[[#This Row],[Next Calibration]]<$E$1,Table114[[#This Row],[Disposition]]=\"Lost\"),\"Find and Calibrate\",IF(Table114[[#This Row],[Disposition]]=\"Lost\",\"Find\",IF(OR(Table114[[#This Row],[Next Calibration]]<$E$1,Table114[[#This Row],[Next Calibration]]=\"NEVER CALIBRATED\"),\"Calibrate\",\"Nominal\"))))","v":""},{"$f":"IF(((Table114[[#This Row],[Next Calibration]]-TODAY())/30)>2,\"More Than 2\",IF(((Table114[[#This Row],[Next Calibration]]-TODAY())/30)>1,\"Between 2 and 1\",\"Less than 1\"))","v":{"$error":"#VALUE!"}},{"$f":"IF(Table114[[#This Row],[Issued]]=\"\",\"\",IF(Table114[[#This Row],[Lent]]=\"\",0,1))","v":""},{"$f":"IF(Table114[[#This Row],[Lent]]=\"\",\"\",IF(Table114[[#This Row],[Returned]]=\"\",0,1))","v":""}]
[{"$nulls":11},{"$f":"IF(IF(Table114[[#This Row],[Disposition]]=\"Retired\",\"N/A\",IF(Table114[[#This Row],[Disposition]]=0,\"\",K32+$F$2))=0+$F$2,\"NEVER CALIBRATED\",IF(Table114[[#This Row],[Disposition]]=\"Retired\",\"N/A\",IF(Table114[[#This Row],[Disposition]]=0,\"\",K32+$F$2)))","v":""},{"$f":"IF(Table114[[#This Row],[Disposition]]=\"\",\"\",IF(AND(Table114[[#This Row],[Next Calibration]]<$E$1,Table114[[#This Row],[Disposition]]=\"Lost\"),\"Find and Calibrate\",IF(Table114[[#This Row],[Disposition]]=\"Lost\",\"Find\",IF(OR(Table114[[#This Row],[Next Calibration]]<$E$1,Table114[[#This Row],[Next Calibration]]=\"NEVER CALIBRATED\"),\"Calibrate\",\"Nominal\"))))","v":""},{"$f":"IF(((Table114[[#This Row],[Next Calibration]]-TODAY())/30)>2,\"More Than 2\",IF(((Table114[[#This Row],[Next Calibration]]-TODAY())/30)>1,\"Between 2 and 1\",\"Less than 1\"))","v":{"$error":"#VALUE!"}},{"$f":"IF(Table114[[#This Row],[Issued]]=\"\",\"\",IF(Table114[[#This Row],[Lent]]=\"\",0,1))","v":""},{"$f":"IF(Table114[[#This Row],[Lent]]=\"\",\"\",IF(Table114[[#This Row],[Returned]]=\"\",0,1))","v":""}]
[{"$nulls":11},{"$f":"IF(IF(Table114[[#This Row],[Disposition]]=\"Retired\",\"N/A\",IF(Table114[[#This Row],[Disposition]]=0,\"\",K33+$F$2))=0+$F$2,\"NEVER CALIBRATED\",IF(Table114[[#This Row],[Disposition]]=\"Retired\",\"N/A\",IF(Table114[[#This Row],[Disposition]]=0,\"\",K33+$F$2)))","v":""},{"$f":"IF(Table114[[#This Row],[Disposition]]=\"\",\"\",IF(AND(Table114[[#This Row],[Next Calibration]]<$E$1,Table114[[#This Row],[Disposition]]=\"Lost\"),\"Find and Calibrate\",IF(Table114[[#This Row],[Disposition]]=\"Lost\",\"Find\",IF(OR(Table114[[#This Row],[Next Calibration]]<$E$1,Table114[[#This Row],[Next Calibration]]=\"NEVER CALIBRATED\"),\"Calibrate\",\"Nominal\"))))","v":""},{"$f":"IF(((Table114[[#This Row],[Next Calibration]]-TODAY())/30)>2,\"More Than 2\",IF(((Table114[[#This Row],[Next Calibration]]-TODAY())/30)>1,\"Between 2 and 1\",\"Less than 1\"))","v":{"$error":"#VALUE!"}},{"$f":"IF(Table114[[#This Row],[Issued]]=\"\",\"\",IF(Table114[[#This Row],[Lent]]=\"\",0,1))","v":""},{"$f":"IF(Table114[[#This Row],[Lent]]=\"\",\"\",IF(Table114[[#This Row],[Returned]]=\"\",0,1))","v":""}]
[{"$nulls":11},{"$f":"IF(IF(Table114[[#This Row],[Disposition]]=\"Retired\",\"N/A\",IF(Table114[[#This Row],[Disposition]]=0,\"\",K34+$F$2))=0+$F$2,\"NEVER CALIBRATED\",IF(Table114[[#This Row],[Disposition]]=\"Retired\",\"N/A\",IF(Table114[[#This Row],[Disposition]]=0,\"\",K34+$F$2)))","v":""},{"$f":"IF(Table114[[#This Row],[Disposition]]=\"\",\"\",IF(AND(Table114[[#This Row],[Next Calibration]]<$E$1,Table114[[#This Row],[Disposition]]=\"Lost\"),\"Find and Calibrate\",IF(Table114[[#This Row],[Disposition]]=\"Lost\",\"Find\",IF(OR(Table114[[#This Row],[Next Calibration]]<$E$1,Table114[[#This Row],[Next Calibration]]=\"NEVER CALIBRATED\"),\"Calibrate\",\"Nominal\"))))","v":""},{"$f":"IF(((Table114[[#This Row],[Next Calibration]]-TODAY())/30)>2,\"More Than 2\",IF(((Table114[[#This Row],[Next Calibration]]-TODAY())/30)>1,\"Between 2 and 1\",\"Less than 1\"))","v":{"$error":"#VALUE!"}},{"$f":"IF(Table114[[#This Row],[Issued]]=\"\",\"\",IF(Table114[[#This Row],[Lent]]=\"\",0,1))","v":""},{"$f":"IF(Table114[[#This Row],[Lent]]=\"\",\"\",IF(Table114[[#This Row],[Returned]]=\"\",0,1))","v":""}]
[{"$nulls":11},{"$f":"IF(IF(Table114[[#This Row],[Disposition]]=\"Retired\",\"N/A\",IF(Table114[[#This Row],[Disposition]]=0,\"\",K35+$F$2))=0+$F$2,\"NEVER CALIBRATED\",IF(Table114[[#This Row],[Disposition]]=\"Retired\",\"N/A\",IF(Table114[[#This Row],[Disposition]]=0,\"\",K35+$F$2)))","v":""},{"$f":"IF(Table114[[#This Row],[Disposition]]=\"\",\"\",IF(AND(Table114[[#This Row],[Next Calibration]]<$E$1,Table114[[#This Row],[Disposition]]=\"Lost\"),\"Find and Calibrate\",IF(Table114[[#This Row],[Disposition]]=\"Lost\",\"Find\",IF(OR(Table114[[#This Row],[Next Calibration]]<$E$1,Table114[[#This Row],[Next Calibration]]=\"NEVER CALIBRATED\"),\"Calibrate\",\"Nominal\"))))","v":""},{"$f":"IF(((Table114[[#This Row],[Next Calibration]]-TODAY())/30)>2,\"More Than 2\",IF(((Table114[[#This Row],[Next Calibration]]-TODAY())/30)>1,\"Between 2 and 1\",\"Less than 1\"))","v":{"$error":"#VALUE!"}},{"$f":"IF(Table114[[#This Row],[Issued]]=\"\",\"\",IF(Table114[[#This Row],[Lent]]=\"\",0,1))","v":""},{"$f":"IF(Table114[[#This Row],[Lent]]=\"\",\"\",IF(Table114[[#This Row],[Returned]]=\"\",0,1))","v":""}]
[{"$nulls":11},{"$f":"IF(IF(Table114[[#This Row],[Disposition]]=\"Retired\",\"N/A\",IF(Table114[[#This Row],[Disposition]]=0,\"\",K36+$F$2))=0+$F$2,\"NEVER CALIBRATED\",IF(Table114[[#This Row],[Disposition]]=\"Retired\",\"N/A\",IF(Table114[[#This Row],[Disposition]]=0,\"\",K36+$F$2)))","v":""},{"$f":"IF(Table114[[#This Row],[Disposition]]=\"\",\"\",IF(AND(Table114[[#This Row],[Next Calibration]]<$E$1,Table114[[#This Row],[Disposition]]=\"Lost\"),\"Find and Calibrate\",IF(Table114[[#This Row],[Disposition]]=\"Lost\",\"Find\",IF(OR(Table114[[#This Row],[Next Calibration]]<$E$1,Table114[[#This Row],[Next Calibration]]=\"NEVER CALIBRATED\"),\"Calibrate\",\"Nominal\"))))","v":""},{"$f":"IF(((Table114[[#This Row],[Next Calibration]]-TODAY())/30)>2,\"More Than 2\",IF(((Table114[[#This Row],[Next Calibration]]-TODAY())/30)>1,\"Between 2 and 1\",\"Less than 1\"))","v":{"$error":"#VALUE!"}},{"$f":"IF(Table114[[#This Row],[Issued]]=\"\",\"\",IF(Table114[[#This Row],[Lent]]=\"\",0,1))","v":""},{"$f":"IF(Table114[[#This Row],[Lent]]=\"\",\"\",IF(Table114[[#This Row],[Returned]]=\"\",0,1))","v":""}]
[{"$nulls":11},{"$f":"IF(IF(Table114[[#This Row],[Disposition]]=\"Retired\",\"N/A\",IF(Table114[[#This Row],[Disposition]]=0,\"\",K37+$F$2))=0+$F$2,\"NEVER CALIBRATED\",IF(Table114[[#This Row],[Disposition]]=\"Retired\",\"N/A\",IF(Table114[[#This Row],[Disposition]]=0,\"\",K37+$F$2)))","v":""},{"$f":"IF(Table114[[#This Row],[Disposition]]=\"\",\"\",IF(AND(Table114[[#This Row],[Next Calibration]]<$E$1,Table114[[#This Row],[Disposition]]=\"Lost\"),\"Find and Calibrate\",IF(Table114[[#This Row],[Disposition]]=\"Lost\",\"Find\",IF(OR(Table114[[#This Row],[Next Calibration]]<$E$1,Table114[[#This Row],[Next Calibration]]=\"NEVER CALIBRATED\"),\"Calibrate\",\"Nominal\"))))","v":""},{"$f":"IF(((Table114[[#This Row],[Next Calibration]]-TODAY())/30)>2,\"More Than 2\",IF(((Table114[[#This Row],[Next Calibration]]-TODAY())/30)>1,\"Between 2 and 1\",\"Less than 1\"))","v":{"$error":"#VALUE!"}},{"$f":"IF(Table114[[#This Row],[Issued]]=\"\",\"\",IF(Table114[[#This Row],[Lent]]=\"\",0,1))","v":""},{"$f":"IF(Table114[[#This Row],[Lent]]=\"\",\"\",IF(Table114[[#This Row],[Returned]]=\"\",0,1))","v":""}]
[{"$nulls":11},{"$f":"IF(IF(Table114[[#This Row],[Disposition]]=\"Retired\",\"N/A\",IF(Table114[[#This Row],[Disposition]]=0,\"\",K38+$F$2))=0+$F$2,\"NEVER CALIBRATED\",IF(Table114[[#This Row],[Disposition]]=\"Retired\",\"N/A\",IF(Table114[[#This Row],[Disposition]]=0,\"\",K38+$F$2)))","v":""},{"$f":"IF(Table114[[#This Row],[Disposition]]=\"\",\"\",IF(AND(Table114[[#This Row],[Next Calibration]]<$E$1,Table114[[#This Row],[Disposition]]=\"Lost\"),\"Find and Calibrate\",IF(Table114[[#This Row],[Disposition]]=\"Lost\",\"Find\",IF(OR(Table114[[#This Row],[Next Calibration]]<$E$1,Table114[[#This Row],[Next Calibration]]=\"NEVER CALIBRATED\"),\"Calibrate\",\"Nominal\"))))","v":""},{"$f":"IF(((Table114[[#This Row],[Next Calibration]]-TODAY())/30)>2,\"More Than 2\",IF(((Table114[[#This Row],[Next Calibration]]-TODAY())/30)>1,\"Between 2 and 1\",\"Less than 1\"))","v":{"$error":"#VALUE!"}},{"$f":"IF(Table114[[#This Row],[Issued]]=\"\",\"\",IF(Table114[[#This Row],[Lent]]=\"\",0,1))","v":""},{"$f":"IF(Table114[[#This Row],[Lent]]=\"\",\"\",IF(Table114[[#This Row],[Returned]]=\"\",0,1))","v":""}]
[{"$nulls":11},{"$f":"IF(IF(Table114[[#This Row],[Disposition]]=\"Retired\",\"N/A\",IF(Table114[[#This Row],[Disposition]]=0,\"\",K39+$F$2))=0+$F$2,\"NEVER CALIBRATED\",IF(Table114[[#This Row],[Disposition]]=\"Retired\",\"N/A\",IF(Table114[[#This Row],[Disposition]]=0,\"\",K39+$F$2)))","v":""},{"$f":"IF(Table114[[#This Row],[Disposition]]=\"\",\"\",IF(AND(Table114[[#This Row],[Next Calibration]]<$E$1,Table114[[#This Row],[Disposition]]=\"Lost\"),\"Find and Calibrate\",IF(Table114[[#This Row],[Disposition]]=\"Lost\",\"Find\",IF(OR(Table114[[#This Row],[Next Calibration]]<$E$1,Table114[[#This Row],[Next Calibration]]=\"NEVER CALIBRATED\"),\"Calibrate\",\"Nominal\"))))","v":""},{"$f":"IF(((Table114[[#This Row],[Next Calibration]]-TODAY())/30)>2,\"More Than 2\",IF(((Table114[[#This Row],[Next Calibration]]-TODAY())/30)>1,\"Between 2 and 1\",\"Less than 1\"))","v":{"$error":"#VALUE!"}},{"$f":"IF(Table114[[#This Row],[Issued]]=\"\",\"\",IF(Table114[[#This Row],[Lent]]=\"\",0,1))","v":""},{"$f":"IF(Table114[[#This Row],[Lent]]=\"\",\"\",IF(Table114[[#This Row],[Returned]]=\"\",0,1))","v":""}]
[{"$nulls":11},{"$f":"IF(IF(Table114[[#This Row],[Disposition]]=\"Retired\",\"N/A\",IF(Table114[[#This Row],[Disposition]]=0,\"\",K40+$F$2))=0+$F$2,\"NEVER CALIBRATED\",IF(Table114[[#This Row],[Disposition]]=\"Retired\",\"N/A\",IF(Table114[[#This Row],[Disposition]]=0,\"\",K40+$F$2)))","v":""},{"$f":"IF(Table114[[#This Row],[Disposition]]=\"\",\"\",IF(AND(Table114[[#This Row],[Next Calibration]]<$E$1,Table114[[#This Row],[Disposition]]=\"Lost\"),\"Find and Calibrate\",IF(Table114[[#This Row],[Disposition]]=\"Lost\",\"Find\",IF(OR(Table114[[#This Row],[Next Calibration]]<$E$1,Table114[[#This Row],[Next Calibration]]=\"NEVER CALIBRATED\"),\"Calibrate\",\"Nominal\"))))","v":""},{"$f":"IF(((Table114[[#This Row],[Next Calibration]]-TODAY())/30)>2,\"More Than 2\",IF(((Table114[[#This Row],[Next Calibration]]-TODAY())/30)>1,\"Between 2 and 1\",\"Less than 1\"))","v":{"$error":"#VALUE!"}},{"$f":"IF(Table114[[#This Row],[Issued]]=\"\",\"\",IF(Table114[[#This Row],[Lent]]=\"\",0,1))","v":""},{"$f":"IF(Table114[[#This Row],[Lent]]=\"\",\"\",IF(Table114[[#This Row],[Returned]]=\"\",0,1))","v":""}]
[{"$nulls":11},{"$f":"IF(IF(Table114[[#This Row],[Disposition]]=\"Retired\",\"N/A\",IF(Table114[[#This Row],[Disposition]]=0,\"\",K41+$F$2))=0+$F$2,\"NEVER CALIBRATED\",IF(Table114[[#This Row],[Disposition]]=\"Retired\",\"N/A\",IF(Table114[[#This Row],[Disposition]]=0,\"\",K41+$F$2)))","v":""},{"$f":"IF(Table114[[#This Row],[Disposition]]=\"\",\"\",IF(AND(Table114[[#This Row],[Next Calibration]]<$E$1,Table114[[#This Row],[Disposition]]=\"Lost\"),\"Find and Calibrate\",IF(Table114[[#This Row],[Disposition]]=\"Lost\",\"Find\",IF(OR(Table114[[#This Row],[Next Calibration]]<$E$1,Table114[[#This Row],[Next Calibration]]=\"NEVER CALIBRATED\"),\"Calibrate\",\"Nominal\"))))","v":""},{"$f":"IF(((Table114[[#This Row],[Next Calibration]]-TODAY())/30)>2,\"More Than 2\",IF(((Table114[[#This Row],[Next Calibration]]-TODAY())/30)>1,\"Between 2 and 1\",\"Less than 1\"))","v":{"$error":"#VALUE!"}},{"$f":"IF(Table114[[#This Row],[Issued]]=\"\",\"\",IF(Table114[[#This Row],[Lent]]=\"\",0,1))","v":""},{"$f":"IF(Table114[[#This Row],[Lent]]=\"\",\"\",IF(Table114[[#This Row],[Returned]]=\"\",0,1))","v":""}]
[{"$nulls":11},{"$f":"IF(IF(Table114[[#This Row],[Disposition]]=\"Retired\",\"N/A\",IF(Table114[[#This Row],[Disposition]]=0,\"\",K42+$F$2))=0+$F$2,\"NEVER CALIBRATED\",IF(Table114[[#This Row],[Disposition]]=\"Retired\",\"N/A\",IF(Table114[[#This Row],[Disposition]]=0,\"\",K42+$F$2)))","v":""},{"$f":"IF(Table114[[#This Row],[Disposition]]=\"\",\"\",IF(AND(Table114[[#This Row],[Next Calibration]]<$E$1,Table114[[#This Row],[Disposition]]=\"Lost\"),\"Find and Calibrate\",IF(Table114[[#This Row],[Disposition]]=\"Lost\",\"Find\",IF(OR(Table114[[#This Row],[Next Calibration]]<$E$1,Table114[[#This Row],[Next Calibration]]=\"NEVER CALIBRATED\"),\"Calibrate\",\"Nominal\"))))","v":""},{"$f":"IF(((Table114[[#This Row],[Next Calibration]]-TODAY())/30)>2,\"More Than 2\",IF(((Table114[[#This Row],[Next Calibration]]-TODAY())/30)>1,\"Between 2 and 1\",\"Less than 1\"))","v":{"$error":"#VALUE!"}},{"$f":"IF(Table114[[#This Row],[Issued]]=\"\",\"\",IF(Table114[[#This Row],[Lent]]=\"\",0,1))","v":""},{"$f":"IF(Table114[[#This Row],[Lent]]=\"\",\"\",IF(Table114[[#This Row],[Returned]]=\"\",0,1))","v":""}]
[{"$nulls":11},{"$f":"IF(IF(Table114[[#This Row],[Disposition]]=\"Retired\",\"N/A\",IF(Table114[[#This Row],[Disposition]]=0,\"\",K43+$F$2))=0+$F$2,\"NEVER CALIBRATED\",IF(Table114[[#This Row],[Disposition]]=\"Retired\",\"N/A\",IF(Table114[[#This Row],[Disposition]]=0,\"\",K43+$F$2)))","v":""},{"$f":"IF(Table114[[#This Row],[Disposition]]=\"\",\"\",IF(AND(Table114[[#This Row],[Next Calibration]]<$E$1,Table114[[#This Row],[Disposition]]=\"Lost\"),\"Find and Calibrate\",IF(Table114[[#This Row],[Disposition]]=\"Lost\",\"Find\",IF(OR(Table114[[#This Row],[Next Calibration]]<$E$1,Table114[[#This Row],[Next Calibration]]=\"NEVER CALIBRATED\"),\"Calibrate\",\"Nominal\"))))","v":""},{"$f":"IF(((Table114[[#This Row],[Next Calibration]]-TODAY())/30)>2,\"More Than 2\",IF(((Table114[[#This Row],[Next Calibration]]-TODAY())/30)>1,\"Between 2 and 1\",\"Less than 1\"))","v":{"$error":"#VALUE!"}},{"$f":"IF(Table114[[#This Row],[Issued]]=\"\",\"\",IF(Table114[[#This Row],[Lent]]=\"\",0,1))","v":""},{"$f":"IF(Table114[[#This Row],[Lent]]=\"\",\"\",IF(Table114[[#This Row],[Returned]]=\"\",0,1))","v":""}]
[{"$nulls":11},{"$f":"IF(IF(Table114[[#This Row],[Disposition]]=\"Retired\",\"N/A\",IF(Table114[[#This Row],[Disposition]]=0,\"\",K44+$F$2))=0+$F$2,\"NEVER CALIBRATED\",IF(Table114[[#This Row],[Disposition]]=\"Retired\",\"N/A\",IF(Table114[[#This Row],[Disposition]]=0,\"\",K44+$F$2)))","v":""},{"$f":"IF(Table114[[#This Row],[Disposition]]=\"\",\"\",IF(AND(Table114[[#This Row],[Next Calibration]]<$E$1,Table114[[#This Row],[Disposition]]=\"Lost\"),\"Find and Calibrate\",IF(Table114[[#This Row],[Disposition]]=\"Lost\",\"Find\",IF(OR(Table114[[#This Row],[Next Calibration]]<$E$1,Table114[[#This Row],[Next Calibration]]=\"NEVER CALIBRATED\"),\"Calibrate\",\"Nominal\"))))","v":""},{"$f":"IF(((Table114[[#This Row],[Next Calibration]]-TODAY())/30)>2,\"More Than 2\",IF(((Table114[[#This Row],[Next Calibration]]-TODAY())/30)>1,\"Between 2 and 1\",\"Less than 1\"))","v":{"$error":"#VALUE!"}},{"$f":"IF(Table114[[#This Row],[Issued]]=\"\",\"\",IF(Table114[[#This Row],[Lent]]=\"\",0,1))","v":""},{"$f":"IF(Table114[[#This Row],[Lent]]=\"\",\"\",IF(Table114[[#This Row],[Returned]]=\"\",0,1))","v":""}]
[{"$nulls":11},{"$f":"IF(IF(Table114[[#This Row],[Disposition]]=\"Retired\",\"N/A\",IF(Table114[[#This Row],[Disposition]]=0,\"\",K45+$F$2))=0+$F$2,\"NEVER CALIBRATED\",IF(Table114[[#This Row],[Disposition]]=\"Retired\",\"N/A\",IF(Table114[[#This Row],[Disposition]]=0,\"\",K45+$F$2)))","v":""},{"$f":"IF(Table114[[#This Row],[Disposition]]=\"\",\"\",IF(AND(Table114[[#This Row],[Next Calibration]]<$E$1,Table114[[#This Row],[Disposition]]=\"Lost\"),\"Find and Calibrate\",IF(Table114[[#This Row],[Disposition]]=\"Lost\",\"Find\",IF(OR(Table114[[#This Row],[Next Calibration]]<$E$1,Table114[[#This Row],[Next Calibration]]=\"NEVER CALIBRATED\"),\"Calibrate\",\"Nominal\"))))","v":""},{"$f":"IF(((Table114[[#This Row],[Next Calibration]]-TODAY())/30)>2,\"More Than 2\",IF(((Table114[[#This Row],[Next Calibration]]-TODAY())/30)>1,\"Between 2 and 1\",\"Less than 1\"))","v":{"$error":"#VALUE!"}},{"$f":"IF(Table114[[#This Row],[Issued]]=\"\",\"\",IF(Table114[[#This Row],[Lent]]=\"\",0,1))","v":""},{"$f":"IF(Table114[[#This Row],[Lent]]=\"\",\"\",IF(Table114[[#This Row],[Returned]]=\"\",0,1))","v":""}]
[{"$nulls":11},{"$f":"IF(IF(Table114[[#This Row],[Disposition]]=\"Retired\",\"N/A\",IF(Table114[[#This Row],[Disposition]]=0,\"\",K46+$F$2))=0+$F$2,\"NEVER CALIBRATED\",IF(Table114[[#This Row],[Disposition]]=\"Retired\",\"N/A\",IF(Table114[[#This Row],[Disposition]]=0,\"\",K46+$F$2)))","v":""},{"$f":"IF(Table114[[#This Row],[Disposition]]=\"\",\"\",IF(AND(Table114[[#This Row],[Next Calibration]]<$E$1,Table114[[#This Row],[Disposition]]=\"Lost\"),\"Find and Calibrate\",IF(Table114[[#This Row],[Disposition]]=\"Lost\",\"Find\",IF(OR(Table114[[#This Row],[Next Calibration]]<$E$1,Table114[[#This Row],[Next Calibration]]=\"NEVER CALIBRATED\"),\"Calibrate\",\"Nominal\"))))","v":""},{"$f":"IF(((Table114[[#This Row],[Next Calibration]]-TODAY())/30)>2,\"More Than 2\",IF(((Table114[[#This Row],[Next Calibration]]-TODAY())/30)>1,\"Between 2 and 1\",\"Less than 1\"))","v":{"$error":"#VALUE!"}},{"$f":"IF(Table114[[#This Row],[Issued]]=\"\",\"\",IF(Table114[[#This Row],[Lent]]=\"\",0,1))","v":""},{"$f":"IF(Table114[[#This Row],[Lent]]=\"\",\"\",IF(Table114[[#This Row],[Returned]]=\"\",0,1))","v":""}]
[{"$nulls":11},{"$f":"IF(IF(Table114[[#This Row],[Disposition]]=\"Retired\",\"N/A\",IF(Table114[[#This Row],[Disposition]]=0,\"\",K47+$F$2))=0+$F$2,\"NEVER CALIBRATED\",IF(Table114[[#This Row],[Disposition]]=\"Retired\",\"N/A\",IF(Table114[[#This Row],[Disposition]]=0,\"\",K47+$F$2)))","v":""},{"$f":"IF(Table114[[#This Row],[Disposition]]=\"\",\"\",IF(AND(Table114[[#This Row],[Next Calibration]]<$E$1,Table114[[#This Row],[Disposition]]=\"Lost\"),\"Find and Calibrate\",IF(Table114[[#This Row],[Disposition]]=\"Lost\",\"Find\",IF(OR(Table114[[#This Row],[Next Calibration]]<$E$1,Table114[[#This Row],[Next Calibration]]=\"NEVER CALIBRATED\"),\"Calibrate\",\"Nominal\"))))","v":""},{"$f":"IF(((Table114[[#This Row],[Next Calibration]]-TODAY())/30)>2,\"More Than 2\",IF(((Table114[[#This Row],[Next Calibration]]-TODAY())/30)>1,\"Between 2 and 1\",\"Less than 1\"))","v":{"$error":"#VALUE!"}},{"$f":"IF(Table114[[#This Row],[Issued]]=\"\",\"\",IF(Table114[[#This Row],[Lent]]=\"\",0,1))","v":""},{"$f":"IF(Table114[[#This Row],[Lent]]=\"\",\"\",IF(Table114[[#This Row],[Returned]]=\"\",0,1))","v":""}]
[{"$nulls":11},{"$f":"IF(IF(Table114[[#This Row],[Disposition]]=\"Retired\",\"N/A\",IF(Table114[[#This Row],[Disposition]]=0,\"\",K48+$F$2))=0+$F$2,\"NEVER CALIBRATED\",IF(Table114[[#This Row],[Disposition]]=\"Retired\",\"N/A\",IF(Table114[[#This Row],[Disposition]]=0,\"\",K48+$F$2)))","v":""},{"$f":"IF(Table114[[#This Row],[Disposition]]=\"\",\"\",IF(AND(Table114[[#This Row],[Next Calibration]]<$E$1,Table114[[#This Row],[Disposition]]=\"Lost\"),\"Find and Calibrate\",IF(Table114[[#This Row],[Disposition]]=\"Lost\",\"Find\",IF(OR(Table114[[#This Row],[Next Calibration]]<$E$1,Table114[[#This Row],[Next Calibration]]=\"NEVER CALIBRATED\"),\"Calibrate\",\"Nominal\"))))","v":""},{"$f":"IF(((Table114[[#This Row],[Next Calibration]]-TODAY())/30)>2,\"More Than 2\",IF(((Table114[[#This Row],[Next Calibration]]-TODAY())/30)>1,\"Between 2 and 1\",\"Less than 1\"))","v":{"$error":"#VALUE!"}},{"$f":"IF(Table114[[#This Row],[Issued]]=\"\",\"\",IF(Table114[[#This Row],[Lent]]=\"\",0,1))","v":""},{"$f":"IF(Table114[[#This Row],[Lent]]=\"\",\"\",IF(Table114[[#This Row],[Returned]]=\"\",0,1))","v":""}]
[{"$nulls":11},{"$f":"IF(IF(Table114[[#This Row],[Disposition]]=\"Retired\",\"N/A\",IF(Table114[[#This Row],[Disposition]]=0,\"\",K49+$F$2))=0+$F$2,\"NEVER CALIBRATED\",IF(Table114[[#This Row],[Disposition]]=\"Retired\",\"N/A\",IF(Table114[[#This Row],[Disposition]]=0,\"\",K49+$F$2)))","v":""},{"$f":"IF(Table114[[#This Row],[Disposition]]=\"\",\"\",IF(AND(Table114[[#This Row],[Next Calibration]]<$E$1,Table114[[#This Row],[Disposition]]=\"Lost\"),\"Find and Calibrate\",IF(Table114[[#This Row],[Disposition]]=\"Lost\",\"Find\",IF(OR(Table114[[#This Row],[Next Calibration]]<$E$1,Table114[[#This Row],[Next Calibration]]=\"NEVER CALIBRATED\"),\"Calibrate\",\"Nominal\"))))","v":""},{"$f":"IF(((Table114[[#This Row],[Next Calibration]]-TODAY())/30)>2,\"More Than 2\",IF(((Table114[[#This Row],[Next Calibration]]-TODAY())/30)>1,\"Between 2 and 1\",\"Less than 1\"))","v":{"$error":"#VALUE!"}},{"$f":"IF(Table114[[#This Row],[Issued]]=\"\",\"\",IF(Table114[[#This Row],[Lent]]=\"\",0,1))","v":""},{"$f":"IF(Table114[[#This Row],[Lent]]=\"\",\"\",IF(Table114[[#This Row],[Returned]]=\"\",0,1))","v":""}]
[{"$nulls":11},{"$f":"IF(IF(Table114[[#This Row],[Disposition]]=\"Retired\",\"N/A\",IF(Table114[[#This Row],[Disposition]]=0,\"\",K50+$F$2))=0+$F$2,\"NEVER CALIBRATED\",IF(Table114[[#This Row],[Disposition]]=\"Retired\",\"N/A\",IF(Table114[[#This Row],[Disposition]]=0,\"\",K50+$F$2)))","v":""},{"$f":"IF(Table114[[#This Row],[Disposition]]=\"\",\"\",IF(AND(Table114[[#This Row],[Next Calibration]]<$E$1,Table114[[#This Row],[Disposition]]=\"Lost\"),\"Find and Calibrate\",IF(Table114[[#This Row],[Disposition]]=\"Lost\",\"Find\",IF(OR(Table114[[#This Row],[Next Calibration]]<$E$1,Table114[[#This Row],[Next Calibration]]=\"NEVER CALIBRATED\"),\"Calibrate\",\"Nominal\"))))","v":""},{"$f":"IF(((Table114[[#This Row],[Next Calibration]]-TODAY())/30)>2,\"More Than 2\",IF(((Table114[[#This Row],[Next Calibration]]-TODAY())/30)>1,\"Between 2 and 1\",\"Less than 1\"))","v":{"$error":"#VALUE!"}},{"$f":"IF(Table114[[#This Row],[Issued]]=\"\",\"\",IF(Table114[[#This Row],[Lent]]=\"\",0,1))","v":""},{"$f":"IF(Table114[[#This Row],[Lent]]=\"\",\"\",IF(Table114[[#This Row],[Returned]]=\"\",0,1))","v":""}]
[{"$nulls":11},{"$f":"IF(IF(Table114[[#This Row],[Disposition]]=\"Retired\",\"N/A\",IF(Table114[[#This Row],[Disposition]]=0,\"\",K51+$F$2))=0+$F$2,\"NEVER CALIBRATED\",IF(Table114[[#This Row],[Disposition]]=\"Retired\",\"N/A\",IF(Table114[[#This Row],[Disposition]]=0,\"\",K51+$F$2)))","v":""},{"$f":"IF(Table114[[#This Row],[Disposition]]=\"\",\"\",IF(AND(Table114[[#This Row],[Next Calibration]]<$E$1,Table114[[#This Row],[Disposition]]=\"Lost\"),\"Find and Calibrate\",IF(Table114[[#This Row],[Disposition]]=\"Lost\",\"Find\",IF(OR(Table114[[#This Row],[Next Calibration]]<$E$1,Table114[[#This Row],[Next Calibration]]=\"NEVER CALIBRATED\"),\"Calibrate\",\"Nominal\"))))","v":""},{"$f":"IF(((Table114[[#This Row],[Next Calibration]]-TODAY())/30)>2,\"More Than 2\",IF(((Table114[[#This Row],[Next Calibration]]-TODAY())/30)>1,\"Between 2 and 1\",\"Less than 1\"))","v":{"$error":"#VALUE!"}},{"$f":"IF(Table114[[#This Row],[Issued]]=\"\",\"\",IF(Table114[[#This Row],[Lent]]=\"\",0,1))","v":""},{"$f":"IF(Table114[[#This Row],[Lent]]=\"\",\"\",IF(Table114[[#This Row],[Returned]]=\"\",0,1))","v":""}]
[{"$nulls":11},{"$f":"IF(IF(Table114[[#This Row],[Disposition]]=\"Retired\",\"N/A\",IF(Table114[[#This Row],[Disposition]]=0,\"\",K52+$F$2))=0+$F$2,\"NEVER CALIBRATED\",IF(Table114[[#This Row],[Disposition]]=\"Retired\",\"N/A\",IF(Table114[[#This Row],[Disposition]]=0,\"\",K52+$F$2)))","v":""},{"$f":"IF(Table114[[#This Row],[Disposition]]=\"\",\"\",IF(AND(Table114[[#This Row],[Next Calibration]]<$E$1,Table114[[#This Row],[Disposition]]=\"Lost\"),\"Find and Calibrate\",IF(Table114[[#This Row],[Disposition]]=\"Lost\",\"Find\",IF(OR(Table114[[#This Row],[Next Calibration]]<$E$1,Table114[[#This Row],[Next Calibration]]=\"NEVER CALIBRATED\"),\"Calibrate\",\"Nominal\"))))","v":""},{"$f":"IF(((Table114[[#This Row],[Next Calibration]]-TODAY())/30)>2,\"More Than 2\",IF(((Table114[[#This Row],[Next Calibration]]-TODAY())/30)>1,\"Between 2 and 1\",\"Less than 1\"))","v":{"$error":"#VALUE!"}},{"$f":"IF(Table114[[#This Row],[Issued]]=\"\",\"\",IF(Table114[[#This Row],[Lent]]=\"\",0,1))","v":""},{"$f":"IF(Table114[[#This Row],[Lent]]=\"\",\"\",IF(Table114[[#This Row],[Returned]]=\"\",0,1))","v":""}]
[{"$nulls":11},{"$f":"IF(IF(Table114[[#This Row],[Disposition]]=\"Retired\",\"N/A\",IF(Table114[[#This Row],[Disposition]]=0,\"\",K53+$F$2))=0+$F$2,\"NEVER CALIBRATED\",IF(Table114[[#This Row],[Disposition]]=\"Retired\",\"N/A\",IF(Table114[[#This Row],[Disposition]]=0,\"\",K53+$F$2)))","v":""},{"$f":"IF(Table114[[#This Row],[Disposition]]=\"\",\"\",IF(AND(Table114[[#This Row],[Next Calibration]]<$E$1,Table114[[#This Row],[Disposition]]=\"Lost\"),\"Find and Calibrate\",IF(Table114[[#This Row],[Disposition]]=\"Lost\",\"Find\",IF(OR(Table114[[#This Row],[Next Calibration]]<$E$1,Table114[[#This Row],[Next Calibration]]=\"NEVER CALIBRATED\"),\"Calibrate\",\"Nominal\"))))","v":""},{"$f":"IF(((Table114[[#This Row],[Next Calibration]]-TODAY())/30)>2,\"More Than 2\",IF(((Table114[[#This Row],[Next Calibration]]-TODAY())/30)>1,\"Between 2 and 1\",\"Less than 1\"))","v":{"$error":"#VALUE!"}},{"$f":"IF(Table114[[#This Row],[Issued]]=\"\",\"\",IF(Table114[[#This Row],[Lent]]=\"\",0,1))","v":""},{"$f":"IF(Table114[[#This Row],[Lent]]=\"\",\"\",IF(Table114[[#This Row],[Returned]]=\"\",0,1))","v":""}]
[{"$nulls":11},{"$f":"IF(IF(Table114[[#This Row],[Disposition]]=\"Retired\",\"N/A\",IF(Table114[[#This Row],[Disposition]]=0,\"\",K54+$F$2))=0+$F$2,\"NEVER CALIBRATED\",IF(Table114[[#This Row],[Disposition]]=\"Retired\",\"N/A\",IF(Table114[[#This Row],[Disposition]]=0,\"\",K54+$F$2)))","v":""},{"$f":"IF(Table114[[#This Row],[Disposition]]=\"\",\"\",IF(AND(Table114[[#This Row],[Next Calibration]]<$E$1,Table114[[#This Row],[Disposition]]=\"Lost\"),\"Find and Calibrate\",IF(Table114[[#This Row],[Disposition]]=\"Lost\",\"Find\",IF(OR(Table114[[#This Row],[Next Calibration]]<$E$1,Table114[[#This Row],[Next Calibration]]=\"NEVER CALIBRATED\"),\"Calibrate\",\"Nominal\"))))","v":""},{"$f":"IF(((Table114[[#This Row],[Next Calibration]]-TODAY())/30)>2,\"More Than 2\",IF(((Table114[[#This Row],[Next Calibration]]-TODAY())/30)>1,\"Between 2 and 1\",\"Less than 1\"))","v":{"$error":"#VALUE!"}},{"$f":"IF(Table114[[#This Row],[Issued]]=\"\",\"\",IF(Table114[[#This Row],[Lent]]=\"\",0,1))","v":""},{"$f":"IF(Table114[[#This Row],[Lent]]=\"\",\"\",IF(Table114[[#This Row],[Returned]]=\"\",0,1))","v":""}]
[{"$nulls":11},{"$f":"IF(IF(Table114[[#This Row],[Disposition]]=\"Retired\",\"N/A\",IF(Table114[[#This Row],[Disposition]]=0,\"\",K55+$F$2))=0+$F$2,\"NEVER CALIBRATED\",IF(Table114[[#This Row],[Disposition]]=\"Retired\",\"N/A\",IF(Table114[[#This Row],[Disposition]]=0,\"\",K55+$F$2)))","v":""},{"$f":"IF(Table114[[#This Row],[Disposition]]=\"\",\"\",IF(AND(Table114[[#This Row],[Next Calibration]]<$E$1,Table114[[#This Row],[Disposition]]=\"Lost\"),\"Find and Calibrate\",IF(Table114[[#This Row],[Disposition]]=\"Lost\",\"Find\",IF(OR(Table114[[#This Row],[Next Calibration]]<$E$1,Table114[[#This Row],[Next Calibration]]=\"NEVER CALIBRATED\"),\"Calibrate\",\"Nominal\"))))","v":""},{"$f":"IF(((Table114[[#This Row],[Next Calibration]]-TODAY())/30)>2,\"More Than 2\",IF(((Table114[[#This Row],[Next Calibration]]-TODAY())/30)>1,\"Between 2 and 1\",\"Less than 1\"))","v":{"$error":"#VALUE!"}},{"$f":"IF(Table114[[#This Row],[Issued]]=\"\",\"\",IF(Table114[[#This Row],[Lent]]=\"\",0,1))","v":""},{"$f":"IF(Table114[[#This Row],[Lent]]=\"\",\"\",IF(Table114[[#This Row],[Returned]]=\"\",0,1))","v":""}]
[{"$nulls":11},{"$f":"IF(IF(Table114[[#This Row],[Disposition]]=\"Retired\",\"N/A\",IF(Table114[[#This Row],[Disposition]]=0,\"\",K56+$F$2))=0+$F$2,\"NEVER CALIBRATED\",IF(Table114[[#This Row],[Disposition]]=\"Retired\",\"N/A\",IF(Table114[[#This Row],[Disposition]]=0,\"\",K56+$F$2)))","v":""},{"$f":"IF(Table114[[#This Row],[Disposition]]=\"\",\"\",IF(AND(Table114[[#This Row],[Next Calibration]]<$E$1,Table114[[#This Row],[Disposition]]=\"Lost\"),\"Find and Calibrate\",IF(Table114[[#This Row],[Disposition]]=\"Lost\",\"Find\",IF(OR(Table114[[#This Row],[Next Calibration]]<$E$1,Table114[[#This Row],[Next Calibration]]=\"NEVER CALIBRATED\"),\"Calibrate\",\"Nominal\"))))","v":""},{"$f":"IF(((Table114[[#This Row],[Next Calibration]]-TODAY())/30)>2,\"More Than 2\",IF(((Table114[[#This Row],[Next Calibration]]-TODAY())/30)>1,\"Between 2 and 1\",\"Less than 1\"))","v":{"$error":"#VALUE!"}},{"$f":"IF(Table114[[#This Row],[Issued]]=\"\",\"\",IF(Table114[[#This Row],[Lent]]=\"\",0,1))","v":""},{"$f":"IF(Table114[[#This Row],[Lent]]=\"\",\"\",IF(Table114[[#This Row],[Returned]]=\"\",0,1))","v":""}]
[{"$nulls":11},{"$f":"IF(IF(Table114[[#This Row],[Disposition]]=\"Retired\",\"N/A\",IF(Table114[[#This Row],[Disposition]]=0,\"\",K57+$F$2))=0+$F$2,\"NEVER CALIBRATED\",IF(Table114[[#This Row],[Disposition]]=\"Retired\",\"N/A\",IF(Table114[[#This Row],[Disposition]]=0,\"\",K57+$F$2)))","v":""},{"$f":"IF(Table114[[#This Row],[Disposition]]=\"\",\"\",IF(AND(Table114[[#This Row],[Next Calibration]]<$E$1,Table114[[#This Row],[Disposition]]=\"Lost\"),\"Find and Calibrate\",IF(Table114[[#This Row],[Disposition]]=\"Lost\",\"Find\",IF(OR(Table114[[#This Row],[Next Calibration]]<$E$1,Table114[[#This Row],[Next Calibration]]=\"NEVER CALIBRATED\"),\"Calibrate\",\"Nominal\"))))","v":""},{"$f":"IF(((Table114[[#This Row],[Next Calibration]]-TODAY())/30)>2,\"More Than 2\",IF(((Table114[[#This Row],[Next Calibration]]-TODAY())/30)>1,\"Between 2 and 1\",\"Less than 1\"))","v":{"$error":"#VALUE!"}},{"$f":"IF(Table114[[#This Row],[Issued]]=\"\",\"\",IF(Table114[[#This Row],[Lent]]=\"\",0,1))","v":""},{"$f":"IF(Table114[[#This Row],[Lent]]=\"\",\"\",IF(Table114[[#This Row],[Returned]]=\"\",0,1))","v":""}]
[{"$nulls":11},{"$f":"IF(IF(Table114[[#This Row],[Disposition]]=\"Retired\",\"N/A\",IF(Table114[[#This Row],[Disposition]]=0,\"\",K58+$F$2))=0+$F$2,\"NEVER CALIBRATED\",IF(Table114[[#This Row],[Disposition]]=\"Retired\",\"N/A\",IF(Table114[[#This Row],[Disposition]]=0,\"\",K58+$F$2)))","v":""},{"$f":"IF(Table114[[#This Row],[Disposition]]=\"\",\"\",IF(AND(Table114[[#This Row],[Next Calibration]]<$E$1,Table114[[#This Row],[Disposition]]=\"Lost\"),\"Find and Calibrate\",IF(Table114[[#This Row],[Disposition]]=\"Lost\",\"Find\",IF(OR(Table114[[#This Row],[Next Calibration]]<$E$1,Table114[[#This Row],[Next Calibration]]=\"NEVER CALIBRATED\"),\"Calibrate\",\"Nominal\"))))","v":""},{"$f":"IF(((Table114[[#This Row],[Next Calibration]]-TODAY())/30)>2,\"More Than 2\",IF(((Table114[[#This Row],[Next Calibration]]-TODAY())/30)>1,\"Between 2 and 1\",\"Less than 1\"))","v":{"$error":"#VALUE!"}},{"$f":"IF(Table114[[#This Row],[Issued]]=\"\",\"\",IF(Table114[[#This Row],[Lent]]=\"\",0,1))","v":""},{"$f":"IF(Table114[[#This Row],[Lent]]=\"\",\"\",IF(Table114[[#This Row],[Returned]]=\"\",0,1))","v":""}]
[{"$nulls":11},{"$f":"IF(IF(Table114[[#This Row],[Disposition]]=\"Retired\",\"N/A\",IF(Table114[[#This Row],[Disposition]]=0,\"\",K59+$F$2))=0+$F$2,\"NEVER CALIBRATED\",IF(Table114[[#This Row],[Disposition]]=\"Retired\",\"N/A\",IF(Table114[[#This Row],[Disposition]]=0,\"\",K59+$F$2)))","v":""},{"$f":"IF(Table114[[#This Row],[Disposition]]=\"\",\"\",IF(AND(Table114[[#This Row],[Next Calibration]]<$E$1,Table114[[#This Row],[Disposition]]=\"Lost\"),\"Find and Calibrate\",IF(Table114[[#This Row],[Disposition]]=\"Lost\",\"Find\",IF(OR(Table114[[#This Row],[Next Calibration]]<$E$1,Table114[[#This Row],[Next Calibration]]=\"NEVER CALIBRATED\"),\"Calibrate\",\"Nominal\"))))","v":""},{"$f":"IF(((Table114[[#This Row],[Next Calibration]]-TODAY())/30)>2,\"More Than 2\",IF(((Table114[[#This Row],[Next Calibration]]-TODAY())/30)>1,\"Between 2 and 1\",\"Less than 1\"))","v":{"$error":"#VALUE!"}},{"$f":"IF(Table114[[#This Row],[Issued]]=\"\",\"\",IF(Table114[[#This Row],[Lent]]=\"\",0,1))","v":""},{"$f":"IF(Table114[[#This Row],[Lent]]=\"\",\"\",IF(Table114[[#This Row],[Returned]]=\"\",0,1))","v":""}]
[{"$nulls":11},{"$f":"IF(IF(Table114[[#This Row],[Disposition]]=\"Retired\",\"N/A\",IF(Table114[[#This Row],[Disposition]]=0,\"\",K60+$F$2))=0+$F$2,\"NEVER CALIBRATED\",IF(Table114[[#This Row],[Disposition]]=\"Retired\",\"N/A\",IF(Table114[[#This Row],[Disposition]]=0,\"\",K60+$F$2)))","v":""},{"$f":"IF(Table114[[#This Row],[Disposition]]=\"\",\"\",IF(AND(Table114[[#This Row],[Next Calibration]]<$E$1,Table114[[#This Row],[Disposition]]=\"Lost\"),\"Find and Calibrate\",IF(Table114[[#This Row],[Disposition]]=\"Lost\",\"Find\",IF(OR(Table114[[#This Row],[Next Calibration]]<$E$1,Table114[[#This Row],[Next Calibration]]=\"NEVER CALIBRATED\"),\"Calibrate\",\"Nominal\"))))","v":""},{"$f":"IF(((Table114[[#This Row],[Next Calibration]]-TODAY())/30)>2,\"More Than 2\",IF(((Table114[[#This Row],[Next Calibration]]-TODAY())/30)>1,\"Between 2 and 1\",\"Less than 1\"))","v":{"$error":"#VALUE!"}},{"$f":"IF(Table114[[#This Row],[Issued]]=\"\",\"\",IF(Table114[[#This Row],[Lent]]=\"\",0,1))","v":""},{"$f":"IF(Table114[[#This Row],[Lent]]=\"\",\"\",IF(Table114[[#This Row],[Returned]]=\"\",0,1))","v":""}]
[{"$nulls":11},{"$f":"IF(IF(Table114[[#This Row],[Disposition]]=\"Retired\",\"N/A\",IF(Table114[[#This Row],[Disposition]]=0,\"\",K61+$F$2))=0+$F$2,\"NEVER CALIBRATED\",IF(Table114[[#This Row],[Disposition]]=\"Retired\",\"N/A\",IF(Table114[[#This Row],[Disposition]]=0,\"\",K61+$F$2)))","v":""},{"$f":"IF(Table114[[#This Row],[Disposition]]=\"\",\"\",IF(AND(Table114[[#This Row],[Next Calibration]]<$E$1,Table114[[#This Row],[Disposition]]=\"Lost\"),\"Find and Calibrate\",IF(Table114[[#This Row],[Disposition]]=\"Lost\",\"Find\",IF(OR(Table114[[#This Row],[Next Calibration]]<$E$1,Table114[[#This Row],[Next Calibration]]=\"NEVER CALIBRATED\"),\"Calibrate\",\"Nominal\"))))","v":""},{"$f":"IF(((Table114[[#This Row],[Next Calibration]]-TODAY())/30)>2,\"More Than 2\",IF(((Table114[[#This Row],[Next Calibration]]-TODAY())/30)>1,\"Between 2 and 1\",\"Less than 1\"))","v":{"$error":"#VALUE!"}},{"$f":"IF(Table114[[#This Row],[Issued]]=\"\",\"\",IF(Table114[[#This Row],[Lent]]=\"\",0,1))","v":""},{"$f":"IF(Table114[[#This Row],[Lent]]=\"\",\"\",IF(Table114[[#This Row],[Returned]]=\"\",0,1))","v":""}]
[{"$nulls":11},{"$f":"IF(IF(Table114[[#This Row],[Disposition]]=\"Retired\",\"N/A\",IF(Table114[[#This Row],[Disposition]]=0,\"\",K62+$F$2))=0+$F$2,\"NEVER CALIBRATED\",IF(Table114[[#This Row],[Disposition]]=\"Retired\",\"N/A\",IF(Table114[[#This Row],[Disposition]]=0,\"\",K62+$F$2)))","v":""},{"$f":"IF(Table114[[#This Row],[Disposition]]=\"\",\"\",IF(AND(Table114[[#This Row],[Next Calibration]]<$E$1,Table114[[#This Row],[Disposition]]=\"Lost\"),\"Find and Calibrate\",IF(Table114[[#This Row],[Disposition]]=\"Lost\",\"Find\",IF(OR(Table114[[#This Row],[Next Calibration]]<$E$1,Table114[[#This Row],[Next Calibration]]=\"NEVER CALIBRATED\"),\"Calibrate\",\"Nominal\"))))","v":""},{"$f":"IF(((Table114[[#This Row],[Next Calibration]]-TODAY())/30)>2,\"More Than 2\",IF(((Table114[[#This Row],[Next Calibration]]-TODAY())/30)>1,\"Between 2 and 1\",\"Less than 1\"))","v":{"$error":"#VALUE!"}},{"$f":"IF(Table114[[#This Row],[Issued]]=\"\",\"\",IF(Table114[[#This Row],[Lent]]=\"\",0,1))","v":""},{"$f":"IF(Table114[[#This Row],[Lent]]=\"\",\"\",IF(Table114[[#This Row],[Returned]]=\"\",0,1))","v":""}]
[{"$nulls":11},{"$f":"IF(IF(Table114[[#This Row],[Disposition]]=\"Retired\",\"N/A\",IF(Table114[[#This Row],[Disposition]]=0,\"\",K63+$F$2))=0+$F$2,\"NEVER CALIBRATED\",IF(Table114[[#This Row],[Disposition]]=\"Retired\",\"N/A\",IF(Table114[[#This Row],[Disposition]]=0,\"\",K63+$F$2)))","v":""},{"$f":"IF(Table114[[#This Row],[Disposition]]=\"\",\"\",IF(AND(Table114[[#This Row],[Next Calibration]]<$E$1,Table114[[#This Row],[Disposition]]=\"Lost\"),\"Find and Calibrate\",IF(Table114[[#This Row],[Disposition]]=\"Lost\",\"Find\",IF(OR(Table114[[#This Row],[Next Calibration]]<$E$1,Table114[[#This Row],[Next Calibration]]=\"NEVER CALIBRATED\"),\"Calibrate\",\"Nominal\"))))","v":""},{"$f":"IF(((Table114[[#This Row],[Next Calibration]]-TODAY())/30)>2,\"More Than 2\",IF(((Table114[[#This Row],[Next Calibration]]-TODAY())/30)>1,\"Between 2 and 1\",\"Less than 1\"))","v":{"$error":"#VALUE!"}},{"$f":"IF(Table114[[#This Row],[Issued]]=\"\",\"\",IF(Table114[[#This Row],[Lent]]=\"\",0,1))","v":""},{"$f":"IF(Table114[[#This Row],[Lent]]=\"\",\"\",IF(Table114[[#This Row],[Returned]]=\"\",0,1))","v":""}]
[{"$nulls":11},{"$f":"IF(IF(Table114[[#This Row],[Disposition]]=\"Retired\",\"N/A\",IF(Table114[[#This Row],[Disposition]]=0,\"\",K64+$F$2))=0+$F$2,\"NEVER CALIBRATED\",IF(Table114[[#This Row],[Disposition]]=\"Retired\",\"N/A\",IF(Table114[[#This Row],[Disposition]]=0,\"\",K64+$F$2)))","v":""},{"$f":"IF(Table114[[#This Row],[Disposition]]=\"\",\"\",IF(AND(Table114[[#This Row],[Next Calibration]]<$E$1,Table114[[#This Row],[Disposition]]=\"Lost\"),\"Find and Calibrate\",IF(Table114[[#This Row],[Disposition]]=\"Lost\",\"Find\",IF(OR(Table114[[#This Row],[Next Calibration]]<$E$1,Table114[[#This Row],[Next Calibration]]=\"NEVER CALIBRATED\"),\"Calibrate\",\"Nominal\"))))","v":""},{"$f":"IF(((Table114[[#This Row],[Next Calibration]]-TODAY())/30)>2,\"More Than 2\",IF(((Table114[[#This Row],[Next Calibration]]-TODAY())/30)>1,\"Between 2 and 1\",\"Less than 1\"))","v":{"$error":"#VALUE!"}},{"$f":"IF(Table114[[#This Row],[Issued]]=\"\",\"\",IF(Table114[[#This Row],[Lent]]=\"\",0,1))","v":""},{"$f":"IF(Table114[[#This Row],[Lent]]=\"\",\"\",IF(Table114[[#This Row],[Returned]]=\"\",0,1))","v":""}]
[{"$nulls":11},{"$f":"IF(IF(Table114[[#This Row],[Disposition]]=\"Retired\",\"N/A\",IF(Table114[[#This Row],[Disposition]]=0,\"\",K65+$F$2))=0+$F$2,\"NEVER CALIBRATED\",IF(Table114[[#This Row],[Disposition]]=\"Retired\",\"N/A\",IF(Table114[[#This Row],[Disposition]]=0,\"\",K65+$F$2)))","v":""},{"$f":"IF(Table114[[#This Row],[Disposition]]=\"\",\"\",IF(AND(Table114[[#This Row],[Next Calibration]]<$E$1,Table114[[#This Row],[Disposition]]=\"Lost\"),\"Find and Calibrate\",IF(Table114[[#This Row],[Disposition]]=\"Lost\",\"Find\",IF(OR(Table114[[#This Row],[Next Calibration]]<$E$1,Table114[[#This Row],[Next Calibration]]=\"NEVER CALIBRATED\"),\"Calibrate\",\"Nominal\"))))","v":""},{"$f":"IF(((Table114[[#This Row],[Next Calibration]]-TODAY())/30)>2,\"More Than 2\",IF(((Table114[[#This Row],[Next Calibration]]-TODAY())/30)>1,\"Between 2 and 1\",\"Less than 1\"))","v":{"$error":"#VALUE!"}},{"$f":"IF(Table114[[#This Row],[Issued]]=\"\",\"\",IF(Table114[[#This Row],[Lent]]=\"\",0,1))","v":""},{"$f":"IF(Table114[[#This Row],[Lent]]=\"\",\"\",IF(Table114[[#This Row],[Returned]]=\"\",0,1))","v":""}]
[{"$nulls":11},{"$f":"IF(IF(Table114[[#This Row],[Disposition]]=\"Retired\",\"N/A\",IF(Table114[[#This Row],[Disposition]]=0,\"\",K66+$F$2))=0+$F$2,\"NEVER CALIBRATED\",IF(Table114[[#This Row],[Disposition]]=\"Retired\",\"N/A\",IF(Table114[[#This Row],[Disposition]]=0,\"\",K66+$F$2)))","v":""},{"$f":"IF(Table114[[#This Row],[Disposition]]=\"\",\"\",IF(AND(Table114[[#This Row],[Next Calibration]]<$E$1,Table114[[#This Row],[Disposition]]=\"Lost\"),\"Find and Calibrate\",IF(Table114[[#This Row],[Disposition]]=\"Lost\",\"Find\",IF(OR(Table114[[#This Row],[Next Calibration]]<$E$1,Table114[[#This Row],[Next Calibration]]=\"NEVER CALIBRATED\"),\"Calibrate\",\"Nominal\"))))","v":""},{"$f":"IF(((Table114[[#This Row],[Next Calibration]]-TODAY())/30)>2,\"More Than 2\",IF(((Table114[[#This Row],[Next Calibration]]-TODAY())/30)>1,\"Between 2 and 1\",\"Less than 1\"))","v":{"$error":"#VALUE!"}},{"$f":"IF(Table114[[#This Row],[Issued]]=\"\",\"\",IF(Table114[[#This Row],[Lent]]=\"\",0,1))","v":""},{"$f":"IF(Table114[[#This Row],[Lent]]=\"\",\"\",IF(Table114[[#This Row],[Returned]]=\"\",0,1))","v":""}]
[{"$nulls":11},{"$f":"IF(IF(Table114[[#This Row],[Disposition]]=\"Retired\",\"N/A\",IF(Table114[[#This Row],[Disposition]]=0,\"\",K67+$F$2))=0+$F$2,\"NEVER CALIBRATED\",IF(Table114[[#This Row],[Disposition]]=\"Retired\",\"N/A\",IF(Table114[[#This Row],[Disposition]]=0,\"\",K67+$F$2)))","v":""},{"$f":"IF(Table114[[#This Row],[Disposition]]=\"\",\"\",IF(AND(Table114[[#This Row],[Next Calibration]]<$E$1,Table114[[#This Row],[Disposition]]=\"Lost\"),\"Find and Calibrate\",IF(Table114[[#This Row],[Disposition]]=\"Lost\",\"Find\",IF(OR(Table114[[#This Row],[Next Calibration]]<$E$1,Table114[[#This Row],[Next Calibration]]=\"NEVER CALIBRATED\"),\"Calibrate\",\"Nominal\"))))","v":""},{"$f":"IF(((Table114[[#This Row],[Next Calibration]]-TODAY())/30)>2,\"More Than 2\",IF(((Table114[[#This Row],[Next Calibration]]-TODAY())/30)>1,\"Between 2 and 1\",\"Less than 1\"))","v":{"$error":"#VALUE!"}},{"$f":"IF(Table114[[#This Row],[Issued]]=\"\",\"\",IF(Table114[[#This Row],[Lent]]=\"\",0,1))","v":""},{"$f":"IF(Table114[[#This Row],[Lent]]=\"\",\"\",IF(Table114[[#This Row],[Returned]]=\"\",0,1))","v":""}]
[{"$nulls":11},{"$f":"IF(IF(Table114[[#This Row],[Disposition]]=\"Retired\",\"N/A\",IF(Table114[[#This Row],[Disposition]]=0,\"\",K68+$F$2))=0+$F$2,\"NEVER CALIBRATED\",IF(Table114[[#This Row],[Disposition]]=\"Retired\",\"N/A\",IF(Table114[[#This Row],[Disposition]]=0,\"\",K68+$F$2)))","v":""},{"$f":"IF(Table114[[#This Row],[Disposition]]=\"\",\"\",IF(AND(Table114[[#This Row],[Next Calibration]]<$E$1,Table114[[#This Row],[Disposition]]=\"Lost\"),\"Find and Calibrate\",IF(Table114[[#This Row],[Disposition]]=\"Lost\",\"Find\",IF(OR(Table114[[#This Row],[Next Calibration]]<$E$1,Table114[[#This Row],[Next Calibration]]=\"NEVER CALIBRATED\"),\"Calibrate\",\"Nominal\"))))","v":""},{"$f":"IF(((Table114[[#This Row],[Next Calibration]]-TODAY())/30)>2,\"More Than 2\",IF(((Table114[[#This Row],[Next Calibration]]-TODAY())/30)>1,\"Between 2 and 1\",\"Less than 1\"))","v":{"$error":"#VALUE!"}},{"$f":"IF(Table114[[#This Row],[Issued]]=\"\",\"\",IF(Table114[[#This Row],[Lent]]=\"\",0,1))","v":""},{"$f":"IF(Table114[[#This Row],[Lent]]=\"\",\"\",IF(Table114[[#This Row],[Returned]]=\"\",0,1))","v":""}]
[{"$nulls":11},{"$f":"IF(IF(Table114[[#This Row],[Disposition]]=\"Retired\",\"N/A\",IF(Table114[[#This Row],[Disposition]]=0,\"\",K69+$F$2))=0+$F$2,\"NEVER CALIBRATED\",IF(Table114[[#This Row],[Disposition]]=\"Retired\",\"N/A\",IF(Table114[[#This Row],[Disposition]]=0,\"\",K69+$F$2)))","v":""},{"$f":"IF(Table114[[#This Row],[Disposition]]=\"\",\"\",IF(AND(Table114[[#This Row],[Next Calibration]]<$E$1,Table114[[#This Row],[Disposition]]=\"Lost\"),\"Find and Calibrate\",IF(Table114[[#This Row],[Disposition]]=\"Lost\",\"Find\",IF(OR(Table114[[#This Row],[Next Calibration]]<$E$1,Table114[[#This Row],[Next Calibration]]=\"NEVER CALIBRATED\"),\"Calibrate\",\"Nominal\"))))","v":""},{"$f":"IF(((Table114[[#This Row],[Next Calibration]]-TODAY())/30)>2,\"More Than 2\",IF(((Table114[[#This Row],[Next Calibration]]-TODAY())/30)>1,\"Between 2 and 1\",\"Less than 1\"))","v":{"$error":"#VALUE!"}},{"$f":"IF(Table114[[#This Row],[Issued]]=\"\",\"\",IF(Table114[[#This Row],[Lent]]=\"\",0,1))","v":""},{"$f":"IF(Table114[[#This Row],[Lent]]=\"\",\"\",IF(Table114[[#This Row],[Returned]]=\"\",0,1))","v":""}]
[{"$nulls":11},{"$f":"IF(IF(Table114[[#This Row],[Disposition]]=\"Retired\",\"N/A\",IF(Table114[[#This Row],[Disposition]]=0,\"\",K70+$F$2))=0+$F$2,\"NEVER CALIBRATED\",IF(Table114[[#This Row],[Disposition]]=\"Retired\",\"N/A\",IF(Table114[[#This Row],[Disposition]]=0,\"\",K70+$F$2)))","v":""},{"$f":"IF(Table114[[#This Row],[Disposition]]=\"\",\"\",IF(AND(Table114[[#This Row],[Next Calibration]]<$E$1,Table114[[#This Row],[Disposition]]=\"Lost\"),\"Find and Calibrate\",IF(Table114[[#This Row],[Disposition]]=\"Lost\",\"Find\",IF(OR(Table114[[#This Row],[Next Calibration]]<$E$1,Table114[[#This Row],[Next Calibration]]=\"NEVER CALIBRATED\"),\"Calibrate\",\"Nominal\"))))","v":""},{"$f":"IF(((Table114[[#This Row],[Next Calibration]]-TODAY())/30)>2,\"More Than 2\",IF(((Table114[[#This Row],[Next Calibration]]-TODAY())/30)>1,\"Between 2 and 1\",\"Less than 1\"))","v":{"$error":"#VALUE!"}},{"$f":"IF(Table114[[#This Row],[Issued]]=\"\",\"\",IF(Table114[[#This Row],[Lent]]=\"\",0,1))","v":""},{"$f":"IF(Table114[[#This Row],[Lent]]=\"\",\"\",IF(Table114[[#This Row],[Returned]]=\"\",0,1))","v":""}]
[{"$nulls":11},{"$f":"IF(IF(Table114[[#This Row],[Disposition]]=\"Retired\",\"N/A\",IF(Table114[[#This Row],[Disposition]]=0,\"\",K71+$F$2))=0+$F$2,\"NEVER CALIBRATED\",IF(Table114[[#This Row],[Disposition]]=\"Retired\",\"N/A\",IF(Table114[[#This Row],[Disposition]]=0,\"\",K71+$F$2)))","v":""},{"$f":"IF(Table114[[#This Row],[Disposition]]=\"\",\"\",IF(AND(Table114[[#This Row],[Next Calibration]]<$E$1,Table114[[#This Row],[Disposition]]=\"Lost\"),\"Find and Calibrate\",IF(Table114[[#This Row],[Disposition]]=\"Lost\",\"Find\",IF(OR(Table114[[#This Row],[Next Calibration]]<$E$1,Table114[[#This Row],[Next Calibration]]=\"NEVER CALIBRATED\"),\"Calibrate\",\"Nominal\"))))","v":""},{"$f":"IF(((Table114[[#This Row],[Next Calibration]]-TODAY())/30)>2,\"More Than 2\",IF(((Table114[[#This Row],[Next Calibration]]-TODAY())/30)>1,\"Between 2 and 1\",\"Less than 1\"))","v":{"$error":"#VALUE!"}},{"$f":"IF(Table114[[#This Row],[Issued]]=\"\",\"\",IF(Table114[[#This Row],[Lent]]=\"\",0,1))","v":""},{"$f":"IF(Table114[[#This Row],[Lent]]=\"\",\"\",IF(Table114[[#This Row],[Returned]]=\"\",0,1))","v":""}]
[{"$nulls":11},{"$f":"IF(IF(Table114[[#This Row],[Disposition]]=\"Retired\",\"N/A\",IF(Table114[[#This Row],[Disposition]]=0,\"\",K72+$F$2))=0+$F$2,\"NEVER CALIBRATED\",IF(Table114[[#This Row],[Disposition]]=\"Retired\",\"N/A\",IF(Table114[[#This Row],[Disposition]]=0,\"\",K72+$F$2)))","v":""},{"$f":"IF(Table114[[#This Row],[Disposition]]=\"\",\"\",IF(AND(Table114[[#This Row],[Next Calibration]]<$E$1,Table114[[#This Row],[Disposition]]=\"Lost\"),\"Find and Calibrate\",IF(Table114[[#This Row],[Disposition]]=\"Lost\",\"Find\",IF(OR(Table114[[#This Row],[Next Calibration]]<$E$1,Table114[[#This Row],[Next Calibration]]=\"NEVER CALIBRATED\"),\"Calibrate\",\"Nominal\"))))","v":""},{"$f":"IF(((Table114[[#This Row],[Next Calibration]]-TODAY())/30)>2,\"More Than 2\",IF(((Table114[[#This Row],[Next Calibration]]-TODAY())/30)>1,\"Between 2 and 1\",\"Less than 1\"))","v":{"$error":"#VALUE!"}},{"$f":"IF(Table114[[#This Row],[Issued]]=\"\",\"\",IF(Table114[[#This Row],[Lent]]=\"\",0,1))","v":""},{"$f":"IF(Table114[[#This Row],[Lent]]=\"\",\"\",IF(Table114[[#This Row],[Returned]]=\"\",0,1))","v":""}]
[{"$nulls":11},{"$f":"IF(IF(Table114[[#This Row],[Disposition]]=\"Retired\",\"N/A\",IF(Table114[[#This Row],[Disposition]]=0,\"\",K73+$F$2))=0+$F$2,\"NEVER CALIBRATED\",IF(Table114[[#This Row],[Disposition]]=\"Retired\",\"N/A\",IF(Table114[[#This Row],[Disposition]]=0,\"\",K73+$F$2)))","v":""},{"$f":"IF(Table114[[#This Row],[Disposition]]=\"\",\"\",IF(AND(Table114[[#This Row],[Next Calibration]]<$E$1,Table114[[#This Row],[Disposition]]=\"Lost\"),\"Find and Calibrate\",IF(Table114[[#This Row],[Disposition]]=\"Lost\",\"Find\",IF(OR(Table114[[#This Row],[Next Calibration]]<$E$1,Table114[[#This Row],[Next Calibration]]=\"NEVER CALIBRATED\"),\"Calibrate\",\"Nominal\"))))","v":""},{"$f":"IF(((Table114[[#This Row],[Next Calibration]]-TODAY())/30)>2,\"More Than 2\",IF(((Table114[[#This Row],[Next Calibration]]-TODAY())/30)>1,\"Between 2 and 1\",\"Less than 1\"))","v":{"$error":"#VALUE!"}},{"$f":"IF(Table114[[#This Row],[Issued]]=\"\",\"\",IF(Table114[[#This Row],[Lent]]=\"\",0,1))","v":""},{"$f":"IF(Table114[[#This Row],[Lent]]=\"\",\"\",IF(Table114[[#This Row],[Returned]]=\"\",0,1))","v":""}]
[{"$nulls":11},{"$f":"IF(IF(Table114[[#This Row],[Disposition]]=\"Retired\",\"N/A\",IF(Table114[[#This Row],[Disposition]]=0,\"\",K74+$F$2))=0+$F$2,\"NEVER CALIBRATED\",IF(Table114[[#This Row],[Disposition]]=\"Retired\",\"N/A\",IF(Table114[[#This Row],[Disposition]]=0,\"\",K74+$F$2)))","v":""},{"$f":"IF(Table114[[#This Row],[Disposition]]=\"\",\"\",IF(AND(Table114[[#This Row],[Next Calibration]]<$E$1,Table114[[#This Row],[Disposition]]=\"Lost\"),\"Find and Calibrate\",IF(Table114[[#This Row],[Disposition]]=\"Lost\",\"Find\",IF(OR(Table114[[#This Row],[Next Calibration]]<$E$1,Table114[[#This Row],[Next Calibration]]=\"NEVER CALIBRATED\"),\"Calibrate\",\"Nominal\"))))","v":""},{"$f":"IF(((Table114[[#This Row],[Next Calibration]]-TODAY())/30)>2,\"More Than 2\",IF(((Table114[[#This Row],[Next Calibration]]-TODAY())/30)>1,\"Between 2 and 1\",\"Less than 1\"))","v":{"$error":"#VALUE!"}},{"$f":"IF(Table114[[#This Row],[Issued]]=\"\",\"\",IF(Table114[[#This Row],[Lent]]=\"\",0,1))","v":""},{"$f":"IF(Table114[[#This Row],[Lent]]=\"\",\"\",IF(Table114[[#This Row],[Returned]]=\"\",0,1))","v":""}]
[{"$nulls":11},{"$f":"IF(IF(Table114[[#This Row],[Disposition]]=\"Retired\",\"N/A\",IF(Table114[[#This Row],[Disposition]]=0,\"\",K75+$F$2))=0+$F$2,\"NEVER CALIBRATED\",IF(Table114[[#This Row],[Disposition]]=\"Retired\",\"N/A\",IF(Table114[[#This Row],[Disposition]]=0,\"\",K75+$F$2)))","v":""},{"$f":"IF(Table114[[#This Row],[Disposition]]=\"\",\"\",IF(AND(Table114[[#This Row],[Next Calibration]]<$E$1,Table114[[#This Row],[Disposition]]=\"Lost\"),\"Find and Calibrate\",IF(Table114[[#This Row],[Disposition]]=\"Lost\",\"Find\",IF(OR(Table114[[#This Row],[Next Calibration]]<$E$1,Table114[[#This Row],[Next Calibration]]=\"NEVER CALIBRATED\"),\"Calibrate\",\"Nominal\"))))","v":""},{"$f":"IF(((Table114[[#This Row],[Next Calibration]]-TODAY())/30)>2,\"More Than 2\",IF(((Table114[[#This Row],[Next Calibration]]-TODAY())/30)>1,\"Between 2 and 1\",\"Less than 1\"))","v":{"$error":"#VALUE!"}},{"$f":"IF(Table114[[#This Row],[Issued]]=\"\",\"\",IF(Table114[[#This Row],[Lent]]=\"\",0,1))","v":""},{"$f":"IF(Table114[[#This Row],[Lent]]=\"\",\"\",IF(Table114[[#This Row],[Returned]]=\"\",0,1))","v":""}]
[{"$nulls":11},{"$f":"IF(IF(Table114[[#This Row],[Disposition]]=\"Retired\",\"N/A\",IF(Table114[[#This Row],[Disposition]]=0,\"\",K76+$F$2))=0+$F$2,\"NEVER CALIBRATED\",IF(Table114[[#This Row],[Disposition]]=\"Retired\",\"N/A\",IF(Table114[[#This Row],[Disposition]]=0,\"\",K76+$F$2)))","v":""},{"$f":"IF(Table114[[#This Row],[Disposition]]=\"\",\"\",IF(AND(Table114[[#This Row],[Next Calibration]]<$E$1,Table114[[#This Row],[Disposition]]=\"Lost\"),\"Find and Calibrate\",IF(Table114[[#This Row],[Disposition]]=\"Lost\",\"Find\",IF(OR(Table114[[#This Row],[Next Calibration]]<$E$1,Table114[[#This Row],[Next Calibration]]=\"NEVER CALIBRATED\"),\"Calibrate\",\"Nominal\"))))","v":""},{"$f":"IF(((Table114[[#This Row],[Next Calibration]]-TODAY())/30)>2,\"More Than 2\",IF(((Table114[[#This Row],[Next Calibration]]-TODAY())/30)>1,\"Between 2 and 1\",\"Less than 1\"))","v":{"$error":"#VALUE!"}},{"$f":"IF(Table114[[#This Row],[Issued]]=\"\",\"\",IF(Table114[[#This Row],[Lent]]=\"\",0,1))","v":""},{"$f":"IF(Table114[[#This Row],[Lent]]=\"\",\"\",IF(Table114[[#This Row],[Returned]]=\"\",0,1))","v":""}]
[{"$nulls":11},{"$f":"IF(IF(Table114[[#This Row],[Disposition]]=\"Retired\",\"N/A\",IF(Table114[[#This Row],[Disposition]]=0,\"\",K77+$F$2))=0+$F$2,\"NEVER CALIBRATED\",IF(Table114[[#This Row],[Disposition]]=\"Retired\",\"N/A\",IF(Table114[[#This Row],[Disposition]]=0,\"\",K77+$F$2)))","v":""},{"$f":"IF(Table114[[#This Row],[Disposition]]=\"\",\"\",IF(AND(Table114[[#This Row],[Next Calibration]]<$E$1,Table114[[#This Row],[Disposition]]=\"Lost\"),\"Find and Calibrate\",IF(Table114[[#This Row],[Disposition]]=\"Lost\",\"Find\",IF(OR(Table114[[#This Row],[Next Calibration]]<$E$1,Table114[[#This Row],[Next Calibration]]=\"NEVER CALIBRATED\"),\"Calibrate\",\"Nominal\"))))","v":""},{"$f":"IF(((Table114[[#This Row],[Next Calibration]]-TODAY())/30)>2,\"More Than 2\",IF(((Table114[[#This Row],[Next Calibration]]-TODAY())/30)>1,\"Between 2 and 1\",\"Less than 1\"))","v":{"$error":"#VALUE!"}},{"$f":"IF(Table114[[#This Row],[Issued]]=\"\",\"\",IF(Table114[[#This Row],[Lent]]=\"\",0,1))","v":""},{"$f":"IF(Table114[[#This Row],[Lent]]=\"\",\"\",IF(Table114[[#This Row],[Returned]]=\"\",0,1))","v":""}]
[{"$nulls":11},{"$f":"IF(IF(Table114[[#This Row],[Disposition]]=\"Retired\",\"N/A\",IF(Table114[[#This Row],[Disposition]]=0,\"\",K78+$F$2))=0+$F$2,\"NEVER CALIBRATED\",IF(Table114[[#This Row],[Disposition]]=\"Retired\",\"N/A\",IF(Table114[[#This Row],[Disposition]]=0,\"\",K78+$F$2)))","v":""},{"$f":"IF(Table114[[#This Row],[Disposition]]=\"\",\"\",IF(AND(Table114[[#This Row],[Next Calibration]]<$E$1,Table114[[#This Row],[Disposition]]=\"Lost\"),\"Find and Calibrate\",IF(Table114[[#This Row],[Disposition]]=\"Lost\",\"Find\",IF(OR(Table114[[#This Row],[Next Calibration]]<$E$1,Table114[[#This Row],[Next Calibration]]=\"NEVER CALIBRATED\"),\"Calibrate\",\"Nominal\"))))","v":""},{"$f":"IF(((Table114[[#This Row],[Next Calibration]]-TODAY())/30)>2,\"More Than 2\",IF(((Table114[[#This Row],[Next Calibration]]-TODAY())/30)>1,\"Between 2 and 1\",\"Less than 1\"))","v":{"$error":"#VALUE!"}},{"$f":"IF(Table114[[#This Row],[Issued]]=\"\",\"\",IF(Table114[[#This Row],[Lent]]=\"\",0,1))","v":""},{"$f":"IF(Table114[[#This Row],[Lent]]=\"\",\"\",IF(Table114[[#This Row],[Returned]]=\"\",0,1))","v":""}]
[{"$nulls":11},{"$f":"IF(IF(Table114[[#This Row],[Disposition]]=\"Retired\",\"N/A\",IF(Table114[[#This Row],[Disposition]]=0,\"\",K79+$F$2))=0+$F$2,\"NEVER CALIBRATED\",IF(Table114[[#This Row],[Disposition]]=\"Retired\",\"N/A\",IF(Table114[[#This Row],[Disposition]]=0,\"\",K79+$F$2)))","v":""},{"$f":"IF(Table114[[#This Row],[Disposition]]=\"\",\"\",IF(AND(Table114[[#This Row],[Next Calibration]]<$E$1,Table114[[#This Row],[Disposition]]=\"Lost\"),\"Find and Calibrate\",IF(Table114[[#This Row],[Disposition]]=\"Lost\",\"Find\",IF(OR(Table114[[#This Row],[Next Calibration]]<$E$1,Table114[[#This Row],[Next Calibration]]=\"NEVER CALIBRATED\"),\"Calibrate\",\"Nominal\"))))","v":""},{"$f":"IF(((Table114[[#This Row],[Next Calibration]]-TODAY())/30)>2,\"More Than 2\",IF(((Table114[[#This Row],[Next Calibration]]-TODAY())/30)>1,\"Between 2 and 1\",\"Less than 1\"))","v":{"$error":"#VALUE!"}},{"$f":"IF(Table114[[#This Row],[Issued]]=\"\",\"\",IF(Table114[[#This Row],[Lent]]=\"\",0,1))","v":""},{"$f":"IF(Table114[[#This Row],[Lent]]=\"\",\"\",IF(Table114[[#This Row],[Returned]]=\"\",0,1))","v":""}]
[{"$nulls":11},{"$f":"IF(IF(Table114[[#This Row],[Disposition]]=\"Retired\",\"N/A\",IF(Table114[[#This Row],[Disposition]]=0,\"\",K80+$F$2))=0+$F$2,\"NEVER CALIBRATED\",IF(Table114[[#This Row],[Disposition]]=\"Retired\",\"N/A\",IF(Table114[[#This Row],[Disposition]]=0,\"\",K80+$F$2)))","v":""},{"$f":"IF(Table114[[#This Row],[Disposition]]=\"\",\"\",IF(AND(Table114[[#This Row],[Next Calibration]]<$E$1,Table114[[#This Row],[Disposition]]=\"Lost\"),\"Find and Calibrate\",IF(Table114[[#This Row],[Disposition]]=\"Lost\",\"Find\",IF(OR(Table114[[#This Row],[Next Calibration]]<$E$1,Table114[[#This Row],[Next Calibration]]=\"NEVER CALIBRATED\"),\"Calibrate\",\"Nominal\"))))","v":""},{"$f":"IF(((Table114[[#This Row],[Next Calibration]]-TODAY())/30)>2,\"More Than 2\",IF(((Table114[[#This Row],[Next Calibration]]-TODAY())/30)>1,\"Between 2 and 1\",\"Less than 1\"))","v":{"$error":"#VALUE!"}},{"$f":"IF(Table114[[#This Row],[Issued]]=\"\",\"\",IF(Table114[[#This Row],[Lent]]=\"\",0,1))","v":""},{"$f":"IF(Table114[[#This Row],[Lent]]=\"\",\"\",IF(Table114[[#This Row],[Returned]]=\"\",0,1))","v":""}]
[{"$nulls":11},{"$f":"IF(IF(Table114[[#This Row],[Disposition]]=\"Retired\",\"N/A\",IF(Table114[[#This Row],[Disposition]]=0,\"\",K81+$F$2))=0+$F$2,\"NEVER CALIBRATED\",IF(Table114[[#This Row],[Disposition]]=\"Retired\",\"N/A\",IF(Table114[[#This Row],[Disposition]]=0,\"\",K81+$F$2)))","v":""},{"$f":"IF(Table114[[#This Row],[Disposition]]=\"\",\"\",IF(AND(Table114[[#This Row],[Next Calibration]]<$E$1,Table114[[#This Row],[Disposition]]=\"Lost\"),\"Find and Calibrate\",IF(Table114[[#This Row],[Disposition]]=\"Lost\",\"Find\",IF(OR(Table114[[#This Row],[Next Calibration]]<$E$1,Table114[[#This Row],[Next Calibration]]=\"NEVER CALIBRATED\"),\"Calibrate\",\"Nominal\"))))","v":""},{"$f":"IF(((Table114[[#This Row],[Next Calibration]]-TODAY())/30)>2,\"More Than 2\",IF(((Table114[[#This Row],[Next Calibration]]-TODAY())/30)>1,\"Between 2 and 1\",\"Less than 1\"))","v":{"$error":"#VALUE!"}},{"$f":"IF(Table114[[#This Row],[Issued]]=\"\",\"\",IF(Table114[[#This Row],[Lent]]=\"\",0,1))","v":""},{"$f":"IF(Table114[[#This Row],[Lent]]=\"\",\"\",IF(Table114[[#This Row],[Returned]]=\"\",0,1))","v":""}]
[{"$nulls":11},{"$f":"IF(IF(Table114[[#This Row],[Disposition]]=\"Retired\",\"N/A\",IF(Table114[[#This Row],[Disposition]]=0,\"\",K82+$F$2))=0+$F$2,\"NEVER CALIBRATED\",IF(Table114[[#This Row],[Disposition]]=\"Retired\",\"N/A\",IF(Table114[[#This Row],[Disposition]]=0,\"\",K82+$F$2)))","v":""},{"$f":"IF(Table114[[#This Row],[Disposition]]=\"\",\"\",IF(AND(Table114[[#This Row],[Next Calibration]]<$E$1,Table114[[#This Row],[Disposition]]=\"Lost\"),\"Find and Calibrate\",IF(Table114[[#This Row],[Disposition]]=\"Lost\",\"Find\",IF(OR(Table114[[#This Row],[Next Calibration]]<$E$1,Table114[[#This Row],[Next Calibration]]=\"NEVER CALIBRATED\"),\"Calibrate\",\"Nominal\"))))","v":""},{"$f":"IF(((Table114[[#This Row],[Next Calibration]]-TODAY())/30)>2,\"More Than 2\",IF(((Table114[[#This Row],[Next Calibration]]-TODAY())/30)>1,\"Between 2 and 1\",\"Less than 1\"))","v":{"$error":"#VALUE!"}},{"$f":"IF(Table114[[#This Row],[Issued]]=\"\",\"\",IF(Table114[[#This Row],[Lent]]=\"\",0,1))","v":""},{"$f":"IF(Table114[[#This Row],[Lent]]=\"\",\"\",IF(Table114[[#This Row],[Returned]]=\"\",0,1))","v":""}]
[{"$nulls":11},{"$f":"IF(IF(Table114[[#This Row],[Disposition]]=\"Retired\",\"N/A\",IF(Table114[[#This Row],[Disposition]]=0,\"\",K83+$F$2))=0+$F$2,\"NEVER CALIBRATED\",IF(Table114[[#This Row],[Disposition]]=\"Retired\",\"N/A\",IF(Table114[[#This Row],[Disposition]]=0,\"\",K83+$F$2)))","v":""},{"$f":"IF(Table114[[#This Row],[Disposition]]=\"\",\"\",IF(AND(Table114[[#This Row],[Next Calibration]]<$E$1,Table114[[#This Row],[Disposition]]=\"Lost\"),\"Find and Calibrate\",IF(Table114[[#This Row],[Disposition]]=\"Lost\",\"Find\",IF(OR(Table114[[#This Row],[Next Calibration]]<$E$1,Table114[[#This Row],[Next Calibration]]=\"NEVER CALIBRATED\"),\"Calibrate\",\"Nominal\"))))","v":""},{"$f":"IF(((Table114[[#This Row],[Next Calibration]]-TODAY())/30)>2,\"More Than 2\",IF(((Table114[[#This Row],[Next Calibration]]-TODAY())/30)>1,\"Between 2 and 1\",\"Less than 1\"))","v":{"$error":"#VALUE!"}},{"$f":"IF(Table114[[#This Row],[Issued]]=\"\",\"\",IF(Table114[[#This Row],[Lent]]=\"\",0,1))","v":""},{"$f":"IF(Table114[[#This Row],[Lent]]=\"\",\"\",IF(Table114[[#This Row],[Returned]]=\"\",0,1))","v":""}]
[{"$nulls":11},{"$f":"IF(IF(Table114[[#This Row],[Disposition]]=\"Retired\",\"N/A\",IF(Table114[[#This Row],[Disposition]]=0,\"\",K84+$F$2))=0+$F$2,\"NEVER CALIBRATED\",IF(Table114[[#This Row],[Disposition]]=\"Retired\",\"N/A\",IF(Table114[[#This Row],[Disposition]]=0,\"\",K84+$F$2)))","v":""},{"$f":"IF(Table114[[#This Row],[Disposition]]=\"\",\"\",IF(AND(Table114[[#This Row],[Next Calibration]]<$E$1,Table114[[#This Row],[Disposition]]=\"Lost\"),\"Find and Calibrate\",IF(Table114[[#This Row],[Disposition]]=\"Lost\",\"Find\",IF(OR(Table114[[#This Row],[Next Calibration]]<$E$1,Table114[[#This Row],[Next Calibration]]=\"NEVER CALIBRATED\"),\"Calibrate\",\"Nominal\"))))","v":""},{"$f":"IF(((Table114[[#This Row],[Next Calibration]]-TODAY())/30)>2,\"More Than 2\",IF(((Table114[[#This Row],[Next Calibration]]-TODAY())/30)>1,\"Between 2 and 1\",\"Less than 1\"))","v":{"$error":"#VALUE!"}},{"$f":"IF(Table114[[#This Row],[Issued]]=\"\",\"\",IF(Table114[[#This Row],[Lent]]=\"\",0,1))","v":""},{"$f":"IF(Table114[[#This Row],[Lent]]=\"\",\"\",IF(Table114[[#This Row],[Returned]]=\"\",0,1))","v":""}]
[{"$nulls":11},{"$f":"IF(IF(Table114[[#This Row],[Disposition]]=\"Retired\",\"N/A\",IF(Table114[[#This Row],[Disposition]]=0,\"\",K85+$F$2))=0+$F$2,\"NEVER CALIBRATED\",IF(Table114[[#This Row],[Disposition]]=\"Retired\",\"N/A\",IF(Table114[[#This Row],[Disposition]]=0,\"\",K85+$F$2)))","v":""},{"$f":"IF(Table114[[#This Row],[Disposition]]=\"\",\"\",IF(AND(Table114[[#This Row],[Next Calibration]]<$E$1,Table114[[#This Row],[Disposition]]=\"Lost\"),\"Find and Calibrate\",IF(Table114[[#This Row],[Disposition]]=\"Lost\",\"Find\",IF(OR(Table114[[#This Row],[Next Calibration]]<$E$1,Table114[[#This Row],[Next Calibration]]=\"NEVER CALIBRATED\"),\"Calibrate\",\"Nominal\"))))","v":""},{"$f":"IF(((Table114[[#This Row],[Next Calibration]]-TODAY())/30)>2,\"More Than 2\",IF(((Table114[[#This Row],[Next Calibration]]-TODAY())/30)>1,\"Between 2 and 1\",\"Less than 1\"))","v":{"$error":"#VALUE!"}},{"$f":"IF(Table114[[#This Row],[Issued]]=\"\",\"\",IF(Table114[[#This Row],[Lent]]=\"\",0,1))","v":""},{"$f":"IF(Table114[[#This Row],[Lent]]=\"\",\"\",IF(Table114[[#This Row],[Returned]]=\"\",0,1))","v":""}]
[{"$nulls":11},{"$f":"IF(IF(Table114[[#This Row],[Disposition]]=\"Retired\",\"N/A\",IF(Table114[[#This Row],[Disposition]]=0,\"\",K86+$F$2))=0+$F$2,\"NEVER CALIBRATED\",IF(Table114[[#This Row],[Disposition]]=\"Retired\",\"N/A\",IF(Table114[[#This Row],[Disposition]]=0,\"\",K86+$F$2)))","v":""},{"$f":"IF(Table114[[#This Row],[Disposition]]=\"\",\"\",IF(AND(Table114[[#This Row],[Next Calibration]]<$E$1,Table114[[#This Row],[Disposition]]=\"Lost\"),\"Find and Calibrate\",IF(Table114[[#This Row],[Disposition]]=\"Lost\",\"Find\",IF(OR(Table114[[#This Row],[Next Calibration]]<$E$1,Table114[[#This Row],[Next Calibration]]=\"NEVER CALIBRATED\"),\"Calibrate\",\"Nominal\"))))","v":""},{"$f":"IF(((Table114[[#This Row],[Next Calibration]]-TODAY())/30)>2,\"More Than 2\",IF(((Table114[[#This Row],[Next Calibration]]-TODAY())/30)>1,\"Between 2 and 1\",\"Less than 1\"))","v":{"$error":"#VALUE!"}},{"$f":"IF(Table114[[#This Row],[Issued]]=\"\",\"\",IF(Table114[[#This Row],[Lent]]=\"\",0,1))","v":""},{"$f":"IF(Table114[[#This Row],[Lent]]=\"\",\"\",IF(Table114[[#This Row],[Returned]]=\"\",0,1))","v":""}]
[{"$nulls":11},{"$f":"IF(IF(Table114[[#This Row],[Disposition]]=\"Retired\",\"N/A\",IF(Table114[[#This Row],[Disposition]]=0,\"\",K87+$F$2))=0+$F$2,\"NEVER CALIBRATED\",IF(Table114[[#This Row],[Disposition]]=\"Retired\",\"N/A\",IF(Table114[[#This Row],[Disposition]]=0,\"\",K87+$F$2)))","v":""},{"$f":"IF(Table114[[#This Row],[Disposition]]=\"\",\"\",IF(AND(Table114[[#This Row],[Next Calibration]]<$E$1,Table114[[#This Row],[Disposition]]=\"Lost\"),\"Find and Calibrate\",IF(Table114[[#This Row],[Disposition]]=\"Lost\",\"Find\",IF(OR(Table114[[#This Row],[Next Calibration]]<$E$1,Table114[[#This Row],[Next Calibration]]=\"NEVER CALIBRATED\"),\"Calibrate\",\"Nominal\"))))","v":""},{"$f":"IF(((Table114[[#This Row],[Next Calibration]]-TODAY())/30)>2,\"More Than 2\",IF(((Table114[[#This Row],[Next Calibration]]-TODAY())/30)>1,\"Between 2 and 1\",\"Less than 1\"))","v":{"$error":"#VALUE!"}},{"$f":"IF(Table114[[#This Row],[Issued]]=\"\",\"\",IF(Table114[[#This Row],[Lent]]=\"\",0,1))","v":""},{"$f":"IF(Table114[[#This Row],[Lent]]=\"\",\"\",IF(Table114[[#This Row],[Returned]]=\"\",0,1))","v":""}]
[{"$nulls":11},{"$f":"IF(IF(Table114[[#This Row],[Disposition]]=\"Retired\",\"N/A\",IF(Table114[[#This Row],[Disposition]]=0,\"\",K88+$F$2))=0+$F$2,\"NEVER CALIBRATED\",IF(Table114[[#This Row],[Disposition]]=\"Retired\",\"N/A\",IF(Table114[[#This Row],[Disposition]]=0,\"\",K88+$F$2)))","v":""},{"$f":"IF(Table114[[#This Row],[Disposition]]=\"\",\"\",IF(AND(Table114[[#This Row],[Next Calibration]]<$E$1,Table114[[#This Row],[Disposition]]=\"Lost\"),\"Find and Calibrate\",IF(Table114[[#This Row],[Disposition]]=\"Lost\",\"Find\",IF(OR(Table114[[#This Row],[Next Calibration]]<$E$1,Table114[[#This Row],[Next Calibration]]=\"NEVER CALIBRATED\"),\"Calibrate\",\"Nominal\"))))","v":""},{"$f":"IF(((Table114[[#This Row],[Next Calibration]]-TODAY())/30)>2,\"More Than 2\",IF(((Table114[[#This Row],[Next Calibration]]-TODAY())/30)>1,\"Between 2 and 1\",\"Less than 1\"))","v":{"$error":"#VALUE!"}},{"$f":"IF(Table114[[#This Row],[Issued]]=\"\",\"\",IF(Table114[[#This Row],[Lent]]=\"\",0,1))","v":""},{"$f":"IF(Table114[[#This Row],[Lent]]=\"\",\"\",IF(Table114[[#This Row],[Returned]]=\"\",0,1))","v":""}]
[{"$nulls":11},{"$f":"IF(IF(Table114[[#This Row],[Disposition]]=\"Retired\",\"N/A\",IF(Table114[[#This Row],[Disposition]]=0,\"\",K89+$F$2))=0+$F$2,\"NEVER CALIBRATED\",IF(Table114[[#This Row],[Disposition]]=\"Retired\",\"N/A\",IF(Table114[[#This Row],[Disposition]]=0,\"\",K89+$F$2)))","v":""},{"$f":"IF(Table114[[#This Row],[Disposition]]=\"\",\"\",IF(AND(Table114[[#This Row],[Next Calibration]]<$E$1,Table114[[#This Row],[Disposition]]=\"Lost\"),\"Find and Calibrate\",IF(Table114[[#This Row],[Disposition]]=\"Lost\",\"Find\",IF(OR(Table114[[#This Row],[Next Calibration]]<$E$1,Table114[[#This Row],[Next Calibration]]=\"NEVER CALIBRATED\"),\"Calibrate\",\"Nominal\"))))","v":""},{"$f":"IF(((Table114[[#This Row],[Next Calibration]]-TODAY())/30)>2,\"More Than 2\",IF(((Table114[[#This Row],[Next Calibration]]-TODAY())/30)>1,\"Between 2 and 1\",\"Less than 1\"))","v":{"$error":"#VALUE!"}},{"$f":"IF(Table114[[#This Row],[Issued]]=\"\",\"\",IF(Table114[[#This Row],[Lent]]=\"\",0,1))","v":""},{"$f":"IF(Table114[[#This Row],[Lent]]=\"\",\"\",IF(Table114[[#This Row],[Returned]]=\"\",0,1))","v":""}]
[{"$nulls":11},{"$f":"IF(IF(Table114[[#This Row],[Disposition]]=\"Retired\",\"N/A\",IF(Table114[[#This Row],[Disposition]]=0,\"\",K90+$F$2))=0+$F$2,\"NEVER CALIBRATED\",IF(Table114[[#This Row],[Disposition]]=\"Retired\",\"N/A\",IF(Table114[[#This Row],[Disposition]]=0,\"\",K90+$F$2)))","v":""},{"$f":"IF(Table114[[#This Row],[Disposition]]=\"\",\"\",IF(AND(Table114[[#This Row],[Next Calibration]]<$E$1,Table114[[#This Row],[Disposition]]=\"Lost\"),\"Find and Calibrate\",IF(Table114[[#This Row],[Disposition]]=\"Lost\",\"Find\",IF(OR(Table114[[#This Row],[Next Calibration]]<$E$1,Table114[[#This Row],[Next Calibration]]=\"NEVER CALIBRATED\"),\"Calibrate\",\"Nominal\"))))","v":""},{"$f":"IF(((Table114[[#This Row],[Next Calibration]]-TODAY())/30)>2,\"More Than 2\",IF(((Table114[[#This Row],[Next Calibration]]-TODAY())/30)>1,\"Between 2 and 1\",\"Less than 1\"))","v":{"$error":"#VALUE!"}},{"$f":"IF(Table114[[#This Row],[Issued]]=\"\",\"\",IF(Table114[[#This Row],[Lent]]=\"\",0,1))","v":""},{"$f":"IF(Table114[[#This Row],[Lent]]=\"\",\"\",IF(Table114[[#This Row],[Returned]]=\"\",0,1))","v":""}]
[{"$nulls":11},{"$f":"IF(IF(Table114[[#This Row],[Disposition]]=\"Retired\",\"N/A\",IF(Table114[[#This Row],[Disposition]]=0,\"\",K91+$F$2))=0+$F$2,\"NEVER CALIBRATED\",IF(Table114[[#This Row],[Disposition]]=\"Retired\",\"N/A\",IF(Table114[[#This Row],[Disposition]]=0,\"\",K91+$F$2)))","v":""},{"$f":"IF(Table114[[#This Row],[Disposition]]=\"\",\"\",IF(AND(Table114[[#This Row],[Next Calibration]]<$E$1,Table114[[#This Row],[Disposition]]=\"Lost\"),\"Find and Calibrate\",IF(Table114[[#This Row],[Disposition]]=\"Lost\",\"Find\",IF(OR(Table114[[#This Row],[Next Calibration]]<$E$1,Table114[[#This Row],[Next Calibration]]=\"NEVER CALIBRATED\"),\"Calibrate\",\"Nominal\"))))","v":""},{"$f":"IF(((Table114[[#This Row],[Next Calibration]]-TODAY())/30)>2,\"More Than 2\",IF(((Table114[[#This Row],[Next Calibration]]-TODAY())/30)>1,\"Between 2 and 1\",\"Less than 1\"))","v":{"$error":"#VALUE!"}},{"$f":"IF(Table114[[#This Row],[Issued]]=\"\",\"\",IF(Table114[[#This Row],[Lent]]=\"\",0,1))","v":""},{"$f":"IF(Table114[[#This Row],[Lent]]=\"\",\"\",IF(Table114[[#This Row],[Returned]]=\"\",0,1))","v":""}]
[{"$nulls":11},{"$f":"IF(IF(Table114[[#This Row],[Disposition]]=\"Retired\",\"N/A\",IF(Table114[[#This Row],[Disposition]]=0,\"\",K92+$F$2))=0+$F$2,\"NEVER CALIBRATED\",IF(Table114[[#This Row],[Disposition]]=\"Retired\",\"N/A\",IF(Table114[[#This Row],[Disposition]]=0,\"\",K92+$F$2)))","v":""},{"$f":"IF(Table114[[#This Row],[Disposition]]=\"\",\"\",IF(AND(Table114[[#This Row],[Next Calibration]]<$E$1,Table114[[#This Row],[Disposition]]=\"Lost\"),\"Find and Calibrate\",IF(Table114[[#This Row],[Disposition]]=\"Lost\",\"Find\",IF(OR(Table114[[#This Row],[Next Calibration]]<$E$1,Table114[[#This Row],[Next Calibration]]=\"NEVER CALIBRATED\"),\"Calibrate\",\"Nominal\"))))","v":""},{"$f":"IF(((Table114[[#This Row],[Next Calibration]]-TODAY())/30)>2,\"More Than 2\",IF(((Table114[[#This Row],[Next Calibration]]-TODAY())/30)>1,\"Between 2 and 1\",\"Less than 1\"))","v":{"$error":"#VALUE!"}},{"$f":"IF(Table114[[#This Row],[Issued]]=\"\",\"\",IF(Table114[[#This Row],[Lent]]=\"\",0,1))","v":""},{"$f":"IF(Table114[[#This Row],[Lent]]=\"\",\"\",IF(Table114[[#This Row],[Returned]]=\"\",0,1))","v":""}]
[{"$nulls":11},{"$f":"IF(IF(Table114[[#This Row],[Disposition]]=\"Retired\",\"N/A\",IF(Table114[[#This Row],[Disposition]]=0,\"\",K93+$F$2))=0+$F$2,\"NEVER CALIBRATED\",IF(Table114[[#This Row],[Disposition]]=\"Retired\",\"N/A\",IF(Table114[[#This Row],[Disposition]]=0,\"\",K93+$F$2)))","v":""},{"$f":"IF(Table114[[#This Row],[Disposition]]=\"\",\"\",IF(AND(Table114[[#This Row],[Next Calibration]]<$E$1,Table114[[#This Row],[Disposition]]=\"Lost\"),\"Find and Calibrate\",IF(Table114[[#This Row],[Disposition]]=\"Lost\",\"Find\",IF(OR(Table114[[#This Row],[Next Calibration]]<$E$1,Table114[[#This Row],[Next Calibration]]=\"NEVER CALIBRATED\"),\"Calibrate\",\"Nominal\"))))","v":""},{"$f":"IF(((Table114[[#This Row],[Next Calibration]]-TODAY())/30)>2,\"More Than 2\",IF(((Table114[[#This Row],[Next Calibration]]-TODAY())/30)>1,\"Between 2 and 1\",\"Less than 1\"))","v":{"$error":"#VALUE!"}},{"$f":"IF(Table114[[#This Row],[Issued]]=\"\",\"\",IF(Table114[[#This Row],[Lent]]=\"\",0,1))","v":""},{"$f":"IF(Table114[[#This Row],[Lent]]=\"\",\"\",IF(Table114[[#This Row],[Returned]]=\"\",0,1))","v":""}]
[{"$nulls":11},{"$f":"IF(IF(Table114[[#This Row],[Disposition]]=\"Retired\",\"N/A\",IF(Table114[[#This Row],[Disposition]]=0,\"\",K94+$F$2))=0+$F$2,\"NEVER CALIBRATED\",IF(Table114[[#This Row],[Disposition]]=\"Retired\",\"N/A\",IF(Table114[[#This Row],[Disposition]]=0,\"\",K94+$F$2)))","v":""},{"$f":"IF(Table114[[#This Row],[Disposition]]=\"\",\"\",IF(AND(Table114[[#This Row],[Next Calibration]]<$E$1,Table114[[#This Row],[Disposition]]=\"Lost\"),\"Find and Calibrate\",IF(Table114[[#This Row],[Disposition]]=\"Lost\",\"Find\",IF(OR(Table114[[#This Row],[Next Calibration]]<$E$1,Table114[[#This Row],[Next Calibration]]=\"NEVER CALIBRATED\"),\"Calibrate\",\"Nominal\"))))","v":""},{"$f":"IF(((Table114[[#This Row],[Next Calibration]]-TODAY())/30)>2,\"More Than 2\",IF(((Table114[[#This Row],[Next Calibration]]-TODAY())/30)>1,\"Between 2 and 1\",\"Less than 1\"))","v":{"$error":"#VALUE!"}},{"$f":"IF(Table114[[#This Row],[Issued]]=\"\",\"\",IF(Table114[[#This Row],[Lent]]=\"\",0,1))","v":""},{"$f":"IF(Table114[[#This Row],[Lent]]=\"\",\"\",IF(Table114[[#This Row],[Returned]]=\"\",0,1))","v":""}]
[{"$nulls":11},{"$f":"IF(IF(Table114[[#This Row],[Disposition]]=\"Retired\",\"N/A\",IF(Table114[[#This Row],[Disposition]]=0,\"\",K95+$F$2))=0+$F$2,\"NEVER CALIBRATED\",IF(Table114[[#This Row],[Disposition]]=\"Retired\",\"N/A\",IF(Table114[[#This Row],[Disposition]]=0,\"\",K95+$F$2)))","v":""},{"$f":"IF(Table114[[#This Row],[Disposition]]=\"\",\"\",IF(AND(Table114[[#This Row],[Next Calibration]]<$E$1,Table114[[#This Row],[Disposition]]=\"Lost\"),\"Find and Calibrate\",IF(Table114[[#This Row],[Disposition]]=\"Lost\",\"Find\",IF(OR(Table114[[#This Row],[Next Calibration]]<$E$1,Table114[[#This Row],[Next Calibration]]=\"NEVER CALIBRATED\"),\"Calibrate\",\"Nominal\"))))","v":""},{"$f":"IF(((Table114[[#This Row],[Next Calibration]]-TODAY())/30)>2,\"More Than 2\",IF(((Table114[[#This Row],[Next Calibration]]-TODAY())/30)>1,\"Between 2 and 1\",\"Less than 1\"))","v":{"$error":"#VALUE!"}},{"$f":"IF(Table114[[#This Row],[Issued]]=\"\",\"\",IF(Table114[[#This Row],[Lent]]=\"\",0,1))","v":""},{"$f":"IF(Table114[[#This Row],[Lent]]=\"\",\"\",IF(Table114[[#This Row],[Returned]]=\"\",0,1))","v":""}]
[{"$nulls":11},{"$f":"IF(IF(Table114[[#This Row],[Disposition]]=\"Retired\",\"N/A\",IF(Table114[[#This Row],[Disposition]]=0,\"\",K96+$F$2))=0+$F$2,\"NEVER CALIBRATED\",IF(Table114[[#This Row],[Disposition]]=\"Retired\",\"N/A\",IF(Table114[[#This Row],[Disposition]]=0,\"\",K96+$F$2)))","v":""},{"$f":"IF(Table114[[#This Row],[Disposition]]=\"\",\"\",IF(AND(Table114[[#This Row],[Next Calibration]]<$E$1,Table114[[#This Row],[Disposition]]=\"Lost\"),\"Find and Calibrate\",IF(Table114[[#This Row],[Disposition]]=\"Lost\",\"Find\",IF(OR(Table114[[#This Row],[Next Calibration]]<$E$1,Table114[[#This Row],[Next Calibration]]=\"NEVER CALIBRATED\"),\"Calibrate\",\"Nominal\"))))","v":""},{"$f":"IF(((Table114[[#This Row],[Next Calibration]]-TODAY())/30)>2,\"More Than 2\",IF(((Table114[[#This Row],[Next Calibration]]-TODAY())/30)>1,\"Between 2 and 1\",\"Less than 1\"))","v":{"$error":"#VALUE!"}},{"$f":"IF(Table114[[#This Row],[Issued]]=\"\",\"\",IF(Table114[[#This Row],[Lent]]=\"\",0,1))","v":""},{"$f":"IF(Table114[[#This Row],[Lent]]=\"\",\"\",IF(Table114[[#This Row],[Returned]]=\"\",0,1))","v":""}]
[{"$nulls":11},{"$f":"IF(IF(Table114[[#This Row],[Disposition]]=\"Retired\",\"N/A\",IF(Table114[[#This Row],[Disposition]]=0,\"\",K97+$F$2))=0+$F$2,\"NEVER CALIBRATED\",IF(Table114[[#This Row],[Disposition]]=\"Retired\",\"N/A\",IF(Table114[[#This Row],[Disposition]]=0,\"\",K97+$F$2)))","v":""},{"$f":"IF(Table114[[#This Row],[Disposition]]=\"\",\"\",IF(AND(Table114[[#This Row],[Next Calibration]]<$E$1,Table114[[#This Row],[Disposition]]=\"Lost\"),\"Find and Calibrate\",IF(Table114[[#This Row],[Disposition]]=\"Lost\",\"Find\",IF(OR(Table114[[#This Row],[Next Calibration]]<$E$1,Table114[[#This Row],[Next Calibration]]=\"NEVER CALIBRATED\"),\"Calibrate\",\"Nominal\"))))","v":""},{"$f":"IF(((Table114[[#This Row],[Next Calibration]]-TODAY())/30)>2,\"More Than 2\",IF(((Table114[[#This Row],[Next Calibration]]-TODAY())/30)>1,\"Between 2 and 1\",\"Less than 1\"))","v":{"$error":"#VALUE!"}},{"$f":"IF(Table114[[#This Row],[Issued]]=\"\",\"\",IF(Table114[[#This Row],[Lent]]=\"\",0,1))","v":""},{"$f":"IF(Table114[[#This Row],[Lent]]=\"\",\"\",IF(Table114[[#This Row],[Returned]]=\"\",0,1))","v":""}]
[{"$nulls":11},{"$f":"IF(IF(Table114[[#This Row],[Disposition]]=\"Retired\",\"N/A\",IF(Table114[[#This Row],[Disposition]]=0,\"\",K98+$F$2))=0+$F$2,\"NEVER CALIBRATED\",IF(Table114[[#This Row],[Disposition]]=\"Retired\",\"N/A\",IF(Table114[[#This Row],[Disposition]]=0,\"\",K98+$F$2)))","v":""},{"$f":"IF(Table114[[#This Row],[Disposition]]=\"\",\"\",IF(AND(Table114[[#This Row],[Next Calibration]]<$E$1,Table114[[#This Row],[Disposition]]=\"Lost\"),\"Find and Calibrate\",IF(Table114[[#This Row],[Disposition]]=\"Lost\",\"Find\",IF(OR(Table114[[#This Row],[Next Calibration]]<$E$1,Table114[[#This Row],[Next Calibration]]=\"NEVER CALIBRATED\"),\"Calibrate\",\"Nominal\"))))","v":""},{"$f":"IF(((Table114[[#This Row],[Next Calibration]]-TODAY())/30)>2,\"More Than 2\",IF(((Table114[[#This Row],[Next Calibration]]-TODAY())/30)>1,\"Between 2 and 1\",\"Less than 1\"))","v":{"$error":"#VALUE!"}},{"$f":"IF(Table114[[#This Row],[Issued]]=\"\",\"\",IF(Table114[[#This Row],[Lent]]=\"\",0,1))","v":""},{"$f":"IF(Table114[[#This Row],[Lent]]=\"\",\"\",IF(Table114[[#This Row],[Returned]]=\"\",0,1))","v":""}]
[{"$nulls":11},{"$f":"IF(IF(Table114[[#This Row],[Disposition]]=\"Retired\",\"N/A\",IF(Table114[[#This Row],[Disposition]]=0,\"\",K99+$F$2))=0+$F$2,\"NEVER CALIBRATED\",IF(Table114[[#This Row],[Disposition]]=\"Retired\",\"N/A\",IF(Table114[[#This Row],[Disposition]]=0,\"\",K99+$F$2)))","v":""},{"$f":"IF(Table114[[#This Row],[Disposition]]=\"\",\"\",IF(AND(Table114[[#This Row],[Next Calibration]]<$E$1,Table114[[#This Row],[Disposition]]=\"Lost\"),\"Find and Calibrate\",IF(Table114[[#This Row],[Disposition]]=\"Lost\",\"Find\",IF(OR(Table114[[#This Row],[Next Calibration]]<$E$1,Table114[[#This Row],[Next Calibration]]=\"NEVER CALIBRATED\"),\"Calibrate\",\"Nominal\"))))","v":""},{"$f":"IF(((Table114[[#This Row],[Next Calibration]]-TODAY())/30)>2,\"More Than 2\",IF(((Table114[[#This Row],[Next Calibration]]-TODAY())/30)>1,\"Between 2 and 1\",\"Less than 1\"))","v":{"$error":"#VALUE!"}},{"$f":"IF(Table114[[#This Row],[Issued]]=\"\",\"\",IF(Table114[[#This Row],[Lent]]=\"\",0,1))","v":""},{"$f":"IF(Table114[[#This Row],[Lent]]=\"\",\"\",IF(Table114[[#This Row],[Returned]]=\"\",0,1))","v":""}]
[{"$nulls":11},{"$f":"IF(IF(Table114[[#This Row],[Disposition]]=\"Retired\",\"N/A\",IF(Table114[[#This Row],[Disposition]]=0,\"\",K100+$F$2))=0+$F$2,\"NEVER CALIBRATED\",IF(Table114[[#This Row],[Disposition]]=\"Retired\",\"N/A\",IF(Table114[[#This Row],[Disposition]]=0,\"\",K100+$F$2)))","v":""},{"$f":"IF(Table114[[#This Row],[Disposition]]=\"\",\"\",IF(AND(Table114[[#This Row],[Next Calibration]]<$E$1,Table114[[#This Row],[Disposition]]=\"Lost\"),\"Find and Calibrate\",IF(Table114[[#This Row],[Disposition]]=\"Lost\",\"Find\",IF(OR(Table114[[#This Row],[Next Calibration]]<$E$1,Table114[[#This Row],[Next Calibration]]=\"NEVER CALIBRATED\"),\"Calibrate\",\"Nominal\"))))","v":""},{"$f":"IF(((Table114[[#This Row],[Next Calibration]]-TODAY())/30)>2,\"More Than 2\",IF(((Table114[[#This Row],[Next Calibration]]-TODAY())/30)>1,\"Between 2 and 1\",\"Less than 1\"))","v":{"$error":"#VALUE!"}},{"$f":"IF(Table114[[#This Row],[Issued]]=\"\",\"\",IF(Table114[[#This Row],[Lent]]=\"\",0,1))","v":""},{"$f":"IF(Table114[[#This Row],[Lent]]=\"\",\"\",IF(Table114[[#This Row],[Returned]]=\"\",0,1))","v":""}]
[{"$nulls":11},{"$f":"IF(IF(Table114[[#This Row],[Disposition]]=\"Retired\",\"N/A\",IF(Table114[[#This Row],[Disposition]]=0,\"\",K101+$F$2))=0+$F$2,\"NEVER CALIBRATED\",IF(Table114[[#This Row],[Disposition]]=\"Retired\",\"N/A\",IF(Table114[[#This Row],[Disposition]]=0,\"\",K101+$F$2)))","v":""},{"$f":"IF(Table114[[#This Row],[Disposition]]=\"\",\"\",IF(AND(Table114[[#This Row],[Next Calibration]]<$E$1,Table114[[#This Row],[Disposition]]=\"Lost\"),\"Find and Calibrate\",IF(Table114[[#This Row],[Disposition]]=\"Lost\",\"Find\",IF(OR(Table114[[#This Row],[Next Calibration]]<$E$1,Table114[[#This Row],[Next Calibration]]=\"NEVER CALIBRATED\"),\"Calibrate\",\"Nominal\"))))","v":""},{"$f":"IF(((Table114[[#This Row],[Next Calibration]]-TODAY())/30)>2,\"More Than 2\",IF(((Table114[[#This Row],[Next Calibration]]-TODAY())/30)>1,\"Between 2 and 1\",\"Less than 1\"))","v":{"$error":"#VALUE!"}},{"$f":"IF(Table114[[#This Row],[Issued]]=\"\",\"\",IF(Table114[[#This Row],[Lent]]=\"\",0,1))","v":""},{"$f":"IF(Table114[[#This Row],[Lent]]=\"\",\"\",IF(Table114[[#This Row],[Returned]]=\"\",0,1))","v":""}]
[{"$nulls":11},{"$f":"IF(IF(Table114[[#This Row],[Disposition]]=\"Retired\",\"N/A\",IF(Table114[[#This Row],[Disposition]]=0,\"\",K102+$F$2))=0+$F$2,\"NEVER CALIBRATED\",IF(Table114[[#This Row],[Disposition]]=\"Retired\",\"N/A\",IF(Table114[[#This Row],[Disposition]]=0,\"\",K102+$F$2)))","v":""},{"$f":"IF(Table114[[#This Row],[Disposition]]=\"\",\"\",IF(AND(Table114[[#This Row],[Next Calibration]]<$E$1,Table114[[#This Row],[Disposition]]=\"Lost\"),\"Find and Calibrate\",IF(Table114[[#This Row],[Disposition]]=\"Lost\",\"Find\",IF(OR(Table114[[#This Row],[Next Calibration]]<$E$1,Table114[[#This Row],[Next Calibration]]=\"NEVER CALIBRATED\"),\"Calibrate\",\"Nominal\"))))","v":""},{"$f":"IF(((Table114[[#This Row],[Next Calibration]]-TODAY())/30)>2,\"More Than 2\",IF(((Table114[[#This Row],[Next Calibration]]-TODAY())/30)>1,\"Between 2 and 1\",\"Less than 1\"))","v":{"$error":"#VALUE!"}},{"$f":"IF(Table114[[#This Row],[Issued]]=\"\",\"\",IF(Table114[[#This Row],[Lent]]=\"\",0,1))","v":""},{"$f":"IF(Table114[[#This Row],[Lent]]=\"\",\"\",IF(Table114[[#This Row],[Returned]]=\"\",0,1))","v":""}]
[{"$nulls":11},{"$f":"IF(IF(Table114[[#This Row],[Disposition]]=\"Retired\",\"N/A\",IF(Table114[[#This Row],[Disposition]]=0,\"\",K103+$F$2))=0+$F$2,\"NEVER CALIBRATED\",IF(Table114[[#This Row],[Disposition]]=\"Retired\",\"N/A\",IF(Table114[[#This Row],[Disposition]]=0,\"\",K103+$F$2)))","v":""},{"$f":"IF(Table114[[#This Row],[Disposition]]=\"\",\"\",IF(AND(Table114[[#This Row],[Next Calibration]]<$E$1,Table114[[#This Row],[Disposition]]=\"Lost\"),\"Find and Calibrate\",IF(Table114[[#This Row],[Disposition]]=\"Lost\",\"Find\",IF(OR(Table114[[#This Row],[Next Calibration]]<$E$1,Table114[[#This Row],[Next Calibration]]=\"NEVER CALIBRATED\"),\"Calibrate\",\"Nominal\"))))","v":""},{"$f":"IF(((Table114[[#This Row],[Next Calibration]]-TODAY())/30)>2,\"More Than 2\",IF(((Table114[[#This Row],[Next Calibration]]-TODAY())/30)>1,\"Between 2 and 1\",\"Less than 1\"))","v":{"$error":"#VALUE!"}},{"$f":"IF(Table114[[#This Row],[Issued]]=\"\",\"\",IF(Table114[[#This Row],[Lent]]=\"\",0,1))","v":""},{"$f":"IF(Table114[[#This Row],[Lent]]=\"\",\"\",IF(Table114[[#This Row],[Returned]]=\"\",0,1))","v":""}]
[{"$nulls":11},{"$f":"IF(IF(Table114[[#This Row],[Disposition]]=\"Retired\",\"N/A\",IF(Table114[[#This Row],[Disposition]]=0,\"\",K104+$F$2))=0+$F$2,\"NEVER CALIBRATED\",IF(Table114[[#This Row],[Disposition]]=\"Retired\",\"N/A\",IF(Table114[[#This Row],[Disposition]]=0,\"\",K104+$F$2)))","v":""},{"$f":"IF(Table114[[#This Row],[Disposition]]=\"\",\"\",IF(AND(Table114[[#This Row],[Next Calibration]]<$E$1,Table114[[#This Row],[Disposition]]=\"Lost\"),\"Find and Calibrate\",IF(Table114[[#This Row],[Disposition]]=\"Lost\",\"Find\",IF(OR(Table114[[#This Row],[Next Calibration]]<$E$1,Table114[[#This Row],[Next Calibration]]=\"NEVER CALIBRATED\"),\"Calibrate\",\"Nominal\"))))","v":""},{"$f":"IF(((Table114[[#This Row],[Next Calibration]]-TODAY())/30)>2,\"More Than 2\",IF(((Table114[[#This Row],[Next Calibration]]-TODAY())/30)>1,\"Between 2 and 1\",\"Less than 1\"))","v":{"$error":"#VALUE!"}},{"$f":"IF(Table114[[#This Row],[Issued]]=\"\",\"\",IF(Table114[[#This Row],[Lent]]=\"\",0,1))","v":""},{"$f":"IF(Table114[[#This Row],[Lent]]=\"\",\"\",IF(Table114[[#This Row],[Returned]]=\"\",0,1))","v":""}]
[{"$nulls":11},{"$f":"IF(IF(Table114[[#This Row],[Disposition]]=\"Retired\",\"N/A\",IF(Table114[[#This Row],[Disposition]]=0,\"\",K105+$F$2))=0+$F$2,\"NEVER CALIBRATED\",IF(Table114[[#This Row],[Disposition]]=\"Retired\",\"N/A\",IF(Table114[[#This Row],[Disposition]]=0,\"\",K105+$F$2)))","v":""},{"$f":"IF(Table114[[#This Row],[Disposition]]=\"\",\"\",IF(AND(Table114[[#This Row],[Next Calibration]]<$E$1,Table114[[#This Row],[Disposition]]=\"Lost\"),\"Find and Calibrate\",IF(Table114[[#This Row],[Disposition]]=\"Lost\",\"Find\",IF(OR(Table114[[#This Row],[Next Calibration]]<$E$1,Table114[[#This Row],[Next Calibration]]=\"NEVER CALIBRATED\"),\"Calibrate\",\"Nominal\"))))","v":""},{"$f":"IF(((Table114[[#This Row],[Next Calibration]]-TODAY())/30)>2,\"More Than 2\",IF(((Table114[[#This Row],[Next Calibration]]-TODAY())/30)>1,\"Between 2 and 1\",\"Less than 1\"))","v":{"$error":"#VALUE!"}},{"$f":"IF(Table114[[#This Row],[Issued]]=\"\",\"\",IF(Table114[[#This Row],[Lent]]=\"\",0,1))","v":""},{"$f":"IF(Table114[[#This Row],[Lent]]=\"\",\"\",IF(Table114[[#This Row],[Returned]]=\"\",0,1))","v":""}]
[{"$nulls":11},{"$f":"IF(IF(Table114[[#This Row],[Disposition]]=\"Retired\",\"N/A\",IF(Table114[[#This Row],[Disposition]]=0,\"\",K106+$F$2))=0+$F$2,\"NEVER CALIBRATED\",IF(Table114[[#This Row],[Disposition]]=\"Retired\",\"N/A\",IF(Table114[[#This Row],[Disposition]]=0,\"\",K106+$F$2)))","v":""},{"$f":"IF(Table114[[#This Row],[Disposition]]=\"\",\"\",IF(AND(Table114[[#This Row],[Next Calibration]]<$E$1,Table114[[#This Row],[Disposition]]=\"Lost\"),\"Find and Calibrate\",IF(Table114[[#This Row],[Disposition]]=\"Lost\",\"Find\",IF(OR(Table114[[#This Row],[Next Calibration]]<$E$1,Table114[[#This Row],[Next Calibration]]=\"NEVER CALIBRATED\"),\"Calibrate\",\"Nominal\"))))","v":""},{"$f":"IF(((Table114[[#This Row],[Next Calibration]]-TODAY())/30)>2,\"More Than 2\",IF(((Table114[[#This Row],[Next Calibration]]-TODAY())/30)>1,\"Between 2 and 1\",\"Less than 1\"))","v":{"$error":"#VALUE!"}},{"$f":"IF(Table114[[#This Row],[Issued]]=\"\",\"\",IF(Table114[[#This Row],[Lent]]=\"\",0,1))","v":""},{"$f":"IF(Table114[[#This Row],[Lent]]=\"\",\"\",IF(Table114[[#This Row],[Returned]]=\"\",0,1))","v":""}]
[{"$nulls":11},{"$f":"IF(IF(Table114[[#This Row],[Disposition]]=\"Retired\",\"N/A\",IF(Table114[[#This Row],[Disposition]]=0,\"\",K107+$F$2))=0+$F$2,\"NEVER CALIBRATED\",IF(Table114[[#This Row],[Disposition]]=\"Retired\",\"N/A\",IF(Table114[[#This Row],[Disposition]]=0,\"\",K107+$F$2)))","v":""},{"$f":"IF(Table114[[#This Row],[Disposition]]=\"\",\"\",IF(AND(Table114[[#This Row],[Next Calibration]]<$E$1,Table114[[#This Row],[Disposition]]=\"Lost\"),\"Find and Calibrate\",IF(Table114[[#This Row],[Disposition]]=\"Lost\",\"Find\",IF(OR(Table114[[#This Row],[Next Calibration]]<$E$1,Table114[[#This Row],[Next Calibration]]=\"NEVER CALIBRATED\"),\"Calibrate\",\"Nominal\"))))","v":""},{"$f":"IF(((Table114[[#This Row],[Next Calibration]]-TODAY())/30)>2,\"More Than 2\",IF(((Table114[[#This Row],[Next Calibration]]-TODAY())/30)>1,\"Between 2 and 1\",\"Less than 1\"))","v":{"$error":"#VALUE!"}},{"$f":"IF(Table114[[#This Row],[Issued]]=\"\",\"\",IF(Table114[[#This Row],[Lent]]=\"\",0,1))","v":""},{"$f":"IF(Table114[[#This Row],[Lent]]=\"\",\"\",IF(Table114[[#This Row],[Returned]]=\"\",0,1))","v":""}]
[{"$nulls":11},{"$f":"IF(IF(Table114[[#This Row],[Disposition]]=\"Retired\",\"N/A\",IF(Table114[[#This Row],[Disposition]]=0,\"\",K108+$F$2))=0+$F$2,\"NEVER CALIBRATED\",IF(Table114[[#This Row],[Disposition]]=\"Retired\",\"N/A\",IF(Table114[[#This Row],[Disposition]]=0,\"\",K108+$F$2)))","v":""},{"$f":"IF(Table114[[#This Row],[Disposition]]=\"\",\"\",IF(AND(Table114[[#This Row],[Next Calibration]]<$E$1,Table114[[#This Row],[Disposition]]=\"Lost\"),\"Find and Calibrate\",IF(Table114[[#This Row],[Disposition]]=\"Lost\",\"Find\",IF(OR(Table114[[#This Row],[Next Calibration]]<$E$1,Table114[[#This Row],[Next Calibration]]=\"NEVER CALIBRATED\"),\"Calibrate\",\"Nominal\"))))","v":""},{"$f":"IF(((Table114[[#This Row],[Next Calibration]]-TODAY())/30)>2,\"More Than 2\",IF(((Table114[[#This Row],[Next Calibration]]-TODAY())/30)>1,\"Between 2 and 1\",\"Less than 1\"))","v":{"$error":"#VALUE!"}},{"$f":"IF(Table114[[#This Row],[Issued]]=\"\",\"\",IF(Table114[[#This Row],[Lent]]=\"\",0,1))","v":""},{"$f":"IF(Table114[[#This Row],[Lent]]=\"\",\"\",IF(Table114[[#This Row],[Returned]]=\"\",0,1))","v":""}]
[{"$nulls":11},{"$f":"IF(IF(Table114[[#This Row],[Disposition]]=\"Retired\",\"N/A\",IF(Table114[[#This Row],[Disposition]]=0,\"\",K109+$F$2))=0+$F$2,\"NEVER CALIBRATED\",IF(Table114[[#This Row],[Disposition]]=\"Retired\",\"N/A\",IF(Table114[[#This Row],[Disposition]]=0,\"\",K109+$F$2)))","v":""},{"$f":"IF(Table114[[#This Row],[Disposition]]=\"\",\"\",IF(AND(Table114[[#This Row],[Next Calibration]]<$E$1,Table114[[#This Row],[Disposition]]=\"Lost\"),\"Find and Calibrate\",IF(Table114[[#This Row],[Disposition]]=\"Lost\",\"Find\",IF(OR(Table114[[#This Row],[Next Calibration]]<$E$1,Table114[[#This Row],[Next Calibration]]=\"NEVER CALIBRATED\"),\"Calibrate\",\"Nominal\"))))","v":""},{"$f":"IF(((Table114[[#This Row],[Next Calibration]]-TODAY())/30)>2,\"More Than 2\",IF(((Table114[[#This Row],[Next Calibration]]-TODAY())/30)>1,\"Between 2 and 1\",\"Less than 1\"))","v":{"$error":"#VALUE!"}},{"$f":"IF(Table114[[#This Row],[Issued]]=\"\",\"\",IF(Table114[[#This Row],[Lent]]=\"\",0,1))","v":""},{"$f":"IF(Table114[[#This Row],[Lent]]=\"\",\"\",IF(Table114[[#This Row],[Returned]]=\"\",0,1))","v":""}]
[{"$nulls":11},{"$f":"IF(IF(Table114[[#This Row],[Disposition]]=\"Retired\",\"N/A\",IF(Table114[[#This Row],[Disposition]]=0,\"\",K110+$F$2))=0+$F$2,\"NEVER CALIBRATED\",IF(Table114[[#This Row],[Disposition]]=\"Retired\",\"N/A\",IF(Table114[[#This Row],[Disposition]]=0,\"\",K110+$F$2)))","v":""},{"$f":"IF(Table114[[#This Row],[Disposition]]=\"\",\"\",IF(AND(Table114[[#This Row],[Next Calibration]]<$E$1,Table114[[#This Row],[Disposition]]=\"Lost\"),\"Find and Calibrate\",IF(Table114[[#This Row],[Disposition]]=\"Lost\",\"Find\",IF(OR(Table114[[#This Row],[Next Calibration]]<$E$1,Table114[[#This Row],[Next Calibration]]=\"NEVER CALIBRATED\"),\"Calibrate\",\"Nominal\"))))","v":""},{"$f":"IF(((Table114[[#This Row],[Next Calibration]]-TODAY())/30)>2,\"More Than 2\",IF(((Table114[[#This Row],[Next Calibration]]-TODAY())/30)>1,\"Between 2 and 1\",\"Less than 1\"))","v":{"$error":"#VALUE!"}},{"$f":"IF(Table114[[#This Row],[Issued]]=\"\",\"\",IF(Table114[[#This Row],[Lent]]=\"\",0,1))","v":""},{"$f":"IF(Table114[[#This Row],[Lent]]=\"\",\"\",IF(Table114[[#This Row],[Returned]]=\"\",0,1))","v":""}]
[{"$nulls":11},{"$f":"IF(IF(Table114[[#This Row],[Disposition]]=\"Retired\",\"N/A\",IF(Table114[[#This Row],[Disposition]]=0,\"\",K111+$F$2))=0+$F$2,\"NEVER CALIBRATED\",IF(Table114[[#This Row],[Disposition]]=\"Retired\",\"N/A\",IF(Table114[[#This Row],[Disposition]]=0,\"\",K111+$F$2)))","v":""},{"$f":"IF(Table114[[#This Row],[Disposition]]=\"\",\"\",IF(AND(Table114[[#This Row],[Next Calibration]]<$E$1,Table114[[#This Row],[Disposition]]=\"Lost\"),\"Find and Calibrate\",IF(Table114[[#This Row],[Disposition]]=\"Lost\",\"Find\",IF(OR(Table114[[#This Row],[Next Calibration]]<$E$1,Table114[[#This Row],[Next Calibration]]=\"NEVER CALIBRATED\"),\"Calibrate\",\"Nominal\"))))","v":""},{"$f":"IF(((Table114[[#This Row],[Next Calibration]]-TODAY())/30)>2,\"More Than 2\",IF(((Table114[[#This Row],[Next Calibration]]-TODAY())/30)>1,\"Between 2 and 1\",\"Less than 1\"))","v":{"$error":"#VALUE!"}},{"$f":"IF(Table114[[#This Row],[Issued]]=\"\",\"\",IF(Table114[[#This Row],[Lent]]=\"\",0,1))","v":""},{"$f":"IF(Table114[[#This Row],[Lent]]=\"\",\"\",IF(Table114[[#This Row],[Returned]]=\"\",0,1))","v":""}]
[{"$nulls":11},{"$f":"IF(IF(Table114[[#This Row],[Disposition]]=\"Retired\",\"N/A\",IF(Table114[[#This Row],[Disposition]]=0,\"\",K112+$F$2))=0+$F$2,\"NEVER CALIBRATED\",IF(Table114[[#This Row],[Disposition]]=\"Retired\",\"N/A\",IF(Table114[[#This Row],[Disposition]]=0,\"\",K112+$F$2)))","v":""},{"$f":"IF(Table114[[#This Row],[Disposition]]=\"\",\"\",IF(AND(Table114[[#This Row],[Next Calibration]]<$E$1,Table114[[#This Row],[Disposition]]=\"Lost\"),\"Find and Calibrate\",IF(Table114[[#This Row],[Disposition]]=\"Lost\",\"Find\",IF(OR(Table114[[#This Row],[Next Calibration]]<$E$1,Table114[[#This Row],[Next Calibration]]=\"NEVER CALIBRATED\"),\"Calibrate\",\"Nominal\"))))","v":""},{"$f":"IF(((Table114[[#This Row],[Next Calibration]]-TODAY())/30)>2,\"More Than 2\",IF(((Table114[[#This Row],[Next Calibration]]-TODAY())/30)>1,\"Between 2 and 1\",\"Less than 1\"))","v":{"$error":"#VALUE!"}},{"$f":"IF(Table114[[#This Row],[Issued]]=\"\",\"\",IF(Table114[[#This Row],[Lent]]=\"\",0,1))","v":""},{"$f":"IF(Table114[[#This Row],[Lent]]=\"\",\"\",IF(Table114[[#This Row],[Returned]]=\"\",0,1))","v":""}]
[{"$nulls":11},{"$f":"IF(IF(Table114[[#This Row],[Disposition]]=\"Retired\",\"N/A\",IF(Table114[[#This Row],[Disposition]]=0,\"\",K113+$F$2))=0+$F$2,\"NEVER CALIBRATED\",IF(Table114[[#This Row],[Disposition]]=\"Retired\",\"N/A\",IF(Table114[[#This Row],[Disposition]]=0,\"\",K113+$F$2)))","v":""},{"$f":"IF(Table114[[#This Row],[Disposition]]=\"\",\"\",IF(AND(Table114[[#This Row],[Next Calibration]]<$E$1,Table114[[#This Row],[Disposition]]=\"Lost\"),\"Find and Calibrate\",IF(Table114[[#This Row],[Disposition]]=\"Lost\",\"Find\",IF(OR(Table114[[#This Row],[Next Calibration]]<$E$1,Table114[[#This Row],[Next Calibration]]=\"NEVER CALIBRATED\"),\"Calibrate\",\"Nominal\"))))","v":""},{"$f":"IF(((Table114[[#This Row],[Next Calibration]]-TODAY())/30)>2,\"More Than 2\",IF(((Table114[[#This Row],[Next Calibration]]-TODAY())/30)>1,\"Between 2 and 1\",\"Less than 1\"))","v":{"$error":"#VALUE!"}},{"$f":"IF(Table114[[#This Row],[Issued]]=\"\",\"\",IF(Table114[[#This Row],[Lent]]=\"\",0,1))","v":""},{"$f":"IF(Table114[[#This Row],[Lent]]=\"\",\"\",IF(Table114[[#This Row],[Returned]]=\"\",0,1))","v":""}]
[{"$nulls":11},{"$f":"IF(IF(Table114[[#This Row],[Disposition]]=\"Retired\",\"N/A\",IF(Table114[[#This Row],[Disposition]]=0,\"\",K114+$F$2))=0+$F$2,\"NEVER CALIBRATED\",IF(Table114[[#This Row],[Disposition]]=\"Retired\",\"N/A\",IF(Table114[[#This Row],[Disposition]]=0,\"\",K114+$F$2)))","v":""},{"$f":"IF(Table114[[#This Row],[Disposition]]=\"\",\"\",IF(AND(Table114[[#This Row],[Next Calibration]]<$E$1,Table114[[#This Row],[Disposition]]=\"Lost\"),\"Find and Calibrate\",IF(Table114[[#This Row],[Disposition]]=\"Lost\",\"Find\",IF(OR(Table114[[#This Row],[Next Calibration]]<$E$1,Table114[[#This Row],[Next Calibration]]=\"NEVER CALIBRATED\"),\"Calibrate\",\"Nominal\"))))","v":""},{"$f":"IF(((Table114[[#This Row],[Next Calibration]]-TODAY())/30)>2,\"More Than 2\",IF(((Table114[[#This Row],[Next Calibration]]-TODAY())/30)>1,\"Between 2 and 1\",\"Less than 1\"))","v":{"$error":"#VALUE!"}},{"$f":"IF(Table114[[#This Row],[Issued]]=\"\",\"\",IF(Table114[[#This Row],[Lent]]=\"\",0,1))","v":""},{"$f":"IF(Table114[[#This Row],[Lent]]=\"\",\"\",IF(Table114[[#This Row],[Returned]]=\"\",0,1))","v":""}]
[{"$nulls":11},{"$f":"IF(IF(Table114[[#This Row],[Disposition]]=\"Retired\",\"N/A\",IF(Table114[[#This Row],[Disposition]]=0,\"\",K115+$F$2))=0+$F$2,\"NEVER CALIBRATED\",IF(Table114[[#This Row],[Disposition]]=\"Retired\",\"N/A\",IF(Table114[[#This Row],[Disposition]]=0,\"\",K115+$F$2)))","v":""},{"$f":"IF(Table114[[#This Row],[Disposition]]=\"\",\"\",IF(AND(Table114[[#This Row],[Next Calibration]]<$E$1,Table114[[#This Row],[Disposition]]=\"Lost\"),\"Find and Calibrate\",IF(Table114[[#This Row],[Disposition]]=\"Lost\",\"Find\",IF(OR(Table114[[#This Row],[Next Calibration]]<$E$1,Table114[[#This Row],[Next Calibration]]=\"NEVER CALIBRATED\"),\"Calibrate\",\"Nominal\"))))","v":""},{"$f":"IF(((Table114[[#This Row],[Next Calibration]]-TODAY())/30)>2,\"More Than 2\",IF(((Table114[[#This Row],[Next Calibration]]-TODAY())/30)>1,\"Between 2 and 1\",\"Less than 1\"))","v":{"$error":"#VALUE!"}},{"$f":"IF(Table114[[#This Row],[Issued]]=\"\",\"\",IF(Table114[[#This Row],[Lent]]=\"\",0,1))","v":""},{"$f":"IF(Table114[[#This Row],[Lent]]=\"\",\"\",IF(Table114[[#This Row],[Returned]]=\"\",0,1))","v":""}]
[{"$nulls":11},{"$f":"IF(IF(Table114[[#This Row],[Disposition]]=\"Retired\",\"N/A\",IF(Table114[[#This Row],[Disposition]]=0,\"\",K116+$F$2))=0+$F$2,\"NEVER CALIBRATED\",IF(Table114[[#This Row],[Disposition]]=\"Retired\",\"N/A\",IF(Table114[[#This Row],[Disposition]]=0,\"\",K116+$F$2)))","v":""},{"$f":"IF(Table114[[#This Row],[Disposition]]=\"\",\"\",IF(AND(Table114[[#This Row],[Next Calibration]]<$E$1,Table114[[#This Row],[Disposition]]=\"Lost\"),\"Find and Calibrate\",IF(Table114[[#This Row],[Disposition]]=\"Lost\",\"Find\",IF(OR(Table114[[#This Row],[Next Calibration]]<$E$1,Table114[[#This Row],[Next Calibration]]=\"NEVER CALIBRATED\"),\"Calibrate\",\"Nominal\"))))","v":""},{"$f":"IF(((Table114[[#This Row],[Next Calibration]]-TODAY())/30)>2,\"More Than 2\",IF(((Table114[[#This Row],[Next Calibration]]-TODAY())/30)>1,\"Between 2 and 1\",\"Less than 1\"))","v":{"$error":"#VALUE!"}},{"$f":"IF(Table114[[#This Row],[Issued]]=\"\",\"\",IF(Table114[[#This Row],[Lent]]=\"\",0,1))","v":""},{"$f":"IF(Table114[[#This Row],[Lent]]=\"\",\"\",IF(Table114[[#This Row],[Returned]]=\"\",0,1))","v":""}]
[{"$nulls":11},{"$f":"IF(IF(Table114[[#This Row],[Disposition]]=\"Retired\",\"N/A\",IF(Table114[[#This Row],[Disposition]]=0,\"\",K117+$F$2))=0+$F$2,\"NEVER CALIBRATED\",IF(Table114[[#This Row],[Disposition]]=\"Retired\",\"N/A\",IF(Table114[[#This Row],[Disposition]]=0,\"\",K117+$F$2)))","v":""},{"$f":"IF(Table114[[#This Row],[Disposition]]=\"\",\"\",IF(AND(Table114[[#This Row],[Next Calibration]]<$E$1,Table114[[#This Row],[Disposition]]=\"Lost\"),\"Find and Calibrate\",IF(Table114[[#This Row],[Disposition]]=\"Lost\",\"Find\",IF(OR(Table114[[#This Row],[Next Calibration]]<$E$1,Table114[[#This Row],[Next Calibration]]=\"NEVER CALIBRATED\"),\"Calibrate\",\"Nominal\"))))","v":""},{"$f":"IF(((Table114[[#This Row],[Next Calibration]]-TODAY())/30)>2,\"More Than 2\",IF(((Table114[[#This Row],[Next Calibration]]-TODAY())/30)>1,\"Between 2 and 1\",\"Less than 1\"))","v":{"$error":"#VALUE!"}},{"$f":"IF(Table114[[#This Row],[Issued]]=\"\",\"\",IF(Table114[[#This Row],[Lent]]=\"\",0,1))","v":""},{"$f":"IF(Table114[[#This Row],[Lent]]=\"\",\"\",IF(Table114[[#This Row],[Returned]]=\"\",0,1))","v":""}]
[{"$nulls":11},{"$f":"IF(IF(Table114[[#This Row],[Disposition]]=\"Retired\",\"N/A\",IF(Table114[[#This Row],[Disposition]]=0,\"\",K118+$F$2))=0+$F$2,\"NEVER CALIBRATED\",IF(Table114[[#This Row],[Disposition]]=\"Retired\",\"N/A\",IF(Table114[[#This Row],[Disposition]]=0,\"\",K118+$F$2)))","v":""},{"$f":"IF(Table114[[#This Row],[Disposition]]=\"\",\"\",IF(AND(Table114[[#This Row],[Next Calibration]]<$E$1,Table114[[#This Row],[Disposition]]=\"Lost\"),\"Find and Calibrate\",IF(Table114[[#This Row],[Disposition]]=\"Lost\",\"Find\",IF(OR(Table114[[#This Row],[Next Calibration]]<$E$1,Table114[[#This Row],[Next Calibration]]=\"NEVER CALIBRATED\"),\"Calibrate\",\"Nominal\"))))","v":""},{"$f":"IF(((Table114[[#This Row],[Next Calibration]]-TODAY())/30)>2,\"More Than 2\",IF(((Table114[[#This Row],[Next Calibration]]-TODAY())/30)>1,\"Between 2 and 1\",\"Less than 1\"))","v":{"$error":"#VALUE!"}},{"$f":"IF(Table114[[#This Row],[Issued]]=\"\",\"\",IF(Table114[[#This Row],[Lent]]=\"\",0,1))","v":""},{"$f":"IF(Table114[[#This Row],[Lent]]=\"\",\"\",IF(Table114[[#This Row],[Returned]]=\"\",0,1))","v":""}]
[{"$nulls":11},{"$f":"IF(IF(Table114[[#This Row],[Disposition]]=\"Retired\",\"N/A\",IF(Table114[[#This Row],[Disposition]]=0,\"\",K119+$F$2))=0+$F$2,\"NEVER CALIBRATED\",IF(Table114[[#This Row],[Disposition]]=\"Retired\",\"N/A\",IF(Table114[[#This Row],[Disposition]]=0,\"\",K119+$F$2)))","v":""},{"$f":"IF(Table114[[#This Row],[Disposition]]=\"\",\"\",IF(AND(Table114[[#This Row],[Next Calibration]]<$E$1,Table114[[#This Row],[Disposition]]=\"Lost\"),\"Find and Calibrate\",IF(Table114[[#This Row],[Disposition]]=\"Lost\",\"Find\",IF(OR(Table114[[#This Row],[Next Calibration]]<$E$1,Table114[[#This Row],[Next Calibration]]=\"NEVER CALIBRATED\"),\"Calibrate\",\"Nominal\"))))","v":""},{"$f":"IF(((Table114[[#This Row],[Next Calibration]]-TODAY())/30)>2,\"More Than 2\",IF(((Table114[[#This Row],[Next Calibration]]-TODAY())/30)>1,\"Between 2 and 1\",\"Less than 1\"))","v":{"$error":"#VALUE!"}},{"$f":"IF(Table114[[#This Row],[Issued]]=\"\",\"\",IF(Table114[[#This Row],[Lent]]=\"\",0,1))","v":""},{"$f":"IF(Table114[[#This Row],[Lent]]=\"\",\"\",IF(Table114[[#This Row],[Returned]]=\"\",0,1))","v":""}]
[{"$nulls":11},{"$f":"IF(IF(Table114[[#This Row],[Disposition]]=\"Retired\",\"N/A\",IF(Table114[[#This Row],[Disposition]]=0,\"\",K120+$F$2))=0+$F$2,\"NEVER CALIBRATED\",IF(Table114[[#This Row],[Disposition]]=\"Retired\",\"N/A\",IF(Table114[[#This Row],[Disposition]]=0,\"\",K120+$F$2)))","v":""},{"$f":"IF(Table114[[#This Row],[Disposition]]=\"\",\"\",IF(AND(Table114[[#This Row],[Next Calibration]]<$E$1,Table114[[#This Row],[Disposition]]=\"Lost\"),\"Find and Calibrate\",IF(Table114[[#This Row],[Disposition]]=\"Lost\",\"Find\",IF(OR(Table114[[#This Row],[Next Calibration]]<$E$1,Table114[[#This Row],[Next Calibration]]=\"NEVER CALIBRATED\"),\"Calibrate\",\"Nominal\"))))","v":""},{"$f":"IF(((Table114[[#This Row],[Next Calibration]]-TODAY())/30)>2,\"More Than 2\",IF(((Table114[[#This Row],[Next Calibration]]-TODAY())/30)>1,\"Between 2 and 1\",\"Less than 1\"))","v":{"$error":"#VALUE!"}},{"$f":"IF(Table114[[#This Row],[Issued]]=\"\",\"\",IF(Table114[[#This Row],[Lent]]=\"\",0,1))","v":""},{"$f":"IF(Table114[[#This Row],[Lent]]=\"\",\"\",IF(Table114[[#This Row],[Returned]]=\"\",0,1))","v":""}]
[{"$nulls":11},{"$f":"IF(IF(Table114[[#This Row],[Disposition]]=\"Retired\",\"N/A\",IF(Table114[[#This Row],[Disposition]]=0,\"\",K121+$F$2))=0+$F$2,\"NEVER CALIBRATED\",IF(Table114[[#This Row],[Disposition]]=\"Retired\",\"N/A\",IF(Table114[[#This Row],[Disposition]]=0,\"\",K121+$F$2)))","v":""},{"$f":"IF(Table114[[#This Row],[Disposition]]=\"\",\"\",IF(AND(Table114[[#This Row],[Next Calibration]]<$E$1,Table114[[#This Row],[Disposition]]=\"Lost\"),\"Find and Calibrate\",IF(Table114[[#This Row],[Disposition]]=\"Lost\",\"Find\",IF(OR(Table114[[#This Row],[Next Calibration]]<$E$1,Table114[[#This Row],[Next Calibration]]=\"NEVER CALIBRATED\"),\"Calibrate\",\"Nominal\"))))","v":""},{"$f":"IF(((Table114[[#This Row],[Next Calibration]]-TODAY())/30)>2,\"More Than 2\",IF(((Table114[[#This Row],[Next Calibration]]-TODAY())/30)>1,\"Between 2 and 1\",\"Less than 1\"))","v":{"$error":"#VALUE!"}},{"$f":"IF(Table114[[#This Row],[Issued]]=\"\",\"\",IF(Table114[[#This Row],[Lent]]=\"\",0,1))","v":""},{"$f":"IF(Table114[[#This Row],[Lent]]=\"\",\"\",IF(Table114[[#This Row],[Returned]]=\"\",0,1))","v":""}]
[{"$nulls":11},{"$f":"IF(IF(Table114[[#This Row],[Disposition]]=\"Retired\",\"N/A\",IF(Table114[[#This Row],[Disposition]]=0,\"\",K122+$F$2))=0+$F$2,\"NEVER CALIBRATED\",IF(Table114[[#This Row],[Disposition]]=\"Retired\",\"N/A\",IF(Table114[[#This Row],[Disposition]]=0,\"\",K122+$F$2)))","v":""},{"$f":"IF(Table114[[#This Row],[Disposition]]=\"\",\"\",IF(AND(Table114[[#This Row],[Next Calibration]]<$E$1,Table114[[#This Row],[Disposition]]=\"Lost\"),\"Find and Calibrate\",IF(Table114[[#This Row],[Disposition]]=\"Lost\",\"Find\",IF(OR(Table114[[#This Row],[Next Calibration]]<$E$1,Table114[[#This Row],[Next Calibration]]=\"NEVER CALIBRATED\"),\"Calibrate\",\"Nominal\"))))","v":""},{"$f":"IF(((Table114[[#This Row],[Next Calibration]]-TODAY())/30)>2,\"More Than 2\",IF(((Table114[[#This Row],[Next Calibration]]-TODAY())/30)>1,\"Between 2 and 1\",\"Less than 1\"))","v":{"$error":"#VALUE!"}},{"$f":"IF(Table114[[#This Row],[Issued]]=\"\",\"\",IF(Table114[[#This Row],[Lent]]=\"\",0,1))","v":""},{"$f":"IF(Table114[[#This Row],[Lent]]=\"\",\"\",IF(Table114[[#This Row],[Returned]]=\"\",0,1))","v":""}]
[{"$nulls":11},{"$f":"IF(IF(Table114[[#This Row],[Disposition]]=\"Retired\",\"N/A\",IF(Table114[[#This Row],[Disposition]]=0,\"\",K123+$F$2))=0+$F$2,\"NEVER CALIBRATED\",IF(Table114[[#This Row],[Disposition]]=\"Retired\",\"N/A\",IF(Table114[[#This Row],[Disposition]]=0,\"\",K123+$F$2)))","v":""},{"$f":"IF(Table114[[#This Row],[Disposition]]=\"\",\"\",IF(AND(Table114[[#This Row],[Next Calibration]]<$E$1,Table114[[#This Row],[Disposition]]=\"Lost\"),\"Find and Calibrate\",IF(Table114[[#This Row],[Disposition]]=\"Lost\",\"Find\",IF(OR(Table114[[#This Row],[Next Calibration]]<$E$1,Table114[[#This Row],[Next Calibration]]=\"NEVER CALIBRATED\"),\"Calibrate\",\"Nominal\"))))","v":""},{"$f":"IF(((Table114[[#This Row],[Next Calibration]]-TODAY())/30)>2,\"More Than 2\",IF(((Table114[[#This Row],[Next Calibration]]-TODAY())/30)>1,\"Between 2 and 1\",\"Less than 1\"))","v":{"$error":"#VALUE!"}},{"$f":"IF(Table114[[#This Row],[Issued]]=\"\",\"\",IF(Table114[[#This Row],[Lent]]=\"\",0,1))","v":""},{"$f":"IF(Table114[[#This Row],[Lent]]=\"\",\"\",IF(Table114[[#This Row],[Returned]]=\"\",0,1))","v":""}]
[{"$nulls":11},{"$f":"IF(IF(Table114[[#This Row],[Disposition]]=\"Retired\",\"N/A\",IF(Table114[[#This Row],[Disposition]]=0,\"\",K124+$F$2))=0+$F$2,\"NEVER CALIBRATED\",IF(Table114[[#This Row],[Disposition]]=\"Retired\",\"N/A\",IF(Table114[[#This Row],[Disposition]]=0,\"\",K124+$F$2)))","v":""},{"$f":"IF(Table114[[#This Row],[Disposition]]=\"\",\"\",IF(AND(Table114[[#This Row],[Next Calibration]]<$E$1,Table114[[#This Row],[Disposition]]=\"Lost\"),\"Find and Calibrate\",IF(Table114[[#This Row],[Disposition]]=\"Lost\",\"Find\",IF(OR(Table114[[#This Row],[Next Calibration]]<$E$1,Table114[[#This Row],[Next Calibration]]=\"NEVER CALIBRATED\"),\"Calibrate\",\"Nominal\"))))","v":""},{"$f":"IF(((Table114[[#This Row],[Next Calibration]]-TODAY())/30)>2,\"More Than 2\",IF(((Table114[[#This Row],[Next Calibration]]-TODAY())/30)>1,\"Between 2 and 1\",\"Less than 1\"))","v":{"$error":"#VALUE!"}},{"$f":"IF(Table114[[#This Row],[Issued]]=\"\",\"\",IF(Table114[[#This Row],[Lent]]=\"\",0,1))","v":""},{"$f":"IF(Table114[[#This Row],[Lent]]=\"\",\"\",IF(Table114[[#This Row],[Returned]]=\"\",0,1))","v":""}]
[{"$nulls":11},{"$f":"IF(IF(Table114[[#This Row],[Disposition]]=\"Retired\",\"N/A\",IF(Table114[[#This Row],[Disposition]]=0,\"\",K125+$F$2))=0+$F$2,\"NEVER CALIBRATED\",IF(Table114[[#This Row],[Disposition]]=\"Retired\",\"N/A\",IF(Table114[[#This Row],[Disposition]]=0,\"\",K125+$F$2)))","v":""},{"$f":"IF(Table114[[#This Row],[Disposition]]=\"\",\"\",IF(AND(Table114[[#This Row],[Next Calibration]]<$E$1,Table114[[#This Row],[Disposition]]=\"Lost\"),\"Find and Calibrate\",IF(Table114[[#This Row],[Disposition]]=\"Lost\",\"Find\",IF(OR(Table114[[#This Row],[Next Calibration]]<$E$1,Table114[[#This Row],[Next Calibration]]=\"NEVER CALIBRATED\"),\"Calibrate\",\"Nominal\"))))","v":""},{"$f":"IF(((Table114[[#This Row],[Next Calibration]]-TODAY())/30)>2,\"More Than 2\",IF(((Table114[[#This Row],[Next Calibration]]-TODAY())/30)>1,\"Between 2 and 1\",\"Less than 1\"))","v":{"$error":"#VALUE!"}},{"$f":"IF(Table114[[#This Row],[Issued]]=\"\",\"\",IF(Table114[[#This Row],[Lent]]=\"\",0,1))","v":""},{"$f":"IF(Table114[[#This Row],[Lent]]=\"\",\"\",IF(Table114[[#This Row],[Returned]]=\"\",0,1))","v":""}]
[{"$nulls":11},{"$f":"IF(IF(Table114[[#This Row],[Disposition]]=\"Retired\",\"N/A\",IF(Table114[[#This Row],[Disposition]]=0,\"\",K126+$F$2))=0+$F$2,\"NEVER CALIBRATED\",IF(Table114[[#This Row],[Disposition]]=\"Retired\",\"N/A\",IF(Table114[[#This Row],[Disposition]]=0,\"\",K126+$F$2)))","v":""},{"$f":"IF(Table114[[#This Row],[Disposition]]=\"\",\"\",IF(AND(Table114[[#This Row],[Next Calibration]]<$E$1,Table114[[#This Row],[Disposition]]=\"Lost\"),\"Find and Calibrate\",IF(Table114[[#This Row],[Disposition]]=\"Lost\",\"Find\",IF(OR(Table114[[#This Row],[Next Calibration]]<$E$1,Table114[[#This Row],[Next Calibration]]=\"NEVER CALIBRATED\"),\"Calibrate\",\"Nominal\"))))","v":""},{"$f":"IF(((Table114[[#This Row],[Next Calibration]]-TODAY())/30)>2,\"More Than 2\",IF(((Table114[[#This Row],[Next Calibration]]-TODAY())/30)>1,\"Between 2 and 1\",\"Less than 1\"))","v":{"$error":"#VALUE!"}},{"$f":"IF(Table114[[#This Row],[Issued]]=\"\",\"\",IF(Table114[[#This Row],[Lent]]=\"\",0,1))","v":""},{"$f":"IF(Table114[[#This Row],[Lent]]=\"\",\"\",IF(Table114[[#This Row],[Returned]]=\"\",0,1))","v":""}]
[{"$nulls":11},{"$f":"IF(IF(Table114[[#This Row],[Disposition]]=\"Retired\",\"N/A\",IF(Table114[[#This Row],[Disposition]]=0,\"\",K127+$F$2))=0+$F$2,\"NEVER CALIBRATED\",IF(Table114[[#This Row],[Disposition]]=\"Retired\",\"N/A\",IF(Table114[[#This Row],[Disposition]]=0,\"\",K127+$F$2)))","v":""},{"$f":"IF(Table114[[#This Row],[Disposition]]=\"\",\"\",IF(AND(Table114[[#This Row],[Next Calibration]]<$E$1,Table114[[#This Row],[Disposition]]=\"Lost\"),\"Find and Calibrate\",IF(Table114[[#This Row],[Disposition]]=\"Lost\",\"Find\",IF(OR(Table114[[#This Row],[Next Calibration]]<$E$1,Table114[[#This Row],[Next Calibration]]=\"NEVER CALIBRATED\"),\"Calibrate\",\"Nominal\"))))","v":""},{"$f":"IF(((Table114[[#This Row],[Next Calibration]]-TODAY())/30)>2,\"More Than 2\",IF(((Table114[[#This Row],[Next Calibration]]-TODAY())/30)>1,\"Between 2 and 1\",\"Less than 1\"))","v":{"$error":"#VALUE!"}},{"$f":"IF(Table114[[#This Row],[Issued]]=\"\",\"\",IF(Table114[[#This Row],[Lent]]=\"\",0,1))","v":""},{"$f":"IF(Table114[[#This Row],[Lent]]=\"\",\"\",IF(Table114[[#This Row],[Returned]]=\"\",0,1))","v":""}]
[{"$nulls":11},{"$f":"IF(IF(Table114[[#This Row],[Disposition]]=\"Retired\",\"N/A\",IF(Table114[[#This Row],[Disposition]]=0,\"\",K128+$F$2))=0+$F$2,\"NEVER CALIBRATED\",IF(Table114[[#This Row],[Disposition]]=\"Retired\",\"N/A\",IF(Table114[[#This Row],[Disposition]]=0,\"\",K128+$F$2)))","v":""},{"$f":"IF(Table114[[#This Row],[Disposition]]=\"\",\"\",IF(AND(Table114[[#This Row],[Next Calibration]]<$E$1,Table114[[#This Row],[Disposition]]=\"Lost\"),\"Find and Calibrate\",IF(Table114[[#This Row],[Disposition]]=\"Lost\",\"Find\",IF(OR(Table114[[#This Row],[Next Calibration]]<$E$1,Table114[[#This Row],[Next Calibration]]=\"NEVER CALIBRATED\"),\"Calibrate\",\"Nominal\"))))","v":""},{"$f":"IF(((Table114[[#This Row],[Next Calibration]]-TODAY())/30)>2,\"More Than 2\",IF(((Table114[[#This Row],[Next Calibration]]-TODAY())/30)>1,\"Between 2 and 1\",\"Less than 1\"))","v":{"$error":"#VALUE!"}},{"$f":"IF(Table114[[#This Row],[Issued]]=\"\",\"\",IF(Table114[[#This Row],[Lent]]=\"\",0,1))","v":""},{"$f":"IF(Table114[[#This Row],[Lent]]=\"\",\"\",IF(Table114[[#This Row],[Returned]]=\"\",0,1))","v":""}]
[{"$nulls":11},{"$f":"IF(IF(Table114[[#This Row],[Disposition]]=\"Retired\",\"N/A\",IF(Table114[[#This Row],[Disposition]]=0,\"\",K129+$F$2))=0+$F$2,\"NEVER CALIBRATED\",IF(Table114[[#This Row],[Disposition]]=\"Retired\",\"N/A\",IF(Table114[[#This Row],[Disposition]]=0,\"\",K129+$F$2)))","v":""},{"$f":"IF(Table114[[#This Row],[Disposition]]=\"\",\"\",IF(AND(Table114[[#This Row],[Next Calibration]]<$E$1,Table114[[#This Row],[Disposition]]=\"Lost\"),\"Find and Calibrate\",IF(Table114[[#This Row],[Disposition]]=\"Lost\",\"Find\",IF(OR(Table114[[#This Row],[Next Calibration]]<$E$1,Table114[[#This Row],[Next Calibration]]=\"NEVER CALIBRATED\"),\"Calibrate\",\"Nominal\"))))","v":""},{"$f":"IF(((Table114[[#This Row],[Next Calibration]]-TODAY())/30)>2,\"More Than 2\",IF(((Table114[[#This Row],[Next Calibration]]-TODAY())/30)>1,\"Between 2 and 1\",\"Less than 1\"))","v":{"$error":"#VALUE!"}},{"$f":"IF(Table114[[#This Row],[Issued]]=\"\",\"\",IF(Table114[[#This Row],[Lent]]=\"\",0,1))","v":""},{"$f":"IF(Table114[[#This Row],[Lent]]=\"\",\"\",IF(Table114[[#This Row],[Returned]]=\"\",0,1))","v":""}]
[{"$nulls":11},{"$f":"IF(IF(Table114[[#This Row],[Disposition]]=\"Retired\",\"N/A\",IF(Table114[[#This Row],[Disposition]]=0,\"\",K130+$F$2))=0+$F$2,\"NEVER CALIBRATED\",IF(Table114[[#This Row],[Disposition]]=\"Retired\",\"N/A\",IF(Table114[[#This Row],[Disposition]]=0,\"\",K130+$F$2)))","v":""},{"$f":"IF(Table114[[#This Row],[Disposition]]=\"\",\"\",IF(AND(Table114[[#This Row],[Next Calibration]]<$E$1,Table114[[#This Row],[Disposition]]=\"Lost\"),\"Find and Calibrate\",IF(Table114[[#This Row],[Disposition]]=\"Lost\",\"Find\",IF(OR(Table114[[#This Row],[Next Calibration]]<$E$1,Table114[[#This Row],[Next Calibration]]=\"NEVER CALIBRATED\"),\"Calibrate\",\"Nominal\"))))","v":""},{"$f":"IF(((Table114[[#This Row],[Next Calibration]]-TODAY())/30)>2,\"More Than 2\",IF(((Table114[[#This Row],[Next Calibration]]-TODAY())/30)>1,\"Between 2 and 1\",\"Less than 1\"))","v":{"$error":"#VALUE!"}},{"$f":"IF(Table114[[#This Row],[Issued]]=\"\",\"\",IF(Table114[[#This Row],[Lent]]=\"\",0,1))","v":""},{"$f":"IF(Table114[[#This Row],[Lent]]=\"\",\"\",IF(Table114[[#This Row],[Returned]]=\"\",0,1))","v":""}]
[{"$nulls":11},{"$f":"IF(IF(Table114[[#This Row],[Disposition]]=\"Retired\",\"N/A\",IF(Table114[[#This Row],[Disposition]]=0,\"\",K131+$F$2))=0+$F$2,\"NEVER CALIBRATED\",IF(Table114[[#This Row],[Disposition]]=\"Retired\",\"N/A\",IF(Table114[[#This Row],[Disposition]]=0,\"\",K131+$F$2)))","v":""},{"$f":"IF(Table114[[#This Row],[Disposition]]=\"\",\"\",IF(AND(Table114[[#This Row],[Next Calibration]]<$E$1,Table114[[#This Row],[Disposition]]=\"Lost\"),\"Find and Calibrate\",IF(Table114[[#This Row],[Disposition]]=\"Lost\",\"Find\",IF(OR(Table114[[#This Row],[Next Calibration]]<$E$1,Table114[[#This Row],[Next Calibration]]=\"NEVER CALIBRATED\"),\"Calibrate\",\"Nominal\"))))","v":""},{"$f":"IF(((Table114[[#This Row],[Next Calibration]]-TODAY())/30)>2,\"More Than 2\",IF(((Table114[[#This Row],[Next Calibration]]-TODAY())/30)>1,\"Between 2 and 1\",\"Less than 1\"))","v":{"$error":"#VALUE!"}},{"$f":"IF(Table114[[#This Row],[Issued]]=\"\",\"\",IF(Table114[[#This Row],[Lent]]=\"\",0,1))","v":""},{"$f":"IF(Table114[[#This Row],[Lent]]=\"\",\"\",IF(Table114[[#This Row],[Returned]]=\"\",0,1))","v":""}]
[{"$nulls":11},{"$f":"IF(IF(Table114[[#This Row],[Disposition]]=\"Retired\",\"N/A\",IF(Table114[[#This Row],[Disposition]]=0,\"\",K132+$F$2))=0+$F$2,\"NEVER CALIBRATED\",IF(Table114[[#This Row],[Disposition]]=\"Retired\",\"N/A\",IF(Table114[[#This Row],[Disposition]]=0,\"\",K132+$F$2)))","v":""},{"$f":"IF(Table114[[#This Row],[Disposition]]=\"\",\"\",IF(AND(Table114[[#This Row],[Next Calibration]]<$E$1,Table114[[#This Row],[Disposition]]=\"Lost\"),\"Find and Calibrate\",IF(Table114[[#This Row],[Disposition]]=\"Lost\",\"Find\",IF(OR(Table114[[#This Row],[Next Calibration]]<$E$1,Table114[[#This Row],[Next Calibration]]=\"NEVER CALIBRATED\"),\"Calibrate\",\"Nominal\"))))","v":""},{"$f":"IF(((Table114[[#This Row],[Next Calibration]]-TODAY())/30)>2,\"More Than 2\",IF(((Table114[[#This Row],[Next Calibration]]-TODAY())/30)>1,\"Between 2 and 1\",\"Less than 1\"))","v":{"$error":"#VALUE!"}},{"$f":"IF(Table114[[#This Row],[Issued]]=\"\",\"\",IF(Table114[[#This Row],[Lent]]=\"\",0,1))","v":""},{"$f":"IF(Table114[[#This Row],[Lent]]=\"\",\"\",IF(Table114[[#This Row],[Returned]]=\"\",0,1))","v":""}]
[{"$nulls":11},{"$f":"IF(IF(Table114[[#This Row],[Disposition]]=\"Retired\",\"N/A\",IF(Table114[[#This Row],[Disposition]]=0,\"\",K133+$F$2))=0+$F$2,\"NEVER CALIBRATED\",IF(Table114[[#This Row],[Disposition]]=\"Retired\",\"N/A\",IF(Table114[[#This Row],[Disposition]]=0,\"\",K133+$F$2)))","v":""},{"$f":"IF(Table114[[#This Row],[Disposition]]=\"\",\"\",IF(AND(Table114[[#This Row],[Next Calibration]]<$E$1,Table114[[#This Row],[Disposition]]=\"Lost\"),\"Find and Calibrate\",IF(Table114[[#This Row],[Disposition]]=\"Lost\",\"Find\",IF(OR(Table114[[#This Row],[Next Calibration]]<$E$1,Table114[[#This Row],[Next Calibration]]=\"NEVER CALIBRATED\"),\"Calibrate\",\"Nominal\"))))","v":""},{"$f":"IF(((Table114[[#This Row],[Next Calibration]]-TODAY())/30)>2,\"More Than 2\",IF(((Table114[[#This Row],[Next Calibration]]-TODAY())/30)>1,\"Between 2 and 1\",\"Less than 1\"))","v":{"$error":"#VALUE!"}},{"$f":"IF(Table114[[#This Row],[Issued]]=\"\",\"\",IF(Table114[[#This Row],[Lent]]=\"\",0,1))","v":""},{"$f":"IF(Table114[[#This Row],[Lent]]=\"\",\"\",IF(Table114[[#This Row],[Returned]]=\"\",0,1))","v":""}]
[{"$nulls":11},{"$f":"IF(IF(Table114[[#This Row],[Disposition]]=\"Retired\",\"N/A\",IF(Table114[[#This Row],[Disposition]]=0,\"\",K134+$F$2))=0+$F$2,\"NEVER CALIBRATED\",IF(Table114[[#This Row],[Disposition]]=\"Retired\",\"N/A\",IF(Table114[[#This Row],[Disposition]]=0,\"\",K134+$F$2)))","v":""},{"$f":"IF(Table114[[#This Row],[Disposition]]=\"\",\"\",IF(AND(Table114[[#This Row],[Next Calibration]]<$E$1,Table114[[#This Row],[Disposition]]=\"Lost\"),\"Find and Calibrate\",IF(Table114[[#This Row],[Disposition]]=\"Lost\",\"Find\",IF(OR(Table114[[#This Row],[Next Calibration]]<$E$1,Table114[[#This Row],[Next Calibration]]=\"NEVER CALIBRATED\"),\"Calibrate\",\"Nominal\"))))","v":""},{"$f":"IF(((Table114[[#This Row],[Next Calibration]]-TODAY())/30)>2,\"More Than 2\",IF(((Table114[[#This Row],[Next Calibration]]-TODAY())/30)>1,\"Between 2 and 1\",\"Less than 1\"))","v":{"$error":"#VALUE!"}},{"$f":"IF(Table114[[#This Row],[Issued]]=\"\",\"\",IF(Table114[[#This Row],[Lent]]=\"\",0,1))","v":""},{"$f":"IF(Table114[[#This Row],[Lent]]=\"\",\"\",IF(Table114[[#This Row],[Returned]]=\"\",0,1))","v":""}]
[{"$nulls":11},{"$f":"IF(IF(Table114[[#This Row],[Disposition]]=\"Retired\",\"N/A\",IF(Table114[[#This Row],[Disposition]]=0,\"\",K135+$F$2))=0+$F$2,\"NEVER CALIBRATED\",IF(Table114[[#This Row],[Disposition]]=\"Retired\",\"N/A\",IF(Table114[[#This Row],[Disposition]]=0,\"\",K135+$F$2)))","v":""},{"$f":"IF(Table114[[#This Row],[Disposition]]=\"\",\"\",IF(AND(Table114[[#This Row],[Next Calibration]]<$E$1,Table114[[#This Row],[Disposition]]=\"Lost\"),\"Find and Calibrate\",IF(Table114[[#This Row],[Disposition]]=\"Lost\",\"Find\",IF(OR(Table114[[#This Row],[Next Calibration]]<$E$1,Table114[[#This Row],[Next Calibration]]=\"NEVER CALIBRATED\"),\"Calibrate\",\"Nominal\"))))","v":""},{"$f":"IF(((Table114[[#This Row],[Next Calibration]]-TODAY())/30)>2,\"More Than 2\",IF(((Table114[[#This Row],[Next Calibration]]-TODAY())/30)>1,\"Between 2 and 1\",\"Less than 1\"))","v":{"$error":"#VALUE!"}},{"$f":"IF(Table114[[#This Row],[Issued]]=\"\",\"\",IF(Table114[[#This Row],[Lent]]=\"\",0,1))","v":""},{"$f":"IF(Table114[[#This Row],[Lent]]=\"\",\"\",IF(Table114[[#This Row],[Returned]]=\"\",0,1))","v":""}]
[{"$nulls":11},{"$f":"IF(IF(Table114[[#This Row],[Disposition]]=\"Retired\",\"N/A\",IF(Table114[[#This Row],[Disposition]]=0,\"\",K136+$F$2))=0+$F$2,\"NEVER CALIBRATED\",IF(Table114[[#This Row],[Disposition]]=\"Retired\",\"N/A\",IF(Table114[[#This Row],[Disposition]]=0,\"\",K136+$F$2)))","v":""},{"$f":"IF(Table114[[#This Row],[Disposition]]=\"\",\"\",IF(AND(Table114[[#This Row],[Next Calibration]]<$E$1,Table114[[#This Row],[Disposition]]=\"Lost\"),\"Find and Calibrate\",IF(Table114[[#This Row],[Disposition]]=\"Lost\",\"Find\",IF(OR(Table114[[#This Row],[Next Calibration]]<$E$1,Table114[[#This Row],[Next Calibration]]=\"NEVER CALIBRATED\"),\"Calibrate\",\"Nominal\"))))","v":""},{"$f":"IF(((Table114[[#This Row],[Next Calibration]]-TODAY())/30)>2,\"More Than 2\",IF(((Table114[[#This Row],[Next Calibration]]-TODAY())/30)>1,\"Between 2 and 1\",\"Less than 1\"))","v":{"$error":"#VALUE!"}},{"$f":"IF(Table114[[#This Row],[Issued]]=\"\",\"\",IF(Table114[[#This Row],[Lent]]=\"\",0,1))","v":""},{"$f":"IF(Table114[[#This Row],[Lent]]=\"\",\"\",IF(Table114[[#This Row],[Returned]]=\"\",0,1))","v":""}]
[{"$nulls":11},{"$f":"IF(IF(Table114[[#This Row],[Disposition]]=\"Retired\",\"N/A\",IF(Table114[[#This Row],[Disposition]]=0,\"\",K137+$F$2))=0+$F$2,\"NEVER CALIBRATED\",IF(Table114[[#This Row],[Disposition]]=\"Retired\",\"N/A\",IF(Table114[[#This Row],[Disposition]]=0,\"\",K137+$F$2)))","v":""},{"$f":"IF(Table114[[#This Row],[Disposition]]=\"\",\"\",IF(AND(Table114[[#This Row],[Next Calibration]]<$E$1,Table114[[#This Row],[Disposition]]=\"Lost\"),\"Find and Calibrate\",IF(Table114[[#This Row],[Disposition]]=\"Lost\",\"Find\",IF(OR(Table114[[#This Row],[Next Calibration]]<$E$1,Table114[[#This Row],[Next Calibration]]=\"NEVER CALIBRATED\"),\"Calibrate\",\"Nominal\"))))","v":""},{"$f":"IF(((Table114[[#This Row],[Next Calibration]]-TODAY())/30)>2,\"More Than 2\",IF(((Table114[[#This Row],[Next Calibration]]-TODAY())/30)>1,\"Between 2 and 1\",\"Less than 1\"))","v":{"$error":"#VALUE!"}},{"$f":"IF(Table114[[#This Row],[Issued]]=\"\",\"\",IF(Table114[[#This Row],[Lent]]=\"\",0,1))","v":""},{"$f":"IF(Table114[[#This Row],[Lent]]=\"\",\"\",IF(Table114[[#This Row],[Returned]]=\"\",0,1))","v":""}]
[{"$nulls":11},{"$f":"IF(IF(Table114[[#This Row],[Disposition]]=\"Retired\",\"N/A\",IF(Table114[[#This Row],[Disposition]]=0,\"\",K138+$F$2))=0+$F$2,\"NEVER CALIBRATED\",IF(Table114[[#This Row],[Disposition]]=\"Retired\",\"N/A\",IF(Table114[[#This Row],[Disposition]]=0,\"\",K138+$F$2)))","v":""},{"$f":"IF(Table114[[#This Row],[Disposition]]=\"\",\"\",IF(AND(Table114[[#This Row],[Next Calibration]]<$E$1,Table114[[#This Row],[Disposition]]=\"Lost\"),\"Find and Calibrate\",IF(Table114[[#This Row],[Disposition]]=\"Lost\",\"Find\",IF(OR(Table114[[#This Row],[Next Calibration]]<$E$1,Table114[[#This Row],[Next Calibration]]=\"NEVER CALIBRATED\"),\"Calibrate\",\"Nominal\"))))","v":""},{"$f":"IF(((Table114[[#This Row],[Next Calibration]]-TODAY())/30)>2,\"More Than 2\",IF(((Table114[[#This Row],[Next Calibration]]-TODAY())/30)>1,\"Between 2 and 1\",\"Less than 1\"))","v":{"$error":"#VALUE!"}},{"$f":"IF(Table114[[#This Row],[Issued]]=\"\",\"\",IF(Table114[[#This Row],[Lent]]=\"\",0,1))","v":""},{"$f":"IF(Table114[[#This Row],[Lent]]=\"\",\"\",IF(Table114[[#This Row],[Returned]]=\"\",0,1))","v":""}]
[{"$nulls":11},{"$f":"IF(IF(Table114[[#This Row],[Disposition]]=\"Retired\",\"N/A\",IF(Table114[[#This Row],[Disposition]]=0,\"\",K139+$F$2))=0+$F$2,\"NEVER CALIBRATED\",IF(Table114[[#This Row],[Disposition]]=\"Retired\",\"N/A\",IF(Table114[[#This Row],[Disposition]]=0,\"\",K139+$F$2)))","v":""},{"$f":"IF(Table114[[#This Row],[Disposition]]=\"\",\"\",IF(AND(Table114[[#This Row],[Next Calibration]]<$E$1,Table114[[#This Row],[Disposition]]=\"Lost\"),\"Find and Calibrate\",IF(Table114[[#This Row],[Disposition]]=\"Lost\",\"Find\",IF(OR(Table114[[#This Row],[Next Calibration]]<$E$1,Table114[[#This Row],[Next Calibration]]=\"NEVER CALIBRATED\"),\"Calibrate\",\"Nominal\"))))","v":""},{"$f":"IF(((Table114[[#This Row],[Next Calibration]]-TODAY())/30)>2,\"More Than 2\",IF(((Table114[[#This Row],[Next Calibration]]-TODAY())/30)>1,\"Between 2 and 1\",\"Less than 1\"))","v":{"$error":"#VALUE!"}},{"$f":"IF(Table114[[#This Row],[Issued]]=\"\",\"\",IF(Table114[[#This Row],[Lent]]=\"\",0,1))","v":""},{"$f":"IF(Table114[[#This Row],[Lent]]=\"\",\"\",IF(Table114[[#This Row],[Returned]]=\"\",0,1))","v":""}]
[{"$nulls":11},{"$f":"IF(IF(Table114[[#This Row],[Disposition]]=\"Retired\",\"N/A\",IF(Table114[[#This Row],[Disposition]]=0,\"\",K140+$F$2))=0+$F$2,\"NEVER CALIBRATED\",IF(Table114[[#This Row],[Disposition]]=\"Retired\",\"N/A\",IF(Table114[[#This Row],[Disposition]]=0,\"\",K140+$F$2)))","v":""},{"$f":"IF(Table114[[#This Row],[Disposition]]=\"\",\"\",IF(AND(Table114[[#This Row],[Next Calibration]]<$E$1,Table114[[#This Row],[Disposition]]=\"Lost\"),\"Find and Calibrate\",IF(Table114[[#This Row],[Disposition]]=\"Lost\",\"Find\",IF(OR(Table114[[#This Row],[Next Calibration]]<$E$1,Table114[[#This Row],[Next Calibration]]=\"NEVER CALIBRATED\"),\"Calibrate\",\"Nominal\"))))","v":""},{"$f":"IF(((Table114[[#This Row],[Next Calibration]]-TODAY())/30)>2,\"More Than 2\",IF(((Table114[[#This Row],[Next Calibration]]-TODAY())/30)>1,\"Between 2 and 1\",\"Less than 1\"))","v":{"$error":"#VALUE!"}},{"$f":"IF(Table114[[#This Row],[Issued]]=\"\",\"\",IF(Table114[[#This Row],[Lent]]=\"\",0,1))","v":""},{"$f":"IF(Table114[[#This Row],[Lent]]=\"\",\"\",IF(Table114[[#This Row],[Returned]]=\"\",0,1))","v":""}]
[{"$nulls":11},{"$f":"IF(IF(Table114[[#This Row],[Disposition]]=\"Retired\",\"N/A\",IF(Table114[[#This Row],[Disposition]]=0,\"\",K141+$F$2))=0+$F$2,\"NEVER CALIBRATED\",IF(Table114[[#This Row],[Disposition]]=\"Retired\",\"N/A\",IF(Table114[[#This Row],[Disposition]]=0,\"\",K141+$F$2)))","v":""},{"$f":"IF(Table114[[#This Row],[Disposition]]=\"\",\"\",IF(AND(Table114[[#This Row],[Next Calibration]]<$E$1,Table114[[#This Row],[Disposition]]=\"Lost\"),\"Find and Calibrate\",IF(Table114[[#This Row],[Disposition]]=\"Lost\",\"Find\",IF(OR(Table114[[#This Row],[Next Calibration]]<$E$1,Table114[[#This Row],[Next Calibration]]=\"NEVER CALIBRATED\"),\"Calibrate\",\"Nominal\"))))","v":""},{"$f":"IF(((Table114[[#This Row],[Next Calibration]]-TODAY())/30)>2,\"More Than 2\",IF(((Table114[[#This Row],[Next Calibration]]-TODAY())/30)>1,\"Between 2 and 1\",\"Less than 1\"))","v":{"$error":"#VALUE!"}},{"$f":"IF(Table114[[#This Row],[Issued]]=\"\",\"\",IF(Table114[[#This Row],[Lent]]=\"\",0,1))","v":""},{"$f":"IF(Table114[[#This Row],[Lent]]=\"\",\"\",IF(Table114[[#This Row],[Returned]]=\"\",0,1))","v":""}]
[{"$nulls":11},{"$f":"IF(IF(Table114[[#This Row],[Disposition]]=\"Retired\",\"N/A\",IF(Table114[[#This Row],[Disposition]]=0,\"\",K142+$F$2))=0+$F$2,\"NEVER CALIBRATED\",IF(Table114[[#This Row],[Disposition]]=\"Retired\",\"N/A\",IF(Table114[[#This Row],[Disposition]]=0,\"\",K142+$F$2)))","v":""},{"$f":"IF(Table114[[#This Row],[Disposition]]=\"\",\"\",IF(AND(Table114[[#This Row],[Next Calibration]]<$E$1,Table114[[#This Row],[Disposition]]=\"Lost\"),\"Find and Calibrate\",IF(Table114[[#This Row],[Disposition]]=\"Lost\",\"Find\",IF(OR(Table114[[#This Row],[Next Calibration]]<$E$1,Table114[[#This Row],[Next Calibration]]=\"NEVER CALIBRATED\"),\"Calibrate\",\"Nominal\"))))","v":""},{"$f":"IF(((Table114[[#This Row],[Next Calibration]]-TODAY())/30)>2,\"More Than 2\",IF(((Table114[[#This Row],[Next Calibration]]-TODAY())/30)>1,\"Between 2 and 1\",\"Less than 1\"))","v":{"$error":"#VALUE!"}},{"$f":"IF(Table114[[#This Row],[Issued]]=\"\",\"\",IF(Table114[[#This Row],[Lent]]=\"\",0,1))","v":""},{"$f":"IF(Table114[[#This Row],[Lent]]=\"\",\"\",IF(Table114[[#This Row],[Returned]]=\"\",0,1))","v":""}]
[{"$nulls":11},{"$f":"IF(IF(Table114[[#This Row],[Disposition]]=\"Retired\",\"N/A\",IF(Table114[[#This Row],[Disposition]]=0,\"\",K143+$F$2))=0+$F$2,\"NEVER CALIBRATED\",IF(Table114[[#This Row],[Disposition]]=\"Retired\",\"N/A\",IF(Table114[[#This Row],[Disposition]]=0,\"\",K143+$F$2)))","v":""},{"$f":"IF(Table114[[#This Row],[Disposition]]=\"\",\"\",IF(AND(Table114[[#This Row],[Next Calibration]]<$E$1,Table114[[#This Row],[Disposition]]=\"Lost\"),\"Find and Calibrate\",IF(Table114[[#This Row],[Disposition]]=\"Lost\",\"Find\",IF(OR(Table114[[#This Row],[Next Calibration]]<$E$1,Table114[[#This Row],[Next Calibration]]=\"NEVER CALIBRATED\"),\"Calibrate\",\"Nominal\"))))","v":""},{"$f":"IF(((Table114[[#This Row],[Next Calibration]]-TODAY())/30)>2,\"More Than 2\",IF(((Table114[[#This Row],[Next Calibration]]-TODAY())/30)>1,\"Between 2 and 1\",\"Less than 1\"))","v":{"$error":"#VALUE!"}},{"$f":"IF(Table114[[#This Row],[Issued]]=\"\",\"\",IF(Table114[[#This Row],[Lent]]=\"\",0,1))","v":""},{"$f":"IF(Table114[[#This Row],[Lent]]=\"\",\"\",IF(Table114[[#This Row],[Returned]]=\"\",0,1))","v":""}]
[{"$nulls":11},{"$f":"IF(IF(Table114[[#This Row],[Disposition]]=\"Retired\",\"N/A\",IF(Table114[[#This Row],[Disposition]]=0,\"\",K144+$F$2))=0+$F$2,\"NEVER CALIBRATED\",IF(Table114[[#This Row],[Disposition]]=\"Retired\",\"N/A\",IF(Table114[[#This Row],[Disposition]]=0,\"\",K144+$F$2)))","v":""},{"$f":"IF(Table114[[#This Row],[Disposition]]=\"\",\"\",IF(AND(Table114[[#This Row],[Next Calibration]]<$E$1,Table114[[#This Row],[Disposition]]=\"Lost\"),\"Find and Calibrate\",IF(Table114[[#This Row],[Disposition]]=\"Lost\",\"Find\",IF(OR(Table114[[#This Row],[Next Calibration]]<$E$1,Table114[[#This Row],[Next Calibration]]=\"NEVER CALIBRATED\"),\"Calibrate\",\"Nominal\"))))","v":""},{"$f":"IF(((Table114[[#This Row],[Next Calibration]]-TODAY())/30)>2,\"More Than 2\",IF(((Table114[[#This Row],[Next Calibration]]-TODAY())/30)>1,\"Between 2 and 1\",\"Less than 1\"))","v":{"$error":"#VALUE!"}},{"$f":"IF(Table114[[#This Row],[Issued]]=\"\",\"\",IF(Table114[[#This Row],[Lent]]=\"\",0,1))","v":""},{"$f":"IF(Table114[[#This Row],[Lent]]=\"\",\"\",IF(Table114[[#This Row],[Returned]]=\"\",0,1))","v":""}]
[{"$nulls":11},{"$f":"IF(IF(Table114[[#This Row],[Disposition]]=\"Retired\",\"N/A\",IF(Table114[[#This Row],[Disposition]]=0,\"\",K145+$F$2))=0+$F$2,\"NEVER CALIBRATED\",IF(Table114[[#This Row],[Disposition]]=\"Retired\",\"N/A\",IF(Table114[[#This Row],[Disposition]]=0,\"\",K145+$F$2)))","v":""},{"$f":"IF(Table114[[#This Row],[Disposition]]=\"\",\"\",IF(AND(Table114[[#This Row],[Next Calibration]]<$E$1,Table114[[#This Row],[Disposition]]=\"Lost\"),\"Find and Calibrate\",IF(Table114[[#This Row],[Disposition]]=\"Lost\",\"Find\",IF(OR(Table114[[#This Row],[Next Calibration]]<$E$1,Table114[[#This Row],[Next Calibration]]=\"NEVER CALIBRATED\"),\"Calibrate\",\"Nominal\"))))","v":""},{"$f":"IF(((Table114[[#This Row],[Next Calibration]]-TODAY())/30)>2,\"More Than 2\",IF(((Table114[[#This Row],[Next Calibration]]-TODAY())/30)>1,\"Between 2 and 1\",\"Less than 1\"))","v":{"$error":"#VALUE!"}},{"$f":"IF(Table114[[#This Row],[Issued]]=\"\",\"\",IF(Table114[[#This Row],[Lent]]=\"\",0,1))","v":""},{"$f":"IF(Table114[[#This Row],[Lent]]=\"\",\"\",IF(Table114[[#This Row],[Returned]]=\"\",0,1))","v":""}]
[{"$nulls":11},{"$f":"IF(IF(Table114[[#This Row],[Disposition]]=\"Retired\",\"N/A\",IF(Table114[[#This Row],[Disposition]]=0,\"\",K146+$F$2))=0+$F$2,\"NEVER CALIBRATED\",IF(Table114[[#This Row],[Disposition]]=\"Retired\",\"N/A\",IF(Table114[[#This Row],[Disposition]]=0,\"\",K146+$F$2)))","v":""},{"$f":"IF(Table114[[#This Row],[Disposition]]=\"\",\"\",IF(AND(Table114[[#This Row],[Next Calibration]]<$E$1,Table114[[#This Row],[Disposition]]=\"Lost\"),\"Find and Calibrate\",IF(Table114[[#This Row],[Disposition]]=\"Lost\",\"Find\",IF(OR(Table114[[#This Row],[Next Calibration]]<$E$1,Table114[[#This Row],[Next Calibration]]=\"NEVER CALIBRATED\"),\"Calibrate\",\"Nominal\"))))","v":""},{"$f":"IF(((Table114[[#This Row],[Next Calibration]]-TODAY())/30)>2,\"More Than 2\",IF(((Table114[[#This Row],[Next Calibration]]-TODAY())/30)>1,\"Between 2 and 1\",\"Less than 1\"))","v":{"$error":"#VALUE!"}},{"$f":"IF(Table114[[#This Row],[Issued]]=\"\",\"\",IF(Table114[[#This Row],[Lent]]=\"\",0,1))","v":""},{"$f":"IF(Table114[[#This Row],[Lent]]=\"\",\"\",IF(Table114[[#This Row],[Returned]]=\"\",0,1))","v":""}]
[{"$nulls":11},{"$f":"IF(IF(Table114[[#This Row],[Disposition]]=\"Retired\",\"N/A\",IF(Table114[[#This Row],[Disposition]]=0,\"\",K147+$F$2))=0+$F$2,\"NEVER CALIBRATED\",IF(Table114[[#This Row],[Disposition]]=\"Retired\",\"N/A\",IF(Table114[[#This Row],[Disposition]]=0,\"\",K147+$F$2)))","v":""},{"$f":"IF(Table114[[#This Row],[Disposition]]=\"\",\"\",IF(AND(Table114[[#This Row],[Next Calibration]]<$E$1,Table114[[#This Row],[Disposition]]=\"Lost\"),\"Find and Calibrate\",IF(Table114[[#This Row],[Disposition]]=\"Lost\",\"Find\",IF(OR(Table114[[#This Row],[Next Calibration]]<$E$1,Table114[[#This Row],[Next Calibration]]=\"NEVER CALIBRATED\"),\"Calibrate\",\"Nominal\"))))","v":""},{"$f":"IF(((Table114[[#This Row],[Next Calibration]]-TODAY())/30)>2,\"More Than 2\",IF(((Table114[[#This Row],[Next Calibration]]-TODAY())/30)>1,\"Between 2 and 1\",\"Less than 1\"))","v":{"$error":"#VALUE!"}},{"$f":"IF(Table114[[#This Row],[Issued]]=\"\",\"\",IF(Table114[[#This Row],[Lent]]=\"\",0,1))","v":""},{"$f":"IF(Table114[[#This Row],[Lent]]=\"\",\"\",IF(Table114[[#This Row],[Returned]]=\"\",0,1))","v":""}]
[{"$nulls":11},{"$f":"IF(IF(Table114[[#This Row],[Disposition]]=\"Retired\",\"N/A\",IF(Table114[[#This Row],[Disposition]]=0,\"\",K148+$F$2))=0+$F$2,\"NEVER CALIBRATED\",IF(Table114[[#This Row],[Disposition]]=\"Retired\",\"N/A\",IF(Table114[[#This Row],[Disposition]]=0,\"\",K148+$F$2)))","v":""},{"$f":"IF(Table114[[#This Row],[Disposition]]=\"\",\"\",IF(AND(Table114[[#This Row],[Next Calibration]]<$E$1,Table114[[#This Row],[Disposition]]=\"Lost\"),\"Find and Calibrate\",IF(Table114[[#This Row],[Disposition]]=\"Lost\",\"Find\",IF(OR(Table114[[#This Row],[Next Calibration]]<$E$1,Table114[[#This Row],[Next Calibration]]=\"NEVER CALIBRATED\"),\"Calibrate\",\"Nominal\"))))","v":""},{"$f":"IF(((Table114[[#This Row],[Next Calibration]]-TODAY())/30)>2,\"More Than 2\",IF(((Table114[[#This Row],[Next Calibration]]-TODAY())/30)>1,\"Between 2 and 1\",\"Less than 1\"))","v":{"$error":"#VALUE!"}},{"$f":"IF(Table114[[#This Row],[Issued]]=\"\",\"\",IF(Table114[[#This Row],[Lent]]=\"\",0,1))","v":""},{"$f":"IF(Table114[[#This Row],[Lent]]=\"\",\"\",IF(Table114[[#This Row],[Returned]]=\"\",0,1))","v":""}]
[{"$nulls":11},{"$f":"IF(IF(Table114[[#This Row],[Disposition]]=\"Retired\",\"N/A\",IF(Table114[[#This Row],[Disposition]]=0,\"\",K149+$F$2))=0+$F$2,\"NEVER CALIBRATED\",IF(Table114[[#This Row],[Disposition]]=\"Retired\",\"N/A\",IF(Table114[[#This Row],[Disposition]]=0,\"\",K149+$F$2)))","v":""},{"$f":"IF(Table114[[#This Row],[Disposition]]=\"\",\"\",IF(AND(Table114[[#This Row],[Next Calibration]]<$E$1,Table114[[#This Row],[Disposition]]=\"Lost\"),\"Find and Calibrate\",IF(Table114[[#This Row],[Disposition]]=\"Lost\",\"Find\",IF(OR(Table114[[#This Row],[Next Calibration]]<$E$1,Table114[[#This Row],[Next Calibration]]=\"NEVER CALIBRATED\"),\"Calibrate\",\"Nominal\"))))","v":""},{"$f":"IF(((Table114[[#This Row],[Next Calibration]]-TODAY())/30)>2,\"More Than 2\",IF(((Table114[[#This Row],[Next Calibration]]-TODAY())/30)>1,\"Between 2 and 1\",\"Less than 1\"))","v":{"$error":"#VALUE!"}},{"$f":"IF(Table114[[#This Row],[Issued]]=\"\",\"\",IF(Table114[[#This Row],[Lent]]=\"\",0,1))","v":""},{"$f":"IF(Table114[[#This Row],[Lent]]=\"\",\"\",IF(Table114[[#This Row],[Returned]]=\"\",0,1))","v":""}]
[{"$nulls":11},{"$f":"IF(IF(Table114[[#This Row],[Disposition]]=\"Retired\",\"N/A\",IF(Table114[[#This Row],[Disposition]]=0,\"\",K150+$F$2))=0+$F$2,\"NEVER CALIBRATED\",IF(Table114[[#This Row],[Disposition]]=\"Retired\",\"N/A\",IF(Table114[[#This Row],[Disposition]]=0,\"\",K150+$F$2)))","v":""},{"$f":"IF(Table114[[#This Row],[Disposition]]=\"\",\"\",IF(AND(Table114[[#This Row],[Next Calibration]]<$E$1,Table114[[#This Row],[Disposition]]=\"Lost\"),\"Find and Calibrate\",IF(Table114[[#This Row],[Disposition]]=\"Lost\",\"Find\",IF(OR(Table114[[#This Row],[Next Calibration]]<$E$1,Table114[[#This Row],[Next Calibration]]=\"NEVER CALIBRATED\"),\"Calibrate\",\"Nominal\"))))","v":""},{"$f":"IF(((Table114[[#This Row],[Next Calibration]]-TODAY())/30)>2,\"More Than 2\",IF(((Table114[[#This Row],[Next Calibration]]-TODAY())/30)>1,\"Between 2 and 1\",\"Less than 1\"))","v":{"$error":"#VALUE!"}},{"$f":"IF(Table114[[#This Row],[Issued]]=\"\",\"\",IF(Table114[[#This Row],[Lent]]=\"\",0,1))","v":""},{"$f":"IF(Table114[[#This Row],[Lent]]=\"\",\"\",IF(Table114[[#This Row],[Returned]]=\"\",0,1))","v":""}]
[{"$nulls":11},{"$f":"IF(IF(Table114[[#This Row],[Disposition]]=\"Retired\",\"N/A\",IF(Table114[[#This Row],[Disposition]]=0,\"\",K151+$F$2))=0+$F$2,\"NEVER CALIBRATED\",IF(Table114[[#This Row],[Disposition]]=\"Retired\",\"N/A\",IF(Table114[[#This Row],[Disposition]]=0,\"\",K151+$F$2)))","v":""},{"$f":"IF(Table114[[#This Row],[Disposition]]=\"\",\"\",IF(AND(Table114[[#This Row],[Next Calibration]]<$E$1,Table114[[#This Row],[Disposition]]=\"Lost\"),\"Find and Calibrate\",IF(Table114[[#This Row],[Disposition]]=\"Lost\",\"Find\",IF(OR(Table114[[#This Row],[Next Calibration]]<$E$1,Table114[[#This Row],[Next Calibration]]=\"NEVER CALIBRATED\"),\"Calibrate\",\"Nominal\"))))","v":""},{"$f":"IF(((Table114[[#This Row],[Next Calibration]]-TODAY())/30)>2,\"More Than 2\",IF(((Table114[[#This Row],[Next Calibration]]-TODAY())/30)>1,\"Between 2 and 1\",\"Less than 1\"))","v":{"$error":"#VALUE!"}},{"$f":"IF(Table114[[#This Row],[Issued]]=\"\",\"\",IF(Table114[[#This Row],[Lent]]=\"\",0,1))","v":""},{"$f":"IF(Table114[[#This Row],[Lent]]=\"\",\"\",IF(Table114[[#This Row],[Returned]]=\"\",0,1))","v":""}]
[{"$nulls":11},{"$f":"IF(IF(Table114[[#This Row],[Disposition]]=\"Retired\",\"N/A\",IF(Table114[[#This Row],[Disposition]]=0,\"\",K152+$F$2))=0+$F$2,\"NEVER CALIBRATED\",IF(Table114[[#This Row],[Disposition]]=\"Retired\",\"N/A\",IF(Table114[[#This Row],[Disposition]]=0,\"\",K152+$F$2)))","v":""},{"$f":"IF(Table114[[#This Row],[Disposition]]=\"\",\"\",IF(AND(Table114[[#This Row],[Next Calibration]]<$E$1,Table114[[#This Row],[Disposition]]=\"Lost\"),\"Find and Calibrate\",IF(Table114[[#This Row],[Disposition]]=\"Lost\",\"Find\",IF(OR(Table114[[#This Row],[Next Calibration]]<$E$1,Table114[[#This Row],[Next Calibration]]=\"NEVER CALIBRATED\"),\"Calibrate\",\"Nominal\"))))","v":""},{"$f":"IF(((Table114[[#This Row],[Next Calibration]]-TODAY())/30)>2,\"More Than 2\",IF(((Table114[[#This Row],[Next Calibration]]-TODAY())/30)>1,\"Between 2 and 1\",\"Less than 1\"))","v":{"$error":"#VALUE!"}},{"$f":"IF(Table114[[#This Row],[Issued]]=\"\",\"\",IF(Table114[[#This Row],[Lent]]=\"\",0,1))","v":""},{"$f":"IF(Table114[[#This Row],[Lent]]=\"\",\"\",IF(Table114[[#This Row],[Returned]]=\"\",0,1))","v":""}]
[{"$nulls":11},{"$f":"IF(IF(Table114[[#This Row],[Disposition]]=\"Retired\",\"N/A\",IF(Table114[[#This Row],[Disposition]]=0,\"\",K153+$F$2))=0+$F$2,\"NEVER CALIBRATED\",IF(Table114[[#This Row],[Disposition]]=\"Retired\",\"N/A\",IF(Table114[[#This Row],[Disposition]]=0,\"\",K153+$F$2)))","v":""},{"$f":"IF(Table114[[#This Row],[Disposition]]=\"\",\"\",IF(AND(Table114[[#This Row],[Next Calibration]]<$E$1,Table114[[#This Row],[Disposition]]=\"Lost\"),\"Find and Calibrate\",IF(Table114[[#This Row],[Disposition]]=\"Lost\",\"Find\",IF(OR(Table114[[#This Row],[Next Calibration]]<$E$1,Table114[[#This Row],[Next Calibration]]=\"NEVER CALIBRATED\"),\"Calibrate\",\"Nominal\"))))","v":""},{"$f":"IF(((Table114[[#This Row],[Next Calibration]]-TODAY())/30)>2,\"More Than 2\",IF(((Table114[[#This Row],[Next Calibration]]-TODAY())/30)>1,\"Between 2 and 1\",\"Less than 1\"))","v":{"$error":"#VALUE!"}},{"$f":"IF(Table114[[#This Row],[Issued]]=\"\",\"\",IF(Table114[[#This Row],[Lent]]=\"\",0,1))","v":""},{"$f":"IF(Table114[[#This Row],[Lent]]=\"\",\"\",IF(Table114[[#This Row],[Returned]]=\"\",0,1))","v":""}]
[{"$nulls":11},{"$f":"IF(IF(Table114[[#This Row],[Disposition]]=\"Retired\",\"N/A\",IF(Table114[[#This Row],[Disposition]]=0,\"\",K154+$F$2))=0+$F$2,\"NEVER CALIBRATED\",IF(Table114[[#This Row],[Disposition]]=\"Retired\",\"N/A\",IF(Table114[[#This Row],[Disposition]]=0,\"\",K154+$F$2)))","v":""},{"$f":"IF(Table114[[#This Row],[Disposition]]=\"\",\"\",IF(AND(Table114[[#This Row],[Next Calibration]]<$E$1,Table114[[#This Row],[Disposition]]=\"Lost\"),\"Find and Calibrate\",IF(Table114[[#This Row],[Disposition]]=\"Lost\",\"Find\",IF(OR(Table114[[#This Row],[Next Calibration]]<$E$1,Table114[[#This Row],[Next Calibration]]=\"NEVER CALIBRATED\"),\"Calibrate\",\"Nominal\"))))","v":""},{"$f":"IF(((Table114[[#This Row],[Next Calibration]]-TODAY())/30)>2,\"More Than 2\",IF(((Table114[[#This Row],[Next Calibration]]-TODAY())/30)>1,\"Between 2 and 1\",\"Less than 1\"))","v":{"$error":"#VALUE!"}},{"$f":"IF(Table114[[#This Row],[Issued]]=\"\",\"\",IF(Table114[[#This Row],[Lent]]=\"\",0,1))","v":""},{"$f":"IF(Table114[[#This Row],[Lent]]=\"\",\"\",IF(Table114[[#This Row],[Returned]]=\"\",0,1))","v":""}]
[{"$nulls":11},{"$f":"IF(IF(Table114[[#This Row],[Disposition]]=\"Retired\",\"N/A\",IF(Table114[[#This Row],[Disposition]]=0,\"\",K155+$F$2))=0+$F$2,\"NEVER CALIBRATED\",IF(Table114[[#This Row],[Disposition]]=\"Retired\",\"N/A\",IF(Table114[[#This Row],[Disposition]]=0,\"\",K155+$F$2)))","v":""},{"$f":"IF(Table114[[#This Row],[Disposition]]=\"\",\"\",IF(AND(Table114[[#This Row],[Next Calibration]]<$E$1,Table114[[#This Row],[Disposition]]=\"Lost\"),\"Find and Calibrate\",IF(Table114[[#This Row],[Disposition]]=\"Lost\",\"Find\",IF(OR(Table114[[#This Row],[Next Calibration]]<$E$1,Table114[[#This Row],[Next Calibration]]=\"NEVER CALIBRATED\"),\"Calibrate\",\"Nominal\"))))","v":""},{"$f":"IF(((Table114[[#This Row],[Next Calibration]]-TODAY())/30)>2,\"More Than 2\",IF(((Table114[[#This Row],[Next Calibration]]-TODAY())/30)>1,\"Between 2 and 1\",\"Less than 1\"))","v":{"$error":"#VALUE!"}},{"$f":"IF(Table114[[#This Row],[Issued]]=\"\",\"\",IF(Table114[[#This Row],[Lent]]=\"\",0,1))","v":""},{"$f":"IF(Table114[[#This Row],[Lent]]=\"\",\"\",IF(Table114[[#This Row],[Returned]]=\"\",0,1))","v":""}]
[{"$nulls":11},{"$f":"IF(IF(Table114[[#This Row],[Disposition]]=\"Retired\",\"N/A\",IF(Table114[[#This Row],[Disposition]]=0,\"\",K156+$F$2))=0+$F$2,\"NEVER CALIBRATED\",IF(Table114[[#This Row],[Disposition]]=\"Retired\",\"N/A\",IF(Table114[[#This Row],[Disposition]]=0,\"\",K156+$F$2)))","v":""},{"$f":"IF(Table114[[#This Row],[Disposition]]=\"\",\"\",IF(AND(Table114[[#This Row],[Next Calibration]]<$E$1,Table114[[#This Row],[Disposition]]=\"Lost\"),\"Find and Calibrate\",IF(Table114[[#This Row],[Disposition]]=\"Lost\",\"Find\",IF(OR(Table114[[#This Row],[Next Calibration]]<$E$1,Table114[[#This Row],[Next Calibration]]=\"NEVER CALIBRATED\"),\"Calibrate\",\"Nominal\"))))","v":""},{"$f":"IF(((Table114[[#This Row],[Next Calibration]]-TODAY())/30)>2,\"More Than 2\",IF(((Table114[[#This Row],[Next Calibration]]-TODAY())/30)>1,\"Between 2 and 1\",\"Less than 1\"))","v":{"$error":"#VALUE!"}},{"$f":"IF(Table114[[#This Row],[Issued]]=\"\",\"\",IF(Table114[[#This Row],[Lent]]=\"\",0,1))","v":""},{"$f":"IF(Table114[[#This Row],[Lent]]=\"\",\"\",IF(Table114[[#This Row],[Returned]]=\"\",0,1))","v":""}]
[{"$nulls":11},{"$f":"IF(IF(Table114[[#This Row],[Disposition]]=\"Retired\",\"N/A\",IF(Table114[[#This Row],[Disposition]]=0,\"\",K157+$F$2))=0+$F$2,\"NEVER CALIBRATED\",IF(Table114[[#This Row],[Disposition]]=\"Retired\",\"N/A\",IF(Table114[[#This Row],[Disposition]]=0,\"\",K157+$F$2)))","v":""},{"$f":"IF(Table114[[#This Row],[Disposition]]=\"\",\"\",IF(AND(Table114[[#This Row],[Next Calibration]]<$E$1,Table114[[#This Row],[Disposition]]=\"Lost\"),\"Find and Calibrate\",IF(Table114[[#This Row],[Disposition]]=\"Lost\",\"Find\",IF(OR(Table114[[#This Row],[Next Calibration]]<$E$1,Table114[[#This Row],[Next Calibration]]=\"NEVER CALIBRATED\"),\"Calibrate\",\"Nominal\"))))","v":""},{"$f":"IF(((Table114[[#This Row],[Next Calibration]]-TODAY())/30)>2,\"More Than 2\",IF(((Table114[[#This Row],[Next Calibration]]-TODAY())/30)>1,\"Between 2 and 1\",\"Less than 1\"))","v":{"$error":"#VALUE!"}},{"$f":"IF(Table114[[#This Row],[Issued]]=\"\",\"\",IF(Table114[[#This Row],[Lent]]=\"\",0,1))","v":""},{"$f":"IF(Table114[[#This Row],[Lent]]=\"\",\"\",IF(Table114[[#This Row],[Returned]]=\"\",0,1))","v":""}]
[{"$nulls":11},{"$f":"IF(IF(Table114[[#This Row],[Disposition]]=\"Retired\",\"N/A\",IF(Table114[[#This Row],[Disposition]]=0,\"\",K158+$F$2))=0+$F$2,\"NEVER CALIBRATED\",IF(Table114[[#This Row],[Disposition]]=\"Retired\",\"N/A\",IF(Table114[[#This Row],[Disposition]]=0,\"\",K158+$F$2)))","v":""},{"$f":"IF(Table114[[#This Row],[Disposition]]=\"\",\"\",IF(AND(Table114[[#This Row],[Next Calibration]]<$E$1,Table114[[#This Row],[Disposition]]=\"Lost\"),\"Find and Calibrate\",IF(Table114[[#This Row],[Disposition]]=\"Lost\",\"Find\",IF(OR(Table114[[#This Row],[Next Calibration]]<$E$1,Table114[[#This Row],[Next Calibration]]=\"NEVER CALIBRATED\"),\"Calibrate\",\"Nominal\"))))","v":""},{"$f":"IF(((Table114[[#This Row],[Next Calibration]]-TODAY())/30)>2,\"More Than 2\",IF(((Table114[[#This Row],[Next Calibration]]-TODAY())/30)>1,\"Between 2 and 1\",\"Less than 1\"))","v":{"$error":"#VALUE!"}},{"$f":"IF(Table114[[#This Row],[Issued]]=\"\",\"\",IF(Table114[[#This Row],[Lent]]=\"\",0,1))","v":""},{"$f":"IF(Table114[[#This Row],[Lent]]=\"\",\"\",IF(Table114[[#This Row],[Returned]]=\"\",0,1))","v":""}]
[{"$nulls":11},{"$f":"IF(IF(Table114[[#This Row],[Disposition]]=\"Retired\",\"N/A\",IF(Table114[[#This Row],[Disposition]]=0,\"\",K159+$F$2))=0+$F$2,\"NEVER CALIBRATED\",IF(Table114[[#This Row],[Disposition]]=\"Retired\",\"N/A\",IF(Table114[[#This Row],[Disposition]]=0,\"\",K159+$F$2)))","v":""},{"$f":"IF(Table114[[#This Row],[Disposition]]=\"\",\"\",IF(AND(Table114[[#This Row],[Next Calibration]]<$E$1,Table114[[#This Row],[Disposition]]=\"Lost\"),\"Find and Calibrate\",IF(Table114[[#This Row],[Disposition]]=\"Lost\",\"Find\",IF(OR(Table114[[#This Row],[Next Calibration]]<$E$1,Table114[[#This Row],[Next Calibration]]=\"NEVER CALIBRATED\"),\"Calibrate\",\"Nominal\"))))","v":""},{"$f":"IF(((Table114[[#This Row],[Next Calibration]]-TODAY())/30)>2,\"More Than 2\",IF(((Table114[[#This Row],[Next Calibration]]-TODAY())/30)>1,\"Between 2 and 1\",\"Less than 1\"))","v":{"$error":"#VALUE!"}},{"$f":"IF(Table114[[#This Row],[Issued]]=\"\",\"\",IF(Table114[[#This Row],[Lent]]=\"\",0,1))","v":""},{"$f":"IF(Table114[[#This Row],[Lent]]=\"\",\"\",IF(Table114[[#This Row],[Returned]]=\"\",0,1))","v":""}]
[{"$nulls":11},{"$f":"IF(IF(Table114[[#This Row],[Disposition]]=\"Retired\",\"N/A\",IF(Table114[[#This Row],[Disposition]]=0,\"\",K160+$F$2))=0+$F$2,\"NEVER CALIBRATED\",IF(Table114[[#This Row],[Disposition]]=\"Retired\",\"N/A\",IF(Table114[[#This Row],[Disposition]]=0,\"\",K160+$F$2)))","v":""},{"$f":"IF(Table114[[#This Row],[Disposition]]=\"\",\"\",IF(AND(Table114[[#This Row],[Next Calibration]]<$E$1,Table114[[#This Row],[Disposition]]=\"Lost\"),\"Find and Calibrate\",IF(Table114[[#This Row],[Disposition]]=\"Lost\",\"Find\",IF(OR(Table114[[#This Row],[Next Calibration]]<$E$1,Table114[[#This Row],[Next Calibration]]=\"NEVER CALIBRATED\"),\"Calibrate\",\"Nominal\"))))","v":""},{"$f":"IF(((Table114[[#This Row],[Next Calibration]]-TODAY())/30)>2,\"More Than 2\",IF(((Table114[[#This Row],[Next Calibration]]-TODAY())/30)>1,\"Between 2 and 1\",\"Less than 1\"))","v":{"$error":"#VALUE!"}},{"$f":"IF(Table114[[#This Row],[Issued]]=\"\",\"\",IF(Table114[[#This Row],[Lent]]=\"\",0,1))","v":""},{"$f":"IF(Table114[[#This Row],[Lent]]=\"\",\"\",IF(Table114[[#This Row],[Returned]]=\"\",0,1))","v":""}]
[{"$nulls":11},{"$f":"IF(IF(Table114[[#This Row],[Disposition]]=\"Retired\",\"N/A\",IF(Table114[[#This Row],[Disposition]]=0,\"\",K161+$F$2))=0+$F$2,\"NEVER CALIBRATED\",IF(Table114[[#This Row],[Disposition]]=\"Retired\",\"N/A\",IF(Table114[[#This Row],[Disposition]]=0,\"\",K161+$F$2)))","v":""},{"$f":"IF(Table114[[#This Row],[Disposition]]=\"\",\"\",IF(AND(Table114[[#This Row],[Next Calibration]]<$E$1,Table114[[#This Row],[Disposition]]=\"Lost\"),\"Find and Calibrate\",IF(Table114[[#This Row],[Disposition]]=\"Lost\",\"Find\",IF(OR(Table114[[#This Row],[Next Calibration]]<$E$1,Table114[[#This Row],[Next Calibration]]=\"NEVER CALIBRATED\"),\"Calibrate\",\"Nominal\"))))","v":""},{"$f":"IF(((Table114[[#This Row],[Next Calibration]]-TODAY())/30)>2,\"More Than 2\",IF(((Table114[[#This Row],[Next Calibration]]-TODAY())/30)>1,\"Between 2 and 1\",\"Less than 1\"))","v":{"$error":"#VALUE!"}},{"$f":"IF(Table114[[#This Row],[Issued]]=\"\",\"\",IF(Table114[[#This Row],[Lent]]=\"\",0,1))","v":""},{"$f":"IF(Table114[[#This Row],[Lent]]=\"\",\"\",IF(Table114[[#This Row],[Returned]]=\"\",0,1))","v":""}]
[{"$nulls":11},{"$f":"IF(IF(Table114[[#This Row],[Disposition]]=\"Retired\",\"N/A\",IF(Table114[[#This Row],[Disposition]]=0,\"\",K162+$F$2))=0+$F$2,\"NEVER CALIBRATED\",IF(Table114[[#This Row],[Disposition]]=\"Retired\",\"N/A\",IF(Table114[[#This Row],[Disposition]]=0,\"\",K162+$F$2)))","v":""},{"$f":"IF(Table114[[#This Row],[Disposition]]=\"\",\"\",IF(AND(Table114[[#This Row],[Next Calibration]]<$E$1,Table114[[#This Row],[Disposition]]=\"Lost\"),\"Find and Calibrate\",IF(Table114[[#This Row],[Disposition]]=\"Lost\",\"Find\",IF(OR(Table114[[#This Row],[Next Calibration]]<$E$1,Table114[[#This Row],[Next Calibration]]=\"NEVER CALIBRATED\"),\"Calibrate\",\"Nominal\"))))","v":""},{"$f":"IF(((Table114[[#This Row],[Next Calibration]]-TODAY())/30)>2,\"More Than 2\",IF(((Table114[[#This Row],[Next Calibration]]-TODAY())/30)>1,\"Between 2 and 1\",\"Less than 1\"))","v":{"$error":"#VALUE!"}},{"$f":"IF(Table114[[#This Row],[Issued]]=\"\",\"\",IF(Table114[[#This Row],[Lent]]=\"\",0,1))","v":""},{"$f":"IF(Table114[[#This Row],[Lent]]=\"\",\"\",IF(Table114[[#This Row],[Returned]]=\"\",0,1))","v":""}]
[{"$nulls":11},{"$f":"IF(IF(Table114[[#This Row],[Disposition]]=\"Retired\",\"N/A\",IF(Table114[[#This Row],[Disposition]]=0,\"\",K163+$F$2))=0+$F$2,\"NEVER CALIBRATED\",IF(Table114[[#This Row],[Disposition]]=\"Retired\",\"N/A\",IF(Table114[[#This Row],[Disposition]]=0,\"\",K163+$F$2)))","v":""},{"$f":"IF(Table114[[#This Row],[Disposition]]=\"\",\"\",IF(AND(Table114[[#This Row],[Next Calibration]]<$E$1,Table114[[#This Row],[Disposition]]=\"Lost\"),\"Find and Calibrate\",IF(Table114[[#This Row],[Disposition]]=\"Lost\",\"Find\",IF(OR(Table114[[#This Row],[Next Calibration]]<$E$1,Table114[[#This Row],[Next Calibration]]=\"NEVER CALIBRATED\"),\"Calibrate\",\"Nominal\"))))","v":""},{"$f":"IF(((Table114[[#This Row],[Next Calibration]]-TODAY())/30)>2,\"More Than 2\",IF(((Table114[[#This Row],[Next Calibration]]-TODAY())/30)>1,\"Between 2 and 1\",\"Less than 1\"))","v":{"$error":"#VALUE!"}},{"$f":"IF(Table114[[#This Row],[Issued]]=\"\",\"\",IF(Table114[[#This Row],[Lent]]=\"\",0,1))","v":""},{"$f":"IF(Table114[[#This Row],[Lent]]=\"\",\"\",IF(Table114[[#This Row],[Returned]]=\"\",0,1))","v":""}]
[{"$nulls":11},{"$f":"IF(IF(Table114[[#This Row],[Disposition]]=\"Retired\",\"N/A\",IF(Table114[[#This Row],[Disposition]]=0,\"\",K164+$F$2))=0+$F$2,\"NEVER CALIBRATED\",IF(Table114[[#This Row],[Disposition]]=\"Retired\",\"N/A\",IF(Table114[[#This Row],[Disposition]]=0,\"\",K164+$F$2)))","v":""},{"$f":"IF(Table114[[#This Row],[Disposition]]=\"\",\"\",IF(AND(Table114[[#This Row],[Next Calibration]]<$E$1,Table114[[#This Row],[Disposition]]=\"Lost\"),\"Find and Calibrate\",IF(Table114[[#This Row],[Disposition]]=\"Lost\",\"Find\",IF(OR(Table114[[#This Row],[Next Calibration]]<$E$1,Table114[[#This Row],[Next Calibration]]=\"NEVER CALIBRATED\"),\"Calibrate\",\"Nominal\"))))","v":""},{"$f":"IF(((Table114[[#This Row],[Next Calibration]]-TODAY())/30)>2,\"More Than 2\",IF(((Table114[[#This Row],[Next Calibration]]-TODAY())/30)>1,\"Between 2 and 1\",\"Less than 1\"))","v":{"$error":"#VALUE!"}},{"$f":"IF(Table114[[#This Row],[Issued]]=\"\",\"\",IF(Table114[[#This Row],[Lent]]=\"\",0,1))","v":""},{"$f":"IF(Table114[[#This Row],[Lent]]=\"\",\"\",IF(Table114[[#This Row],[Returned]]=\"\",0,1))","v":""}]
[{"$nulls":11},{"$f":"IF(IF(Table114[[#This Row],[Disposition]]=\"Retired\",\"N/A\",IF(Table114[[#This Row],[Disposition]]=0,\"\",K165+$F$2))=0+$F$2,\"NEVER CALIBRATED\",IF(Table114[[#This Row],[Disposition]]=\"Retired\",\"N/A\",IF(Table114[[#This Row],[Disposition]]=0,\"\",K165+$F$2)))","v":""},{"$f":"IF(Table114[[#This Row],[Disposition]]=\"\",\"\",IF(AND(Table114[[#This Row],[Next Calibration]]<$E$1,Table114[[#This Row],[Disposition]]=\"Lost\"),\"Find and Calibrate\",IF(Table114[[#This Row],[Disposition]]=\"Lost\",\"Find\",IF(OR(Table114[[#This Row],[Next Calibration]]<$E$1,Table114[[#This Row],[Next Calibration]]=\"NEVER CALIBRATED\"),\"Calibrate\",\"Nominal\"))))","v":""},{"$f":"IF(((Table114[[#This Row],[Next Calibration]]-TODAY())/30)>2,\"More Than 2\",IF(((Table114[[#This Row],[Next Calibration]]-TODAY())/30)>1,\"Between 2 and 1\",\"Less than 1\"))","v":{"$error":"#VALUE!"}},{"$f":"IF(Table114[[#This Row],[Issued]]=\"\",\"\",IF(Table114[[#This Row],[Lent]]=\"\",0,1))","v":""},{"$f":"IF(Table114[[#This Row],[Lent]]=\"\",\"\",IF(Table114[[#This Row],[Returned]]=\"\",0,1))","v":""}]
[{"$nulls":11},{"$f":"IF(IF(Table114[[#This Row],[Disposition]]=\"Retired\",\"N/A\",IF(Table114[[#This Row],[Disposition]]=0,\"\",K166+$F$2))=0+$F$2,\"NEVER CALIBRATED\",IF(Table114[[#This Row],[Disposition]]=\"Retired\",\"N/A\",IF(Table114[[#This Row],[Disposition]]=0,\"\",K166+$F$2)))","v":""},{"$f":"IF(Table114[[#This Row],[Disposition]]=\"\",\"\",IF(AND(Table114[[#This Row],[Next Calibration]]<$E$1,Table114[[#This Row],[Disposition]]=\"Lost\"),\"Find and Calibrate\",IF(Table114[[#This Row],[Disposition]]=\"Lost\",\"Find\",IF(OR(Table114[[#This Row],[Next Calibration]]<$E$1,Table114[[#This Row],[Next Calibration]]=\"NEVER CALIBRATED\"),\"Calibrate\",\"Nominal\"))))","v":""},{"$f":"IF(((Table114[[#This Row],[Next Calibration]]-TODAY())/30)>2,\"More Than 2\",IF(((Table114[[#This Row],[Next Calibration]]-TODAY())/30)>1,\"Between 2 and 1\",\"Less than 1\"))","v":{"$error":"#VALUE!"}},{"$f":"IF(Table114[[#This Row],[Issued]]=\"\",\"\",IF(Table114[[#This Row],[Lent]]=\"\",0,1))","v":""},{"$f":"IF(Table114[[#This Row],[Lent]]=\"\",\"\",IF(Table114[[#This Row],[Returned]]=\"\",0,1))","v":""}]
[{"$nulls":11},{"$f":"IF(IF(Table114[[#This Row],[Disposition]]=\"Retired\",\"N/A\",IF(Table114[[#This Row],[Disposition]]=0,\"\",K167+$F$2))=0+$F$2,\"NEVER CALIBRATED\",IF(Table114[[#This Row],[Disposition]]=\"Retired\",\"N/A\",IF(Table114[[#This Row],[Disposition]]=0,\"\",K167+$F$2)))","v":""},{"$f":"IF(Table114[[#This Row],[Disposition]]=\"\",\"\",IF(AND(Table114[[#This Row],[Next Calibration]]<$E$1,Table114[[#This Row],[Disposition]]=\"Lost\"),\"Find and Calibrate\",IF(Table114[[#This Row],[Disposition]]=\"Lost\",\"Find\",IF(OR(Table114[[#This Row],[Next Calibration]]<$E$1,Table114[[#This Row],[Next Calibration]]=\"NEVER CALIBRATED\"),\"Calibrate\",\"Nominal\"))))","v":""},{"$f":"IF(((Table114[[#This Row],[Next Calibration]]-TODAY())/30)>2,\"More Than 2\",IF(((Table114[[#This Row],[Next Calibration]]-TODAY())/30)>1,\"Between 2 and 1\",\"Less than 1\"))","v":{"$error":"#VALUE!"}},{"$f":"IF(Table114[[#This Row],[Issued]]=\"\",\"\",IF(Table114[[#This Row],[Lent]]=\"\",0,1))","v":""},{"$f":"IF(Table114[[#This Row],[Lent]]=\"\",\"\",IF(Table114[[#This Row],[Returned]]=\"\",0,1))","v":""}]
[{"$nulls":11},{"$f":"IF(IF(Table114[[#This Row],[Disposition]]=\"Retired\",\"N/A\",IF(Table114[[#This Row],[Disposition]]=0,\"\",K168+$F$2))=0+$F$2,\"NEVER CALIBRATED\",IF(Table114[[#This Row],[Disposition]]=\"Retired\",\"N/A\",IF(Table114[[#This Row],[Disposition]]=0,\"\",K168+$F$2)))","v":""},{"$f":"IF(Table114[[#This Row],[Disposition]]=\"\",\"\",IF(AND(Table114[[#This Row],[Next Calibration]]<$E$1,Table114[[#This Row],[Disposition]]=\"Lost\"),\"Find and Calibrate\",IF(Table114[[#This Row],[Disposition]]=\"Lost\",\"Find\",IF(OR(Table114[[#This Row],[Next Calibration]]<$E$1,Table114[[#This Row],[Next Calibration]]=\"NEVER CALIBRATED\"),\"Calibrate\",\"Nominal\"))))","v":""},{"$f":"IF(((Table114[[#This Row],[Next Calibration]]-TODAY())/30)>2,\"More Than 2\",IF(((Table114[[#This Row],[Next Calibration]]-TODAY())/30)>1,\"Between 2 and 1\",\"Less than 1\"))","v":{"$error":"#VALUE!"}},{"$f":"IF(Table114[[#This Row],[Issued]]=\"\",\"\",IF(Table114[[#This Row],[Lent]]=\"\",0,1))","v":""},{"$f":"IF(Table114[[#This Row],[Lent]]=\"\",\"\",IF(Table114[[#This Row],[Returned]]=\"\",0,1))","v":""}]
[{"$nulls":11},{"$f":"IF(IF(Table114[[#This Row],[Disposition]]=\"Retired\",\"N/A\",IF(Table114[[#This Row],[Disposition]]=0,\"\",K169+$F$2))=0+$F$2,\"NEVER CALIBRATED\",IF(Table114[[#This Row],[Disposition]]=\"Retired\",\"N/A\",IF(Table114[[#This Row],[Disposition]]=0,\"\",K169+$F$2)))","v":""},{"$f":"IF(Table114[[#This Row],[Disposition]]=\"\",\"\",IF(AND(Table114[[#This Row],[Next Calibration]]<$E$1,Table114[[#This Row],[Disposition]]=\"Lost\"),\"Find and Calibrate\",IF(Table114[[#This Row],[Disposition]]=\"Lost\",\"Find\",IF(OR(Table114[[#This Row],[Next Calibration]]<$E$1,Table114[[#This Row],[Next Calibration]]=\"NEVER CALIBRATED\"),\"Calibrate\",\"Nominal\"))))","v":""},{"$f":"IF(((Table114[[#This Row],[Next Calibration]]-TODAY())/30)>2,\"More Than 2\",IF(((Table114[[#This Row],[Next Calibration]]-TODAY())/30)>1,\"Between 2 and 1\",\"Less than 1\"))","v":{"$error":"#VALUE!"}},{"$f":"IF(Table114[[#This Row],[Issued]]=\"\",\"\",IF(Table114[[#This Row],[Lent]]=\"\",0,1))","v":""},{"$f":"IF(Table114[[#This Row],[Lent]]=\"\",\"\",IF(Table114[[#This Row],[Returned]]=\"\",0,1))","v":""}]
[{"$nulls":11},{"$f":"IF(IF(Table114[[#This Row],[Disposition]]=\"Retired\",\"N/A\",IF(Table114[[#This Row],[Disposition]]=0,\"\",K170+$F$2))=0+$F$2,\"NEVER CALIBRATED\",IF(Table114[[#This Row],[Disposition]]=\"Retired\",\"N/A\",IF(Table114[[#This Row],[Disposition]]=0,\"\",K170+$F$2)))","v":""},{"$f":"IF(Table114[[#This Row],[Disposition]]=\"\",\"\",IF(AND(Table114[[#This Row],[Next Calibration]]<$E$1,Table114[[#This Row],[Disposition]]=\"Lost\"),\"Find and Calibrate\",IF(Table114[[#This Row],[Disposition]]=\"Lost\",\"Find\",IF(OR(Table114[[#This Row],[Next Calibration]]<$E$1,Table114[[#This Row],[Next Calibration]]=\"NEVER CALIBRATED\"),\"Calibrate\",\"Nominal\"))))","v":""},{"$f":"IF(((Table114[[#This Row],[Next Calibration]]-TODAY())/30)>2,\"More Than 2\",IF(((Table114[[#This Row],[Next Calibration]]-TODAY())/30)>1,\"Between 2 and 1\",\"Less than 1\"))","v":{"$error":"#VALUE!"}},{"$f":"IF(Table114[[#This Row],[Issued]]=\"\",\"\",IF(Table114[[#This Row],[Lent]]=\"\",0,1))","v":""},{"$f":"IF(Table114[[#This Row],[Lent]]=\"\",\"\",IF(Table114[[#This Row],[Returned]]=\"\",0,1))","v":""}]
[{"$nulls":11},{"$f":"IF(IF(Table114[[#This Row],[Disposition]]=\"Retired\",\"N/A\",IF(Table114[[#This Row],[Disposition]]=0,\"\",K171+$F$2))=0+$F$2,\"NEVER CALIBRATED\",IF(Table114[[#This Row],[Disposition]]=\"Retired\",\"N/A\",IF(Table114[[#This Row],[Disposition]]=0,\"\",K171+$F$2)))","v":""},{"$f":"IF(Table114[[#This Row],[Disposition]]=\"\",\"\",IF(AND(Table114[[#This Row],[Next Calibration]]<$E$1,Table114[[#This Row],[Disposition]]=\"Lost\"),\"Find and Calibrate\",IF(Table114[[#This Row],[Disposition]]=\"Lost\",\"Find\",IF(OR(Table114[[#This Row],[Next Calibration]]<$E$1,Table114[[#This Row],[Next Calibration]]=\"NEVER CALIBRATED\"),\"Calibrate\",\"Nominal\"))))","v":""},{"$f":"IF(((Table114[[#This Row],[Next Calibration]]-TODAY())/30)>2,\"More Than 2\",IF(((Table114[[#This Row],[Next Calibration]]-TODAY())/30)>1,\"Between 2 and 1\",\"Less than 1\"))","v":{"$error":"#VALUE!"}},{"$f":"IF(Table114[[#This Row],[Issued]]=\"\",\"\",IF(Table114[[#This Row],[Lent]]=\"\",0,1))","v":""},{"$f":"IF(Table114[[#This Row],[Lent]]=\"\",\"\",IF(Table114[[#This Row],[Returned]]=\"\",0,1))","v":""}]
[{"$nulls":11},{"$f":"IF(IF(Table114[[#This Row],[Disposition]]=\"Retired\",\"N/A\",IF(Table114[[#This Row],[Disposition]]=0,\"\",K172+$F$2))=0+$F$2,\"NEVER CALIBRATED\",IF(Table114[[#This Row],[Disposition]]=\"Retired\",\"N/A\",IF(Table114[[#This Row],[Disposition]]=0,\"\",K172+$F$2)))","v":""},{"$f":"IF(Table114[[#This Row],[Disposition]]=\"\",\"\",IF(AND(Table114[[#This Row],[Next Calibration]]<$E$1,Table114[[#This Row],[Disposition]]=\"Lost\"),\"Find and Calibrate\",IF(Table114[[#This Row],[Disposition]]=\"Lost\",\"Find\",IF(OR(Table114[[#This Row],[Next Calibration]]<$E$1,Table114[[#This Row],[Next Calibration]]=\"NEVER CALIBRATED\"),\"Calibrate\",\"Nominal\"))))","v":""},{"$f":"IF(((Table114[[#This Row],[Next Calibration]]-TODAY())/30)>2,\"More Than 2\",IF(((Table114[[#This Row],[Next Calibration]]-TODAY())/30)>1,\"Between 2 and 1\",\"Less than 1\"))","v":{"$error":"#VALUE!"}},{"$f":"IF(Table114[[#This Row],[Issued]]=\"\",\"\",IF(Table114[[#This Row],[Lent]]=\"\",0,1))","v":""},{"$f":"IF(Table114[[#This Row],[Lent]]=\"\",\"\",IF(Table114[[#This Row],[Returned]]=\"\",0,1))","v":""}]
[{"$nulls":11},{"$f":"IF(IF(Table114[[#This Row],[Disposition]]=\"Retired\",\"N/A\",IF(Table114[[#This Row],[Disposition]]=0,\"\",K173+$F$2))=0+$F$2,\"NEVER CALIBRATED\",IF(Table114[[#This Row],[Disposition]]=\"Retired\",\"N/A\",IF(Table114[[#This Row],[Disposition]]=0,\"\",K173+$F$2)))","v":""},{"$f":"IF(Table114[[#This Row],[Disposition]]=\"\",\"\",IF(AND(Table114[[#This Row],[Next Calibration]]<$E$1,Table114[[#This Row],[Disposition]]=\"Lost\"),\"Find and Calibrate\",IF(Table114[[#This Row],[Disposition]]=\"Lost\",\"Find\",IF(OR(Table114[[#This Row],[Next Calibration]]<$E$1,Table114[[#This Row],[Next Calibration]]=\"NEVER CALIBRATED\"),\"Calibrate\",\"Nominal\"))))","v":""},{"$f":"IF(((Table114[[#This Row],[Next Calibration]]-TODAY())/30)>2,\"More Than 2\",IF(((Table114[[#This Row],[Next Calibration]]-TODAY())/30)>1,\"Between 2 and 1\",\"Less than 1\"))","v":{"$error":"#VALUE!"}},{"$f":"IF(Table114[[#This Row],[Issued]]=\"\",\"\",IF(Table114[[#This Row],[Lent]]=\"\",0,1))","v":""},{"$f":"IF(Table114[[#This Row],[Lent]]=\"\",\"\",IF(Table114[[#This Row],[Returned]]=\"\",0,1))","v":""}]
[{"$nulls":11},{"$f":"IF(IF(Table114[[#This Row],[Disposition]]=\"Retired\",\"N/A\",IF(Table114[[#This Row],[Disposition]]=0,\"\",K174+$F$2))=0+$F$2,\"NEVER CALIBRATED\",IF(Table114[[#This Row],[Disposition]]=\"Retired\",\"N/A\",IF(Table114[[#This Row],[Disposition]]=0,\"\",K174+$F$2)))","v":""},{"$f":"IF(Table114[[#This Row],[Disposition]]=\"\",\"\",IF(AND(Table114[[#This Row],[Next Calibration]]<$E$1,Table114[[#This Row],[Disposition]]=\"Lost\"),\"Find and Calibrate\",IF(Table114[[#This Row],[Disposition]]=\"Lost\",\"Find\",IF(OR(Table114[[#This Row],[Next Calibration]]<$E$1,Table114[[#This Row],[Next Calibration]]=\"NEVER CALIBRATED\"),\"Calibrate\",\"Nominal\"))))","v":""},{"$f":"IF(((Table114[[#This Row],[Next Calibration]]-TODAY())/30)>2,\"More Than 2\",IF(((Table114[[#This Row],[Next Calibration]]-TODAY())/30)>1,\"Between 2 and 1\",\"Less than 1\"))","v":{"$error":"#VALUE!"}},{"$f":"IF(Table114[[#This Row],[Issued]]=\"\",\"\",IF(Table114[[#This Row],[Lent]]=\"\",0,1))","v":""},{"$f":"IF(Table114[[#This Row],[Lent]]=\"\",\"\",IF(Table114[[#This Row],[Returned]]=\"\",0,1))","v":""}]
[{"$nulls":11},{"$f":"IF(IF(Table114[[#This Row],[Disposition]]=\"Retired\",\"N/A\",IF(Table114[[#This Row],[Disposition]]=0,\"\",K175+$F$2))=0+$F$2,\"NEVER CALIBRATED\",IF(Table114[[#This Row],[Disposition]]=\"Retired\",\"N/A\",IF(Table114[[#This Row],[Disposition]]=0,\"\",K175+$F$2)))","v":""},{"$f":"IF(Table114[[#This Row],[Disposition]]=\"\",\"\",IF(AND(Table114[[#This Row],[Next Calibration]]<$E$1,Table114[[#This Row],[Disposition]]=\"Lost\"),\"Find and Calibrate\",IF(Table114[[#This Row],[Disposition]]=\"Lost\",\"Find\",IF(OR(Table114[[#This Row],[Next Calibration]]<$E$1,Table114[[#This Row],[Next Calibration]]=\"NEVER CALIBRATED\"),\"Calibrate\",\"Nominal\"))))","v":""},{"$f":"IF(((Table114[[#This Row],[Next Calibration]]-TODAY())/30)>2,\"More Than 2\",IF(((Table114[[#This Row],[Next Calibration]]-TODAY())/30)>1,\"Between 2 and 1\",\"Less than 1\"))","v":{"$error":"#VALUE!"}},{"$f":"IF(Table114[[#This Row],[Issued]]=\"\",\"\",IF(Table114[[#This Row],[Lent]]=\"\",0,1))","v":""},{"$f":"IF(Table114[[#This Row],[Lent]]=\"\",\"\",IF(Table114[[#This Row],[Returned]]=\"\",0,1))","v":""}]
[{"$nulls":11},{"$f":"IF(IF(Table114[[#This Row],[Disposition]]=\"Retired\",\"N/A\",IF(Table114[[#This Row],[Disposition]]=0,\"\",K176+$F$2))=0+$F$2,\"NEVER CALIBRATED\",IF(Table114[[#This Row],[Disposition]]=\"Retired\",\"N/A\",IF(Table114[[#This Row],[Disposition]]=0,\"\",K176+$F$2)))","v":""},{"$f":"IF(Table114[[#This Row],[Disposition]]=\"\",\"\",IF(AND(Table114[[#This Row],[Next Calibration]]<$E$1,Table114[[#This Row],[Disposition]]=\"Lost\"),\"Find and Calibrate\",IF(Table114[[#This Row],[Disposition]]=\"Lost\",\"Find\",IF(OR(Table114[[#This Row],[Next Calibration]]<$E$1,Table114[[#This Row],[Next Calibration]]=\"NEVER CALIBRATED\"),\"Calibrate\",\"Nominal\"))))","v":""},{"$f":"IF(((Table114[[#This Row],[Next Calibration]]-TODAY())/30)>2,\"More Than 2\",IF(((Table114[[#This Row],[Next Calibration]]-TODAY())/30)>1,\"Between 2 and 1\",\"Less than 1\"))","v":{"$error":"#VALUE!"}},{"$f":"IF(Table114[[#This Row],[Issued]]=\"\",\"\",IF(Table114[[#This Row],[Lent]]=\"\",0,1))","v":""},{"$f":"IF(Table114[[#This Row],[Lent]]=\"\",\"\",IF(Table114[[#This Row],[Returned]]=\"\",0,1))","v":""}]
[{"$nulls":11},{"$f":"IF(IF(Table114[[#This Row],[Disposition]]=\"Retired\",\"N/A\",IF(Table114[[#This Row],[Disposition]]=0,\"\",K177+$F$2))=0+$F$2,\"NEVER CALIBRATED\",IF(Table114[[#This Row],[Disposition]]=\"Retired\",\"N/A\",IF(Table114[[#This Row],[Disposition]]=0,\"\",K177+$F$2)))","v":""},{"$f":"IF(Table114[[#This Row],[Disposition]]=\"\",\"\",IF(AND(Table114[[#This Row],[Next Calibration]]<$E$1,Table114[[#This Row],[Disposition]]=\"Lost\"),\"Find and Calibrate\",IF(Table114[[#This Row],[Disposition]]=\"Lost\",\"Find\",IF(OR(Table114[[#This Row],[Next Calibration]]<$E$1,Table114[[#This Row],[Next Calibration]]=\"NEVER CALIBRATED\"),\"Calibrate\",\"Nominal\"))))","v":""},{"$f":"IF(((Table114[[#This Row],[Next Calibration]]-TODAY())/30)>2,\"More Than 2\",IF(((Table114[[#This Row],[Next Calibration]]-TODAY())/30)>1,\"Between 2 and 1\",\"Less than 1\"))","v":{"$error":"#VALUE!"}},{"$f":"IF(Table114[[#This Row],[Issued]]=\"\",\"\",IF(Table114[[#This Row],[Lent]]=\"\",0,1))","v":""},{"$f":"IF(Table114[[#This Row],[Lent]]=\"\",\"\",IF(Table114[[#This Row],[Returned]]=\"\",0,1))","v":""}]
[{"$nulls":11},{"$f":"IF(IF(Table114[[#This Row],[Disposition]]=\"Retired\",\"N/A\",IF(Table114[[#This Row],[Disposition]]=0,\"\",K178+$F$2))=0+$F$2,\"NEVER CALIBRATED\",IF(Table114[[#This Row],[Disposition]]=\"Retired\",\"N/A\",IF(Table114[[#This Row],[Disposition]]=0,\"\",K178+$F$2)))","v":""},{"$f":"IF(Table114[[#This Row],[Disposition]]=\"\",\"\",IF(AND(Table114[[#This Row],[Next Calibration]]<$E$1,Table114[[#This Row],[Disposition]]=\"Lost\"),\"Find and Calibrate\",IF(Table114[[#This Row],[Disposition]]=\"Lost\",\"Find\",IF(OR(Table114[[#This Row],[Next Calibration]]<$E$1,Table114[[#This Row],[Next Calibration]]=\"NEVER CALIBRATED\"),\"Calibrate\",\"Nominal\"))))","v":""},{"$f":"IF(((Table114[[#This Row],[Next Calibration]]-TODAY())/30)>2,\"More Than 2\",IF(((Table114[[#This Row],[Next Calibration]]-TODAY())/30)>1,\"Between 2 and 1\",\"Less than 1\"))","v":{"$error":"#VALUE!"}},{"$f":"IF(Table114[[#This Row],[Issued]]=\"\",\"\",IF(Table114[[#This Row],[Lent]]=\"\",0,1))","v":""},{"$f":"IF(Table114[[#This Row],[Lent]]=\"\",\"\",IF(Table114[[#This Row],[Returned]]=\"\",0,1))","v":""}]
[{"$nulls":11},{"$f":"IF(IF(Table114[[#This Row],[Disposition]]=\"Retired\",\"N/A\",IF(Table114[[#This Row],[Disposition]]=0,\"\",K179+$F$2))=0+$F$2,\"NEVER CALIBRATED\",IF(Table114[[#This Row],[Disposition]]=\"Retired\",\"N/A\",IF(Table114[[#This Row],[Disposition]]=0,\"\",K179+$F$2)))","v":""},{"$f":"IF(Table114[[#This Row],[Disposition]]=\"\",\"\",IF(AND(Table114[[#This Row],[Next Calibration]]<$E$1,Table114[[#This Row],[Disposition]]=\"Lost\"),\"Find and Calibrate\",IF(Table114[[#This Row],[Disposition]]=\"Lost\",\"Find\",IF(OR(Table114[[#This Row],[Next Calibration]]<$E$1,Table114[[#This Row],[Next Calibration]]=\"NEVER CALIBRATED\"),\"Calibrate\",\"Nominal\"))))","v":""},{"$f":"IF(((Table114[[#This Row],[Next Calibration]]-TODAY())/30)>2,\"More Than 2\",IF(((Table114[[#This Row],[Next Calibration]]-TODAY())/30)>1,\"Between 2 and 1\",\"Less than 1\"))","v":{"$error":"#VALUE!"}},{"$f":"IF(Table114[[#This Row],[Issued]]=\"\",\"\",IF(Table114[[#This Row],[Lent]]=\"\",0,1))","v":""},{"$f":"IF(Table114[[#This Row],[Lent]]=\"\",\"\",IF(Table114[[#This Row],[Returned]]=\"\",0,1))","v":""}]
[{"$nulls":11},{"$f":"IF(IF(Table114[[#This Row],[Disposition]]=\"Retired\",\"N/A\",IF(Table114[[#This Row],[Disposition]]=0,\"\",K180+$F$2))=0+$F$2,\"NEVER CALIBRATED\",IF(Table114[[#This Row],[Disposition]]=\"Retired\",\"N/A\",IF(Table114[[#This Row],[Disposition]]=0,\"\",K180+$F$2)))","v":""},{"$f":"IF(Table114[[#This Row],[Disposition]]=\"\",\"\",IF(AND(Table114[[#This Row],[Next Calibration]]<$E$1,Table114[[#This Row],[Disposition]]=\"Lost\"),\"Find and Calibrate\",IF(Table114[[#This Row],[Disposition]]=\"Lost\",\"Find\",IF(OR(Table114[[#This Row],[Next Calibration]]<$E$1,Table114[[#This Row],[Next Calibration]]=\"NEVER CALIBRATED\"),\"Calibrate\",\"Nominal\"))))","v":""},{"$f":"IF(((Table114[[#This Row],[Next Calibration]]-TODAY())/30)>2,\"More Than 2\",IF(((Table114[[#This Row],[Next Calibration]]-TODAY())/30)>1,\"Between 2 and 1\",\"Less than 1\"))","v":{"$error":"#VALUE!"}},{"$f":"IF(Table114[[#This Row],[Issued]]=\"\",\"\",IF(Table114[[#This Row],[Lent]]=\"\",0,1))","v":""},{"$f":"IF(Table114[[#This Row],[Lent]]=\"\",\"\",IF(Table114[[#This Row],[Returned]]=\"\",0,1))","v":""}]
[{"$nulls":11},{"$f":"IF(IF(Table114[[#This Row],[Disposition]]=\"Retired\",\"N/A\",IF(Table114[[#This Row],[Disposition]]=0,\"\",K181+$F$2))=0+$F$2,\"NEVER CALIBRATED\",IF(Table114[[#This Row],[Disposition]]=\"Retired\",\"N/A\",IF(Table114[[#This Row],[Disposition]]=0,\"\",K181+$F$2)))","v":""},{"$f":"IF(Table114[[#This Row],[Disposition]]=\"\",\"\",IF(AND(Table114[[#This Row],[Next Calibration]]<$E$1,Table114[[#This Row],[Disposition]]=\"Lost\"),\"Find and Calibrate\",IF(Table114[[#This Row],[Disposition]]=\"Lost\",\"Find\",IF(OR(Table114[[#This Row],[Next Calibration]]<$E$1,Table114[[#This Row],[Next Calibration]]=\"NEVER CALIBRATED\"),\"Calibrate\",\"Nominal\"))))","v":""},{"$f":"IF(((Table114[[#This Row],[Next Calibration]]-TODAY())/30)>2,\"More Than 2\",IF(((Table114[[#This Row],[Next Calibration]]-TODAY())/30)>1,\"Between 2 and 1\",\"Less than 1\"))","v":{"$error":"#VALUE!"}},{"$f":"IF(Table114[[#This Row],[Issued]]=\"\",\"\",IF(Table114[[#This Row],[Lent]]=\"\",0,1))","v":""},{"$f":"IF(Table114[[#This Row],[Lent]]=\"\",\"\",IF(Table114[[#This Row],[Returned]]=\"\",0,1))","v":""}]
[{"$nulls":11},{"$f":"IF(IF(Table114[[#This Row],[Disposition]]=\"Retired\",\"N/A\",IF(Table114[[#This Row],[Disposition]]=0,\"\",K182+$F$2))=0+$F$2,\"NEVER CALIBRATED\",IF(Table114[[#This Row],[Disposition]]=\"Retired\",\"N/A\",IF(Table114[[#This Row],[Disposition]]=0,\"\",K182+$F$2)))","v":""},{"$f":"IF(Table114[[#This Row],[Disposition]]=\"\",\"\",IF(AND(Table114[[#This Row],[Next Calibration]]<$E$1,Table114[[#This Row],[Disposition]]=\"Lost\"),\"Find and Calibrate\",IF(Table114[[#This Row],[Disposition]]=\"Lost\",\"Find\",IF(OR(Table114[[#This Row],[Next Calibration]]<$E$1,Table114[[#This Row],[Next Calibration]]=\"NEVER CALIBRATED\"),\"Calibrate\",\"Nominal\"))))","v":""},{"$f":"IF(((Table114[[#This Row],[Next Calibration]]-TODAY())/30)>2,\"More Than 2\",IF(((Table114[[#This Row],[Next Calibration]]-TODAY())/30)>1,\"Between 2 and 1\",\"Less than 1\"))","v":{"$error":"#VALUE!"}},{"$f":"IF(Table114[[#This Row],[Issued]]=\"\",\"\",IF(Table114[[#This Row],[Lent]]=\"\",0,1))","v":""},{"$f":"IF(Table114[[#This Row],[Lent]]=\"\",\"\",IF(Table114[[#This Row],[Returned]]=\"\",0,1))","v":""}]
[{"$nulls":11},{"$f":"IF(IF(Table114[[#This Row],[Disposition]]=\"Retired\",\"N/A\",IF(Table114[[#This Row],[Disposition]]=0,\"\",K183+$F$2))=0+$F$2,\"NEVER CALIBRATED\",IF(Table114[[#This Row],[Disposition]]=\"Retired\",\"N/A\",IF(Table114[[#This Row],[Disposition]]=0,\"\",K183+$F$2)))","v":""},{"$f":"IF(Table114[[#This Row],[Disposition]]=\"\",\"\",IF(AND(Table114[[#This Row],[Next Calibration]]<$E$1,Table114[[#This Row],[Disposition]]=\"Lost\"),\"Find and Calibrate\",IF(Table114[[#This Row],[Disposition]]=\"Lost\",\"Find\",IF(OR(Table114[[#This Row],[Next Calibration]]<$E$1,Table114[[#This Row],[Next Calibration]]=\"NEVER CALIBRATED\"),\"Calibrate\",\"Nominal\"))))","v":""},{"$f":"IF(((Table114[[#This Row],[Next Calibration]]-TODAY())/30)>2,\"More Than 2\",IF(((Table114[[#This Row],[Next Calibration]]-TODAY())/30)>1,\"Between 2 and 1\",\"Less than 1\"))","v":{"$error":"#VALUE!"}},{"$f":"IF(Table114[[#This Row],[Issued]]=\"\",\"\",IF(Table114[[#This Row],[Lent]]=\"\",0,1))","v":""},{"$f":"IF(Table114[[#This Row],[Lent]]=\"\",\"\",IF(Table114[[#This Row],[Returned]]=\"\",0,1))","v":""}]
[{"$nulls":11},{"$f":"IF(IF(Table114[[#This Row],[Disposition]]=\"Retired\",\"N/A\",IF(Table114[[#This Row],[Disposition]]=0,\"\",K184+$F$2))=0+$F$2,\"NEVER CALIBRATED\",IF(Table114[[#This Row],[Disposition]]=\"Retired\",\"N/A\",IF(Table114[[#This Row],[Disposition]]=0,\"\",K184+$F$2)))","v":""},{"$f":"IF(Table114[[#This Row],[Disposition]]=\"\",\"\",IF(AND(Table114[[#This Row],[Next Calibration]]<$E$1,Table114[[#This Row],[Disposition]]=\"Lost\"),\"Find and Calibrate\",IF(Table114[[#This Row],[Disposition]]=\"Lost\",\"Find\",IF(OR(Table114[[#This Row],[Next Calibration]]<$E$1,Table114[[#This Row],[Next Calibration]]=\"NEVER CALIBRATED\"),\"Calibrate\",\"Nominal\"))))","v":""},{"$f":"IF(((Table114[[#This Row],[Next Calibration]]-TODAY())/30)>2,\"More Than 2\",IF(((Table114[[#This Row],[Next Calibration]]-TODAY())/30)>1,\"Between 2 and 1\",\"Less than 1\"))","v":{"$error":"#VALUE!"}},{"$f":"IF(Table114[[#This Row],[Issued]]=\"\",\"\",IF(Table114[[#This Row],[Lent]]=\"\",0,1))","v":""},{"$f":"IF(Table114[[#This Row],[Lent]]=\"\",\"\",IF(Table114[[#This Row],[Returned]]=\"\",0,1))","v":""}]
[{"$nulls":11},{"$f":"IF(IF(Table114[[#This Row],[Disposition]]=\"Retired\",\"N/A\",IF(Table114[[#This Row],[Disposition]]=0,\"\",K185+$F$2))=0+$F$2,\"NEVER CALIBRATED\",IF(Table114[[#This Row],[Disposition]]=\"Retired\",\"N/A\",IF(Table114[[#This Row],[Disposition]]=0,\"\",K185+$F$2)))","v":""},{"$f":"IF(Table114[[#This Row],[Disposition]]=\"\",\"\",IF(AND(Table114[[#This Row],[Next Calibration]]<$E$1,Table114[[#This Row],[Disposition]]=\"Lost\"),\"Find and Calibrate\",IF(Table114[[#This Row],[Disposition]]=\"Lost\",\"Find\",IF(OR(Table114[[#This Row],[Next Calibration]]<$E$1,Table114[[#This Row],[Next Calibration]]=\"NEVER CALIBRATED\"),\"Calibrate\",\"Nominal\"))))","v":""},{"$f":"IF(((Table114[[#This Row],[Next Calibration]]-TODAY())/30)>2,\"More Than 2\",IF(((Table114[[#This Row],[Next Calibration]]-TODAY())/30)>1,\"Between 2 and 1\",\"Less than 1\"))","v":{"$error":"#VALUE!"}},{"$f":"IF(Table114[[#This Row],[Issued]]=\"\",\"\",IF(Table114[[#This Row],[Lent]]=\"\",0,1))","v":""},{"$f":"IF(Table114[[#This Row],[Lent]]=\"\",\"\",IF(Table114[[#This Row],[Returned]]=\"\",0,1))","v":""}]
[{"$nulls":11},{"$f":"IF(IF(Table114[[#This Row],[Disposition]]=\"Retired\",\"N/A\",IF(Table114[[#This Row],[Disposition]]=0,\"\",K186+$F$2))=0+$F$2,\"NEVER CALIBRATED\",IF(Table114[[#This Row],[Disposition]]=\"Retired\",\"N/A\",IF(Table114[[#This Row],[Disposition]]=0,\"\",K186+$F$2)))","v":""},{"$f":"IF(Table114[[#This Row],[Disposition]]=\"\",\"\",IF(AND(Table114[[#This Row],[Next Calibration]]<$E$1,Table114[[#This Row],[Disposition]]=\"Lost\"),\"Find and Calibrate\",IF(Table114[[#This Row],[Disposition]]=\"Lost\",\"Find\",IF(OR(Table114[[#This Row],[Next Calibration]]<$E$1,Table114[[#This Row],[Next Calibration]]=\"NEVER CALIBRATED\"),\"Calibrate\",\"Nominal\"))))","v":""},{"$f":"IF(((Table114[[#This Row],[Next Calibration]]-TODAY())/30)>2,\"More Than 2\",IF(((Table114[[#This Row],[Next Calibration]]-TODAY())/30)>1,\"Between 2 and 1\",\"Less than 1\"))","v":{"$error":"#VALUE!"}},{"$f":"IF(Table114[[#This Row],[Issued]]=\"\",\"\",IF(Table114[[#This Row],[Lent]]=\"\",0,1))","v":""},{"$f":"IF(Table114[[#This Row],[Lent]]=\"\",\"\",IF(Table114[[#This Row],[Returned]]=\"\",0,1))","v":""}]
[{"$nulls":11},{"$f":"IF(IF(Table114[[#This Row],[Disposition]]=\"Retired\",\"N/A\",IF(Table114[[#This Row],[Disposition]]=0,\"\",K187+$F$2))=0+$F$2,\"NEVER CALIBRATED\",IF(Table114[[#This Row],[Disposition]]=\"Retired\",\"N/A\",IF(Table114[[#This Row],[Disposition]]=0,\"\",K187+$F$2)))","v":""},{"$f":"IF(Table114[[#This Row],[Disposition]]=\"\",\"\",IF(AND(Table114[[#This Row],[Next Calibration]]<$E$1,Table114[[#This Row],[Disposition]]=\"Lost\"),\"Find and Calibrate\",IF(Table114[[#This Row],[Disposition]]=\"Lost\",\"Find\",IF(OR(Table114[[#This Row],[Next Calibration]]<$E$1,Table114[[#This Row],[Next Calibration]]=\"NEVER CALIBRATED\"),\"Calibrate\",\"Nominal\"))))","v":""},{"$f":"IF(((Table114[[#This Row],[Next Calibration]]-TODAY())/30)>2,\"More Than 2\",IF(((Table114[[#This Row],[Next Calibration]]-TODAY())/30)>1,\"Between 2 and 1\",\"Less than 1\"))","v":{"$error":"#VALUE!"}},{"$f":"IF(Table114[[#This Row],[Issued]]=\"\",\"\",IF(Table114[[#This Row],[Lent]]=\"\",0,1))","v":""},{"$f":"IF(Table114[[#This Row],[Lent]]=\"\",\"\",IF(Table114[[#This Row],[Returned]]=\"\",0,1))","v":""}]
[{"$nulls":11},{"$f":"IF(IF(Table114[[#This Row],[Disposition]]=\"Retired\",\"N/A\",IF(Table114[[#This Row],[Disposition]]=0,\"\",K188+$F$2))=0+$F$2,\"NEVER CALIBRATED\",IF(Table114[[#This Row],[Disposition]]=\"Retired\",\"N/A\",IF(Table114[[#This Row],[Disposition]]=0,\"\",K188+$F$2)))","v":""},{"$f":"IF(Table114[[#This Row],[Disposition]]=\"\",\"\",IF(AND(Table114[[#This Row],[Next Calibration]]<$E$1,Table114[[#This Row],[Disposition]]=\"Lost\"),\"Find and Calibrate\",IF(Table114[[#This Row],[Disposition]]=\"Lost\",\"Find\",IF(OR(Table114[[#This Row],[Next Calibration]]<$E$1,Table114[[#This Row],[Next Calibration]]=\"NEVER CALIBRATED\"),\"Calibrate\",\"Nominal\"))))","v":""},{"$f":"IF(((Table114[[#This Row],[Next Calibration]]-TODAY())/30)>2,\"More Than 2\",IF(((Table114[[#This Row],[Next Calibration]]-TODAY())/30)>1,\"Between 2 and 1\",\"Less than 1\"))","v":{"$error":"#VALUE!"}},{"$f":"IF(Table114[[#This Row],[Issued]]=\"\",\"\",IF(Table114[[#This Row],[Lent]]=\"\",0,1))","v":""},{"$f":"IF(Table114[[#This Row],[Lent]]=\"\",\"\",IF(Table114[[#This Row],[Returned]]=\"\",0,1))","v":""}]
[{"$nulls":11},{"$f":"IF(IF(Table114[[#This Row],[Disposition]]=\"Retired\",\"N/A\",IF(Table114[[#This Row],[Disposition]]=0,\"\",K189+$F$2))=0+$F$2,\"NEVER CALIBRATED\",IF(Table114[[#This Row],[Disposition]]=\"Retired\",\"N/A\",IF(Table114[[#This Row],[Disposition]]=0,\"\",K189+$F$2)))","v":""},{"$f":"IF(Table114[[#This Row],[Disposition]]=\"\",\"\",IF(AND(Table114[[#This Row],[Next Calibration]]<$E$1,Table114[[#This Row],[Disposition]]=\"Lost\"),\"Find and Calibrate\",IF(Table114[[#This Row],[Disposition]]=\"Lost\",\"Find\",IF(OR(Table114[[#This Row],[Next Calibration]]<$E$1,Table114[[#This Row],[Next Calibration]]=\"NEVER CALIBRATED\"),\"Calibrate\",\"Nominal\"))))","v":""},{"$f":"IF(((Table114[[#This Row],[Next Calibration]]-TODAY())/30)>2,\"More Than 2\",IF(((Table114[[#This Row],[Next Calibration]]-TODAY())/30)>1,\"Between 2 and 1\",\"Less than 1\"))","v":{"$error":"#VALUE!"}},{"$f":"IF(Table114[[#This Row],[Issued]]=\"\",\"\",IF(Table114[[#This Row],[Lent]]=\"\",0,1))","v":""},{"$f":"IF(Table114[[#This Row],[Lent]]=\"\",\"\",IF(Table114[[#This Row],[Returned]]=\"\",0,1))","v":""}]
[{"$nulls":11},{"$f":"IF(IF(Table114[[#This Row],[Disposition]]=\"Retired\",\"N/A\",IF(Table114[[#This Row],[Disposition]]=0,\"\",K190+$F$2))=0+$F$2,\"NEVER CALIBRATED\",IF(Table114[[#This Row],[Disposition]]=\"Retired\",\"N/A\",IF(Table114[[#This Row],[Disposition]]=0,\"\",K190+$F$2)))","v":""},{"$f":"IF(Table114[[#This Row],[Disposition]]=\"\",\"\",IF(AND(Table114[[#This Row],[Next Calibration]]<$E$1,Table114[[#This Row],[Disposition]]=\"Lost\"),\"Find and Calibrate\",IF(Table114[[#This Row],[Disposition]]=\"Lost\",\"Find\",IF(OR(Table114[[#This Row],[Next Calibration]]<$E$1,Table114[[#This Row],[Next Calibration]]=\"NEVER CALIBRATED\"),\"Calibrate\",\"Nominal\"))))","v":""},{"$f":"IF(((Table114[[#This Row],[Next Calibration]]-TODAY())/30)>2,\"More Than 2\",IF(((Table114[[#This Row],[Next Calibration]]-TODAY())/30)>1,\"Between 2 and 1\",\"Less than 1\"))","v":{"$error":"#VALUE!"}},{"$f":"IF(Table114[[#This Row],[Issued]]=\"\",\"\",IF(Table114[[#This Row],[Lent]]=\"\",0,1))","v":""},{"$f":"IF(Table114[[#This Row],[Lent]]=\"\",\"\",IF(Table114[[#This Row],[Returned]]=\"\",0,1))","v":""}]
[{"$nulls":11},{"$f":"IF(IF(Table114[[#This Row],[Disposition]]=\"Retired\",\"N/A\",IF(Table114[[#This Row],[Disposition]]=0,\"\",K191+$F$2))=0+$F$2,\"NEVER CALIBRATED\",IF(Table114[[#This Row],[Disposition]]=\"Retired\",\"N/A\",IF(Table114[[#This Row],[Disposition]]=0,\"\",K191+$F$2)))","v":""},{"$f":"IF(Table114[[#This Row],[Disposition]]=\"\",\"\",IF(AND(Table114[[#This Row],[Next Calibration]]<$E$1,Table114[[#This Row],[Disposition]]=\"Lost\"),\"Find and Calibrate\",IF(Table114[[#This Row],[Disposition]]=\"Lost\",\"Find\",IF(OR(Table114[[#This Row],[Next Calibration]]<$E$1,Table114[[#This Row],[Next Calibration]]=\"NEVER CALIBRATED\"),\"Calibrate\",\"Nominal\"))))","v":""},{"$f":"IF(((Table114[[#This Row],[Next Calibration]]-TODAY())/30)>2,\"More Than 2\",IF(((Table114[[#This Row],[Next Calibration]]-TODAY())/30)>1,\"Between 2 and 1\",\"Less than 1\"))","v":{"$error":"#VALUE!"}},{"$f":"IF(Table114[[#This Row],[Issued]]=\"\",\"\",IF(Table114[[#This Row],[Lent]]=\"\",0,1))","v":""},{"$f":"IF(Table114[[#This Row],[Lent]]=\"\",\"\",IF(Table114[[#This Row],[Returned]]=\"\",0,1))","v":""}]
[{"$nulls":11},{"$f":"IF(IF(Table114[[#This Row],[Disposition]]=\"Retired\",\"N/A\",IF(Table114[[#This Row],[Disposition]]=0,\"\",K192+$F$2))=0+$F$2,\"NEVER CALIBRATED\",IF(Table114[[#This Row],[Disposition]]=\"Retired\",\"N/A\",IF(Table114[[#This Row],[Disposition]]=0,\"\",K192+$F$2)))","v":""},{"$f":"IF(Table114[[#This Row],[Disposition]]=\"\",\"\",IF(AND(Table114[[#This Row],[Next Calibration]]<$E$1,Table114[[#This Row],[Disposition]]=\"Lost\"),\"Find and Calibrate\",IF(Table114[[#This Row],[Disposition]]=\"Lost\",\"Find\",IF(OR(Table114[[#This Row],[Next Calibration]]<$E$1,Table114[[#This Row],[Next Calibration]]=\"NEVER CALIBRATED\"),\"Calibrate\",\"Nominal\"))))","v":""},{"$f":"IF(((Table114[[#This Row],[Next Calibration]]-TODAY())/30)>2,\"More Than 2\",IF(((Table114[[#This Row],[Next Calibration]]-TODAY())/30)>1,\"Between 2 and 1\",\"Less than 1\"))","v":{"$error":"#VALUE!"}},{"$f":"IF(Table114[[#This Row],[Issued]]=\"\",\"\",IF(Table114[[#This Row],[Lent]]=\"\",0,1))","v":""},{"$f":"IF(Table114[[#This Row],[Lent]]=\"\",\"\",IF(Table114[[#This Row],[Returned]]=\"\",0,1))","v":""}]
[{"$nulls":11},{"$f":"IF(IF(Table114[[#This Row],[Disposition]]=\"Retired\",\"N/A\",IF(Table114[[#This Row],[Disposition]]=0,\"\",K193+$F$2))=0+$F$2,\"NEVER CALIBRATED\",IF(Table114[[#This Row],[Disposition]]=\"Retired\",\"N/A\",IF(Table114[[#This Row],[Disposition]]=0,\"\",K193+$F$2)))","v":""},{"$f":"IF(Table114[[#This Row],[Disposition]]=\"\",\"\",IF(AND(Table114[[#This Row],[Next Calibration]]<$E$1,Table114[[#This Row],[Disposition]]=\"Lost\"),\"Find and Calibrate\",IF(Table114[[#This Row],[Disposition]]=\"Lost\",\"Find\",IF(OR(Table114[[#This Row],[Next Calibration]]<$E$1,Table114[[#This Row],[Next Calibration]]=\"NEVER CALIBRATED\"),\"Calibrate\",\"Nominal\"))))","v":""},{"$f":"IF(((Table114[[#This Row],[Next Calibration]]-TODAY())/30)>2,\"More Than 2\",IF(((Table114[[#This Row],[Next Calibration]]-TODAY())/30)>1,\"Between 2 and 1\",\"Less than 1\"))","v":{"$error":"#VALUE!"}},{"$f":"IF(Table114[[#This Row],[Issued]]=\"\",\"\",IF(Table114[[#This Row],[Lent]]=\"\",0,1))","v":""},{"$f":"IF(Table114[[#This Row],[Lent]]=\"\",\"\",IF(Table114[[#This Row],[Returned]]=\"\",0,1))","v":""}]
[{"$nulls":11},{"$f":"IF(IF(Table114[[#This Row],[Disposition]]=\"Retired\",\"N/A\",IF(Table114[[#This Row],[Disposition]]=0,\"\",K194+$F$2))=0+$F$2,\"NEVER CALIBRATED\",IF(Table114[[#This Row],[Disposition]]=\"Retired\",\"N/A\",IF(Table114[[#This Row],[Disposition]]=0,\"\",K194+$F$2)))","v":""},{"$f":"IF(Table114[[#This Row],[Disposition]]=\"\",\"\",IF(AND(Table114[[#This Row],[Next Calibration]]<$E$1,Table114[[#This Row],[Disposition]]=\"Lost\"),\"Find and Calibrate\",IF(Table114[[#This Row],[Disposition]]=\"Lost\",\"Find\",IF(OR(Table114[[#This Row],[Next Calibration]]<$E$1,Table114[[#This Row],[Next Calibration]]=\"NEVER CALIBRATED\"),\"Calibrate\",\"Nominal\"))))","v":""},{"$f":"IF(((Table114[[#This Row],[Next Calibration]]-TODAY())/30)>2,\"More Than 2\",IF(((Table114[[#This Row],[Next Calibration]]-TODAY())/30)>1,\"Between 2 and 1\",\"Less than 1\"))","v":{"$error":"#VALUE!"}},{"$f":"IF(Table114[[#This Row],[Issued]]=\"\",\"\",IF(Table114[[#This Row],[Lent]]=\"\",0,1))","v":""},{"$f":"IF(Table114[[#This Row],[Lent]]=\"\",\"\",IF(Table114[[#This Row],[Returned]]=\"\",0,1))","v":""}]
[{"$nulls":11},{"$f":"IF(IF(Table114[[#This Row],[Disposition]]=\"Retired\",\"N/A\",IF(Table114[[#This Row],[Disposition]]=0,\"\",K195+$F$2))=0+$F$2,\"NEVER CALIBRATED\",IF(Table114[[#This Row],[Disposition]]=\"Retired\",\"N/A\",IF(Table114[[#This Row],[Disposition]]=0,\"\",K195+$F$2)))","v":""},{"$f":"IF(Table114[[#This Row],[Disposition]]=\"\",\"\",IF(AND(Table114[[#This Row],[Next Calibration]]<$E$1,Table114[[#This Row],[Disposition]]=\"Lost\"),\"Find and Calibrate\",IF(Table114[[#This Row],[Disposition]]=\"Lost\",\"Find\",IF(OR(Table114[[#This Row],[Next Calibration]]<$E$1,Table114[[#This Row],[Next Calibration]]=\"NEVER CALIBRATED\"),\"Calibrate\",\"Nominal\"))))","v":""},{"$f":"IF(((Table114[[#This Row],[Next Calibration]]-TODAY())/30)>2,\"More Than 2\",IF(((Table114[[#This Row],[Next Calibration]]-TODAY())/30)>1,\"Between 2 and 1\",\"Less than 1\"))","v":{"$error":"#VALUE!"}},{"$f":"IF(Table114[[#This Row],[Issued]]=\"\",\"\",IF(Table114[[#This Row],[Lent]]=\"\",0,1))","v":""},{"$f":"IF(Table114[[#This Row],[Lent]]=\"\",\"\",IF(Table114[[#This Row],[Returned]]=\"\",0,1))","v":""}]
[{"$nulls":11},{"$f":"IF(IF(Table114[[#This Row],[Disposition]]=\"Retired\",\"N/A\",IF(Table114[[#This Row],[Disposition]]=0,\"\",K196+$F$2))=0+$F$2,\"NEVER CALIBRATED\",IF(Table114[[#This Row],[Disposition]]=\"Retired\",\"N/A\",IF(Table114[[#This Row],[Disposition]]=0,\"\",K196+$F$2)))","v":""},{"$f":"IF(Table114[[#This Row],[Disposition]]=\"\",\"\",IF(AND(Table114[[#This Row],[Next Calibration]]<$E$1,Table114[[#This Row],[Disposition]]=\"Lost\"),\"Find and Calibrate\",IF(Table114[[#This Row],[Disposition]]=\"Lost\",\"Find\",IF(OR(Table114[[#This Row],[Next Calibration]]<$E$1,Table114[[#This Row],[Next Calibration]]=\"NEVER CALIBRATED\"),\"Calibrate\",\"Nominal\"))))","v":""},{"$f":"IF(((Table114[[#This Row],[Next Calibration]]-TODAY())/30)>2,\"More Than 2\",IF(((Table114[[#This Row],[Next Calibration]]-TODAY())/30)>1,\"Between 2 and 1\",\"Less than 1\"))","v":{"$error":"#VALUE!"}},{"$f":"IF(Table114[[#This Row],[Issued]]=\"\",\"\",IF(Table114[[#This Row],[Lent]]=\"\",0,1))","v":""},{"$f":"IF(Table114[[#This Row],[Lent]]=\"\",\"\",IF(Table114[[#This Row],[Returned]]=\"\",0,1))","v":""}]
[{"$nulls":11},{"$f":"IF(IF(Table114[[#This Row],[Disposition]]=\"Retired\",\"N/A\",IF(Table114[[#This Row],[Disposition]]=0,\"\",K197+$F$2))=0+$F$2,\"NEVER CALIBRATED\",IF(Table114[[#This Row],[Disposition]]=\"Retired\",\"N/A\",IF(Table114[[#This Row],[Disposition]]=0,\"\",K197+$F$2)))","v":""},{"$f":"IF(Table114[[#This Row],[Disposition]]=\"\",\"\",IF(AND(Table114[[#This Row],[Next Calibration]]<$E$1,Table114[[#This Row],[Disposition]]=\"Lost\"),\"Find and Calibrate\",IF(Table114[[#This Row],[Disposition]]=\"Lost\",\"Find\",IF(OR(Table114[[#This Row],[Next Calibration]]<$E$1,Table114[[#This Row],[Next Calibration]]=\"NEVER CALIBRATED\"),\"Calibrate\",\"Nominal\"))))","v":""},{"$f":"IF(((Table114[[#This Row],[Next Calibration]]-TODAY())/30)>2,\"More Than 2\",IF(((Table114[[#This Row],[Next Calibration]]-TODAY())/30)>1,\"Between 2 and 1\",\"Less than 1\"))","v":{"$error":"#VALUE!"}},{"$f":"IF(Table114[[#This Row],[Issued]]=\"\",\"\",IF(Table114[[#This Row],[Lent]]=\"\",0,1))","v":""},{"$f":"IF(Table114[[#This Row],[Lent]]=\"\",\"\",IF(Table114[[#This Row],[Returned]]=\"\",0,1))","v":""}]
[{"$nulls":11},{"$f":"IF(IF(Table114[[#This Row],[Disposition]]=\"Retired\",\"N/A\",IF(Table114[[#This Row],[Disposition]]=0,\"\",K198+$F$2))=0+$F$2,\"NEVER CALIBRATED\",IF(Table114[[#This Row],[Disposition]]=\"Retired\",\"N/A\",IF(Table114[[#This Row],[Disposition]]=0,\"\",K198+$F$2)))","v":""},{"$f":"IF(Table114[[#This Row],[Disposition]]=\"\",\"\",IF(AND(Table114[[#This Row],[Next Calibration]]<$E$1,Table114[[#This Row],[Disposition]]=\"Lost\"),\"Find and Calibrate\",IF(Table114[[#This Row],[Disposition]]=\"Lost\",\"Find\",IF(OR(Table114[[#This Row],[Next Calibration]]<$E$1,Table114[[#This Row],[Next Calibration]]=\"NEVER CALIBRATED\"),\"Calibrate\",\"Nominal\"))))","v":""},{"$f":"IF(((Table114[[#This Row],[Next Calibration]]-TODAY())/30)>2,\"More Than 2\",IF(((Table114[[#This Row],[Next Calibration]]-TODAY())/30)>1,\"Between 2 and 1\",\"Less than 1\"))","v":{"$error":"#VALUE!"}},{"$f":"IF(Table114[[#This Row],[Issued]]=\"\",\"\",IF(Table114[[#This Row],[Lent]]=\"\",0,1))","v":""},{"$f":"IF(Table114[[#This Row],[Lent]]=\"\",\"\",IF(Table114[[#This Row],[Returned]]=\"\",0,1))","v":""}]
[{"$nulls":11},{"$f":"IF(IF(Table114[[#This Row],[Disposition]]=\"Retired\",\"N/A\",IF(Table114[[#This Row],[Disposition]]=0,\"\",K199+$F$2))=0+$F$2,\"NEVER CALIBRATED\",IF(Table114[[#This Row],[Disposition]]=\"Retired\",\"N/A\",IF(Table114[[#This Row],[Disposition]]=0,\"\",K199+$F$2)))","v":""},{"$f":"IF(Table114[[#This Row],[Disposition]]=\"\",\"\",IF(AND(Table114[[#This Row],[Next Calibration]]<$E$1,Table114[[#This Row],[Disposition]]=\"Lost\"),\"Find and Calibrate\",IF(Table114[[#This Row],[Disposition]]=\"Lost\",\"Find\",IF(OR(Table114[[#This Row],[Next Calibration]]<$E$1,Table114[[#This Row],[Next Calibration]]=\"NEVER CALIBRATED\"),\"Calibrate\",\"Nominal\"))))","v":""},{"$f":"IF(((Table114[[#This Row],[Next Calibration]]-TODAY())/30)>2,\"More Than 2\",IF(((Table114[[#This Row],[Next Calibration]]-TODAY())/30)>1,\"Between 2 and 1\",\"Less than 1\"))","v":{"$error":"#VALUE!"}},{"$f":"IF(Table114[[#This Row],[Issued]]=\"\",\"\",IF(Table114[[#This Row],[Lent]]=\"\",0,1))","v":""},{"$f":"IF(Table114[[#This Row],[Lent]]=\"\",\"\",IF(Table114[[#This Row],[Returned]]=\"\",0,1))","v":""}]
[{"$nulls":11},{"$f":"IF(IF(Table114[[#This Row],[Disposition]]=\"Retired\",\"N/A\",IF(Table114[[#This Row],[Disposition]]=0,\"\",K200+$F$2))=0+$F$2,\"NEVER CALIBRATED\",IF(Table114[[#This Row],[Disposition]]=\"Retired\",\"N/A\",IF(Table114[[#This Row],[Disposition]]=0,\"\",K200+$F$2)))","v":""},{"$f":"IF(Table114[[#This Row],[Disposition]]=\"\",\"\",IF(AND(Table114[[#This Row],[Next Calibration]]<$E$1,Table114[[#This Row],[Disposition]]=\"Lost\"),\"Find and Calibrate\",IF(Table114[[#This Row],[Disposition]]=\"Lost\",\"Find\",IF(OR(Table114[[#This Row],[Next Calibration]]<$E$1,Table114[[#This Row],[Next Calibration]]=\"NEVER CALIBRATED\"),\"Calibrate\",\"Nominal\"))))","v":""},{"$f":"IF(((Table114[[#This Row],[Next Calibration]]-TODAY())/30)>2,\"More Than 2\",IF(((Table114[[#This Row],[Next Calibration]]-TODAY())/30)>1,\"Between 2 and 1\",\"Less than 1\"))","v":{"$error":"#VALUE!"}},{"$f":"IF(Table114[[#This Row],[Issued]]=\"\",\"\",IF(Table114[[#This Row],[Lent]]=\"\",0,1))","v":""},{"$f":"IF(Table114[[#This Row],[Lent]]=\"\",\"\",IF(Table114[[#This Row],[Returned]]=\"\",0,1))","v":""}]
[{"$nulls":11},{"$f":"IF(IF(Table114[[#This Row],[Disposition]]=\"Retired\",\"N/A\",IF(Table114[[#This Row],[Disposition]]=0,\"\",K201+$F$2))=0+$F$2,\"NEVER CALIBRATED\",IF(Table114[[#This Row],[Disposition]]=\"Retired\",\"N/A\",IF(Table114[[#This Row],[Disposition]]=0,\"\",K201+$F$2)))","v":""},{"$f":"IF(Table114[[#This Row],[Disposition]]=\"\",\"\",IF(AND(Table114[[#This Row],[Next Calibration]]<$E$1,Table114[[#This Row],[Disposition]]=\"Lost\"),\"Find and Calibrate\",IF(Table114[[#This Row],[Disposition]]=\"Lost\",\"Find\",IF(OR(Table114[[#This Row],[Next Calibration]]<$E$1,Table114[[#This Row],[Next Calibration]]=\"NEVER CALIBRATED\"),\"Calibrate\",\"Nominal\"))))","v":""},{"$f":"IF(((Table114[[#This Row],[Next Calibration]]-TODAY())/30)>2,\"More Than 2\",IF(((Table114[[#This Row],[Next Calibration]]-TODAY())/30)>1,\"Between 2 and 1\",\"Less than 1\"))","v":{"$error":"#VALUE!"}},{"$f":"IF(Table114[[#This Row],[Issued]]=\"\",\"\",IF(Table114[[#This Row],[Lent]]=\"\",0,1))","v":""},{"$f":"IF(Table114[[#This Row],[Lent]]=\"\",\"\",IF(Table114[[#This Row],[Returned]]=\"\",0,1))","v":""}]
[{"$nulls":11},{"$f":"IF(IF(Table114[[#This Row],[Disposition]]=\"Retired\",\"N/A\",IF(Table114[[#This Row],[Disposition]]=0,\"\",K202+$F$2))=0+$F$2,\"NEVER CALIBRATED\",IF(Table114[[#This Row],[Disposition]]=\"Retired\",\"N/A\",IF(Table114[[#This Row],[Disposition]]=0,\"\",K202+$F$2)))","v":""},{"$f":"IF(Table114[[#This Row],[Disposition]]=\"\",\"\",IF(AND(Table114[[#This Row],[Next Calibration]]<$E$1,Table114[[#This Row],[Disposition]]=\"Lost\"),\"Find and Calibrate\",IF(Table114[[#This Row],[Disposition]]=\"Lost\",\"Find\",IF(OR(Table114[[#This Row],[Next Calibration]]<$E$1,Table114[[#This Row],[Next Calibration]]=\"NEVER CALIBRATED\"),\"Calibrate\",\"Nominal\"))))","v":""},{"$f":"IF(((Table114[[#This Row],[Next Calibration]]-TODAY())/30)>2,\"More Than 2\",IF(((Table114[[#This Row],[Next Calibration]]-TODAY())/30)>1,\"Between 2 and 1\",\"Less than 1\"))","v":{"$error":"#VALUE!"}},{"$f":"IF(Table114[[#This Row],[Issued]]=\"\",\"\",IF(Table114[[#This Row],[Lent]]=\"\",0,1))","v":""},{"$f":"IF(Table114[[#This Row],[Lent]]=\"\",\"\",IF(Table114[[#This Row],[Returned]]=\"\",0,1))","v":""}]
[{"$nulls":11},{"$f":"IF(IF(Table114[[#This Row],[Disposition]]=\"Retired\",\"N/A\",IF(Table114[[#This Row],[Disposition]]=0,\"\",K203+$F$2))=0+$F$2,\"NEVER CALIBRATED\",IF(Table114[[#This Row],[Disposition]]=\"Retired\",\"N/A\",IF(Table114[[#This Row],[Disposition]]=0,\"\",K203+$F$2)))","v":""},{"$f":"IF(Table114[[#This Row],[Disposition]]=\"\",\"\",IF(AND(Table114[[#This Row],[Next Calibration]]<$E$1,Table114[[#This Row],[Disposition]]=\"Lost\"),\"Find and Calibrate\",IF(Table114[[#This Row],[Disposition]]=\"Lost\",\"Find\",IF(OR(Table114[[#This Row],[Next Calibration]]<$E$1,Table114[[#This Row],[Next Calibration]]=\"NEVER CALIBRATED\"),\"Calibrate\",\"Nominal\"))))","v":""},{"$f":"IF(((Table114[[#This Row],[Next Calibration]]-TODAY())/30)>2,\"More Than 2\",IF(((Table114[[#This Row],[Next Calibration]]-TODAY())/30)>1,\"Between 2 and 1\",\"Less than 1\"))","v":{"$error":"#VALUE!"}},{"$f":"IF(Table114[[#This Row],[Issued]]=\"\",\"\",IF(Table114[[#This Row],[Lent]]=\"\",0,1))","v":""},{"$f":"IF(Table114[[#This Row],[Lent]]=\"\",\"\",IF(Table114[[#This Row],[Returned]]=\"\",0,1))","v":""}]

{"sheet":"Template","index":11,"n_rows":203,"n_cols":16,"rows_kept":203,"merged":[[0,0,1,2],[0,9,1,9],[0,10,0,11],[1,10,1,11],[3,0,4,0]]}
["Template",null,null,"Date",{"$f":"TODAY()","v":"2021-04-27"},"Calibration Frequency (days)",{"$nulls":3},"Key","Personal Tool",null,"Adjustabe"]
[{"$nulls":3},"Time",{"$f":"NOW()","v":44313.375952546296},{"$nulls":5},"Attention",null,"DO NOT EDIT"]
[]
["Tool Modification"]
[]
[]
["Gauge #","Lent To","Shift","Work Area","Brand","Disposition","Personal (1/0)","Issued","Lent","Returned","Calibrated","Next Calibration","Action Required","count down","Lent (1/0)","Returned (1/0)"]
[{"$nulls":11},{"$f":"IF(IF(Table1[[#This Row],[Disposition]]=\"Retired\",\"N/A\",IF(Table1[[#This Row],[Disposition]]=0,\"\",K8+$F$2))=0+$F$2,\"NEVER CALIBRATED\",IF(Table1[[#This Row],[Disposition]]=\"Retired\",\"N/A\",IF(Table1[[#This Row],[Disposition]]=0,\"\",K8+$F$2)))","v":""},{"$f":"IF(Table1[[#This Row],[Disposition]]=\"\",\"\",IF(AND(Table1[[#This Row],[Next Calibration]]<$E$1,Table1[[#This Row],[Disposition]]=\"Lost\"),\"Find and Calibrate\",IF(Table1[[#This Row],[Disposition]]=\"Lost\",\"Find\",IF(OR(Table1[[#This Row],[Next Calibration]]<$E$1,Table1[[#This Row],[Next Calibration]]=\"NEVER CALIBRATED\"),\"Calibrate\",\"Nominal\"))))","v":""},{"$f":"IF(((Table1[[#This Row],[Next Calibration]]-TODAY())/30)>2,\"More Than 2\",IF(((Table1[[#This Row],[Next Calibration]]-TODAY())/30)>1,\"Between 2 and 1\",\"Less than 1\"))","v":{"$error":"#VALUE!"}},{"$f":"IF(Table1[[#This Row],[Issued]]=\"\",\"\",IF(Table1[[#This Row],[Lent]]=\"\",0,1))","v":""},{"$f":"IF(Table1[[#This Row],[Lent]]=\"\",\"\",IF(Table1[[#This Row],[Returned]]=\"\",0,1))","v":""}]
[{"$nulls":11},{"$f":"IF(IF(Table1[[#This Row],[Disposition]]=\"Retired\",\"N/A\",IF(Table1[[#This Row],[Disposition]]=0,\"\",K9+$F$2))=0+$F$2,\"NEVER CALIBRATED\",IF(Table1[[#This Row],[Disposition]]=\"Retired\",\"N/A\",IF(Table1[[#This Row],[Disposition]]=0,\"\",K9+$F$2)))","v":""},{"$f":"IF(Table1[[#This Row],[Disposition]]=\"\",\"\",IF(AND(Table1[[#This Row],[Next Calibration]]<$E$1,Table1[[#This Row],[Disposition]]=\"Lost\"),\"Find and Calibrate\",IF(Table1[[#This Row],[Disposition]]=\"Lost\",\"Find\",IF(OR(Table1[[#This Row],[Next Calibration]]<$E$1,Table1[[#This Row],[Next Calibration]]=\"NEVER CALIBRATED\"),\"Calibrate\",\"Nominal\"))))","v":""},{"$f":"IF(((Table1[[#This Row],[Next Calibration]]-TODAY())/30)>2,\"More Than 2\",IF(((Table1[[#This Row],[Next Calibration]]-TODAY())/30)>1,\"Between 2 and 1\",\"Less than 1\"))","v":{"$error":"#VALUE!"}},{"$f":"IF(Table1[[#This Row],[Issued]]=\"\",\"\",IF(Table1[[#This Row],[Lent]]=\"\",0,1))","v":""},{"$f":"IF(Table1[[#This Row],[Lent]]=\"\",\"\",IF(Table1[[#This Row],[Returned]]=\"\",0,1))","v":""}]
[{"$nulls":11},{"$f":"IF(IF(Table1[[#This Row],[Disposition]]=\"Retired\",\"N/A\",IF(Table1[[#This Row],[Disposition]]=0,\"\",K10+$F$2))=0+$F$2,\"NEVER CALIBRATED\",IF(Table1[[#This Row],[Disposition]]=\"Retired\",\"N/A\",IF(Table1[[#This Row],[Disposition]]=0,\"\",K10+$F$2)))","v":""},{"$f":"IF(Table1[[#This Row],[Disposition]]=\"\",\"\",IF(AND(Table1[[#This Row],[Next Calibration]]<$E$1,Table1[[#This Row],[Disposition]]=\"Lost\"),\"Find and Calibrate\",IF(Table1[[#This Row],[Disposition]]=\"Lost\",\"Find\",IF(OR(Table1[[#This Row],[Next Calibration]]<$E$1,Table1[[#This Row],[Next Calibration]]=\"NEVER CALIBRATED\"),\"Calibrate\",\"Nominal\"))))","v":""},{"$f":"IF(((Table1[[#This Row],[Next Calibration]]-TODAY())/30)>2,\"More Than 2\",IF(((Table1[[#This Row],[Next Calibration]]-TODAY())/30)>1,\"Between 2 and 1\",\"Less than 1\"))","v":{"$error":"#VALUE!"}},{"$f":"IF(Table1[[#This Row],[Issued]]=\"\",\"\",IF(Table1[[#This Row],[Lent]]=\"\",0,1))","v":""},{"$f":"IF(Table1[[#This Row],[Lent]]=\"\",\"\",IF(Table1[[#This Row],[Returned]]=\"\",0,1))","v":""}]
[{"$nulls":11},{"$f":"IF(IF(Table1[[#This Row],[Disposition]]=\"Retired\",\"N/A\",IF(Table1[[#This Row],[Disposition]]=0,\"\",K11+$F$2))=0+$F$2,\"NEVER CALIBRATED\",IF(Table1[[#This Row],[Disposition]]=\"Retired\",\"N/A\",IF(Table1[[#This Row],[Disposition]]=0,\"\",K11+$F$2)))","v":""},{"$f":"IF(Table1[[#This Row],[Disposition]]=\"\",\"\",IF(AND(Table1[[#This Row],[Next Calibration]]<$E$1,Table1[[#This Row],[Disposition]]=\"Lost\"),\"Find and Calibrate\",IF(Table1[[#This Row],[Disposition]]=\"Lost\",\"Find\",IF(OR(Table1[[#This Row],[Next Calibration]]<$E$1,Table1[[#This Row],[Next Calibration]]=\"NEVER CALIBRATED\"),\"Calibrate\",\"Nominal\"))))","v":""},{"$f":"IF(((Table1[[#This Row],[Next Calibration]]-TODAY())/30)>2,\"More Than 2\",IF(((Table1[[#This Row],[Next Calibration]]-TODAY())/30)>1,\"Between 2 and 1\",\"Less than 1\"))","v":{"$error":"#VALUE!"}},{"$f":"IF(Table1[[#This Row],[Issued]]=\"\",\"\",IF(Table1[[#This Row],[Lent]]=\"\",0,1))","v":""},{"$f":"IF(Table1[[#This Row],[Lent]]=\"\",\"\",IF(Table1[[#This Row],[Returned]]=\"\",0,1))","v":""}]
[{"$nulls":11},{"$f":"IF(IF(Table1[[#This Row],[Disposition]]=\"Retired\",\"N/A\",IF(Table1[[#This Row],[Disposition]]=0,\"\",K12+$F$2))=0+$F$2,\"NEVER CALIBRATED\",IF(Table1[[#This Row],[Disposition]]=\"Retired\",\"N/A\",IF(Table1[[#This Row],[Disposition]]=0,\"\",K12+$F$2)))","v":""},{"$f":"IF(Table1[[#This Row],[Disposition]]=\"\",\"\",IF(AND(Table1[[#This Row],[Next Calibration]]<$E$1,Table1[[#This Row],[Disposition]]=\"Lost\"),\"Find and Calibrate\",IF(Table1[[#This Row],[Disposition]]=\"Lost\",\"Find\",IF(OR(Table1[[#This Row],[Next Calibration]]<$E$1,Table1[[#This Row],[Next Calibration]]=\"NEVER CALIBRATED\"),\"Calibrate\",\"Nominal\"))))","v":""},{"$f":"IF(((Table1[[#This Row],[Next Calibration]]-TODAY())/30)>2,\"More Than 2\",IF(((Table1[[#This Row],[Next Calibration]]-TODAY())/30)>1,\"Between 2 and 1\",\"Less than 1\"))","v":{"$error":"#VALUE!"}},{"$f":"IF(Table1[[#This Row],[Issued]]=\"\",\"\",IF(Table1[[#This Row],[Lent]]=\"\",0,1))","v":""},{"$f":"IF(Table1[[#This Row],[Lent]]=\"\",\"\",IF(Table1[[#This Row],[Returned]]=\"\",0,1))","v":""}]
[{"$nulls":11},{"$f":"IF(IF(Table1[[#This Row],[Disposition]]=\"Retired\",\"N/A\",IF(Table1[[#This Row],[Disposition]]=0,\"\",K13+$F$2))=0+$F$2,\"NEVER CALIBRATED\",IF(Table1[[#This Row],[Disposition]]=\"Retired\",\"N/A\",IF(Table1[[#This Row],[Disposition]]=0,\"\",K13+$F$2)))","v":""},{"$f":"IF(Table1[[#This Row],[Disposition]]=\"\",\"\",IF(AND(Table1[[#This Row],[Next Calibration]]<$E$1,Table1[[#This Row],[Disposition]]=\"Lost\"),\"Find and Calibrate\",IF(Table1[[#This Row],[Disposition]]=\"Lost\",\"Find\",IF(OR(Table1[[#This Row],[Next Calibration]]<$E$1,Table1[[#This Row],[Next Calibration]]=\"NEVER CALIBRATED\"),\"Calibrate\",\"Nominal\"))))","v":""},{"$f":"IF(((Table1[[#This Row],[Next Calibration]]-TODAY())/30)>2,\"More Than 2\",IF(((Table1[[#This Row],[Next Calibration]]-TODAY())/30)>1,\"Between 2 and 1\",\"Less than 1\"))","v":{"$error":"#VALUE!"}},{"$f":"IF(Table1[[#This Row],[Issued]]=\"\",\"\",IF(Table1[[#This Row],[Lent]]=\"\",0,1))","v":""},{"$f":"IF(Table1[[#This Row],[Lent]]=\"\",\"\",IF(Table1[[#This Row],[Returned]]=\"\",0,1))","v":""}]
[{"$nulls":11},{"$f":"IF(IF(Table1[[#This Row],[Disposition]]=\"Retired\",\"N/A\",IF(Table1[[#This Row],[Disposition]]=0,\"\",K14+$F$2))=0+$F$2,\"NEVER CALIBRATED\",IF(Table1[[#This Row],[Disposition]]=\"Retired\",\"N/A\",IF(Table1[[#This Row],[Disposition]]=0,\"\",K14+$F$2)))","v":""},{"$f":"IF(Table1[[#This Row],[Disposition]]=\"\",\"\",IF(AND(Table1[[#This Row],[Next Calibration]]<$E$1,Table1[[#This Row],[Disposition]]=\"Lost\"),\"Find and Calibrate\",IF(Table1[[#This Row],[Disposition]]=\"Lost\",\"Find\",IF(OR(Table1[[#This Row],[Next Calibration]]<$E$1,Table1[[#This Row],[Next Calibration]]=\"NEVER CALIBRATED\"),\"Calibrate\",\"Nominal\"))))","v":""},{"$f":"IF(((Table1[[#This Row],[Next Calibration]]-TODAY())/30)>2,\"More Than 2\",IF(((Table1[[#This Row],[Next Calibration]]-TODAY())/30)>1,\"Between 2 and 1\",\"Less than 1\"))","v":{"$error":"#VALUE!"}},{"$f":"IF(Table1[[#This Row],[Issued]]=\"\",\"\",IF(Table1[[#This Row],[Lent]]=\"\",0,1))","v":""},{"$f":"IF(Table1[[#This Row],[Lent]]=\"\",\"\",IF(Table1[[#This Row],[Returned]]=\"\",0,1))","v":""}]
[{"$nulls":11},{"$f":"IF(IF(Table1[[#This Row],[Disposition]]=\"Retired\",\"N/A\",IF(Table1[[#This Row],[Disposition]]=0,\"\",K15+$F$2))=0+$F$2,\"NEVER CALIBRATED\",IF(Table1[[#This Row],[Disposition]]=\"Retired\",\"N/A\",IF(Table1[[#This Row],[Disposition]]=0,\"\",K15+$F$2)))","v":""},{"$f":"IF(Table1[[#This Row],[Disposition]]=\"\",\"\",IF(AND(Table1[[#This Row],[Next Calibration]]<$E$1,Table1[[#This Row],[Disposition]]=\"Lost\"),\"Find and Calibrate\",IF(Table1[[#This Row],[Disposition]]=\"Lost\",\"Find\",IF(OR(Table1[[#This Row],[Next Calibration]]<$E$1,Table1[[#This Row],[Next Calibration]]=\"NEVER CALIBRATED\"),\"Calibrate\",\"Nominal\"))))","v":""},{"$f":"IF(((Table1[[#This Row],[Next Calibration]]-TODAY())/30)>2,\"More Than 2\",IF(((Table1[[#This Row],[Next Calibration]]-TODAY())/30)>1,\"Between 2 and 1\",\"Less than 1\"))","v":{"$error":"#VALUE!"}},{"$f":"IF(Table1[[#This Row],[Issued]]=\"\",\"\",IF(Table1[[#This Row],[Lent]]=\"\",0,1))","v":""},{"$f":"IF(Table1[[#This Row],[Lent]]=\"\",\"\",IF(Table1[[#This Row],[Returned]]=\"\",0,1))","v":""}]
[{"$nulls":11},{"$f":"IF(IF(Table1[[#This Row],[Disposition]]=\"Retired\",\"N/A\",IF(Table1[[#This Row],[Disposition]]=0,\"\",K16+$F$2))=0+$F$2,\"NEVER CALIBRATED\",IF(Table1[[#This Row],[Disposition]]=\"Retired\",\"N/A\",IF(Table1[[#This Row],[Disposition]]=0,\"\",K16+$F$2)))","v":""},{"$f":"IF(Table1[[#This Row],[Disposition]]=\"\",\"\",IF(AND(Table1[[#This Row],[Next Calibration]]<$E$1,Table1[[#This Row],[Disposition]]=\"Lost\"),\"Find and Calibrate\",IF(Table1[[#This Row],[Disposition]]=\"Lost\",\"Find\",IF(OR(Table1[[#This Row],[Next Calibration]]<$E$1,Table1[[#This Row],[Next Calibration]]=\"NEVER CALIBRATED\"),\"Calibrate\",\"Nominal\"))))","v":""},{"$f":"IF(((Table1[[#This Row],[Next Calibration]]-TODAY())/30)>2,\"More Than 2\",IF(((Table1[[#This Row],[Next Calibration]]-TODAY())/30)>1,\"Between 2 and 1\",\"Less than 1\"))","v":{"$error":"#VALUE!"}},{"$f":"IF(Table1[[#This Row],[Issued]]=\"\",\"\",IF(Table1[[#This Row],[Lent]]=\"\",0,1))","v":""},{"$f":"IF(Table1[[#This Row],[Lent]]=\"\",\"\",IF(Table1[[#This Row],[Returned]]=\"\",0,1))","v":""}]
[{"$nulls":11},{"$f":"IF(IF(Table1[[#This Row],[Disposition]]=\"Retired\",\"N/A\",IF(Table1[[#This Row],[Disposition]]=0,\"\",K17+$F$2))=0+$F$2,\"NEVER CALIBRATED\",IF(Table1[[#This Row],[Disposition]]=\"Retired\",\"N/A\",IF(Table1[[#This Row],[Disposition]]=0,\"\",K17+$F$2)))","v":""},{"$f":"IF(Table1[[#This Row],[Disposition]]=\"\",\"\",IF(AND(Table1[[#This Row],[Next Calibration]]<$E$1,Table1[[#This Row],[Disposition]]=\"Lost\"),\"Find and Calibrate\",IF(Table1[[#This Row],[Disposition]]=\"Lost\",\"Find\",IF(OR(Table1[[#This Row],[Next Calibration]]<$E$1,Table1[[#This Row],[Next Calibration]]=\"NEVER CALIBRATED\"),\"Calibrate\",\"Nominal\"))))","v":""},{"$f":"IF(((Table1[[#This Row],[Next Calibration]]-TODAY())/30)>2,\"More Than 2\",IF(((Table1[[#This Row],[Next Calibration]]-TODAY())/30)>1,\"Between 2 and 1\",\"Less than 1\"))","v":{"$error":"#VALUE!"}},{"$f":"IF(Table1[[#This Row],[Issued]]=\"\",\"\",IF(Table1[[#This Row],[Lent]]=\"\",0,1))","v":""},{"$f":"IF(Table1[[#This Row],[Lent]]=\"\",\"\",IF(Table1[[#This Row],[Returned]]=\"\",0,1))","v":""}]
[{"$nulls":11},{"$f":"IF(IF(Table1[[#This Row],[Disposition]]=\"Retired\",\"N/A\",IF(Table1[[#This Row],[Disposition]]=0,\"\",K18+$F$2))=0+$F$2,\"NEVER CALIBRATED\",IF(Table1[[#This Row],[Disposition]]=\"Retired\",\"N/A\",IF(Table1[[#This Row],[Disposition]]=0,\"\",K18+$F$2)))","v":""},{"$f":"IF(Table1[[#This Row],[Disposition]]=\"\",\"\",IF(AND(Table1[[#This Row],[Next Calibration]]<$E$1,Table1[[#This Row],[Disposition]]=\"Lost\"),\"Find and Calibrate\",IF(Table1[[#This Row],[Disposition]]=\"Lost\",\"Find\",IF(OR(Table1[[#This Row],[Next Calibration]]<$E$1,Table1[[#This Row],[Next Calibration]]=\"NEVER CALIBRATED\"),\"Calibrate\",\"Nominal\"))))","v":""},{"$f":"IF(((Table1[[#This Row],[Next Calibration]]-TODAY())/30)>2,\"More Than 2\",IF(((Table1[[#This Row],[Next Calibration]]-TODAY())/30)>1,\"Between 2 and 1\",\"Less than 1\"))","v":{"$error":"#VALUE!"}},{"$f":"IF(Table1[[#This Row],[Issued]]=\"\",\"\",IF(Table1[[#This Row],[Lent]]=\"\",0,1))","v":""},{"$f":"IF(Table1[[#This Row],[Lent]]=\"\",\"\",IF(Table1[[#This Row],[Returned]]=\"\",0,1))","v":""}]
[{"$nulls":11},{"$f":"IF(IF(Table1[[#This Row],[Disposition]]=\"Retired\",\"N/A\",IF(Table1[[#This Row],[Disposition]]=0,\"\",K19+$F$2))=0+$F$2,\"NEVER CALIBRATED\",IF(Table1[[#This Row],[Disposition]]=\"Retired\",\"N/A\",IF(Table1[[#This Row],[Disposition]]=0,\"\",K19+$F$2)))","v":""},{"$f":"IF(Table1[[#This Row],[Disposition]]=\"\",\"\",IF(AND(Table1[[#This Row],[Next Calibration]]<$E$1,Table1[[#This Row],[Disposition]]=\"Lost\"),\"Find and Calibrate\",IF(Table1[[#This Row],[Disposition]]=\"Lost\",\"Find\",IF(OR(Table1[[#This Row],[Next Calibration]]<$E$1,Table1[[#This Row],[Next Calibration]]=\"NEVER CALIBRATED\"),\"Calibrate\",\"Nominal\"))))","v":""},{"$f":"IF(((Table1[[#This Row],[Next Calibration]]-TODAY())/30)>2,\"More Than 2\",IF(((Table1[[#This Row],[Next Calibration]]-TODAY())/30)>1,\"Between 2 and 1\",\"Less than 1\"))","v":{"$error":"#VALUE!"}},{"$f":"IF(Table1[[#This Row],[Issued]]=\"\",\"\",IF(Table1[[#This Row],[Lent]]=\"\",0,1))","v":""},{"$f":"IF(Table1[[#This Row],[Lent]]=\"\",\"\",IF(Table1[[#This Row],[Returned]]=\"\",0,1))","v":""}]
[{"$nulls":11},{"$f":"IF(IF(Table1[[#This Row],[Disposition]]=\"Retired\",\"N/A\",IF(Table1[[#This Row],[Disposition]]=0,\"\",K20+$F$2))=0+$F$2,\"NEVER CALIBRATED\",IF(Table1[[#This Row],[Disposition]]=\"Retired\",\"N/A\",IF(Table1[[#This Row],[Disposition]]=0,\"\",K20+$F$2)))","v":""},{"$f":"IF(Table1[[#This Row],[Disposition]]=\"\",\"\",IF(AND(Table1[[#This Row],[Next Calibration]]<$E$1,Table1[[#This Row],[Disposition]]=\"Lost\"),\"Find and Calibrate\",IF(Table1[[#This Row],[Disposition]]=\"Lost\",\"Find\",IF(OR(Table1[[#This Row],[Next Calibration]]<$E$1,Table1[[#This Row],[Next Calibration]]=\"NEVER CALIBRATED\"),\"Calibrate\",\"Nominal\"))))","v":""},{"$f":"IF(((Table1[[#This Row],[Next Calibration]]-TODAY())/30)>2,\"More Than 2\",IF(((Table1[[#This Row],[Next Calibration]]-TODAY())/30)>1,\"Between 2 and 1\",\"Less than 1\"))","v":{"$error":"#VALUE!"}},{"$f":"IF(Table1[[#This Row],[Issued]]=\"\",\"\",IF(Table1[[#This Row],[Lent]]=\"\",0,1))","v":""},{"$f":"IF(Table1[[#This Row],[Lent]]=\"\",\"\",IF(Table1[[#This Row],[Returned]]=\"\",0,1))","v":""}]
[{"$nulls":11},{"$f":"IF(IF(Table1[[#This Row],[Disposition]]=\"Retired\",\"N/A\",IF(Table1[[#This Row],[Disposition]]=0,\"\",K21+$F$2))=0+$F$2,\"NEVER CALIBRATED\",IF(Table1[[#This Row],[Disposition]]=\"Retired\",\"N/A\",IF(Table1[[#This Row],[Disposition]]=0,\"\",K21+$F$2)))","v":""},{"$f":"IF(Table1[[#This Row],[Disposition]]=\"\",\"\",IF(AND(Table1[[#This Row],[Next Calibration]]<$E$1,Table1[[#This Row],[Disposition]]=\"Lost\"),\"Find and Calibrate\",IF(Table1[[#This Row],[Disposition]]=\"Lost\",\"Find\",IF(OR(Table1[[#This Row],[Next Calibration]]<$E$1,Table1[[#This Row],[Next Calibration]]=\"NEVER CALIBRATED\"),\"Calibrate\",\"Nominal\"))))","v":""},{"$f":"IF(((Table1[[#This Row],[Next Calibration]]-TODAY())/30)>2,\"More Than 2\",IF(((Table1[[#This Row],[Next Calibration]]-TODAY())/30)>1,\"Between 2 and 1\",\"Less than 1\"))","v":{"$error":"#VALUE!"}},{"$f":"IF(Table1[[#This Row],[Issued]]=\"\",\"\",IF(Table1[[#This Row],[Lent]]=\"\",0,1))","v":""},{"$f":"IF(Table1[[#This Row],[Lent]]=\"\",\"\",IF(Table1[[#This Row],[Returned]]=\"\",0,1))","v":""}]
[{"$nulls":11},{"$f":"IF(IF(Table1[[#This Row],[Disposition]]=\"Retired\",\"N/A\",IF(Table1[[#This Row],[Disposition]]=0,\"\",K22+$F$2))=0+$F$2,\"NEVER CALIBRATED\",IF(Table1[[#This Row],[Disposition]]=\"Retired\",\"N/A\",IF(Table1[[#This Row],[Disposition]]=0,\"\",K22+$F$2)))","v":""},{"$f":"IF(Table1[[#This Row],[Disposition]]=\"\",\"\",IF(AND(Table1[[#This Row],[Next Calibration]]<$E$1,Table1[[#This Row],[Disposition]]=\"Lost\"),\"Find and Calibrate\",IF(Table1[[#This Row],[Disposition]]=\"Lost\",\"Find\",IF(OR(Table1[[#This Row],[Next Calibration]]<$E$1,Table1[[#This Row],[Next Calibration]]=\"NEVER CALIBRATED\"),\"Calibrate\",\"Nominal\"))))","v":""},{"$f":"IF(((Table1[[#This Row],[Next Calibration]]-TODAY())/30)>2,\"More Than 2\",IF(((Table1[[#This Row],[Next Calibration]]-TODAY())/30)>1,\"Between 2 and 1\",\"Less than 1\"))","v":{"$error":"#VALUE!"}},{"$f":"IF(Table1[[#This Row],[Issued]]=\"\",\"\",IF(Table1[[#This Row],[Lent]]=\"\",0,1))","v":""},{"$f":"IF(Table1[[#This Row],[Lent]]=\"\",\"\",IF(Table1[[#This Row],[Returned]]=\"\",0,1))","v":""}]
[{"$nulls":11},{"$f":"IF(IF(Table1[[#This Row],[Disposition]]=\"Retired\",\"N/A\",IF(Table1[[#This Row],[Disposition]]=0,\"\",K23+$F$2))=0+$F$2,\"NEVER CALIBRATED\",IF(Table1[[#This Row],[Disposition]]=\"Retired\",\"N/A\",IF(Table1[[#This Row],[Disposition]]=0,\"\",K23+$F$2)))","v":""},{"$f":"IF(Table1[[#This Row],[Disposition]]=\"\",\"\",IF(AND(Table1[[#This Row],[Next Calibration]]<$E$1,Table1[[#This Row],[Disposition]]=\"Lost\"),\"Find and Calibrate\",IF(Table1[[#This Row],[Disposition]]=\"Lost\",\"Find\",IF(OR(Table1[[#This Row],[Next Calibration]]<$E$1,Table1[[#This Row],[Next Calibration]]=\"NEVER CALIBRATED\"),\"Calibrate\",\"Nominal\"))))","v":""},{"$f":"IF(((Table1[[#This Row],[Next Calibration]]-TODAY())/30)>2,\"More Than 2\",IF(((Table1[[#This Row],[Next Calibration]]-TODAY())/30)>1,\"Between 2 and 1\",\"Less than 1\"))","v":{"$error":"#VALUE!"}},{"$f":"IF(Table1[[#This Row],[Issued]]=\"\",\"\",IF(Table1[[#This Row],[Lent]]=\"\",0,1))","v":""},{"$f":"IF(Table1[[#This Row],[Lent]]=\"\",\"\",IF(Table1[[#This Row],[Returned]]=\"\",0,1))","v":""}]
[{"$nulls":11},{"$f":"IF(IF(Table1[[#This Row],[Disposition]]=\"Retired\",\"N/A\",IF(Table1[[#This Row],[Disposition]]=0,\"\",K24+$F$2))=0+$F$2,\"NEVER CALIBRATED\",IF(Table1[[#This Row],[Disposition]]=\"Retired\",\"N/A\",IF(Table1[[#This Row],[Disposition]]=0,\"\",K24+$F$2)))","v":""},{"$f":"IF(Table1[[#This Row],[Disposition]]=\"\",\"\",IF(AND(Table1[[#This Row],[Next Calibration]]<$E$1,Table1[[#This Row],[Disposition]]=\"Lost\"),\"Find and Calibrate\",IF(Table1[[#This Row],[Disposition]]=\"Lost\",\"Find\",IF(OR(Table1[[#This Row],[Next Calibration]]<$E$1,Table1[[#This Row],[Next Calibration]]=\"NEVER CALIBRATED\"),\"Calibrate\",\"Nominal\"))))","v":""},{"$f":"IF(((Table1[[#This Row],[Next Calibration]]-TODAY())/30)>2,\"More Than 2\",IF(((Table1[[#This Row],[Next Calibration]]-TODAY())/30)>1,\"Between 2 and 1\",\"Less than 1\"))","v":{"$error":"#VALUE!"}},{"$f":"IF(Table1[[#This Row],[Issued]]=\"\",\"\",IF(Table1[[#This Row],[Lent]]=\"\",0,1))","v":""},{"$f":"IF(Table1[[#This Row],[Lent]]=\"\",\"\",IF(Table1[[#This Row],[Returned]]=\"\",0,1))","v":""}]
[{"$nulls":11},{"$f":"IF(IF(Table1[[#This Row],[Disposition]]=\"Retired\",\"N/A\",IF(Table1[[#This Row],[Disposition]]=0,\"\",K25+$F$2))=0+$F$2,\"NEVER CALIBRATED\",IF(Table1[[#This Row],[Disposition]]=\"Retired\",\"N/A\",IF(Table1[[#This Row],[Disposition]]=0,\"\",K25+$F$2)))","v":""},{"$f":"IF(Table1[[#This Row],[Disposition]]=\"\",\"\",IF(AND(Table1[[#This Row],[Next Calibration]]<$E$1,Table1[[#This Row],[Disposition]]=\"Lost\"),\"Find and Calibrate\",IF(Table1[[#This Row],[Disposition]]=\"Lost\",\"Find\",IF(OR(Table1[[#This Row],[Next Calibration]]<$E$1,Table1[[#This Row],[Next Calibration]]=\"NEVER CALIBRATED\"),\"Calibrate\",\"Nominal\"))))","v":""},{"$f":"IF(((Table1[[#This Row],[Next Calibration]]-TODAY())/30)>2,\"More Than 2\",IF(((Table1[[#This Row],[Next Calibration]]-TODAY())/30)>1,\"Between 2 and 1\",\"Less than 1\"))","v":{"$error":"#VALUE!"}},{"$f":"IF(Table1[[#This Row],[Issued]]=\"\",\"\",IF(Table1[[#This Row],[Lent]]=\"\",0,1))","v":""},{"$f":"IF(Table1[[#This Row],[Lent]]=\"\",\"\",IF(Table1[[#This Row],[Returned]]=\"\",0,1))","v":""}]
[{"$nulls":11},{"$f":"IF(IF(Table1[[#This Row],[Disposition]]=\"Retired\",\"N/A\",IF(Table1[[#This Row],[Disposition]]=0,\"\",K26+$F$2))=0+$F$2,\"NEVER CALIBRATED\",IF(Table1[[#This Row],[Disposition]]=\"Retired\",\"N/A\",IF(Table1[[#This Row],[Disposition]]=0,\"\",K26+$F$2)))","v":""},{"$f":"IF(Table1[[#This Row],[Disposition]]=\"\",\"\",IF(AND(Table1[[#This Row],[Next Calibration]]<$E$1,Table1[[#This Row],[Disposition]]=\"Lost\"),\"Find and Calibrate\",IF(Table1[[#This Row],[Disposition]]=\"Lost\",\"Find\",IF(OR(Table1[[#This Row],[Next Calibration]]<$E$1,Table1[[#This Row],[Next Calibration]]=\"NEVER CALIBRATED\"),\"Calibrate\",\"Nominal\"))))","v":""},{"$f":"IF(((Table1[[#This Row],[Next Calibration]]-TODAY())/30)>2,\"More Than 2\",IF(((Table1[[#This Row],[Next Calibration]]-TODAY())/30)>1,\"Between 2 and 1\",\"Less than 1\"))","v":{"$error":"#VALUE!"}},{"$f":"IF(Table1[[#This Row],[Issued]]=\"\",\"\",IF(Table1[[#This Row],[Lent]]=\"\",0,1))","v":""},{"$f":"IF(Table1[[#This Row],[Lent]]=\"\",\"\",IF(Table1[[#This Row],[Returned]]=\"\",0,1))","v":""}]
[{"$nulls":11},{"$f":"IF(IF(Table1[[#This Row],[Disposition]]=\"Retired\",\"N/A\",IF(Table1[[#This Row],[Disposition]]=0,\"\",K27+$F$2))=0+$F$2,\"NEVER CALIBRATED\",IF(Table1[[#This Row],[Disposition]]=\"Retired\",\"N/A\",IF(Table1[[#This Row],[Disposition]]=0,\"\",K27+$F$2)))","v":""},{"$f":"IF(Table1[[#This Row],[Disposition]]=\"\",\"\",IF(AND(Table1[[#This Row],[Next Calibration]]<$E$1,Table1[[#This Row],[Disposition]]=\"Lost\"),\"Find and Calibrate\",IF(Table1[[#This Row],[Disposition]]=\"Lost\",\"Find\",IF(OR(Table1[[#This Row],[Next Calibration]]<$E$1,Table1[[#This Row],[Next Calibration]]=\"NEVER CALIBRATED\"),\"Calibrate\",\"Nominal\"))))","v":""},{"$f":"IF(((Table1[[#This Row],[Next Calibration]]-TODAY())/30)>2,\"More Than 2\",IF(((Table1[[#This Row],[Next Calibration]]-TODAY())/30)>1,\"Between 2 and 1\",\"Less than 1\"))","v":{"$error":"#VALUE!"}},{"$f":"IF(Table1[[#This Row],[Issued]]=\"\",\"\",IF(Table1[[#This Row],[Lent]]=\"\",0,1))","v":""},{"$f":"IF(Table1[[#This Row],[Lent]]=\"\",\"\",IF(Table1[[#This Row],[Returned]]=\"\",0,1))","v":""}]
[{"$nulls":11},{"$f":"IF(IF(Table1[[#This Row],[Disposition]]=\"Retired\",\"N/A\",IF(Table1[[#This Row],[Disposition]]=0,\"\",K28+$F$2))=0+$F$2,\"NEVER CALIBRATED\",IF(Table1[[#This Row],[Disposition]]=\"Retired\",\"N/A\",IF(Table1[[#This Row],[Disposition]]=0,\"\",K28+$F$2)))","v":""},{"$f":"IF(Table1[[#This Row],[Disposition]]=\"\",\"\",IF(AND(Table1[[#This Row],[Next Calibration]]<$E$1,Table1[[#This Row],[Disposition]]=\"Lost\"),\"Find and Calibrate\",IF(Table1[[#This Row],[Disposition]]=\"Lost\",\"Find\",IF(OR(Table1[[#This Row],[Next Calibration]]<$E$1,Table1[[#This Row],[Next Calibration]]=\"NEVER CALIBRATED\"),\"Calibrate\",\"Nominal\"))))","v":""},{"$f":"IF(((Table1[[#This Row],[Next Calibration]]-TODAY())/30)>2,\"More Than 2\",IF(((Table1[[#This Row],[Next Calibration]]-TODAY())/30)>1,\"Between 2 and 1\",\"Less than 1\"))","v":{"$error":"#VALUE!"}},{"$f":"IF(Table1[[#This Row],[Issued]]=\"\",\"\",IF(Table1[[#This Row],[Lent]]=\"\",0,1))","v":""},{"$f":"IF(Table1[[#This Row],[Lent]]=\"\",\"\",IF(Table1[[#This Row],[Returned]]=\"\",0,1))","v":""}]
[{"$nulls":11},{"$f":"IF(IF(Table1[[#This Row],[Disposition]]=\"Retired\",\"N/A\",IF(Table1[[#This Row],[Disposition]]=0,\"\",K29+$F$2))=0+$F$2,\"NEVER CALIBRATED\",IF(Table1[[#This Row],[Disposition]]=\"Retired\",\"N/A\",IF(Table1[[#This Row],[Disposition]]=0,\"\",K29+$F$2)))","v":""},{"$f":"IF(Table1[[#This Row],[Disposition]]=\"\",\"\",IF(AND(Table1[[#This Row],[Next Calibration]]<$E$1,Table1[[#This Row],[Disposition]]=\"Lost\"),\"Find and Calibrate\",IF(Table1[[#This Row],[Disposition]]=\"Lost\",\"Find\",IF(OR(Table1[[#This Row],[Next Calibration]]<$E$1,Table1[[#This Row],[Next Calibration]]=\"NEVER CALIBRATED\"),\"Calibrate\",\"Nominal\"))))","v":""},{"$f":"IF(((Table1[[#This Row],[Next Calibration]]-TODAY())/30)>2,\"More Than 2\",IF(((Table1[[#This Row],[Next Calibration]]-TODAY())/30)>1,\"Between 2 and 1\",\"Less than 1\"))","v":{"$error":"#VALUE!"}},{"$f":"IF(Table1[[#This Row],[Issued]]=\"\",\"\",IF(Table1[[#This Row],[Lent]]=\"\",0,1))","v":""},{"$f":"IF(Table1[[#This Row],[Lent]]=\"\",\"\",IF(Table1[[#This Row],[Returned]]=\"\",0,1))","v":""}]
[{"$nulls":11},{"$f":"IF(IF(Table1[[#This Row],[Disposition]]=\"Retired\",\"N/A\",IF(Table1[[#This Row],[Disposition]]=0,\"\",K30+$F$2))=0+$F$2,\"NEVER CALIBRATED\",IF(Table1[[#This Row],[Disposition]]=\"Retired\",\"N/A\",IF(Table1[[#This Row],[Disposition]]=0,\"\",K30+$F$2)))","v":""},{"$f":"IF(Table1[[#This Row],[Disposition]]=\"\",\"\",IF(AND(Table1[[#This Row],[Next Calibration]]<$E$1,Table1[[#This Row],[Disposition]]=\"Lost\"),\"Find and Calibrate\",IF(Table1[[#This Row],[Disposition]]=\"Lost\",\"Find\",IF(OR(Table1[[#This Row],[Next Calibration]]<$E$1,Table1[[#This Row],[Next Calibration]]=\"NEVER CALIBRATED\"),\"Calibrate\",\"Nominal\"))))","v":""},{"$f":"IF(((Table1[[#This Row],[Next Calibration]]-TODAY())/30)>2,\"More Than 2\",IF(((Table1[[#This Row],[Next Calibration]]-TODAY())/30)>1,\"Between 2 and 1\",\"Less than 1\"))","v":{"$error":"#VALUE!"}},{"$f":"IF(Table1[[#This Row],[Issued]]=\"\",\"\",IF(Table1[[#This Row],[Lent]]=\"\",0,1))","v":""},{"$f":"IF(Table1[[#This Row],[Lent]]=\"\",\"\",IF(Table1[[#This Row],[Returned]]=\"\",0,1))","v":""}]
[{"$nulls":11},{"$f":"IF(IF(Table1[[#This Row],[Disposition]]=\"Retired\",\"N/A\",IF(Table1[[#This Row],[Disposition]]=0,\"\",K31+$F$2))=0+$F$2,\"NEVER CALIBRATED\",IF(Table1[[#This Row],[Disposition]]=\"Retired\",\"N/A\",IF(Table1[[#This Row],[Disposition]]=0,\"\",K31+$F$2)))","v":""},{"$f":"IF(Table1[[#This Row],[Disposition]]=\"\",\"\",IF(AND(Table1[[#This Row],[Next Calibration]]<$E$1,Table1[[#This Row],[Disposition]]=\"Lost\"),\"Find and Calibrate\",IF(Table1[[#This Row],[Disposition]]=\"Lost\",\"Find\",IF(OR(Table1[[#This Row],[Next Calibration]]<$E$1,Table1[[#This Row],[Next Calibration]]=\"NEVER CALIBRATED\"),\"Calibrate\",\"Nominal\"))))","v":""},{"$f":"IF(((Table1[[#This Row],[Next Calibration]]-TODAY())/30)>2,\"More Than 2\",IF(((Table1[[#This Row],[Next Calibration]]-TODAY())/30)>1,\"Between 2 and 1\",\"Less than 1\"))","v":{"$error":"#VALUE!"}},{"$f":"IF(Table1[[#This Row],[Issued]]=\"\",\"\",IF(Table1[[#This Row],[Lent]]=\"\",0,1))","v":""},{"$f":"IF(Table1[[#This Row],[Lent]]=\"\",\"\",IF(Table1[[#This Row],[Returned]]=\"\",0,1))","v":""}]
[{"$nulls":11},{"$f":"IF(IF(Table1[[#This Row],[Disposition]]=\"Retired\",\"N/A\",IF(Table1[[#This Row],[Disposition]]=0,\"\",K32+$F$2))=0+$F$2,\"NEVER CALIBRATED\",IF(Table1[[#This Row],[Disposition]]=\"Retired\",\"N/A\",IF(Table1[[#This Row],[Disposition]]=0,\"\",K32+$F$2)))","v":""},{"$f":"IF(Table1[[#This Row],[Disposition]]=\"\",\"\",IF(AND(Table1[[#This Row],[Next Calibration]]<$E$1,Table1[[#This Row],[Disposition]]=\"Lost\"),\"Find and Calibrate\",IF(Table1[[#This Row],[Disposition]]=\"Lost\",\"Find\",IF(OR(Table1[[#This Row],[Next Calibration]]<$E$1,Table1[[#This Row],[Next Calibration]]=\"NEVER CALIBRATED\"),\"Calibrate\",\"Nominal\"))))","v":""},{"$f":"IF(((Table1[[#This Row],[Next Calibration]]-TODAY())/30)>2,\"More Than 2\",IF(((Table1[[#This Row],[Next Calibration]]-TODAY())/30)>1,\"Between 2 and 1\",\"Less than 1\"))","v":{"$error":"#VALUE!"}},{"$f":"IF(Table1[[#This Row],[Issued]]=\"\",\"\",IF(Table1[[#This Row],[Lent]]=\"\",0,1))","v":""},{"$f":"IF(Table1[[#This Row],[Lent]]=\"\",\"\",IF(Table1[[#This Row],[Returned]]=\"\",0,1))","v":""}]
[{"$nulls":11},{"$f":"IF(IF(Table1[[#This Row],[Disposition]]=\"Retired\",\"N/A\",IF(Table1[[#This Row],[Disposition]]=0,\"\",K33+$F$2))=0+$F$2,\"NEVER CALIBRATED\",IF(Table1[[#This Row],[Disposition]]=\"Retired\",\"N/A\",IF(Table1[[#This Row],[Disposition]]=0,\"\",K33+$F$2)))","v":""},{"$f":"IF(Table1[[#This Row],[Disposition]]=\"\",\"\",IF(AND(Table1[[#This Row],[Next Calibration]]<$E$1,Table1[[#This Row],[Disposition]]=\"Lost\"),\"Find and Calibrate\",IF(Table1[[#This Row],[Disposition]]=\"Lost\",\"Find\",IF(OR(Table1[[#This Row],[Next Calibration]]<$E$1,Table1[[#This Row],[Next Calibration]]=\"NEVER CALIBRATED\"),\"Calibrate\",\"Nominal\"))))","v":""},{"$f":"IF(((Table1[[#This Row],[Next Calibration]]-TODAY())/30)>2,\"More Than 2\",IF(((Table1[[#This Row],[Next Calibration]]-TODAY())/30)>1,\"Between 2 and 1\",\"Less than 1\"))","v":{"$error":"#VALUE!"}},{"$f":"IF(Table1[[#This Row],[Issued]]=\"\",\"\",IF(Table1[[#This Row],[Lent]]=\"\",0,1))","v":""},{"$f":"IF(Table1[[#This Row],[Lent]]=\"\",\"\",IF(Table1[[#This Row],[Returned]]=\"\",0,1))","v":""}]
[{"$nulls":11},{"$f":"IF(IF(Table1[[#This Row],[Disposition]]=\"Retired\",\"N/A\",IF(Table1[[#This Row],[Disposition]]=0,\"\",K34+$F$2))=0+$F$2,\"NEVER CALIBRATED\",IF(Table1[[#This Row],[Disposition]]=\"Retired\",\"N/A\",IF(Table1[[#This Row],[Disposition]]=0,\"\",K34+$F$2)))","v":""},{"$f":"IF(Table1[[#This Row],[Disposition]]=\"\",\"\",IF(AND(Table1[[#This Row],[Next Calibration]]<$E$1,Table1[[#This Row],[Disposition]]=\"Lost\"),\"Find and Calibrate\",IF(Table1[[#This Row],[Disposition]]=\"Lost\",\"Find\",IF(OR(Table1[[#This Row],[Next Calibration]]<$E$1,Table1[[#This Row],[Next Calibration]]=\"NEVER CALIBRATED\"),\"Calibrate\",\"Nominal\"))))","v":""},{"$f":"IF(((Table1[[#This Row],[Next Calibration]]-TODAY())/30)>2,\"More Than 2\",IF(((Table1[[#This Row],[Next Calibration]]-TODAY())/30)>1,\"Between 2 and 1\",\"Less than 1\"))","v":{"$error":"#VALUE!"}},{"$f":"IF(Table1[[#This Row],[Issued]]=\"\",\"\",IF(Table1[[#This Row],[Lent]]=\"\",0,1))","v":""},{"$f":"IF(Table1[[#This Row],[Lent]]=\"\",\"\",IF(Table1[[#This Row],[Returned]]=\"\",0,1))","v":""}]
[{"$nulls":11},{"$f":"IF(IF(Table1[[#This Row],[Disposition]]=\"Retired\",\"N/A\",IF(Table1[[#This Row],[Disposition]]=0,\"\",K35+$F$2))=0+$F$2,\"NEVER CALIBRATED\",IF(Table1[[#This Row],[Disposition]]=\"Retired\",\"N/A\",IF(Table1[[#This Row],[Disposition]]=0,\"\",K35+$F$2)))","v":""},{"$f":"IF(Table1[[#This Row],[Disposition]]=\"\",\"\",IF(AND(Table1[[#This Row],[Next Calibration]]<$E$1,Table1[[#This Row],[Disposition]]=\"Lost\"),\"Find and Calibrate\",IF(Table1[[#This Row],[Disposition]]=\"Lost\",\"Find\",IF(OR(Table1[[#This Row],[Next Calibration]]<$E$1,Table1[[#This Row],[Next Calibration]]=\"NEVER CALIBRATED\"),\"Calibrate\",\"Nominal\"))))","v":""},{"$f":"IF(((Table1[[#This Row],[Next Calibration]]-TODAY())/30)>2,\"More Than 2\",IF(((Table1[[#This Row],[Next Calibration]]-TODAY())/30)>1,\"Between 2 and 1\",\"Less than 1\"))","v":{"$error":"#VALUE!"}},{"$f":"IF(Table1[[#This Row],[Issued]]=\"\",\"\",IF(Table1[[#This Row],[Lent]]=\"\",0,1))","v":""},{"$f":"IF(Table1[[#This Row],[Lent]]=\"\",\"\",IF(Table1[[#This Row],[Returned]]=\"\",0,1))","v":""}]
[{"$nulls":11},{"$f":"IF(IF(Table1[[#This Row],[Disposition]]=\"Retired\",\"N/A\",IF(Table1[[#This Row],[Disposition]]=0,\"\",K36+$F$2))=0+$F$2,\"NEVER CALIBRATED\",IF(Table1[[#This Row],[Disposition]]=\"Retired\",\"N/A\",IF(Table1[[#This Row],[Disposition]]=0,\"\",K36+$F$2)))","v":""},{"$f":"IF(Table1[[#This Row],[Disposition]]=\"\",\"\",IF(AND(Table1[[#This Row],[Next Calibration]]<$E$1,Table1[[#This Row],[Disposition]]=\"Lost\"),\"Find and Calibrate\",IF(Table1[[#This Row],[Disposition]]=\"Lost\",\"Find\",IF(OR(Table1[[#This Row],[Next Calibration]]<$E$1,Table1[[#This Row],[Next Calibration]]=\"NEVER CALIBRATED\"),\"Calibrate\",\"Nominal\"))))","v":""},{"$f":"IF(((Table1[[#This Row],[Next Calibration]]-TODAY())/30)>2,\"More Than 2\",IF(((Table1[[#This Row],[Next Calibration]]-TODAY())/30)>1,\"Between 2 and 1\",\"Less than 1\"))","v":{"$error":"#VALUE!"}},{"$f":"IF(Table1[[#This Row],[Issued]]=\"\",\"\",IF(Table1[[#This Row],[Lent]]=\"\",0,1))","v":""},{"$f":"IF(Table1[[#This Row],[Lent]]=\"\",\"\",IF(Table1[[#This Row],[Returned]]=\"\",0,1))","v":""}]
[{"$nulls":11},{"$f":"IF(IF(Table1[[#This Row],[Disposition]]=\"Retired\",\"N/A\",IF(Table1[[#This Row],[Disposition]]=0,\"\",K37+$F$2))=0+$F$2,\"NEVER CALIBRATED\",IF(Table1[[#This Row],[Disposition]]=\"Retired\",\"N/A\",IF(Table1[[#This Row],[Disposition]]=0,\"\",K37+$F$2)))","v":""},{"$f":"IF(Table1[[#This Row],[Disposition]]=\"\",\"\",IF(AND(Table1[[#This Row],[Next Calibration]]<$E$1,Table1[[#This Row],[Disposition]]=\"Lost\"),\"Find and Calibrate\",IF(Table1[[#This Row],[Disposition]]=\"Lost\",\"Find\",IF(OR(Table1[[#This Row],[Next Calibration]]<$E$1,Table1[[#This Row],[Next Calibration]]=\"NEVER CALIBRATED\"),\"Calibrate\",\"Nominal\"))))","v":""},{"$f":"IF(((Table1[[#This Row],[Next Calibration]]-TODAY())/30)>2,\"More Than 2\",IF(((Table1[[#This Row],[Next Calibration]]-TODAY())/30)>1,\"Between 2 and 1\",\"Less than 1\"))","v":{"$error":"#VALUE!"}},{"$f":"IF(Table1[[#This Row],[Issued]]=\"\",\"\",IF(Table1[[#This Row],[Lent]]=\"\",0,1))","v":""},{"$f":"IF(Table1[[#This Row],[Lent]]=\"\",\"\",IF(Table1[[#This Row],[Returned]]=\"\",0,1))","v":""}]
[{"$nulls":11},{"$f":"IF(IF(Table1[[#This Row],[Disposition]]=\"Retired\",\"N/A\",IF(Table1[[#This Row],[Disposition]]=0,\"\",K38+$F$2))=0+$F$2,\"NEVER CALIBRATED\",IF(Table1[[#This Row],[Disposition]]=\"Retired\",\"N/A\",IF(Table1[[#This Row],[Disposition]]=0,\"\",K38+$F$2)))","v":""},{"$f":"IF(Table1[[#This Row],[Disposition]]=\"\",\"\",IF(AND(Table1[[#This Row],[Next Calibration]]<$E$1,Table1[[#This Row],[Disposition]]=\"Lost\"),\"Find and Calibrate\",IF(Table1[[#This Row],[Disposition]]=\"Lost\",\"Find\",IF(OR(Table1[[#This Row],[Next Calibration]]<$E$1,Table1[[#This Row],[Next Calibration]]=\"NEVER CALIBRATED\"),\"Calibrate\",\"Nominal\"))))","v":""},{"$f":"IF(((Table1[[#This Row],[Next Calibration]]-TODAY())/30)>2,\"More Than 2\",IF(((Table1[[#This Row],[Next Calibration]]-TODAY())/30)>1,\"Between 2 and 1\",\"Less than 1\"))","v":{"$error":"#VALUE!"}},{"$f":"IF(Table1[[#This Row],[Issued]]=\"\",\"\",IF(Table1[[#This Row],[Lent]]=\"\",0,1))","v":""},{"$f":"IF(Table1[[#This Row],[Lent]]=\"\",\"\",IF(Table1[[#This Row],[Returned]]=\"\",0,1))","v":""}]
[{"$nulls":11},{"$f":"IF(IF(Table1[[#This Row],[Disposition]]=\"Retired\",\"N/A\",IF(Table1[[#This Row],[Disposition]]=0,\"\",K39+$F$2))=0+$F$2,\"NEVER CALIBRATED\",IF(Table1[[#This Row],[Disposition]]=\"Retired\",\"N/A\",IF(Table1[[#This Row],[Disposition]]=0,\"\",K39+$F$2)))","v":""},{"$f":"IF(Table1[[#This Row],[Disposition]]=\"\",\"\",IF(AND(Table1[[#This Row],[Next Calibration]]<$E$1,Table1[[#This Row],[Disposition]]=\"Lost\"),\"Find and Calibrate\",IF(Table1[[#This Row],[Disposition]]=\"Lost\",\"Find\",IF(OR(Table1[[#This Row],[Next Calibration]]<$E$1,Table1[[#This Row],[Next Calibration]]=\"NEVER CALIBRATED\"),\"Calibrate\",\"Nominal\"))))","v":""},{"$f":"IF(((Table1[[#This Row],[Next Calibration]]-TODAY())/30)>2,\"More Than 2\",IF(((Table1[[#This Row],[Next Calibration]]-TODAY())/30)>1,\"Between 2 and 1\",\"Less than 1\"))","v":{"$error":"#VALUE!"}},{"$f":"IF(Table1[[#This Row],[Issued]]=\"\",\"\",IF(Table1[[#This Row],[Lent]]=\"\",0,1))","v":""},{"$f":"IF(Table1[[#This Row],[Lent]]=\"\",\"\",IF(Table1[[#This Row],[Returned]]=\"\",0,1))","v":""}]
[{"$nulls":11},{"$f":"IF(IF(Table1[[#This Row],[Disposition]]=\"Retired\",\"N/A\",IF(Table1[[#This Row],[Disposition]]=0,\"\",K40+$F$2))=0+$F$2,\"NEVER CALIBRATED\",IF(Table1[[#This Row],[Disposition]]=\"Retired\",\"N/A\",IF(Table1[[#This Row],[Disposition]]=0,\"\",K40+$F$2)))","v":""},{"$f":"IF(Table1[[#This Row],[Disposition]]=\"\",\"\",IF(AND(Table1[[#This Row],[Next Calibration]]<$E$1,Table1[[#This Row],[Disposition]]=\"Lost\"),\"Find and Calibrate\",IF(Table1[[#This Row],[Disposition]]=\"Lost\",\"Find\",IF(OR(Table1[[#This Row],[Next Calibration]]<$E$1,Table1[[#This Row],[Next Calibration]]=\"NEVER CALIBRATED\"),\"Calibrate\",\"Nominal\"))))","v":""},{"$f":"IF(((Table1[[#This Row],[Next Calibration]]-TODAY())/30)>2,\"More Than 2\",IF(((Table1[[#This Row],[Next Calibration]]-TODAY())/30)>1,\"Between 2 and 1\",\"Less than 1\"))","v":{"$error":"#VALUE!"}},{"$f":"IF(Table1[[#This Row],[Issued]]=\"\",\"\",IF(Table1[[#This Row],[Lent]]=\"\",0,1))","v":""},{"$f":"IF(Table1[[#This Row],[Lent]]=\"\",\"\",IF(Table1[[#This Row],[Returned]]=\"\",0,1))","v":""}]
[{"$nulls":11},{"$f":"IF(IF(Table1[[#This Row],[Disposition]]=\"Retired\",\"N/A\",IF(Table1[[#This Row],[Disposition]]=0,\"\",K41+$F$2))=0+$F$2,\"NEVER CALIBRATED\",IF(Table1[[#This Row],[Disposition]]=\"Retired\",\"N/A\",IF(Table1[[#This Row],[Disposition]]=0,\"\",K41+$F$2)))","v":""},{"$f":"IF(Table1[[#This Row],[Disposition]]=\"\",\"\",IF(AND(Table1[[#This Row],[Next Calibration]]<$E$1,Table1[[#This Row],[Disposition]]=\"Lost\"),\"Find and Calibrate\",IF(Table1[[#This Row],[Disposition]]=\"Lost\",\"Find\",IF(OR(Table1[[#This Row],[Next Calibration]]<$E$1,Table1[[#This Row],[Next Calibration]]=\"NEVER CALIBRATED\"),\"Calibrate\",\"Nominal\"))))","v":""},{"$f":"IF(((Table1[[#This Row],[Next Calibration]]-TODAY())/30)>2,\"More Than 2\",IF(((Table1[[#This Row],[Next Calibration]]-TODAY())/30)>1,\"Between 2 and 1\",\"Less than 1\"))","v":{"$error":"#VALUE!"}},{"$f":"IF(Table1[[#This Row],[Issued]]=\"\",\"\",IF(Table1[[#This Row],[Lent]]=\"\",0,1))","v":""},{"$f":"IF(Table1[[#This Row],[Lent]]=\"\",\"\",IF(Table1[[#This Row],[Returned]]=\"\",0,1))","v":""}]
[{"$nulls":11},{"$f":"IF(IF(Table1[[#This Row],[Disposition]]=\"Retired\",\"N/A\",IF(Table1[[#This Row],[Disposition]]=0,\"\",K42+$F$2))=0+$F$2,\"NEVER CALIBRATED\",IF(Table1[[#This Row],[Disposition]]=\"Retired\",\"N/A\",IF(Table1[[#This Row],[Disposition]]=0,\"\",K42+$F$2)))","v":""},{"$f":"IF(Table1[[#This Row],[Disposition]]=\"\",\"\",IF(AND(Table1[[#This Row],[Next Calibration]]<$E$1,Table1[[#This Row],[Disposition]]=\"Lost\"),\"Find and Calibrate\",IF(Table1[[#This Row],[Disposition]]=\"Lost\",\"Find\",IF(OR(Table1[[#This Row],[Next Calibration]]<$E$1,Table1[[#This Row],[Next Calibration]]=\"NEVER CALIBRATED\"),\"Calibrate\",\"Nominal\"))))","v":""},{"$f":"IF(((Table1[[#This Row],[Next Calibration]]-TODAY())/30)>2,\"More Than 2\",IF(((Table1[[#This Row],[Next Calibration]]-TODAY())/30)>1,\"Between 2 and 1\",\"Less than 1\"))","v":{"$error":"#VALUE!"}},{"$f":"IF(Table1[[#This Row],[Issued]]=\"\",\"\",IF(Table1[[#This Row],[Lent]]=\"\",0,1))","v":""},{"$f":"IF(Table1[[#This Row],[Lent]]=\"\",\"\",IF(Table1[[#This Row],[Returned]]=\"\",0,1))","v":""}]
[{"$nulls":11},{"$f":"IF(IF(Table1[[#This Row],[Disposition]]=\"Retired\",\"N/A\",IF(Table1[[#This Row],[Disposition]]=0,\"\",K43+$F$2))=0+$F$2,\"NEVER CALIBRATED\",IF(Table1[[#This Row],[Disposition]]=\"Retired\",\"N/A\",IF(Table1[[#This Row],[Disposition]]=0,\"\",K43+$F$2)))","v":""},{"$f":"IF(Table1[[#This Row],[Disposition]]=\"\",\"\",IF(AND(Table1[[#This Row],[Next Calibration]]<$E$1,Table1[[#This Row],[Disposition]]=\"Lost\"),\"Find and Calibrate\",IF(Table1[[#This Row],[Disposition]]=\"Lost\",\"Find\",IF(OR(Table1[[#This Row],[Next Calibration]]<$E$1,Table1[[#This Row],[Next Calibration]]=\"NEVER CALIBRATED\"),\"Calibrate\",\"Nominal\"))))","v":""},{"$f":"IF(((Table1[[#This Row],[Next Calibration]]-TODAY())/30)>2,\"More Than 2\",IF(((Table1[[#This Row],[Next Calibration]]-TODAY())/30)>1,\"Between 2 and 1\",\"Less than 1\"))","v":{"$error":"#VALUE!"}},{"$f":"IF(Table1[[#This Row],[Issued]]=\"\",\"\",IF(Table1[[#This Row],[Lent]]=\"\",0,1))","v":""},{"$f":"IF(Table1[[#This Row],[Lent]]=\"\",\"\",IF(Table1[[#This Row],[Returned]]=\"\",0,1))","v":""}]
[{"$nulls":11},{"$f":"IF(IF(Table1[[#This Row],[Disposition]]=\"Retired\",\"N/A\",IF(Table1[[#This Row],[Disposition]]=0,\"\",K44+$F$2))=0+$F$2,\"NEVER CALIBRATED\",IF(Table1[[#This Row],[Disposition]]=\"Retired\",\"N/A\",IF(Table1[[#This Row],[Disposition]]=0,\"\",K44+$F$2)))","v":""},{"$f":"IF(Table1[[#This Row],[Disposition]]=\"\",\"\",IF(AND(Table1[[#This Row],[Next Calibration]]<$E$1,Table1[[#This Row],[Disposition]]=\"Lost\"),\"Find and Calibrate\",IF(Table1[[#This Row],[Disposition]]=\"Lost\",\"Find\",IF(OR(Table1[[#This Row],[Next Calibration]]<$E$1,Table1[[#This Row],[Next Calibration]]=\"NEVER CALIBRATED\"),\"Calibrate\",\"Nominal\"))))","v":""},{"$f":"IF(((Table1[[#This Row],[Next Calibration]]-TODAY())/30)>2,\"More Than 2\",IF(((Table1[[#This Row],[Next Calibration]]-TODAY())/30)>1,\"Between 2 and 1\",\"Less than 1\"))","v":{"$error":"#VALUE!"}},{"$f":"IF(Table1[[#This Row],[Issued]]=\"\",\"\",IF(Table1[[#This Row],[Lent]]=\"\",0,1))","v":""},{"$f":"IF(Table1[[#This Row],[Lent]]=\"\",\"\",IF(Table1[[#This Row],[Returned]]=\"\",0,1))","v":""}]
[{"$nulls":11},{"$f":"IF(IF(Table1[[#This Row],[Disposition]]=\"Retired\",\"N/A\",IF(Table1[[#This Row],[Disposition]]=0,\"\",K45+$F$2))=0+$F$2,\"NEVER CALIBRATED\",IF(Table1[[#This Row],[Disposition]]=\"Retired\",\"N/A\",IF(Table1[[#This Row],[Disposition]]=0,\"\",K45+$F$2)))","v":""},{"$f":"IF(Table1[[#This Row],[Disposition]]=\"\",\"\",IF(AND(Table1[[#This Row],[Next Calibration]]<$E$1,Table1[[#This Row],[Disposition]]=\"Lost\"),\"Find and Calibrate\",IF(Table1[[#This Row],[Disposition]]=\"Lost\",\"Find\",IF(OR(Table1[[#This Row],[Next Calibration]]<$E$1,Table1[[#This Row],[Next Calibration]]=\"NEVER CALIBRATED\"),\"Calibrate\",\"Nominal\"))))","v":""},{"$f":"IF(((Table1[[#This Row],[Next Calibration]]-TODAY())/30)>2,\"More Than 2\",IF(((Table1[[#This Row],[Next Calibration]]-TODAY())/30)>1,\"Between 2 and 1\",\"Less than 1\"))","v":{"$error":"#VALUE!"}},{"$f":"IF(Table1[[#This Row],[Issued]]=\"\",\"\",IF(Table1[[#This Row],[Lent]]=\"\",0,1))","v":""},{"$f":"IF(Table1[[#This Row],[Lent]]=\"\",\"\",IF(Table1[[#This Row],[Returned]]=\"\",0,1))","v":""}]
[{"$nulls":11},{"$f":"IF(IF(Table1[[#This Row],[Disposition]]=\"Retired\",\"N/A\",IF(Table1[[#This Row],[Disposition]]=0,\"\",K46+$F$2))=0+$F$2,\"NEVER CALIBRATED\",IF(Table1[[#This Row],[Disposition]]=\"Retired\",\"N/A\",IF(Table1[[#This Row],[Disposition]]=0,\"\",K46+$F$2)))","v":""},{"$f":"IF(Table1[[#This Row],[Disposition]]=\"\",\"\",IF(AND(Table1[[#This Row],[Next Calibration]]<$E$1,Table1[[#This Row],[Disposition]]=\"Lost\"),\"Find and Calibrate\",IF(Table1[[#This Row],[Disposition]]=\"Lost\",\"Find\",IF(OR(Table1[[#This Row],[Next Calibration]]<$E$1,Table1[[#This Row],[Next Calibration]]=\"NEVER CALIBRATED\"),\"Calibrate\",\"Nominal\"))))","v":""},{"$f":"IF(((Table1[[#This Row],[Next Calibration]]-TODAY())/30)>2,\"More Than 2\",IF(((Table1[[#This Row],[Next Calibration]]-TODAY())/30)>1,\"Between 2 and 1\",\"Less than 1\"))","v":{"$error":"#VALUE!"}},{"$f":"IF(Table1[[#This Row],[Issued]]=\"\",\"\",IF(Table1[[#This Row],[Lent]]=\"\",0,1))","v":""},{"$f":"IF(Table1[[#This Row],[Lent]]=\"\",\"\",IF(Table1[[#This Row],[Returned]]=\"\",0,1))","v":""}]
[{"$nulls":11},{"$f":"IF(IF(Table1[[#This Row],[Disposition]]=\"Retired\",\"N/A\",IF(Table1[[#This Row],[Disposition]]=0,\"\",K47+$F$2))=0+$F$2,\"NEVER CALIBRATED\",IF(Table1[[#This Row],[Disposition]]=\"Retired\",\"N/A\",IF(Table1[[#This Row],[Disposition]]=0,\"\",K47+$F$2)))","v":""},{"$f":"IF(Table1[[#This Row],[Disposition]]=\"\",\"\",IF(AND(Table1[[#This Row],[Next Calibration]]<$E$1,Table1[[#This Row],[Disposition]]=\"Lost\"),\"Find and Calibrate\",IF(Table1[[#This Row],[Disposition]]=\"Lost\",\"Find\",IF(OR(Table1[[#This Row],[Next Calibration]]<$E$1,Table1[[#This Row],[Next Calibration]]=\"NEVER CALIBRATED\"),\"Calibrate\",\"Nominal\"))))","v":""},{"$f":"IF(((Table1[[#This Row],[Next Calibration]]-TODAY())/30)>2,\"More Than 2\",IF(((Table1[[#This Row],[Next Calibration]]-TODAY())/30)>1,\"Between 2 and 1\",\"Less than 1\"))","v":{"$error":"#VALUE!"}},{"$f":"IF(Table1[[#This Row],[Issued]]=\"\",\"\",IF(Table1[[#This Row],[Lent]]=\"\",0,1))","v":""},{"$f":"IF(Table1[[#This Row],[Lent]]=\"\",\"\",IF(Table1[[#This Row],[Returned]]=\"\",0,1))","v":""}]
[{"$nulls":11},{"$f":"IF(IF(Table1[[#This Row],[Disposition]]=\"Retired\",\"N/A\",IF(Table1[[#This Row],[Disposition]]=0,\"\",K48+$F$2))=0+$F$2,\"NEVER CALIBRATED\",IF(Table1[[#This Row],[Disposition]]=\"Retired\",\"N/A\",IF(Table1[[#This Row],[Disposition]]=0,\"\",K48+$F$2)))","v":""},{"$f":"IF(Table1[[#This Row],[Disposition]]=\"\",\"\",IF(AND(Table1[[#This Row],[Next Calibration]]<$E$1,Table1[[#This Row],[Disposition]]=\"Lost\"),\"Find and Calibrate\",IF(Table1[[#This Row],[Disposition]]=\"Lost\",\"Find\",IF(OR(Table1[[#This Row],[Next Calibration]]<$E$1,Table1[[#This Row],[Next Calibration]]=\"NEVER CALIBRATED\"),\"Calibrate\",\"Nominal\"))))","v":""},{"$f":"IF(((Table1[[#This Row],[Next Calibration]]-TODAY())/30)>2,\"More Than 2\",IF(((Table1[[#This Row],[Next Calibration]]-TODAY())/30)>1,\"Between 2 and 1\",\"Less than 1\"))","v":{"$error":"#VALUE!"}},{"$f":"IF(Table1[[#This Row],[Issued]]=\"\",\"\",IF(Table1[[#This Row],[Lent]]=\"\",0,1))","v":""},{"$f":"IF(Table1[[#This Row],[Lent]]=\"\",\"\",IF(Table1[[#This Row],[Returned]]=\"\",0,1))","v":""}]
[{"$nulls":11},{"$f":"IF(IF(Table1[[#This Row],[Disposition]]=\"Retired\",\"N/A\",IF(Table1[[#This Row],[Disposition]]=0,\"\",K49+$F$2))=0+$F$2,\"NEVER CALIBRATED\",IF(Table1[[#This Row],[Disposition]]=\"Retired\",\"N/A\",IF(Table1[[#This Row],[Disposition]]=0,\"\",K49+$F$2)))","v":""},{"$f":"IF(Table1[[#This Row],[Disposition]]=\"\",\"\",IF(AND(Table1[[#This Row],[Next Calibration]]<$E$1,Table1[[#This Row],[Disposition]]=\"Lost\"),\"Find and Calibrate\",IF(Table1[[#This Row],[Disposition]]=\"Lost\",\"Find\",IF(OR(Table1[[#This Row],[Next Calibration]]<$E$1,Table1[[#This Row],[Next Calibration]]=\"NEVER CALIBRATED\"),\"Calibrate\",\"Nominal\"))))","v":""},{"$f":"IF(((Table1[[#This Row],[Next Calibration]]-TODAY())/30)>2,\"More Than 2\",IF(((Table1[[#This Row],[Next Calibration]]-TODAY())/30)>1,\"Between 2 and 1\",\"Less than 1\"))","v":{"$error":"#VALUE!"}},{"$f":"IF(Table1[[#This Row],[Issued]]=\"\",\"\",IF(Table1[[#This Row],[Lent]]=\"\",0,1))","v":""},{"$f":"IF(Table1[[#This Row],[Lent]]=\"\",\"\",IF(Table1[[#This Row],[Returned]]=\"\",0,1))","v":""}]
[{"$nulls":11},{"$f":"IF(IF(Table1[[#This Row],[Disposition]]=\"Retired\",\"N/A\",IF(Table1[[#This Row],[Disposition]]=0,\"\",K50+$F$2))=0+$F$2,\"NEVER CALIBRATED\",IF(Table1[[#This Row],[Disposition]]=\"Retired\",\"N/A\",IF(Table1[[#This Row],[Disposition]]=0,\"\",K50+$F$2)))","v":""},{"$f":"IF(Table1[[#This Row],[Disposition]]=\"\",\"\",IF(AND(Table1[[#This Row],[Next Calibration]]<$E$1,Table1[[#This Row],[Disposition]]=\"Lost\"),\"Find and Calibrate\",IF(Table1[[#This Row],[Disposition]]=\"Lost\",\"Find\",IF(OR(Table1[[#This Row],[Next Calibration]]<$E$1,Table1[[#This Row],[Next Calibration]]=\"NEVER CALIBRATED\"),\"Calibrate\",\"Nominal\"))))","v":""},{"$f":"IF(((Table1[[#This Row],[Next Calibration]]-TODAY())/30)>2,\"More Than 2\",IF(((Table1[[#This Row],[Next Calibration]]-TODAY())/30)>1,\"Between 2 and 1\",\"Less than 1\"))","v":{"$error":"#VALUE!"}},{"$f":"IF(Table1[[#This Row],[Issued]]=\"\",\"\",IF(Table1[[#This Row],[Lent]]=\"\",0,1))","v":""},{"$f":"IF(Table1[[#This Row],[Lent]]=\"\",\"\",IF(Table1[[#This Row],[Returned]]=\"\",0,1))","v":""}]
[{"$nulls":11},{"$f":"IF(IF(Table1[[#This Row],[Disposition]]=\"Retired\",\"N/A\",IF(Table1[[#This Row],[Disposition]]=0,\"\",K51+$F$2))=0+$F$2,\"NEVER CALIBRATED\",IF(Table1[[#This Row],[Disposition]]=\"Retired\",\"N/A\",IF(Table1[[#This Row],[Disposition]]=0,\"\",K51+$F$2)))","v":""},{"$f":"IF(Table1[[#This Row],[Disposition]]=\"\",\"\",IF(AND(Table1[[#This Row],[Next Calibration]]<$E$1,Table1[[#This Row],[Disposition]]=\"Lost\"),\"Find and Calibrate\",IF(Table1[[#This Row],[Disposition]]=\"Lost\",\"Find\",IF(OR(Table1[[#This Row],[Next Calibration]]<$E$1,Table1[[#This Row],[Next Calibration]]=\"NEVER CALIBRATED\"),\"Calibrate\",\"Nominal\"))))","v":""},{"$f":"IF(((Table1[[#This Row],[Next Calibration]]-TODAY())/30)>2,\"More Than 2\",IF(((Table1[[#This Row],[Next Calibration]]-TODAY())/30)>1,\"Between 2 and 1\",\"Less than 1\"))","v":{"$error":"#VALUE!"}},{"$f":"IF(Table1[[#This Row],[Issued]]=\"\",\"\",IF(Table1[[#This Row],[Lent]]=\"\",0,1))","v":""},{"$f":"IF(Table1[[#This Row],[Lent]]=\"\",\"\",IF(Table1[[#This Row],[Returned]]=\"\",0,1))","v":""}]
[{"$nulls":11},{"$f":"IF(IF(Table1[[#This Row],[Disposition]]=\"Retired\",\"N/A\",IF(Table1[[#This Row],[Disposition]]=0,\"\",K52+$F$2))=0+$F$2,\"NEVER CALIBRATED\",IF(Table1[[#This Row],[Disposition]]=\"Retired\",\"N/A\",IF(Table1[[#This Row],[Disposition]]=0,\"\",K52+$F$2)))","v":""},{"$f":"IF(Table1[[#This Row],[Disposition]]=\"\",\"\",IF(AND(Table1[[#This Row],[Next Calibration]]<$E$1,Table1[[#This Row],[Disposition]]=\"Lost\"),\"Find and Calibrate\",IF(Table1[[#This Row],[Disposition]]=\"Lost\",\"Find\",IF(OR(Table1[[#This Row],[Next Calibration]]<$E$1,Table1[[#This Row],[Next Calibration]]=\"NEVER CALIBRATED\"),\"Calibrate\",\"Nominal\"))))","v":""},{"$f":"IF(((Table1[[#This Row],[Next Calibration]]-TODAY())/30)>2,\"More Than 2\",IF(((Table1[[#This Row],[Next Calibration]]-TODAY())/30)>1,\"Between 2 and 1\",\"Less than 1\"))","v":{"$error":"#VALUE!"}},{"$f":"IF(Table1[[#This Row],[Issued]]=\"\",\"\",IF(Table1[[#This Row],[Lent]]=\"\",0,1))","v":""},{"$f":"IF(Table1[[#This Row],[Lent]]=\"\",\"\",IF(Table1[[#This Row],[Returned]]=\"\",0,1))","v":""}]
[{"$nulls":11},{"$f":"IF(IF(Table1[[#This Row],[Disposition]]=\"Retired\",\"N/A\",IF(Table1[[#This Row],[Disposition]]=0,\"\",K53+$F$2))=0+$F$2,\"NEVER CALIBRATED\",IF(Table1[[#This Row],[Disposition]]=\"Retired\",\"N/A\",IF(Table1[[#This Row],[Disposition]]=0,\"\",K53+$F$2)))","v":""},{"$f":"IF(Table1[[#This Row],[Disposition]]=\"\",\"\",IF(AND(Table1[[#This Row],[Next Calibration]]<$E$1,Table1[[#This Row],[Disposition]]=\"Lost\"),\"Find and Calibrate\",IF(Table1[[#This Row],[Disposition]]=\"Lost\",\"Find\",IF(OR(Table1[[#This Row],[Next Calibration]]<$E$1,Table1[[#This Row],[Next Calibration]]=\"NEVER CALIBRATED\"),\"Calibrate\",\"Nominal\"))))","v":""},{"$f":"IF(((Table1[[#This Row],[Next Calibration]]-TODAY())/30)>2,\"More Than 2\",IF(((Table1[[#This Row],[Next Calibration]]-TODAY())/30)>1,\"Between 2 and 1\",\"Less than 1\"))","v":{"$error":"#VALUE!"}},{"$f":"IF(Table1[[#This Row],[Issued]]=\"\",\"\",IF(Table1[[#This Row],[Lent]]=\"\",0,1))","v":""},{"$f":"IF(Table1[[#This Row],[Lent]]=\"\",\"\",IF(Table1[[#This Row],[Returned]]=\"\",0,1))","v":""}]
[{"$nulls":11},{"$f":"IF(IF(Table1[[#This Row],[Disposition]]=\"Retired\",\"N/A\",IF(Table1[[#This Row],[Disposition]]=0,\"\",K54+$F$2))=0+$F$2,\"NEVER CALIBRATED\",IF(Table1[[#This Row],[Disposition]]=\"Retired\",\"N/A\",IF(Table1[[#This Row],[Disposition]]=0,\"\",K54+$F$2)))","v":""},{"$f":"IF(Table1[[#This Row],[Disposition]]=\"\",\"\",IF(AND(Table1[[#This Row],[Next Calibration]]<$E$1,Table1[[#This Row],[Disposition]]=\"Lost\"),\"Find and Calibrate\",IF(Table1[[#This Row],[Disposition]]=\"Lost\",\"Find\",IF(OR(Table1[[#This Row],[Next Calibration]]<$E$1,Table1[[#This Row],[Next Calibration]]=\"NEVER CALIBRATED\"),\"Calibrate\",\"Nominal\"))))","v":""},{"$f":"IF(((Table1[[#This Row],[Next Calibration]]-TODAY())/30)>2,\"More Than 2\",IF(((Table1[[#This Row],[Next Calibration]]-TODAY())/30)>1,\"Between 2 and 1\",\"Less than 1\"))","v":{"$error":"#VALUE!"}},{"$f":"IF(Table1[[#This Row],[Issued]]=\"\",\"\",IF(Table1[[#This Row],[Lent]]=\"\",0,1))","v":""},{"$f":"IF(Table1[[#This Row],[Lent]]=\"\",\"\",IF(Table1[[#This Row],[Returned]]=\"\",0,1))","v":""}]
[{"$nulls":11},{"$f":"IF(IF(Table1[[#This Row],[Disposition]]=\"Retired\",\"N/A\",IF(Table1[[#This Row],[Disposition]]=0,\"\",K55+$F$2))=0+$F$2,\"NEVER CALIBRATED\",IF(Table1[[#This Row],[Disposition]]=\"Retired\",\"N/A\",IF(Table1[[#This Row],[Disposition]]=0,\"\",K55+$F$2)))","v":""},{"$f":"IF(Table1[[#This Row],[Disposition]]=\"\",\"\",IF(AND(Table1[[#This Row],[Next Calibration]]<$E$1,Table1[[#This Row],[Disposition]]=\"Lost\"),\"Find and Calibrate\",IF(Table1[[#This Row],[Disposition]]=\"Lost\",\"Find\",IF(OR(Table1[[#This Row],[Next Calibration]]<$E$1,Table1[[#This Row],[Next Calibration]]=\"NEVER CALIBRATED\"),\"Calibrate\",\"Nominal\"))))","v":""},{"$f":"IF(((Table1[[#This Row],[Next Calibration]]-TODAY())/30)>2,\"More Than 2\",IF(((Table1[[#This Row],[Next Calibration]]-TODAY())/30)>1,\"Between 2 and 1\",\"Less than 1\"))","v":{"$error":"#VALUE!"}},{"$f":"IF(Table1[[#This Row],[Issued]]=\"\",\"\",IF(Table1[[#This Row],[Lent]]=\"\",0,1))","v":""},{"$f":"IF(Table1[[#This Row],[Lent]]=\"\",\"\",IF(Table1[[#This Row],[Returned]]=\"\",0,1))","v":""}]
[{"$nulls":11},{"$f":"IF(IF(Table1[[#This Row],[Disposition]]=\"Retired\",\"N/A\",IF(Table1[[#This Row],[Disposition]]=0,\"\",K56+$F$2))=0+$F$2,\"NEVER CALIBRATED\",IF(Table1[[#This Row],[Disposition]]=\"Retired\",\"N/A\",IF(Table1[[#This Row],[Disposition]]=0,\"\",K56+$F$2)))","v":""},{"$f":"IF(Table1[[#This Row],[Disposition]]=\"\",\"\",IF(AND(Table1[[#This Row],[Next Calibration]]<$E$1,Table1[[#This Row],[Disposition]]=\"Lost\"),\"Find and Calibrate\",IF(Table1[[#This Row],[Disposition]]=\"Lost\",\"Find\",IF(OR(Table1[[#This Row],[Next Calibration]]<$E$1,Table1[[#This Row],[Next Calibration]]=\"NEVER CALIBRATED\"),\"Calibrate\",\"Nominal\"))))","v":""},{"$f":"IF(((Table1[[#This Row],[Next Calibration]]-TODAY())/30)>2,\"More Than 2\",IF(((Table1[[#This Row],[Next Calibration]]-TODAY())/30)>1,\"Between 2 and 1\",\"Less than 1\"))","v":{"$error":"#VALUE!"}},{"$f":"IF(Table1[[#This Row],[Issued]]=\"\",\"\",IF(Table1[[#This Row],[Lent]]=\"\",0,1))","v":""},{"$f":"IF(Table1[[#This Row],[Lent]]=\"\",\"\",IF(Table1[[#This Row],[Returned]]=\"\",0,1))","v":""}]
[{"$nulls":11},{"$f":"IF(IF(Table1[[#This Row],[Disposition]]=\"Retired\",\"N/A\",IF(Table1[[#This Row],[Disposition]]=0,\"\",K57+$F$2))=0+$F$2,\"NEVER CALIBRATED\",IF(Table1[[#This Row],[Disposition]]=\"Retired\",\"N/A\",IF(Table1[[#This Row],[Disposition]]=0,\"\",K57+$F$2)))","v":""},{"$f":"IF(Table1[[#This Row],[Disposition]]=\"\",\"\",IF(AND(Table1[[#This Row],[Next Calibration]]<$E$1,Table1[[#This Row],[Disposition]]=\"Lost\"),\"Find and Calibrate\",IF(Table1[[#This Row],[Disposition]]=\"Lost\",\"Find\",IF(OR(Table1[[#This Row],[Next Calibration]]<$E$1,Table1[[#This Row],[Next Calibration]]=\"NEVER CALIBRATED\"),\"Calibrate\",\"Nominal\"))))","v":""},{"$f":"IF(((Table1[[#This Row],[Next Calibration]]-TODAY())/30)>2,\"More Than 2\",IF(((Table1[[#This Row],[Next Calibration]]-TODAY())/30)>1,\"Between 2 and 1\",\"Less than 1\"))","v":{"$error":"#VALUE!"}},{"$f":"IF(Table1[[#This Row],[Issued]]=\"\",\"\",IF(Table1[[#This Row],[Lent]]=\"\",0,1))","v":""},{"$f":"IF(Table1[[#This Row],[Lent]]=\"\",\"\",IF(Table1[[#This Row],[Returned]]=\"\",0,1))","v":""}]
[{"$nulls":11},{"$f":"IF(IF(Table1[[#This Row],[Disposition]]=\"Retired\",\"N/A\",IF(Table1[[#This Row],[Disposition]]=0,\"\",K58+$F$2))=0+$F$2,\"NEVER CALIBRATED\",IF(Table1[[#This Row],[Disposition]]=\"Retired\",\"N/A\",IF(Table1[[#This Row],[Disposition]]=0,\"\",K58+$F$2)))","v":""},{"$f":"IF(Table1[[#This Row],[Disposition]]=\"\",\"\",IF(AND(Table1[[#This Row],[Next Calibration]]<$E$1,Table1[[#This Row],[Disposition]]=\"Lost\"),\"Find and Calibrate\",IF(Table1[[#This Row],[Disposition]]=\"Lost\",\"Find\",IF(OR(Table1[[#This Row],[Next Calibration]]<$E$1,Table1[[#This Row],[Next Calibration]]=\"NEVER CALIBRATED\"),\"Calibrate\",\"Nominal\"))))","v":""},{"$f":"IF(((Table1[[#This Row],[Next Calibration]]-TODAY())/30)>2,\"More Than 2\",IF(((Table1[[#This Row],[Next Calibration]]-TODAY())/30)>1,\"Between 2 and 1\",\"Less than 1\"))","v":{"$error":"#VALUE!"}},{"$f":"IF(Table1[[#This Row],[Issued]]=\"\",\"\",IF(Table1[[#This Row],[Lent]]=\"\",0,1))","v":""},{"$f":"IF(Table1[[#This Row],[Lent]]=\"\",\"\",IF(Table1[[#This Row],[Returned]]=\"\",0,1))","v":""}]
[{"$nulls":11},{"$f":"IF(IF(Table1[[#This Row],[Disposition]]=\"Retired\",\"N/A\",IF(Table1[[#This Row],[Disposition]]=0,\"\",K59+$F$2))=0+$F$2,\"NEVER CALIBRATED\",IF(Table1[[#This Row],[Disposition]]=\"Retired\",\"N/A\",IF(Table1[[#This Row],[Disposition]]=0,\"\",K59+$F$2)))","v":""},{"$f":"IF(Table1[[#This Row],[Disposition]]=\"\",\"\",IF(AND(Table1[[#This Row],[Next Calibration]]<$E$1,Table1[[#This Row],[Disposition]]=\"Lost\"),\"Find and Calibrate\",IF(Table1[[#This Row],[Disposition]]=\"Lost\",\"Find\",IF(OR(Table1[[#This Row],[Next Calibration]]<$E$1,Table1[[#This Row],[Next Calibration]]=\"NEVER CALIBRATED\"),\"Calibrate\",\"Nominal\"))))","v":""},{"$f":"IF(((Table1[[#This Row],[Next Calibration]]-TODAY())/30)>2,\"More Than 2\",IF(((Table1[[#This Row],[Next Calibration]]-TODAY())/30)>1,\"Between 2 and 1\",\"Less than 1\"))","v":{"$error":"#VALUE!"}},{"$f":"IF(Table1[[#This Row],[Issued]]=\"\",\"\",IF(Table1[[#This Row],[Lent]]=\"\",0,1))","v":""},{"$f":"IF(Table1[[#This Row],[Lent]]=\"\",\"\",IF(Table1[[#This Row],[Returned]]=\"\",0,1))","v":""}]
[{"$nulls":11},{"$f":"IF(IF(Table1[[#This Row],[Disposition]]=\"Retired\",\"N/A\",IF(Table1[[#This Row],[Disposition]]=0,\"\",K60+$F$2))=0+$F$2,\"NEVER CALIBRATED\",IF(Table1[[#This Row],[Disposition]]=\"Retired\",\"N/A\",IF(Table1[[#This Row],[Disposition]]=0,\"\",K60+$F$2)))","v":""},{"$f":"IF(Table1[[#This Row],[Disposition]]=\"\",\"\",IF(AND(Table1[[#This Row],[Next Calibration]]<$E$1,Table1[[#This Row],[Disposition]]=\"Lost\"),\"Find and Calibrate\",IF(Table1[[#This Row],[Disposition]]=\"Lost\",\"Find\",IF(OR(Table1[[#This Row],[Next Calibration]]<$E$1,Table1[[#This Row],[Next Calibration]]=\"NEVER CALIBRATED\"),\"Calibrate\",\"Nominal\"))))","v":""},{"$f":"IF(((Table1[[#This Row],[Next Calibration]]-TODAY())/30)>2,\"More Than 2\",IF(((Table1[[#This Row],[Next Calibration]]-TODAY())/30)>1,\"Between 2 and 1\",\"Less than 1\"))","v":{"$error":"#VALUE!"}},{"$f":"IF(Table1[[#This Row],[Issued]]=\"\",\"\",IF(Table1[[#This Row],[Lent]]=\"\",0,1))","v":""},{"$f":"IF(Table1[[#This Row],[Lent]]=\"\",\"\",IF(Table1[[#This Row],[Returned]]=\"\",0,1))","v":""}]
[{"$nulls":11},{"$f":"IF(IF(Table1[[#This Row],[Disposition]]=\"Retired\",\"N/A\",IF(Table1[[#This Row],[Disposition]]=0,\"\",K61+$F$2))=0+$F$2,\"NEVER CALIBRATED\",IF(Table1[[#This Row],[Disposition]]=\"Retired\",\"N/A\",IF(Table1[[#This Row],[Disposition]]=0,\"\",K61+$F$2)))","v":""},{"$f":"IF(Table1[[#This Row],[Disposition]]=\"\",\"\",IF(AND(Table1[[#This Row],[Next Calibration]]<$E$1,Table1[[#This Row],[Disposition]]=\"Lost\"),\"Find and Calibrate\",IF(Table1[[#This Row],[Disposition]]=\"Lost\",\"Find\",IF(OR(Table1[[#This Row],[Next Calibration]]<$E$1,Table1[[#This Row],[Next Calibration]]=\"NEVER CALIBRATED\"),\"Calibrate\",\"Nominal\"))))","v":""},{"$f":"IF(((Table1[[#This Row],[Next Calibration]]-TODAY())/30)>2,\"More Than 2\",IF(((Table1[[#This Row],[Next Calibration]]-TODAY())/30)>1,\"Between 2 and 1\",\"Less than 1\"))","v":{"$error":"#VALUE!"}},{"$f":"IF(Table1[[#This Row],[Issued]]=\"\",\"\",IF(Table1[[#This Row],[Lent]]=\"\",0,1))","v":""},{"$f":"IF(Table1[[#This Row],[Lent]]=\"\",\"\",IF(Table1[[#This Row],[Returned]]=\"\",0,1))","v":""}]
[{"$nulls":11},{"$f":"IF(IF(Table1[[#This Row],[Disposition]]=\"Retired\",\"N/A\",IF(Table1[[#This Row],[Disposition]]=0,\"\",K62+$F$2))=0+$F$2,\"NEVER CALIBRATED\",IF(Table1[[#This Row],[Disposition]]=\"Retired\",\"N/A\",IF(Table1[[#This Row],[Disposition]]=0,\"\",K62+$F$2)))","v":""},{"$f":"IF(Table1[[#This Row],[Disposition]]=\"\",\"\",IF(AND(Table1[[#This Row],[Next Calibration]]<$E$1,Table1[[#This Row],[Disposition]]=\"Lost\"),\"Find and Calibrate\",IF(Table1[[#This Row],[Disposition]]=\"Lost\",\"Find\",IF(OR(Table1[[#This Row],[Next Calibration]]<$E$1,Table1[[#This Row],[Next Calibration]]=\"NEVER CALIBRATED\"),\"Calibrate\",\"Nominal\"))))","v":""},{"$f":"IF(((Table1[[#This Row],[Next Calibration]]-TODAY())/30)>2,\"More Than 2\",IF(((Table1[[#This Row],[Next Calibration]]-TODAY())/30)>1,\"Between 2 and 1\",\"Less than 1\"))","v":{"$error":"#VALUE!"}},{"$f":"IF(Table1[[#This Row],[Issued]]=\"\",\"\",IF(Table1[[#This Row],[Lent]]=\"\",0,1))","v":""},{"$f":"IF(Table1[[#This Row],[Lent]]=\"\",\"\",IF(Table1[[#This Row],[Returned]]=\"\",0,1))","v":""}]
[{"$nulls":11},{"$f":"IF(IF(Table1[[#This Row],[Disposition]]=\"Retired\",\"N/A\",IF(Table1[[#This Row],[Disposition]]=0,\"\",K63+$F$2))=0+$F$2,\"NEVER CALIBRATED\",IF(Table1[[#This Row],[Disposition]]=\"Retired\",\"N/A\",IF(Table1[[#This Row],[Disposition]]=0,\"\",K63+$F$2)))","v":""},{"$f":"IF(Table1[[#This Row],[Disposition]]=\"\",\"\",IF(AND(Table1[[#This Row],[Next Calibration]]<$E$1,Table1[[#This Row],[Disposition]]=\"Lost\"),\"Find and Calibrate\",IF(Table1[[#This Row],[Disposition]]=\"Lost\",\"Find\",IF(OR(Table1[[#This Row],[Next Calibration]]<$E$1,Table1[[#This Row],[Next Calibration]]=\"NEVER CALIBRATED\"),\"Calibrate\",\"Nominal\"))))","v":""},{"$f":"IF(((Table1[[#This Row],[Next Calibration]]-TODAY())/30)>2,\"More Than 2\",IF(((Table1[[#This Row],[Next Calibration]]-TODAY())/30)>1,\"Between 2 and 1\",\"Less than 1\"))","v":{"$error":"#VALUE!"}},{"$f":"IF(Table1[[#This Row],[Issued]]=\"\",\"\",IF(Table1[[#This Row],[Lent]]=\"\",0,1))","v":""},{"$f":"IF(Table1[[#This Row],[Lent]]=\"\",\"\",IF(Table1[[#This Row],[Returned]]=\"\",0,1))","v":""}]
[{"$nulls":11},{"$f":"IF(IF(Table1[[#This Row],[Disposition]]=\"Retired\",\"N/A\",IF(Table1[[#This Row],[Disposition]]=0,\"\",K64+$F$2))=0+$F$2,\"NEVER CALIBRATED\",IF(Table1[[#This Row],[Disposition]]=\"Retired\",\"N/A\",IF(Table1[[#This Row],[Disposition]]=0,\"\",K64+$F$2)))","v":""},{"$f":"IF(Table1[[#This Row],[Disposition]]=\"\",\"\",IF(AND(Table1[[#This Row],[Next Calibration]]<$E$1,Table1[[#This Row],[Disposition]]=\"Lost\"),\"Find and Calibrate\",IF(Table1[[#This Row],[Disposition]]=\"Lost\",\"Find\",IF(OR(Table1[[#This Row],[Next Calibration]]<$E$1,Table1[[#This Row],[Next Calibration]]=\"NEVER CALIBRATED\"),\"Calibrate\",\"Nominal\"))))","v":""},{"$f":"IF(((Table1[[#This Row],[Next Calibration]]-TODAY())/30)>2,\"More Than 2\",IF(((Table1[[#This Row],[Next Calibration]]-TODAY())/30)>1,\"Between 2 and 1\",\"Less than 1\"))","v":{"$error":"#VALUE!"}},{"$f":"IF(Table1[[#This Row],[Issued]]=\"\",\"\",IF(Table1[[#This Row],[Lent]]=\"\",0,1))","v":""},{"$f":"IF(Table1[[#This Row],[Lent]]=\"\",\"\",IF(Table1[[#This Row],[Returned]]=\"\",0,1))","v":""}]
[{"$nulls":11},{"$f":"IF(IF(Table1[[#This Row],[Disposition]]=\"Retired\",\"N/A\",IF(Table1[[#This Row],[Disposition]]=0,\"\",K65+$F$2))=0+$F$2,\"NEVER CALIBRATED\",IF(Table1[[#This Row],[Disposition]]=\"Retired\",\"N/A\",IF(Table1[[#This Row],[Disposition]]=0,\"\",K65+$F$2)))","v":""},{"$f":"IF(Table1[[#This Row],[Disposition]]=\"\",\"\",IF(AND(Table1[[#This Row],[Next Calibration]]<$E$1,Table1[[#This Row],[Disposition]]=\"Lost\"),\"Find and Calibrate\",IF(Table1[[#This Row],[Disposition]]=\"Lost\",\"Find\",IF(OR(Table1[[#This Row],[Next Calibration]]<$E$1,Table1[[#This Row],[Next Calibration]]=\"NEVER CALIBRATED\"),\"Calibrate\",\"Nominal\"))))","v":""},{"$f":"IF(((Table1[[#This Row],[Next Calibration]]-TODAY())/30)>2,\"More Than 2\",IF(((Table1[[#This Row],[Next Calibration]]-TODAY())/30)>1,\"Between 2 and 1\",\"Less than 1\"))","v":{"$error":"#VALUE!"}},{"$f":"IF(Table1[[#This Row],[Issued]]=\"\",\"\",IF(Table1[[#This Row],[Lent]]=\"\",0,1))","v":""},{"$f":"IF(Table1[[#This Row],[Lent]]=\"\",\"\",IF(Table1[[#This Row],[Returned]]=\"\",0,1))","v":""}]
[{"$nulls":11},{"$f":"IF(IF(Table1[[#This Row],[Disposition]]=\"Retired\",\"N/A\",IF(Table1[[#This Row],[Disposition]]=0,\"\",K66+$F$2))=0+$F$2,\"NEVER CALIBRATED\",IF(Table1[[#This Row],[Disposition]]=\"Retired\",\"N/A\",IF(Table1[[#This Row],[Disposition]]=0,\"\",K66+$F$2)))","v":""},{"$f":"IF(Table1[[#This Row],[Disposition]]=\"\",\"\",IF(AND(Table1[[#This Row],[Next Calibration]]<$E$1,Table1[[#This Row],[Disposition]]=\"Lost\"),\"Find and Calibrate\",IF(Table1[[#This Row],[Disposition]]=\"Lost\",\"Find\",IF(OR(Table1[[#This Row],[Next Calibration]]<$E$1,Table1[[#This Row],[Next Calibration]]=\"NEVER CALIBRATED\"),\"Calibrate\",\"Nominal\"))))","v":""},{"$f":"IF(((Table1[[#This Row],[Next Calibration]]-TODAY())/30)>2,\"More Than 2\",IF(((Table1[[#This Row],[Next Calibration]]-TODAY())/30)>1,\"Between 2 and 1\",\"Less than 1\"))","v":{"$error":"#VALUE!"}},{"$f":"IF(Table1[[#This Row],[Issued]]=\"\",\"\",IF(Table1[[#This Row],[Lent]]=\"\",0,1))","v":""},{"$f":"IF(Table1[[#This Row],[Lent]]=\"\",\"\",IF(Table1[[#This Row],[Returned]]=\"\",0,1))","v":""}]
[{"$nulls":11},{"$f":"IF(IF(Table1[[#This Row],[Disposition]]=\"Retired\",\"N/A\",IF(Table1[[#This Row],[Disposition]]=0,\"\",K67+$F$2))=0+$F$2,\"NEVER CALIBRATED\",IF(Table1[[#This Row],[Disposition]]=\"Retired\",\"N/A\",IF(Table1[[#This Row],[Disposition]]=0,\"\",K67+$F$2)))","v":""},{"$f":"IF(Table1[[#This Row],[Disposition]]=\"\",\"\",IF(AND(Table1[[#This Row],[Next Calibration]]<$E$1,Table1[[#This Row],[Disposition]]=\"Lost\"),\"Find and Calibrate\",IF(Table1[[#This Row],[Disposition]]=\"Lost\",\"Find\",IF(OR(Table1[[#This Row],[Next Calibration]]<$E$1,Table1[[#This Row],[Next Calibration]]=\"NEVER CALIBRATED\"),\"Calibrate\",\"Nominal\"))))","v":""},{"$f":"IF(((Table1[[#This Row],[Next Calibration]]-TODAY())/30)>2,\"More Than 2\",IF(((Table1[[#This Row],[Next Calibration]]-TODAY())/30)>1,\"Between 2 and 1\",\"Less than 1\"))","v":{"$error":"#VALUE!"}},{"$f":"IF(Table1[[#This Row],[Issued]]=\"\",\"\",IF(Table1[[#This Row],[Lent]]=\"\",0,1))","v":""},{"$f":"IF(Table1[[#This Row],[Lent]]=\"\",\"\",IF(Table1[[#This Row],[Returned]]=\"\",0,1))","v":""}]
[{"$nulls":11},{"$f":"IF(IF(Table1[[#This Row],[Disposition]]=\"Retired\",\"N/A\",IF(Table1[[#This Row],[Disposition]]=0,\"\",K68+$F$2))=0+$F$2,\"NEVER CALIBRATED\",IF(Table1[[#This Row],[Disposition]]=\"Retired\",\"N/A\",IF(Table1[[#This Row],[Disposition]]=0,\"\",K68+$F$2)))","v":""},{"$f":"IF(Table1[[#This Row],[Disposition]]=\"\",\"\",IF(AND(Table1[[#This Row],[Next Calibration]]<$E$1,Table1[[#This Row],[Disposition]]=\"Lost\"),\"Find and Calibrate\",IF(Table1[[#This Row],[Disposition]]=\"Lost\",\"Find\",IF(OR(Table1[[#This Row],[Next Calibration]]<$E$1,Table1[[#This Row],[Next Calibration]]=\"NEVER CALIBRATED\"),\"Calibrate\",\"Nominal\"))))","v":""},{"$f":"IF(((Table1[[#This Row],[Next Calibration]]-TODAY())/30)>2,\"More Than 2\",IF(((Table1[[#This Row],[Next Calibration]]-TODAY())/30)>1,\"Between 2 and 1\",\"Less than 1\"))","v":{"$error":"#VALUE!"}},{"$f":"IF(Table1[[#This Row],[Issued]]=\"\",\"\",IF(Table1[[#This Row],[Lent]]=\"\",0,1))","v":""},{"$f":"IF(Table1[[#This Row],[Lent]]=\"\",\"\",IF(Table1[[#This Row],[Returned]]=\"\",0,1))","v":""}]
[{"$nulls":11},{"$f":"IF(IF(Table1[[#This Row],[Disposition]]=\"Retired\",\"N/A\",IF(Table1[[#This Row],[Disposition]]=0,\"\",K69+$F$2))=0+$F$2,\"NEVER CALIBRATED\",IF(Table1[[#This Row],[Disposition]]=\"Retired\",\"N/A\",IF(Table1[[#This Row],[Disposition]]=0,\"\",K69+$F$2)))","v":""},{"$f":"IF(Table1[[#This Row],[Disposition]]=\"\",\"\",IF(AND(Table1[[#This Row],[Next Calibration]]<$E$1,Table1[[#This Row],[Disposition]]=\"Lost\"),\"Find and Calibrate\",IF(Table1[[#This Row],[Disposition]]=\"Lost\",\"Find\",IF(OR(Table1[[#This Row],[Next Calibration]]<$E$1,Table1[[#This Row],[Next Calibration]]=\"NEVER CALIBRATED\"),\"Calibrate\",\"Nominal\"))))","v":""},{"$f":"IF(((Table1[[#This Row],[Next Calibration]]-TODAY())/30)>2,\"More Than 2\",IF(((Table1[[#This Row],[Next Calibration]]-TODAY())/30)>1,\"Between 2 and 1\",\"Less than 1\"))","v":{"$error":"#VALUE!"}},{"$f":"IF(Table1[[#This Row],[Issued]]=\"\",\"\",IF(Table1[[#This Row],[Lent]]=\"\",0,1))","v":""},{"$f":"IF(Table1[[#This Row],[Lent]]=\"\",\"\",IF(Table1[[#This Row],[Returned]]=\"\",0,1))","v":""}]
[{"$nulls":11},{"$f":"IF(IF(Table1[[#This Row],[Disposition]]=\"Retired\",\"N/A\",IF(Table1[[#This Row],[Disposition]]=0,\"\",K70+$F$2))=0+$F$2,\"NEVER CALIBRATED\",IF(Table1[[#This Row],[Disposition]]=\"Retired\",\"N/A\",IF(Table1[[#This Row],[Disposition]]=0,\"\",K70+$F$2)))","v":""},{"$f":"IF(Table1[[#This Row],[Disposition]]=\"\",\"\",IF(AND(Table1[[#This Row],[Next Calibration]]<$E$1,Table1[[#This Row],[Disposition]]=\"Lost\"),\"Find and Calibrate\",IF(Table1[[#This Row],[Disposition]]=\"Lost\",\"Find\",IF(OR(Table1[[#This Row],[Next Calibration]]<$E$1,Table1[[#This Row],[Next Calibration]]=\"NEVER CALIBRATED\"),\"Calibrate\",\"Nominal\"))))","v":""},{"$f":"IF(((Table1[[#This Row],[Next Calibration]]-TODAY())/30)>2,\"More Than 2\",IF(((Table1[[#This Row],[Next Calibration]]-TODAY())/30)>1,\"Between 2 and 1\",\"Less than 1\"))","v":{"$error":"#VALUE!"}},{"$f":"IF(Table1[[#This Row],[Issued]]=\"\",\"\",IF(Table1[[#This Row],[Lent]]=\"\",0,1))","v":""},{"$f":"IF(Table1[[#This Row],[Lent]]=\"\",\"\",IF(Table1[[#This Row],[Returned]]=\"\",0,1))","v":""}]
[{"$nulls":11},{"$f":"IF(IF(Table1[[#This Row],[Disposition]]=\"Retired\",\"N/A\",IF(Table1[[#This Row],[Disposition]]=0,\"\",K71+$F$2))=0+$F$2,\"NEVER CALIBRATED\",IF(Table1[[#This Row],[Disposition]]=\"Retired\",\"N/A\",IF(Table1[[#This Row],[Disposition]]=0,\"\",K71+$F$2)))","v":""},{"$f":"IF(Table1[[#This Row],[Disposition]]=\"\",\"\",IF(AND(Table1[[#This Row],[Next Calibration]]<$E$1,Table1[[#This Row],[Disposition]]=\"Lost\"),\"Find and Calibrate\",IF(Table1[[#This Row],[Disposition]]=\"Lost\",\"Find\",IF(OR(Table1[[#This Row],[Next Calibration]]<$E$1,Table1[[#This Row],[Next Calibration]]=\"NEVER CALIBRATED\"),\"Calibrate\",\"Nominal\"))))","v":""},{"$f":"IF(((Table1[[#This Row],[Next Calibration]]-TODAY())/30)>2,\"More Than 2\",IF(((Table1[[#This Row],[Next Calibration]]-TODAY())/30)>1,\"Between 2 and 1\",\"Less than 1\"))","v":{"$error":"#VALUE!"}},{"$f":"IF(Table1[[#This Row],[Issued]]=\"\",\"\",IF(Table1[[#This Row],[Lent]]=\"\",0,1))","v":""},{"$f":"IF(Table1[[#This Row],[Lent]]=\"\",\"\",IF(Table1[[#This Row],[Returned]]=\"\",0,1))","v":""}]
[{"$nulls":11},{"$f":"IF(IF(Table1[[#This Row],[Disposition]]=\"Retired\",\"N/A\",IF(Table1[[#This Row],[Disposition]]=0,\"\",K72+$F$2))=0+$F$2,\"NEVER CALIBRATED\",IF(Table1[[#This Row],[Disposition]]=\"Retired\",\"N/A\",IF(Table1[[#This Row],[Disposition]]=0,\"\",K72+$F$2)))","v":""},{"$f":"IF(Table1[[#This Row],[Disposition]]=\"\",\"\",IF(AND(Table1[[#This Row],[Next Calibration]]<$E$1,Table1[[#This Row],[Disposition]]=\"Lost\"),\"Find and Calibrate\",IF(Table1[[#This Row],[Disposition]]=\"Lost\",\"Find\",IF(OR(Table1[[#This Row],[Next Calibration]]<$E$1,Table1[[#This Row],[Next Calibration]]=\"NEVER CALIBRATED\"),\"Calibrate\",\"Nominal\"))))","v":""},{"$f":"IF(((Table1[[#This Row],[Next Calibration]]-TODAY())/30)>2,\"More Than 2\",IF(((Table1[[#This Row],[Next Calibration]]-TODAY())/30)>1,\"Between 2 and 1\",\"Less than 1\"))","v":{"$error":"#VALUE!"}},{"$f":"IF(Table1[[#This Row],[Issued]]=\"\",\"\",IF(Table1[[#This Row],[Lent]]=\"\",0,1))","v":""},{"$f":"IF(Table1[[#This Row],[Lent]]=\"\",\"\",IF(Table1[[#This Row],[Returned]]=\"\",0,1))","v":""}]
[{"$nulls":11},{"$f":"IF(IF(Table1[[#This Row],[Disposition]]=\"Retired\",\"N/A\",IF(Table1[[#This Row],[Disposition]]=0,\"\",K73+$F$2))=0+$F$2,\"NEVER CALIBRATED\",IF(Table1[[#This Row],[Disposition]]=\"Retired\",\"N/A\",IF(Table1[[#This Row],[Disposition]]=0,\"\",K73+$F$2)))","v":""},{"$f":"IF(Table1[[#This Row],[Disposition]]=\"\",\"\",IF(AND(Table1[[#This Row],[Next Calibration]]<$E$1,Table1[[#This Row],[Disposition]]=\"Lost\"),\"Find and Calibrate\",IF(Table1[[#This Row],[Disposition]]=\"Lost\",\"Find\",IF(OR(Table1[[#This Row],[Next Calibration]]<$E$1,Table1[[#This Row],[Next Calibration]]=\"NEVER CALIBRATED\"),\"Calibrate\",\"Nominal\"))))","v":""},{"$f":"IF(((Table1[[#This Row],[Next Calibration]]-TODAY())/30)>2,\"More Than 2\",IF(((Table1[[#This Row],[Next Calibration]]-TODAY())/30)>1,\"Between 2 and 1\",\"Less than 1\"))","v":{"$error":"#VALUE!"}},{"$f":"IF(Table1[[#This Row],[Issued]]=\"\",\"\",IF(Table1[[#This Row],[Lent]]=\"\",0,1))","v":""},{"$f":"IF(Table1[[#This Row],[Lent]]=\"\",\"\",IF(Table1[[#This Row],[Returned]]=\"\",0,1))","v":""}]
[{"$nulls":11},{"$f":"IF(IF(Table1[[#This Row],[Disposition]]=\"Retired\",\"N/A\",IF(Table1[[#This Row],[Disposition]]=0,\"\",K74+$F$2))=0+$F$2,\"NEVER CALIBRATED\",IF(Table1[[#This Row],[Disposition]]=\"Retired\",\"N/A\",IF(Table1[[#This Row],[Disposition]]=0,\"\",K74+$F$2)))","v":""},{"$f":"IF(Table1[[#This Row],[Disposition]]=\"\",\"\",IF(AND(Table1[[#This Row],[Next Calibration]]<$E$1,Table1[[#This Row],[Disposition]]=\"Lost\"),\"Find and Calibrate\",IF(Table1[[#This Row],[Disposition]]=\"Lost\",\"Find\",IF(OR(Table1[[#This Row],[Next Calibration]]<$E$1,Table1[[#This Row],[Next Calibration]]=\"NEVER CALIBRATED\"),\"Calibrate\",\"Nominal\"))))","v":""},{"$f":"IF(((Table1[[#This Row],[Next Calibration]]-TODAY())/30)>2,\"More Than 2\",IF(((Table1[[#This Row],[Next Calibration]]-TODAY())/30)>1,\"Between 2 and 1\",\"Less than 1\"))","v":{"$error":"#VALUE!"}},{"$f":"IF(Table1[[#This Row],[Issued]]=\"\",\"\",IF(Table1[[#This Row],[Lent]]=\"\",0,1))","v":""},{"$f":"IF(Table1[[#This Row],[Lent]]=\"\",\"\",IF(Table1[[#This Row],[Returned]]=\"\",0,1))","v":""}]
[{"$nulls":11},{"$f":"IF(IF(Table1[[#This Row],[Disposition]]=\"Retired\",\"N/A\",IF(Table1[[#This Row],[Disposition]]=0,\"\",K75+$F$2))=0+$F$2,\"NEVER CALIBRATED\",IF(Table1[[#This Row],[Disposition]]=\"Retired\",\"N/A\",IF(Table1[[#This Row],[Disposition]]=0,\"\",K75+$F$2)))","v":""},{"$f":"IF(Table1[[#This Row],[Disposition]]=\"\",\"\",IF(AND(Table1[[#This Row],[Next Calibration]]<$E$1,Table1[[#This Row],[Disposition]]=\"Lost\"),\"Find and Calibrate\",IF(Table1[[#This Row],[Disposition]]=\"Lost\",\"Find\",IF(OR(Table1[[#This Row],[Next Calibration]]<$E$1,Table1[[#This Row],[Next Calibration]]=\"NEVER CALIBRATED\"),\"Calibrate\",\"Nominal\"))))","v":""},{"$f":"IF(((Table1[[#This Row],[Next Calibration]]-TODAY())/30)>2,\"More Than 2\",IF(((Table1[[#This Row],[Next Calibration]]-TODAY())/30)>1,\"Between 2 and 1\",\"Less than 1\"))","v":{"$error":"#VALUE!"}},{"$f":"IF(Table1[[#This Row],[Issued]]=\"\",\"\",IF(Table1[[#This Row],[Lent]]=\"\",0,1))","v":""},{"$f":"IF(Table1[[#This Row],[Lent]]=\"\",\"\",IF(Table1[[#This Row],[Returned]]=\"\",0,1))","v":""}]
[{"$nulls":11},{"$f":"IF(IF(Table1[[#This Row],[Disposition]]=\"Retired\",\"N/A\",IF(Table1[[#This Row],[Disposition]]=0,\"\",K76+$F$2))=0+$F$2,\"NEVER CALIBRATED\",IF(Table1[[#This Row],[Disposition]]=\"Retired\",\"N/A\",IF(Table1[[#This Row],[Disposition]]=0,\"\",K76+$F$2)))","v":""},{"$f":"IF(Table1[[#This Row],[Disposition]]=\"\",\"\",IF(AND(Table1[[#This Row],[Next Calibration]]<$E$1,Table1[[#This Row],[Disposition]]=\"Lost\"),\"Find and Calibrate\",IF(Table1[[#This Row],[Disposition]]=\"Lost\",\"Find\",IF(OR(Table1[[#This Row],[Next Calibration]]<$E$1,Table1[[#This Row],[Next Calibration]]=\"NEVER CALIBRATED\"),\"Calibrate\",\"Nominal\"))))","v":""},{"$f":"IF(((Table1[[#This Row],[Next Calibration]]-TODAY())/30)>2,\"More Than 2\",IF(((Table1[[#This Row],[Next Calibration]]-TODAY())/30)>1,\"Between 2 and 1\",\"Less than 1\"))","v":{"$error":"#VALUE!"}},{"$f":"IF(Table1[[#This Row],[Issued]]=\"\",\"\",IF(Table1[[#This Row],[Lent]]=\"\",0,1))","v":""},{"$f":"IF(Table1[[#This Row],[Lent]]=\"\",\"\",IF(Table1[[#This Row],[Returned]]=\"\",0,1))","v":""}]
[{"$nulls":11},{"$f":"IF(IF(Table1[[#This Row],[Disposition]]=\"Retired\",\"N/A\",IF(Table1[[#This Row],[Disposition]]=0,\"\",K77+$F$2))=0+$F$2,\"NEVER CALIBRATED\",IF(Table1[[#This Row],[Disposition]]=\"Retired\",\"N/A\",IF(Table1[[#This Row],[Disposition]]=0,\"\",K77+$F$2)))","v":""},{"$f":"IF(Table1[[#This Row],[Disposition]]=\"\",\"\",IF(AND(Table1[[#This Row],[Next Calibration]]<$E$1,Table1[[#This Row],[Disposition]]=\"Lost\"),\"Find and Calibrate\",IF(Table1[[#This Row],[Disposition]]=\"Lost\",\"Find\",IF(OR(Table1[[#This Row],[Next Calibration]]<$E$1,Table1[[#This Row],[Next Calibration]]=\"NEVER CALIBRATED\"),\"Calibrate\",\"Nominal\"))))","v":""},{"$f":"IF(((Table1[[#This Row],[Next Calibration]]-TODAY())/30)>2,\"More Than 2\",IF(((Table1[[#This Row],[Next Calibration]]-TODAY())/30)>1,\"Between 2 and 1\",\"Less than 1\"))","v":{"$error":"#VALUE!"}},{"$f":"IF(Table1[[#This Row],[Issued]]=\"\",\"\",IF(Table1[[#This Row],[Lent]]=\"\",0,1))","v":""},{"$f":"IF(Table1[[#This Row],[Lent]]=\"\",\"\",IF(Table1[[#This Row],[Returned]]=\"\",0,1))","v":""}]
[{"$nulls":11},{"$f":"IF(IF(Table1[[#This Row],[Disposition]]=\"Retired\",\"N/A\",IF(Table1[[#This Row],[Disposition]]=0,\"\",K78+$F$2))=0+$F$2,\"NEVER CALIBRATED\",IF(Table1[[#This Row],[Disposition]]=\"Retired\",\"N/A\",IF(Table1[[#This Row],[Disposition]]=0,\"\",K78+$F$2)))","v":""},{"$f":"IF(Table1[[#This Row],[Disposition]]=\"\",\"\",IF(AND(Table1[[#This Row],[Next Calibration]]<$E$1,Table1[[#This Row],[Disposition]]=\"Lost\"),\"Find and Calibrate\",IF(Table1[[#This Row],[Disposition]]=\"Lost\",\"Find\",IF(OR(Table1[[#This Row],[Next Calibration]]<$E$1,Table1[[#This Row],[Next Calibration]]=\"NEVER CALIBRATED\"),\"Calibrate\",\"Nominal\"))))","v":""},{"$f":"IF(((Table1[[#This Row],[Next Calibration]]-TODAY())/30)>2,\"More Than 2\",IF(((Table1[[#This Row],[Next Calibration]]-TODAY())/30)>1,\"Between 2 and 1\",\"Less than 1\"))","v":{"$error":"#VALUE!"}},{"$f":"IF(Table1[[#This Row],[Issued]]=\"\",\"\",IF(Table1[[#This Row],[Lent]]=\"\",0,1))","v":""},{"$f":"IF(Table1[[#This Row],[Lent]]=\"\",\"\",IF(Table1[[#This Row],[Returned]]=\"\",0,1))","v":""}]
[{"$nulls":11},{"$f":"IF(IF(Table1[[#This Row],[Disposition]]=\"Retired\",\"N/A\",IF(Table1[[#This Row],[Disposition]]=0,\"\",K79+$F$2))=0+$F$2,\"NEVER CALIBRATED\",IF(Table1[[#This Row],[Disposition]]=\"Retired\",\"N/A\",IF(Table1[[#This Row],[Disposition]]=0,\"\",K79+$F$2)))","v":""},{"$f":"IF(Table1[[#This Row],[Disposition]]=\"\",\"\",IF(AND(Table1[[#This Row],[Next Calibration]]<$E$1,Table1[[#This Row],[Disposition]]=\"Lost\"),\"Find and Calibrate\",IF(Table1[[#This Row],[Disposition]]=\"Lost\",\"Find\",IF(OR(Table1[[#This Row],[Next Calibration]]<$E$1,Table1[[#This Row],[Next Calibration]]=\"NEVER CALIBRATED\"),\"Calibrate\",\"Nominal\"))))","v":""},{"$f":"IF(((Table1[[#This Row],[Next Calibration]]-TODAY())/30)>2,\"More Than 2\",IF(((Table1[[#This Row],[Next Calibration]]-TODAY())/30)>1,\"Between 2 and 1\",\"Less than 1\"))","v":{"$error":"#VALUE!"}},{"$f":"IF(Table1[[#This Row],[Issued]]=\"\",\"\",IF(Table1[[#This Row],[Lent]]=\"\",0,1))","v":""},{"$f":"IF(Table1[[#This Row],[Lent]]=\"\",\"\",IF(Table1[[#This Row],[Returned]]=\"\",0,1))","v":""}]
[{"$nulls":11},{"$f":"IF(IF(Table1[[#This Row],[Disposition]]=\"Retired\",\"N/A\",IF(Table1[[#This Row],[Disposition]]=0,\"\",K80+$F$2))=0+$F$2,\"NEVER CALIBRATED\",IF(Table1[[#This Row],[Disposition]]=\"Retired\",\"N/A\",IF(Table1[[#This Row],[Disposition]]=0,\"\",K80+$F$2)))","v":""},{"$f":"IF(Table1[[#This Row],[Disposition]]=\"\",\"\",IF(AND(Table1[[#This Row],[Next Calibration]]<$E$1,Table1[[#This Row],[Disposition]]=\"Lost\"),\"Find and Calibrate\",IF(Table1[[#This Row],[Disposition]]=\"Lost\",\"Find\",IF(OR(Table1[[#This Row],[Next Calibration]]<$E$1,Table1[[#This Row],[Next Calibration]]=\"NEVER CALIBRATED\"),\"Calibrate\",\"Nominal\"))))","v":""},{"$f":"IF(((Table1[[#This Row],[Next Calibration]]-TODAY())/30)>2,\"More Than 2\",IF(((Table1[[#This Row],[Next Calibration]]-TODAY())/30)>1,\"Between 2 and 1\",\"Less than 1\"))","v":{"$error":"#VALUE!"}},{"$f":"IF(Table1[[#This Row],[Issued]]=\"\",\"\",IF(Table1[[#This Row],[Lent]]=\"\",0,1))","v":""},{"$f":"IF(Table1[[#This Row],[Lent]]=\"\",\"\",IF(Table1[[#This Row],[Returned]]=\"\",0,1))","v":""}]
[{"$nulls":11},{"$f":"IF(IF(Table1[[#This Row],[Disposition]]=\"Retired\",\"N/A\",IF(Table1[[#This Row],[Disposition]]=0,\"\",K81+$F$2))=0+$F$2,\"NEVER CALIBRATED\",IF(Table1[[#This Row],[Disposition]]=\"Retired\",\"N/A\",IF(Table1[[#This Row],[Disposition]]=0,\"\",K81+$F$2)))","v":""},{"$f":"IF(Table1[[#This Row],[Disposition]]=\"\",\"\",IF(AND(Table1[[#This Row],[Next Calibration]]<$E$1,Table1[[#This Row],[Disposition]]=\"Lost\"),\"Find and Calibrate\",IF(Table1[[#This Row],[Disposition]]=\"Lost\",\"Find\",IF(OR(Table1[[#This Row],[Next Calibration]]<$E$1,Table1[[#This Row],[Next Calibration]]=\"NEVER CALIBRATED\"),\"Calibrate\",\"Nominal\"))))","v":""},{"$f":"IF(((Table1[[#This Row],[Next Calibration]]-TODAY())/30)>2,\"More Than 2\",IF(((Table1[[#This Row],[Next Calibration]]-TODAY())/30)>1,\"Between 2 and 1\",\"Less than 1\"))","v":{"$error":"#VALUE!"}},{"$f":"IF(Table1[[#This Row],[Issued]]=\"\",\"\",IF(Table1[[#This Row],[Lent]]=\"\",0,1))","v":""},{"$f":"IF(Table1[[#This Row],[Lent]]=\"\",\"\",IF(Table1[[#This Row],[Returned]]=\"\",0,1))","v":""}]
[{"$nulls":11},{"$f":"IF(IF(Table1[[#This Row],[Disposition]]=\"Retired\",\"N/A\",IF(Table1[[#This Row],[Disposition]]=0,\"\",K82+$F$2))=0+$F$2,\"NEVER CALIBRATED\",IF(Table1[[#This Row],[Disposition]]=\"Retired\",\"N/A\",IF(Table1[[#This Row],[Disposition]]=0,\"\",K82+$F$2)))","v":""},{"$f":"IF(Table1[[#This Row],[Disposition]]=\"\",\"\",IF(AND(Table1[[#This Row],[Next Calibration]]<$E$1,Table1[[#This Row],[Disposition]]=\"Lost\"),\"Find and Calibrate\",IF(Table1[[#This Row],[Disposition]]=\"Lost\",\"Find\",IF(OR(Table1[[#This Row],[Next Calibration]]<$E$1,Table1[[#This Row],[Next Calibration]]=\"NEVER CALIBRATED\"),\"Calibrate\",\"Nominal\"))))","v":""},{"$f":"IF(((Table1[[#This Row],[Next Calibration]]-TODAY())/30)>2,\"More Than 2\",IF(((Table1[[#This Row],[Next Calibration]]-TODAY())/30)>1,\"Between 2 and 1\",\"Less than 1\"))","v":{"$error":"#VALUE!"}},{"$f":"IF(Table1[[#This Row],[Issued]]=\"\",\"\",IF(Table1[[#This Row],[Lent]]=\"\",0,1))","v":""},{"$f":"IF(Table1[[#This Row],[Lent]]=\"\",\"\",IF(Table1[[#This Row],[Returned]]=\"\",0,1))","v":""}]
[{"$nulls":11},{"$f":"IF(IF(Table1[[#This Row],[Disposition]]=\"Retired\",\"N/A\",IF(Table1[[#This Row],[Disposition]]=0,\"\",K83+$F$2))=0+$F$2,\"NEVER CALIBRATED\",IF(Table1[[#This Row],[Disposition]]=\"Retired\",\"N/A\",IF(Table1[[#This Row],[Disposition]]=0,\"\",K83+$F$2)))","v":""},{"$f":"IF(Table1[[#This Row],[Disposition]]=\"\",\"\",IF(AND(Table1[[#This Row],[Next Calibration]]<$E$1,Table1[[#This Row],[Disposition]]=\"Lost\"),\"Find and Calibrate\",IF(Table1[[#This Row],[Disposition]]=\"Lost\",\"Find\",IF(OR(Table1[[#This Row],[Next Calibration]]<$E$1,Table1[[#This Row],[Next Calibration]]=\"NEVER CALIBRATED\"),\"Calibrate\",\"Nominal\"))))","v":""},{"$f":"IF(((Table1[[#This Row],[Next Calibration]]-TODAY())/30)>2,\"More Than 2\",IF(((Table1[[#This Row],[Next Calibration]]-TODAY())/30)>1,\"Between 2 and 1\",\"Less than 1\"))","v":{"$error":"#VALUE!"}},{"$f":"IF(Table1[[#This Row],[Issued]]=\"\",\"\",IF(Table1[[#This Row],[Lent]]=\"\",0,1))","v":""},{"$f":"IF(Table1[[#This Row],[Lent]]=\"\",\"\",IF(Table1[[#This Row],[Returned]]=\"\",0,1))","v":""}]
[{"$nulls":11},{"$f":"IF(IF(Table1[[#This Row],[Disposition]]=\"Retired\",\"N/A\",IF(Table1[[#This Row],[Disposition]]=0,\"\",K84+$F$2))=0+$F$2,\"NEVER CALIBRATED\",IF(Table1[[#This Row],[Disposition]]=\"Retired\",\"N/A\",IF(Table1[[#This Row],[Disposition]]=0,\"\",K84+$F$2)))","v":""},{"$f":"IF(Table1[[#This Row],[Disposition]]=\"\",\"\",IF(AND(Table1[[#This Row],[Next Calibration]]<$E$1,Table1[[#This Row],[Disposition]]=\"Lost\"),\"Find and Calibrate\",IF(Table1[[#This Row],[Disposition]]=\"Lost\",\"Find\",IF(OR(Table1[[#This Row],[Next Calibration]]<$E$1,Table1[[#This Row],[Next Calibration]]=\"NEVER CALIBRATED\"),\"Calibrate\",\"Nominal\"))))","v":""},{"$f":"IF(((Table1[[#This Row],[Next Calibration]]-TODAY())/30)>2,\"More Than 2\",IF(((Table1[[#This Row],[Next Calibration]]-TODAY())/30)>1,\"Between 2 and 1\",\"Less than 1\"))","v":{"$error":"#VALUE!"}},{"$f":"IF(Table1[[#This Row],[Issued]]=\"\",\"\",IF(Table1[[#This Row],[Lent]]=\"\",0,1))","v":""},{"$f":"IF(Table1[[#This Row],[Lent]]=\"\",\"\",IF(Table1[[#This Row],[Returned]]=\"\",0,1))","v":""}]
[{"$nulls":11},{"$f":"IF(IF(Table1[[#This Row],[Disposition]]=\"Retired\",\"N/A\",IF(Table1[[#This Row],[Disposition]]=0,\"\",K85+$F$2))=0+$F$2,\"NEVER CALIBRATED\",IF(Table1[[#This Row],[Disposition]]=\"Retired\",\"N/A\",IF(Table1[[#This Row],[Disposition]]=0,\"\",K85+$F$2)))","v":""},{"$f":"IF(Table1[[#This Row],[Disposition]]=\"\",\"\",IF(AND(Table1[[#This Row],[Next Calibration]]<$E$1,Table1[[#This Row],[Disposition]]=\"Lost\"),\"Find and Calibrate\",IF(Table1[[#This Row],[Disposition]]=\"Lost\",\"Find\",IF(OR(Table1[[#This Row],[Next Calibration]]<$E$1,Table1[[#This Row],[Next Calibration]]=\"NEVER CALIBRATED\"),\"Calibrate\",\"Nominal\"))))","v":""},{"$f":"IF(((Table1[[#This Row],[Next Calibration]]-TODAY())/30)>2,\"More Than 2\",IF(((Table1[[#This Row],[Next Calibration]]-TODAY())/30)>1,\"Between 2 and 1\",\"Less than 1\"))","v":{"$error":"#VALUE!"}},{"$f":"IF(Table1[[#This Row],[Issued]]=\"\",\"\",IF(Table1[[#This Row],[Lent]]=\"\",0,1))","v":""},{"$f":"IF(Table1[[#This Row],[Lent]]=\"\",\"\",IF(Table1[[#This Row],[Returned]]=\"\",0,1))","v":""}]
[{"$nulls":11},{"$f":"IF(IF(Table1[[#This Row],[Disposition]]=\"Retired\",\"N/A\",IF(Table1[[#This Row],[Disposition]]=0,\"\",K86+$F$2))=0+$F$2,\"NEVER CALIBRATED\",IF(Table1[[#This Row],[Disposition]]=\"Retired\",\"N/A\",IF(Table1[[#This Row],[Disposition]]=0,\"\",K86+$F$2)))","v":""},{"$f":"IF(Table1[[#This Row],[Disposition]]=\"\",\"\",IF(AND(Table1[[#This Row],[Next Calibration]]<$E$1,Table1[[#This Row],[Disposition]]=\"Lost\"),\"Find and Calibrate\",IF(Table1[[#This Row],[Disposition]]=\"Lost\",\"Find\",IF(OR(Table1[[#This Row],[Next Calibration]]<$E$1,Table1[[#This Row],[Next Calibration]]=\"NEVER CALIBRATED\"),\"Calibrate\",\"Nominal\"))))","v":""},{"$f":"IF(((Table1[[#This Row],[Next Calibration]]-TODAY())/30)>2,\"More Than 2\",IF(((Table1[[#This Row],[Next Calibration]]-TODAY())/30)>1,\"Between 2 and 1\",\"Less than 1\"))","v":{"$error":"#VALUE!"}},{"$f":"IF(Table1[[#This Row],[Issued]]=\"\",\"\",IF(Table1[[#This Row],[Lent]]=\"\",0,1))","v":""},{"$f":"IF(Table1[[#This Row],[Lent]]=\"\",\"\",IF(Table1[[#This Row],[Returned]]=\"\",0,1))","v":""}]
[{"$nulls":11},{"$f":"IF(IF(Table1[[#This Row],[Disposition]]=\"Retired\",\"N/A\",IF(Table1[[#This Row],[Disposition]]=0,\"\",K87+$F$2))=0+$F$2,\"NEVER CALIBRATED\",IF(Table1[[#This Row],[Disposition]]=\"Retired\",\"N/A\",IF(Table1[[#This Row],[Disposition]]=0,\"\",K87+$F$2)))","v":""},{"$f":"IF(Table1[[#This Row],[Disposition]]=\"\",\"\",IF(AND(Table1[[#This Row],[Next Calibration]]<$E$1,Table1[[#This Row],[Disposition]]=\"Lost\"),\"Find and Calibrate\",IF(Table1[[#This Row],[Disposition]]=\"Lost\",\"Find\",IF(OR(Table1[[#This Row],[Next Calibration]]<$E$1,Table1[[#This Row],[Next Calibration]]=\"NEVER CALIBRATED\"),\"Calibrate\",\"Nominal\"))))","v":""},{"$f":"IF(((Table1[[#This Row],[Next Calibration]]-TODAY())/30)>2,\"More Than 2\",IF(((Table1[[#This Row],[Next Calibration]]-TODAY())/30)>1,\"Between 2 and 1\",\"Less than 1\"))","v":{"$error":"#VALUE!"}},{"$f":"IF(Table1[[#This Row],[Issued]]=\"\",\"\",IF(Table1[[#This Row],[Lent]]=\"\",0,1))","v":""},{"$f":"IF(Table1[[#This Row],[Lent]]=\"\",\"\",IF(Table1[[#This Row],[Returned]]=\"\",0,1))","v":""}]
[{"$nulls":11},{"$f":"IF(IF(Table1[[#This Row],[Disposition]]=\"Retired\",\"N/A\",IF(Table1[[#This Row],[Disposition]]=0,\"\",K88+$F$2))=0+$F$2,\"NEVER CALIBRATED\",IF(Table1[[#This Row],[Disposition]]=\"Retired\",\"N/A\",IF(Table1[[#This Row],[Disposition]]=0,\"\",K88+$F$2)))","v":""},{"$f":"IF(Table1[[#This Row],[Disposition]]=\"\",\"\",IF(AND(Table1[[#This Row],[Next Calibration]]<$E$1,Table1[[#This Row],[Disposition]]=\"Lost\"),\"Find and Calibrate\",IF(Table1[[#This Row],[Disposition]]=\"Lost\",\"Find\",IF(OR(Table1[[#This Row],[Next Calibration]]<$E$1,Table1[[#This Row],[Next Calibration]]=\"NEVER CALIBRATED\"),\"Calibrate\",\"Nominal\"))))","v":""},{"$f":"IF(((Table1[[#This Row],[Next Calibration]]-TODAY())/30)>2,\"More Than 2\",IF(((Table1[[#This Row],[Next Calibration]]-TODAY())/30)>1,\"Between 2 and 1\",\"Less than 1\"))","v":{"$error":"#VALUE!"}},{"$f":"IF(Table1[[#This Row],[Issued]]=\"\",\"\",IF(Table1[[#This Row],[Lent]]=\"\",0,1))","v":""},{"$f":"IF(Table1[[#This Row],[Lent]]=\"\",\"\",IF(Table1[[#This Row],[Returned]]=\"\",0,1))","v":""}]
[{"$nulls":11},{"$f":"IF(IF(Table1[[#This Row],[Disposition]]=\"Retired\",\"N/A\",IF(Table1[[#This Row],[Disposition]]=0,\"\",K89+$F$2))=0+$F$2,\"NEVER CALIBRATED\",IF(Table1[[#This Row],[Disposition]]=\"Retired\",\"N/A\",IF(Table1[[#This Row],[Disposition]]=0,\"\",K89+$F$2)))","v":""},{"$f":"IF(Table1[[#This Row],[Disposition]]=\"\",\"\",IF(AND(Table1[[#This Row],[Next Calibration]]<$E$1,Table1[[#This Row],[Disposition]]=\"Lost\"),\"Find and Calibrate\",IF(Table1[[#This Row],[Disposition]]=\"Lost\",\"Find\",IF(OR(Table1[[#This Row],[Next Calibration]]<$E$1,Table1[[#This Row],[Next Calibration]]=\"NEVER CALIBRATED\"),\"Calibrate\",\"Nominal\"))))","v":""},{"$f":"IF(((Table1[[#This Row],[Next Calibration]]-TODAY())/30)>2,\"More Than 2\",IF(((Table1[[#This Row],[Next Calibration]]-TODAY())/30)>1,\"Between 2 and 1\",\"Less than 1\"))","v":{"$error":"#VALUE!"}},{"$f":"IF(Table1[[#This Row],[Issued]]=\"\",\"\",IF(Table1[[#This Row],[Lent]]=\"\",0,1))","v":""},{"$f":"IF(Table1[[#This Row],[Lent]]=\"\",\"\",IF(Table1[[#This Row],[Returned]]=\"\",0,1))","v":""}]
[{"$nulls":11},{"$f":"IF(IF(Table1[[#This Row],[Disposition]]=\"Retired\",\"N/A\",IF(Table1[[#This Row],[Disposition]]=0,\"\",K90+$F$2))=0+$F$2,\"NEVER CALIBRATED\",IF(Table1[[#This Row],[Disposition]]=\"Retired\",\"N/A\",IF(Table1[[#This Row],[Disposition]]=0,\"\",K90+$F$2)))","v":""},{"$f":"IF(Table1[[#This Row],[Disposition]]=\"\",\"\",IF(AND(Table1[[#This Row],[Next Calibration]]<$E$1,Table1[[#This Row],[Disposition]]=\"Lost\"),\"Find and Calibrate\",IF(Table1[[#This Row],[Disposition]]=\"Lost\",\"Find\",IF(OR(Table1[[#This Row],[Next Calibration]]<$E$1,Table1[[#This Row],[Next Calibration]]=\"NEVER CALIBRATED\"),\"Calibrate\",\"Nominal\"))))","v":""},{"$f":"IF(((Table1[[#This Row],[Next Calibration]]-TODAY())/30)>2,\"More Than 2\",IF(((Table1[[#This Row],[Next Calibration]]-TODAY())/30)>1,\"Between 2 and 1\",\"Less than 1\"))","v":{"$error":"#VALUE!"}},{"$f":"IF(Table1[[#This Row],[Issued]]=\"\",\"\",IF(Table1[[#This Row],[Lent]]=\"\",0,1))","v":""},{"$f":"IF(Table1[[#This Row],[Lent]]=\"\",\"\",IF(Table1[[#This Row],[Returned]]=\"\",0,1))","v":""}]
[{"$nulls":11},{"$f":"IF(IF(Table1[[#This Row],[Disposition]]=\"Retired\",\"N/A\",IF(Table1[[#This Row],[Disposition]]=0,\"\",K91+$F$2))=0+$F$2,\"NEVER CALIBRATED\",IF(Table1[[#This Row],[Disposition]]=\"Retired\",\"N/A\",IF(Table1[[#This Row],[Disposition]]=0,\"\",K91+$F$2)))","v":""},{"$f":"IF(Table1[[#This Row],[Disposition]]=\"\",\"\",IF(AND(Table1[[#This Row],[Next Calibration]]<$E$1,Table1[[#This Row],[Disposition]]=\"Lost\"),\"Find and Calibrate\",IF(Table1[[#This Row],[Disposition]]=\"Lost\",\"Find\",IF(OR(Table1[[#This Row],[Next Calibration]]<$E$1,Table1[[#This Row],[Next Calibration]]=\"NEVER CALIBRATED\"),\"Calibrate\",\"Nominal\"))))","v":""},{"$f":"IF(((Table1[[#This Row],[Next Calibration]]-TODAY())/30)>2,\"More Than 2\",IF(((Table1[[#This Row],[Next Calibration]]-TODAY())/30)>1,\"Between 2 and 1\",\"Less than 1\"))","v":{"$error":"#VALUE!"}},{"$f":"IF(Table1[[#This Row],[Issued]]=\"\",\"\",IF(Table1[[#This Row],[Lent]]=\"\",0,1))","v":""},{"$f":"IF(Table1[[#This Row],[Lent]]=\"\",\"\",IF(Table1[[#This Row],[Returned]]=\"\",0,1))","v":""}]
[{"$nulls":11},{"$f":"IF(IF(Table1[[#This Row],[Disposition]]=\"Retired\",\"N/A\",IF(Table1[[#This Row],[Disposition]]=0,\"\",K92+$F$2))=0+$F$2,\"NEVER CALIBRATED\",IF(Table1[[#This Row],[Disposition]]=\"Retired\",\"N/A\",IF(Table1[[#This Row],[Disposition]]=0,\"\",K92+$F$2)))","v":""},{"$f":"IF(Table1[[#This Row],[Disposition]]=\"\",\"\",IF(AND(Table1[[#This Row],[Next Calibration]]<$E$1,Table1[[#This Row],[Disposition]]=\"Lost\"),\"Find and Calibrate\",IF(Table1[[#This Row],[Disposition]]=\"Lost\",\"Find\",IF(OR(Table1[[#This Row],[Next Calibration]]<$E$1,Table1[[#This Row],[Next Calibration]]=\"NEVER CALIBRATED\"),\"Calibrate\",\"Nominal\"))))","v":""},{"$f":"IF(((Table1[[#This Row],[Next Calibration]]-TODAY())/30)>2,\"More Than 2\",IF(((Table1[[#This Row],[Next Calibration]]-TODAY())/30)>1,\"Between 2 and 1\",\"Less than 1\"))","v":{"$error":"#VALUE!"}},{"$f":"IF(Table1[[#This Row],[Issued]]=\"\",\"\",IF(Table1[[#This Row],[Lent]]=\"\",0,1))","v":""},{"$f":"IF(Table1[[#This Row],[Lent]]=\"\",\"\",IF(Table1[[#This Row],[Returned]]=\"\",0,1))","v":""}]
[{"$nulls":11},{"$f":"IF(IF(Table1[[#This Row],[Disposition]]=\"Retired\",\"N/A\",IF(Table1[[#This Row],[Disposition]]=0,\"\",K93+$F$2))=0+$F$2,\"NEVER CALIBRATED\",IF(Table1[[#This Row],[Disposition]]=\"Retired\",\"N/A\",IF(Table1[[#This Row],[Disposition]]=0,\"\",K93+$F$2)))","v":""},{"$f":"IF(Table1[[#This Row],[Disposition]]=\"\",\"\",IF(AND(Table1[[#This Row],[Next Calibration]]<$E$1,Table1[[#This Row],[Disposition]]=\"Lost\"),\"Find and Calibrate\",IF(Table1[[#This Row],[Disposition]]=\"Lost\",\"Find\",IF(OR(Table1[[#This Row],[Next Calibration]]<$E$1,Table1[[#This Row],[Next Calibration]]=\"NEVER CALIBRATED\"),\"Calibrate\",\"Nominal\"))))","v":""},{"$f":"IF(((Table1[[#This Row],[Next Calibration]]-TODAY())/30)>2,\"More Than 2\",IF(((Table1[[#This Row],[Next Calibration]]-TODAY())/30)>1,\"Between 2 and 1\",\"Less than 1\"))","v":{"$error":"#VALUE!"}},{"$f":"IF(Table1[[#This Row],[Issued]]=\"\",\"\",IF(Table1[[#This Row],[Lent]]=\"\",0,1))","v":""},{"$f":"IF(Table1[[#This Row],[Lent]]=\"\",\"\",IF(Table1[[#This Row],[Returned]]=\"\",0,1))","v":""}]
[{"$nulls":11},{"$f":"IF(IF(Table1[[#This Row],[Disposition]]=\"Retired\",\"N/A\",IF(Table1[[#This Row],[Disposition]]=0,\"\",K94+$F$2))=0+$F$2,\"NEVER CALIBRATED\",IF(Table1[[#This Row],[Disposition]]=\"Retired\",\"N/A\",IF(Table1[[#This Row],[Disposition]]=0,\"\",K94+$F$2)))","v":""},{"$f":"IF(Table1[[#This Row],[Disposition]]=\"\",\"\",IF(AND(Table1[[#This Row],[Next Calibration]]<$E$1,Table1[[#This Row],[Disposition]]=\"Lost\"),\"Find and Calibrate\",IF(Table1[[#This Row],[Disposition]]=\"Lost\",\"Find\",IF(OR(Table1[[#This Row],[Next Calibration]]<$E$1,Table1[[#This Row],[Next Calibration]]=\"NEVER CALIBRATED\"),\"Calibrate\",\"Nominal\"))))","v":""},{"$f":"IF(((Table1[[#This Row],[Next Calibration]]-TODAY())/30)>2,\"More Than 2\",IF(((Table1[[#This Row],[Next Calibration]]-TODAY())/30)>1,\"Between 2 and 1\",\"Less than 1\"))","v":{"$error":"#VALUE!"}},{"$f":"IF(Table1[[#This Row],[Issued]]=\"\",\"\",IF(Table1[[#This Row],[Lent]]=\"\",0,1))","v":""},{"$f":"IF(Table1[[#This Row],[Lent]]=\"\",\"\",IF(Table1[[#This Row],[Returned]]=\"\",0,1))","v":""}]
[{"$nulls":11},{"$f":"IF(IF(Table1[[#This Row],[Disposition]]=\"Retired\",\"N/A\",IF(Table1[[#This Row],[Disposition]]=0,\"\",K95+$F$2))=0+$F$2,\"NEVER CALIBRATED\",IF(Table1[[#This Row],[Disposition]]=\"Retired\",\"N/A\",IF(Table1[[#This Row],[Disposition]]=0,\"\",K95+$F$2)))","v":""},{"$f":"IF(Table1[[#This Row],[Disposition]]=\"\",\"\",IF(AND(Table1[[#This Row],[Next Calibration]]<$E$1,Table1[[#This Row],[Disposition]]=\"Lost\"),\"Find and Calibrate\",IF(Table1[[#This Row],[Disposition]]=\"Lost\",\"Find\",IF(OR(Table1[[#This Row],[Next Calibration]]<$E$1,Table1[[#This Row],[Next Calibration]]=\"NEVER CALIBRATED\"),\"Calibrate\",\"Nominal\"))))","v":""},{"$f":"IF(((Table1[[#This Row],[Next Calibration]]-TODAY())/30)>2,\"More Than 2\",IF(((Table1[[#This Row],[Next Calibration]]-TODAY())/30)>1,\"Between 2 and 1\",\"Less than 1\"))","v":{"$error":"#VALUE!"}},{"$f":"IF(Table1[[#This Row],[Issued]]=\"\",\"\",IF(Table1[[#This Row],[Lent]]=\"\",0,1))","v":""},{"$f":"IF(Table1[[#This Row],[Lent]]=\"\",\"\",IF(Table1[[#This Row],[Returned]]=\"\",0,1))","v":""}]
[{"$nulls":11},{"$f":"IF(IF(Table1[[#This Row],[Disposition]]=\"Retired\",\"N/A\",IF(Table1[[#This Row],[Disposition]]=0,\"\",K96+$F$2))=0+$F$2,\"NEVER CALIBRATED\",IF(Table1[[#This Row],[Disposition]]=\"Retired\",\"N/A\",IF(Table1[[#This Row],[Disposition]]=0,\"\",K96+$F$2)))","v":""},{"$f":"IF(Table1[[#This Row],[Disposition]]=\"\",\"\",IF(AND(Table1[[#This Row],[Next Calibration]]<$E$1,Table1[[#This Row],[Disposition]]=\"Lost\"),\"Find and Calibrate\",IF(Table1[[#This Row],[Disposition]]=\"Lost\",\"Find\",IF(OR(Table1[[#This Row],[Next Calibration]]<$E$1,Table1[[#This Row],[Next Calibration]]=\"NEVER CALIBRATED\"),\"Calibrate\",\"Nominal\"))))","v":""},{"$f":"IF(((Table1[[#This Row],[Next Calibration]]-TODAY())/30)>2,\"More Than 2\",IF(((Table1[[#This Row],[Next Calibration]]-TODAY())/30)>1,\"Between 2 and 1\",\"Less than 1\"))","v":{"$error":"#VALUE!"}},{"$f":"IF(Table1[[#This Row],[Issued]]=\"\",\"\",IF(Table1[[#This Row],[Lent]]=\"\",0,1))","v":""},{"$f":"IF(Table1[[#This Row],[Lent]]=\"\",\"\",IF(Table1[[#This Row],[Returned]]=\"\",0,1))","v":""}]
[{"$nulls":11},{"$f":"IF(IF(Table1[[#This Row],[Disposition]]=\"Retired\",\"N/A\",IF(Table1[[#This Row],[Disposition]]=0,\"\",K97+$F$2))=0+$F$2,\"NEVER CALIBRATED\",IF(Table1[[#This Row],[Disposition]]=\"Retired\",\"N/A\",IF(Table1[[#This Row],[Disposition]]=0,\"\",K97+$F$2)))","v":""},{"$f":"IF(Table1[[#This Row],[Disposition]]=\"\",\"\",IF(AND(Table1[[#This Row],[Next Calibration]]<$E$1,Table1[[#This Row],[Disposition]]=\"Lost\"),\"Find and Calibrate\",IF(Table1[[#This Row],[Disposition]]=\"Lost\",\"Find\",IF(OR(Table1[[#This Row],[Next Calibration]]<$E$1,Table1[[#This Row],[Next Calibration]]=\"NEVER CALIBRATED\"),\"Calibrate\",\"Nominal\"))))","v":""},{"$f":"IF(((Table1[[#This Row],[Next Calibration]]-TODAY())/30)>2,\"More Than 2\",IF(((Table1[[#This Row],[Next Calibration]]-TODAY())/30)>1,\"Between 2 and 1\",\"Less than 1\"))","v":{"$error":"#VALUE!"}},{"$f":"IF(Table1[[#This Row],[Issued]]=\"\",\"\",IF(Table1[[#This Row],[Lent]]=\"\",0,1))","v":""},{"$f":"IF(Table1[[#This Row],[Lent]]=\"\",\"\",IF(Table1[[#This Row],[Returned]]=\"\",0,1))","v":""}]
[{"$nulls":11},{"$f":"IF(IF(Table1[[#This Row],[Disposition]]=\"Retired\",\"N/A\",IF(Table1[[#This Row],[Disposition]]=0,\"\",K98+$F$2))=0+$F$2,\"NEVER CALIBRATED\",IF(Table1[[#This Row],[Disposition]]=\"Retired\",\"N/A\",IF(Table1[[#This Row],[Disposition]]=0,\"\",K98+$F$2)))","v":""},{"$f":"IF(Table1[[#This Row],[Disposition]]=\"\",\"\",IF(AND(Table1[[#This Row],[Next Calibration]]<$E$1,Table1[[#This Row],[Disposition]]=\"Lost\"),\"Find and Calibrate\",IF(Table1[[#This Row],[Disposition]]=\"Lost\",\"Find\",IF(OR(Table1[[#This Row],[Next Calibration]]<$E$1,Table1[[#This Row],[Next Calibration]]=\"NEVER CALIBRATED\"),\"Calibrate\",\"Nominal\"))))","v":""},{"$f":"IF(((Table1[[#This Row],[Next Calibration]]-TODAY())/30)>2,\"More Than 2\",IF(((Table1[[#This Row],[Next Calibration]]-TODAY())/30)>1,\"Between 2 and 1\",\"Less than 1\"))","v":{"$error":"#VALUE!"}},{"$f":"IF(Table1[[#This Row],[Issued]]=\"\",\"\",IF(Table1[[#This Row],[Lent]]=\"\",0,1))","v":""},{"$f":"IF(Table1[[#This Row],[Lent]]=\"\",\"\",IF(Table1[[#This Row],[Returned]]=\"\",0,1))","v":""}]
[{"$nulls":11},{"$f":"IF(IF(Table1[[#This Row],[Disposition]]=\"Retired\",\"N/A\",IF(Table1[[#This Row],[Disposition]]=0,\"\",K99+$F$2))=0+$F$2,\"NEVER CALIBRATED\",IF(Table1[[#This Row],[Disposition]]=\"Retired\",\"N/A\",IF(Table1[[#This Row],[Disposition]]=0,\"\",K99+$F$2)))","v":""},{"$f":"IF(Table1[[#This Row],[Disposition]]=\"\",\"\",IF(AND(Table1[[#This Row],[Next Calibration]]<$E$1,Table1[[#This Row],[Disposition]]=\"Lost\"),\"Find and Calibrate\",IF(Table1[[#This Row],[Disposition]]=\"Lost\",\"Find\",IF(OR(Table1[[#This Row],[Next Calibration]]<$E$1,Table1[[#This Row],[Next Calibration]]=\"NEVER CALIBRATED\"),\"Calibrate\",\"Nominal\"))))","v":""},{"$f":"IF(((Table1[[#This Row],[Next Calibration]]-TODAY())/30)>2,\"More Than 2\",IF(((Table1[[#This Row],[Next Calibration]]-TODAY())/30)>1,\"Between 2 and 1\",\"Less than 1\"))","v":{"$error":"#VALUE!"}},{"$f":"IF(Table1[[#This Row],[Issued]]=\"\",\"\",IF(Table1[[#This Row],[Lent]]=\"\",0,1))","v":""},{"$f":"IF(Table1[[#This Row],[Lent]]=\"\",\"\",IF(Table1[[#This Row],[Returned]]=\"\",0,1))","v":""}]
[{"$nulls":11},{"$f":"IF(IF(Table1[[#This Row],[Disposition]]=\"Retired\",\"N/A\",IF(Table1[[#This Row],[Disposition]]=0,\"\",K100+$F$2))=0+$F$2,\"NEVER CALIBRATED\",IF(Table1[[#This Row],[Disposition]]=\"Retired\",\"N/A\",IF(Table1[[#This Row],[Disposition]]=0,\"\",K100+$F$2)))","v":""},{"$f":"IF(Table1[[#This Row],[Disposition]]=\"\",\"\",IF(AND(Table1[[#This Row],[Next Calibration]]<$E$1,Table1[[#This Row],[Disposition]]=\"Lost\"),\"Find and Calibrate\",IF(Table1[[#This Row],[Disposition]]=\"Lost\",\"Find\",IF(OR(Table1[[#This Row],[Next Calibration]]<$E$1,Table1[[#This Row],[Next Calibration]]=\"NEVER CALIBRATED\"),\"Calibrate\",\"Nominal\"))))","v":""},{"$f":"IF(((Table1[[#This Row],[Next Calibration]]-TODAY())/30)>2,\"More Than 2\",IF(((Table1[[#This Row],[Next Calibration]]-TODAY())/30)>1,\"Between 2 and 1\",\"Less than 1\"))","v":{"$error":"#VALUE!"}},{"$f":"IF(Table1[[#This Row],[Issued]]=\"\",\"\",IF(Table1[[#This Row],[Lent]]=\"\",0,1))","v":""},{"$f":"IF(Table1[[#This Row],[Lent]]=\"\",\"\",IF(Table1[[#This Row],[Returned]]=\"\",0,1))","v":""}]
[{"$nulls":11},{"$f":"IF(IF(Table1[[#This Row],[Disposition]]=\"Retired\",\"N/A\",IF(Table1[[#This Row],[Disposition]]=0,\"\",K101+$F$2))=0+$F$2,\"NEVER CALIBRATED\",IF(Table1[[#This Row],[Disposition]]=\"Retired\",\"N/A\",IF(Table1[[#This Row],[Disposition]]=0,\"\",K101+$F$2)))","v":""},{"$f":"IF(Table1[[#This Row],[Disposition]]=\"\",\"\",IF(AND(Table1[[#This Row],[Next Calibration]]<$E$1,Table1[[#This Row],[Disposition]]=\"Lost\"),\"Find and Calibrate\",IF(Table1[[#This Row],[Disposition]]=\"Lost\",\"Find\",IF(OR(Table1[[#This Row],[Next Calibration]]<$E$1,Table1[[#This Row],[Next Calibration]]=\"NEVER CALIBRATED\"),\"Calibrate\",\"Nominal\"))))","v":""},{"$f":"IF(((Table1[[#This Row],[Next Calibration]]-TODAY())/30)>2,\"More Than 2\",IF(((Table1[[#This Row],[Next Calibration]]-TODAY())/30)>1,\"Between 2 and 1\",\"Less than 1\"))","v":{"$error":"#VALUE!"}},{"$f":"IF(Table1[[#This Row],[Issued]]=\"\",\"\",IF(Table1[[#This Row],[Lent]]=\"\",0,1))","v":""},{"$f":"IF(Table1[[#This Row],[Lent]]=\"\",\"\",IF(Table1[[#This Row],[Returned]]=\"\",0,1))","v":""}]
[{"$nulls":11},{"$f":"IF(IF(Table1[[#This Row],[Disposition]]=\"Retired\",\"N/A\",IF(Table1[[#This Row],[Disposition]]=0,\"\",K102+$F$2))=0+$F$2,\"NEVER CALIBRATED\",IF(Table1[[#This Row],[Disposition]]=\"Retired\",\"N/A\",IF(Table1[[#This Row],[Disposition]]=0,\"\",K102+$F$2)))","v":""},{"$f":"IF(Table1[[#This Row],[Disposition]]=\"\",\"\",IF(AND(Table1[[#This Row],[Next Calibration]]<$E$1,Table1[[#This Row],[Disposition]]=\"Lost\"),\"Find and Calibrate\",IF(Table1[[#This Row],[Disposition]]=\"Lost\",\"Find\",IF(OR(Table1[[#This Row],[Next Calibration]]<$E$1,Table1[[#This Row],[Next Calibration]]=\"NEVER CALIBRATED\"),\"Calibrate\",\"Nominal\"))))","v":""},{"$f":"IF(((Table1[[#This Row],[Next Calibration]]-TODAY())/30)>2,\"More Than 2\",IF(((Table1[[#This Row],[Next Calibration]]-TODAY())/30)>1,\"Between 2 and 1\",\"Less than 1\"))","v":{"$error":"#VALUE!"}},{"$f":"IF(Table1[[#This Row],[Issued]]=\"\",\"\",IF(Table1[[#This Row],[Lent]]=\"\",0,1))","v":""},{"$f":"IF(Table1[[#This Row],[Lent]]=\"\",\"\",IF(Table1[[#This Row],[Returned]]=\"\",0,1))","v":""}]
[{"$nulls":11},{"$f":"IF(IF(Table1[[#This Row],[Disposition]]=\"Retired\",\"N/A\",IF(Table1[[#This Row],[Disposition]]=0,\"\",K103+$F$2))=0+$F$2,\"NEVER CALIBRATED\",IF(Table1[[#This Row],[Disposition]]=\"Retired\",\"N/A\",IF(Table1[[#This Row],[Disposition]]=0,\"\",K103+$F$2)))","v":""},{"$f":"IF(Table1[[#This Row],[Disposition]]=\"\",\"\",IF(AND(Table1[[#This Row],[Next Calibration]]<$E$1,Table1[[#This Row],[Disposition]]=\"Lost\"),\"Find and Calibrate\",IF(Table1[[#This Row],[Disposition]]=\"Lost\",\"Find\",IF(OR(Table1[[#This Row],[Next Calibration]]<$E$1,Table1[[#This Row],[Next Calibration]]=\"NEVER CALIBRATED\"),\"Calibrate\",\"Nominal\"))))","v":""},{"$f":"IF(((Table1[[#This Row],[Next Calibration]]-TODAY())/30)>2,\"More Than 2\",IF(((Table1[[#This Row],[Next Calibration]]-TODAY())/30)>1,\"Between 2 and 1\",\"Less than 1\"))","v":{"$error":"#VALUE!"}},{"$f":"IF(Table1[[#This Row],[Issued]]=\"\",\"\",IF(Table1[[#This Row],[Lent]]=\"\",0,1))","v":""},{"$f":"IF(Table1[[#This Row],[Lent]]=\"\",\"\",IF(Table1[[#This Row],[Returned]]=\"\",0,1))","v":""}]
[{"$nulls":11},{"$f":"IF(IF(Table1[[#This Row],[Disposition]]=\"Retired\",\"N/A\",IF(Table1[[#This Row],[Disposition]]=0,\"\",K104+$F$2))=0+$F$2,\"NEVER CALIBRATED\",IF(Table1[[#This Row],[Disposition]]=\"Retired\",\"N/A\",IF(Table1[[#This Row],[Disposition]]=0,\"\",K104+$F$2)))","v":""},{"$f":"IF(Table1[[#This Row],[Disposition]]=\"\",\"\",IF(AND(Table1[[#This Row],[Next Calibration]]<$E$1,Table1[[#This Row],[Disposition]]=\"Lost\"),\"Find and Calibrate\",IF(Table1[[#This Row],[Disposition]]=\"Lost\",\"Find\",IF(OR(Table1[[#This Row],[Next Calibration]]<$E$1,Table1[[#This Row],[Next Calibration]]=\"NEVER CALIBRATED\"),\"Calibrate\",\"Nominal\"))))","v":""},{"$f":"IF(((Table1[[#This Row],[Next Calibration]]-TODAY())/30)>2,\"More Than 2\",IF(((Table1[[#This Row],[Next Calibration]]-TODAY())/30)>1,\"Between 2 and 1\",\"Less than 1\"))","v":{"$error":"#VALUE!"}},{"$f":"IF(Table1[[#This Row],[Issued]]=\"\",\"\",IF(Table1[[#This Row],[Lent]]=\"\",0,1))","v":""},{"$f":"IF(Table1[[#This Row],[Lent]]=\"\",\"\",IF(Table1[[#This Row],[Returned]]=\"\",0,1))","v":""}]
[{"$nulls":11},{"$f":"IF(IF(Table1[[#This Row],[Disposition]]=\"Retired\",\"N/A\",IF(Table1[[#This Row],[Disposition]]=0,\"\",K105+$F$2))=0+$F$2,\"NEVER CALIBRATED\",IF(Table1[[#This Row],[Disposition]]=\"Retired\",\"N/A\",IF(Table1[[#This Row],[Disposition]]=0,\"\",K105+$F$2)))","v":""},{"$f":"IF(Table1[[#This Row],[Disposition]]=\"\",\"\",IF(AND(Table1[[#This Row],[Next Calibration]]<$E$1,Table1[[#This Row],[Disposition]]=\"Lost\"),\"Find and Calibrate\",IF(Table1[[#This Row],[Disposition]]=\"Lost\",\"Find\",IF(OR(Table1[[#This Row],[Next Calibration]]<$E$1,Table1[[#This Row],[Next Calibration]]=\"NEVER CALIBRATED\"),\"Calibrate\",\"Nominal\"))))","v":""},{"$f":"IF(((Table1[[#This Row],[Next Calibration]]-TODAY())/30)>2,\"More Than 2\",IF(((Table1[[#This Row],[Next Calibration]]-TODAY())/30)>1,\"Between 2 and 1\",\"Less than 1\"))","v":{"$error":"#VALUE!"}},{"$f":"IF(Table1[[#This Row],[Issued]]=\"\",\"\",IF(Table1[[#This Row],[Lent]]=\"\",0,1))","v":""},{"$f":"IF(Table1[[#This Row],[Lent]]=\"\",\"\",IF(Table1[[#This Row],[Returned]]=\"\",0,1))","v":""}]
[{"$nulls":11},{"$f":"IF(IF(Table1[[#This Row],[Disposition]]=\"Retired\",\"N/A\",IF(Table1[[#This Row],[Disposition]]=0,\"\",K106+$F$2))=0+$F$2,\"NEVER CALIBRATED\",IF(Table1[[#This Row],[Disposition]]=\"Retired\",\"N/A\",IF(Table1[[#This Row],[Disposition]]=0,\"\",K106+$F$2)))","v":""},{"$f":"IF(Table1[[#This Row],[Disposition]]=\"\",\"\",IF(AND(Table1[[#This Row],[Next Calibration]]<$E$1,Table1[[#This Row],[Disposition]]=\"Lost\"),\"Find and Calibrate\",IF(Table1[[#This Row],[Disposition]]=\"Lost\",\"Find\",IF(OR(Table1[[#This Row],[Next Calibration]]<$E$1,Table1[[#This Row],[Next Calibration]]=\"NEVER CALIBRATED\"),\"Calibrate\",\"Nominal\"))))","v":""},{"$f":"IF(((Table1[[#This Row],[Next Calibration]]-TODAY())/30)>2,\"More Than 2\",IF(((Table1[[#This Row],[Next Calibration]]-TODAY())/30)>1,\"Between 2 and 1\",\"Less than 1\"))","v":{"$error":"#VALUE!"}},{"$f":"IF(Table1[[#This Row],[Issued]]=\"\",\"\",IF(Table1[[#This Row],[Lent]]=\"\",0,1))","v":""},{"$f":"IF(Table1[[#This Row],[Lent]]=\"\",\"\",IF(Table1[[#This Row],[Returned]]=\"\",0,1))","v":""}]
[{"$nulls":11},{"$f":"IF(IF(Table1[[#This Row],[Disposition]]=\"Retired\",\"N/A\",IF(Table1[[#This Row],[Disposition]]=0,\"\",K107+$F$2))=0+$F$2,\"NEVER CALIBRATED\",IF(Table1[[#This Row],[Disposition]]=\"Retired\",\"N/A\",IF(Table1[[#This Row],[Disposition]]=0,\"\",K107+$F$2)))","v":""},{"$f":"IF(Table1[[#This Row],[Disposition]]=\"\",\"\",IF(AND(Table1[[#This Row],[Next Calibration]]<$E$1,Table1[[#This Row],[Disposition]]=\"Lost\"),\"Find and Calibrate\",IF(Table1[[#This Row],[Disposition]]=\"Lost\",\"Find\",IF(OR(Table1[[#This Row],[Next Calibration]]<$E$1,Table1[[#This Row],[Next Calibration]]=\"NEVER CALIBRATED\"),\"Calibrate\",\"Nominal\"))))","v":""},{"$f":"IF(((Table1[[#This Row],[Next Calibration]]-TODAY())/30)>2,\"More Than 2\",IF(((Table1[[#This Row],[Next Calibration]]-TODAY())/30)>1,\"Between 2 and 1\",\"Less than 1\"))","v":{"$error":"#VALUE!"}},{"$f":"IF(Table1[[#This Row],[Issued]]=\"\",\"\",IF(Table1[[#This Row],[Lent]]=\"\",0,1))","v":""},{"$f":"IF(Table1[[#This Row],[Lent]]=\"\",\"\",IF(Table1[[#This Row],[Returned]]=\"\",0,1))","v":""}]
[{"$nulls":11},{"$f":"IF(IF(Table1[[#This Row],[Disposition]]=\"Retired\",\"N/A\",IF(Table1[[#This Row],[Disposition]]=0,\"\",K108+$F$2))=0+$F$2,\"NEVER CALIBRATED\",IF(Table1[[#This Row],[Disposition]]=\"Retired\",\"N/A\",IF(Table1[[#This Row],[Disposition]]=0,\"\",K108+$F$2)))","v":""},{"$f":"IF(Table1[[#This Row],[Disposition]]=\"\",\"\",IF(AND(Table1[[#This Row],[Next Calibration]]<$E$1,Table1[[#This Row],[Disposition]]=\"Lost\"),\"Find and Calibrate\",IF(Table1[[#This Row],[Disposition]]=\"Lost\",\"Find\",IF(OR(Table1[[#This Row],[Next Calibration]]<$E$1,Table1[[#This Row],[Next Calibration]]=\"NEVER CALIBRATED\"),\"Calibrate\",\"Nominal\"))))","v":""},{"$f":"IF(((Table1[[#This Row],[Next Calibration]]-TODAY())/30)>2,\"More Than 2\",IF(((Table1[[#This Row],[Next Calibration]]-TODAY())/30)>1,\"Between 2 and 1\",\"Less than 1\"))","v":{"$error":"#VALUE!"}},{"$f":"IF(Table1[[#This Row],[Issued]]=\"\",\"\",IF(Table1[[#This Row],[Lent]]=\"\",0,1))","v":""},{"$f":"IF(Table1[[#This Row],[Lent]]=\"\",\"\",IF(Table1[[#This Row],[Returned]]=\"\",0,1))","v":""}]
[{"$nulls":11},{"$f":"IF(IF(Table1[[#This Row],[Disposition]]=\"Retired\",\"N/A\",IF(Table1[[#This Row],[Disposition]]=0,\"\",K109+$F$2))=0+$F$2,\"NEVER CALIBRATED\",IF(Table1[[#This Row],[Disposition]]=\"Retired\",\"N/A\",IF(Table1[[#This Row],[Disposition]]=0,\"\",K109+$F$2)))","v":""},{"$f":"IF(Table1[[#This Row],[Disposition]]=\"\",\"\",IF(AND(Table1[[#This Row],[Next Calibration]]<$E$1,Table1[[#This Row],[Disposition]]=\"Lost\"),\"Find and Calibrate\",IF(Table1[[#This Row],[Disposition]]=\"Lost\",\"Find\",IF(OR(Table1[[#This Row],[Next Calibration]]<$E$1,Table1[[#This Row],[Next Calibration]]=\"NEVER CALIBRATED\"),\"Calibrate\",\"Nominal\"))))","v":""},{"$f":"IF(((Table1[[#This Row],[Next Calibration]]-TODAY())/30)>2,\"More Than 2\",IF(((Table1[[#This Row],[Next Calibration]]-TODAY())/30)>1,\"Between 2 and 1\",\"Less than 1\"))","v":{"$error":"#VALUE!"}},{"$f":"IF(Table1[[#This Row],[Issued]]=\"\",\"\",IF(Table1[[#This Row],[Lent]]=\"\",0,1))","v":""},{"$f":"IF(Table1[[#This Row],[Lent]]=\"\",\"\",IF(Table1[[#This Row],[Returned]]=\"\",0,1))","v":""}]
[{"$nulls":11},{"$f":"IF(IF(Table1[[#This Row],[Disposition]]=\"Retired\",\"N/A\",IF(Table1[[#This Row],[Disposition]]=0,\"\",K110+$F$2))=0+$F$2,\"NEVER CALIBRATED\",IF(Table1[[#This Row],[Disposition]]=\"Retired\",\"N/A\",IF(Table1[[#This Row],[Disposition]]=0,\"\",K110+$F$2)))","v":""},{"$f":"IF(Table1[[#This Row],[Disposition]]=\"\",\"\",IF(AND(Table1[[#This Row],[Next Calibration]]<$E$1,Table1[[#This Row],[Disposition]]=\"Lost\"),\"Find and Calibrate\",IF(Table1[[#This Row],[Disposition]]=\"Lost\",\"Find\",IF(OR(Table1[[#This Row],[Next Calibration]]<$E$1,Table1[[#This Row],[Next Calibration]]=\"NEVER CALIBRATED\"),\"Calibrate\",\"Nominal\"))))","v":""},{"$f":"IF(((Table1[[#This Row],[Next Calibration]]-TODAY())/30)>2,\"More Than 2\",IF(((Table1[[#This Row],[Next Calibration]]-TODAY())/30)>1,\"Between 2 and 1\",\"Less than 1\"))","v":{"$error":"#VALUE!"}},{"$f":"IF(Table1[[#This Row],[Issued]]=\"\",\"\",IF(Table1[[#This Row],[Lent]]=\"\",0,1))","v":""},{"$f":"IF(Table1[[#This Row],[Lent]]=\"\",\"\",IF(Table1[[#This Row],[Returned]]=\"\",0,1))","v":""}]
[{"$nulls":11},{"$f":"IF(IF(Table1[[#This Row],[Disposition]]=\"Retired\",\"N/A\",IF(Table1[[#This Row],[Disposition]]=0,\"\",K111+$F$2))=0+$F$2,\"NEVER CALIBRATED\",IF(Table1[[#This Row],[Disposition]]=\"Retired\",\"N/A\",IF(Table1[[#This Row],[Disposition]]=0,\"\",K111+$F$2)))","v":""},{"$f":"IF(Table1[[#This Row],[Disposition]]=\"\",\"\",IF(AND(Table1[[#This Row],[Next Calibration]]<$E$1,Table1[[#This Row],[Disposition]]=\"Lost\"),\"Find and Calibrate\",IF(Table1[[#This Row],[Disposition]]=\"Lost\",\"Find\",IF(OR(Table1[[#This Row],[Next Calibration]]<$E$1,Table1[[#This Row],[Next Calibration]]=\"NEVER CALIBRATED\"),\"Calibrate\",\"Nominal\"))))","v":""},{"$f":"IF(((Table1[[#This Row],[Next Calibration]]-TODAY())/30)>2,\"More Than 2\",IF(((Table1[[#This Row],[Next Calibration]]-TODAY())/30)>1,\"Between 2 and 1\",\"Less than 1\"))","v":{"$error":"#VALUE!"}},{"$f":"IF(Table1[[#This Row],[Issued]]=\"\",\"\",IF(Table1[[#This Row],[Lent]]=\"\",0,1))","v":""},{"$f":"IF(Table1[[#This Row],[Lent]]=\"\",\"\",IF(Table1[[#This Row],[Returned]]=\"\",0,1))","v":""}]
[{"$nulls":11},{"$f":"IF(IF(Table1[[#This Row],[Disposition]]=\"Retired\",\"N/A\",IF(Table1[[#This Row],[Disposition]]=0,\"\",K112+$F$2))=0+$F$2,\"NEVER CALIBRATED\",IF(Table1[[#This Row],[Disposition]]=\"Retired\",\"N/A\",IF(Table1[[#This Row],[Disposition]]=0,\"\",K112+$F$2)))","v":""},{"$f":"IF(Table1[[#This Row],[Disposition]]=\"\",\"\",IF(AND(Table1[[#This Row],[Next Calibration]]<$E$1,Table1[[#This Row],[Disposition]]=\"Lost\"),\"Find and Calibrate\",IF(Table1[[#This Row],[Disposition]]=\"Lost\",\"Find\",IF(OR(Table1[[#This Row],[Next Calibration]]<$E$1,Table1[[#This Row],[Next Calibration]]=\"NEVER CALIBRATED\"),\"Calibrate\",\"Nominal\"))))","v":""},{"$f":"IF(((Table1[[#This Row],[Next Calibration]]-TODAY())/30)>2,\"More Than 2\",IF(((Table1[[#This Row],[Next Calibration]]-TODAY())/30)>1,\"Between 2 and 1\",\"Less than 1\"))","v":{"$error":"#VALUE!"}},{"$f":"IF(Table1[[#This Row],[Issued]]=\"\",\"\",IF(Table1[[#This Row],[Lent]]=\"\",0,1))","v":""},{"$f":"IF(Table1[[#This Row],[Lent]]=\"\",\"\",IF(Table1[[#This Row],[Returned]]=\"\",0,1))","v":""}]
[{"$nulls":11},{"$f":"IF(IF(Table1[[#This Row],[Disposition]]=\"Retired\",\"N/A\",IF(Table1[[#This Row],[Disposition]]=0,\"\",K113+$F$2))=0+$F$2,\"NEVER CALIBRATED\",IF(Table1[[#This Row],[Disposition]]=\"Retired\",\"N/A\",IF(Table1[[#This Row],[Disposition]]=0,\"\",K113+$F$2)))","v":""},{"$f":"IF(Table1[[#This Row],[Disposition]]=\"\",\"\",IF(AND(Table1[[#This Row],[Next Calibration]]<$E$1,Table1[[#This Row],[Disposition]]=\"Lost\"),\"Find and Calibrate\",IF(Table1[[#This Row],[Disposition]]=\"Lost\",\"Find\",IF(OR(Table1[[#This Row],[Next Calibration]]<$E$1,Table1[[#This Row],[Next Calibration]]=\"NEVER CALIBRATED\"),\"Calibrate\",\"Nominal\"))))","v":""},{"$f":"IF(((Table1[[#This Row],[Next Calibration]]-TODAY())/30)>2,\"More Than 2\",IF(((Table1[[#This Row],[Next Calibration]]-TODAY())/30)>1,\"Between 2 and 1\",\"Less than 1\"))","v":{"$error":"#VALUE!"}},{"$f":"IF(Table1[[#This Row],[Issued]]=\"\",\"\",IF(Table1[[#This Row],[Lent]]=\"\",0,1))","v":""},{"$f":"IF(Table1[[#This Row],[Lent]]=\"\",\"\",IF(Table1[[#This Row],[Returned]]=\"\",0,1))","v":""}]
[{"$nulls":11},{"$f":"IF(IF(Table1[[#This Row],[Disposition]]=\"Retired\",\"N/A\",IF(Table1[[#This Row],[Disposition]]=0,\"\",K114+$F$2))=0+$F$2,\"NEVER CALIBRATED\",IF(Table1[[#This Row],[Disposition]]=\"Retired\",\"N/A\",IF(Table1[[#This Row],[Disposition]]=0,\"\",K114+$F$2)))","v":""},{"$f":"IF(Table1[[#This Row],[Disposition]]=\"\",\"\",IF(AND(Table1[[#This Row],[Next Calibration]]<$E$1,Table1[[#This Row],[Disposition]]=\"Lost\"),\"Find and Calibrate\",IF(Table1[[#This Row],[Disposition]]=\"Lost\",\"Find\",IF(OR(Table1[[#This Row],[Next Calibration]]<$E$1,Table1[[#This Row],[Next Calibration]]=\"NEVER CALIBRATED\"),\"Calibrate\",\"Nominal\"))))","v":""},{"$f":"IF(((Table1[[#This Row],[Next Calibration]]-TODAY())/30)>2,\"More Than 2\",IF(((Table1[[#This Row],[Next Calibration]]-TODAY())/30)>1,\"Between 2 and 1\",\"Less than 1\"))","v":{"$error":"#VALUE!"}},{"$f":"IF(Table1[[#This Row],[Issued]]=\"\",\"\",IF(Table1[[#This Row],[Lent]]=\"\",0,1))","v":""},{"$f":"IF(Table1[[#This Row],[Lent]]=\"\",\"\",IF(Table1[[#This Row],[Returned]]=\"\",0,1))","v":""}]
[{"$nulls":11},{"$f":"IF(IF(Table1[[#This Row],[Disposition]]=\"Retired\",\"N/A\",IF(Table1[[#This Row],[Disposition]]=0,\"\",K115+$F$2))=0+$F$2,\"NEVER CALIBRATED\",IF(Table1[[#This Row],[Disposition]]=\"Retired\",\"N/A\",IF(Table1[[#This Row],[Disposition]]=0,\"\",K115+$F$2)))","v":""},{"$f":"IF(Table1[[#This Row],[Disposition]]=\"\",\"\",IF(AND(Table1[[#This Row],[Next Calibration]]<$E$1,Table1[[#This Row],[Disposition]]=\"Lost\"),\"Find and Calibrate\",IF(Table1[[#This Row],[Disposition]]=\"Lost\",\"Find\",IF(OR(Table1[[#This Row],[Next Calibration]]<$E$1,Table1[[#This Row],[Next Calibration]]=\"NEVER CALIBRATED\"),\"Calibrate\",\"Nominal\"))))","v":""},{"$f":"IF(((Table1[[#This Row],[Next Calibration]]-TODAY())/30)>2,\"More Than 2\",IF(((Table1[[#This Row],[Next Calibration]]-TODAY())/30)>1,\"Between 2 and 1\",\"Less than 1\"))","v":{"$error":"#VALUE!"}},{"$f":"IF(Table1[[#This Row],[Issued]]=\"\",\"\",IF(Table1[[#This Row],[Lent]]=\"\",0,1))","v":""},{"$f":"IF(Table1[[#This Row],[Lent]]=\"\",\"\",IF(Table1[[#This Row],[Returned]]=\"\",0,1))","v":""}]
[{"$nulls":11},{"$f":"IF(IF(Table1[[#This Row],[Disposition]]=\"Retired\",\"N/A\",IF(Table1[[#This Row],[Disposition]]=0,\"\",K116+$F$2))=0+$F$2,\"NEVER CALIBRATED\",IF(Table1[[#This Row],[Disposition]]=\"Retired\",\"N/A\",IF(Table1[[#This Row],[Disposition]]=0,\"\",K116+$F$2)))","v":""},{"$f":"IF(Table1[[#This Row],[Disposition]]=\"\",\"\",IF(AND(Table1[[#This Row],[Next Calibration]]<$E$1,Table1[[#This Row],[Disposition]]=\"Lost\"),\"Find and Calibrate\",IF(Table1[[#This Row],[Disposition]]=\"Lost\",\"Find\",IF(OR(Table1[[#This Row],[Next Calibration]]<$E$1,Table1[[#This Row],[Next Calibration]]=\"NEVER CALIBRATED\"),\"Calibrate\",\"Nominal\"))))","v":""},{"$f":"IF(((Table1[[#This Row],[Next Calibration]]-TODAY())/30)>2,\"More Than 2\",IF(((Table1[[#This Row],[Next Calibration]]-TODAY())/30)>1,\"Between 2 and 1\",\"Less than 1\"))","v":{"$error":"#VALUE!"}},{"$f":"IF(Table1[[#This Row],[Issued]]=\"\",\"\",IF(Table1[[#This Row],[Lent]]=\"\",0,1))","v":""},{"$f":"IF(Table1[[#This Row],[Lent]]=\"\",\"\",IF(Table1[[#This Row],[Returned]]=\"\",0,1))","v":""}]
[{"$nulls":11},{"$f":"IF(IF(Table1[[#This Row],[Disposition]]=\"Retired\",\"N/A\",IF(Table1[[#This Row],[Disposition]]=0,\"\",K117+$F$2))=0+$F$2,\"NEVER CALIBRATED\",IF(Table1[[#This Row],[Disposition]]=\"Retired\",\"N/A\",IF(Table1[[#This Row],[Disposition]]=0,\"\",K117+$F$2)))","v":""},{"$f":"IF(Table1[[#This Row],[Disposition]]=\"\",\"\",IF(AND(Table1[[#This Row],[Next Calibration]]<$E$1,Table1[[#This Row],[Disposition]]=\"Lost\"),\"Find and Calibrate\",IF(Table1[[#This Row],[Disposition]]=\"Lost\",\"Find\",IF(OR(Table1[[#This Row],[Next Calibration]]<$E$1,Table1[[#This Row],[Next Calibration]]=\"NEVER CALIBRATED\"),\"Calibrate\",\"Nominal\"))))","v":""},{"$f":"IF(((Table1[[#This Row],[Next Calibration]]-TODAY())/30)>2,\"More Than 2\",IF(((Table1[[#This Row],[Next Calibration]]-TODAY())/30)>1,\"Between 2 and 1\",\"Less than 1\"))","v":{"$error":"#VALUE!"}},{"$f":"IF(Table1[[#This Row],[Issued]]=\"\",\"\",IF(Table1[[#This Row],[Lent]]=\"\",0,1))","v":""},{"$f":"IF(Table1[[#This Row],[Lent]]=\"\",\"\",IF(Table1[[#This Row],[Returned]]=\"\",0,1))","v":""}]
[{"$nulls":11},{"$f":"IF(IF(Table1[[#This Row],[Disposition]]=\"Retired\",\"N/A\",IF(Table1[[#This Row],[Disposition]]=0,\"\",K118+$F$2))=0+$F$2,\"NEVER CALIBRATED\",IF(Table1[[#This Row],[Disposition]]=\"Retired\",\"N/A\",IF(Table1[[#This Row],[Disposition]]=0,\"\",K118+$F$2)))","v":""},{"$f":"IF(Table1[[#This Row],[Disposition]]=\"\",\"\",IF(AND(Table1[[#This Row],[Next Calibration]]<$E$1,Table1[[#This Row],[Disposition]]=\"Lost\"),\"Find and Calibrate\",IF(Table1[[#This Row],[Disposition]]=\"Lost\",\"Find\",IF(OR(Table1[[#This Row],[Next Calibration]]<$E$1,Table1[[#This Row],[Next Calibration]]=\"NEVER CALIBRATED\"),\"Calibrate\",\"Nominal\"))))","v":""},{"$f":"IF(((Table1[[#This Row],[Next Calibration]]-TODAY())/30)>2,\"More Than 2\",IF(((Table1[[#This Row],[Next Calibration]]-TODAY())/30)>1,\"Between 2 and 1\",\"Less than 1\"))","v":{"$error":"#VALUE!"}},{"$f":"IF(Table1[[#This Row],[Issued]]=\"\",\"\",IF(Table1[[#This Row],[Lent]]=\"\",0,1))","v":""},{"$f":"IF(Table1[[#This Row],[Lent]]=\"\",\"\",IF(Table1[[#This Row],[Returned]]=\"\",0,1))","v":""}]
[{"$nulls":11},{"$f":"IF(IF(Table1[[#This Row],[Disposition]]=\"Retired\",\"N/A\",IF(Table1[[#This Row],[Disposition]]=0,\"\",K119+$F$2))=0+$F$2,\"NEVER CALIBRATED\",IF(Table1[[#This Row],[Disposition]]=\"Retired\",\"N/A\",IF(Table1[[#This Row],[Disposition]]=0,\"\",K119+$F$2)))","v":""},{"$f":"IF(Table1[[#This Row],[Disposition]]=\"\",\"\",IF(AND(Table1[[#This Row],[Next Calibration]]<$E$1,Table1[[#This Row],[Disposition]]=\"Lost\"),\"Find and Calibrate\",IF(Table1[[#This Row],[Disposition]]=\"Lost\",\"Find\",IF(OR(Table1[[#This Row],[Next Calibration]]<$E$1,Table1[[#This Row],[Next Calibration]]=\"NEVER CALIBRATED\"),\"Calibrate\",\"Nominal\"))))","v":""},{"$f":"IF(((Table1[[#This Row],[Next Calibration]]-TODAY())/30)>2,\"More Than 2\",IF(((Table1[[#This Row],[Next Calibration]]-TODAY())/30)>1,\"Between 2 and 1\",\"Less than 1\"))","v":{"$error":"#VALUE!"}},{"$f":"IF(Table1[[#This Row],[Issued]]=\"\",\"\",IF(Table1[[#This Row],[Lent]]=\"\",0,1))","v":""},{"$f":"IF(Table1[[#This Row],[Lent]]=\"\",\"\",IF(Table1[[#This Row],[Returned]]=\"\",0,1))","v":""}]
[{"$nulls":11},{"$f":"IF(IF(Table1[[#This Row],[Disposition]]=\"Retired\",\"N/A\",IF(Table1[[#This Row],[Disposition]]=0,\"\",K120+$F$2))=0+$F$2,\"NEVER CALIBRATED\",IF(Table1[[#This Row],[Disposition]]=\"Retired\",\"N/A\",IF(Table1[[#This Row],[Disposition]]=0,\"\",K120+$F$2)))","v":""},{"$f":"IF(Table1[[#This Row],[Disposition]]=\"\",\"\",IF(AND(Table1[[#This Row],[Next Calibration]]<$E$1,Table1[[#This Row],[Disposition]]=\"Lost\"),\"Find and Calibrate\",IF(Table1[[#This Row],[Disposition]]=\"Lost\",\"Find\",IF(OR(Table1[[#This Row],[Next Calibration]]<$E$1,Table1[[#This Row],[Next Calibration]]=\"NEVER CALIBRATED\"),\"Calibrate\",\"Nominal\"))))","v":""},{"$f":"IF(((Table1[[#This Row],[Next Calibration]]-TODAY())/30)>2,\"More Than 2\",IF(((Table1[[#This Row],[Next Calibration]]-TODAY())/30)>1,\"Between 2 and 1\",\"Less than 1\"))","v":{"$error":"#VALUE!"}},{"$f":"IF(Table1[[#This Row],[Issued]]=\"\",\"\",IF(Table1[[#This Row],[Lent]]=\"\",0,1))","v":""},{"$f":"IF(Table1[[#This Row],[Lent]]=\"\",\"\",IF(Table1[[#This Row],[Returned]]=\"\",0,1))","v":""}]
[{"$nulls":11},{"$f":"IF(IF(Table1[[#This Row],[Disposition]]=\"Retired\",\"N/A\",IF(Table1[[#This Row],[Disposition]]=0,\"\",K121+$F$2))=0+$F$2,\"NEVER CALIBRATED\",IF(Table1[[#This Row],[Disposition]]=\"Retired\",\"N/A\",IF(Table1[[#This Row],[Disposition]]=0,\"\",K121+$F$2)))","v":""},{"$f":"IF(Table1[[#This Row],[Disposition]]=\"\",\"\",IF(AND(Table1[[#This Row],[Next Calibration]]<$E$1,Table1[[#This Row],[Disposition]]=\"Lost\"),\"Find and Calibrate\",IF(Table1[[#This Row],[Disposition]]=\"Lost\",\"Find\",IF(OR(Table1[[#This Row],[Next Calibration]]<$E$1,Table1[[#This Row],[Next Calibration]]=\"NEVER CALIBRATED\"),\"Calibrate\",\"Nominal\"))))","v":""},{"$f":"IF(((Table1[[#This Row],[Next Calibration]]-TODAY())/30)>2,\"More Than 2\",IF(((Table1[[#This Row],[Next Calibration]]-TODAY())/30)>1,\"Between 2 and 1\",\"Less than 1\"))","v":{"$error":"#VALUE!"}},{"$f":"IF(Table1[[#This Row],[Issued]]=\"\",\"\",IF(Table1[[#This Row],[Lent]]=\"\",0,1))","v":""},{"$f":"IF(Table1[[#This Row],[Lent]]=\"\",\"\",IF(Table1[[#This Row],[Returned]]=\"\",0,1))","v":""}]
[{"$nulls":11},{"$f":"IF(IF(Table1[[#This Row],[Disposition]]=\"Retired\",\"N/A\",IF(Table1[[#This Row],[Disposition]]=0,\"\",K122+$F$2))=0+$F$2,\"NEVER CALIBRATED\",IF(Table1[[#This Row],[Disposition]]=\"Retired\",\"N/A\",IF(Table1[[#This Row],[Disposition]]=0,\"\",K122+$F$2)))","v":""},{"$f":"IF(Table1[[#This Row],[Disposition]]=\"\",\"\",IF(AND(Table1[[#This Row],[Next Calibration]]<$E$1,Table1[[#This Row],[Disposition]]=\"Lost\"),\"Find and Calibrate\",IF(Table1[[#This Row],[Disposition]]=\"Lost\",\"Find\",IF(OR(Table1[[#This Row],[Next Calibration]]<$E$1,Table1[[#This Row],[Next Calibration]]=\"NEVER CALIBRATED\"),\"Calibrate\",\"Nominal\"))))","v":""},{"$f":"IF(((Table1[[#This Row],[Next Calibration]]-TODAY())/30)>2,\"More Than 2\",IF(((Table1[[#This Row],[Next Calibration]]-TODAY())/30)>1,\"Between 2 and 1\",\"Less than 1\"))","v":{"$error":"#VALUE!"}},{"$f":"IF(Table1[[#This Row],[Issued]]=\"\",\"\",IF(Table1[[#This Row],[Lent]]=\"\",0,1))","v":""},{"$f":"IF(Table1[[#This Row],[Lent]]=\"\",\"\",IF(Table1[[#This Row],[Returned]]=\"\",0,1))","v":""}]
[{"$nulls":11},{"$f":"IF(IF(Table1[[#This Row],[Disposition]]=\"Retired\",\"N/A\",IF(Table1[[#This Row],[Disposition]]=0,\"\",K123+$F$2))=0+$F$2,\"NEVER CALIBRATED\",IF(Table1[[#This Row],[Disposition]]=\"Retired\",\"N/A\",IF(Table1[[#This Row],[Disposition]]=0,\"\",K123+$F$2)))","v":""},{"$f":"IF(Table1[[#This Row],[Disposition]]=\"\",\"\",IF(AND(Table1[[#This Row],[Next Calibration]]<$E$1,Table1[[#This Row],[Disposition]]=\"Lost\"),\"Find and Calibrate\",IF(Table1[[#This Row],[Disposition]]=\"Lost\",\"Find\",IF(OR(Table1[[#This Row],[Next Calibration]]<$E$1,Table1[[#This Row],[Next Calibration]]=\"NEVER CALIBRATED\"),\"Calibrate\",\"Nominal\"))))","v":""},{"$f":"IF(((Table1[[#This Row],[Next Calibration]]-TODAY())/30)>2,\"More Than 2\",IF(((Table1[[#This Row],[Next Calibration]]-TODAY())/30)>1,\"Between 2 and 1\",\"Less than 1\"))","v":{"$error":"#VALUE!"}},{"$f":"IF(Table1[[#This Row],[Issued]]=\"\",\"\",IF(Table1[[#This Row],[Lent]]=\"\",0,1))","v":""},{"$f":"IF(Table1[[#This Row],[Lent]]=\"\",\"\",IF(Table1[[#This Row],[Returned]]=\"\",0,1))","v":""}]
[{"$nulls":11},{"$f":"IF(IF(Table1[[#This Row],[Disposition]]=\"Retired\",\"N/A\",IF(Table1[[#This Row],[Disposition]]=0,\"\",K124+$F$2))=0+$F$2,\"NEVER CALIBRATED\",IF(Table1[[#This Row],[Disposition]]=\"Retired\",\"N/A\",IF(Table1[[#This Row],[Disposition]]=0,\"\",K124+$F$2)))","v":""},{"$f":"IF(Table1[[#This Row],[Disposition]]=\"\",\"\",IF(AND(Table1[[#This Row],[Next Calibration]]<$E$1,Table1[[#This Row],[Disposition]]=\"Lost\"),\"Find and Calibrate\",IF(Table1[[#This Row],[Disposition]]=\"Lost\",\"Find\",IF(OR(Table1[[#This Row],[Next Calibration]]<$E$1,Table1[[#This Row],[Next Calibration]]=\"NEVER CALIBRATED\"),\"Calibrate\",\"Nominal\"))))","v":""},{"$f":"IF(((Table1[[#This Row],[Next Calibration]]-TODAY())/30)>2,\"More Than 2\",IF(((Table1[[#This Row],[Next Calibration]]-TODAY())/30)>1,\"Between 2 and 1\",\"Less than 1\"))","v":{"$error":"#VALUE!"}},{"$f":"IF(Table1[[#This Row],[Issued]]=\"\",\"\",IF(Table1[[#This Row],[Lent]]=\"\",0,1))","v":""},{"$f":"IF(Table1[[#This Row],[Lent]]=\"\",\"\",IF(Table1[[#This Row],[Returned]]=\"\",0,1))","v":""}]
[{"$nulls":11},{"$f":"IF(IF(Table1[[#This Row],[Disposition]]=\"Retired\",\"N/A\",IF(Table1[[#This Row],[Disposition]]=0,\"\",K125+$F$2))=0+$F$2,\"NEVER CALIBRATED\",IF(Table1[[#This Row],[Disposition]]=\"Retired\",\"N/A\",IF(Table1[[#This Row],[Disposition]]=0,\"\",K125+$F$2)))","v":""},{"$f":"IF(Table1[[#This Row],[Disposition]]=\"\",\"\",IF(AND(Table1[[#This Row],[Next Calibration]]<$E$1,Table1[[#This Row],[Disposition]]=\"Lost\"),\"Find and Calibrate\",IF(Table1[[#This Row],[Disposition]]=\"Lost\",\"Find\",IF(OR(Table1[[#This Row],[Next Calibration]]<$E$1,Table1[[#This Row],[Next Calibration]]=\"NEVER CALIBRATED\"),\"Calibrate\",\"Nominal\"))))","v":""},{"$f":"IF(((Table1[[#This Row],[Next Calibration]]-TODAY())/30)>2,\"More Than 2\",IF(((Table1[[#This Row],[Next Calibration]]-TODAY())/30)>1,\"Between 2 and 1\",\"Less than 1\"))","v":{"$error":"#VALUE!"}},{"$f":"IF(Table1[[#This Row],[Issued]]=\"\",\"\",IF(Table1[[#This Row],[Lent]]=\"\",0,1))","v":""},{"$f":"IF(Table1[[#This Row],[Lent]]=\"\",\"\",IF(Table1[[#This Row],[Returned]]=\"\",0,1))","v":""}]
[{"$nulls":11},{"$f":"IF(IF(Table1[[#This Row],[Disposition]]=\"Retired\",\"N/A\",IF(Table1[[#This Row],[Disposition]]=0,\"\",K126+$F$2))=0+$F$2,\"NEVER CALIBRATED\",IF(Table1[[#This Row],[Disposition]]=\"Retired\",\"N/A\",IF(Table1[[#This Row],[Disposition]]=0,\"\",K126+$F$2)))","v":""},{"$f":"IF(Table1[[#This Row],[Disposition]]=\"\",\"\",IF(AND(Table1[[#This Row],[Next Calibration]]<$E$1,Table1[[#This Row],[Disposition]]=\"Lost\"),\"Find and Calibrate\",IF(Table1[[#This Row],[Disposition]]=\"Lost\",\"Find\",IF(OR(Table1[[#This Row],[Next Calibration]]<$E$1,Table1[[#This Row],[Next Calibration]]=\"NEVER CALIBRATED\"),\"Calibrate\",\"Nominal\"))))","v":""},{"$f":"IF(((Table1[[#This Row],[Next Calibration]]-TODAY())/30)>2,\"More Than 2\",IF(((Table1[[#This Row],[Next Calibration]]-TODAY())/30)>1,\"Between 2 and 1\",\"Less than 1\"))","v":{"$error":"#VALUE!"}},{"$f":"IF(Table1[[#This Row],[Issued]]=\"\",\"\",IF(Table1[[#This Row],[Lent]]=\"\",0,1))","v":""},{"$f":"IF(Table1[[#This Row],[Lent]]=\"\",\"\",IF(Table1[[#This Row],[Returned]]=\"\",0,1))","v":""}]
[{"$nulls":11},{"$f":"IF(IF(Table1[[#This Row],[Disposition]]=\"Retired\",\"N/A\",IF(Table1[[#This Row],[Disposition]]=0,\"\",K127+$F$2))=0+$F$2,\"NEVER CALIBRATED\",IF(Table1[[#This Row],[Disposition]]=\"Retired\",\"N/A\",IF(Table1[[#This Row],[Disposition]]=0,\"\",K127+$F$2)))","v":""},{"$f":"IF(Table1[[#This Row],[Disposition]]=\"\",\"\",IF(AND(Table1[[#This Row],[Next Calibration]]<$E$1,Table1[[#This Row],[Disposition]]=\"Lost\"),\"Find and Calibrate\",IF(Table1[[#This Row],[Disposition]]=\"Lost\",\"Find\",IF(OR(Table1[[#This Row],[Next Calibration]]<$E$1,Table1[[#This Row],[Next Calibration]]=\"NEVER CALIBRATED\"),\"Calibrate\",\"Nominal\"))))","v":""},{"$f":"IF(((Table1[[#This Row],[Next Calibration]]-TODAY())/30)>2,\"More Than 2\",IF(((Table1[[#This Row],[Next Calibration]]-TODAY())/30)>1,\"Between 2 and 1\",\"Less than 1\"))","v":{"$error":"#VALUE!"}},{"$f":"IF(Table1[[#This Row],[Issued]]=\"\",\"\",IF(Table1[[#This Row],[Lent]]=\"\",0,1))","v":""},{"$f":"IF(Table1[[#This Row],[Lent]]=\"\",\"\",IF(Table1[[#This Row],[Returned]]=\"\",0,1))","v":""}]
[{"$nulls":11},{"$f":"IF(IF(Table1[[#This Row],[Disposition]]=\"Retired\",\"N/A\",IF(Table1[[#This Row],[Disposition]]=0,\"\",K128+$F$2))=0+$F$2,\"NEVER CALIBRATED\",IF(Table1[[#This Row],[Disposition]]=\"Retired\",\"N/A\",IF(Table1[[#This Row],[Disposition]]=0,\"\",K128+$F$2)))","v":""},{"$f":"IF(Table1[[#This Row],[Disposition]]=\"\",\"\",IF(AND(Table1[[#This Row],[Next Calibration]]<$E$1,Table1[[#This Row],[Disposition]]=\"Lost\"),\"Find and Calibrate\",IF(Table1[[#This Row],[Disposition]]=\"Lost\",\"Find\",IF(OR(Table1[[#This Row],[Next Calibration]]<$E$1,Table1[[#This Row],[Next Calibration]]=\"NEVER CALIBRATED\"),\"Calibrate\",\"Nominal\"))))","v":""},{"$f":"IF(((Table1[[#This Row],[Next Calibration]]-TODAY())/30)>2,\"More Than 2\",IF(((Table1[[#This Row],[Next Calibration]]-TODAY())/30)>1,\"Between 2 and 1\",\"Less than 1\"))","v":{"$error":"#VALUE!"}},{"$f":"IF(Table1[[#This Row],[Issued]]=\"\",\"\",IF(Table1[[#This Row],[Lent]]=\"\",0,1))","v":""},{"$f":"IF(Table1[[#This Row],[Lent]]=\"\",\"\",IF(Table1[[#This Row],[Returned]]=\"\",0,1))","v":""}]
[{"$nulls":11},{"$f":"IF(IF(Table1[[#This Row],[Disposition]]=\"Retired\",\"N/A\",IF(Table1[[#This Row],[Disposition]]=0,\"\",K129+$F$2))=0+$F$2,\"NEVER CALIBRATED\",IF(Table1[[#This Row],[Disposition]]=\"Retired\",\"N/A\",IF(Table1[[#This Row],[Disposition]]=0,\"\",K129+$F$2)))","v":""},{"$f":"IF(Table1[[#This Row],[Disposition]]=\"\",\"\",IF(AND(Table1[[#This Row],[Next Calibration]]<$E$1,Table1[[#This Row],[Disposition]]=\"Lost\"),\"Find and Calibrate\",IF(Table1[[#This Row],[Disposition]]=\"Lost\",\"Find\",IF(OR(Table1[[#This Row],[Next Calibration]]<$E$1,Table1[[#This Row],[Next Calibration]]=\"NEVER CALIBRATED\"),\"Calibrate\",\"Nominal\"))))","v":""},{"$f":"IF(((Table1[[#This Row],[Next Calibration]]-TODAY())/30)>2,\"More Than 2\",IF(((Table1[[#This Row],[Next Calibration]]-TODAY())/30)>1,\"Between 2 and 1\",\"Less than 1\"))","v":{"$error":"#VALUE!"}},{"$f":"IF(Table1[[#This Row],[Issued]]=\"\",\"\",IF(Table1[[#This Row],[Lent]]=\"\",0,1))","v":""},{"$f":"IF(Table1[[#This Row],[Lent]]=\"\",\"\",IF(Table1[[#This Row],[Returned]]=\"\",0,1))","v":""}]
[{"$nulls":11},{"$f":"IF(IF(Table1[[#This Row],[Disposition]]=\"Retired\",\"N/A\",IF(Table1[[#This Row],[Disposition]]=0,\"\",K130+$F$2))=0+$F$2,\"NEVER CALIBRATED\",IF(Table1[[#This Row],[Disposition]]=\"Retired\",\"N/A\",IF(Table1[[#This Row],[Disposition]]=0,\"\",K130+$F$2)))","v":""},{"$f":"IF(Table1[[#This Row],[Disposition]]=\"\",\"\",IF(AND(Table1[[#This Row],[Next Calibration]]<$E$1,Table1[[#This Row],[Disposition]]=\"Lost\"),\"Find and Calibrate\",IF(Table1[[#This Row],[Disposition]]=\"Lost\",\"Find\",IF(OR(Table1[[#This Row],[Next Calibration]]<$E$1,Table1[[#This Row],[Next Calibration]]=\"NEVER CALIBRATED\"),\"Calibrate\",\"Nominal\"))))","v":""},{"$f":"IF(((Table1[[#This Row],[Next Calibration]]-TODAY())/30)>2,\"More Than 2\",IF(((Table1[[#This Row],[Next Calibration]]-TODAY())/30)>1,\"Between 2 and 1\",\"Less than 1\"))","v":{"$error":"#VALUE!"}},{"$f":"IF(Table1[[#This Row],[Issued]]=\"\",\"\",IF(Table1[[#This Row],[Lent]]=\"\",0,1))","v":""},{"$f":"IF(Table1[[#This Row],[Lent]]=\"\",\"\",IF(Table1[[#This Row],[Returned]]=\"\",0,1))","v":""}]
[{"$nulls":11},{"$f":"IF(IF(Table1[[#This Row],[Disposition]]=\"Retired\",\"N/A\",IF(Table1[[#This Row],[Disposition]]=0,\"\",K131+$F$2))=0+$F$2,\"NEVER CALIBRATED\",IF(Table1[[#This Row],[Disposition]]=\"Retired\",\"N/A\",IF(Table1[[#This Row],[Disposition]]=0,\"\",K131+$F$2)))","v":""},{"$f":"IF(Table1[[#This Row],[Disposition]]=\"\",\"\",IF(AND(Table1[[#This Row],[Next Calibration]]<$E$1,Table1[[#This Row],[Disposition]]=\"Lost\"),\"Find and Calibrate\",IF(Table1[[#This Row],[Disposition]]=\"Lost\",\"Find\",IF(OR(Table1[[#This Row],[Next Calibration]]<$E$1,Table1[[#This Row],[Next Calibration]]=\"NEVER CALIBRATED\"),\"Calibrate\",\"Nominal\"))))","v":""},{"$f":"IF(((Table1[[#This Row],[Next Calibration]]-TODAY())/30)>2,\"More Than 2\",IF(((Table1[[#This Row],[Next Calibration]]-TODAY())/30)>1,\"Between 2 and 1\",\"Less than 1\"))","v":{"$error":"#VALUE!"}},{"$f":"IF(Table1[[#This Row],[Issued]]=\"\",\"\",IF(Table1[[#This Row],[Lent]]=\"\",0,1))","v":""},{"$f":"IF(Table1[[#This Row],[Lent]]=\"\",\"\",IF(Table1[[#This Row],[Returned]]=\"\",0,1))","v":""}]
[{"$nulls":11},{"$f":"IF(IF(Table1[[#This Row],[Disposition]]=\"Retired\",\"N/A\",IF(Table1[[#This Row],[Disposition]]=0,\"\",K132+$F$2))=0+$F$2,\"NEVER CALIBRATED\",IF(Table1[[#This Row],[Disposition]]=\"Retired\",\"N/A\",IF(Table1[[#This Row],[Disposition]]=0,\"\",K132+$F$2)))","v":""},{"$f":"IF(Table1[[#This Row],[Disposition]]=\"\",\"\",IF(AND(Table1[[#This Row],[Next Calibration]]<$E$1,Table1[[#This Row],[Disposition]]=\"Lost\"),\"Find and Calibrate\",IF(Table1[[#This Row],[Disposition]]=\"Lost\",\"Find\",IF(OR(Table1[[#This Row],[Next Calibration]]<$E$1,Table1[[#This Row],[Next Calibration]]=\"NEVER CALIBRATED\"),\"Calibrate\",\"Nominal\"))))","v":""},{"$f":"IF(((Table1[[#This Row],[Next Calibration]]-TODAY())/30)>2,\"More Than 2\",IF(((Table1[[#This Row],[Next Calibration]]-TODAY())/30)>1,\"Between 2 and 1\",\"Less than 1\"))","v":{"$error":"#VALUE!"}},{"$f":"IF(Table1[[#This Row],[Issued]]=\"\",\"\",IF(Table1[[#This Row],[Lent]]=\"\",0,1))","v":""},{"$f":"IF(Table1[[#This Row],[Lent]]=\"\",\"\",IF(Table1[[#This Row],[Returned]]=\"\",0,1))","v":""}]
[{"$nulls":11},{"$f":"IF(IF(Table1[[#This Row],[Disposition]]=\"Retired\",\"N/A\",IF(Table1[[#This Row],[Disposition]]=0,\"\",K133+$F$2))=0+$F$2,\"NEVER CALIBRATED\",IF(Table1[[#This Row],[Disposition]]=\"Retired\",\"N/A\",IF(Table1[[#This Row],[Disposition]]=0,\"\",K133+$F$2)))","v":""},{"$f":"IF(Table1[[#This Row],[Disposition]]=\"\",\"\",IF(AND(Table1[[#This Row],[Next Calibration]]<$E$1,Table1[[#This Row],[Disposition]]=\"Lost\"),\"Find and Calibrate\",IF(Table1[[#This Row],[Disposition]]=\"Lost\",\"Find\",IF(OR(Table1[[#This Row],[Next Calibration]]<$E$1,Table1[[#This Row],[Next Calibration]]=\"NEVER CALIBRATED\"),\"Calibrate\",\"Nominal\"))))","v":""},{"$f":"IF(((Table1[[#This Row],[Next Calibration]]-TODAY())/30)>2,\"More Than 2\",IF(((Table1[[#This Row],[Next Calibration]]-TODAY())/30)>1,\"Between 2 and 1\",\"Less than 1\"))","v":{"$error":"#VALUE!"}},{"$f":"IF(Table1[[#This Row],[Issued]]=\"\",\"\",IF(Table1[[#This Row],[Lent]]=\"\",0,1))","v":""},{"$f":"IF(Table1[[#This Row],[Lent]]=\"\",\"\",IF(Table1[[#This Row],[Returned]]=\"\",0,1))","v":""}]
[{"$nulls":11},{"$f":"IF(IF(Table1[[#This Row],[Disposition]]=\"Retired\",\"N/A\",IF(Table1[[#This Row],[Disposition]]=0,\"\",K134+$F$2))=0+$F$2,\"NEVER CALIBRATED\",IF(Table1[[#This Row],[Disposition]]=\"Retired\",\"N/A\",IF(Table1[[#This Row],[Disposition]]=0,\"\",K134+$F$2)))","v":""},{"$f":"IF(Table1[[#This Row],[Disposition]]=\"\",\"\",IF(AND(Table1[[#This Row],[Next Calibration]]<$E$1,Table1[[#This Row],[Disposition]]=\"Lost\"),\"Find and Calibrate\",IF(Table1[[#This Row],[Disposition]]=\"Lost\",\"Find\",IF(OR(Table1[[#This Row],[Next Calibration]]<$E$1,Table1[[#This Row],[Next Calibration]]=\"NEVER CALIBRATED\"),\"Calibrate\",\"Nominal\"))))","v":""},{"$f":"IF(((Table1[[#This Row],[Next Calibration]]-TODAY())/30)>2,\"More Than 2\",IF(((Table1[[#This Row],[Next Calibration]]-TODAY())/30)>1,\"Between 2 and 1\",\"Less than 1\"))","v":{"$error":"#VALUE!"}},{"$f":"IF(Table1[[#This Row],[Issued]]=\"\",\"\",IF(Table1[[#This Row],[Lent]]=\"\",0,1))","v":""},{"$f":"IF(Table1[[#This Row],[Lent]]=\"\",\"\",IF(Table1[[#This Row],[Returned]]=\"\",0,1))","v":""}]
[{"$nulls":11},{"$f":"IF(IF(Table1[[#This Row],[Disposition]]=\"Retired\",\"N/A\",IF(Table1[[#This Row],[Disposition]]=0,\"\",K135+$F$2))=0+$F$2,\"NEVER CALIBRATED\",IF(Table1[[#This Row],[Disposition]]=\"Retired\",\"N/A\",IF(Table1[[#This Row],[Disposition]]=0,\"\",K135+$F$2)))","v":""},{"$f":"IF(Table1[[#This Row],[Disposition]]=\"\",\"\",IF(AND(Table1[[#This Row],[Next Calibration]]<$E$1,Table1[[#This Row],[Disposition]]=\"Lost\"),\"Find and Calibrate\",IF(Table1[[#This Row],[Disposition]]=\"Lost\",\"Find\",IF(OR(Table1[[#This Row],[Next Calibration]]<$E$1,Table1[[#This Row],[Next Calibration]]=\"NEVER CALIBRATED\"),\"Calibrate\",\"Nominal\"))))","v":""},{"$f":"IF(((Table1[[#This Row],[Next Calibration]]-TODAY())/30)>2,\"More Than 2\",IF(((Table1[[#This Row],[Next Calibration]]-TODAY())/30)>1,\"Between 2 and 1\",\"Less than 1\"))","v":{"$error":"#VALUE!"}},{"$f":"IF(Table1[[#This Row],[Issued]]=\"\",\"\",IF(Table1[[#This Row],[Lent]]=\"\",0,1))","v":""},{"$f":"IF(Table1[[#This Row],[Lent]]=\"\",\"\",IF(Table1[[#This Row],[Returned]]=\"\",0,1))","v":""}]
[{"$nulls":11},{"$f":"IF(IF(Table1[[#This Row],[Disposition]]=\"Retired\",\"N/A\",IF(Table1[[#This Row],[Disposition]]=0,\"\",K136+$F$2))=0+$F$2,\"NEVER CALIBRATED\",IF(Table1[[#This Row],[Disposition]]=\"Retired\",\"N/A\",IF(Table1[[#This Row],[Disposition]]=0,\"\",K136+$F$2)))","v":""},{"$f":"IF(Table1[[#This Row],[Disposition]]=\"\",\"\",IF(AND(Table1[[#This Row],[Next Calibration]]<$E$1,Table1[[#This Row],[Disposition]]=\"Lost\"),\"Find and Calibrate\",IF(Table1[[#This Row],[Disposition]]=\"Lost\",\"Find\",IF(OR(Table1[[#This Row],[Next Calibration]]<$E$1,Table1[[#This Row],[Next Calibration]]=\"NEVER CALIBRATED\"),\"Calibrate\",\"Nominal\"))))","v":""},{"$f":"IF(((Table1[[#This Row],[Next Calibration]]-TODAY())/30)>2,\"More Than 2\",IF(((Table1[[#This Row],[Next Calibration]]-TODAY())/30)>1,\"Between 2 and 1\",\"Less than 1\"))","v":{"$error":"#VALUE!"}},{"$f":"IF(Table1[[#This Row],[Issued]]=\"\",\"\",IF(Table1[[#This Row],[Lent]]=\"\",0,1))","v":""},{"$f":"IF(Table1[[#This Row],[Lent]]=\"\",\"\",IF(Table1[[#This Row],[Returned]]=\"\",0,1))","v":""}]
[{"$nulls":11},{"$f":"IF(IF(Table1[[#This Row],[Disposition]]=\"Retired\",\"N/A\",IF(Table1[[#This Row],[Disposition]]=0,\"\",K137+$F$2))=0+$F$2,\"NEVER CALIBRATED\",IF(Table1[[#This Row],[Disposition]]=\"Retired\",\"N/A\",IF(Table1[[#This Row],[Disposition]]=0,\"\",K137+$F$2)))","v":""},{"$f":"IF(Table1[[#This Row],[Disposition]]=\"\",\"\",IF(AND(Table1[[#This Row],[Next Calibration]]<$E$1,Table1[[#This Row],[Disposition]]=\"Lost\"),\"Find and Calibrate\",IF(Table1[[#This Row],[Disposition]]=\"Lost\",\"Find\",IF(OR(Table1[[#This Row],[Next Calibration]]<$E$1,Table1[[#This Row],[Next Calibration]]=\"NEVER CALIBRATED\"),\"Calibrate\",\"Nominal\"))))","v":""},{"$f":"IF(((Table1[[#This Row],[Next Calibration]]-TODAY())/30)>2,\"More Than 2\",IF(((Table1[[#This Row],[Next Calibration]]-TODAY())/30)>1,\"Between 2 and 1\",\"Less than 1\"))","v":{"$error":"#VALUE!"}},{"$f":"IF(Table1[[#This Row],[Issued]]=\"\",\"\",IF(Table1[[#This Row],[Lent]]=\"\",0,1))","v":""},{"$f":"IF(Table1[[#This Row],[Lent]]=\"\",\"\",IF(Table1[[#This Row],[Returned]]=\"\",0,1))","v":""}]
[{"$nulls":11},{"$f":"IF(IF(Table1[[#This Row],[Disposition]]=\"Retired\",\"N/A\",IF(Table1[[#This Row],[Disposition]]=0,\"\",K138+$F$2))=0+$F$2,\"NEVER CALIBRATED\",IF(Table1[[#This Row],[Disposition]]=\"Retired\",\"N/A\",IF(Table1[[#This Row],[Disposition]]=0,\"\",K138+$F$2)))","v":""},{"$f":"IF(Table1[[#This Row],[Disposition]]=\"\",\"\",IF(AND(Table1[[#This Row],[Next Calibration]]<$E$1,Table1[[#This Row],[Disposition]]=\"Lost\"),\"Find and Calibrate\",IF(Table1[[#This Row],[Disposition]]=\"Lost\",\"Find\",IF(OR(Table1[[#This Row],[Next Calibration]]<$E$1,Table1[[#This Row],[Next Calibration]]=\"NEVER CALIBRATED\"),\"Calibrate\",\"Nominal\"))))","v":""},{"$f":"IF(((Table1[[#This Row],[Next Calibration]]-TODAY())/30)>2,\"More Than 2\",IF(((Table1[[#This Row],[Next Calibration]]-TODAY())/30)>1,\"Between 2 and 1\",\"Less than 1\"))","v":{"$error":"#VALUE!"}},{"$f":"IF(Table1[[#This Row],[Issued]]=\"\",\"\",IF(Table1[[#This Row],[Lent]]=\"\",0,1))","v":""},{"$f":"IF(Table1[[#This Row],[Lent]]=\"\",\"\",IF(Table1[[#This Row],[Returned]]=\"\",0,1))","v":""}]
[{"$nulls":11},{"$f":"IF(IF(Table1[[#This Row],[Disposition]]=\"Retired\",\"N/A\",IF(Table1[[#This Row],[Disposition]]=0,\"\",K139+$F$2))=0+$F$2,\"NEVER CALIBRATED\",IF(Table1[[#This Row],[Disposition]]=\"Retired\",\"N/A\",IF(Table1[[#This Row],[Disposition]]=0,\"\",K139+$F$2)))","v":""},{"$f":"IF(Table1[[#This Row],[Disposition]]=\"\",\"\",IF(AND(Table1[[#This Row],[Next Calibration]]<$E$1,Table1[[#This Row],[Disposition]]=\"Lost\"),\"Find and Calibrate\",IF(Table1[[#This Row],[Disposition]]=\"Lost\",\"Find\",IF(OR(Table1[[#This Row],[Next Calibration]]<$E$1,Table1[[#This Row],[Next Calibration]]=\"NEVER CALIBRATED\"),\"Calibrate\",\"Nominal\"))))","v":""},{"$f":"IF(((Table1[[#This Row],[Next Calibration]]-TODAY())/30)>2,\"More Than 2\",IF(((Table1[[#This Row],[Next Calibration]]-TODAY())/30)>1,\"Between 2 and 1\",\"Less than 1\"))","v":{"$error":"#VALUE!"}},{"$f":"IF(Table1[[#This Row],[Issued]]=\"\",\"\",IF(Table1[[#This Row],[Lent]]=\"\",0,1))","v":""},{"$f":"IF(Table1[[#This Row],[Lent]]=\"\",\"\",IF(Table1[[#This Row],[Returned]]=\"\",0,1))","v":""}]
[{"$nulls":11},{"$f":"IF(IF(Table1[[#This Row],[Disposition]]=\"Retired\",\"N/A\",IF(Table1[[#This Row],[Disposition]]=0,\"\",K140+$F$2))=0+$F$2,\"NEVER CALIBRATED\",IF(Table1[[#This Row],[Disposition]]=\"Retired\",\"N/A\",IF(Table1[[#This Row],[Disposition]]=0,\"\",K140+$F$2)))","v":""},{"$f":"IF(Table1[[#This Row],[Disposition]]=\"\",\"\",IF(AND(Table1[[#This Row],[Next Calibration]]<$E$1,Table1[[#This Row],[Disposition]]=\"Lost\"),\"Find and Calibrate\",IF(Table1[[#This Row],[Disposition]]=\"Lost\",\"Find\",IF(OR(Table1[[#This Row],[Next Calibration]]<$E$1,Table1[[#This Row],[Next Calibration]]=\"NEVER CALIBRATED\"),\"Calibrate\",\"Nominal\"))))","v":""},{"$f":"IF(((Table1[[#This Row],[Next Calibration]]-TODAY())/30)>2,\"More Than 2\",IF(((Table1[[#This Row],[Next Calibration]]-TODAY())/30)>1,\"Between 2 and 1\",\"Less than 1\"))","v":{"$error":"#VALUE!"}},{"$f":"IF(Table1[[#This Row],[Issued]]=\"\",\"\",IF(Table1[[#This Row],[Lent]]=\"\",0,1))","v":""},{"$f":"IF(Table1[[#This Row],[Lent]]=\"\",\"\",IF(Table1[[#This Row],[Returned]]=\"\",0,1))","v":""}]
[{"$nulls":11},{"$f":"IF(IF(Table1[[#This Row],[Disposition]]=\"Retired\",\"N/A\",IF(Table1[[#This Row],[Disposition]]=0,\"\",K141+$F$2))=0+$F$2,\"NEVER CALIBRATED\",IF(Table1[[#This Row],[Disposition]]=\"Retired\",\"N/A\",IF(Table1[[#This Row],[Disposition]]=0,\"\",K141+$F$2)))","v":""},{"$f":"IF(Table1[[#This Row],[Disposition]]=\"\",\"\",IF(AND(Table1[[#This Row],[Next Calibration]]<$E$1,Table1[[#This Row],[Disposition]]=\"Lost\"),\"Find and Calibrate\",IF(Table1[[#This Row],[Disposition]]=\"Lost\",\"Find\",IF(OR(Table1[[#This Row],[Next Calibration]]<$E$1,Table1[[#This Row],[Next Calibration]]=\"NEVER CALIBRATED\"),\"Calibrate\",\"Nominal\"))))","v":""},{"$f":"IF(((Table1[[#This Row],[Next Calibration]]-TODAY())/30)>2,\"More Than 2\",IF(((Table1[[#This Row],[Next Calibration]]-TODAY())/30)>1,\"Between 2 and 1\",\"Less than 1\"))","v":{"$error":"#VALUE!"}},{"$f":"IF(Table1[[#This Row],[Issued]]=\"\",\"\",IF(Table1[[#This Row],[Lent]]=\"\",0,1))","v":""},{"$f":"IF(Table1[[#This Row],[Lent]]=\"\",\"\",IF(Table1[[#This Row],[Returned]]=\"\",0,1))","v":""}]
[{"$nulls":11},{"$f":"IF(IF(Table1[[#This Row],[Disposition]]=\"Retired\",\"N/A\",IF(Table1[[#This Row],[Disposition]]=0,\"\",K142+$F$2))=0+$F$2,\"NEVER CALIBRATED\",IF(Table1[[#This Row],[Disposition]]=\"Retired\",\"N/A\",IF(Table1[[#This Row],[Disposition]]=0,\"\",K142+$F$2)))","v":""},{"$f":"IF(Table1[[#This Row],[Disposition]]=\"\",\"\",IF(AND(Table1[[#This Row],[Next Calibration]]<$E$1,Table1[[#This Row],[Disposition]]=\"Lost\"),\"Find and Calibrate\",IF(Table1[[#This Row],[Disposition]]=\"Lost\",\"Find\",IF(OR(Table1[[#This Row],[Next Calibration]]<$E$1,Table1[[#This Row],[Next Calibration]]=\"NEVER CALIBRATED\"),\"Calibrate\",\"Nominal\"))))","v":""},{"$f":"IF(((Table1[[#This Row],[Next Calibration]]-TODAY())/30)>2,\"More Than 2\",IF(((Table1[[#This Row],[Next Calibration]]-TODAY())/30)>1,\"Between 2 and 1\",\"Less than 1\"))","v":{"$error":"#VALUE!"}},{"$f":"IF(Table1[[#This Row],[Issued]]=\"\",\"\",IF(Table1[[#This Row],[Lent]]=\"\",0,1))","v":""},{"$f":"IF(Table1[[#This Row],[Lent]]=\"\",\"\",IF(Table1[[#This Row],[Returned]]=\"\",0,1))","v":""}]
[{"$nulls":11},{"$f":"IF(IF(Table1[[#This Row],[Disposition]]=\"Retired\",\"N/A\",IF(Table1[[#This Row],[Disposition]]=0,\"\",K143+$F$2))=0+$F$2,\"NEVER CALIBRATED\",IF(Table1[[#This Row],[Disposition]]=\"Retired\",\"N/A\",IF(Table1[[#This Row],[Disposition]]=0,\"\",K143+$F$2)))","v":""},{"$f":"IF(Table1[[#This Row],[Disposition]]=\"\",\"\",IF(AND(Table1[[#This Row],[Next Calibration]]<$E$1,Table1[[#This Row],[Disposition]]=\"Lost\"),\"Find and Calibrate\",IF(Table1[[#This Row],[Disposition]]=\"Lost\",\"Find\",IF(OR(Table1[[#This Row],[Next Calibration]]<$E$1,Table1[[#This Row],[Next Calibration]]=\"NEVER CALIBRATED\"),\"Calibrate\",\"Nominal\"))))","v":""},{"$f":"IF(((Table1[[#This Row],[Next Calibration]]-TODAY())/30)>2,\"More Than 2\",IF(((Table1[[#This Row],[Next Calibration]]-TODAY())/30)>1,\"Between 2 and 1\",\"Less than 1\"))","v":{"$error":"#VALUE!"}},{"$f":"IF(Table1[[#This Row],[Issued]]=\"\",\"\",IF(Table1[[#This Row],[Lent]]=\"\",0,1))","v":""},{"$f":"IF(Table1[[#This Row],[Lent]]=\"\",\"\",IF(Table1[[#This Row],[Returned]]=\"\",0,1))","v":""}]
[{"$nulls":11},{"$f":"IF(IF(Table1[[#This Row],[Disposition]]=\"Retired\",\"N/A\",IF(Table1[[#This Row],[Disposition]]=0,\"\",K144+$F$2))=0+$F$2,\"NEVER CALIBRATED\",IF(Table1[[#This Row],[Disposition]]=\"Retired\",\"N/A\",IF(Table1[[#This Row],[Disposition]]=0,\"\",K144+$F$2)))","v":""},{"$f":"IF(Table1[[#This Row],[Disposition]]=\"\",\"\",IF(AND(Table1[[#This Row],[Next Calibration]]<$E$1,Table1[[#This Row],[Disposition]]=\"Lost\"),\"Find and Calibrate\",IF(Table1[[#This Row],[Disposition]]=\"Lost\",\"Find\",IF(OR(Table1[[#This Row],[Next Calibration]]<$E$1,Table1[[#This Row],[Next Calibration]]=\"NEVER CALIBRATED\"),\"Calibrate\",\"Nominal\"))))","v":""},{"$f":"IF(((Table1[[#This Row],[Next Calibration]]-TODAY())/30)>2,\"More Than 2\",IF(((Table1[[#This Row],[Next Calibration]]-TODAY())/30)>1,\"Between 2 and 1\",\"Less than 1\"))","v":{"$error":"#VALUE!"}},{"$f":"IF(Table1[[#This Row],[Issued]]=\"\",\"\",IF(Table1[[#This Row],[Lent]]=\"\",0,1))","v":""},{"$f":"IF(Table1[[#This Row],[Lent]]=\"\",\"\",IF(Table1[[#This Row],[Returned]]=\"\",0,1))","v":""}]
[{"$nulls":11},{"$f":"IF(IF(Table1[[#This Row],[Disposition]]=\"Retired\",\"N/A\",IF(Table1[[#This Row],[Disposition]]=0,\"\",K145+$F$2))=0+$F$2,\"NEVER CALIBRATED\",IF(Table1[[#This Row],[Disposition]]=\"Retired\",\"N/A\",IF(Table1[[#This Row],[Disposition]]=0,\"\",K145+$F$2)))","v":""},{"$f":"IF(Table1[[#This Row],[Disposition]]=\"\",\"\",IF(AND(Table1[[#This Row],[Next Calibration]]<$E$1,Table1[[#This Row],[Disposition]]=\"Lost\"),\"Find and Calibrate\",IF(Table1[[#This Row],[Disposition]]=\"Lost\",\"Find\",IF(OR(Table1[[#This Row],[Next Calibration]]<$E$1,Table1[[#This Row],[Next Calibration]]=\"NEVER CALIBRATED\"),\"Calibrate\",\"Nominal\"))))","v":""},{"$f":"IF(((Table1[[#This Row],[Next Calibration]]-TODAY())/30)>2,\"More Than 2\",IF(((Table1[[#This Row],[Next Calibration]]-TODAY())/30)>1,\"Between 2 and 1\",\"Less than 1\"))","v":{"$error":"#VALUE!"}},{"$f":"IF(Table1[[#This Row],[Issued]]=\"\",\"\",IF(Table1[[#This Row],[Lent]]=\"\",0,1))","v":""},{"$f":"IF(Table1[[#This Row],[Lent]]=\"\",\"\",IF(Table1[[#This Row],[Returned]]=\"\",0,1))","v":""}]
[{"$nulls":11},{"$f":"IF(IF(Table1[[#This Row],[Disposition]]=\"Retired\",\"N/A\",IF(Table1[[#This Row],[Disposition]]=0,\"\",K146+$F$2))=0+$F$2,\"NEVER CALIBRATED\",IF(Table1[[#This Row],[Disposition]]=\"Retired\",\"N/A\",IF(Table1[[#This Row],[Disposition]]=0,\"\",K146+$F$2)))","v":""},{"$f":"IF(Table1[[#This Row],[Disposition]]=\"\",\"\",IF(AND(Table1[[#This Row],[Next Calibration]]<$E$1,Table1[[#This Row],[Disposition]]=\"Lost\"),\"Find and Calibrate\",IF(Table1[[#This Row],[Disposition]]=\"Lost\",\"Find\",IF(OR(Table1[[#This Row],[Next Calibration]]<$E$1,Table1[[#This Row],[Next Calibration]]=\"NEVER CALIBRATED\"),\"Calibrate\",\"Nominal\"))))","v":""},{"$f":"IF(((Table1[[#This Row],[Next Calibration]]-TODAY())/30)>2,\"More Than 2\",IF(((Table1[[#This Row],[Next Calibration]]-TODAY())/30)>1,\"Between 2 and 1\",\"Less than 1\"))","v":{"$error":"#VALUE!"}},{"$f":"IF(Table1[[#This Row],[Issued]]=\"\",\"\",IF(Table1[[#This Row],[Lent]]=\"\",0,1))","v":""},{"$f":"IF(Table1[[#This Row],[Lent]]=\"\",\"\",IF(Table1[[#This Row],[Returned]]=\"\",0,1))","v":""}]
[{"$nulls":11},{"$f":"IF(IF(Table1[[#This Row],[Disposition]]=\"Retired\",\"N/A\",IF(Table1[[#This Row],[Disposition]]=0,\"\",K147+$F$2))=0+$F$2,\"NEVER CALIBRATED\",IF(Table1[[#This Row],[Disposition]]=\"Retired\",\"N/A\",IF(Table1[[#This Row],[Disposition]]=0,\"\",K147+$F$2)))","v":""},{"$f":"IF(Table1[[#This Row],[Disposition]]=\"\",\"\",IF(AND(Table1[[#This Row],[Next Calibration]]<$E$1,Table1[[#This Row],[Disposition]]=\"Lost\"),\"Find and Calibrate\",IF(Table1[[#This Row],[Disposition]]=\"Lost\",\"Find\",IF(OR(Table1[[#This Row],[Next Calibration]]<$E$1,Table1[[#This Row],[Next Calibration]]=\"NEVER CALIBRATED\"),\"Calibrate\",\"Nominal\"))))","v":""},{"$f":"IF(((Table1[[#This Row],[Next Calibration]]-TODAY())/30)>2,\"More Than 2\",IF(((Table1[[#This Row],[Next Calibration]]-TODAY())/30)>1,\"Between 2 and 1\",\"Less than 1\"))","v":{"$error":"#VALUE!"}},{"$f":"IF(Table1[[#This Row],[Issued]]=\"\",\"\",IF(Table1[[#This Row],[Lent]]=\"\",0,1))","v":""},{"$f":"IF(Table1[[#This Row],[Lent]]=\"\",\"\",IF(Table1[[#This Row],[Returned]]=\"\",0,1))","v":""}]
[{"$nulls":11},{"$f":"IF(IF(Table1[[#This Row],[Disposition]]=\"Retired\",\"N/A\",IF(Table1[[#This Row],[Disposition]]=0,\"\",K148+$F$2))=0+$F$2,\"NEVER CALIBRATED\",IF(Table1[[#This Row],[Disposition]]=\"Retired\",\"N/A\",IF(Table1[[#This Row],[Disposition]]=0,\"\",K148+$F$2)))","v":""},{"$f":"IF(Table1[[#This Row],[Disposition]]=\"\",\"\",IF(AND(Table1[[#This Row],[Next Calibration]]<$E$1,Table1[[#This Row],[Disposition]]=\"Lost\"),\"Find and Calibrate\",IF(Table1[[#This Row],[Disposition]]=\"Lost\",\"Find\",IF(OR(Table1[[#This Row],[Next Calibration]]<$E$1,Table1[[#This Row],[Next Calibration]]=\"NEVER CALIBRATED\"),\"Calibrate\",\"Nominal\"))))","v":""},{"$f":"IF(((Table1[[#This Row],[Next Calibration]]-TODAY())/30)>2,\"More Than 2\",IF(((Table1[[#This Row],[Next Calibration]]-TODAY())/30)>1,\"Between 2 and 1\",\"Less than 1\"))","v":{"$error":"#VALUE!"}},{"$f":"IF(Table1[[#This Row],[Issued]]=\"\",\"\",IF(Table1[[#This Row],[Lent]]=\"\",0,1))","v":""},{"$f":"IF(Table1[[#This Row],[Lent]]=\"\",\"\",IF(Table1[[#This Row],[Returned]]=\"\",0,1))","v":""}]
[{"$nulls":11},{"$f":"IF(IF(Table1[[#This Row],[Disposition]]=\"Retired\",\"N/A\",IF(Table1[[#This Row],[Disposition]]=0,\"\",K149+$F$2))=0+$F$2,\"NEVER CALIBRATED\",IF(Table1[[#This Row],[Disposition]]=\"Retired\",\"N/A\",IF(Table1[[#This Row],[Disposition]]=0,\"\",K149+$F$2)))","v":""},{"$f":"IF(Table1[[#This Row],[Disposition]]=\"\",\"\",IF(AND(Table1[[#This Row],[Next Calibration]]<$E$1,Table1[[#This Row],[Disposition]]=\"Lost\"),\"Find and Calibrate\",IF(Table1[[#This Row],[Disposition]]=\"Lost\",\"Find\",IF(OR(Table1[[#This Row],[Next Calibration]]<$E$1,Table1[[#This Row],[Next Calibration]]=\"NEVER CALIBRATED\"),\"Calibrate\",\"Nominal\"))))","v":""},{"$f":"IF(((Table1[[#This Row],[Next Calibration]]-TODAY())/30)>2,\"More Than 2\",IF(((Table1[[#This Row],[Next Calibration]]-TODAY())/30)>1,\"Between 2 and 1\",\"Less than 1\"))","v":{"$error":"#VALUE!"}},{"$f":"IF(Table1[[#This Row],[Issued]]=\"\",\"\",IF(Table1[[#This Row],[Lent]]=\"\",0,1))","v":""},{"$f":"IF(Table1[[#This Row],[Lent]]=\"\",\"\",IF(Table1[[#This Row],[Returned]]=\"\",0,1))","v":""}]
[{"$nulls":11},{"$f":"IF(IF(Table1[[#This Row],[Disposition]]=\"Retired\",\"N/A\",IF(Table1[[#This Row],[Disposition]]=0,\"\",K150+$F$2))=0+$F$2,\"NEVER CALIBRATED\",IF(Table1[[#This Row],[Disposition]]=\"Retired\",\"N/A\",IF(Table1[[#This Row],[Disposition]]=0,\"\",K150+$F$2)))","v":""},{"$f":"IF(Table1[[#This Row],[Disposition]]=\"\",\"\",IF(AND(Table1[[#This Row],[Next Calibration]]<$E$1,Table1[[#This Row],[Disposition]]=\"Lost\"),\"Find and Calibrate\",IF(Table1[[#This Row],[Disposition]]=\"Lost\",\"Find\",IF(OR(Table1[[#This Row],[Next Calibration]]<$E$1,Table1[[#This Row],[Next Calibration]]=\"NEVER CALIBRATED\"),\"Calibrate\",\"Nominal\"))))","v":""},{"$f":"IF(((Table1[[#This Row],[Next Calibration]]-TODAY())/30)>2,\"More Than 2\",IF(((Table1[[#This Row],[Next Calibration]]-TODAY())/30)>1,\"Between 2 and 1\",\"Less than 1\"))","v":{"$error":"#VALUE!"}},{"$f":"IF(Table1[[#This Row],[Issued]]=\"\",\"\",IF(Table1[[#This Row],[Lent]]=\"\",0,1))","v":""},{"$f":"IF(Table1[[#This Row],[Lent]]=\"\",\"\",IF(Table1[[#This Row],[Returned]]=\"\",0,1))","v":""}]
[{"$nulls":11},{"$f":"IF(IF(Table1[[#This Row],[Disposition]]=\"Retired\",\"N/A\",IF(Table1[[#This Row],[Disposition]]=0,\"\",K151+$F$2))=0+$F$2,\"NEVER CALIBRATED\",IF(Table1[[#This Row],[Disposition]]=\"Retired\",\"N/A\",IF(Table1[[#This Row],[Disposition]]=0,\"\",K151+$F$2)))","v":""},{"$f":"IF(Table1[[#This Row],[Disposition]]=\"\",\"\",IF(AND(Table1[[#This Row],[Next Calibration]]<$E$1,Table1[[#This Row],[Disposition]]=\"Lost\"),\"Find and Calibrate\",IF(Table1[[#This Row],[Disposition]]=\"Lost\",\"Find\",IF(OR(Table1[[#This Row],[Next Calibration]]<$E$1,Table1[[#This Row],[Next Calibration]]=\"NEVER CALIBRATED\"),\"Calibrate\",\"Nominal\"))))","v":""},{"$f":"IF(((Table1[[#This Row],[Next Calibration]]-TODAY())/30)>2,\"More Than 2\",IF(((Table1[[#This Row],[Next Calibration]]-TODAY())/30)>1,\"Between 2 and 1\",\"Less than 1\"))","v":{"$error":"#VALUE!"}},{"$f":"IF(Table1[[#This Row],[Issued]]=\"\",\"\",IF(Table1[[#This Row],[Lent]]=\"\",0,1))","v":""},{"$f":"IF(Table1[[#This Row],[Lent]]=\"\",\"\",IF(Table1[[#This Row],[Returned]]=\"\",0,1))","v":""}]
[{"$nulls":11},{"$f":"IF(IF(Table1[[#This Row],[Disposition]]=\"Retired\",\"N/A\",IF(Table1[[#This Row],[Disposition]]=0,\"\",K152+$F$2))=0+$F$2,\"NEVER CALIBRATED\",IF(Table1[[#This Row],[Disposition]]=\"Retired\",\"N/A\",IF(Table1[[#This Row],[Disposition]]=0,\"\",K152+$F$2)))","v":""},{"$f":"IF(Table1[[#This Row],[Disposition]]=\"\",\"\",IF(AND(Table1[[#This Row],[Next Calibration]]<$E$1,Table1[[#This Row],[Disposition]]=\"Lost\"),\"Find and Calibrate\",IF(Table1[[#This Row],[Disposition]]=\"Lost\",\"Find\",IF(OR(Table1[[#This Row],[Next Calibration]]<$E$1,Table1[[#This Row],[Next Calibration]]=\"NEVER CALIBRATED\"),\"Calibrate\",\"Nominal\"))))","v":""},{"$f":"IF(((Table1[[#This Row],[Next Calibration]]-TODAY())/30)>2,\"More Than 2\",IF(((Table1[[#This Row],[Next Calibration]]-TODAY())/30)>1,\"Between 2 and 1\",\"Less than 1\"))","v":{"$error":"#VALUE!"}},{"$f":"IF(Table1[[#This Row],[Issued]]=\"\",\"\",IF(Table1[[#This Row],[Lent]]=\"\",0,1))","v":""},{"$f":"IF(Table1[[#This Row],[Lent]]=\"\",\"\",IF(Table1[[#This Row],[Returned]]=\"\",0,1))","v":""}]
[{"$nulls":11},{"$f":"IF(IF(Table1[[#This Row],[Disposition]]=\"Retired\",\"N/A\",IF(Table1[[#This Row],[Disposition]]=0,\"\",K153+$F$2))=0+$F$2,\"NEVER CALIBRATED\",IF(Table1[[#This Row],[Disposition]]=\"Retired\",\"N/A\",IF(Table1[[#This Row],[Disposition]]=0,\"\",K153+$F$2)))","v":""},{"$f":"IF(Table1[[#This Row],[Disposition]]=\"\",\"\",IF(AND(Table1[[#This Row],[Next Calibration]]<$E$1,Table1[[#This Row],[Disposition]]=\"Lost\"),\"Find and Calibrate\",IF(Table1[[#This Row],[Disposition]]=\"Lost\",\"Find\",IF(OR(Table1[[#This Row],[Next Calibration]]<$E$1,Table1[[#This Row],[Next Calibration]]=\"NEVER CALIBRATED\"),\"Calibrate\",\"Nominal\"))))","v":""},{"$f":"IF(((Table1[[#This Row],[Next Calibration]]-TODAY())/30)>2,\"More Than 2\",IF(((Table1[[#This Row],[Next Calibration]]-TODAY())/30)>1,\"Between 2 and 1\",\"Less than 1\"))","v":{"$error":"#VALUE!"}},{"$f":"IF(Table1[[#This Row],[Issued]]=\"\",\"\",IF(Table1[[#This Row],[Lent]]=\"\",0,1))","v":""},{"$f":"IF(Table1[[#This Row],[Lent]]=\"\",\"\",IF(Table1[[#This Row],[Returned]]=\"\",0,1))","v":""}]
[{"$nulls":11},{"$f":"IF(IF(Table1[[#This Row],[Disposition]]=\"Retired\",\"N/A\",IF(Table1[[#This Row],[Disposition]]=0,\"\",K154+$F$2))=0+$F$2,\"NEVER CALIBRATED\",IF(Table1[[#This Row],[Disposition]]=\"Retired\",\"N/A\",IF(Table1[[#This Row],[Disposition]]=0,\"\",K154+$F$2)))","v":""},{"$f":"IF(Table1[[#This Row],[Disposition]]=\"\",\"\",IF(AND(Table1[[#This Row],[Next Calibration]]<$E$1,Table1[[#This Row],[Disposition]]=\"Lost\"),\"Find and Calibrate\",IF(Table1[[#This Row],[Disposition]]=\"Lost\",\"Find\",IF(OR(Table1[[#This Row],[Next Calibration]]<$E$1,Table1[[#This Row],[Next Calibration]]=\"NEVER CALIBRATED\"),\"Calibrate\",\"Nominal\"))))","v":""},{"$f":"IF(((Table1[[#This Row],[Next Calibration]]-TODAY())/30)>2,\"More Than 2\",IF(((Table1[[#This Row],[Next Calibration]]-TODAY())/30)>1,\"Between 2 and 1\",\"Less than 1\"))","v":{"$error":"#VALUE!"}},{"$f":"IF(Table1[[#This Row],[Issued]]=\"\",\"\",IF(Table1[[#This Row],[Lent]]=\"\",0,1))","v":""},{"$f":"IF(Table1[[#This Row],[Lent]]=\"\",\"\",IF(Table1[[#This Row],[Returned]]=\"\",0,1))","v":""}]
[{"$nulls":11},{"$f":"IF(IF(Table1[[#This Row],[Disposition]]=\"Retired\",\"N/A\",IF(Table1[[#This Row],[Disposition]]=0,\"\",K155+$F$2))=0+$F$2,\"NEVER CALIBRATED\",IF(Table1[[#This Row],[Disposition]]=\"Retired\",\"N/A\",IF(Table1[[#This Row],[Disposition]]=0,\"\",K155+$F$2)))","v":""},{"$f":"IF(Table1[[#This Row],[Disposition]]=\"\",\"\",IF(AND(Table1[[#This Row],[Next Calibration]]<$E$1,Table1[[#This Row],[Disposition]]=\"Lost\"),\"Find and Calibrate\",IF(Table1[[#This Row],[Disposition]]=\"Lost\",\"Find\",IF(OR(Table1[[#This Row],[Next Calibration]]<$E$1,Table1[[#This Row],[Next Calibration]]=\"NEVER CALIBRATED\"),\"Calibrate\",\"Nominal\"))))","v":""},{"$f":"IF(((Table1[[#This Row],[Next Calibration]]-TODAY())/30)>2,\"More Than 2\",IF(((Table1[[#This Row],[Next Calibration]]-TODAY())/30)>1,\"Between 2 and 1\",\"Less than 1\"))","v":{"$error":"#VALUE!"}},{"$f":"IF(Table1[[#This Row],[Issued]]=\"\",\"\",IF(Table1[[#This Row],[Lent]]=\"\",0,1))","v":""},{"$f":"IF(Table1[[#This Row],[Lent]]=\"\",\"\",IF(Table1[[#This Row],[Returned]]=\"\",0,1))","v":""}]
[{"$nulls":11},{"$f":"IF(IF(Table1[[#This Row],[Disposition]]=\"Retired\",\"N/A\",IF(Table1[[#This Row],[Disposition]]=0,\"\",K156+$F$2))=0+$F$2,\"NEVER CALIBRATED\",IF(Table1[[#This Row],[Disposition]]=\"Retired\",\"N/A\",IF(Table1[[#This Row],[Disposition]]=0,\"\",K156+$F$2)))","v":""},{"$f":"IF(Table1[[#This Row],[Disposition]]=\"\",\"\",IF(AND(Table1[[#This Row],[Next Calibration]]<$E$1,Table1[[#This Row],[Disposition]]=\"Lost\"),\"Find and Calibrate\",IF(Table1[[#This Row],[Disposition]]=\"Lost\",\"Find\",IF(OR(Table1[[#This Row],[Next Calibration]]<$E$1,Table1[[#This Row],[Next Calibration]]=\"NEVER CALIBRATED\"),\"Calibrate\",\"Nominal\"))))","v":""},{"$f":"IF(((Table1[[#This Row],[Next Calibration]]-TODAY())/30)>2,\"More Than 2\",IF(((Table1[[#This Row],[Next Calibration]]-TODAY())/30)>1,\"Between 2 and 1\",\"Less than 1\"))","v":{"$error":"#VALUE!"}},{"$f":"IF(Table1[[#This Row],[Issued]]=\"\",\"\",IF(Table1[[#This Row],[Lent]]=\"\",0,1))","v":""},{"$f":"IF(Table1[[#This Row],[Lent]]=\"\",\"\",IF(Table1[[#This Row],[Returned]]=\"\",0,1))","v":""}]
[{"$nulls":11},{"$f":"IF(IF(Table1[[#This Row],[Disposition]]=\"Retired\",\"N/A\",IF(Table1[[#This Row],[Disposition]]=0,\"\",K157+$F$2))=0+$F$2,\"NEVER CALIBRATED\",IF(Table1[[#This Row],[Disposition]]=\"Retired\",\"N/A\",IF(Table1[[#This Row],[Disposition]]=0,\"\",K157+$F$2)))","v":""},{"$f":"IF(Table1[[#This Row],[Disposition]]=\"\",\"\",IF(AND(Table1[[#This Row],[Next Calibration]]<$E$1,Table1[[#This Row],[Disposition]]=\"Lost\"),\"Find and Calibrate\",IF(Table1[[#This Row],[Disposition]]=\"Lost\",\"Find\",IF(OR(Table1[[#This Row],[Next Calibration]]<$E$1,Table1[[#This Row],[Next Calibration]]=\"NEVER CALIBRATED\"),\"Calibrate\",\"Nominal\"))))","v":""},{"$f":"IF(((Table1[[#This Row],[Next Calibration]]-TODAY())/30)>2,\"More Than 2\",IF(((Table1[[#This Row],[Next Calibration]]-TODAY())/30)>1,\"Between 2 and 1\",\"Less than 1\"))","v":{"$error":"#VALUE!"}},{"$f":"IF(Table1[[#This Row],[Issued]]=\"\",\"\",IF(Table1[[#This Row],[Lent]]=\"\",0,1))","v":""},{"$f":"IF(Table1[[#This Row],[Lent]]=\"\",\"\",IF(Table1[[#This Row],[Returned]]=\"\",0,1))","v":""}]
[{"$nulls":11},{"$f":"IF(IF(Table1[[#This Row],[Disposition]]=\"Retired\",\"N/A\",IF(Table1[[#This Row],[Disposition]]=0,\"\",K158+$F$2))=0+$F$2,\"NEVER CALIBRATED\",IF(Table1[[#This Row],[Disposition]]=\"Retired\",\"N/A\",IF(Table1[[#This Row],[Disposition]]=0,\"\",K158+$F$2)))","v":""},{"$f":"IF(Table1[[#This Row],[Disposition]]=\"\",\"\",IF(AND(Table1[[#This Row],[Next Calibration]]<$E$1,Table1[[#This Row],[Disposition]]=\"Lost\"),\"Find and Calibrate\",IF(Table1[[#This Row],[Disposition]]=\"Lost\",\"Find\",IF(OR(Table1[[#This Row],[Next Calibration]]<$E$1,Table1[[#This Row],[Next Calibration]]=\"NEVER CALIBRATED\"),\"Calibrate\",\"Nominal\"))))","v":""},{"$f":"IF(((Table1[[#This Row],[Next Calibration]]-TODAY())/30)>2,\"More Than 2\",IF(((Table1[[#This Row],[Next Calibration]]-TODAY())/30)>1,\"Between 2 and 1\",\"Less than 1\"))","v":{"$error":"#VALUE!"}},{"$f":"IF(Table1[[#This Row],[Issued]]=\"\",\"\",IF(Table1[[#This Row],[Lent]]=\"\",0,1))","v":""},{"$f":"IF(Table1[[#This Row],[Lent]]=\"\",\"\",IF(Table1[[#This Row],[Returned]]=\"\",0,1))","v":""}]
[{"$nulls":11},{"$f":"IF(IF(Table1[[#This Row],[Disposition]]=\"Retired\",\"N/A\",IF(Table1[[#This Row],[Disposition]]=0,\"\",K159+$F$2))=0+$F$2,\"NEVER CALIBRATED\",IF(Table1[[#This Row],[Disposition]]=\"Retired\",\"N/A\",IF(Table1[[#This Row],[Disposition]]=0,\"\",K159+$F$2)))","v":""},{"$f":"IF(Table1[[#This Row],[Disposition]]=\"\",\"\",IF(AND(Table1[[#This Row],[Next Calibration]]<$E$1,Table1[[#This Row],[Disposition]]=\"Lost\"),\"Find and Calibrate\",IF(Table1[[#This Row],[Disposition]]=\"Lost\",\"Find\",IF(OR(Table1[[#This Row],[Next Calibration]]<$E$1,Table1[[#This Row],[Next Calibration]]=\"NEVER CALIBRATED\"),\"Calibrate\",\"Nominal\"))))","v":""},{"$f":"IF(((Table1[[#This Row],[Next Calibration]]-TODAY())/30)>2,\"More Than 2\",IF(((Table1[[#This Row],[Next Calibration]]-TODAY())/30)>1,\"Between 2 and 1\",\"Less than 1\"))","v":{"$error":"#VALUE!"}},{"$f":"IF(Table1[[#This Row],[Issued]]=\"\",\"\",IF(Table1[[#This Row],[Lent]]=\"\",0,1))","v":""},{"$f":"IF(Table1[[#This Row],[Lent]]=\"\",\"\",IF(Table1[[#This Row],[Returned]]=\"\",0,1))","v":""}]
[{"$nulls":11},{"$f":"IF(IF(Table1[[#This Row],[Disposition]]=\"Retired\",\"N/A\",IF(Table1[[#This Row],[Disposition]]=0,\"\",K160+$F$2))=0+$F$2,\"NEVER CALIBRATED\",IF(Table1[[#This Row],[Disposition]]=\"Retired\",\"N/A\",IF(Table1[[#This Row],[Disposition]]=0,\"\",K160+$F$2)))","v":""},{"$f":"IF(Table1[[#This Row],[Disposition]]=\"\",\"\",IF(AND(Table1[[#This Row],[Next Calibration]]<$E$1,Table1[[#This Row],[Disposition]]=\"Lost\"),\"Find and Calibrate\",IF(Table1[[#This Row],[Disposition]]=\"Lost\",\"Find\",IF(OR(Table1[[#This Row],[Next Calibration]]<$E$1,Table1[[#This Row],[Next Calibration]]=\"NEVER CALIBRATED\"),\"Calibrate\",\"Nominal\"))))","v":""},{"$f":"IF(((Table1[[#This Row],[Next Calibration]]-TODAY())/30)>2,\"More Than 2\",IF(((Table1[[#This Row],[Next Calibration]]-TODAY())/30)>1,\"Between 2 and 1\",\"Less than 1\"))","v":{"$error":"#VALUE!"}},{"$f":"IF(Table1[[#This Row],[Issued]]=\"\",\"\",IF(Table1[[#This Row],[Lent]]=\"\",0,1))","v":""},{"$f":"IF(Table1[[#This Row],[Lent]]=\"\",\"\",IF(Table1[[#This Row],[Returned]]=\"\",0,1))","v":""}]
[{"$nulls":11},{"$f":"IF(IF(Table1[[#This Row],[Disposition]]=\"Retired\",\"N/A\",IF(Table1[[#This Row],[Disposition]]=0,\"\",K161+$F$2))=0+$F$2,\"NEVER CALIBRATED\",IF(Table1[[#This Row],[Disposition]]=\"Retired\",\"N/A\",IF(Table1[[#This Row],[Disposition]]=0,\"\",K161+$F$2)))","v":""},{"$f":"IF(Table1[[#This Row],[Disposition]]=\"\",\"\",IF(AND(Table1[[#This Row],[Next Calibration]]<$E$1,Table1[[#This Row],[Disposition]]=\"Lost\"),\"Find and Calibrate\",IF(Table1[[#This Row],[Disposition]]=\"Lost\",\"Find\",IF(OR(Table1[[#This Row],[Next Calibration]]<$E$1,Table1[[#This Row],[Next Calibration]]=\"NEVER CALIBRATED\"),\"Calibrate\",\"Nominal\"))))","v":""},{"$f":"IF(((Table1[[#This Row],[Next Calibration]]-TODAY())/30)>2,\"More Than 2\",IF(((Table1[[#This Row],[Next Calibration]]-TODAY())/30)>1,\"Between 2 and 1\",\"Less than 1\"))","v":{"$error":"#VALUE!"}},{"$f":"IF(Table1[[#This Row],[Issued]]=\"\",\"\",IF(Table1[[#This Row],[Lent]]=\"\",0,1))","v":""},{"$f":"IF(Table1[[#This Row],[Lent]]=\"\",\"\",IF(Table1[[#This Row],[Returned]]=\"\",0,1))","v":""}]
[{"$nulls":11},{"$f":"IF(IF(Table1[[#This Row],[Disposition]]=\"Retired\",\"N/A\",IF(Table1[[#This Row],[Disposition]]=0,\"\",K162+$F$2))=0+$F$2,\"NEVER CALIBRATED\",IF(Table1[[#This Row],[Disposition]]=\"Retired\",\"N/A\",IF(Table1[[#This Row],[Disposition]]=0,\"\",K162+$F$2)))","v":""},{"$f":"IF(Table1[[#This Row],[Disposition]]=\"\",\"\",IF(AND(Table1[[#This Row],[Next Calibration]]<$E$1,Table1[[#This Row],[Disposition]]=\"Lost\"),\"Find and Calibrate\",IF(Table1[[#This Row],[Disposition]]=\"Lost\",\"Find\",IF(OR(Table1[[#This Row],[Next Calibration]]<$E$1,Table1[[#This Row],[Next Calibration]]=\"NEVER CALIBRATED\"),\"Calibrate\",\"Nominal\"))))","v":""},{"$f":"IF(((Table1[[#This Row],[Next Calibration]]-TODAY())/30)>2,\"More Than 2\",IF(((Table1[[#This Row],[Next Calibration]]-TODAY())/30)>1,\"Between 2 and 1\",\"Less than 1\"))","v":{"$error":"#VALUE!"}},{"$f":"IF(Table1[[#This Row],[Issued]]=\"\",\"\",IF(Table1[[#This Row],[Lent]]=\"\",0,1))","v":""},{"$f":"IF(Table1[[#This Row],[Lent]]=\"\",\"\",IF(Table1[[#This Row],[Returned]]=\"\",0,1))","v":""}]
[{"$nulls":11},{"$f":"IF(IF(Table1[[#This Row],[Disposition]]=\"Retired\",\"N/A\",IF(Table1[[#This Row],[Disposition]]=0,\"\",K163+$F$2))=0+$F$2,\"NEVER CALIBRATED\",IF(Table1[[#This Row],[Disposition]]=\"Retired\",\"N/A\",IF(Table1[[#This Row],[Disposition]]=0,\"\",K163+$F$2)))","v":""},{"$f":"IF(Table1[[#This Row],[Disposition]]=\"\",\"\",IF(AND(Table1[[#This Row],[Next Calibration]]<$E$1,Table1[[#This Row],[Disposition]]=\"Lost\"),\"Find and Calibrate\",IF(Table1[[#This Row],[Disposition]]=\"Lost\",\"Find\",IF(OR(Table1[[#This Row],[Next Calibration]]<$E$1,Table1[[#This Row],[Next Calibration]]=\"NEVER CALIBRATED\"),\"Calibrate\",\"Nominal\"))))","v":""},{"$f":"IF(((Table1[[#This Row],[Next Calibration]]-TODAY())/30)>2,\"More Than 2\",IF(((Table1[[#This Row],[Next Calibration]]-TODAY())/30)>1,\"Between 2 and 1\",\"Less than 1\"))","v":{"$error":"#VALUE!"}},{"$f":"IF(Table1[[#This Row],[Issued]]=\"\",\"\",IF(Table1[[#This Row],[Lent]]=\"\",0,1))","v":""},{"$f":"IF(Table1[[#This Row],[Lent]]=\"\",\"\",IF(Table1[[#This Row],[Returned]]=\"\",0,1))","v":""}]
[{"$nulls":11},{"$f":"IF(IF(Table1[[#This Row],[Disposition]]=\"Retired\",\"N/A\",IF(Table1[[#This Row],[Disposition]]=0,\"\",K164+$F$2))=0+$F$2,\"NEVER CALIBRATED\",IF(Table1[[#This Row],[Disposition]]=\"Retired\",\"N/A\",IF(Table1[[#This Row],[Disposition]]=0,\"\",K164+$F$2)))","v":""},{"$f":"IF(Table1[[#This Row],[Disposition]]=\"\",\"\",IF(AND(Table1[[#This Row],[Next Calibration]]<$E$1,Table1[[#This Row],[Disposition]]=\"Lost\"),\"Find and Calibrate\",IF(Table1[[#This Row],[Disposition]]=\"Lost\",\"Find\",IF(OR(Table1[[#This Row],[Next Calibration]]<$E$1,Table1[[#This Row],[Next Calibration]]=\"NEVER CALIBRATED\"),\"Calibrate\",\"Nominal\"))))","v":""},{"$f":"IF(((Table1[[#This Row],[Next Calibration]]-TODAY())/30)>2,\"More Than 2\",IF(((Table1[[#This Row],[Next Calibration]]-TODAY())/30)>1,\"Between 2 and 1\",\"Less than 1\"))","v":{"$error":"#VALUE!"}},{"$f":"IF(Table1[[#This Row],[Issued]]=\"\",\"\",IF(Table1[[#This Row],[Lent]]=\"\",0,1))","v":""},{"$f":"IF(Table1[[#This Row],[Lent]]=\"\",\"\",IF(Table1[[#This Row],[Returned]]=\"\",0,1))","v":""}]
[{"$nulls":11},{"$f":"IF(IF(Table1[[#This Row],[Disposition]]=\"Retired\",\"N/A\",IF(Table1[[#This Row],[Disposition]]=0,\"\",K165+$F$2))=0+$F$2,\"NEVER CALIBRATED\",IF(Table1[[#This Row],[Disposition]]=\"Retired\",\"N/A\",IF(Table1[[#This Row],[Disposition]]=0,\"\",K165+$F$2)))","v":""},{"$f":"IF(Table1[[#This Row],[Disposition]]=\"\",\"\",IF(AND(Table1[[#This Row],[Next Calibration]]<$E$1,Table1[[#This Row],[Disposition]]=\"Lost\"),\"Find and Calibrate\",IF(Table1[[#This Row],[Disposition]]=\"Lost\",\"Find\",IF(OR(Table1[[#This Row],[Next Calibration]]<$E$1,Table1[[#This Row],[Next Calibration]]=\"NEVER CALIBRATED\"),\"Calibrate\",\"Nominal\"))))","v":""},{"$f":"IF(((Table1[[#This Row],[Next Calibration]]-TODAY())/30)>2,\"More Than 2\",IF(((Table1[[#This Row],[Next Calibration]]-TODAY())/30)>1,\"Between 2 and 1\",\"Less than 1\"))","v":{"$error":"#VALUE!"}},{"$f":"IF(Table1[[#This Row],[Issued]]=\"\",\"\",IF(Table1[[#This Row],[Lent]]=\"\",0,1))","v":""},{"$f":"IF(Table1[[#This Row],[Lent]]=\"\",\"\",IF(Table1[[#This Row],[Returned]]=\"\",0,1))","v":""}]
[{"$nulls":11},{"$f":"IF(IF(Table1[[#This Row],[Disposition]]=\"Retired\",\"N/A\",IF(Table1[[#This Row],[Disposition]]=0,\"\",K166+$F$2))=0+$F$2,\"NEVER CALIBRATED\",IF(Table1[[#This Row],[Disposition]]=\"Retired\",\"N/A\",IF(Table1[[#This Row],[Disposition]]=0,\"\",K166+$F$2)))","v":""},{"$f":"IF(Table1[[#This Row],[Disposition]]=\"\",\"\",IF(AND(Table1[[#This Row],[Next Calibration]]<$E$1,Table1[[#This Row],[Disposition]]=\"Lost\"),\"Find and Calibrate\",IF(Table1[[#This Row],[Disposition]]=\"Lost\",\"Find\",IF(OR(Table1[[#This Row],[Next Calibration]]<$E$1,Table1[[#This Row],[Next Calibration]]=\"NEVER CALIBRATED\"),\"Calibrate\",\"Nominal\"))))","v":""},{"$f":"IF(((Table1[[#This Row],[Next Calibration]]-TODAY())/30)>2,\"More Than 2\",IF(((Table1[[#This Row],[Next Calibration]]-TODAY())/30)>1,\"Between 2 and 1\",\"Less than 1\"))","v":{"$error":"#VALUE!"}},{"$f":"IF(Table1[[#This Row],[Issued]]=\"\",\"\",IF(Table1[[#This Row],[Lent]]=\"\",0,1))","v":""},{"$f":"IF(Table1[[#This Row],[Lent]]=\"\",\"\",IF(Table1[[#This Row],[Returned]]=\"\",0,1))","v":""}]
[{"$nulls":11},{"$f":"IF(IF(Table1[[#This Row],[Disposition]]=\"Retired\",\"N/A\",IF(Table1[[#This Row],[Disposition]]=0,\"\",K167+$F$2))=0+$F$2,\"NEVER CALIBRATED\",IF(Table1[[#This Row],[Disposition]]=\"Retired\",\"N/A\",IF(Table1[[#This Row],[Disposition]]=0,\"\",K167+$F$2)))","v":""},{"$f":"IF(Table1[[#This Row],[Disposition]]=\"\",\"\",IF(AND(Table1[[#This Row],[Next Calibration]]<$E$1,Table1[[#This Row],[Disposition]]=\"Lost\"),\"Find and Calibrate\",IF(Table1[[#This Row],[Disposition]]=\"Lost\",\"Find\",IF(OR(Table1[[#This Row],[Next Calibration]]<$E$1,Table1[[#This Row],[Next Calibration]]=\"NEVER CALIBRATED\"),\"Calibrate\",\"Nominal\"))))","v":""},{"$f":"IF(((Table1[[#This Row],[Next Calibration]]-TODAY())/30)>2,\"More Than 2\",IF(((Table1[[#This Row],[Next Calibration]]-TODAY())/30)>1,\"Between 2 and 1\",\"Less than 1\"))","v":{"$error":"#VALUE!"}},{"$f":"IF(Table1[[#This Row],[Issued]]=\"\",\"\",IF(Table1[[#This Row],[Lent]]=\"\",0,1))","v":""},{"$f":"IF(Table1[[#This Row],[Lent]]=\"\",\"\",IF(Table1[[#This Row],[Returned]]=\"\",0,1))","v":""}]
[{"$nulls":11},{"$f":"IF(IF(Table1[[#This Row],[Disposition]]=\"Retired\",\"N/A\",IF(Table1[[#This Row],[Disposition]]=0,\"\",K168+$F$2))=0+$F$2,\"NEVER CALIBRATED\",IF(Table1[[#This Row],[Disposition]]=\"Retired\",\"N/A\",IF(Table1[[#This Row],[Disposition]]=0,\"\",K168+$F$2)))","v":""},{"$f":"IF(Table1[[#This Row],[Disposition]]=\"\",\"\",IF(AND(Table1[[#This Row],[Next Calibration]]<$E$1,Table1[[#This Row],[Disposition]]=\"Lost\"),\"Find and Calibrate\",IF(Table1[[#This Row],[Disposition]]=\"Lost\",\"Find\",IF(OR(Table1[[#This Row],[Next Calibration]]<$E$1,Table1[[#This Row],[Next Calibration]]=\"NEVER CALIBRATED\"),\"Calibrate\",\"Nominal\"))))","v":""},{"$f":"IF(((Table1[[#This Row],[Next Calibration]]-TODAY())/30)>2,\"More Than 2\",IF(((Table1[[#This Row],[Next Calibration]]-TODAY())/30)>1,\"Between 2 and 1\",\"Less than 1\"))","v":{"$error":"#VALUE!"}},{"$f":"IF(Table1[[#This Row],[Issued]]=\"\",\"\",IF(Table1[[#This Row],[Lent]]=\"\",0,1))","v":""},{"$f":"IF(Table1[[#This Row],[Lent]]=\"\",\"\",IF(Table1[[#This Row],[Returned]]=\"\",0,1))","v":""}]
[{"$nulls":11},{"$f":"IF(IF(Table1[[#This Row],[Disposition]]=\"Retired\",\"N/A\",IF(Table1[[#This Row],[Disposition]]=0,\"\",K169+$F$2))=0+$F$2,\"NEVER CALIBRATED\",IF(Table1[[#This Row],[Disposition]]=\"Retired\",\"N/A\",IF(Table1[[#This Row],[Disposition]]=0,\"\",K169+$F$2)))","v":""},{"$f":"IF(Table1[[#This Row],[Disposition]]=\"\",\"\",IF(AND(Table1[[#This Row],[Next Calibration]]<$E$1,Table1[[#This Row],[Disposition]]=\"Lost\"),\"Find and Calibrate\",IF(Table1[[#This Row],[Disposition]]=\"Lost\",\"Find\",IF(OR(Table1[[#This Row],[Next Calibration]]<$E$1,Table1[[#This Row],[Next Calibration]]=\"NEVER CALIBRATED\"),\"Calibrate\",\"Nominal\"))))","v":""},{"$f":"IF(((Table1[[#This Row],[Next Calibration]]-TODAY())/30)>2,\"More Than 2\",IF(((Table1[[#This Row],[Next Calibration]]-TODAY())/30)>1,\"Between 2 and 1\",\"Less than 1\"))","v":{"$error":"#VALUE!"}},{"$f":"IF(Table1[[#This Row],[Issued]]=\"\",\"\",IF(Table1[[#This Row],[Lent]]=\"\",0,1))","v":""},{"$f":"IF(Table1[[#This Row],[Lent]]=\"\",\"\",IF(Table1[[#This Row],[Returned]]=\"\",0,1))","v":""}]
[{"$nulls":11},{"$f":"IF(IF(Table1[[#This Row],[Disposition]]=\"Retired\",\"N/A\",IF(Table1[[#This Row],[Disposition]]=0,\"\",K170+$F$2))=0+$F$2,\"NEVER CALIBRATED\",IF(Table1[[#This Row],[Disposition]]=\"Retired\",\"N/A\",IF(Table1[[#This Row],[Disposition]]=0,\"\",K170+$F$2)))","v":""},{"$f":"IF(Table1[[#This Row],[Disposition]]=\"\",\"\",IF(AND(Table1[[#This Row],[Next Calibration]]<$E$1,Table1[[#This Row],[Disposition]]=\"Lost\"),\"Find and Calibrate\",IF(Table1[[#This Row],[Disposition]]=\"Lost\",\"Find\",IF(OR(Table1[[#This Row],[Next Calibration]]<$E$1,Table1[[#This Row],[Next Calibration]]=\"NEVER CALIBRATED\"),\"Calibrate\",\"Nominal\"))))","v":""},{"$f":"IF(((Table1[[#This Row],[Next Calibration]]-TODAY())/30)>2,\"More Than 2\",IF(((Table1[[#This Row],[Next Calibration]]-TODAY())/30)>1,\"Between 2 and 1\",\"Less than 1\"))","v":{"$error":"#VALUE!"}},{"$f":"IF(Table1[[#This Row],[Issued]]=\"\",\"\",IF(Table1[[#This Row],[Lent]]=\"\",0,1))","v":""},{"$f":"IF(Table1[[#This Row],[Lent]]=\"\",\"\",IF(Table1[[#This Row],[Returned]]=\"\",0,1))","v":""}]
[{"$nulls":11},{"$f":"IF(IF(Table1[[#This Row],[Disposition]]=\"Retired\",\"N/A\",IF(Table1[[#This Row],[Disposition]]=0,\"\",K171+$F$2))=0+$F$2,\"NEVER CALIBRATED\",IF(Table1[[#This Row],[Disposition]]=\"Retired\",\"N/A\",IF(Table1[[#This Row],[Disposition]]=0,\"\",K171+$F$2)))","v":""},{"$f":"IF(Table1[[#This Row],[Disposition]]=\"\",\"\",IF(AND(Table1[[#This Row],[Next Calibration]]<$E$1,Table1[[#This Row],[Disposition]]=\"Lost\"),\"Find and Calibrate\",IF(Table1[[#This Row],[Disposition]]=\"Lost\",\"Find\",IF(OR(Table1[[#This Row],[Next Calibration]]<$E$1,Table1[[#This Row],[Next Calibration]]=\"NEVER CALIBRATED\"),\"Calibrate\",\"Nominal\"))))","v":""},{"$f":"IF(((Table1[[#This Row],[Next Calibration]]-TODAY())/30)>2,\"More Than 2\",IF(((Table1[[#This Row],[Next Calibration]]-TODAY())/30)>1,\"Between 2 and 1\",\"Less than 1\"))","v":{"$error":"#VALUE!"}},{"$f":"IF(Table1[[#This Row],[Issued]]=\"\",\"\",IF(Table1[[#This Row],[Lent]]=\"\",0,1))","v":""},{"$f":"IF(Table1[[#This Row],[Lent]]=\"\",\"\",IF(Table1[[#This Row],[Returned]]=\"\",0,1))","v":""}]
[{"$nulls":11},{"$f":"IF(IF(Table1[[#This Row],[Disposition]]=\"Retired\",\"N/A\",IF(Table1[[#This Row],[Disposition]]=0,\"\",K172+$F$2))=0+$F$2,\"NEVER CALIBRATED\",IF(Table1[[#This Row],[Disposition]]=\"Retired\",\"N/A\",IF(Table1[[#This Row],[Disposition]]=0,\"\",K172+$F$2)))","v":""},{"$f":"IF(Table1[[#This Row],[Disposition]]=\"\",\"\",IF(AND(Table1[[#This Row],[Next Calibration]]<$E$1,Table1[[#This Row],[Disposition]]=\"Lost\"),\"Find and Calibrate\",IF(Table1[[#This Row],[Disposition]]=\"Lost\",\"Find\",IF(OR(Table1[[#This Row],[Next Calibration]]<$E$1,Table1[[#This Row],[Next Calibration]]=\"NEVER CALIBRATED\"),\"Calibrate\",\"Nominal\"))))","v":""},{"$f":"IF(((Table1[[#This Row],[Next Calibration]]-TODAY())/30)>2,\"More Than 2\",IF(((Table1[[#This Row],[Next Calibration]]-TODAY())/30)>1,\"Between 2 and 1\",\"Less than 1\"))","v":{"$error":"#VALUE!"}},{"$f":"IF(Table1[[#This Row],[Issued]]=\"\",\"\",IF(Table1[[#This Row],[Lent]]=\"\",0,1))","v":""},{"$f":"IF(Table1[[#This Row],[Lent]]=\"\",\"\",IF(Table1[[#This Row],[Returned]]=\"\",0,1))","v":""}]
[{"$nulls":11},{"$f":"IF(IF(Table1[[#This Row],[Disposition]]=\"Retired\",\"N/A\",IF(Table1[[#This Row],[Disposition]]=0,\"\",K173+$F$2))=0+$F$2,\"NEVER CALIBRATED\",IF(Table1[[#This Row],[Disposition]]=\"Retired\",\"N/A\",IF(Table1[[#This Row],[Disposition]]=0,\"\",K173+$F$2)))","v":""},{"$f":"IF(Table1[[#This Row],[Disposition]]=\"\",\"\",IF(AND(Table1[[#This Row],[Next Calibration]]<$E$1,Table1[[#This Row],[Disposition]]=\"Lost\"),\"Find and Calibrate\",IF(Table1[[#This Row],[Disposition]]=\"Lost\",\"Find\",IF(OR(Table1[[#This Row],[Next Calibration]]<$E$1,Table1[[#This Row],[Next Calibration]]=\"NEVER CALIBRATED\"),\"Calibrate\",\"Nominal\"))))","v":""},{"$f":"IF(((Table1[[#This Row],[Next Calibration]]-TODAY())/30)>2,\"More Than 2\",IF(((Table1[[#This Row],[Next Calibration]]-TODAY())/30)>1,\"Between 2 and 1\",\"Less than 1\"))","v":{"$error":"#VALUE!"}},{"$f":"IF(Table1[[#This Row],[Issued]]=\"\",\"\",IF(Table1[[#This Row],[Lent]]=\"\",0,1))","v":""},{"$f":"IF(Table1[[#This Row],[Lent]]=\"\",\"\",IF(Table1[[#This Row],[Returned]]=\"\",0,1))","v":""}]
[{"$nulls":11},{"$f":"IF(IF(Table1[[#This Row],[Disposition]]=\"Retired\",\"N/A\",IF(Table1[[#This Row],[Disposition]]=0,\"\",K174+$F$2))=0+$F$2,\"NEVER CALIBRATED\",IF(Table1[[#This Row],[Disposition]]=\"Retired\",\"N/A\",IF(Table1[[#This Row],[Disposition]]=0,\"\",K174+$F$2)))","v":""},{"$f":"IF(Table1[[#This Row],[Disposition]]=\"\",\"\",IF(AND(Table1[[#This Row],[Next Calibration]]<$E$1,Table1[[#This Row],[Disposition]]=\"Lost\"),\"Find and Calibrate\",IF(Table1[[#This Row],[Disposition]]=\"Lost\",\"Find\",IF(OR(Table1[[#This Row],[Next Calibration]]<$E$1,Table1[[#This Row],[Next Calibration]]=\"NEVER CALIBRATED\"),\"Calibrate\",\"Nominal\"))))","v":""},{"$f":"IF(((Table1[[#This Row],[Next Calibration]]-TODAY())/30)>2,\"More Than 2\",IF(((Table1[[#This Row],[Next Calibration]]-TODAY())/30)>1,\"Between 2 and 1\",\"Less than 1\"))","v":{"$error":"#VALUE!"}},{"$f":"IF(Table1[[#This Row],[Issued]]=\"\",\"\",IF(Table1[[#This Row],[Lent]]=\"\",0,1))","v":""},{"$f":"IF(Table1[[#This Row],[Lent]]=\"\",\"\",IF(Table1[[#This Row],[Returned]]=\"\",0,1))","v":""}]
[{"$nulls":11},{"$f":"IF(IF(Table1[[#This Row],[Disposition]]=\"Retired\",\"N/A\",IF(Table1[[#This Row],[Disposition]]=0,\"\",K175+$F$2))=0+$F$2,\"NEVER CALIBRATED\",IF(Table1[[#This Row],[Disposition]]=\"Retired\",\"N/A\",IF(Table1[[#This Row],[Disposition]]=0,\"\",K175+$F$2)))","v":""},{"$f":"IF(Table1[[#This Row],[Disposition]]=\"\",\"\",IF(AND(Table1[[#This Row],[Next Calibration]]<$E$1,Table1[[#This Row],[Disposition]]=\"Lost\"),\"Find and Calibrate\",IF(Table1[[#This Row],[Disposition]]=\"Lost\",\"Find\",IF(OR(Table1[[#This Row],[Next Calibration]]<$E$1,Table1[[#This Row],[Next Calibration]]=\"NEVER CALIBRATED\"),\"Calibrate\",\"Nominal\"))))","v":""},{"$f":"IF(((Table1[[#This Row],[Next Calibration]]-TODAY())/30)>2,\"More Than 2\",IF(((Table1[[#This Row],[Next Calibration]]-TODAY())/30)>1,\"Between 2 and 1\",\"Less than 1\"))","v":{"$error":"#VALUE!"}},{"$f":"IF(Table1[[#This Row],[Issued]]=\"\",\"\",IF(Table1[[#This Row],[Lent]]=\"\",0,1))","v":""},{"$f":"IF(Table1[[#This Row],[Lent]]=\"\",\"\",IF(Table1[[#This Row],[Returned]]=\"\",0,1))","v":""}]
[{"$nulls":11},{"$f":"IF(IF(Table1[[#This Row],[Disposition]]=\"Retired\",\"N/A\",IF(Table1[[#This Row],[Disposition]]=0,\"\",K176+$F$2))=0+$F$2,\"NEVER CALIBRATED\",IF(Table1[[#This Row],[Disposition]]=\"Retired\",\"N/A\",IF(Table1[[#This Row],[Disposition]]=0,\"\",K176+$F$2)))","v":""},{"$f":"IF(Table1[[#This Row],[Disposition]]=\"\",\"\",IF(AND(Table1[[#This Row],[Next Calibration]]<$E$1,Table1[[#This Row],[Disposition]]=\"Lost\"),\"Find and Calibrate\",IF(Table1[[#This Row],[Disposition]]=\"Lost\",\"Find\",IF(OR(Table1[[#This Row],[Next Calibration]]<$E$1,Table1[[#This Row],[Next Calibration]]=\"NEVER CALIBRATED\"),\"Calibrate\",\"Nominal\"))))","v":""},{"$f":"IF(((Table1[[#This Row],[Next Calibration]]-TODAY())/30)>2,\"More Than 2\",IF(((Table1[[#This Row],[Next Calibration]]-TODAY())/30)>1,\"Between 2 and 1\",\"Less than 1\"))","v":{"$error":"#VALUE!"}},{"$f":"IF(Table1[[#This Row],[Issued]]=\"\",\"\",IF(Table1[[#This Row],[Lent]]=\"\",0,1))","v":""},{"$f":"IF(Table1[[#This Row],[Lent]]=\"\",\"\",IF(Table1[[#This Row],[Returned]]=\"\",0,1))","v":""}]
[{"$nulls":11},{"$f":"IF(IF(Table1[[#This Row],[Disposition]]=\"Retired\",\"N/A\",IF(Table1[[#This Row],[Disposition]]=0,\"\",K177+$F$2))=0+$F$2,\"NEVER CALIBRATED\",IF(Table1[[#This Row],[Disposition]]=\"Retired\",\"N/A\",IF(Table1[[#This Row],[Disposition]]=0,\"\",K177+$F$2)))","v":""},{"$f":"IF(Table1[[#This Row],[Disposition]]=\"\",\"\",IF(AND(Table1[[#This Row],[Next Calibration]]<$E$1,Table1[[#This Row],[Disposition]]=\"Lost\"),\"Find and Calibrate\",IF(Table1[[#This Row],[Disposition]]=\"Lost\",\"Find\",IF(OR(Table1[[#This Row],[Next Calibration]]<$E$1,Table1[[#This Row],[Next Calibration]]=\"NEVER CALIBRATED\"),\"Calibrate\",\"Nominal\"))))","v":""},{"$f":"IF(((Table1[[#This Row],[Next Calibration]]-TODAY())/30)>2,\"More Than 2\",IF(((Table1[[#This Row],[Next Calibration]]-TODAY())/30)>1,\"Between 2 and 1\",\"Less than 1\"))","v":{"$error":"#VALUE!"}},{"$f":"IF(Table1[[#This Row],[Issued]]=\"\",\"\",IF(Table1[[#This Row],[Lent]]=\"\",0,1))","v":""},{"$f":"IF(Table1[[#This Row],[Lent]]=\"\",\"\",IF(Table1[[#This Row],[Returned]]=\"\",0,1))","v":""}]
[{"$nulls":11},{"$f":"IF(IF(Table1[[#This Row],[Disposition]]=\"Retired\",\"N/A\",IF(Table1[[#This Row],[Disposition]]=0,\"\",K178+$F$2))=0+$F$2,\"NEVER CALIBRATED\",IF(Table1[[#This Row],[Disposition]]=\"Retired\",\"N/A\",IF(Table1[[#This Row],[Disposition]]=0,\"\",K178+$F$2)))","v":""},{"$f":"IF(Table1[[#This Row],[Disposition]]=\"\",\"\",IF(AND(Table1[[#This Row],[Next Calibration]]<$E$1,Table1[[#This Row],[Disposition]]=\"Lost\"),\"Find and Calibrate\",IF(Table1[[#This Row],[Disposition]]=\"Lost\",\"Find\",IF(OR(Table1[[#This Row],[Next Calibration]]<$E$1,Table1[[#This Row],[Next Calibration]]=\"NEVER CALIBRATED\"),\"Calibrate\",\"Nominal\"))))","v":""},{"$f":"IF(((Table1[[#This Row],[Next Calibration]]-TODAY())/30)>2,\"More Than 2\",IF(((Table1[[#This Row],[Next Calibration]]-TODAY())/30)>1,\"Between 2 and 1\",\"Less than 1\"))","v":{"$error":"#VALUE!"}},{"$f":"IF(Table1[[#This Row],[Issued]]=\"\",\"\",IF(Table1[[#This Row],[Lent]]=\"\",0,1))","v":""},{"$f":"IF(Table1[[#This Row],[Lent]]=\"\",\"\",IF(Table1[[#This Row],[Returned]]=\"\",0,1))","v":""}]
[{"$nulls":11},{"$f":"IF(IF(Table1[[#This Row],[Disposition]]=\"Retired\",\"N/A\",IF(Table1[[#This Row],[Disposition]]=0,\"\",K179+$F$2))=0+$F$2,\"NEVER CALIBRATED\",IF(Table1[[#This Row],[Disposition]]=\"Retired\",\"N/A\",IF(Table1[[#This Row],[Disposition]]=0,\"\",K179+$F$2)))","v":""},{"$f":"IF(Table1[[#This Row],[Disposition]]=\"\",\"\",IF(AND(Table1[[#This Row],[Next Calibration]]<$E$1,Table1[[#This Row],[Disposition]]=\"Lost\"),\"Find and Calibrate\",IF(Table1[[#This Row],[Disposition]]=\"Lost\",\"Find\",IF(OR(Table1[[#This Row],[Next Calibration]]<$E$1,Table1[[#This Row],[Next Calibration]]=\"NEVER CALIBRATED\"),\"Calibrate\",\"Nominal\"))))","v":""},{"$f":"IF(((Table1[[#This Row],[Next Calibration]]-TODAY())/30)>2,\"More Than 2\",IF(((Table1[[#This Row],[Next Calibration]]-TODAY())/30)>1,\"Between 2 and 1\",\"Less than 1\"))","v":{"$error":"#VALUE!"}},{"$f":"IF(Table1[[#This Row],[Issued]]=\"\",\"\",IF(Table1[[#This Row],[Lent]]=\"\",0,1))","v":""},{"$f":"IF(Table1[[#This Row],[Lent]]=\"\",\"\",IF(Table1[[#This Row],[Returned]]=\"\",0,1))","v":""}]
[{"$nulls":11},{"$f":"IF(IF(Table1[[#This Row],[Disposition]]=\"Retired\",\"N/A\",IF(Table1[[#This Row],[Disposition]]=0,\"\",K180+$F$2))=0+$F$2,\"NEVER CALIBRATED\",IF(Table1[[#This Row],[Disposition]]=\"Retired\",\"N/A\",IF(Table1[[#This Row],[Disposition]]=0,\"\",K180+$F$2)))","v":""},{"$f":"IF(Table1[[#This Row],[Disposition]]=\"\",\"\",IF(AND(Table1[[#This Row],[Next Calibration]]<$E$1,Table1[[#This Row],[Disposition]]=\"Lost\"),\"Find and Calibrate\",IF(Table1[[#This Row],[Disposition]]=\"Lost\",\"Find\",IF(OR(Table1[[#This Row],[Next Calibration]]<$E$1,Table1[[#This Row],[Next Calibration]]=\"NEVER CALIBRATED\"),\"Calibrate\",\"Nominal\"))))","v":""},{"$f":"IF(((Table1[[#This Row],[Next Calibration]]-TODAY())/30)>2,\"More Than 2\",IF(((Table1[[#This Row],[Next Calibration]]-TODAY())/30)>1,\"Between 2 and 1\",\"Less than 1\"))","v":{"$error":"#VALUE!"}},{"$f":"IF(Table1[[#This Row],[Issued]]=\"\",\"\",IF(Table1[[#This Row],[Lent]]=\"\",0,1))","v":""},{"$f":"IF(Table1[[#This Row],[Lent]]=\"\",\"\",IF(Table1[[#This Row],[Returned]]=\"\",0,1))","v":""}]
[{"$nulls":11},{"$f":"IF(IF(Table1[[#This Row],[Disposition]]=\"Retired\",\"N/A\",IF(Table1[[#This Row],[Disposition]]=0,\"\",K181+$F$2))=0+$F$2,\"NEVER CALIBRATED\",IF(Table1[[#This Row],[Disposition]]=\"Retired\",\"N/A\",IF(Table1[[#This Row],[Disposition]]=0,\"\",K181+$F$2)))","v":""},{"$f":"IF(Table1[[#This Row],[Disposition]]=\"\",\"\",IF(AND(Table1[[#This Row],[Next Calibration]]<$E$1,Table1[[#This Row],[Disposition]]=\"Lost\"),\"Find and Calibrate\",IF(Table1[[#This Row],[Disposition]]=\"Lost\",\"Find\",IF(OR(Table1[[#This Row],[Next Calibration]]<$E$1,Table1[[#This Row],[Next Calibration]]=\"NEVER CALIBRATED\"),\"Calibrate\",\"Nominal\"))))","v":""},{"$f":"IF(((Table1[[#This Row],[Next Calibration]]-TODAY())/30)>2,\"More Than 2\",IF(((Table1[[#This Row],[Next Calibration]]-TODAY())/30)>1,\"Between 2 and 1\",\"Less than 1\"))","v":{"$error":"#VALUE!"}},{"$f":"IF(Table1[[#This Row],[Issued]]=\"\",\"\",IF(Table1[[#This Row],[Lent]]=\"\",0,1))","v":""},{"$f":"IF(Table1[[#This Row],[Lent]]=\"\",\"\",IF(Table1[[#This Row],[Returned]]=\"\",0,1))","v":""}]
[{"$nulls":11},{"$f":"IF(IF(Table1[[#This Row],[Disposition]]=\"Retired\",\"N/A\",IF(Table1[[#This Row],[Disposition]]=0,\"\",K182+$F$2))=0+$F$2,\"NEVER CALIBRATED\",IF(Table1[[#This Row],[Disposition]]=\"Retired\",\"N/A\",IF(Table1[[#This Row],[Disposition]]=0,\"\",K182+$F$2)))","v":""},{"$f":"IF(Table1[[#This Row],[Disposition]]=\"\",\"\",IF(AND(Table1[[#This Row],[Next Calibration]]<$E$1,Table1[[#This Row],[Disposition]]=\"Lost\"),\"Find and Calibrate\",IF(Table1[[#This Row],[Disposition]]=\"Lost\",\"Find\",IF(OR(Table1[[#This Row],[Next Calibration]]<$E$1,Table1[[#This Row],[Next Calibration]]=\"NEVER CALIBRATED\"),\"Calibrate\",\"Nominal\"))))","v":""},{"$f":"IF(((Table1[[#This Row],[Next Calibration]]-TODAY())/30)>2,\"More Than 2\",IF(((Table1[[#This Row],[Next Calibration]]-TODAY())/30)>1,\"Between 2 and 1\",\"Less than 1\"))","v":{"$error":"#VALUE!"}},{"$f":"IF(Table1[[#This Row],[Issued]]=\"\",\"\",IF(Table1[[#This Row],[Lent]]=\"\",0,1))","v":""},{"$f":"IF(Table1[[#This Row],[Lent]]=\"\",\"\",IF(Table1[[#This Row],[Returned]]=\"\",0,1))","v":""}]
[{"$nulls":11},{"$f":"IF(IF(Table1[[#This Row],[Disposition]]=\"Retired\",\"N/A\",IF(Table1[[#This Row],[Disposition]]=0,\"\",K183+$F$2))=0+$F$2,\"NEVER CALIBRATED\",IF(Table1[[#This Row],[Disposition]]=\"Retired\",\"N/A\",IF(Table1[[#This Row],[Disposition]]=0,\"\",K183+$F$2)))","v":""},{"$f":"IF(Table1[[#This Row],[Disposition]]=\"\",\"\",IF(AND(Table1[[#This Row],[Next Calibration]]<$E$1,Table1[[#This Row],[Disposition]]=\"Lost\"),\"Find and Calibrate\",IF(Table1[[#This Row],[Disposition]]=\"Lost\",\"Find\",IF(OR(Table1[[#This Row],[Next Calibration]]<$E$1,Table1[[#This Row],[Next Calibration]]=\"NEVER CALIBRATED\"),\"Calibrate\",\"Nominal\"))))","v":""},{"$f":"IF(((Table1[[#This Row],[Next Calibration]]-TODAY())/30)>2,\"More Than 2\",IF(((Table1[[#This Row],[Next Calibration]]-TODAY())/30)>1,\"Between 2 and 1\",\"Less than 1\"))","v":{"$error":"#VALUE!"}},{"$f":"IF(Table1[[#This Row],[Issued]]=\"\",\"\",IF(Table1[[#This Row],[Lent]]=\"\",0,1))","v":""},{"$f":"IF(Table1[[#This Row],[Lent]]=\"\",\"\",IF(Table1[[#This Row],[Returned]]=\"\",0,1))","v":""}]
[{"$nulls":11},{"$f":"IF(IF(Table1[[#This Row],[Disposition]]=\"Retired\",\"N/A\",IF(Table1[[#This Row],[Disposition]]=0,\"\",K184+$F$2))=0+$F$2,\"NEVER CALIBRATED\",IF(Table1[[#This Row],[Disposition]]=\"Retired\",\"N/A\",IF(Table1[[#This Row],[Disposition]]=0,\"\",K184+$F$2)))","v":""},{"$f":"IF(Table1[[#This Row],[Disposition]]=\"\",\"\",IF(AND(Table1[[#This Row],[Next Calibration]]<$E$1,Table1[[#This Row],[Disposition]]=\"Lost\"),\"Find and Calibrate\",IF(Table1[[#This Row],[Disposition]]=\"Lost\",\"Find\",IF(OR(Table1[[#This Row],[Next Calibration]]<$E$1,Table1[[#This Row],[Next Calibration]]=\"NEVER CALIBRATED\"),\"Calibrate\",\"Nominal\"))))","v":""},{"$f":"IF(((Table1[[#This Row],[Next Calibration]]-TODAY())/30)>2,\"More Than 2\",IF(((Table1[[#This Row],[Next Calibration]]-TODAY())/30)>1,\"Between 2 and 1\",\"Less than 1\"))","v":{"$error":"#VALUE!"}},{"$f":"IF(Table1[[#This Row],[Issued]]=\"\",\"\",IF(Table1[[#This Row],[Lent]]=\"\",0,1))","v":""},{"$f":"IF(Table1[[#This Row],[Lent]]=\"\",\"\",IF(Table1[[#This Row],[Returned]]=\"\",0,1))","v":""}]
[{"$nulls":11},{"$f":"IF(IF(Table1[[#This Row],[Disposition]]=\"Retired\",\"N/A\",IF(Table1[[#This Row],[Disposition]]=0,\"\",K185+$F$2))=0+$F$2,\"NEVER CALIBRATED\",IF(Table1[[#This Row],[Disposition]]=\"Retired\",\"N/A\",IF(Table1[[#This Row],[Disposition]]=0,\"\",K185+$F$2)))","v":""},{"$f":"IF(Table1[[#This Row],[Disposition]]=\"\",\"\",IF(AND(Table1[[#This Row],[Next Calibration]]<$E$1,Table1[[#This Row],[Disposition]]=\"Lost\"),\"Find and Calibrate\",IF(Table1[[#This Row],[Disposition]]=\"Lost\",\"Find\",IF(OR(Table1[[#This Row],[Next Calibration]]<$E$1,Table1[[#This Row],[Next Calibration]]=\"NEVER CALIBRATED\"),\"Calibrate\",\"Nominal\"))))","v":""},{"$f":"IF(((Table1[[#This Row],[Next Calibration]]-TODAY())/30)>2,\"More Than 2\",IF(((Table1[[#This Row],[Next Calibration]]-TODAY())/30)>1,\"Between 2 and 1\",\"Less than 1\"))","v":{"$error":"#VALUE!"}},{"$f":"IF(Table1[[#This Row],[Issued]]=\"\",\"\",IF(Table1[[#This Row],[Lent]]=\"\",0,1))","v":""},{"$f":"IF(Table1[[#This Row],[Lent]]=\"\",\"\",IF(Table1[[#This Row],[Returned]]=\"\",0,1))","v":""}]
[{"$nulls":11},{"$f":"IF(IF(Table1[[#This Row],[Disposition]]=\"Retired\",\"N/A\",IF(Table1[[#This Row],[Disposition]]=0,\"\",K186+$F$2))=0+$F$2,\"NEVER CALIBRATED\",IF(Table1[[#This Row],[Disposition]]=\"Retired\",\"N/A\",IF(Table1[[#This Row],[Disposition]]=0,\"\",K186+$F$2)))","v":""},{"$f":"IF(Table1[[#This Row],[Disposition]]=\"\",\"\",IF(AND(Table1[[#This Row],[Next Calibration]]<$E$1,Table1[[#This Row],[Disposition]]=\"Lost\"),\"Find and Calibrate\",IF(Table1[[#This Row],[Disposition]]=\"Lost\",\"Find\",IF(OR(Table1[[#This Row],[Next Calibration]]<$E$1,Table1[[#This Row],[Next Calibration]]=\"NEVER CALIBRATED\"),\"Calibrate\",\"Nominal\"))))","v":""},{"$f":"IF(((Table1[[#This Row],[Next Calibration]]-TODAY())/30)>2,\"More Than 2\",IF(((Table1[[#This Row],[Next Calibration]]-TODAY())/30)>1,\"Between 2 and 1\",\"Less than 1\"))","v":{"$error":"#VALUE!"}},{"$f":"IF(Table1[[#This Row],[Issued]]=\"\",\"\",IF(Table1[[#This Row],[Lent]]=\"\",0,1))","v":""},{"$f":"IF(Table1[[#This Row],[Lent]]=\"\",\"\",IF(Table1[[#This Row],[Returned]]=\"\",0,1))","v":""}]
[{"$nulls":11},{"$f":"IF(IF(Table1[[#This Row],[Disposition]]=\"Retired\",\"N/A\",IF(Table1[[#This Row],[Disposition]]=0,\"\",K187+$F$2))=0+$F$2,\"NEVER CALIBRATED\",IF(Table1[[#This Row],[Disposition]]=\"Retired\",\"N/A\",IF(Table1[[#This Row],[Disposition]]=0,\"\",K187+$F$2)))","v":""},{"$f":"IF(Table1[[#This Row],[Disposition]]=\"\",\"\",IF(AND(Table1[[#This Row],[Next Calibration]]<$E$1,Table1[[#This Row],[Disposition]]=\"Lost\"),\"Find and Calibrate\",IF(Table1[[#This Row],[Disposition]]=\"Lost\",\"Find\",IF(OR(Table1[[#This Row],[Next Calibration]]<$E$1,Table1[[#This Row],[Next Calibration]]=\"NEVER CALIBRATED\"),\"Calibrate\",\"Nominal\"))))","v":""},{"$f":"IF(((Table1[[#This Row],[Next Calibration]]-TODAY())/30)>2,\"More Than 2\",IF(((Table1[[#This Row],[Next Calibration]]-TODAY())/30)>1,\"Between 2 and 1\",\"Less than 1\"))","v":{"$error":"#VALUE!"}},{"$f":"IF(Table1[[#This Row],[Issued]]=\"\",\"\",IF(Table1[[#This Row],[Lent]]=\"\",0,1))","v":""},{"$f":"IF(Table1[[#This Row],[Lent]]=\"\",\"\",IF(Table1[[#This Row],[Returned]]=\"\",0,1))","v":""}]
[{"$nulls":11},{"$f":"IF(IF(Table1[[#This Row],[Disposition]]=\"Retired\",\"N/A\",IF(Table1[[#This Row],[Disposition]]=0,\"\",K188+$F$2))=0+$F$2,\"NEVER CALIBRATED\",IF(Table1[[#This Row],[Disposition]]=\"Retired\",\"N/A\",IF(Table1[[#This Row],[Disposition]]=0,\"\",K188+$F$2)))","v":""},{"$f":"IF(Table1[[#This Row],[Disposition]]=\"\",\"\",IF(AND(Table1[[#This Row],[Next Calibration]]<$E$1,Table1[[#This Row],[Disposition]]=\"Lost\"),\"Find and Calibrate\",IF(Table1[[#This Row],[Disposition]]=\"Lost\",\"Find\",IF(OR(Table1[[#This Row],[Next Calibration]]<$E$1,Table1[[#This Row],[Next Calibration]]=\"NEVER CALIBRATED\"),\"Calibrate\",\"Nominal\"))))","v":""},{"$f":"IF(((Table1[[#This Row],[Next Calibration]]-TODAY())/30)>2,\"More Than 2\",IF(((Table1[[#This Row],[Next Calibration]]-TODAY())/30)>1,\"Between 2 and 1\",\"Less than 1\"))","v":{"$error":"#VALUE!"}},{"$f":"IF(Table1[[#This Row],[Issued]]=\"\",\"\",IF(Table1[[#This Row],[Lent]]=\"\",0,1))","v":""},{"$f":"IF(Table1[[#This Row],[Lent]]=\"\",\"\",IF(Table1[[#This Row],[Returned]]=\"\",0,1))","v":""}]
[{"$nulls":11},{"$f":"IF(IF(Table1[[#This Row],[Disposition]]=\"Retired\",\"N/A\",IF(Table1[[#This Row],[Disposition]]=0,\"\",K189+$F$2))=0+$F$2,\"NEVER CALIBRATED\",IF(Table1[[#This Row],[Disposition]]=\"Retired\",\"N/A\",IF(Table1[[#This Row],[Disposition]]=0,\"\",K189+$F$2)))","v":""},{"$f":"IF(Table1[[#This Row],[Disposition]]=\"\",\"\",IF(AND(Table1[[#This Row],[Next Calibration]]<$E$1,Table1[[#This Row],[Disposition]]=\"Lost\"),\"Find and Calibrate\",IF(Table1[[#This Row],[Disposition]]=\"Lost\",\"Find\",IF(OR(Table1[[#This Row],[Next Calibration]]<$E$1,Table1[[#This Row],[Next Calibration]]=\"NEVER CALIBRATED\"),\"Calibrate\",\"Nominal\"))))","v":""},{"$f":"IF(((Table1[[#This Row],[Next Calibration]]-TODAY())/30)>2,\"More Than 2\",IF(((Table1[[#This Row],[Next Calibration]]-TODAY())/30)>1,\"Between 2 and 1\",\"Less than 1\"))","v":{"$error":"#VALUE!"}},{"$f":"IF(Table1[[#This Row],[Issued]]=\"\",\"\",IF(Table1[[#This Row],[Lent]]=\"\",0,1))","v":""},{"$f":"IF(Table1[[#This Row],[Lent]]=\"\",\"\",IF(Table1[[#This Row],[Returned]]=\"\",0,1))","v":""}]
[{"$nulls":11},{"$f":"IF(IF(Table1[[#This Row],[Disposition]]=\"Retired\",\"N/A\",IF(Table1[[#This Row],[Disposition]]=0,\"\",K190+$F$2))=0+$F$2,\"NEVER CALIBRATED\",IF(Table1[[#This Row],[Disposition]]=\"Retired\",\"N/A\",IF(Table1[[#This Row],[Disposition]]=0,\"\",K190+$F$2)))","v":""},{"$f":"IF(Table1[[#This Row],[Disposition]]=\"\",\"\",IF(AND(Table1[[#This Row],[Next Calibration]]<$E$1,Table1[[#This Row],[Disposition]]=\"Lost\"),\"Find and Calibrate\",IF(Table1[[#This Row],[Disposition]]=\"Lost\",\"Find\",IF(OR(Table1[[#This Row],[Next Calibration]]<$E$1,Table1[[#This Row],[Next Calibration]]=\"NEVER CALIBRATED\"),\"Calibrate\",\"Nominal\"))))","v":""},{"$f":"IF(((Table1[[#This Row],[Next Calibration]]-TODAY())/30)>2,\"More Than 2\",IF(((Table1[[#This Row],[Next Calibration]]-TODAY())/30)>1,\"Between 2 and 1\",\"Less than 1\"))","v":{"$error":"#VALUE!"}},{"$f":"IF(Table1[[#This Row],[Issued]]=\"\",\"\",IF(Table1[[#This Row],[Lent]]=\"\",0,1))","v":""},{"$f":"IF(Table1[[#This Row],[Lent]]=\"\",\"\",IF(Table1[[#This Row],[Returned]]=\"\",0,1))","v":""}]
[{"$nulls":11},{"$f":"IF(IF(Table1[[#This Row],[Disposition]]=\"Retired\",\"N/A\",IF(Table1[[#This Row],[Disposition]]=0,\"\",K191+$F$2))=0+$F$2,\"NEVER CALIBRATED\",IF(Table1[[#This Row],[Disposition]]=\"Retired\",\"N/A\",IF(Table1[[#This Row],[Disposition]]=0,\"\",K191+$F$2)))","v":""},{"$f":"IF(Table1[[#This Row],[Disposition]]=\"\",\"\",IF(AND(Table1[[#This Row],[Next Calibration]]<$E$1,Table1[[#This Row],[Disposition]]=\"Lost\"),\"Find and Calibrate\",IF(Table1[[#This Row],[Disposition]]=\"Lost\",\"Find\",IF(OR(Table1[[#This Row],[Next Calibration]]<$E$1,Table1[[#This Row],[Next Calibration]]=\"NEVER CALIBRATED\"),\"Calibrate\",\"Nominal\"))))","v":""},{"$f":"IF(((Table1[[#This Row],[Next Calibration]]-TODAY())/30)>2,\"More Than 2\",IF(((Table1[[#This Row],[Next Calibration]]-TODAY())/30)>1,\"Between 2 and 1\",\"Less than 1\"))","v":{"$error":"#VALUE!"}},{"$f":"IF(Table1[[#This Row],[Issued]]=\"\",\"\",IF(Table1[[#This Row],[Lent]]=\"\",0,1))","v":""},{"$f":"IF(Table1[[#This Row],[Lent]]=\"\",\"\",IF(Table1[[#This Row],[Returned]]=\"\",0,1))","v":""}]
[{"$nulls":11},{"$f":"IF(IF(Table1[[#This Row],[Disposition]]=\"Retired\",\"N/A\",IF(Table1[[#This Row],[Disposition]]=0,\"\",K192+$F$2))=0+$F$2,\"NEVER CALIBRATED\",IF(Table1[[#This Row],[Disposition]]=\"Retired\",\"N/A\",IF(Table1[[#This Row],[Disposition]]=0,\"\",K192+$F$2)))","v":""},{"$f":"IF(Table1[[#This Row],[Disposition]]=\"\",\"\",IF(AND(Table1[[#This Row],[Next Calibration]]<$E$1,Table1[[#This Row],[Disposition]]=\"Lost\"),\"Find and Calibrate\",IF(Table1[[#This Row],[Disposition]]=\"Lost\",\"Find\",IF(OR(Table1[[#This Row],[Next Calibration]]<$E$1,Table1[[#This Row],[Next Calibration]]=\"NEVER CALIBRATED\"),\"Calibrate\",\"Nominal\"))))","v":""},{"$f":"IF(((Table1[[#This Row],[Next Calibration]]-TODAY())/30)>2,\"More Than 2\",IF(((Table1[[#This Row],[Next Calibration]]-TODAY())/30)>1,\"Between 2 and 1\",\"Less than 1\"))","v":{"$error":"#VALUE!"}},{"$f":"IF(Table1[[#This Row],[Issued]]=\"\",\"\",IF(Table1[[#This Row],[Lent]]=\"\",0,1))","v":""},{"$f":"IF(Table1[[#This Row],[Lent]]=\"\",\"\",IF(Table1[[#This Row],[Returned]]=\"\",0,1))","v":""}]
[{"$nulls":11},{"$f":"IF(IF(Table1[[#This Row],[Disposition]]=\"Retired\",\"N/A\",IF(Table1[[#This Row],[Disposition]]=0,\"\",K193+$F$2))=0+$F$2,\"NEVER CALIBRATED\",IF(Table1[[#This Row],[Disposition]]=\"Retired\",\"N/A\",IF(Table1[[#This Row],[Disposition]]=0,\"\",K193+$F$2)))","v":""},{"$f":"IF(Table1[[#This Row],[Disposition]]=\"\",\"\",IF(AND(Table1[[#This Row],[Next Calibration]]<$E$1,Table1[[#This Row],[Disposition]]=\"Lost\"),\"Find and Calibrate\",IF(Table1[[#This Row],[Disposition]]=\"Lost\",\"Find\",IF(OR(Table1[[#This Row],[Next Calibration]]<$E$1,Table1[[#This Row],[Next Calibration]]=\"NEVER CALIBRATED\"),\"Calibrate\",\"Nominal\"))))","v":""},{"$f":"IF(((Table1[[#This Row],[Next Calibration]]-TODAY())/30)>2,\"More Than 2\",IF(((Table1[[#This Row],[Next Calibration]]-TODAY())/30)>1,\"Between 2 and 1\",\"Less than 1\"))","v":{"$error":"#VALUE!"}},{"$f":"IF(Table1[[#This Row],[Issued]]=\"\",\"\",IF(Table1[[#This Row],[Lent]]=\"\",0,1))","v":""},{"$f":"IF(Table1[[#This Row],[Lent]]=\"\",\"\",IF(Table1[[#This Row],[Returned]]=\"\",0,1))","v":""}]
[{"$nulls":11},{"$f":"IF(IF(Table1[[#This Row],[Disposition]]=\"Retired\",\"N/A\",IF(Table1[[#This Row],[Disposition]]=0,\"\",K194+$F$2))=0+$F$2,\"NEVER CALIBRATED\",IF(Table1[[#This Row],[Disposition]]=\"Retired\",\"N/A\",IF(Table1[[#This Row],[Disposition]]=0,\"\",K194+$F$2)))","v":""},{"$f":"IF(Table1[[#This Row],[Disposition]]=\"\",\"\",IF(AND(Table1[[#This Row],[Next Calibration]]<$E$1,Table1[[#This Row],[Disposition]]=\"Lost\"),\"Find and Calibrate\",IF(Table1[[#This Row],[Disposition]]=\"Lost\",\"Find\",IF(OR(Table1[[#This Row],[Next Calibration]]<$E$1,Table1[[#This Row],[Next Calibration]]=\"NEVER CALIBRATED\"),\"Calibrate\",\"Nominal\"))))","v":""},{"$f":"IF(((Table1[[#This Row],[Next Calibration]]-TODAY())/30)>2,\"More Than 2\",IF(((Table1[[#This Row],[Next Calibration]]-TODAY())/30)>1,\"Between 2 and 1\",\"Less than 1\"))","v":{"$error":"#VALUE!"}},{"$f":"IF(Table1[[#This Row],[Issued]]=\"\",\"\",IF(Table1[[#This Row],[Lent]]=\"\",0,1))","v":""},{"$f":"IF(Table1[[#This Row],[Lent]]=\"\",\"\",IF(Table1[[#This Row],[Returned]]=\"\",0,1))","v":""}]
[{"$nulls":11},{"$f":"IF(IF(Table1[[#This Row],[Disposition]]=\"Retired\",\"N/A\",IF(Table1[[#This Row],[Disposition]]=0,\"\",K195+$F$2))=0+$F$2,\"NEVER CALIBRATED\",IF(Table1[[#This Row],[Disposition]]=\"Retired\",\"N/A\",IF(Table1[[#This Row],[Disposition]]=0,\"\",K195+$F$2)))","v":""},{"$f":"IF(Table1[[#This Row],[Disposition]]=\"\",\"\",IF(AND(Table1[[#This Row],[Next Calibration]]<$E$1,Table1[[#This Row],[Disposition]]=\"Lost\"),\"Find and Calibrate\",IF(Table1[[#This Row],[Disposition]]=\"Lost\",\"Find\",IF(OR(Table1[[#This Row],[Next Calibration]]<$E$1,Table1[[#This Row],[Next Calibration]]=\"NEVER CALIBRATED\"),\"Calibrate\",\"Nominal\"))))","v":""},{"$f":"IF(((Table1[[#This Row],[Next Calibration]]-TODAY())/30)>2,\"More Than 2\",IF(((Table1[[#This Row],[Next Calibration]]-TODAY())/30)>1,\"Between 2 and 1\",\"Less than 1\"))","v":{"$error":"#VALUE!"}},{"$f":"IF(Table1[[#This Row],[Issued]]=\"\",\"\",IF(Table1[[#This Row],[Lent]]=\"\",0,1))","v":""},{"$f":"IF(Table1[[#This Row],[Lent]]=\"\",\"\",IF(Table1[[#This Row],[Returned]]=\"\",0,1))","v":""}]
[{"$nulls":11},{"$f":"IF(IF(Table1[[#This Row],[Disposition]]=\"Retired\",\"N/A\",IF(Table1[[#This Row],[Disposition]]=0,\"\",K196+$F$2))=0+$F$2,\"NEVER CALIBRATED\",IF(Table1[[#This Row],[Disposition]]=\"Retired\",\"N/A\",IF(Table1[[#This Row],[Disposition]]=0,\"\",K196+$F$2)))","v":""},{"$f":"IF(Table1[[#This Row],[Disposition]]=\"\",\"\",IF(AND(Table1[[#This Row],[Next Calibration]]<$E$1,Table1[[#This Row],[Disposition]]=\"Lost\"),\"Find and Calibrate\",IF(Table1[[#This Row],[Disposition]]=\"Lost\",\"Find\",IF(OR(Table1[[#This Row],[Next Calibration]]<$E$1,Table1[[#This Row],[Next Calibration]]=\"NEVER CALIBRATED\"),\"Calibrate\",\"Nominal\"))))","v":""},{"$f":"IF(((Table1[[#This Row],[Next Calibration]]-TODAY())/30)>2,\"More Than 2\",IF(((Table1[[#This Row],[Next Calibration]]-TODAY())/30)>1,\"Between 2 and 1\",\"Less than 1\"))","v":{"$error":"#VALUE!"}},{"$f":"IF(Table1[[#This Row],[Issued]]=\"\",\"\",IF(Table1[[#This Row],[Lent]]=\"\",0,1))","v":""},{"$f":"IF(Table1[[#This Row],[Lent]]=\"\",\"\",IF(Table1[[#This Row],[Returned]]=\"\",0,1))","v":""}]
[{"$nulls":11},{"$f":"IF(IF(Table1[[#This Row],[Disposition]]=\"Retired\",\"N/A\",IF(Table1[[#This Row],[Disposition]]=0,\"\",K197+$F$2))=0+$F$2,\"NEVER CALIBRATED\",IF(Table1[[#This Row],[Disposition]]=\"Retired\",\"N/A\",IF(Table1[[#This Row],[Disposition]]=0,\"\",K197+$F$2)))","v":""},{"$f":"IF(Table1[[#This Row],[Disposition]]=\"\",\"\",IF(AND(Table1[[#This Row],[Next Calibration]]<$E$1,Table1[[#This Row],[Disposition]]=\"Lost\"),\"Find and Calibrate\",IF(Table1[[#This Row],[Disposition]]=\"Lost\",\"Find\",IF(OR(Table1[[#This Row],[Next Calibration]]<$E$1,Table1[[#This Row],[Next Calibration]]=\"NEVER CALIBRATED\"),\"Calibrate\",\"Nominal\"))))","v":""},{"$f":"IF(((Table1[[#This Row],[Next Calibration]]-TODAY())/30)>2,\"More Than 2\",IF(((Table1[[#This Row],[Next Calibration]]-TODAY())/30)>1,\"Between 2 and 1\",\"Less than 1\"))","v":{"$error":"#VALUE!"}},{"$f":"IF(Table1[[#This Row],[Issued]]=\"\",\"\",IF(Table1[[#This Row],[Lent]]=\"\",0,1))","v":""},{"$f":"IF(Table1[[#This Row],[Lent]]=\"\",\"\",IF(Table1[[#This Row],[Returned]]=\"\",0,1))","v":""}]
[{"$nulls":11},{"$f":"IF(IF(Table1[[#This Row],[Disposition]]=\"Retired\",\"N/A\",IF(Table1[[#This Row],[Disposition]]=0,\"\",K198+$F$2))=0+$F$2,\"NEVER CALIBRATED\",IF(Table1[[#This Row],[Disposition]]=\"Retired\",\"N/A\",IF(Table1[[#This Row],[Disposition]]=0,\"\",K198+$F$2)))","v":""},{"$f":"IF(Table1[[#This Row],[Disposition]]=\"\",\"\",IF(AND(Table1[[#This Row],[Next Calibration]]<$E$1,Table1[[#This Row],[Disposition]]=\"Lost\"),\"Find and Calibrate\",IF(Table1[[#This Row],[Disposition]]=\"Lost\",\"Find\",IF(OR(Table1[[#This Row],[Next Calibration]]<$E$1,Table1[[#This Row],[Next Calibration]]=\"NEVER CALIBRATED\"),\"Calibrate\",\"Nominal\"))))","v":""},{"$f":"IF(((Table1[[#This Row],[Next Calibration]]-TODAY())/30)>2,\"More Than 2\",IF(((Table1[[#This Row],[Next Calibration]]-TODAY())/30)>1,\"Between 2 and 1\",\"Less than 1\"))","v":{"$error":"#VALUE!"}},{"$f":"IF(Table1[[#This Row],[Issued]]=\"\",\"\",IF(Table1[[#This Row],[Lent]]=\"\",0,1))","v":""},{"$f":"IF(Table1[[#This Row],[Lent]]=\"\",\"\",IF(Table1[[#This Row],[Returned]]=\"\",0,1))","v":""}]
[{"$nulls":11},{"$f":"IF(IF(Table1[[#This Row],[Disposition]]=\"Retired\",\"N/A\",IF(Table1[[#This Row],[Disposition]]=0,\"\",K199+$F$2))=0+$F$2,\"NEVER CALIBRATED\",IF(Table1[[#This Row],[Disposition]]=\"Retired\",\"N/A\",IF(Table1[[#This Row],[Disposition]]=0,\"\",K199+$F$2)))","v":""},{"$f":"IF(Table1[[#This Row],[Disposition]]=\"\",\"\",IF(AND(Table1[[#This Row],[Next Calibration]]<$E$1,Table1[[#This Row],[Disposition]]=\"Lost\"),\"Find and Calibrate\",IF(Table1[[#This Row],[Disposition]]=\"Lost\",\"Find\",IF(OR(Table1[[#This Row],[Next Calibration]]<$E$1,Table1[[#This Row],[Next Calibration]]=\"NEVER CALIBRATED\"),\"Calibrate\",\"Nominal\"))))","v":""},{"$f":"IF(((Table1[[#This Row],[Next Calibration]]-TODAY())/30)>2,\"More Than 2\",IF(((Table1[[#This Row],[Next Calibration]]-TODAY())/30)>1,\"Between 2 and 1\",\"Less than 1\"))","v":{"$error":"#VALUE!"}},{"$f":"IF(Table1[[#This Row],[Issued]]=\"\",\"\",IF(Table1[[#This Row],[Lent]]=\"\",0,1))","v":""},{"$f":"IF(Table1[[#This Row],[Lent]]=\"\",\"\",IF(Table1[[#This Row],[Returned]]=\"\",0,1))","v":""}]
[{"$nulls":11},{"$f":"IF(IF(Table1[[#This Row],[Disposition]]=\"Retired\",\"N/A\",IF(Table1[[#This Row],[Disposition]]=0,\"\",K200+$F$2))=0+$F$2,\"NEVER CALIBRATED\",IF(Table1[[#This Row],[Disposition]]=\"Retired\",\"N/A\",IF(Table1[[#This Row],[Disposition]]=0,\"\",K200+$F$2)))","v":""},{"$f":"IF(Table1[[#This Row],[Disposition]]=\"\",\"\",IF(AND(Table1[[#This Row],[Next Calibration]]<$E$1,Table1[[#This Row],[Disposition]]=\"Lost\"),\"Find and Calibrate\",IF(Table1[[#This Row],[Disposition]]=\"Lost\",\"Find\",IF(OR(Table1[[#This Row],[Next Calibration]]<$E$1,Table1[[#This Row],[Next Calibration]]=\"NEVER CALIBRATED\"),\"Calibrate\",\"Nominal\"))))","v":""},{"$f":"IF(((Table1[[#This Row],[Next Calibration]]-TODAY())/30)>2,\"More Than 2\",IF(((Table1[[#This Row],[Next Calibration]]-TODAY())/30)>1,\"Between 2 and 1\",\"Less than 1\"))","v":{"$error":"#VALUE!"}},{"$f":"IF(Table1[[#This Row],[Issued]]=\"\",\"\",IF(Table1[[#This Row],[Lent]]=\"\",0,1))","v":""},{"$f":"IF(Table1[[#This Row],[Lent]]=\"\",\"\",IF(Table1[[#This Row],[Returned]]=\"\",0,1))","v":""}]
[{"$nulls":11},{"$f":"IF(IF(Table1[[#This Row],[Disposition]]=\"Retired\",\"N/A\",IF(Table1[[#This Row],[Disposition]]=0,\"\",K201+$F$2))=0+$F$2,\"NEVER CALIBRATED\",IF(Table1[[#This Row],[Disposition]]=\"Retired\",\"N/A\",IF(Table1[[#This Row],[Disposition]]=0,\"\",K201+$F$2)))","v":""},{"$f":"IF(Table1[[#This Row],[Disposition]]=\"\",\"\",IF(AND(Table1[[#This Row],[Next Calibration]]<$E$1,Table1[[#This Row],[Disposition]]=\"Lost\"),\"Find and Calibrate\",IF(Table1[[#This Row],[Disposition]]=\"Lost\",\"Find\",IF(OR(Table1[[#This Row],[Next Calibration]]<$E$1,Table1[[#This Row],[Next Calibration]]=\"NEVER CALIBRATED\"),\"Calibrate\",\"Nominal\"))))","v":""},{"$f":"IF(((Table1[[#This Row],[Next Calibration]]-TODAY())/30)>2,\"More Than 2\",IF(((Table1[[#This Row],[Next Calibration]]-TODAY())/30)>1,\"Between 2 and 1\",\"Less than 1\"))","v":{"$error":"#VALUE!"}},{"$f":"IF(Table1[[#This Row],[Issued]]=\"\",\"\",IF(Table1[[#This Row],[Lent]]=\"\",0,1))","v":""},{"$f":"IF(Table1[[#This Row],[Lent]]=\"\",\"\",IF(Table1[[#This Row],[Returned]]=\"\",0,1))","v":""}]
[{"$nulls":11},{"$f":"IF(IF(Table1[[#This Row],[Disposition]]=\"Retired\",\"N/A\",IF(Table1[[#This Row],[Disposition]]=0,\"\",K202+$F$2))=0+$F$2,\"NEVER CALIBRATED\",IF(Table1[[#This Row],[Disposition]]=\"Retired\",\"N/A\",IF(Table1[[#This Row],[Disposition]]=0,\"\",K202+$F$2)))","v":""},{"$f":"IF(Table1[[#This Row],[Disposition]]=\"\",\"\",IF(AND(Table1[[#This Row],[Next Calibration]]<$E$1,Table1[[#This Row],[Disposition]]=\"Lost\"),\"Find and Calibrate\",IF(Table1[[#This Row],[Disposition]]=\"Lost\",\"Find\",IF(OR(Table1[[#This Row],[Next Calibration]]<$E$1,Table1[[#This Row],[Next Calibration]]=\"NEVER CALIBRATED\"),\"Calibrate\",\"Nominal\"))))","v":""},{"$f":"IF(((Table1[[#This Row],[Next Calibration]]-TODAY())/30)>2,\"More Than 2\",IF(((Table1[[#This Row],[Next Calibration]]-TODAY())/30)>1,\"Between 2 and 1\",\"Less than 1\"))","v":{"$error":"#VALUE!"}},{"$f":"IF(Table1[[#This Row],[Issued]]=\"\",\"\",IF(Table1[[#This Row],[Lent]]=\"\",0,1))","v":""},{"$f":"IF(Table1[[#This Row],[Lent]]=\"\",\"\",IF(Table1[[#This Row],[Returned]]=\"\",0,1))","v":""}]
[{"$nulls":11},{"$f":"IF(IF(Table1[[#This Row],[Disposition]]=\"Retired\",\"N/A\",IF(Table1[[#This Row],[Disposition]]=0,\"\",K203+$F$2))=0+$F$2,\"NEVER CALIBRATED\",IF(Table1[[#This Row],[Disposition]]=\"Retired\",\"N/A\",IF(Table1[[#This Row],[Disposition]]=0,\"\",K203+$F$2)))","v":""},{"$f":"IF(Table1[[#This Row],[Disposition]]=\"\",\"\",IF(AND(Table1[[#This Row],[Next Calibration]]<$E$1,Table1[[#This Row],[Disposition]]=\"Lost\"),\"Find and Calibrate\",IF(Table1[[#This Row],[Disposition]]=\"Lost\",\"Find\",IF(OR(Table1[[#This Row],[Next Calibration]]<$E$1,Table1[[#This Row],[Next Calibration]]=\"NEVER CALIBRATED\"),\"Calibrate\",\"Nominal\"))))","v":""},{"$f":"IF(((Table1[[#This Row],[Next Calibration]]-TODAY())/30)>2,\"More Than 2\",IF(((Table1[[#This Row],[Next Calibration]]-TODAY())/30)>1,\"Between 2 and 1\",\"Less than 1\"))","v":{"$error":"#VALUE!"}},{"$f":"IF(Table1[[#This Row],[Issued]]=\"\",\"\",IF(Table1[[#This Row],[Lent]]=\"\",0,1))","v":""},{"$f":"IF(Table1[[#This Row],[Lent]]=\"\",\"\",IF(Table1[[#This Row],[Returned]]=\"\",0,1))","v":""}]

{"sheet":"Lists","index":12,"n_rows":255,"n_cols":12,"rows_kept":255}
["Shifts","Roster","Areas","Disposition","Personal Check Box","Reason Retired","Tool Type","Brands","Machines","Roster (ignore this column)",null,"DO NOT EDIT"]
["NO SHIFT SPECIFIED","NO PERSON SPECIFIED","NO AREA SPECIFIED","Accounted For",1,"NO REASON SPECIFIED","NO TOOL SPECIFIED","NO BRAND SPECIFIED","NO MACHINE SPECIFIED",{"$f":"B2","v":"NO PERSON SPECIFIED"},null,"EDITABLE"]
["1st",{"$f":"'Roster (1-5-2021)'!D2","v":"Mathis, Harrison"},"Braze (Furnace)","Lost",0,"Age","Calipers","Fowler 12\"","Chewy",{"$f":"B3","v":"Mathis, Harrison"}]
["2nd",{"$f":"'Roster (1-5-2021)'!D3","v":"Vega, Amir"},"Braze (Torch)","Retired",null,"Damaged","Micrometer","Fowler Ultra 6\"","Solo","Vega, Amir"]
["3rd",{"$f":"'Roster (1-5-2021)'!D4","v":"Freeman, Adrian"},"Braze (Weld)",null,null,"MIA","Drop Indicators","Starret 0-1\"","Frank","Freeman, Adrian"]
["All",{"$f":"'Roster (1-5-2021)'!D5","v":"Chan, Jaylon"},"Cell (braid)",{"$nulls":3},"Bore Gauges","Mitutoyo 0-1\"",2705,"Chan, Jaylon"]
[null,{"$f":"'Roster (1-5-2021)'!D6","v":"Obrien, Harley"},"Cell (Grind)",{"$nulls":3},"Chamfer Gauges","ABS 0-6\"","100 Ton","Obrien, Harley"]
[null,{"$f":"'Roster (1-5-2021)'!D7","v":"Zamora, Denzel"},"Cell (lug)",{"$nulls":3},"Surface Gauge","Brown&Sharpe 0-8\"","Saw Building","Zamora, Denzel"]
[null,{"$f":"'Roster (1-5-2021)'!D8","v":"Miles, Royce"},"Cell (M. Falcon)",{"$nulls":3},"Tourque Wrenches","Mitutoyo 0-6\"",null,"Miles, Royce"]
[null,{"$f":"'Roster (1-5-2021)'!D9","v":"Glass, Max"},"Cell (Strap)",{"$nulls":3},"Custom Gauges","Mitutoyo 1-2\"",null,"Glass, Max"]
[null,{"$f":"'Roster (1-5-2021)'!D10","v":"Powers, Calvin"},"Cell (T-Block)",{"$nulls":3},"Refractometer","Mitutoyo 0-8\"",null,"Powers, Calvin"]
[null,{"$f":"'Roster (1-5-2021)'!D11","v":"Ramos, Kamden"},"Davenports",{"$nulls":4},"SPI 0-12\"",null,"Ramos, Kamden"]
[null,{"$f":"'Roster (1-5-2021)'!D12","v":"Huffman, Fletcher"},"De-Burr",{"$nulls":4},"SPI 0-6\"",null,"Huffman, Fletcher"]
[null,{"$f":"'Roster (1-5-2021)'!D13","v":"Lin, Lane"},"EHRT",{"$nulls":4},"Phase 2 0-6\"",null,"Lin, Lane"]
[null,{"$f":"'Roster (1-5-2021)'!D14","v":"Crawford, Eugene"},"Heat Treat",{"$nulls":4},"SPI 0-1\" Ball",null,"Crawford, Eugene"]
[null,{"$f":"'Roster (1-5-2021)'!D15","v":"Holder, Jensen"},"H-Frame Brazzers",{"$nulls":4},"Fowler 0-1\" Ball",null,"Holder, Jensen"]
[null,{"$f":"'Roster (1-5-2021)'!D16","v":"Bowman, Miles"},"Inline Hydromats",{"$nulls":4},"Mitutoyo 0-1\" Ball",null,"Bowman, Miles"]
[null,{"$f":"'Roster (1-5-2021)'!D17","v":"Meyers, Beckham"},"Large CNCs",{"$nulls":4},"Starret 0-6\"",null,"Meyers, Beckham"]
[null,{"$f":"'Roster (1-5-2021)'!D18","v":"James, Gunner"},"Laythes (Small CNC)",{"$nulls":4},"Brown&Sharpe 0-12\"",null,"James, Gunner"]
[null,{"$f":"'Roster (1-5-2021)'!D19","v":"Proctor, Alfredo"},"Laythes (Swiss)",{"$nulls":4},"Mitutoyo 0-1\" Blade",null,"Proctor, Alfredo"]
[null,{"$f":"'Roster (1-5-2021)'!D20","v":"Buchanan, Zavier"},"Line 1",{"$nulls":4},"Fowler 0-1\"",null,"Buchanan, Zavier"]
[null,{"$f":"'Roster (1-5-2021)'!D21","v":"Gardner, Hayden"},"Line 10",{"$nulls":4},"Mitutoyo 0-12\"",null,"Gardner, Hayden"]
[null,{"$f":"'Roster (1-5-2021)'!D22","v":"Mora, Donovan"},"Line 5",{"$nulls":4},"SPI 1-2\"",null,"Mora, Donovan"]
[null,{"$f":"'Roster (1-5-2021)'!D23","v":"Potts, Jordon"},"Line 7",{"$nulls":4},"Starrett 0-1\" Blades",null,"Potts, Jordon"]
[null,{"$f":"'Roster (1-5-2021)'!D24","v":"Vargas, Kaleb"},"New Britains",{"$nulls":4},"Mitutoyo 0-18\"",null,"Vargas, Kaleb"]
[null,{"$f":"'Roster (1-5-2021)'!D25","v":"Young, Nico"},"Office (Front)",{"$nulls":4},"Brown & Sharpe 0-1\"",null,"Young, Nico"]
[null,{"$f":"'Roster (1-5-2021)'!D26","v":"Maynard, Chance"},"Office (Intern)",{"$nulls":4},"Fowler 0-1\" Drop",null,"Maynard, Chance"]
[null,{"$f":"'Roster (1-5-2021)'!D27","v":"Burgess, Joel"},"Plating Lab",{"$nulls":4},"Insize 1\" Blades",null,"Burgess, Joel"]
[null,{"$f":"'Roster (1-5-2021)'!D28","v":"Calhoun, Gianni"},"Presses (Automatic)",{"$nulls":4},"Fowler 0-24\"",null,"Calhoun, Gianni"]
[null,{"$f":"'Roster (1-5-2021)'!D29","v":"Choi, Weston"},"Presses (Automatic, Stock Retrevial)",{"$nulls":4},"Fowler 0-18\"",null,"Choi, Weston"]
[null,{"$f":"'Roster (1-5-2021)'!D30","v":"Herrera, Braden"},"Presses (Hand Feed)",{"$nulls":4},"SPI 0-1\"",null,"Herrera, Braden"]
[null,{"$f":"'Roster (1-5-2021)'!D31","v":"Leblanc, Trace"},"Presses (Secondary)",{"$nulls":4},"Starrett 0-1\" Discs",null,"Leblanc, Trace"]
[null,{"$f":"'Roster (1-5-2021)'!D32","v":"Dean, Roderick"},"Race Car",{"$nulls":4},"Mitutoyo 0-1\" Small Frame",null,"Dean, Roderick"]
[null,{"$f":"'Roster (1-5-2021)'!D33","v":"Meadows, Dallas"},"Robo Nutrals",{"$nulls":4},"Mitutoyo 25-50mm",null,"Meadows, Dallas"]
[null,{"$f":"'Roster (1-5-2021)'!D34","v":"Figueroa, Brendon"},"Robodrills",{"$nulls":4},"Mitutoyo 0-1\" Tube",null,"Figueroa, Brendon"]
[null,{"$f":"'Roster (1-5-2021)'!D35","v":"Webb, Nikhil"},"Tombstone/2nd Cut",{"$nulls":4},"Mitutoyo 2-3\"",null,"Webb, Nikhil"]
[null,{"$f":"'Roster (1-5-2021)'!D36","v":"Pruitt, Camryn"},"Type A",{"$nulls":4},"Mitutoyo 3-4\"",null,"Pruitt, Camryn"]
[null,{"$f":"'Roster (1-5-2021)'!D37","v":"Flores, Blaine"},"VMC (206)",{"$nulls":4},"Starrett Depth",null,"Flores, Blaine"]
[null,{"$f":"'Roster (1-5-2021)'!D38","v":"Ramsey, Orion"},"VMC (Middle Bank)",{"$nulls":4},"Brown & Sharpe Depth",null,"Ramsey, Orion"]
[null,{"$f":"'Roster (1-5-2021)'!D39","v":"Garcia, Jaden"},"Warehouse B",{"$nulls":4},"DoAll Bore Gauge",null,"Garcia, Jaden"]
[null,{"$f":"'Roster (1-5-2021)'!D40","v":"Avery, Gideon"},"Saw Building",{"$nulls":4},"Mitutoyo Bore Gauge",null,"Avery, Gideon"]
[null,{"$f":"'Roster (1-5-2021)'!D41","v":"Mcdowell, Jamie"},"Programming",{"$nulls":4},"Fowler Bore Gauge",null,"Mcdowell, Jamie"]
[null,{"$f":"'Roster (1-5-2021)'!D42","v":"Padilla, Hudson"},{"$nulls":5},"SPI 0-90 deg 1\" Dia",null,"Padilla, Hudson"]
[null,{"$f":"'Roster (1-5-2021)'!D43","v":"Whitaker, Jayvion"},{"$nulls":5},"Starrett 0-90 deg 1\" Dia",null,"Whitaker, Jayvion"]
[null,{"$f":"'Roster (1-5-2021)'!D44","v":"Baxter, Dorian"},{"$nulls":5},"Moore & Wright 0-1\" Digital",null,"Baxter, Dorian"]
[null,{"$f":"'Roster (1-5-2021)'!D45","v":"Cummings, Skylar"},{"$nulls":5},"Starrett Thread 28-30",null,"Cummings, Skylar"]
[null,{"$f":"'Roster (1-5-2021)'!D46","v":"Baird, Hamza"},{"$nulls":5},"Starrett Thread 32-40",null,"Baird, Hamza"]
[null,{"$f":"'Roster (1-5-2021)'!D47","v":"Baker, Taylor"},{"$nulls":5},"Starrett Thread 20-24",null,"Baker, Taylor"]
[null,{"$f":"'Roster (1-5-2021)'!D48","v":"Walker, Glenn"},{"$nulls":5},"Starrett Thread 22-30",null,"Walker, Glenn"]
[null,{"$f":"'Roster (1-5-2021)'!D49","v":"Stuart, Benjamin"},{"$nulls":5},"Brown & Sharpe 210-1",null,"Stuart, Benjamin"]
[null,{"$f":"'Roster (1-5-2021)'!D50","v":"Barber, Jaylin"},{"$nulls":5},"Starrett 3 Point",null,"Barber, Jaylin"]
[null,{"$f":"'Roster (1-5-2021)'!D51","v":"Browning, Emery"},{"$nulls":5},"Kwik Chek Taper",null,"Browning, Emery"]
[null,{"$f":"'Roster (1-5-2021)'!D52","v":"Christian, Tanner"},{"$nulls":5},"MHC 0-1\" Drop",null,"Christian, Tanner"]
[null,{"$f":"'Roster (1-5-2021)'!D53","v":"Gomez, David"},{"$nulls":5},"Federal Drop 0.0005\"",null,"Gomez, David"]
[null,{"$f":"'Roster (1-5-2021)'!D54","v":"Merritt, Dean"},{"$nulls":5},"Federal Drop 0.00025\"",null,"Merritt, Dean"]
[null,{"$f":"'Roster (1-5-2021)'!D55","v":"Eaton, Tyree"},{"$nulls":5},"Federal Drop 0.0001\"",null,"Eaton, Tyree"]
[null,{"$f":"'Roster (1-5-2021)'!D56","v":"Franklin, Cyrus"},{"$nulls":5},"CDI 0.5\" Drop",null,"Franklin, Cyrus"]
[null,{"$f":"'Roster (1-5-2021)'!D57","v":"Mcconnell, Hugo"},{"$nulls":5},"Mitutoyo 0-1\" digital drop",null,"Mcconnell, Hugo"]
[null,{"$f":"'Roster (1-5-2021)'!D58","v":"Peterson, Victor"},{"$nulls":5},"Mitutoyo 0-2\" digital drop",null,"Peterson, Victor"]
[null,{"$f":"'Roster (1-5-2021)'!D59","v":"Woodard, Nathen"},{"$nulls":5},"Mitutoyo Surface Gauge",null,"Woodard, Nathen"]
[null,{"$f":"'Roster (1-5-2021)'!D60","v":"Newton, Sean"},{"$nulls":5},"KD Tools Torque Wrench",null,"Newton, Sean"]
[null,{"$f":"'Roster (1-5-2021)'!D61","v":"Lutz, Charlie"},{"$nulls":5},"Armstrong Tools Torque Wrench",null,"Lutz, Charlie"]
[null,{"$f":"'Roster (1-5-2021)'!D62","v":"Sparks, Arturo"},{"$nulls":5},"CDI Torque Wrench",null,"Sparks, Arturo"]
[null,{"$f":"'Roster (1-5-2021)'!D63","v":"Melton, Gabriel"},{"$nulls":5},"Snap on Torque Wrench",null,"Melton, Gabriel"]
[null,{"$f":"'Roster (1-5-2021)'!D64","v":"Cooley, Adolfo"},{"$nulls":5},"Proto Torque Wrench",null,"Cooley, Adolfo"]
[null,{"$f":"'Roster (1-5-2021)'!D65","v":"Barnett, Marvin"},{"$nulls":5},"Barcore 0-1\" 120Deg Chamfer",null,"Barnett, Marvin"]
[null,{"$f":"'Roster (1-5-2021)'!D66","v":"Brady, Killian"},{"$nulls":7},{"$f":"B67","v":"Brady, Killian"}]
[null,{"$f":"'Roster (1-5-2021)'!D67","v":"York, Ralph"},{"$nulls":7},"York, Ralph"]
[null,{"$f":"'Roster (1-5-2021)'!D68","v":"Moran, Dwayne"},{"$nulls":7},"Moran, Dwayne"]
[null,{"$f":"'Roster (1-5-2021)'!D69","v":"Greene, Yosef"},{"$nulls":7},"Greene, Yosef"]
[null,{"$f":"'Roster (1-5-2021)'!D70","v":"Rich, Luca"},{"$nulls":7},"Rich, Luca"]
[null,{"$f":"'Roster (1-5-2021)'!D71","v":"Wiggins, Caleb"},{"$nulls":7},"Wiggins, Caleb"]
[null,{"$f":"'Roster (1-5-2021)'!D72","v":"Mckinney, Wade"},{"$nulls":7},"Mckinney, Wade"]
[null,{"$f":"'Roster (1-5-2021)'!D73","v":"Doyle, Asher"},{"$nulls":7},"Doyle, Asher"]
[null,{"$f":"'Roster (1-5-2021)'!D74","v":"Reid, Davis"},{"$nulls":7},"Reid, Davis"]
[null,{"$f":"'Roster (1-5-2021)'!D75","v":"Frank, Tomas"},{"$nulls":7},"Frank, Tomas"]
[null,{"$f":"'Roster (1-5-2021)'!D76","v":"Barton, Armani"},{"$nulls":7},"Barton, Armani"]
[null,{"$f":"'Roster (1-5-2021)'!D77","v":"Hall, Seth"},{"$nulls":7},"Hall, Seth"]
[null,{"$f":"'Roster (1-5-2021)'!D78","v":"Weeks, Boston"},{"$nulls":7},"Weeks, Boston"]
[null,{"$f":"'Roster (1-5-2021)'!D79","v":"Carney, Desmond"},{"$nulls":7},"Carney, Desmond"]
[null,{"$f":"'Roster (1-5-2021)'!D80","v":"Golden, Freddy"},{"$nulls":7},"Golden, Freddy"]
[null,{"$f":"'Roster (1-5-2021)'!D81","v":"Walter, Joseph"},{"$nulls":7},"Walter, Joseph"]
[null,{"$f":"'Roster (1-5-2021)'!D82","v":"Donovan, Jadyn"},{"$nulls":7},"Donovan, Jadyn"]
[null,{"$f":"'Roster (1-5-2021)'!D83","v":"Wilcox, Steven"},{"$nulls":7},"Wilcox, Steven"]
[null,{"$f":"'Roster (1-5-2021)'!D84","v":"Steele, Timothy"},{"$nulls":7},"Steele, Timothy"]
[null,{"$f":"'Roster (1-5-2021)'!D85","v":"Gill, Jimmy"},{"$nulls":7},"Gill, Jimmy"]
[null,{"$f":"'Roster (1-5-2021)'!D86","v":"Hatfield, Ross"},{"$nulls":7},"Hatfield, Ross"]
[null,{"$f":"'Roster (1-5-2021)'!D87","v":"Dennis, Gunnar"},{"$nulls":7},"Dennis, Gunnar"]
[null,{"$f":"'Roster (1-5-2021)'!D88","v":"Johnston, Zaire"},{"$nulls":7},"Johnston, Zaire"]
[null,{"$f":"'Roster (1-5-2021)'!D89","v":"Holden, Cael"},{"$nulls":7},"Holden, Cael"]
[null,{"$f":"'Roster (1-5-2021)'!D90","v":"Macias, Cristian"},{"$nulls":7},"Macias, Cristian"]
[null,{"$f":"'Roster (1-5-2021)'!D91","v":"Hickman, Devyn"},{"$nulls":7},"Hickman, Devyn"]
[null,{"$f":"'Roster (1-5-2021)'!D92","v":"Mccarty, Winston"},{"$nulls":7},"Mccarty, Winston"]
[null,{"$f":"'Roster (1-5-2021)'!D93","v":"Aguilar, Jasiah"},{"$nulls":7},"Aguilar, Jasiah"]
[null,{"$f":"'Roster (1-5-2021)'!D94","v":"Joseph, Carmelo"},{"$nulls":7},"Joseph, Carmelo"]
[null,{"$f":"'Roster (1-5-2021)'!D95","v":"Rice, Danny"},{"$nulls":7},"Rice, Danny"]
[null,{"$f":"'Roster (1-5-2021)'!D96","v":"Leon, Sebastian"},{"$nulls":7},"Leon, Sebastian"]
[null,{"$f":"'Roster (1-5-2021)'!D97","v":"Jacobs, Jasper"},{"$nulls":7},"Jacobs, Jasper"]
[null,{"$f":"'Roster (1-5-2021)'!D98","v":"Ponce, Lance"},{"$nulls":7},"Ponce, Lance"]
[null,{"$f":"'Roster (1-5-2021)'!D99","v":"Riley, Ellis"},{"$nulls":7},"Riley, Ellis"]
[null,{"$f":"'Roster (1-5-2021)'!D100","v":"Dominguez, Jayden"},{"$nulls":7},"Dominguez, Jayden"]
[null,{"$f":"'Roster (1-5-2021)'!D101","v":"Henry, Izaiah"},{"$nulls":7},"Henry, Izaiah"]
[null,{"$f":"'Roster (1-5-2021)'!D102","v":"Crosby, Josiah"},{"$nulls":7},"Crosby, Josiah"]
[null,{"$f":"'Roster (1-5-2021)'!D103","v":"Rasmussen, Abram"},{"$nulls":7},"Rasmussen, Abram"]
[null,{"$f":"'Roster (1-5-2021)'!D104","v":"Mayo, Terrence"},{"$nulls":7},"Mayo, Terrence"]
[null,{"$f":"'Roster (1-5-2021)'!D105","v":"Nixon, Pranav"},{"$nulls":7},"Nixon, Pranav"]
[null,{"$f":"'Roster (1-5-2021)'!D106","v":"Welch, Phoenix"},{"$nulls":7},"Welch, Phoenix"]
[null,{"$f":"'Roster (1-5-2021)'!D107","v":"Rivas, Jayvon"},{"$nulls":7},"Rivas, Jayvon"]
[null,{"$f":"'Roster (1-5-2021)'!D108","v":"Knapp, Korbin"},{"$nulls":7},"Knapp, Korbin"]
[null,{"$f":"'Roster (1-5-2021)'!D109","v":"Clark, Edward"},{"$nulls":7},"Clark, Edward"]
[null,{"$f":"'Roster (1-5-2021)'!D110","v":"Lambert, Julio"},{"$nulls":7},"Lambert, Julio"]
[null,{"$f":"'Roster (1-5-2021)'!D111","v":"Berger, Kayden"},{"$nulls":7},"Berger, Kayden"]
[null,{"$f":"'Roster (1-5-2021)'!D112","v":"Morales, Isaiah"},{"$nulls":7},"Morales, Isaiah"]
[null,{"$f":"'Roster (1-5-2021)'!D113","v":"Beard, Drake"},{"$nulls":7},"Beard, Drake"]
[null,{"$f":"'Roster (1-5-2021)'!D114","v":"Li, Trent"},{"$nulls":7},"Li, Trent"]
[null,{"$f":"'Roster (1-5-2021)'!D115","v":"Wang, Howard"},{"$nulls":7},"Wang, Howard"]
[null,{"$f":"'Roster (1-5-2021)'!D116","v":"Kerr, Alexzander"},{"$nulls":7},"Kerr, Alexzander"]
[null,{"$f":"'Roster (1-5-2021)'!D117","v":"Cherry, Matthew"},{"$nulls":7},"Cherry, Matthew"]
[null,{"$f":"'Roster (1-5-2021)'!D118","v":"Pineda, Dalton"},{"$nulls":7},"Pineda, Dalton"]
[null,{"$f":"'Roster (1-5-2021)'!D119","v":"Weiss, Sullivan"},{"$nulls":7},"Weiss, Sullivan"]
[null,{"$f":"'Roster (1-5-2021)'!D120","v":"Cortez, Bryan"},{"$nulls":7},"Cortez, Bryan"]
[null,{"$f":"'Roster (1-5-2021)'!D121","v":"Scott, Mathew"},{"$nulls":7},"Scott, Mathew"]
[null,{"$f":"'Roster (1-5-2021)'!D122","v":"Tucker, Justin"},{"$nulls":7},"Tucker, Justin"]
[null,{"$f":"'Roster (1-5-2021)'!D123","v":"Herman, Isiah"},{"$nulls":7},"Herman, Isiah"]
[null,{"$f":"'Roster (1-5-2021)'!D124","v":"Murray, George"},{"$nulls":7},"Murray, George"]
[null,{"$f":"'Roster (1-5-2021)'!D125","v":"Gallegos, Gerald"},{"$nulls":7},"Gallegos, Gerald"]
[null,{"$f":"'Roster (1-5-2021)'!D126","v":"Tapia, Ali"},{"$nulls":7},"Tapia, Ali"]
[null,{"$f":"'Roster (1-5-2021)'!D127","v":"Newman, Douglas"},{"$nulls":7},"Newman, Douglas"]
[null,{"$f":"'Roster (1-5-2021)'!D128","v":"Rodgers, Shaun"},{"$nulls":7},"Rodgers, Shaun"]
[null,{"$f":"'Roster (1-5-2021)'!D129","v":"Mccormick, Adrien"},{"$nulls":7},"Mccormick, Adrien"]
[null,{"$f":"'Roster (1-5-2021)'!D130","v":"Hoover, Vaughn"},{"$nulls":7},{"$f":"B131","v":"Hoover, Vaughn"}]
[null,{"$f":"'Roster (1-5-2021)'!D131","v":"Macdonald, Elvis"},{"$nulls":7},"Macdonald, Elvis"]
[null,{"$f":"'Roster (1-5-2021)'!D132","v":"Wyatt, Jaxon"},{"$nulls":7},"Wyatt, Jaxon"]
[null,{"$f":"'Roster (1-5-2021)'!D133","v":"Johns, Turner"},{"$nulls":7},"Johns, Turner"]
[null,{"$f":"'Roster (1-5-2021)'!D134","v":"Roy, Lyric"},{"$nulls":7},"Roy, Lyric"]
[null,{"$f":"'Roster (1-5-2021)'!D135","v":"Chaney, Nikolas"},{"$nulls":7},"Chaney, Nikolas"]
[null,{"$f":"'Roster (1-5-2021)'!D136","v":"Harper, Kobe"},{"$nulls":7},"Harper, Kobe"]
[null,{"$f":"'Roster (1-5-2021)'!D137","v":"Chase, Maxim"},{"$nulls":7},"Chase, Maxim"]
[null,{"$f":"'Roster (1-5-2021)'!D138","v":"Edwards, Anthony"},{"$nulls":7},"Edwards, Anthony"]
[null,{"$f":"'Roster (1-5-2021)'!D139","v":"Travis, Marley"},{"$nulls":7},"Travis, Marley"]
[null,{"$f":"'Roster (1-5-2021)'!D140","v":"Powell, Bruce"},{"$nulls":7},"Powell, Bruce"]
[null,{"$f":"'Roster (1-5-2021)'!D141","v":"Graves, Blaze"},{"$nulls":7},"Graves, Blaze"]
[null,{"$f":"'Roster (1-5-2021)'!D142","v":"Hopkins, Gaven"},{"$nulls":7},"Hopkins, Gaven"]
[null,{"$f":"'Roster (1-5-2021)'!D143","v":"Stewart, Rey"},{"$nulls":7},"Stewart, Rey"]
[null,{"$f":"'Roster (1-5-2021)'!D144","v":"Everett, Gage"},{"$nulls":7},"Everett, Gage"]
[null,{"$f":"'Roster (1-5-2021)'!D145","v":"Peters, Ray"},{"$nulls":7},"Peters, Ray"]
[null,{"$f":"'Roster (1-5-2021)'!D146","v":"Hodges, Tripp"},{"$nulls":7},"Hodges, Tripp"]
[null,{"$f":"'Roster (1-5-2021)'!D147","v":"Thornton, Derek"},{"$nulls":7},"Thornton, Derek"]
[null,{"$f":"'Roster (1-5-2021)'!D148","v":"Walton, Charles"},{"$nulls":7},"Walton, Charles"]
[null,{"$f":"'Roster (1-5-2021)'!D149","v":"Sawyer, Michael"},{"$nulls":7},"Sawyer, Michael"]
[null,{"$f":"'Roster (1-5-2021)'!D150","v":"Collier, Ronan"},{"$nulls":7},"Collier, Ronan"]
[null,{"$f":"'Roster (1-5-2021)'!D151","v":"Nielsen, Andre"},{"$nulls":7},"Nielsen, Andre"]
[null,{"$f":"'Roster (1-5-2021)'!D152","v":"Ortiz, Dominick"},{"$nulls":7},"Ortiz, Dominick"]
[null,{"$f":"'Roster (1-5-2021)'!D153","v":"Preston, Kody"},{"$nulls":7},"Preston, Kody"]
[null,{"$f":"'Roster (1-5-2021)'!D154","v":"Arnold, Branson"},{"$nulls":7},"Arnold, Branson"]
[null,{"$f":"'Roster (1-5-2021)'!D155","v":"Roman, Braeden"},{"$nulls":7},"Roman, Braeden"]
[null,{"$f":"'Roster (1-5-2021)'!D156","v":"Kane, Quinten"},{"$nulls":7},"Kane, Quinten"]
[null,{"$f":"'Roster (1-5-2021)'!D157","v":"Mills, Nolan"},{"$nulls":7},"Mills, Nolan"]
[null,{"$f":"'Roster (1-5-2021)'!D158","v":"Novak, Branden"},{"$nulls":7},"Novak, Branden"]
[null,{"$f":"'Roster (1-5-2021)'!D159","v":"Avila, Kane"},{"$nulls":7},"Avila, Kane"]
[null,{"$f":"'Roster (1-5-2021)'!D160","v":"Benitez, Trystan"},{"$nulls":7},"Benitez, Trystan"]
[null,{"$f":"'Roster (1-5-2021)'!D161","v":"Winters, Corbin"},{"$nulls":7},"Winters, Corbin"]
[null,{"$f":"'Roster (1-5-2021)'!D162","v":"Baldwin, Brian"},{"$nulls":7},"Baldwin, Brian"]
[null,{"$f":"'Roster (1-5-2021)'!D163","v":"Hurley, Zachery"},{"$nulls":7},"Hurley, Zachery"]
[null,{"$f":"'Roster (1-5-2021)'!D164","v":"Campos, Dustin"},{"$nulls":7},"Campos, Dustin"]
[null,{"$f":"'Roster (1-5-2021)'!D165","v":"Daniels, Chase"},{"$nulls":7},"Daniels, Chase"]
[null,{"$f":"'Roster (1-5-2021)'!D166","v":"Duke, Jake"},{"$nulls":7},"Duke, Jake"]
[null,{"$f":"'Roster (1-5-2021)'!D167","v":"Hale, Skyler"},{"$nulls":7},"Hale, Skyler"]
[null,{"$f":"'Roster (1-5-2021)'!D168","v":"Fry, Reuben"},{"$nulls":7},"Fry, Reuben"]
[null,{"$f":"'Roster (1-5-2021)'!D169","v":"Flowers, Mitchell"},{"$nulls":7},"Flowers, Mitchell"]
[null,{"$f":"'Roster (1-5-2021)'!D170","v":"Humphrey, Emiliano"},{"$nulls":7},"Humphrey, Emiliano"]
[null,{"$f":"'Roster (1-5-2021)'!D171","v":"Mccoy, Declan"},{"$nulls":7},"Mccoy, Declan"]
[null,{"$f":"'Roster (1-5-2021)'!D172","v":"Stevens, Amare"},{"$nulls":7},"Stevens, Amare"]
[null,{"$f":"'Roster (1-5-2021)'!D173","v":"Greer, Ahmad"},{"$nulls":7},"Greer, Ahmad"]
[null,{"$f":"'Roster (1-5-2021)'!D174","v":"Pearson, Peter"},{"$nulls":7},"Pearson, Peter"]
[null,{"$f":"'Roster (1-5-2021)'!D175","v":"Bradley, Elliot"},{"$nulls":7},"Bradley, Elliot"]
[null,{"$f":"'Roster (1-5-2021)'!D176","v":"Moreno, Nicholas"},{"$nulls":7},"Moreno, Nicholas"]
[null,{"$f":"'Roster (1-5-2021)'!D177","v":"Osborn, Landin"},{"$nulls":7},"Osborn, Landin"]
[null,{"$f":"'Roster (1-5-2021)'!D178","v":"Nash, Reagan"},{"$nulls":7},"Nash, Reagan"]
[null,{"$f":"'Roster (1-5-2021)'!D179","v":"Roberson, Jaydan"},{"$nulls":7},"Roberson, Jaydan"]
[null,{"$f":"'Roster (1-5-2021)'!D180","v":"Clayton, Dominique"},{"$nulls":7},"Clayton, Dominique"]
[null,{"$f":"'Roster (1-5-2021)'!D181","v":"Ward, Issac"},{"$nulls":7},"Ward, Issac"]
[null,{"$f":"'Roster (1-5-2021)'!D182","v":"Bradford, Dexter"},{"$nulls":7},"Bradford, Dexter"]
[null,{"$f":"'Roster (1-5-2021)'!D183","v":"Pratt, Jonathon"},{"$nulls":7},"Pratt, Jonathon"]
[null,{"$f":"'Roster (1-5-2021)'!D184","v":"Perkins, Demarion"},{"$nulls":7},"Perkins, Demarion"]
[null,{"$f":"'Roster (1-5-2021)'!D185","v":"Allen, Levi"},{"$nulls":7},"Allen, Levi"]
[null,{"$f":"'Roster (1-5-2021)'!D186","v":"Strong, Matthias"},{"$nulls":7},"Strong, Matthias"]
[null,{"$f":"'Roster (1-5-2021)'!D187","v":"French, Drew"},{"$nulls":7},"French, Drew"]
[null,{"$f":"'Roster (1-5-2021)'!D188","v":"Lewis, Giancarlo"},{"$nulls":7},"Lewis, Giancarlo"]
[null,{"$f":"'Roster (1-5-2021)'!D189","v":"Cline, Milton"},{"$nulls":7},"Cline, Milton"]
[null,{"$f":"'Roster (1-5-2021)'!D190","v":"Mayer, Jacoby"},{"$nulls":7},"Mayer, Jacoby"]
[null,{"$f":"'Roster (1-5-2021)'!D191","v":"Decker, Terrance"},{"$nulls":7},"Decker, Terrance"]
[null,{"$f":"'Roster (1-5-2021)'!D192","v":"Cunningham, Bobby"},{"$nulls":7},"Cunningham, Bobby"]
[null,{"$f":"'Roster (1-5-2021)'!D193","v":"Acosta, Abel"},{"$nulls":7},"Acosta, Abel"]
[null,{"$f":"'Roster (1-5-2021)'!D194","v":"Trujillo, Sean"},{"$nulls":7},{"$f":"B195","v":"Trujillo, Sean"}]
[null,{"$f":"'Roster (1-5-2021)'!D195","v":", "}]
[null,{"$f":"'Roster (1-5-2021)'!D196","v":", "}]
[null,{"$f":"'Roster (1-5-2021)'!D197","v":", "}]
[null,{"$f":"'Roster (1-5-2021)'!D198","v":", "}]
[null,{"$f":"'Roster (1-5-2021)'!D199","v":", "}]
[null,{"$f":"'Roster (1-5-2021)'!D200","v":", "}]
[null,{"$f":"'Roster (1-5-2021)'!D201","v":", "}]
[null,{"$f":"'Roster (1-5-2021)'!D202","v":", "}]
[null,{"$f":"'Roster (1-5-2021)'!D203","v":", "}]
[null,{"$f":"'Roster (1-5-2021)'!D204","v":", "}]
[null,{"$f":"'Roster (1-5-2021)'!D205","v":", "}]
[null,{"$f":"'Roster (1-5-2021)'!D206","v":", "}]
[null,{"$f":"'Roster (1-5-2021)'!D207","v":", "}]
[null,{"$f":"'Roster (1-5-2021)'!D208","v":", "}]
[null,{"$f":"'Roster (1-5-2021)'!D209","v":", "}]
[null,{"$f":"'Roster (1-5-2021)'!D210","v":", "}]
[null,{"$f":"'Roster (1-5-2021)'!D211","v":", "}]
[null,{"$f":"'Roster (1-5-2021)'!D212","v":", "}]
[null,{"$f":"'Roster (1-5-2021)'!D213","v":", "}]
[null,{"$f":"'Roster (1-5-2021)'!D214","v":", "}]
[null,{"$f":"'Roster (1-5-2021)'!D215","v":", "}]
[null,{"$f":"'Roster (1-5-2021)'!D216","v":", "}]
[null,{"$f":"'Roster (1-5-2021)'!D217","v":", "}]
[null,{"$f":"'Roster (1-5-2021)'!D218","v":", "}]
[null,{"$f":"'Roster (1-5-2021)'!D219","v":", "}]
[null,{"$f":"'Roster (1-5-2021)'!D220","v":", "}]
[null,{"$f":"'Roster (1-5-2021)'!D221","v":", "}]
[null,{"$f":"'Roster (1-5-2021)'!D222","v":", "}]
[null,{"$f":"'Roster (1-5-2021)'!D223","v":", "}]
[null,{"$f":"'Roster (1-5-2021)'!D224","v":", "}]
[null,{"$f":"'Roster (1-5-2021)'!D225","v":", "}]
[null,{"$f":"'Roster (1-5-2021)'!D226","v":", "}]
[null,{"$f":"'Roster (1-5-2021)'!D227","v":", "}]
[null,{"$f":"'Roster (1-5-2021)'!D228","v":", "}]
[null,{"$f":"'Roster (1-5-2021)'!D229","v":", "}]
[null,{"$f":"'Roster (1-5-2021)'!D230","v":0}]
[null,{"$f":"'Roster (1-5-2021)'!D231","v":0}]
[null,{"$f":"'Roster (1-5-2021)'!D232","v":0}]
[null,{"$f":"'Roster (1-5-2021)'!D233","v":0}]
[null,{"$f":"'Roster (1-5-2021)'!D234","v":0}]
[null,{"$f":"'Roster (1-5-2021)'!D235","v":0}]
[null,{"$f":"'Roster (1-5-2021)'!D236","v":0}]
[null,{"$f":"'Roster (1-5-2021)'!D237","v":0}]
[null,{"$f":"'Roster (1-5-2021)'!D238","v":0}]
[null,{"$f":"'Roster (1-5-2021)'!D239","v":0}]
[null,{"$f":"'Roster (1-5-2021)'!D240","v":0}]
[null,{"$f":"'Roster (1-5-2021)'!D241","v":0}]
[null,{"$f":"'Roster (1-5-2021)'!D242","v":0}]
[null,{"$f":"'Roster (1-5-2021)'!D243","v":0}]
[null,{"$f":"'Roster (1-5-2021)'!D244","v":0}]
[null,{"$f":"'Roster (1-5-2021)'!D245","v":0}]
[null,{"$f":"'Roster (1-5-2021)'!D246","v":0}]
[null,{"$f":"'Roster (1-5-2021)'!D247","v":0}]
[null,{"$f":"'Roster (1-5-2021)'!D248","v":0}]
[null,{"$f":"'Roster (1-5-2021)'!D249","v":0}]
[null,{"$f":"'Roster (1-5-2021)'!D250","v":0}]
[null,{"$f":"'Roster (1-5-2021)'!D251","v":0}]
[null,{"$f":"'Roster (1-5-2021)'!D252","v":0}]
[null,{"$f":"'Roster (1-5-2021)'!D253","v":0}]
[null,{"$f":"'Roster (1-5-2021)'!D254","v":0}]

{"sheet":"Roster (1-5-2021)","index":13,"n_rows":229,"n_cols":4,"rows_kept":229}
["Last Name","First Name","Business Title"]
["Mathis","Harrison","Machine Operator",{"$f":"A2&\", \"&B2","v":"Mathis, Harrison"}]
["Vega","Amir","Plater Intermediate Level",{"$f":"A3&\", \"&B3","v":"Vega, Amir"}]
["Freeman","Adrian","Machine Operator Entry","Freeman, Adrian"]
["Chan","Jaylon","Machine Operator Senior","Chan, Jaylon"]
["Obrien","Harley","Wastewater Coordinator","Obrien, Harley"]
["Zamora","Denzel","Machine Operator","Zamora, Denzel"]
["Miles","Royce","Maintenance Technician A R78-R82","Miles, Royce"]
["Glass","Max","Cell Operator C R60-R64","Glass, Max"]
["Powers","Calvin","Electrical Mechanical Maintenance Intermediate","Powers, Calvin"]
["Ramos","Kamden","Machinist All Around A R72-R76","Ramos, Kamden"]
["Huffman","Fletcher","Machine Operator Senior - VMC Set Up (3rd Shift)","Huffman, Fletcher"]
["Lin","Lane","Tape Processor R77-R81","Lin, Lane"]
["Crawford","Eugene","Technician 8 Pr","Crawford, Eugene"]
["Holder","Jensen","Plating Operator - 3rd Shift","Holder, Jensen"]
["Bowman","Miles","Continuous Improvement Manager","Bowman, Miles"]
["Meyers","Beckham","Machine Operator","Meyers, Beckham"]
["James","Gunner","Material Planner","James, Gunner"]
["Proctor","Alfredo","Plating supervisor","Proctor, Alfredo"]
["Buchanan","Zavier","Tool/Die Maker B R77-R81","Buchanan, Zavier"]
["Gardner","Hayden","Operator Pr","Gardner, Hayden"]
["Mora","Donovan","Contractor","Mora, Donovan"]
["Potts","Jordon","VMC Setup","Potts, Jordon"]
["Vargas","Kaleb","Machine Operator Senior","Vargas, Kaleb"]
["Young","Nico","Machine Operator Intermediate","Young, Nico"]
["Maynard","Chance","Buyer","Maynard, Chance"]
["Burgess","Joel","Chemical Handler","Burgess, Joel"]
["Calhoun","Gianni","Machine Operator Entry","Calhoun, Gianni"]
["Choi","Weston","Tool/Die Maker B R77-R81","Choi, Weston"]
["Herrera","Braden","Presses Setup Operator - 2nd Shift","Herrera, Braden"]
["Leblanc","Trace","Assembler","Leblanc, Trace"]
["Dean","Roderick","Maintenance Technician A R78-R82","Dean, Roderick"]
["Meadows","Dallas","Heat Treat Operator","Meadows, Dallas"]
["Figueroa","Brendon","Contractor","Figueroa, Brendon"]
["Webb","Nikhil","Machine Operator","Webb, Nikhil"]
["Pruitt","Camryn","Mechanical Screw Machine Setup","Pruitt, Camryn"]
["Flores","Blaine","Flow Cells Operator","Flores, Blaine"]
["Ramsey","Orion","Contractor","Ramsey, Orion"]
["Garcia","Jaden","Machine Operator Intermediate","Garcia, Jaden"]
["Avery","Gideon","Electrical Mechanical Maintenance Advanced","Avery, Gideon"]
["Mcdowell","Jamie","Area Lead","Mcdowell, Jamie"]
["Padilla","Hudson","Contractor","Padilla, Hudson"]
["Whitaker","Jayvion","Setup A R70-R74","Whitaker, Jayvion"]
["Baxter","Dorian","Tool Room Apprentice","Baxter, Dorian"]
["Cummings","Skylar","CNC Setup R70-R74","Cummings, Skylar"]
["Baird","Hamza","Machine Operator","Baird, Hamza"]
["Baker","Taylor","Unit Lead R77-R81","Baker, Taylor"]
["Walker","Glenn","Setup B R68-R74","Walker, Glenn"]
["Stuart","Benjamin","Tool/Die Maker B R77-R81","Stuart, Benjamin"]
["Barber","Jaylin","Presses Set Up","Barber, Jaylin"]
["Browning","Emery","Technician 8 Pr","Browning, Emery"]
["Christian","Tanner","Machine Operator","Christian, Tanner"]
["Gomez","David","Production Development Manager","Gomez, David"]
["Merritt","Dean","Chip Spin/ Wash Operator","Merritt, Dean"]
["Eaton","Tyree","Utility A Plating R62-R66","Eaton, Tyree"]
["Franklin","Cyrus","External Reference job","Franklin, Cyrus"]
["Mcconnell","Hugo","External Reference job","Mcconnell, Hugo"]
["Peterson","Victor","Technician 8 Pr","Peterson, Victor"]
["Woodard","Nathen","Plater","Woodard, Nathen"]
["Newton","Sean","Machine Operator Intermediate","Newton, Sean"]
["Lutz","Charlie","Plater Intermediate Level","Lutz, Charlie"]
["Sparks","Arturo","Tool/Die Maker B R77-R81","Sparks, Arturo"]
["Melton","Gabriel","Production Manager","Melton, Gabriel"]
["Cooley","Adolfo","Electrical Mechanical Maintenance Intermediate--First Shift","Cooley, Adolfo"]
["Barnett","Marvin","Setup A R70-R74","Barnett, Marvin"]
["Brady","Killian","Machine Operator Entry","Brady, Killian"]
["York","Ralph","Presses Set Up",{"$f":"A67&\", \"&B67","v":"York, Ralph"}]
["Moran","Dwayne","Production Manager","Moran, Dwayne"]
["Greene","Yosef","Setup A R70-R74","Greene, Yosef"]
["Rich","Luca","Manufacturing Unit Manager","Rich, Luca"]
["Wiggins","Caleb","Technician 8 Pr","Wiggins, Caleb"]
["Mckinney","Wade","Tool/Die Maker A R80-R84","Mckinney, Wade"]
["Doyle","Asher","Tool Support R81-R85","Doyle, Asher"]
["Reid","Davis","Lug Kits Cell Operator","Reid, Davis"]
["Frank","Tomas","Plater","Frank, Tomas"]
["Barton","Armani","External Reference job","Barton, Armani"]
["Hall","Seth","Machine Operator Entry","Hall, Seth"]
["Weeks","Boston","Contractor","Weeks, Boston"]
["Carney","Desmond","Stock Accumulator","Carney, Desmond"]
["Golden","Freddy","Plater","Golden, Freddy"]
["Walter","Joseph","Toolmaker Apprentice R56-R78","Walter, Joseph"]
["Donovan","Jadyn","Machine Operator Senior","Donovan, Jadyn"]
["Wilcox","Steven","Machine Operator","Wilcox, Steven"]
["Steele","Timothy","Technician 8 Pr","Steele, Timothy"]
["Gill","Jimmy","Production Supervisor II","Gill, Jimmy"]
["Hatfield","Ross","Lug Kits Cell Operator","Hatfield, Ross"]
["Dennis","Gunnar","External Reference job","Dennis, Gunnar"]
["Johnston","Zaire","Technician 8 Pr","Johnston, Zaire"]
["Holden","Cael","Plater","Holden, Cael"]
["Macias","Cristian","Electrical Mechanical Maintenance Intermediate","Macias, Cristian"]
["Hickman","Devyn","Plater Intermediate Level","Hickman, Devyn"]
["Mccarty","Winston","Setup B R68-R74","Mccarty, Winston"]
["Aguilar","Jasiah","Machinist All Around A R72-R76","Aguilar, Jasiah"]
["Joseph","Carmelo","Tape Processor R77-R81","Joseph, Carmelo"]
["Rice","Danny","Intern","Rice, Danny"]
["Leon","Sebastian","Human Resources Specialist","Leon, Sebastian"]
["Jacobs","Jasper","Unit Lead R77-R81","Jacobs, Jasper"]
["Ponce","Lance","CNC Screw Machine Setup","Ponce, Lance"]
["Riley","Ellis","Plating Operator - 2nd Shift","Riley, Ellis"]
["Dominguez","Jayden","Chemical Solutions Analyst","Dominguez, Jayden"]
["Henry","Izaiah","VMC Setup Operator - 3rd Shift","Henry, Izaiah"]
["Crosby","Josiah","Tool/Die Maker A R80-R84","Crosby, Josiah"]
["Rasmussen","Abram","Set-Up","Rasmussen, Abram"]
["Mayo","Terrence","External Reference job","Mayo, Terrence"]
["Nixon","Pranav","Customer Service Technician","Nixon, Pranav"]
["Welch","Phoenix","Technician 8 Pr","Welch, Phoenix"]
["Rivas","Jayvon","Tool Room Apprentice","Rivas, Jayvon"]
["Knapp","Korbin","Technician 8 Pr","Knapp, Korbin"]
["Clark","Edward","Setup A R70-R74","Clark, Edward"]
["Lambert","Julio","Machine Operator Intermediate","Lambert, Julio"]
["Berger","Kayden","Machine Operator Entry","Berger, Kayden"]
["Morales","Isaiah","Operator Coor R80-R84","Morales, Isaiah"]
["Beard","Drake","Planning & Fulfillment Manager","Beard, Drake"]
["Li","Trent","Secondary/EHRT/Trumpf Setup","Li, Trent"]
["Wang","Howard","Machine Operator Entry","Wang, Howard"]
["Kerr","Alexzander","Stock Accumulator R62-R66","Kerr, Alexzander"]
["Cherry","Matthew","Machine Operator Senior","Cherry, Matthew"]
["Pineda","Dalton","Technician 8 Pr","Pineda, Dalton"]
["Weiss","Sullivan","Stock Accumulator R62-R66","Weiss, Sullivan"]
["Cortez","Bryan","Machine Operator Intermediate","Cortez, Bryan"]
["Scott","Mathew","Machine Operator Entry","Scott, Mathew"]
["Tucker","Justin","Shipper/Receiver R68-R72","Tucker, Justin"]
["Herman","Isiah","Machinist B","Herman, Isiah"]
["Murray","George","Tool Room Apprentice","Murray, George"]
["Gallegos","Gerald","Machine Operator Senior","Gallegos, Gerald"]
["Tapia","Ali","Mechanical and CNC Screw Machine Setup","Tapia, Ali"]
["Newman","Douglas","Production Team Leader I","Newman, Douglas"]
["Rodgers","Shaun","Tool/Die Maker A R80-R84","Rodgers, Shaun"]
["Mccormick","Adrien","Plater","Mccormick, Adrien"]
["Hoover","Vaughn","Weld Braze Cell Operator","Hoover, Vaughn"]
["Macdonald","Elvis","Presses Set Up",{"$f":"A131&\", \"&B131","v":"Macdonald, Elvis"}]
["Wyatt","Jaxon","Plater","Wyatt, Jaxon"]
["Johns","Turner","Plater Intermediate Level","Johns, Turner"]
["Roy","Lyric","Mechanical Screw Machine Setup","Roy, Lyric"]
["Chaney","Nikolas","Lean Technician A","Chaney, Nikolas"]
["Harper","Kobe","Shipper/Receiver R68-R72","Harper, Kobe"]
["Chase","Maxim","CNC Setup R70-R74","Chase, Maxim"]
["Edwards","Anthony","Contractor","Edwards, Anthony"]
["Travis","Marley","Machine Operator","Travis, Marley"]
["Powell","Bruce","Maintenance Technician - 1st Shift","Powell, Bruce"]
["Graves","Blaze","Electrical Mechanical Maintenance Advanced--3rd shift","Graves, Blaze"]
["Hopkins","Gaven","Machine Operator Senior - Mech Screw Machine Set Up","Hopkins, Gaven"]
["Stewart","Rey","Flow Cells Operator","Stewart, Rey"]
["Everett","Gage","Machinist 8","Everett, Gage"]
["Peters","Ray","Utility A Plating R62-R66","Peters, Ray"]
["Hodges","Tripp","Shipper","Hodges, Tripp"]
["Thornton","Derek","Machine Operator Intermediate","Thornton, Derek"]
["Walton","Charles","Machine Operator Intermediate","Walton, Charles"]
["Sawyer","Michael","Machine Operator","Sawyer, Michael"]
["Collier","Ronan","Machine Operator Intermediate","Collier, Ronan"]
["Nielsen","Andre","Planning & Fulfillment Manager","Nielsen, Andre"]
["Ortiz","Dominick","Machine Operator Senior - Screw Machine Setup","Ortiz, Dominick"]
["Preston","Kody","Machine Operator Senior","Preston, Kody"]
["Arnold","Branson","Tool Room Apprentice","Arnold, Branson"]
["Roman","Braeden","Tool Room Machinist B","Roman, Braeden"]
["Kane","Quinten","Machine Operator Entry","Kane, Quinten"]
["Mills","Nolan","Plating Analyst R70-R74","Mills, Nolan"]
["Novak","Branden","Utility A Plating R62-R66","Novak, Branden"]
["Avila","Kane","Secondary/EHRT/Trumpf Setup","Avila, Kane"]
["Benitez","Trystan","CNC Screw Machine Setup","Benitez, Trystan"]
["Winters","Corbin","Setup A R70-R74","Winters, Corbin"]
["Baldwin","Brian","Materials Handler Intermediate","Baldwin, Brian"]
["Hurley","Zachery","Tool/Die Maker A R80-R84","Hurley, Zachery"]
["Campos","Dustin","Power Press Operator Auto R68-R72","Campos, Dustin"]
["Daniels","Chase","Tool Support R81-R85","Daniels, Chase"]
["Duke","Jake","Operator Coor R80-R84","Duke, Jake"]
["Hale","Skyler","Technical Lead - AUB","Hale, Skyler"]
["Fry","Reuben","Operator Pr","Fry, Reuben"]
["Flowers","Mitchell","Lean Technician A","Flowers, Mitchell"]
["Humphrey","Emiliano","Machine Operator Entry","Humphrey, Emiliano"]
["Mccoy","Declan","Contractor","Mccoy, Declan"]
["Stevens","Amare","Maintenance Technician A R78-R82","Stevens, Amare"]
["Greer","Ahmad","Lean Technician A","Greer, Ahmad"]
["Pearson","Peter","Machine Operator Entry","Pearson, Peter"]
["Bradley","Elliot","Setup A R70-R74","Bradley, Elliot"]
["Moreno","Nicholas","Technician 8 Pr","Moreno, Nicholas"]
["Osborn","Landin","Flow Cells Operator","Osborn, Landin"]
["Nash","Reagan","Assembler","Nash, Reagan"]
["Roberson","Jaydan","Technician 8 Pr","Roberson, Jaydan"]
["Clayton","Dominique","Mechanical and CNC Screw Machine Setup - 1st Shift","Clayton, Dominique"]
["Ward","Issac","External Reference job","Ward, Issac"]
["Bradford","Dexter","Secondary/EHRT/Trumpf Setup","Bradford, Dexter"]
["Pratt","Jonathon","External Reference job","Pratt, Jonathon"]
["Perkins","Demarion","Business Health, Safety & Env Manager","Perkins, Demarion"]
["Allen","Levi","Tool/Die Maker A R80-R84","Allen, Levi"]
["Strong","Matthias","Assembler","Strong, Matthias"]
["French","Drew","Operator Pr","French, Drew"]
["Lewis","Giancarlo","External Reference job","Lewis, Giancarlo"]
["Cline","Milton","Machine Operator Entry - Flow Cells","Cline, Milton"]
["Mayer","Jacoby","Tool Support R81-R85","Mayer, Jacoby"]
["Decker","Terrance","Machine Operator","Decker, Terrance"]
["Cunningham","Bobby","Machine Operator Senior - Mech Screw Machine Set Up","Cunningham, Bobby"]
["Acosta","Abel","Intern","Acosta, Abel"]
["Trujillo","Sean","Plating Utility","Trujillo, Sean"]
[null,null,"Machine Operator Senior",{"$f":"A195&\", \"&B195","v":", "}]
[null,null,"Machine Operator Senior",", "]
[null,null,"External Reference job",", "]
[null,null,"Tool and Die Maker Advanced",", "]
[null,null,"Human Resources Business Partner",", "]
[null,null,"Machine Operator Entry",", "]
[null,null,"Tool/Die Maker A R80-R84",", "]
[null,null,"Operator Pr",", "]
[null,null,"Lug Kits Cell Operator",", "]
[null,null,"Machine Operator Entry",", "]
[null,null,"Weld/Braze R60-R64",", "]
[null,null,"Maintenance Technician A R78-R82",", "]
[null,null,"External Reference job",", "]
[null,null,"Machine Operator",", "]
[null,null,"Shipper/Receiver R68-R72",", "]
[null,null,"Power Press Operator Auto R68-R72",", "]
[null,null,"Business Health, Safety & Env Specialist",", "]
[null,null,"Project Lead Engineer",", "]
[null,null,"Assembler",", "]
[null,null,"Machinist 8",", "]
[null,null,"External Reference job",", "]
[null,null,"Tool/Die Maker A R80-R84",", "]
[null,null,"External Reference job",", "]
[null,null,"Power Press Operator",", "]
[null,null,"Stock Accumulator R62-R66",", "]
[null,null,"CNC Lathes",", "]
[null,null,"Intern",", "]
[{"$nulls":3},", "]
[{"$nulls":3},", "]
[{"$nulls":3},", "]
[{"$nulls":3},", "]
[{"$nulls":3},", "]
[{"$nulls":3},", "]
[{"$nulls":3},", "]
[{"$nulls":3},", "]