{"text_format":"3","workbook":"xlsx","n_sheets":6,"sheets":["Coach Main","Manager Main","HR Main","Database","Lists","Users"],"not_rendered":{"images":1,"macros":1},"read":"whole","date_system":"1900"}

{"sheet":"Coach Main","index":0,"n_rows":12,"n_cols":14,"rows_kept":12,"merged":[[0,0,1,0],[0,1,1,2],[3,0,3,6],[5,0,5,1],[10,0,10,1]]}
["Date",{"$f":"TODAY()","v":"2021-04-27"}]
[]
[]
["Individual Report"]
[]
["Individual"]
["ID","Name"]
[]
[]
[]
["Coachings"]
["ID","First","Last","Title","Unit","Shift","Department","Manager","Date Received","Category","Level","Description","Comments","Received"]

{"sheet":"Manager Main","index":1,"n_rows":17,"n_cols":14,"rows_kept":17,"hidden":true,"merged":[[0,0,1,0],[0,1,1,2],[3,0,3,6],[5,0,5,1],[5,4,5,5],[6,4,7,4],[6,5,7,5],[9,0,9,1],[15,0,15,1]]}
["Date",{"$f":"TODAY()","v":"2021-04-27"}]
[]
[]
["Individual Report"]
[]
["Individual",{"$nulls":3},"Key"]
["ID","Name",null,null,"Level","Step"]
[]
[{"$nulls":4},1,"Coaching"]
["Disciplinary Status",{"$nulls":3},2,"Documented Verbal Warning"]
["Category","Current Level","Date latest Level Received",null,3,"1st Written Warning"]
["Conduct",{"$nulls":3},4,"2nd Written Warning"]
["Preformance",{"$nulls":3},5,"Constructive Counseling Session"]
["Attendance",{"$nulls":3},6,"Termination"]
[]
["Write Ups"]
["ID","First","Last","Title","Unit","Shift","Department","Manager","Date Received","Category","Level","Description","Comments","Received"]

{"sheet":"HR Main","index":2,"n_rows":17,"n_cols":29,"rows_kept":17,"hidden":true,"merged":[[0,0,1,0],[0,1,1,2],[3,0,3,12],[3,15,3,28],[4,20,4,21],[4,22,4,23],[5,0,5,1],[5,10,5,11],[5,20,5,21],[5,22,5,23],[6,10,7,10],[6,11,7,11],[9,0,9,1],[15,0,15,1]]}
["Date",{"$f":"TODAY()","v":"2021-04-27"}]
[]
[]
["Individual Report",{"$nulls":14},"Collective Report"]
[{"$nulls":20},"From",null,"To"]
["Individual",{"$nulls":9},"Key"]
["ID","Name",{"$nulls":8},"Level","Step",{"$nulls":3},"ID","First","Last","Title","Unit","Shift","Department","Manager","Date Received","Category","Level","Description","Comments","Received"]
[]
[{"$nulls":10},1,"Coaching"]
["Disciplinary Status",{"$nulls":9},2,"Documented Verbal Warning"]
["Category","Current Level","Date latest Level Received",{"$nulls":7},3,"1st Written Warning"]
["Conduct",{"$nulls":9},4,"2nd Written Warning"]
["Preformance",{"$nulls":9},5,"Constructive Counseling Session"]
["Attendance",{"$nulls":9},6,"Termination"]
[]
["All Write Ups"]
["ID","First","Last","Title","Unit","Shift","Department","Manager","Date Received","Category","Level","Description","Comments","Received"]

{"sheet":"Database","index":3,"n_rows":689,"n_cols":22,"rows_kept":689,"hidden":true,"merged":[[0,0,1,0],[0,1,1,2],[0,3,1,13],[0,15,1,21]]}
["Date",{"$f":"TODAY()","v":"2021-04-27"},null,"Discipline Database",{"$nulls":11},"Individual Discipline Status"]
[]
["ID","First","Last","Title","Unit","Shift","Department","Manager","Date Received","Category","Step","Description","Comments","Received",null,"ID","Conduct","Date","Performance","Date","Attendance","Date"]
[99,"Harrison","Mathis","Intern",null,1,"Quality","Jacob Willette","2021-04-14","Performance",2,"Lorem ipsum dolor sit amet, consectetur adipiscing elit. Donec vitae odio fermentum, pellentesque urna vel, bibendum magna. Nullam at malesuada ex. Duis rutrum, ligula nec elementum blandit, orci urna interdum mi, tempor sollicitudin erat ex at enim. Phasellus dignissim nunc eu tincidunt consectetur. Proin ac nunc tellus. Sed vitae turpis vitae erat cursus luctus eget vel purus. Aenean posuere posuere sapien non aliquam.","Filed by: Jacob Willette.",false,null,99,0,null,2,"2021-04-14",0]
["9D10247803","Adrian","Freeman","Machine Operator II",null,null,"Manufacturing","Terry Lucas","2021-04-14","Performance",3,"Lorem ipsum dolor sit amet, consectetur adipiscing elit. Donec vitae odio fermentum, pellentesque urna vel, bibendum magna. Nullam at malesuada ex. Duis rutrum, ligula nec elementum blandit, orci urna interdum mi, tempor sollicitudin erat ex at enim. Phasellus dignissim nunc eu tincidunt consectetur. Proin ac nunc tellus. Sed vitae turpis vitae erat cursus luctus eget vel purus. Aenean posuere posuere sapien non aliquam.","Filed by: Terry Lucas.",false,null,"9D10239039",0,null,0,null,0]
["9D10150088","Max","Glass","Maintenance Specialist II",null,null,"Manufacturing","Cedric Stokes","2021-04-14","Attendance",5,"Lorem ipsum dolor sit amet, consectetur adipiscing elit. Donec vitae odio fermentum, pellentesque urna vel, bibendum magna. Nullam at malesuada ex. Duis rutrum, ligula nec elementum blandit, orci urna interdum mi, tempor sollicitudin erat ex at enim. Phasellus dignissim nunc eu tincidunt consectetur. Proin ac nunc tellus. Sed vitae turpis vitae erat cursus luctus eget vel purus. Aenean posuere posuere sapien non aliquam.","Filed by: Clay Coleman.",false,null,"9D10247803",0,null,3,"2021-04-14",0]
["9D10152545","Abel","Acosta","Machine Operator III",null,1,"Manufacturing","Janiya Henderson","2021-04-14","Conduct",3,"Lorem ipsum dolor sit amet, consectetur adipiscing elit. Donec vitae odio fermentum, pellentesque urna vel, bibendum magna. Nullam at malesuada ex. Duis rutrum, ligula nec elementum blandit, orci urna interdum mi, tempor sollicitudin erat ex at enim. Phasellus dignissim nunc eu tincidunt consectetur. Proin ac nunc tellus. Sed vitae turpis vitae erat cursus luctus eget vel purus. Aenean posuere posuere sapien non aliquam.","Filed by: Fletcher Rice.",false,null,"9D10243352",0,null,0,null,0]
[{"$nulls":15},"9D10153567",0,null,0,null,0]
[{"$nulls":15},"9D10150274",0,null,0,null,0]
[{"$nulls":15},"9D10151702",0,null,0,null,0]
[{"$nulls":15},"9D10150088",0,null,0,null,5,"2021-04-14"]
[{"$nulls":15},"9D10148894",0,null,0,null,0]
[{"$nulls":15},"9D10151682",0,null,0,null,0]
[{"$nulls":15},"9D10150250",0,null,0,null,0]
[{"$nulls":15},"9D10153705",0,null,0,null,0]
[{"$nulls":15},"9D10149764",0,null,0,null,0]
[{"$nulls":15},"9D10153206",0,null,0,null,0]
[{"$nulls":15},"9D10153285",0,null,0,null,0]
[{"$nulls":15},"9D10152872",0,null,0,null,0]
[{"$nulls":15},"9D10266656",0,null,0,null,0]
[{"$nulls":15},"9D10153250",0,null,0,null,0]
[{"$nulls":15},"9D10150178",0,null,0,null,0]
[{"$nulls":15},"9D10152981",0,null,0,null,0]
[{"$nulls":15},"9D10153529",0,null,0,null,0]
[{"$nulls":15},"9D10151624",0,null,0,null,0]
[{"$nulls":15},"9D10152767",0,null,0,null,0]
[{"$nulls":15},"9D10151468",0,null,0,null,0]
[{"$nulls":15},"9D10152833",0,null,0,null,0]
[{"$nulls":15},"9D10153662",0,null,0,null,0]
[{"$nulls":15},"9D10249090",0,null,0,null,0]
[{"$nulls":15},"9D10156883",0,null,0,null,0]
[{"$nulls":15},"9D10153805",0,null,0,null,0]
[{"$nulls":15},"9D10148180",0,null,0,null,0]
[{"$nulls":15},"9D10150040",0,null,0,null,0]
[{"$nulls":15},"9D10151640",0,null,0,null,0]
[{"$nulls":15},"9D10153685",0,null,0,null,0]
[{"$nulls":15},"9D10217977",0,null,0,null,0]
[{"$nulls":15},"9D10251629",0,null,0,null,0]
[{"$nulls":15},"9D10152681",0,null,0,null,0]
[{"$nulls":15},"9D10149038",0,null,0,null,0]
[{"$nulls":15},"9D10153021",0,null,0,null,0]
[{"$nulls":15},"9D10142275",0,null,0,null,0]
[{"$nulls":15},"9D10153083",0,null,0,null,0]
[{"$nulls":15},"9D10150184",0,null,0,null,0]
[{"$nulls":15},"9D10152825",0,null,0,null,0]
[{"$nulls":15},"9D10150118",0,null,0,null,0]
[{"$nulls":15},"9D10153281",0,null,0,null,0]
[{"$nulls":15},"9D10152926",0,null,0,null,0]
[{"$nulls":15},"9D10241118",0,null,0,null,0]
[{"$nulls":15},"9D10153057",0,null,0,null,0]
[{"$nulls":15},"9D10241612",0,null,0,null,0]
[{"$nulls":15},"9D10150106",0,null,0,null,0]
[{"$nulls":15},"9D10243341",0,null,0,null,0]
[{"$nulls":15},"9D10152444",0,null,0,null,0]
[{"$nulls":15},"9D10219561",0,null,0,null,0]
[{"$nulls":15},"9D10151594",0,null,0,null,0]
[{"$nulls":15},"9D10153684",0,null,0,null,0]
[{"$nulls":15},"9D10149968",0,null,0,null,0]
[{"$nulls":15},"9D10153836",0,null,0,null,0]
[{"$nulls":15},"9D10152659",0,null,0,null,0]
[{"$nulls":15},"9D10153091",0,null,0,null,0]
[{"$nulls":15},"9D10235883",0,null,0,null,0]
[{"$nulls":15},"9D10153158",0,null,0,null,0]
[{"$nulls":15},"9D10153140",0,null,0,null,0]
[{"$nulls":15},"9D10153073",0,null,0,null,0]
[{"$nulls":15},"9D10152449",0,null,0,null,0]
[{"$nulls":15},"9D10150154",0,null,0,null,0]
[{"$nulls":15},"9D10150148",0,null,0,null,0]
[{"$nulls":15},"9D10153006",0,null,0,null,0]
[{"$nulls":15},"9D10152326",0,null,0,null,0]
[{"$nulls":15},"9D10259224",0,null,0,null,0]
[{"$nulls":15},"9D10164926",0,null,0,null,0]
[{"$nulls":15},"9D10153604",0,null,0,null,0]
[{"$nulls":15},"9D10152980",0,null,0,null,0]
[{"$nulls":15},"9D10152523",0,null,0,null,0]
[{"$nulls":15},"9D10241615",0,null,0,null,0]
[{"$nulls":15},"9D10152963",0,null,0,null,0]
[{"$nulls":15},"9D10152288",0,null,0,null,0]
[{"$nulls":15},"9D10153571",0,null,0,null,0]
[{"$nulls":15},"9D10151502",0,null,0,null,0]
[{"$nulls":15},"9D10151666",0,null,0,null,0]
[{"$nulls":15},"9D10225291",0,null,0,null,0]
[{"$nulls":15},"9D10256603",0,null,0,null,0]
[{"$nulls":15},"9D10150130",0,null,0,null,0]
[{"$nulls":15},"9D10147423",0,null,0,null,0]
[{"$nulls":15},"9D10153023",0,null,0,null,0]
[{"$nulls":15},"9D10150244",0,null,0,null,0]
[{"$nulls":15},"9D10151550",0,null,0,null,0]
[{"$nulls":15},"9D10152645",0,null,0,null,0]
[{"$nulls":15},"9D10153372",0,null,0,null,0]
[{"$nulls":15},"9D10153573",0,null,0,null,0]
[{"$nulls":15},"9D10153148",0,null,0,null,0]
[{"$nulls":15},"9D10151658",0,null,0,null,0]
[{"$nulls":15},"9D10153733",0,null,0,null,0]
[{"$nulls":15},"9D10153246",0,null,0,null,0]
[{"$nulls":15},"9D10153431",0,null,0,null,0]
[{"$nulls":15},"9D10153515",0,null,0,null,0]
[{"$nulls":15},"9D10149902",0,null,0,null,0]
[{"$nulls":15},"9D10153280",0,null,0,null,0]
[{"$nulls":15},"9D10220197",0,null,0,null,0]
[{"$nulls":15},"9D10150310",0,null,0,null,0]
[{"$nulls":15},"9D10150112",0,null,0,null,0]
[{"$nulls":15},"9D10259680",0,null,0,null,0]
[{"$nulls":15},"9D10150034",0,null,0,null,0]
[{"$nulls":15},"9D10174424",0,null,0,null,0]
[{"$nulls":15},"9D10152924",0,null,0,null,0]
[{"$nulls":15},"9D10152848",0,null,0,null,0]
[{"$nulls":15},"9D10217978",0,null,0,null,0]
[{"$nulls":15},"9D10247802",0,null,0,null,0]
[{"$nulls":15},"9D10147429",0,null,0,null,0]
[{"$nulls":15},"9D10150238",0,null,0,null,0]
[{"$nulls":15},"9D10153338",0,null,0,null,0]
[{"$nulls":15},"9D10218949",0,null,0,null,0]
[{"$nulls":15},"9D10151660",0,null,0,null,0]
[{"$nulls":15},"9D10142062",0,null,0,null,0]
[{"$nulls":15},"9D10150322",0,null,0,null,0]
[{"$nulls":15},"9D10153564",0,null,0,null,0]
[{"$nulls":15},"9D10153433",0,null,0,null,0]
[{"$nulls":15},"9D10153605",0,null,0,null,0]
[{"$nulls":15},"9D10183557",0,null,0,null,0]
[{"$nulls":15},"9D10256813",0,null,0,null,0]
[{"$nulls":15},"9D10152753",0,null,0,null,0]
[{"$nulls":15},"9D10152806",0,null,0,null,0]
[{"$nulls":15},"9D10150292",0,null,0,null,0]
[{"$nulls":15},"9D10150304",0,null,0,null,0]
[{"$nulls":15},"9D10153620",0,null,0,null,0]
[{"$nulls":15},"9D10152719",0,null,0,null,0]
[{"$nulls":15},"9D10152958",0,null,0,null,0]
[{"$nulls":15},"9D10152266",0,null,0,null,0]
[{"$nulls":15},"9D10153368",0,null,0,null,0]
[{"$nulls":15},"9D10153090",0,null,0,null,0]
[{"$nulls":15},"9D10162924",0,null,0,null,0]
[{"$nulls":15},"9D10152795",0,null,0,null,0]
[{"$nulls":15},"9D10229533",0,null,0,null,0]
[{"$nulls":15},"9D10241129",0,null,0,null,0]
[{"$nulls":15},"9D10153286",0,null,0,null,0]
[{"$nulls":15},"9D10151694",0,null,0,null,0]
[{"$nulls":15},"9D10153159",0,null,0,null,0]
[{"$nulls":15},"9D10151574",0,null,0,null,0]
[{"$nulls":15},"9D10153211",0,null,0,null,0]
[{"$nulls":15},"9D10152813",0,null,0,null,0]
[{"$nulls":15},"9D10241670",0,null,0,null,0]
[{"$nulls":15},"9D10150142",0,null,0,null,0]
[{"$nulls":15},"9D10149092",0,null,0,null,0]
[{"$nulls":15},"9D10153457",0,null,0,null,0]
[{"$nulls":15},"9D10152974",0,null,0,null,0]
[{"$nulls":15},"9D10150124",0,null,0,null,0]
[{"$nulls":15},"9D10235421",0,null,0,null,0]
[{"$nulls":15},"9D10150136",0,null,0,null,0]
[{"$nulls":15},"9D10149824",0,null,0,null,0]
[{"$nulls":15},"9D10149326",0,null,0,null,0]
[{"$nulls":15},"9D10149452",0,null,0,null,0]
[{"$nulls":15},"9D10151190",0,null,0,null,0]
[{"$nulls":15},"9D10168646",0,null,0,null,0]
[{"$nulls":15},"9D10153226",0,null,0,null,0]
[{"$nulls":15},"9D10230450",0,null,0,null,0]
[{"$nulls":15},"9D10152824",0,null,0,null,0]
[{"$nulls":15},"9D10152841",0,null,0,null,0]
[{"$nulls":15},"9D10153570",0,null,0,null,0]
[{"$nulls":15},"9D10150166",0,null,0,null,0]
[{"$nulls":15},"9D10152925",0,null,0,null,0]
[{"$nulls":15},"9D10171186",0,null,0,null,0]
[{"$nulls":15},"9D10219210",0,null,0,null,0]
[{"$nulls":15},"9D10152282",0,null,0,null,0]
[{"$nulls":15},"9D10151630",0,null,0,null,0]
[{"$nulls":15},"9D10151652",0,null,0,null,0]
[{"$nulls":15},"9D10190950",0,null,0,null,0]
[{"$nulls":15},"9D10150064",0,null,0,null,0]
[{"$nulls":15},"9D10219560",0,null,0,null,0]
[{"$nulls":15},"9D10153177",0,null,0,null,0]
[{"$nulls":15},"9D10153630",0,null,0,null,0]
[{"$nulls":15},"9D10150058",0,null,0,null,0]
[{"$nulls":15},"9D10256602",0,null,0,null,0]
[{"$nulls":15},"9D10152923",0,null,0,null,0]
[{"$nulls":15},"9D10153478",0,null,0,null,0]
[{"$nulls":15},"9D10218904",0,null,0,null,0]
[{"$nulls":15},"9D10267979",0,null,0,null,0]
[{"$nulls":15},"9D10168997",0,null,0,null,0]
[{"$nulls":15},"9D10153425",0,null,0,null,0]
[{"$nulls":15},"9D10153854",0,null,0,null,0]
[{"$nulls":15},"9D10153105",0,null,0,null,0]
[{"$nulls":15},"9D10153419",0,null,0,null,0]
[{"$nulls":15},"9D10171184",0,null,0,null,0]
[{"$nulls":15},"9D10243346",0,null,0,null,0]
[{"$nulls":15},"9D10150736",0,null,0,null,0]
[{"$nulls":15},"9D10152871",0,null,0,null,0]
[{"$nulls":15},"9D10243942",0,null,0,null,0]
[{"$nulls":15},"9D10150286",0,null,0,null,0]
[{"$nulls":15},"9D10153005",0,null,0,null,0]
[{"$nulls":15},"9D10156875",0,null,0,null,0]
[{"$nulls":15},"9D10229532",0,null,0,null,0]
[{"$nulls":15},"9D10151942",0,null,0,null,0]
[{"$nulls":15},"9D10141822",0,null,0,null,0]
[{"$nulls":15},"9D10152979",0,null,0,null,0]
[{"$nulls":15},"9D10152545",3,"2021-04-14",0,null,0]
[{"$nulls":15},"9D10149782",0,null,5,"2021-04-14",0]
{"$rows_empty":26}
[{"$nulls":3},{"$f":"IF($C223<>\"\",COUNTA(#REF!)/3,\"\")","v":""}]
[{"$nulls":3},{"$f":"IF($C224<>\"\",COUNTA(#REF!)/3,\"\")","v":""}]
[{"$nulls":3},{"$f":"IF($C225<>\"\",COUNTA(#REF!)/3,\"\")","v":""}]
[{"$nulls":3},{"$f":"IF($C226<>\"\",COUNTA(#REF!)/3,\"\")","v":""}]
[{"$nulls":3},{"$f":"IF($C227<>\"\",COUNTA(#REF!)/3,\"\")","v":""}]
[{"$nulls":3},{"$f":"IF($C228<>\"\",COUNTA(#REF!)/3,\"\")","v":""}]
[{"$nulls":3},{"$f":"IF($C229<>\"\",COUNTA(#REF!)/3,\"\")","v":""}]
[{"$nulls":3},{"$f":"IF($C230<>\"\",COUNTA(#REF!)/3,\"\")","v":""}]
[{"$nulls":3},{"$f":"IF($C231<>\"\",COUNTA(#REF!)/3,\"\")","v":""}]
[{"$nulls":3},{"$f":"IF($C232<>\"\",COUNTA(#REF!)/3,\"\")","v":""}]
[{"$nulls":3},{"$f":"IF($C233<>\"\",COUNTA(#REF!)/3,\"\")","v":""}]
[{"$nulls":3},{"$f":"IF($C234<>\"\",COUNTA(#REF!)/3,\"\")","v":""}]
[{"$nulls":3},{"$f":"IF($C235<>\"\",COUNTA(#REF!)/3,\"\")","v":""}]
[{"$nulls":3},{"$f":"IF($C236<>\"\",COUNTA(#REF!)/3,\"\")","v":""}]
[{"$nulls":3},{"$f":"IF($C237<>\"\",COUNTA(#REF!)/3,\"\")","v":""}]
[{"$nulls":3},{"$f":"IF($C238<>\"\",COUNTA(#REF!)/3,\"\")","v":""}]
[{"$nulls":3},{"$f":"IF($C239<>\"\",COUNTA(#REF!)/3,\"\")","v":""}]
[{"$nulls":3},{"$f":"IF($C240<>\"\",COUNTA(#REF!)/3,\"\")","v":""}]
[{"$nulls":3},{"$f":"IF($C241<>\"\",COUNTA(#REF!)/3,\"\")","v":""}]
[{"$nulls":3},{"$f":"IF($C242<>\"\",COUNTA(#REF!)/3,\"\")","v":""}]
[{"$nulls":3},{"$f":"IF($C243<>\"\",COUNTA(#REF!)/3,\"\")","v":""}]
[{"$nulls":3},{"$f":"IF($C244<>\"\",COUNTA(#REF!)/3,\"\")","v":""}]
[{"$nulls":3},{"$f":"IF($C245<>\"\",COUNTA(#REF!)/3,\"\")","v":""}]
[{"$nulls":3},{"$f":"IF($C246<>\"\",COUNTA(#REF!)/3,\"\")","v":""}]
[{"$nulls":3},{"$f":"IF($C247<>\"\",COUNTA(#REF!)/3,\"\")","v":""}]
[{"$nulls":3},{"$f":"IF($C248<>\"\",COUNTA(#REF!)/3,\"\")","v":""}]
[{"$nulls":3},{"$f":"IF($C249<>\"\",COUNTA(#REF!)/3,\"\")","v":""}]
[{"$nulls":3},{"$f":"IF($C250<>\"\",COUNTA(#REF!)/3,\"\")","v":""}]
[{"$nulls":3},{"$f":"IF($C251<>\"\",COUNTA(#REF!)/3,\"\")","v":""}]
[{"$nulls":3},{"$f":"IF($C252<>\"\",COUNTA(#REF!)/3,\"\")","v":""}]
[{"$nulls":3},{"$f":"IF($C253<>\"\",COUNTA(#REF!)/3,\"\")","v":""}]
[{"$nulls":3},{"$f":"IF($C254<>\"\",COUNTA(#REF!)/3,\"\")","v":""}]
[{"$nulls":3},{"$f":"IF($C255<>\"\",COUNTA(#REF!)/3,\"\")","v":""}]
[{"$nulls":3},{"$f":"IF($C256<>\"\",COUNTA(#REF!)/3,\"\")","v":""}]
[{"$nulls":3},{"$f":"IF($C257<>\"\",COUNTA(#REF!)/3,\"\")","v":""}]
[{"$nulls":3},{"$f":"IF($C258<>\"\",COUNTA(#REF!)/3,\"\")","v":""}]
[{"$nulls":3},{"$f":"IF($C259<>\"\",COUNTA(#REF!)/3,\"\")","v":""}]
[{"$nulls":3},{"$f":"IF($C260<>\"\",COUNTA(#REF!)/3,\"\")","v":""}]
[{"$nulls":3},{"$f":"IF($C261<>\"\",COUNTA(#REF!)/3,\"\")","v":""}]
[{"$nulls":3},{"$f":"IF($C262<>\"\",COUNTA(#REF!)/3,\"\")","v":""}]
[{"$nulls":3},{"$f":"IF($C263<>\"\",COUNTA(#REF!)/3,\"\")","v":""}]
[{"$nulls":3},{"$f":"IF($C264<>\"\",COUNTA(#REF!)/3,\"\")","v":""}]
[{"$nulls":3},{"$f":"IF($C265<>\"\",COUNTA(#REF!)/3,\"\")","v":""}]
[{"$nulls":3},{"$f":"IF($C266<>\"\",COUNTA(#REF!)/3,\"\")","v":""}]
[{"$nulls":3},{"$f":"IF($C267<>\"\",COUNTA(#REF!)/3,\"\")","v":""}]
[{"$nulls":3},{"$f":"IF($C268<>\"\",COUNTA(#REF!)/3,\"\")","v":""}]
[{"$nulls":3},{"$f":"IF($C269<>\"\",COUNTA(#REF!)/3,\"\")","v":""}]
[{"$nulls":3},{"$f":"IF($C270<>\"\",COUNTA(#REF!)/3,\"\")","v":""}]
[{"$nulls":3},{"$f":"IF($C271<>\"\",COUNTA(#REF!)/3,\"\")","v":""}]
[{"$nulls":3},{"$f":"IF($C272<>\"\",COUNTA(#REF!)/3,\"\")","v":""}]
[{"$nulls":3},{"$f":"IF($C273<>\"\",COUNTA(#REF!)/3,\"\")","v":""}]
[{"$nulls":3},{"$f":"IF($C274<>\"\",COUNTA(#REF!)/3,\"\")","v":""}]
[{"$nulls":3},{"$f":"IF($C275<>\"\",COUNTA(#REF!)/3,\"\")","v":""}]
[{"$nulls":3},{"$f":"IF($C276<>\"\",COUNTA(#REF!)/3,\"\")","v":""}]
[{"$nulls":3},{"$f":"IF($C277<>\"\",COUNTA(#REF!)/3,\"\")","v":""}]
[{"$nulls":3},{"$f":"IF($C278<>\"\",COUNTA(#REF!)/3,\"\")","v":""}]
[{"$nulls":3},{"$f":"IF($C279<>\"\",COUNTA(#REF!)/3,\"\")","v":""}]
[{"$nulls":3},{"$f":"IF($C280<>\"\",COUNTA(#REF!)/3,\"\")","v":""}]
[{"$nulls":3},{"$f":"IF($C281<>\"\",COUNTA(#REF!)/3,\"\")","v":""}]
[{"$nulls":3},{"$f":"IF($C282<>\"\",COUNTA(#REF!)/3,\"\")","v":""}]
[{"$nulls":3},{"$f":"IF($C283<>\"\",COUNTA(#REF!)/3,\"\")","v":""}]
[{"$nulls":3},{"$f":"IF($C284<>\"\",COUNTA(#REF!)/3,\"\")","v":""}]
[{"$nulls":3},{"$f":"IF($C285<>\"\",COUNTA(#REF!)/3,\"\")","v":""}]
[{"$nulls":3},{"$f":"IF($C286<>\"\",COUNTA(#REF!)/3,\"\")","v":""}]
[{"$nulls":3},{"$f":"IF($C287<>\"\",COUNTA(#REF!)/3,\"\")","v":""}]
[{"$nulls":3},{"$f":"IF($C288<>\"\",COUNTA(#REF!)/3,\"\")","v":""}]
[{"$nulls":3},{"$f":"IF($C289<>\"\",COUNTA(#REF!)/3,\"\")","v":""}]
[{"$nulls":3},{"$f":"IF($C290<>\"\",COUNTA(#REF!)/3,\"\")","v":""}]
[{"$nulls":3},{"$f":"IF($C291<>\"\",COUNTA(#REF!)/3,\"\")","v":""}]
[{"$nulls":3},{"$f":"IF($C292<>\"\",COUNTA(#REF!)/3,\"\")","v":""}]
[{"$nulls":3},{"$f":"IF($C293<>\"\",COUNTA(#REF!)/3,\"\")","v":""}]
[{"$nulls":3},{"$f":"IF($C294<>\"\",COUNTA(#REF!)/3,\"\")","v":""}]
[{"$nulls":3},{"$f":"IF($C295<>\"\",COUNTA(#REF!)/3,\"\")","v":""}]
[{"$nulls":3},{"$f":"IF($C296<>\"\",COUNTA(#REF!)/3,\"\")","v":""}]
[{"$nulls":3},{"$f":"IF($C297<>\"\",COUNTA(#REF!)/3,\"\")","v":""}]
[{"$nulls":3},{"$f":"IF($C298<>\"\",COUNTA(#REF!)/3,\"\")","v":""}]
[{"$nulls":3},{"$f":"IF($C299<>\"\",COUNTA(#REF!)/3,\"\")","v":""}]
[{"$nulls":3},{"$f":"IF($C300<>\"\",COUNTA(#REF!)/3,\"\")","v":""}]
[{"$nulls":3},{"$f":"IF($C301<>\"\",COUNTA(#REF!)/3,\"\")","v":""}]
[{"$nulls":3},{"$f":"IF($C302<>\"\",COUNTA(#REF!)/3,\"\")","v":""}]
[{"$nulls":3},{"$f":"IF($C303<>\"\",COUNTA(#REF!)/3,\"\")","v":""}]
[{"$nulls":3},{"$f":"IF($C304<>\"\",COUNTA(#REF!)/3,\"\")","v":""}]
[{"$nulls":3},{"$f":"IF($C305<>\"\",COUNTA(#REF!)/3,\"\")","v":""}]
[{"$nulls":3},{"$f":"IF($C306<>\"\",COUNTA(#REF!)/3,\"\")","v":""}]
[{"$nulls":3},{"$f":"IF($C307<>\"\",COUNTA(#REF!)/3,\"\")","v":""}]
[{"$nulls":3},{"$f":"IF($C308<>\"\",COUNTA(#REF!)/3,\"\")","v":""}]
[{"$nulls":3},{"$f":"IF($C309<>\"\",COUNTA(#REF!)/3,\"\")","v":""}]
[{"$nulls":3},{"$f":"IF($C310<>\"\",COUNTA(#REF!)/3,\"\")","v":""}]
[{"$nulls":3},{"$f":"IF($C311<>\"\",COUNTA(#REF!)/3,\"\")","v":""}]
[{"$nulls":3},{"$f":"IF($C312<>\"\",COUNTA(#REF!)/3,\"\")","v":""}]
[{"$nulls":3},{"$f":"IF($C313<>\"\",COUNTA(#REF!)/3,\"\")","v":""}]
[{"$nulls":3},{"$f":"IF($C314<>\"\",COUNTA(#REF!)/3,\"\")","v":""}]
[{"$nulls":3},{"$f":"IF($C315<>\"\",COUNTA(#REF!)/3,\"\")","v":""}]
[{"$nulls":3},{"$f":"IF($C316<>\"\",COUNTA(#REF!)/3,\"\")","v":""}]
[{"$nulls":3},{"$f":"IF($C317<>\"\",COUNTA(#REF!)/3,\"\")","v":""}]
[{"$nulls":3},{"$f":"IF($C318<>\"\",COUNTA(#REF!)/3,\"\")","v":""}]
[{"$nulls":3},{"$f":"IF($C319<>\"\",COUNTA(#REF!)/3,\"\")","v":""}]
[{"$nulls":3},{"$f":"IF($C320<>\"\",COUNTA(#REF!)/3,\"\")","v":""}]
[{"$nulls":3},{"$f":"IF($C321<>\"\",COUNTA(#REF!)/3,\"\")","v":""}]
[{"$nulls":3},{"$f":"IF($C322<>\"\",COUNTA(#REF!)/3,\"\")","v":""}]
[{"$nulls":3},{"$f":"IF($C323<>\"\",COUNTA(#REF!)/3,\"\")","v":""}]
[{"$nulls":3},{"$f":"IF($C324<>\"\",COUNTA(#REF!)/3,\"\")","v":""}]
[{"$nulls":3},{"$f":"IF($C325<>\"\",COUNTA(#REF!)/3,\"\")","v":""}]
[{"$nulls":3},{"$f":"IF($C326<>\"\",COUNTA(#REF!)/3,\"\")","v":""}]
[{"$nulls":3},{"$f":"IF($C327<>\"\",COUNTA(#REF!)/3,\"\")","v":""}]
[{"$nulls":3},{"$f":"IF($C328<>\"\",COUNTA(#REF!)/3,\"\")","v":""}]
[{"$nulls":3},{"$f":"IF($C329<>\"\",COUNTA(#REF!)/3,\"\")","v":""}]
[{"$nulls":3},{"$f":"IF($C330<>\"\",COUNTA(#REF!)/3,\"\")","v":""}]
[{"$nulls":3},{"$f":"IF($C331<>\"\",COUNTA(#REF!)/3,\"\")","v":""}]
[{"$nulls":3},{"$f":"IF($C332<>\"\",COUNTA(#REF!)/3,\"\")","v":""}]
[{"$nulls":3},{"$f":"IF($C333<>\"\",COUNTA(#REF!)/3,\"\")","v":""}]
[{"$nulls":3},{"$f":"IF($C334<>\"\",COUNTA(#REF!)/3,\"\")","v":""}]
[{"$nulls":3},{"$f":"IF($C335<>\"\",COUNTA(#REF!)/3,\"\")","v":""}]
[{"$nulls":3},{"$f":"IF($C336<>\"\",COUNTA(#REF!)/3,\"\")","v":""}]
[{"$nulls":3},{"$f":"IF($C337<>\"\",COUNTA(#REF!)/3,\"\")","v":""}]
[{"$nulls":3},{"$f":"IF($C338<>\"\",COUNTA(#REF!)/3,\"\")","v":""}]
[{"$nulls":3},{"$f":"IF($C339<>\"\",COUNTA(#REF!)/3,\"\")","v":""}]
[{"$nulls":3},{"$f":"IF($C340<>\"\",COUNTA(#REF!)/3,\"\")","v":""}]
[{"$nulls":3},{"$f":"IF($C341<>\"\",COUNTA(#REF!)/3,\"\")","v":""}]
[{"$nulls":3},{"$f":"IF($C342<>\"\",COUNTA(#REF!)/3,\"\")","v":""}]
[{"$nulls":3},{"$f":"IF($C343<>\"\",COUNTA(#REF!)/3,\"\")","v":""}]
[{"$nulls":3},{"$f":"IF($C344<>\"\",COUNTA(#REF!)/3,\"\")","v":""}]
[{"$nulls":3},{"$f":"IF($C345<>\"\",COUNTA(#REF!)/3,\"\")","v":""}]
[{"$nulls":3},{"$f":"IF($C346<>\"\",COUNTA(#REF!)/3,\"\")","v":""}]
[{"$nulls":3},{"$f":"IF($C347<>\"\",COUNTA(#REF!)/3,\"\")","v":""}]
[{"$nulls":3},{"$f":"IF($C348<>\"\",COUNTA(#REF!)/3,\"\")","v":""}]
[{"$nulls":3},{"$f":"IF($C349<>\"\",COUNTA(#REF!)/3,\"\")","v":""}]
[{"$nulls":3},{"$f":"IF($C350<>\"\",COUNTA(#REF!)/3,\"\")","v":""}]
[{"$nulls":3},{"$f":"IF($C351<>\"\",COUNTA(#REF!)/3,\"\")","v":""}]
[{"$nulls":3},{"$f":"IF($C352<>\"\",COUNTA(#REF!)/3,\"\")","v":""}]
[{"$nulls":3},{"$f":"IF($C353<>\"\",COUNTA(#REF!)/3,\"\")","v":""}]
[{"$nulls":3},{"$f":"IF($C354<>\"\",COUNTA(#REF!)/3,\"\")","v":""}]
[{"$nulls":3},{"$f":"IF($C355<>\"\",COUNTA(#REF!)/3,\"\")","v":""}]
[{"$nulls":3},{"$f":"IF($C356<>\"\",COUNTA(#REF!)/3,\"\")","v":""}]
[{"$nulls":3},{"$f":"IF($C357<>\"\",COUNTA(#REF!)/3,\"\")","v":""}]
[{"$nulls":3},{"$f":"IF($C358<>\"\",COUNTA(#REF!)/3,\"\")","v":""}]
[{"$nulls":3},{"$f":"IF($C359<>\"\",COUNTA(#REF!)/3,\"\")","v":""}]
[{"$nulls":3},{"$f":"IF($C360<>\"\",COUNTA(#REF!)/3,\"\")","v":""}]
[{"$nulls":3},{"$f":"IF($C361<>\"\",COUNTA(#REF!)/3,\"\")","v":""}]
[{"$nulls":3},{"$f":"IF($C362<>\"\",COUNTA(#REF!)/3,\"\")","v":""}]
[{"$nulls":3},{"$f":"IF($C363<>\"\",COUNTA(#REF!)/3,\"\")","v":""}]
[{"$nulls":3},{"$f":"IF($C364<>\"\",COUNTA(#REF!)/3,\"\")","v":""}]
[{"$nulls":3},{"$f":"IF($C365<>\"\",COUNTA(#REF!)/3,\"\")","v":""}]
[{"$nulls":3},{"$f":"IF($C366<>\"\",COUNTA(#REF!)/3,\"\")","v":""}]
[{"$nulls":3},{"$f":"IF($C367<>\"\",COUNTA(#REF!)/3,\"\")","v":""}]
[{"$nulls":3},{"$f":"IF($C368<>\"\",COUNTA(#REF!)/3,\"\")","v":""}]
[{"$nulls":3},{"$f":"IF($C369<>\"\",COUNTA(#REF!)/3,\"\")","v":""}]
[{"$nulls":3},{"$f":"IF($C370<>\"\",COUNTA(#REF!)/3,\"\")","v":""}]
[{"$nulls":3},{"$f":"IF($C371<>\"\",COUNTA(#REF!)/3,\"\")","v":""}]
[{"$nulls":3},{"$f":"IF($C372<>\"\",COUNTA(#REF!)/3,\"\")","v":""}]
[{"$nulls":3},{"$f":"IF($C373<>\"\",COUNTA(#REF!)/3,\"\")","v":""}]
[{"$nulls":3},{"$f":"IF($C374<>\"\",COUNTA(#REF!)/3,\"\")","v":""}]
[{"$nulls":3},{"$f":"IF($C375<>\"\",COUNTA(#REF!)/3,\"\")","v":""}]
[{"$nulls":3},{"$f":"IF($C376<>\"\",COUNTA(#REF!)/3,\"\")","v":""}]
[{"$nulls":3},{"$f":"IF($C377<>\"\",COUNTA(#REF!)/3,\"\")","v":""}]
[{"$nulls":3},{"$f":"IF($C378<>\"\",COUNTA(#REF!)/3,\"\")","v":""}]
[{"$nulls":3},{"$f":"IF($C379<>\"\",COUNTA(#REF!)/3,\"\")","v":""}]
[{"$nulls":3},{"$f":"IF($C380<>\"\",COUNTA(#REF!)/3,\"\")","v":""}]
[{"$nulls":3},{"$f":"IF($C381<>\"\",COUNTA(#REF!)/3,\"\")","v":""}]
[{"$nulls":3},{"$f":"IF($C382<>\"\",COUNTA(#REF!)/3,\"\")","v":""}]
[{"$nulls":3},{"$f":"IF($C383<>\"\",COUNTA(#REF!)/3,\"\")","v":""}]
[{"$nulls":3},{"$f":"IF($C384<>\"\",COUNTA(#REF!)/3,\"\")","v":""}]
[{"$nulls":3},{"$f":"IF($C385<>\"\",COUNTA(#REF!)/3,\"\")","v":""}]
[{"$nulls":3},{"$f":"IF($C386<>\"\",COUNTA(#REF!)/3,\"\")","v":""}]
[{"$nulls":3},{"$f":"IF($C387<>\"\",COUNTA(#REF!)/3,\"\")","v":""}]
[{"$nulls":3},{"$f":"IF($C388<>\"\",COUNTA(#REF!)/3,\"\")","v":""}]
[{"$nulls":3},{"$f":"IF($C389<>\"\",COUNTA(#REF!)/3,\"\")","v":""}]
[{"$nulls":3},{"$f":"IF($C390<>\"\",COUNTA(#REF!)/3,\"\")","v":""}]
[{"$nulls":3},{"$f":"IF($C391<>\"\",COUNTA(#REF!)/3,\"\")","v":""}]
[{"$nulls":3},{"$f":"IF($C392<>\"\",COUNTA(#REF!)/3,\"\")","v":""}]
[{"$nulls":3},{"$f":"IF($C393<>\"\",COUNTA(#REF!)/3,\"\")","v":""}]
[{"$nulls":3},{"$f":"IF($C394<>\"\",COUNTA(#REF!)/3,\"\")","v":""}]
[{"$nulls":3},{"$f":"IF($C395<>\"\",COUNTA(#REF!)/3,\"\")","v":""}]
[{"$nulls":3},{"$f":"IF($C396<>\"\",COUNTA(#REF!)/3,\"\")","v":""}]
[{"$nulls":3},{"$f":"IF($C397<>\"\",COUNTA(#REF!)/3,\"\")","v":""}]
[{"$nulls":3},{"$f":"IF($C398<>\"\",COUNTA(#REF!)/3,\"\")","v":""}]
[{"$nulls":3},{"$f":"IF($C399<>\"\",COUNTA(#REF!)/3,\"\")","v":""}]
[{"$nulls":3},{"$f":"IF($C400<>\"\",COUNTA(#REF!)/3,\"\")","v":""}]
[{"$nulls":3},{"$f":"IF($C401<>\"\",COUNTA(#REF!)/3,\"\")","v":""}]
[{"$nulls":3},{"$f":"IF($C402<>\"\",COUNTA(#REF!)/3,\"\")","v":""}]
[{"$nulls":3},{"$f":"IF($C403<>\"\",COUNTA(#REF!)/3,\"\")","v":""}]
[{"$nulls":3},{"$f":"IF($C404<>\"\",COUNTA(#REF!)/3,\"\")","v":""}]
[{"$nulls":3},{"$f":"IF($C405<>\"\",COUNTA(#REF!)/3,\"\")","v":""}]
[{"$nulls":3},{"$f":"IF($C406<>\"\",COUNTA(#REF!)/3,\"\")","v":""}]
[{"$nulls":3},{"$f":"IF($C407<>\"\",COUNTA(#REF!)/3,\"\")","v":""}]
[{"$nulls":3},{"$f":"IF($C408<>\"\",COUNTA(#REF!)/3,\"\")","v":""}]
[{"$nulls":3},{"$f":"IF($C409<>\"\",COUNTA(#REF!)/3,\"\")","v":""}]
[{"$nulls":3},{"$f":"IF($C410<>\"\",COUNTA(#REF!)/3,\"\")","v":""}]
[{"$nulls":3},{"$f":"IF($C411<>\"\",COUNTA(#REF!)/3,\"\")","v":""}]
[{"$nulls":3},{"$f":"IF($C412<>\"\",COUNTA(#REF!)/3,\"\")","v":""}]
[{"$nulls":3},{"$f":"IF($C413<>\"\",COUNTA(#REF!)/3,\"\")","v":""}]
[{"$nulls":3},{"$f":"IF($C414<>\"\",COUNTA(#REF!)/3,\"\")","v":""}]
[{"$nulls":3},{"$f":"IF($C415<>\"\",COUNTA(#REF!)/3,\"\")","v":""}]
[{"$nulls":3},{"$f":"IF($C416<>\"\",COUNTA(#REF!)/3,\"\")","v":""}]
[{"$nulls":3},{"$f":"IF($C417<>\"\",COUNTA(#REF!)/3,\"\")","v":""}]
[{"$nulls":3},{"$f":"IF($C418<>\"\",COUNTA(#REF!)/3,\"\")","v":""}]
[{"$nulls":3},{"$f":"IF($C419<>\"\",COUNTA(#REF!)/3,\"\")","v":""}]
[{"$nulls":3},{"$f":"IF($C420<>\"\",COUNTA(#REF!)/3,\"\")","v":""}]
[{"$nulls":3},{"$f":"IF($C421<>\"\",COUNTA(#REF!)/3,\"\")","v":""}]
[{"$nulls":3},{"$f":"IF($C422<>\"\",COUNTA(#REF!)/3,\"\")","v":""}]
[{"$nulls":3},{"$f":"IF($C423<>\"\",COUNTA(#REF!)/3,\"\")","v":""}]
[{"$nulls":3},{"$f":"IF($C424<>\"\",COUNTA(#REF!)/3,\"\")","v":""}]
[{"$nulls":3},{"$f":"IF($C425<>\"\",COUNTA(#REF!)/3,\"\")","v":""}]
[{"$nulls":3},{"$f":"IF($C426<>\"\",COUNTA(#REF!)/3,\"\")","v":""}]
[{"$nulls":3},{"$f":"IF($C427<>\"\",COUNTA(#REF!)/3,\"\")","v":""}]
[{"$nulls":3},{"$f":"IF($C428<>\"\",COUNTA(#REF!)/3,\"\")","v":""}]
[{"$nulls":3},{"$f":"IF($C429<>\"\",COUNTA(#REF!)/3,\"\")","v":""}]
[{"$nulls":3},{"$f":"IF($C430<>\"\",COUNTA(#REF!)/3,\"\")","v":""}]
[{"$nulls":3},{"$f":"IF($C431<>\"\",COUNTA(#REF!)/3,\"\")","v":""}]
[{"$nulls":3},{"$f":"IF($C432<>\"\",COUNTA(#REF!)/3,\"\")","v":""}]
[{"$nulls":3},{"$f":"IF($C433<>\"\",COUNTA(#REF!)/3,\"\")","v":""}]
[{"$nulls":3},{"$f":"IF($C434<>\"\",COUNTA(#REF!)/3,\"\")","v":""}]
[{"$nulls":3},{"$f":"IF($C435<>\"\",COUNTA(#REF!)/3,\"\")","v":""}]
[{"$nulls":3},{"$f":"IF($C436<>\"\",COUNTA(#REF!)/3,\"\")","v":""}]
[{"$nulls":3},{"$f":"IF($C437<>\"\",COUNTA(#REF!)/3,\"\")","v":""}]
[{"$nulls":3},{"$f":"IF($C438<>\"\",COUNTA(#REF!)/3,\"\")","v":""}]
[{"$nulls":3},{"$f":"IF($C439<>\"\",COUNTA(#REF!)/3,\"\")","v":""}]
[{"$nulls":3},{"$f":"IF($C440<>\"\",COUNTA(#REF!)/3,\"\")","v":""}]
[{"$nulls":3},{"$f":"IF($C441<>\"\",COUNTA(#REF!)/3,\"\")","v":""}]
[{"$nulls":3},{"$f":"IF($C442<>\"\",COUNTA(#REF!)/3,\"\")","v":""}]
[{"$nulls":3},{"$f":"IF($C443<>\"\",COUNTA(#REF!)/3,\"\")","v":""}]
[{"$nulls":3},{"$f":"IF($C444<>\"\",COUNTA(#REF!)/3,\"\")","v":""}]
[{"$nulls":3},{"$f":"IF($C445<>\"\",COUNTA(#REF!)/3,\"\")","v":""}]
[{"$nulls":3},{"$f":"IF($C446<>\"\",COUNTA(#REF!)/3,\"\")","v":""}]
[{"$nulls":3},{"$f":"IF($C447<>\"\",COUNTA(#REF!)/3,\"\")","v":""}]
[{"$nulls":3},{"$f":"IF($C448<>\"\",COUNTA(#REF!)/3,\"\")","v":""}]
[{"$nulls":3},{"$f":"IF($C449<>\"\",COUNTA(#REF!)/3,\"\")","v":""}]
[{"$nulls":3},{"$f":"IF($C450<>\"\",COUNTA(#REF!)/3,\"\")","v":""}]
[{"$nulls":3},{"$f":"IF($C451<>\"\",COUNTA(#REF!)/3,\"\")","v":""}]
[{"$nulls":3},{"$f":"IF($C452<>\"\",COUNTA(#REF!)/3,\"\")","v":""}]
[{"$nulls":3},{"$f":"IF($C453<>\"\",COUNTA(#REF!)/3,\"\")","v":""}]
[{"$nulls":3},{"$f":"IF($C454<>\"\",COUNTA(#REF!)/3,\"\")","v":""}]
[{"$nulls":3},{"$f":"IF($C455<>\"\",COUNTA(#REF!)/3,\"\")","v":""}]
[{"$nulls":3},{"$f":"IF($C456<>\"\",COUNTA(#REF!)/3,\"\")","v":""}]
[{"$nulls":3},{"$f":"IF($C457<>\"\",COUNTA(#REF!)/3,\"\")","v":""}]
[{"$nulls":3},{"$f":"IF($C458<>\"\",COUNTA(#REF!)/3,\"\")","v":""}]
[{"$nulls":3},{"$f":"IF($C459<>\"\",COUNTA(#REF!)/3,\"\")","v":""}]
[{"$nulls":3},{"$f":"IF($C460<>\"\",COUNTA(#REF!)/3,\"\")","v":""}]
[{"$nulls":3},{"$f":"IF($C461<>\"\",COUNTA(#REF!)/3,\"\")","v":""}]
[{"$nulls":3},{"$f":"IF($C462<>\"\",COUNTA(#REF!)/3,\"\")","v":""}]
[{"$nulls":3},{"$f":"IF($C463<>\"\",COUNTA(#REF!)/3,\"\")","v":""}]
[{"$nulls":3},{"$f":"IF($C464<>\"\",COUNTA(#REF!)/3,\"\")","v":""}]
[{"$nulls":3},{"$f":"IF($C465<>\"\",COUNTA(#REF!)/3,\"\")","v":""}]
[{"$nulls":3},{"$f":"IF($C466<>\"\",COUNTA(#REF!)/3,\"\")","v":""}]
[{"$nulls":3},{"$f":"IF($C467<>\"\",COUNTA(#REF!)/3,\"\")","v":""}]
[{"$nulls":3},{"$f":"IF($C468<>\"\",COUNTA(#REF!)/3,\"\")","v":""}]
[{"$nulls":3},{"$f":"IF($C469<>\"\",COUNTA(#REF!)/3,\"\")","v":""}]
[{"$nulls":3},{"$f":"IF($C470<>\"\",COUNTA(#REF!)/3,\"\")","v":""}]
[{"$nulls":3},{"$f":"IF($C471<>\"\",COUNTA(#REF!)/3,\"\")","v":""}]
[{"$nulls":3},{"$f":"IF($C472<>\"\",COUNTA(#REF!)/3,\"\")","v":""}]
[{"$nulls":3},{"$f":"IF($C473<>\"\",COUNTA(#REF!)/3,\"\")","v":""}]
[{"$nulls":3},{"$f":"IF($C474<>\"\",COUNTA(#REF!)/3,\"\")","v":""}]
[{"$nulls":3},{"$f":"IF($C475<>\"\",COUNTA(#REF!)/3,\"\")","v":""}]
[{"$nulls":3},{"$f":"IF($C476<>\"\",COUNTA(#REF!)/3,\"\")","v":""}]
[{"$nulls":3},{"$f":"IF($C477<>\"\",COUNTA(#REF!)/3,\"\")","v":""}]
[{"$nulls":3},{"$f":"IF($C478<>\"\",COUNTA(#REF!)/3,\"\")","v":""}]
[{"$nulls":3},{"$f":"IF($C479<>\"\",COUNTA(#REF!)/3,\"\")","v":""}]
[{"$nulls":3},{"$f":"IF($C480<>\"\",COUNTA(#REF!)/3,\"\")","v":""}]
[{"$nulls":3},{"$f":"IF($C481<>\"\",COUNTA(#REF!)/3,\"\")","v":""}]
[{"$nulls":3},{"$f":"IF($C482<>\"\",COUNTA(#REF!)/3,\"\")","v":""}]
[{"$nulls":3},{"$f":"IF($C483<>\"\",COUNTA(#REF!)/3,\"\")","v":""}]
[{"$nulls":3},{"$f":"IF($C484<>\"\",COUNTA(#REF!)/3,\"\")","v":""}]
[{"$nulls":3},{"$f":"IF($C485<>\"\",COUNTA(#REF!)/3,\"\")","v":""}]
[{"$nulls":3},{"$f":"IF($C486<>\"\",COUNTA(#REF!)/3,\"\")","v":""}]
[{"$nulls":3},{"$f":"IF($C487<>\"\",COUNTA(#REF!)/3,\"\")","v":""}]
[{"$nulls":3},{"$f":"IF($C488<>\"\",COUNTA(#REF!)/3,\"\")","v":""}]
[{"$nulls":3},{"$f":"IF($C489<>\"\",COUNTA(#REF!)/3,\"\")","v":""}]
[{"$nulls":3},{"$f":"IF($C490<>\"\",COUNTA(#REF!)/3,\"\")","v":""}]
[{"$nulls":3},{"$f":"IF($C491<>\"\",COUNTA(#REF!)/3,\"\")","v":""}]
[{"$nulls":3},{"$f":"IF($C492<>\"\",COUNTA(#REF!)/3,\"\")","v":""}]
[{"$nulls":3},{"$f":"IF($C493<>\"\",COUNTA(#REF!)/3,\"\")","v":""}]
[{"$nulls":3},{"$f":"IF($C494<>\"\",COUNTA(#REF!)/3,\"\")","v":""}]
[{"$nulls":3},{"$f":"IF($C495<>\"\",COUNTA(#REF!)/3,\"\")","v":""}]
[{"$nulls":3},{"$f":"IF($C496<>\"\",COUNTA(#REF!)/3,\"\")","v":""}]
[{"$nulls":3},{"$f":"IF($C497<>\"\",COUNTA(#REF!)/3,\"\")","v":""}]
[{"$nulls":3},{"$f":"IF($C498<>\"\",COUNTA(#REF!)/3,\"\")","v":""}]
[{"$nulls":3},{"$f":"IF($C499<>\"\",COUNTA(#REF!)/3,\"\")","v":""}]
[{"$nulls":3},{"$f":"IF($C500<>\"\",COUNTA(#REF!)/3,\"\")","v":""}]
[{"$nulls":3},{"$f":"IF($C501<>\"\",COUNTA(#REF!)/3,\"\")","v":""}]
[{"$nulls":3},{"$f":"IF($C502<>\"\",COUNTA(#REF!)/3,\"\")","v":""}]
[{"$nulls":3},{"$f":"IF($C503<>\"\",COUNTA(#REF!)/3,\"\")","v":""}]
[{"$nulls":3},{"$f":"IF($C504<>\"\",COUNTA(#REF!)/3,\"\")","v":""}]
[{"$nulls":3},{"$f":"IF($C505<>\"\",COUNTA(#REF!)/3,\"\")","v":""}]
[{"$nulls":3},{"$f":"IF($C506<>\"\",COUNTA(#REF!)/3,\"\")","v":""}]
[{"$nulls":3},{"$f":"IF($C507<>\"\",COUNTA(#REF!)/3,\"\")","v":""}]
[{"$nulls":3},{"$f":"IF($C508<>\"\",COUNTA(#REF!)/3,\"\")","v":""}]
[{"$nulls":3},{"$f":"IF($C509<>\"\",COUNTA(#REF!)/3,\"\")","v":""}]
[{"$nulls":3},{"$f":"IF($C510<>\"\",COUNTA(#REF!)/3,\"\")","v":""}]
[{"$nulls":3},{"$f":"IF($C511<>\"\",COUNTA(#REF!)/3,\"\")","v":""}]
[{"$nulls":3},{"$f":"IF($C512<>\"\",COUNTA(#REF!)/3,\"\")","v":""}]
[{"$nulls":3},{"$f":"IF($C513<>\"\",COUNTA(#REF!)/3,\"\")","v":""}]
[{"$nulls":3},{"$f":"IF($C514<>\"\",COUNTA(#REF!)/3,\"\")","v":""}]
[{"$nulls":3},{"$f":"IF($C515<>\"\",COUNTA(#REF!)/3,\"\")","v":""}]
[{"$nulls":3},{"$f":"IF($C516<>\"\",COUNTA(#REF!)/3,\"\")","v":""}]
[{"$nulls":3},{"$f":"IF($C517<>\"\",COUNTA(#REF!)/3,\"\")","v":""}]
[{"$nulls":3},{"$f":"IF($C518<>\"\",COUNTA(#REF!)/3,\"\")","v":""}]
[{"$nulls":3},{"$f":"IF($C519<>\"\",COUNTA(#REF!)/3,\"\")","v":""}]
[{"$nulls":3},{"$f":"IF($C520<>\"\",COUNTA(#REF!)/3,\"\")","v":""}]
[{"$nulls":3},{"$f":"IF($C521<>\"\",COUNTA(#REF!)/3,\"\")","v":""}]
[{"$nulls":3},{"$f":"IF($C522<>\"\",COUNTA(#REF!)/3,\"\")","v":""}]
[{"$nulls":3},{"$f":"IF($C523<>\"\",COUNTA(#REF!)/3,\"\")","v":""}]
[{"$nulls":3},{"$f":"IF($C524<>\"\",COUNTA(#REF!)/3,\"\")","v":""}]
[{"$nulls":3},{"$f":"IF($C525<>\"\",COUNTA(#REF!)/3,\"\")","v":""}]
[{"$nulls":3},{"$f":"IF($C526<>\"\",COUNTA(#REF!)/3,\"\")","v":""}]
[{"$nulls":3},{"$f":"IF($C527<>\"\",COUNTA(#REF!)/3,\"\")","v":""}]
[{"$nulls":3},{"$f":"IF($C528<>\"\",COUNTA(#REF!)/3,\"\")","v":""}]
[{"$nulls":3},{"$f":"IF($C529<>\"\",COUNTA(#REF!)/3,\"\")","v":""}]
[{"$nulls":3},{"$f":"IF($C530<>\"\",COUNTA(#REF!)/3,\"\")","v":""}]
[{"$nulls":3},{"$f":"IF($C531<>\"\",COUNTA(#REF!)/3,\"\")","v":""}]
[{"$nulls":3},{"$f":"IF($C532<>\"\",COUNTA(#REF!)/3,\"\")","v":""}]
[{"$nulls":3},{"$f":"IF($C533<>\"\",COUNTA(#REF!)/3,\"\")","v":""}]
[{"$nulls":3},{"$f":"IF($C534<>\"\",COUNTA(#REF!)/3,\"\")","v":""}]
[{"$nulls":3},{"$f":"IF($C535<>\"\",COUNTA(#REF!)/3,\"\")","v":""}]
[{"$nulls":3},{"$f":"IF($C536<>\"\",COUNTA(#REF!)/3,\"\")","v":""}]
[{"$nulls":3},{"$f":"IF($C537<>\"\",COUNTA(#REF!)/3,\"\")","v":""}]
[{"$nulls":3},{"$f":"IF($C538<>\"\",COUNTA(#REF!)/3,\"\")","v":""}]
[{"$nulls":3},{"$f":"IF($C539<>\"\",COUNTA(#REF!)/3,\"\")","v":""}]
[{"$nulls":3},{"$f":"IF($C540<>\"\",COUNTA(#REF!)/3,\"\")","v":""}]
[{"$nulls":3},{"$f":"IF($C541<>\"\",COUNTA(#REF!)/3,\"\")","v":""}]
[{"$nulls":3},{"$f":"IF($C542<>\"\",COUNTA(#REF!)/3,\"\")","v":""}]
[{"$nulls":3},{"$f":"IF($C543<>\"\",COUNTA(#REF!)/3,\"\")","v":""}]
[{"$nulls":3},{"$f":"IF($C544<>\"\",COUNTA(#REF!)/3,\"\")","v":""}]
[{"$nulls":3},{"$f":"IF($C545<>\"\",COUNTA(#REF!)/3,\"\")","v":""}]
[{"$nulls":3},{"$f":"IF($C546<>\"\",COUNTA(#REF!)/3,\"\")","v":""}]
[{"$nulls":3},{"$f":"IF($C547<>\"\",COUNTA(#REF!)/3,\"\")","v":""}]
[{"$nulls":3},{"$f":"IF($C548<>\"\",COUNTA(#REF!)/3,\"\")","v":""}]
[{"$nulls":3},{"$f":"IF($C549<>\"\",COUNTA(#REF!)/3,\"\")","v":""}]
[{"$nulls":3},{"$f":"IF($C550<>\"\",COUNTA(#REF!)/3,\"\")","v":""}]
[{"$nulls":3},{"$f":"IF($C551<>\"\",COUNTA(#REF!)/3,\"\")","v":""}]
[{"$nulls":3},{"$f":"IF($C552<>\"\",COUNTA(#REF!)/3,\"\")","v":""}]
[{"$nulls":3},{"$f":"IF($C553<>\"\",COUNTA(#REF!)/3,\"\")","v":""}]
[{"$nulls":3},{"$f":"IF($C554<>\"\",COUNTA(#REF!)/3,\"\")","v":""}]
[{"$nulls":3},{"$f":"IF($C555<>\"\",COUNTA(#REF!)/3,\"\")","v":""}]
[{"$nulls":3},{"$f":"IF($C556<>\"\",COUNTA(#REF!)/3,\"\")","v":""}]
[{"$nulls":3},{"$f":"IF($C557<>\"\",COUNTA(#REF!)/3,\"\")","v":""}]
[{"$nulls":3},{"$f":"IF($C558<>\"\",COUNTA(#REF!)/3,\"\")","v":""}]
[{"$nulls":3},{"$f":"IF($C559<>\"\",COUNTA(#REF!)/3,\"\")","v":""}]
[{"$nulls":3},{"$f":"IF($C560<>\"\",COUNTA(#REF!)/3,\"\")","v":""}]
[{"$nulls":3},{"$f":"IF($C561<>\"\",COUNTA(#REF!)/3,\"\")","v":""}]
[{"$nulls":3},{"$f":"IF($C562<>\"\",COUNTA(#REF!)/3,\"\")","v":""}]
[{"$nulls":3},{"$f":"IF($C563<>\"\",COUNTA(#REF!)/3,\"\")","v":""}]
[{"$nulls":3},{"$f":"IF($C564<>\"\",COUNTA(#REF!)/3,\"\")","v":""}]
[{"$nulls":3},{"$f":"IF($C565<>\"\",COUNTA(#REF!)/3,\"\")","v":""}]
[{"$nulls":3},{"$f":"IF($C566<>\"\",COUNTA(#REF!)/3,\"\")","v":""}]
[{"$nulls":3},{"$f":"IF($C567<>\"\",COUNTA(#REF!)/3,\"\")","v":""}]
[{"$nulls":3},{"$f":"IF($C568<>\"\",COUNTA(#REF!)/3,\"\")","v":""}]
[{"$nulls":3},{"$f":"IF($C569<>\"\",COUNTA(#REF!)/3,\"\")","v":""}]
[{"$nulls":3},{"$f":"IF($C570<>\"\",COUNTA(#REF!)/3,\"\")","v":""}]
[{"$nulls":3},{"$f":"IF($C571<>\"\",COUNTA(#REF!)/3,\"\")","v":""}]
[{"$nulls":3},{"$f":"IF($C572<>\"\",COUNTA(#REF!)/3,\"\")","v":""}]
[{"$nulls":3},{"$f":"IF($C573<>\"\",COUNTA(#REF!)/3,\"\")","v":""}]
[{"$nulls":3},{"$f":"IF($C574<>\"\",COUNTA(#REF!)/3,\"\")","v":""}]
[{"$nulls":3},{"$f":"IF($C575<>\"\",COUNTA(#REF!)/3,\"\")","v":""}]
[{"$nulls":3},{"$f":"IF($C576<>\"\",COUNTA(#REF!)/3,\"\")","v":""}]
[{"$nulls":3},{"$f":"IF($C577<>\"\",COUNTA(#REF!)/3,\"\")","v":""}]
[{"$nulls":3},{"$f":"IF($C578<>\"\",COUNTA(#REF!)/3,\"\")","v":""}]
[{"$nulls":3},{"$f":"IF($C579<>\"\",COUNTA(#REF!)/3,\"\")","v":""}]
[{"$nulls":3},{"$f":"IF($C580<>\"\",COUNTA(#REF!)/3,\"\")","v":""}]
[{"$nulls":3},{"$f":"IF($C581<>\"\",COUNTA(#REF!)/3,\"\")","v":""}]
[{"$nulls":3},{"$f":"IF($C582<>\"\",COUNTA(#REF!)/3,\"\")","v":""}]
[{"$nulls":3},{"$f":"IF($C583<>\"\",COUNTA(#REF!)/3,\"\")","v":""}]
[{"$nulls":3},{"$f":"IF($C584<>\"\",COUNTA(#REF!)/3,\"\")","v":""}]
[{"$nulls":3},{"$f":"IF($C585<>\"\",COUNTA(#REF!)/3,\"\")","v":""}]
[{"$nulls":3},{"$f":"IF($C586<>\"\",COUNTA(#REF!)/3,\"\")","v":""}]
[{"$nulls":3},{"$f":"IF($C587<>\"\",COUNTA(#REF!)/3,\"\")","v":""}]
[{"$nulls":3},{"$f":"IF($C588<>\"\",COUNTA(#REF!)/3,\"\")","v":""}]
[{"$nulls":3},{"$f":"IF($C589<>\"\",COUNTA(#REF!)/3,\"\")","v":""}]
[{"$nulls":3},{"$f":"IF($C590<>\"\",COUNTA(#REF!)/3,\"\")","v":""}]
[{"$nulls":3},{"$f":"IF($C591<>\"\",COUNTA(#REF!)/3,\"\")","v":""}]
[{"$nulls":3},{"$f":"IF($C592<>\"\",COUNTA(#REF!)/3,\"\")","v":""}]
[{"$nulls":3},{"$f":"IF($C593<>\"\",COUNTA(#REF!)/3,\"\")","v":""}]
[{"$nulls":3},{"$f":"IF($C594<>\"\",COUNTA(#REF!)/3,\"\")","v":""}]
[{"$nulls":3},{"$f":"IF($C595<>\"\",COUNTA(#REF!)/3,\"\")","v":""}]
[{"$nulls":3},{"$f":"IF($C596<>\"\",COUNTA(#REF!)/3,\"\")","v":""}]
[{"$nulls":3},{"$f":"IF($C597<>\"\",COUNTA(#REF!)/3,\"\")","v":""}]
[{"$nulls":3},{"$f":"IF($C598<>\"\",COUNTA(#REF!)/3,\"\")","v":""}]
[{"$nulls":3},{"$f":"IF($C599<>\"\",COUNTA(#REF!)/3,\"\")","v":""}]
[{"$nulls":3},{"$f":"IF($C600<>\"\",COUNTA(#REF!)/3,\"\")","v":""}]
[{"$nulls":3},{"$f":"IF($C601<>\"\",COUNTA(#REF!)/3,\"\")","v":""}]
[{"$nulls":3},{"$f":"IF($C602<>\"\",COUNTA(#REF!)/3,\"\")","v":""}]
[{"$nulls":3},{"$f":"IF($C603<>\"\",COUNTA(#REF!)/3,\"\")","v":""}]
[{"$nulls":3},{"$f":"IF($C604<>\"\",COUNTA(#REF!)/3,\"\")","v":""}]
[{"$nulls":3},{"$f":"IF($C605<>\"\",COUNTA(#REF!)/3,\"\")","v":""}]
[{"$nulls":3},{"$f":"IF($C606<>\"\",COUNTA(#REF!)/3,\"\")","v":""}]
[{"$nulls":3},{"$f":"IF($C607<>\"\",COUNTA(#REF!)/3,\"\")","v":""}]
[{"$nulls":3},{"$f":"IF($C608<>\"\",COUNTA(#REF!)/3,\"\")","v":""}]
[{"$nulls":3},{"$f":"IF($C609<>\"\",COUNTA(#REF!)/3,\"\")","v":""}]
[{"$nulls":3},{"$f":"IF($C610<>\"\",COUNTA(#REF!)/3,\"\")","v":""}]
[{"$nulls":3},{"$f":"IF($C611<>\"\",COUNTA(#REF!)/3,\"\")","v":""}]
[{"$nulls":3},{"$f":"IF($C612<>\"\",COUNTA(#REF!)/3,\"\")","v":""}]
[{"$nulls":3},{"$f":"IF($C613<>\"\",COUNTA(#REF!)/3,\"\")","v":""}]
[{"$nulls":3},{"$f":"IF($C614<>\"\",COUNTA(#REF!)/3,\"\")","v":""}]
[{"$nulls":3},{"$f":"IF($C615<>\"\",COUNTA(#REF!)/3,\"\")","v":""}]
[{"$nulls":3},{"$f":"IF($C616<>\"\",COUNTA(#REF!)/3,\"\")","v":""}]
[{"$nulls":3},{"$f":"IF($C617<>\"\",COUNTA(#REF!)/3,\"\")","v":""}]
[{"$nulls":3},{"$f":"IF($C618<>\"\",COUNTA(#REF!)/3,\"\")","v":""}]
[{"$nulls":3},{"$f":"IF($C619<>\"\",COUNTA(#REF!)/3,\"\")","v":""}]
[{"$nulls":3},{"$f":"IF($C620<>\"\",COUNTA(#REF!)/3,\"\")","v":""}]
[{"$nulls":3},{"$f":"IF($C621<>\"\",COUNTA(#REF!)/3,\"\")","v":""}]
[{"$nulls":3},{"$f":"IF($C622<>\"\",COUNTA(#REF!)/3,\"\")","v":""}]
[{"$nulls":3},{"$f":"IF($C623<>\"\",COUNTA(#REF!)/3,\"\")","v":""}]
[{"$nulls":3},{"$f":"IF($C624<>\"\",COUNTA(#REF!)/3,\"\")","v":""}]
[{"$nulls":3},{"$f":"IF($C625<>\"\",COUNTA(#REF!)/3,\"\")","v":""}]
[{"$nulls":3},{"$f":"IF($C626<>\"\",COUNTA(#REF!)/3,\"\")","v":""}]
[{"$nulls":3},{"$f":"IF($C627<>\"\",COUNTA(#REF!)/3,\"\")","v":""}]
[{"$nulls":3},{"$f":"IF($C628<>\"\",COUNTA(#REF!)/3,\"\")","v":""}]
[{"$nulls":3},{"$f":"IF($C629<>\"\",COUNTA(#REF!)/3,\"\")","v":""}]
[{"$nulls":3},{"$f":"IF($C630<>\"\",COUNTA(#REF!)/3,\"\")","v":""}]
[{"$nulls":3},{"$f":"IF($C631<>\"\",COUNTA(#REF!)/3,\"\")","v":""}]
[{"$nulls":3},{"$f":"IF($C632<>\"\",COUNTA(#REF!)/3,\"\")","v":""}]
[{"$nulls":3},{"$f":"IF($C633<>\"\",COUNTA(#REF!)/3,\"\")","v":""}]
[{"$nulls":3},{"$f":"IF($C634<>\"\",COUNTA(#REF!)/3,\"\")","v":""}]
[{"$nulls":3},{"$f":"IF($C635<>\"\",COUNTA(#REF!)/3,\"\")","v":""}]
[{"$nulls":3},{"$f":"IF($C636<>\"\",COUNTA(#REF!)/3,\"\")","v":""}]
[{"$nulls":3},{"$f":"IF($C637<>\"\",COUNTA(#REF!)/3,\"\")","v":""}]
[{"$nulls":3},{"$f":"IF($C638<>\"\",COUNTA(#REF!)/3,\"\")","v":""}]
[{"$nulls":3},{"$f":"IF($C639<>\"\",COUNTA(#REF!)/3,\"\")","v":""}]
[{"$nulls":3},{"$f":"IF($C640<>\"\",COUNTA(#REF!)/3,\"\")","v":""}]
[{"$nulls":3},{"$f":"IF($C641<>\"\",COUNTA(#REF!)/3,\"\")","v":""}]
[{"$nulls":3},{"$f":"IF($C642<>\"\",COUNTA(#REF!)/3,\"\")","v":""}]
[{"$nulls":3},{"$f":"IF($C643<>\"\",COUNTA(#REF!)/3,\"\")","v":""}]
[{"$nulls":3},{"$f":"IF($C644<>\"\",COUNTA(#REF!)/3,\"\")","v":""}]
[{"$nulls":3},{"$f":"IF($C645<>\"\",COUNTA(#REF!)/3,\"\")","v":""}]
[{"$nulls":3},{"$f":"IF($C646<>\"\",COUNTA(#REF!)/3,\"\")","v":""}]
[{"$nulls":3},{"$f":"IF($C647<>\"\",COUNTA(#REF!)/3,\"\")","v":""}]
[{"$nulls":3},{"$f":"IF($C648<>\"\",COUNTA(#REF!)/3,\"\")","v":""}]
[{"$nulls":3},{"$f":"IF($C649<>\"\",COUNTA(#REF!)/3,\"\")","v":""}]
[{"$nulls":3},{"$f":"IF($C650<>\"\",COUNTA(#REF!)/3,\"\")","v":""}]
[{"$nulls":3},{"$f":"IF($C651<>\"\",COUNTA(#REF!)/3,\"\")","v":""}]
[{"$nulls":3},{"$f":"IF($C652<>\"\",COUNTA(#REF!)/3,\"\")","v":""}]
[{"$nulls":3},{"$f":"IF($C653<>\"\",COUNTA(#REF!)/3,\"\")","v":""}]
[{"$nulls":3},{"$f":"IF($C654<>\"\",COUNTA(#REF!)/3,\"\")","v":""}]
[{"$nulls":3},{"$f":"IF($C655<>\"\",COUNTA(#REF!)/3,\"\")","v":""}]
[{"$nulls":3},{"$f":"IF($C656<>\"\",COUNTA(#REF!)/3,\"\")","v":""}]
[{"$nulls":3},{"$f":"IF($C657<>\"\",COUNTA(#REF!)/3,\"\")","v":""}]
[{"$nulls":3},{"$f":"IF($C658<>\"\",COUNTA(#REF!)/3,\"\")","v":""}]
[{"$nulls":3},{"$f":"IF($C659<>\"\",COUNTA(#REF!)/3,\"\")","v":""}]
[{"$nulls":3},{"$f":"IF($C660<>\"\",COUNTA(#REF!)/3,\"\")","v":""}]
[{"$nulls":3},{"$f":"IF($C661<>\"\",COUNTA(#REF!)/3,\"\")","v":""}]
[{"$nulls":3},{"$f":"IF($C662<>\"\",COUNTA(#REF!)/3,\"\")","v":""}]
[{"$nulls":3},{"$f":"IF($C663<>\"\",COUNTA(#REF!)/3,\"\")","v":""}]
[{"$nulls":3},{"$f":"IF($C664<>\"\",COUNTA(#REF!)/3,\"\")","v":""}]
[{"$nulls":3},{"$f":"IF($C665<>\"\",COUNTA(#REF!)/3,\"\")","v":""}]
[{"$nulls":3},{"$f":"IF($C666<>\"\",COUNTA(#REF!)/3,\"\")","v":""}]
[{"$nulls":3},{"$f":"IF($C667<>\"\",COUNTA(#REF!)/3,\"\")","v":""}]
[{"$nulls":3},{"$f":"IF($C668<>\"\",COUNTA(#REF!)/3,\"\")","v":""}]
[{"$nulls":3},{"$f":"IF($C669<>\"\",COUNTA(#REF!)/3,\"\")","v":""}]
[{"$nulls":3},{"$f":"IF($C670<>\"\",COUNTA(#REF!)/3,\"\")","v":""}]
[{"$nulls":3},{"$f":"IF($C671<>\"\",COUNTA(#REF!)/3,\"\")","v":""}]
[{"$nulls":3},{"$f":"IF($C672<>\"\",COUNTA(#REF!)/3,\"\")","v":""}]
[{"$nulls":3},{"$f":"IF($C673<>\"\",COUNTA(#REF!)/3,\"\")","v":""}]
[{"$nulls":3},{"$f":"IF($C674<>\"\",COUNTA(#REF!)/3,\"\")","v":""}]
[{"$nulls":3},{"$f":"IF($C675<>\"\",COUNTA(#REF!)/3,\"\")","v":""}]
[{"$nulls":3},{"$f":"IF($C676<>\"\",COUNTA(#REF!)/3,\"\")","v":""}]
[{"$nulls":3},{"$f":"IF($C677<>\"\",COUNTA(#REF!)/3,\"\")","v":""}]
[{"$nulls":3},{"$f":"IF($C678<>\"\",COUNTA(#REF!)/3,\"\")","v":""}]
[{"$nulls":3},{"$f":"IF($C679<>\"\",COUNTA(#REF!)/3,\"\")","v":""}]
[{"$nulls":3},{"$f":"IF($C680<>\"\",COUNTA(#REF!)/3,\"\")","v":""}]
[{"$nulls":3},{"$f":"IF($C681<>\"\",COUNTA(#REF!)/3,\"\")","v":""}]
[{"$nulls":3},{"$f":"IF($C682<>\"\",COUNTA(#REF!)/3,\"\")","v":""}]
[{"$nulls":3},{"$f":"IF($C683<>\"\",COUNTA(#REF!)/3,\"\")","v":""}]
[{"$nulls":3},{"$f":"IF($C684<>\"\",COUNTA(#REF!)/3,\"\")","v":""}]
[{"$nulls":3},{"$f":"IF($C685<>\"\",COUNTA(#REF!)/3,\"\")","v":""}]
[{"$nulls":3},{"$f":"IF($C686<>\"\",COUNTA(#REF!)/3,\"\")","v":""}]
[{"$nulls":3},{"$f":"IF($C687<>\"\",COUNTA(#REF!)/3,\"\")","v":""}]
[{"$nulls":3},{"$f":"IF($C688<>\"\",COUNTA(#REF!)/3,\"\")","v":""}]
[{"$nulls":3},{"$f":"IF($C689<>\"\",COUNTA(#REF!)/3,\"\")","v":""}]

{"sheet":"Lists","index":4,"n_rows":195,"n_cols":23,"rows_kept":195,"hidden":true,"merged":[[0,0,1,0],[0,1,1,1],[0,2,1,2],[0,3,1,3],[0,4,1,4],[0,5,1,5],[0,6,0,7],[0,9,1,9],[0,10,1,10],[0,11,1,11],[0,13,1,13],[0,14,0,16],[0,18,0,20]]}
["ID","Department","Shift","Unit","Manager Name","Title","Names",null,null,"Level","Step","Categories",null,"User Types","Authorization",{"$nulls":3},"Write Up Doc",{"$nulls":3},"Backups"]
[{"$nulls":6},"Last","First",{"$nulls":6},"Reports","Database","Lists",{"$nulls":5},"2021-04-14"]
[99,"Quality",1,null,"Jacob Willette","Intern","Mathis","Harrison",null,1,"Coaching","Conduct",null,"Admin",true,true,true]
["9D10239039","Manufacturing (GE)",2,null,"Paulina Mendez","Machine Operator, JC1130","Vega","Amir",null,2,"Documented Verbal Warning","Performance",null,"HR",true,true,false]
["9D10247803","Manufacturing",null,null,"Terry Lucas","Machine Operator II","Freeman","Adrian",null,3,"1st Written Warning","Attendance",null,"Manager",true,false,false]
["9D10243352","Manufacturing",null,null,"Hadley Montes","Machine Operator I","Chan","Jaylon",null,4,"2nd Written Warning",null,null,"Coach",false,false,false]
["9D10153567","Manufacturing",2,null,"Alexandra Santiago","Machine Operator IV","Obrien","Harley",null,5,"Constructive Counseling Session"]
["9D10150274","Sustainability",1,null,"Fletcher Rice","Health, Safety & Environment Technician III","Zamora","Denzel",null,6,"Termination"]
["9D10151702","Manufacturing (GE)",2,null,"Clay Coleman","Machine Operator, JC1130","Miles","Royce"]
["9D10150088","Manufacturing",null,null,"Cedric Stokes","Maintenance Specialist II","Glass","Max"]
["9D10148894","Manufacturing",1,null,"Aiden Ramirez","Assembler II","Powers","Calvin"]
["9D10151682","Manufacturing",2,null,"Oswaldo Harding","Maintenance Worker III","Ramos","Kamden"]
["9D10150250","Manufacturing",1,null,"Adeline Tran","Craft Worker V","Huffman","Fletcher"]
["9D10153705","Manufacturing",1,null,"Trace Kim","Machine Operator IV","Lin","Lane"]
["9D10149764","Manufacturing",null,null,"Garrett Haley","Craft Worker V","Crawford","Eugene"]
["9D10153206","Manufacturing",2,null,"Elias Hale","Machine Operator IV","Holder","Jensen"]
["9D10153285","Manufacturing",null,null,"Marley Hughes","Machine Operator II","Bowman","Miles"]
["9D10152872","Continuous Improvement",null,null,"Janiya Henderson","Continuous Improvement Manager I","Meyers","Beckham"]
["9D10266656","Manufacturing (GE)",2,null,"Zane Boone","Machine Operator, JC1130","James","Gunner"]
["9D10153250","Planning & Fulfillment",null,null,"Jean Herman","Material Planner II-H","Proctor","Alfredo"]
["9D10150178","Sustainability",3,null,"Damon Gay","Health, Safety & Environment Technician II","Buchanan","Zavier"]
["9D10152981","Manufacturing",null,null,"Kristin Garcia","Craft Worker V","Gardner","Hayden"]
["9D10153529","Manufacturing",3,null,"Trystan Ramos","Machine Operator I","Mora","Donovan"]
["9D10151624","Manufacturing",null,null,"Phoenix Morales","Machine Operator IV","Potts","Jordon"]
["9D10152767","Manufacturing",2,null,"Emanuel Bruce","Machine Operator IV","Vargas","Kaleb"]
["9D10151468","Manufacturing",2,null,"Paulina Mendez","Machine Operator I","Young","Nico"]
["9D10152833","Procurement & Logistics",null,null,"Terry Lucas","Buyer III-H","Maynard","Chance"]
["9D10153662","Manufacturing",null,null,"Hadley Montes","Machine Operator IV","Burgess","Joel"]
["9D10249090","Manufacturing",2,null,"Alexandra Santiago","Machine Operator (HRLY)","Calhoun","Gianni"]
["9D10156883","Manufacturing",1,null,"Fletcher Rice","Craft Worker V","Choi","Weston"]
["9D10153805","Manufacturing",2,null,"Clay Coleman","Machine Operator III","Herrera","Braden"]
["9D10148180","Manufacturing",1,null,"Cedric Stokes","Assembler I","Leblanc","Trace"]
["9D10150040","Manufacturing",null,null,"Aiden Ramirez","Maintenance Specialist II","Dean","Roderick"]
["9D10151640","Manufacturing",2,null,"Oswaldo Harding","Machine Operator IV","Meadows","Dallas"]
["9D10153685","Manufacturing",3,null,"Adeline Tran","Machine Operator IV","Figueroa","Brendon"]
["9D10217977","Manufacturing",null,null,"Trace Kim","Machine Operator I","Webb","Nikhil"]
["9D10251629","Manufacturing",3,null,"Garrett Haley","Machine Operator Intermediate","Pruitt","Camryn"]
["9D10152681","Manufacturing",2,null,"Elias Hale","Maintenance Specialist I","Flores","Blaine"]
["9D10149038","Manufacturing",null,null,"Marley Hughes","Shift Leader III-H","Ramsey","Orion"]
["9D10153021","Manufacturing",null,null,"Janiya Henderson","Machine Operator IV","Garcia","Jaden"]
["9D10142275","Manufacturing",1,null,"Zane Boone","Craft Worker IV","Avery","Gideon"]
["9D10153083","Manufacturing",1,null,"Jean Herman","Machine Operator IV","Mcdowell","Jamie"]
["9D10150184","Manufacturing",null,null,"Damon Gay","Shift Leader III-H","Padilla","Hudson"]
["9D10152825","Manufacturing",2,null,"Kristin Garcia","Machine Operator III","Whitaker","Jayvion"]
["9D10150118","Manufacturing",null,null,"Trystan Ramos","Craft Worker V","Baxter","Dorian"]
["9D10153281","Manufacturing",1,null,"Phoenix Morales","Machine Operator IV","Cummings","Skylar"]
["9D10152926","Manufacturing",1,null,"Emanuel Bruce","Machine Operator III","Baird","Hamza"]
["9D10241118","Manufacturing (GE)",1,null,"Paulina Mendez","Machine Operator, JC1130","Baker","Taylor"]
["9D10153057","Manufacturing",null,null,"Terry Lucas","Production Development Manager II","Walker","Glenn"]
["9D10241612","Manufacturing",3,null,"Hadley Montes","Machine Operator (HRLY)","Stuart","Benjamin"]
["9D10150106","Manufacturing",1,null,"Alexandra Santiago","Machine Operator II","Barber","Jaylin"]
["9D10243341","Manufacturing",null,null,"Fletcher Rice","Machine Operator (HRLY)","Browning","Emery"]
["9D10152444","Manufacturing",1,null,"Clay Coleman","Machine Operator IV","Christian","Tanner"]
["9D10219561","Manufacturing",2,null,"Cedric Stokes","Machine Operator II","Gomez","David"]
["9D10151594","Manufacturing",2,null,"Aiden Ramirez","Machine Operator I","Merritt","Dean"]
["9D10153684","Manufacturing",1,null,"Oswaldo Harding","Machine Operator II","Eaton","Tyree"]
["9D10149968","Manufacturing",null,null,"Adeline Tran","Craft Worker V","Franklin","Cyrus"]
["9D10153836","Manufacturing (GE)",null,null,"Trace Kim","Leader Quality Manufacturing, JC1102","Mcconnell","Hugo"]
["9D10152659","Manufacturing",3,null,"Garrett Haley","Maintenance Worker III","Peterson","Victor"]
["9D10153091","Manufacturing",1,null,"Elias Hale","Machine Operator IV","Woodard","Nathen"]
["9D10235883","Manufacturing",null,null,"Marley Hughes","Machine Operator I","Newton","Sean"]
["9D10153158","Manufacturing",null,null,"Janiya Henderson","Machine Operator III","Lutz","Charlie"]
["9D10153140","Manufacturing",null,null,"Zane Boone","Production Manager II","Sparks","Arturo"]
["9D10153073","Manufacturing",null,null,"Jean Herman","Machine Operator IV","Melton","Gabriel"]
["9D10152449","Manufacturing",2,null,"Damon Gay","Machine Operator IV","Cooley","Adolfo"]
["9D10150154","Manufacturing",2,null,"Kristin Garcia","Craft Worker V","Barnett","Marvin"]
["9D10150148","Manufacturing",null,null,"Trystan Ramos","Craft Worker V","Brady","Killian"]
["9D10153006","Manufacturing",2,null,"Phoenix Morales","Assembler IV","York","Ralph"]
["9D10152326","Manufacturing",2,null,"Emanuel Bruce","Machine Operator II","Moran","Dwayne"]
["9D10259224","Manufacturing",2,null,"Paulina Mendez","Machine Operator II","Greene","Yosef"]
["9D10164926","Manufacturing",1,null,"Terry Lucas","Warehouse/Material Operator III","Rich","Luca"]
["9D10153604","Manufacturing",1,null,"Hadley Montes","Machine Operator II","Wiggins","Caleb"]
["9D10152980","Manufacturing",1,null,"Alexandra Santiago","Craft Worker V","Mckinney","Wade"]
["9D10152523","Manufacturing",2,null,"Fletcher Rice","Machine Operator IV","Doyle","Asher"]
["9D10241615","Manufacturing (GE)",2,null,"Clay Coleman","Machine Operator, JC1130","Reid","Davis"]
["9D10152963","Manufacturing",2,null,"Cedric Stokes","Machine Operator IV","Frank","Tomas"]
["9D10152288","Manufacturing",null,null,"Aiden Ramirez","Shift Leader III-H","Barton","Armani"]
["9D10153571","Manufacturing (GE)",1,null,"Oswaldo Harding","General Assembler Entry, JC0683","Hall","Seth"]
["9D10151502","Manufacturing",2,null,"Adeline Tran","Machine Operator IV","Weeks","Boston"]
["9D10151666","Manufacturing",null,null,"Trace Kim","Machine Operator II","Carney","Desmond"]
["9D10225291","Manufacturing",null,null,"Garrett Haley","Maintenance Worker III","Golden","Freddy"]
["9D10256603","Manufacturing",2,null,"Elias Hale","Plater Intermediate Level","Walter","Joseph"]
["9D10150130","Manufacturing",2,null,"Marley Hughes","Assembler IV","Donovan","Jadyn"]
["9D10147423","Manufacturing",2,null,"Janiya Henderson","Craft Worker V","Wilcox","Steven"]
["9D10153023","Manufacturing",1,null,"Zane Boone","Craft Worker V","Steele","Timothy"]
["9D10150244","Manufacturing",null,null,"Jean Herman","Shift Leader III-H","Gill","Jimmy"]
["9D10151550","Manufacturing",1,null,"Damon Gay","Machine Operator IV","Hatfield","Ross"]
["9D10152645","Manufacturing",1,null,"Kristin Garcia","Machine Operator II","Dennis","Gunnar"]
["9D10153372","Manufacturing",1,null,"Trystan Ramos","Machine Operator IV","Johnston","Zaire"]
["9D10153573","Manufacturing",3,null,"Phoenix Morales","Machine Operator IV","Holden","Cael"]
["9D10153148","Manufacturing",2,null,"Emanuel Bruce","Craft Worker V","Macias","Cristian"]
["9D10151658","Manufacturing",1,null,"Paulina Mendez","Machine Operator III","Hickman","Devyn"]
["9D10153733","Marketing, Sales, Product Management",null,null,"Terry Lucas","Customer Support Specialist II-H","Mccarty","Winston"]
["9D10153246","Manufacturing",2,null,"Hadley Montes","Machine Operator IV","Aguilar","Jasiah"]
["9D10153431","Manufacturing",1,null,"Alexandra Santiago","Craft Worker V","Joseph","Carmelo"]
["9D10153515","Manufacturing",1,null,"Fletcher Rice","Machine Operator IV","Rice","Danny"]
["9D10149902","Manufacturing",1,null,"Clay Coleman","Machine Operator IV","Leon","Sebastian"]
["9D10153280","Manufacturing",1,null,"Cedric Stokes","Machine Operator I","Jacobs","Jasper"]
["9D10220197","Manufacturing",null,null,"Aiden Ramirez","Machine Operator I","Ponce","Lance"]
["9D10150310","Manufacturing",null,null,"Oswaldo Harding","Production Supervisor I H","Riley","Ellis"]
["9D10150112","Planning & Fulfillment",null,null,"Adeline Tran","Planning & Fulfillment Manager II","Dominguez","Jayden"]
["9D10259680","Manufacturing",2,null,"Trace Kim","Machine Operator Entry","Henry","Izaiah"]
["9D10150034","Manufacturing",1,null,"Garrett Haley","Warehouse/Material Operator III","Crosby","Josiah"]
["9D10174424","Manufacturing",3,null,"Elias Hale","Machine Operator IV","Rasmussen","Abram"]
["9D10152924","Manufacturing",null,null,"Marley Hughes","Machine Operator IV","Mayo","Terrence"]
["9D10152848","Manufacturing",1,null,"Janiya Henderson","Warehouse Specialist I","Nixon","Pranav"]
["9D10217978","Manufacturing",2,null,"Zane Boone","Machine Operator II","Welch","Phoenix"]
["9D10247802","Manufacturing",null,null,"Jean Herman","Machine Operator I","Rivas","Jayvon"]
["9D10147429","Manufacturing",1,null,"Damon Gay","Warehouse Specialist II","Knapp","Korbin"]
["9D10150238","Manufacturing (GE)",1,null,"Kristin Garcia","Machinist 8, JC1139","Clark","Edward"]
["9D10153338","Manufacturing",1,null,"Trystan Ramos","Craft Worker V","Lambert","Julio"]
["9D10218949","Manufacturing",null,null,"Phoenix Morales","Machine Operator IV","Berger","Kayden"]
["9D10151660","Manufacturing",2,null,"Emanuel Bruce","Machine Operator IV","Morales","Isaiah"]
["9D10142062","Sustainability",null,null,"Paulina Mendez","Health, Safety & Environment Technician III","Beard","Drake"]
["9D10150322","Manufacturing",1,null,"Terry Lucas","Craft Worker V","Li","Trent"]
["9D10153564","Manufacturing",1,null,"Hadley Montes","Machine Operator II","Wang","Howard"]
["9D10153433","Manufacturing",1,null,"Alexandra Santiago","Machine Operator I","Kerr","Alexzander"]
["9D10153605","Manufacturing",null,null,"Fletcher Rice","Machine Operator III","Cherry","Matthew"]
["9D10183557","Manufacturing",2,null,"Clay Coleman","Machine Operator II","Pineda","Dalton"]
["9D10256813","Manufacturing",null,null,"Cedric Stokes","Machine Operator (HRLY)","Weiss","Sullivan"]
["9D10152753","Manufacturing",3,null,"Aiden Ramirez","Machine Operator II","Cortez","Bryan"]
["9D10152806","Quality",1,null,"Oswaldo Harding","Quality Technician III","Scott","Mathew"]
["9D10150292","Manufacturing",null,null,"Adeline Tran","Warehouse Specialist I","Tucker","Justin"]
["9D10150304","Manufacturing",null,null,"Trace Kim","Machine Operator IV","Herman","Isiah"]
["9D10153620","Manufacturing",1,null,"Garrett Haley","Maintenance Specialist I","Murray","George"]
["9D10152719","Manufacturing",1,null,"Elias Hale","Maintenance Specialist I","Gallegos","Gerald"]
["9D10152958","Manufacturing",3,null,"Marley Hughes","Machine Operator IV","Tapia","Ali"]
["9D10152266","Manufacturing",null,null,"Janiya Henderson","Machine Operator I","Newman","Douglas"]
["9D10153368","Manufacturing",2,null,"Zane Boone","Craft Worker V","Rodgers","Shaun"]
["9D10153090","Manufacturing",3,null,"Jean Herman","Machine Operator II","Mccormick","Adrien"]
["9D10162924","Manufacturing",2,null,"Damon Gay","Assembler I","Hoover","Vaughn"]
["9D10152795","Manufacturing",1,null,"Kristin Garcia","Machine Operator IV","Macdonald","Elvis"]
["9D10229533","Manufacturing",3,null,"Trystan Ramos","Machine Operator II","Wyatt","Jaxon"]
["9D10241129","Manufacturing (GE)",3,null,"Phoenix Morales","Machine Operator, JC1130","Johns","Turner"]
["9D10153286","Manufacturing",1,null,"Emanuel Bruce","Machine Operator III","Roy","Lyric"]
["9D10151694","Planning & Fulfillment",null,null,"Paulina Mendez","Planning & Fulfillment Manager III","Chaney","Nikolas"]
["9D10153159","Manufacturing",2,null,"Terry Lucas","Machine Operator IV","Harper","Kobe"]
["9D10151574","Manufacturing",2,null,"Hadley Montes","Machine Operator IV","Chase","Maxim"]
["9D10153211","Manufacturing",1,null,"Alexandra Santiago","Craft Worker V","Edwards","Anthony"]
["9D10152813","Manufacturing",1,null,"Fletcher Rice","Craft Worker V","Travis","Marley"]
["9D10241670","Manufacturing",1,null,"Clay Coleman","Machine Operator I","Powell","Bruce"]
["9D10150142","Manufacturing",1,null,"Cedric Stokes","Machine Operator IV","Graves","Blaze"]
["9D10149092","Manufacturing",null,null,"Aiden Ramirez","Machine Operator II","Hopkins","Gaven"]
["9D10153457","Manufacturing",3,null,"Oswaldo Harding","Machine Operator IV","Stewart","Rey"]
["9D10152974","Manufacturing",1,null,"Adeline Tran","Machine Operator IV","Everett","Gage"]
["9D10150124","Manufacturing",null,null,"Trace Kim","Shift Leader III-H","Peters","Ray"]
["9D10235421","Manufacturing",null,null,"Garrett Haley","Machine Operator I","Hodges","Tripp"]
["9D10150136","Manufacturing",1,null,"Elias Hale","Craft Worker V","Thornton","Derek"]
["9D10149824","Manufacturing",null,null,"Marley Hughes","Machine Operator III","Walton","Charles"]
["9D10149326","Manufacturing",1,null,"Janiya Henderson","Craft Worker V","Sawyer","Michael"]
["9D10149452","Manufacturing",null,null,"Zane Boone","Shift Leader III-H","Collier","Ronan"]
["9D10151190","Manufacturing",1,null,"Jean Herman","Maintenance Specialist I","Nielsen","Andre"]
["9D10168646","Manufacturing",null,null,"Damon Gay","Machine Operator I","Ortiz","Dominick"]
["9D10153226","Continuous Improvement",null,null,"Kristin Garcia","Continuous Improvement Specialist I-H","Preston","Kody"]
["9D10230450","Manufacturing",1,null,"Trystan Ramos","Machine Operator I","Arnold","Branson"]
["9D10152824","Manufacturing",1,null,"Phoenix Morales","Maintenance Specialist II","Roman","Braeden"]
["9D10152841","Continuous Improvement",null,null,"Emanuel Bruce","Continuous Improvement Specialist I-H","Kane","Quinten"]
["9D10153570","Manufacturing",1,null,"Paulina Mendez","Machine Operator I","Mills","Nolan"]
["9D10150166","Manufacturing",null,null,"Terry Lucas","Assembler V","Novak","Branden"]
["9D10152925","Manufacturing",1,null,"Hadley Montes","Machine Operator IV","Avila","Kane"]
["9D10171186","Manufacturing",1,null,"Alexandra Santiago","Machine Operator I","Benitez","Trystan"]
["9D10219210","Manufacturing",1,null,"Fletcher Rice","Machine Operator I","Winters","Corbin"]
["9D10152282","Manufacturing",null,null,"Clay Coleman","Machine Operator IV","Baldwin","Brian"]
["9D10151630","Manufacturing",1,null,"Cedric Stokes","Machine Operator IV","Hurley","Zachery"]
["9D10151652","Manufacturing",1,null,"Aiden Ramirez","Machine Operator IV","Campos","Dustin"]
["9D10190950","Sustainability",null,null,"Oswaldo Harding","Business Health, Safety & Env Manager I","Daniels","Chase"]
["9D10150064","Manufacturing",null,null,"Adeline Tran","Craft Worker V","Duke","Jake"]
["9D10219560","Manufacturing",null,null,"Trace Kim","Assembler I","Hale","Skyler"]
["9D10153177","Manufacturing",1,null,"Garrett Haley","Machine Operator II","Fry","Reuben"]
["9D10153630","Manufacturing",3,null,"Elias Hale","Machine Operator II","Flowers","Mitchell"]
["9D10150058","Manufacturing",1,null,"Marley Hughes","Craft Worker V","Humphrey","Emiliano"]
["9D10256602","Manufacturing (GE)",3,null,"Janiya Henderson","Machine Operator, JC1130","Mccoy","Declan"]
["9D10152923","Manufacturing",2,null,"Zane Boone","Machine Operator IV","Stevens","Amare"]
["9D10153478","Manufacturing",1,null,"Jean Herman","Machine Operator II","Greer","Ahmad"]
["9D10218904","Manufacturing",2,null,"Damon Gay","Machine Operator IV","Pearson","Peter"]
["9D10267979","Manufacturing",3,null,"Kristin Garcia","Machine Operator Intermediate","Bradley","Elliot"]
["9D10168997","Manufacturing",2,null,"Trystan Ramos","Machine Operator IV","Moreno","Nicholas"]
["9D10153425","Manufacturing",2,null,"Phoenix Morales","Craft Worker V","Osborn","Landin"]
["9D10153854","Manufacturing",1,null,"Emanuel Bruce","Machine Operator I","Nash","Reagan"]
["9D10153105","Manufacturing",null,null,"Paulina Mendez","Craft Worker V","Roberson","Jaydan"]
["9D10153419","Manufacturing",1,null,"Terry Lucas","Machine Operator I","Clayton","Dominique"]
["9D10171184","Manufacturing (GE)",3,null,"Hadley Montes","General Assembler Entry, JC0683","Ward","Issac"]
["9D10243346","Manufacturing",null,null,"Alexandra Santiago","Machine Operator I","Bradford","Dexter"]
["9D10150736","Manufacturing",null,null,"Fletcher Rice","Machine Operator IV","Pratt","Jonathon"]
["9D10152871","Manufacturing",2,null,"Clay Coleman","Maintenance Specialist I","Perkins","Demarion"]
["9D10243942","Manufacturing (GE)",null,null,"Cedric Stokes","Machine Operator, JC1130","Allen","Levi"]
["9D10150286","Manufacturing",1,null,"Aiden Ramirez","Warehouse/Material Operator III","Strong","Matthias"]
["9D10153005","Manufacturing",null,null,"Oswaldo Harding","Machine Operator III","French","Drew"]
["9D10156875","Sustainability",null,null,"Adeline Tran","Business Health, Safety & Env Specialist I","Lewis","Giancarlo"]
["9D10229532","Engineering",null,null,"Trace Kim","Project Lead Engineer I","Cline","Milton"]
["9D10151942","Manufacturing",1,null,"Garrett Haley","Assembler I","Mayer","Jacoby"]
["9D10141822","Manufacturing",1,null,"Elias Hale","Maintenance Worker III","Decker","Terrance"]
["9D10152979","Manufacturing",1,null,"Marley Hughes","Craft Worker V","Cunningham","Bobby"]
["9D10152545","Manufacturing",1,null,"Janiya Henderson","Machine Operator III","Acosta","Abel"]
["9D10149782","Manufacturing",2,null,"Zane Boone","Warehouse/Material Operator III","Trujillo","Sean"]

{"sheet":"Users","index":5,"n_rows":24,"n_cols":7,"rows_kept":24,"hidden":true}
["ID","First","Last","User Name","Authorization Type","Password","Logged In?"]
[99,"Jacob","Willette","Jacob Willette","Admin","qualityintern2021",false]
["9D10152872","Paulina","Mendez","Paulina Mendez","Manager","paulina",false]
["9D10153057","Terry","Lucas","Terry Lucas","Manager","terry",false]
["9D10151694","Hadley","Montes","Hadley Montes","Manager","hadley",false]
["9D10190950","Alexandra","Santiago","Alexandra Santiago","Manager","alexandra",false]
["9D10150112","Fletcher","Rice","Fletcher Rice","Manager","fletcher",false]
[1,"Clay","Coleman","Clay Coleman","Manager","clay",false]
["9D10153140","Cedric","Stokes","Cedric Stokes","Manager","cedric",false]
["9D10153836","Aiden","Ramirez","Aiden Ramirez","Manager","aiden",false]
[2,"Oswaldo","Harding","Oswaldo Harding","Admin","oswaldo",false]
["9D10229532","Adeline","Tran","Adeline Tran","Admin","adeline",false]
[3,"Trace","Kim","Trace Kim","HR","trace",false]
["9D10152288","Garrett","Haley","Garrett Haley","Coach","garrett",false]
["9D10149038","Elias","Hale","Elias Hale","Coach","elias",false]
["9D10150184","Marley","Hughes","Marley Hughes","Coach","marley",false]
["9D10150244","Janiya","Henderson","Janiya Henderson","Coach","janiya",false]
["9D10150124","Zane","Boone","Zane Boone","Coach","zane",false]
["9D10149452","Jean","Herman","Jean Herman","Coach","jean",false]
["9D10152833","Damon","Gay","Damon Gay","Coach","damon",false]
["9D10153250","Kristin","Garcia","Kristin Garcia","Coach","kristin",false]
["9D10156875","Trystan","Ramos","Trystan Ramos","Coach","trystan",false]
["9D10152806","Phoenix","Morales","Phoenix Morales","Coach","phoenix",false]
["9D10152841","Emanuel","Bruce","Emanuel Bruce","Coach","emanuel",false]